{"text_format":"1","workbook":"xlsx","n_sheets":24,"sheets":["Cover","UserInterface","TaxTrigger","MOD","Input","Totex","TIM","DARTs","Depn","FuelPoor","Return&RAV","TaxPools","Finance&Tax","Revenue","LiveResults","SavedResults","East","London","North West","West Midlands","Northern","Scotland","Southern","Wales & West"],"not_rendered":{"charts":0,"images":0,"macros":1,"external_links":15,"defined_names":165,"comments":0,"pivot_tables":0},"unopened":[],"bounds":{"document_bytes":16777216,"sheet_cells":100000,"rows_first":2000,"rows_last":500,"rows_between":2000,"halvings":0,"cell_chars":16384,"cell_head_chars":4096},"cells_cut":0,"cells_raw":0,"read":"whole","date_system":"1900"}

{"sheet":"Cover","index":0,"n_rows":38,"n_cols":11,"rows_kept":38,"cut":false,"hidden":false,"merged":[[3,2,3,10]]}
["RIIO Price Control Financial Model (PCFM)"]
[null,"Gas Distribution"]
[null,null,{"$f":"MID(CELL(\"filename\"),SEARCH(\"[\",CELL(\"filename\"))+1,SEARCH(\"]\",CELL(\"filename\"))-SEARCH(\"[\",CELL(\"filename\"))-1)","v":"GD1 PCFM for use in AIP 2018.xlsm"}]
[null,null,"DISCLAIMER: The purpose of this model is used to calculate Base Revenue (PU) at Final Proposals and MOD terms in subsequent years for Licensees on the basis of Financial Handbook and Licence conditions of the relevant Network Operator"]
[null,{"$f":"IF(m_PCFM_year_t=1,\"RIIO GD1 Price Control Financial Model for the Annual Iteration Process that will take place by 30 November 2013-14\",\"RIIO GD1 Price Control Financial Model for the Annual Iteration Process that will take place by 30 November \" & YEAR(UserInterface!$G$10)-2)","v":"RIIO GD1 Price Control Financial Model for the Annual Iteration Process that will take place by 30 November 2017"}]
[]
[null,"Model key"]
[]
[null,null,null,null,"Sample",null,"Calculated value",null,"Sample",null,"Information and interface"]
[null,null,null,null,"Sample",null,"Import",null,"Sample",null,"FP fixed input value"]
[null,null,null,null,"Sample",null,"Export",null,"Sample",null,"Annual update input"]
[null,null,null,null,"Sample",null,"Named range",null,"Sample",null,"Input linked from annual update"]
[null,null,null,null,"Sample",null,"Formula change in cells to the right",null,"Sample",null,"Notes and instructions"]
[]
[]
[null,"Contents"]
[]
[null,null,null,null,"INTERFACE >",null,null,null,"COMPANY SPECIFIC INPUT SHEETS >"]
[null,null,null,null,"Cover",null,"Model key and content directory"]
[null,null,null,null,"UserInterface",null,"Model operation",null,"East",null,"Inputs for East DNO"]
[null,null,null,null,"TaxTrigger",null,"Tax trigger calculations",null,"London",null,"Inputs for London DNO"]
[null,null,null,null,"INPUT SELECTION >",null,null,null,"North West",null,"Inputs for North West DNO"]
[null,null,null,null,"Input",null,"Inputs for selected licensee",null,"West Midlands",null,"Inputs for West Midlands DNO"]
[null,null,null,null,"CALCULATION >",null,null,null,"Northern",null,"Inputs for Northern DNO"]
[null,null,null,null,"Totex",null,"Totex allowance and actuals",null,"Scotland",null,"Inputs for Scotland DNO"]
[null,null,null,null,"TIM",null,"Totex Incentive Mechanism and capitalisation",null,"Southern",null,"Inputs for Southern DNO"]
[null,null,null,null,"DARTs",null,"Direct Allowance Revenue Terms",null,"Wales & West",null,"Inputs for Wales & West DNO"]
[null,null,null,null,"Depn",null,"Gas distribution regulatory depreciation"]
[null,null,null,null,"FuelPoor",null,"Fuel poor RAV calculations"]
[null,null,null,null,"Return&RAV",null,"RAV and return calculations"]
[null,null,null,null,"TaxPools",null,"Tax pools and capital allowances"]
[null,null,null,null,"Finance&Tax",null,"Net debt, equity issuance, financing costs and tax"]
[null,null,null,null,"Revenue",null,"Revenue and MOD"]
[null,null,null,null,"OUTPUT >"]
[null,null,null,null,"ResultsLive",null,"Results for selected company"]
[null,null,null,null,"SavedResults",null,"Saved results for all companies"]
[]
[null,"End of sheet"]

{"sheet":"UserInterface","index":1,"n_rows":63,"n_cols":7,"rows_kept":63,"cut":false,"hidden":false,"merged":[]}
["User Interface"]
[]
[null,"Model operation"]
[]
[" ",null,"PCFM year t"]
[null,null,"Instruction: Use the following drop-down list to identify year t in the model. Year t is identified here by its end date."]
[]
[null,null,null,null,"Year t selection:"]
[]
[null,null,null,null,"Year t selected:",null,{"$f":"EOMONTH(41364,G54*12)","v":"2019-03-31"}]
[]
[null,null,"Active company"]
[null,null,"Instruction: Use the following drop-down list to select the active company in the model."]
[]
[null,null,null,null,"Company selection:"]
[]
[null,null,null,null,"Selected company:",null,{"$f":"INDEX(E46:E53, E54)","v":"East"}]
[]
[null,null,"Model state"]
[null,null,"Instruction: Use the following drop-down list to set the model state and run it as either the \"Licence Model\" or the \"Tax Trigger Tool.\""]
[null,null,"Note: \"Tax Trigger Tool\" must be selected here for functionality on the \"TaxTrigger\" sheet to function."]
[null,null,"Selecting \"Licence Model\" ensures that the Tax Trigger Tool functionality is deactivated and does not affect the calculations in the model."]
[]
[null,null,null,null,"Model status selection:"]
[]
[null,null,null,null,"Selected model status:",null,{"$f":"INDEX(E58:E59, E60)","v":"Licence Model"}]
[]
[null,null,"Run model for all licensees"]
[null,null,"Instruction: Click on the left button to save results for the selected company only. Click the right button to save results for all."]
[null,null,"Note: Annual iterations must have been completed for all prior years before running the model to generate MOD."]
[null,null,"The macros save results and values required for future years which cannot be recreated once inputs are revised."]
[null,null,"Running the macro saves the output from year t's iteration for use in future iterations."]
[null,null,"Results for the selected company can be found on the \"LiveResults\" sheet and also on the \"SavedResults\" sheet once saved by a macro."]
[]
[]
[]
[]
[]
[null,"User selection lists"]
[null,"Note: The lists below drive the drop-down lists above."]
[null,"Using the drop-down lists above returns an integer in the \"cell link\" positioned below their \"source list.\""]
[null,"The number returned in the cell link corresponds to the position of the selected item in the source list."]
[null,"The company selection output is set as a \"named range.\" This gives a stable anchor point for the \"RunForAll\" macro to change the company."]
[]
[null,null,null,null,{"$f":"\"Source for ''\"&C12&\"'' drop-down list\"","v":"Source for ''Active company'' drop-down list"},null,{"$f":"\"Source for ''\"&C5&\"'' drop-down list\"","v":"Source for ''PCFM year t'' drop-down list"}]
[null,null,null,null,"East",null,"2014-03-31"]
[null,null,null,null,"London",null,"2015-03-31"]
[null,null,null,null,"North West",null,"2016-03-31"]
[null,null,null,null,"West Midlands",null,"2017-03-31"]
[null,null,null,null,"Northern",null,"2018-03-31"]
[null,null,null,null,"Scotland",null,"2019-03-31"]
[null,null,null,null,"Southern",null,"2020-03-31"]
[null,null,null,null,"Wales & West",null,"2021-03-31"]
[null,null,null,null,1,null,6]
[null,null,null,null,"Adjacent named range: m_identity",null,"Adjacent named range: m_PCFM_year_t"]
[]
[null,null,null,null,{"$f":"\"Source for ''\"&C19&\"'' drop-down list\"","v":"Source for ''Model state'' drop-down list"}]
[null,null,null,null,"Licence Model"]
[null,null,null,null,"Tax Trigger Tool"]
[null,null,null,null,1]
[null,null,null,null,"Adjacent named range: m_model_state"]
[]
[null,"End of sheet"]

{"sheet":"TaxTrigger","index":2,"n_rows":151,"n_cols":41,"rows_kept":151,"cut":false,"hidden":false,"merged":[]}
["Tax Trigger"]
[null,{"$f":"UserInterface!G17","v":"East"}]
[null,null,null,null,"Parameter",null,"Units",null,"Constant",null,null,null,null,null,null,null,null,null,null,null,null,null,null,null,null,null,null,null,null,null,null,null,null,"Annual values"]
[null,null,null,null,"PCFM year ending",null,null,null,{"$f":"UserInterface!$G$10","v":"2019-03-31"},null,"1991-03-31","1992-03-31","1993-03-31","1994-03-31","1995-03-31","1996-03-31","1997-03-31","1998-03-31","1999-03-31","2000-03-31","2001-03-31","2002-03-31","2003-03-31","2004-03-31","2005-03-31","2006-03-31","2007-03-31","2008-03-31","2009-03-31","2010-03-31","2011-03-31","2012-03-31","2013-03-31","2014-03-31","2015-03-31","2016-03-31","2017-03-31","2018-03-31","2019-03-31","2020-03-31","2021-03-31"]
[]
[null,"Tax trigger calculation"]
[]
[null,null,"Test operation"]
[null,null,"Instruction: To run the model as the Tax Trigger Tool, the \"model state\" must be set to \"Tax Trigger Tool\" on the \"UserInterface\" sheet. The model state selected is shown below."]
[null,null,"Clicking the macro button below runs the \"TaxTrigger\" macro, performing the Tax Trigger adjustment calculation for the selected licensee for year t."]
[null,null,"The output generated by the macro can be replicated manually using the following steps:"]
[null,null,"1. Clear any values from previous tests in the \"Test state output\" section below (named range \"m_saved_original_results\")"]
[null,null,"2. Set testing state to \"Licence Model\""]
[null,null,"3. Copy the cells marked as the \"m_calculated_tax\" named range and paste them at the named range \"m_saved_original_test.\""]
[null,null,"4. Set testing state to \"Tax Trigger Calculation\""]
[null,null,"Note: The Tax Trigger Tool is disabled if the \"Model state\" below reads \"Licence Model.\""]
[]
[null,null,null,null,"Model state"]
[null,null,null,null,{"$f":"UserInterface!G26","v":"Licence Model"}]
[]
[]
[null,null,null,null,"State selection"]
[]
[]
[null,null,null,null,"State options"]
[null,null,null,null,"Licence Model"]
[null,null,null,null,"Tax Trigger Calculation"]
[null,null,null,null,1]
[null,null,null,null,"Adjacent named range: m_tax_trigger_state"]
[]
[null,null,null,null,"State selected"]
[null,null,null,null,{"$f":"IF(E19 = \"Licence Model\", \"Licence Model\", INDEX(E26:E27, E28))","v":"Licence Model"}]
[]
[null,null,null,null,"Run macro"]
[]
[]
[]
[]
[]
[null,null,"Tax calculation"]
[]
[null,null,null,null,null,null,null,null,"Instruction"]
[null,null,null,null,"Profits attributable to corporation tax",null,null,null,null,null,null,null,null,null,null,null,null,null,null,null,null,null,null,null,null,null,null,null,null,null,null,null,null,{"$f":"'Finance&Tax'!AH166*Input!$AD$43/Input!AH$43","v":68.27176052730097},{"$f":"'Finance&Tax'!AI166*Input!$AD$43/Input!AI$43","v":55.559689965770659},{"$f":"'Finance&Tax'!AJ166*Input!$AD$43/Input!AJ$43","v":131.54799493526383},{"$f":"'Finance&Tax'!AK166*Input!$AD$43/Input!AK$43","v":201.86016653550053},{"$f":"'Finance&Tax'!AL166*Input!$AD$43/Input!AL$43","v":149.78374414455098},{"$f":"'Finance&Tax'!AM166*Input!$AD$43/Input!AM$43","v":144.74526198697683},{"$f":"'Finance&Tax'!AN166*Input!$AD$43/Input!AN$43","v":137.16353228365998},{"$f":"'Finance&Tax'!AO166*Input!$AD$43/Input!AO$43","v":137.90791585848234}]
[null,null,null,null,"Corporation tax rate",null,null,null,null,null,null,null,null,null,null,null,null,null,null,null,null,null,null,null,null,null,null,null,null,null,null,null,null,{"$f":"'Finance&Tax'!AH184","v":0.23},{"$f":"'Finance&Tax'!AI184","v":0.21},{"$f":"'Finance&Tax'!AJ184","v":0.21},{"$f":"'Finance&Tax'!AK184","v":0.21},{"$f":"'Finance&Tax'!AL184","v":0.21},{"$f":"'Finance&Tax'!AM184","v":0.21},{"$f":"'Finance&Tax'!AN184","v":0.21},{"$f":"'Finance&Tax'!AO184","v":0.21}]
[null,null,null,null,"\"Grossing-up\" factor for tax on tax charge ",null,null,null,null,null,null,null,null,null,null,null,null,null,null,null,null,null,null,null,null,null,null,null,null,null,null,null,null,{"$f":"'Finance&Tax'!AH187","v":1.2987012987012987},{"$f":"'Finance&Tax'!AI187","v":1.2658227848101264},{"$f":"'Finance&Tax'!AJ187","v":1.2658227848101264},{"$f":"'Finance&Tax'!AK187","v":1.2658227848101264},{"$f":"'Finance&Tax'!AL187","v":1.2658227848101264},{"$f":"'Finance&Tax'!AM187","v":1.2658227848101264},{"$f":"'Finance&Tax'!AN187","v":1.2658227848101264},{"$f":"'Finance&Tax'!AO187","v":1.2658227848101264}]
[null,null,null,null,"Corporation tax charge (tax allowance) before losses",null,null,null,null,null,null,null,null,null,null,null,null,null,null,null,null,null,null,null,null,null,null,null,null,null,null,null,null,{"$f":"AH44*AH43*AH45","v":20.39286353412886},{"$f":"AI44*AI43*AI45","v":14.769031509888402},34.968454349880254,53.659031610702662,39.815931987792027,38.47658862944953,36.461192126036195,36.659066240862387]
[]
[null,null,null,null,"Tax allowance (pre losses) before tax trigger",null,"£m 09/10 prices",null,null,null,null,null,null,null,null,null,null,null,null,null,null,null,null,null,null,null,null,null,null,null,null,null,null,{"$f":"AH46","v":20.39286353412886},{"$f":"AI46","v":14.769031509888402},34.968454349880254,53.659031610702662,39.815931987792027,38.47658862944953,36.461192126036195,36.659066240862387]
[null,null,null,null,"B event value",null,"£m 09/10 prices",null,null,null,null,null,null,null,null,null,null,null,null,null,null,null,null,null,null,null,null,null,null,null,null,null,null,{"$f":"AH127","v":0},{"$f":"AI127","v":0},0,0,0,0,0,0]
[null,null,null,null,"Threshold value adjustment",null,"£m 09/10 prices",null,null,null,null,null,null,null,null,null,null,null,null,null,null,null,null,null,null,null,null,null,null,null,null,null,null,{"$f":"AH78","v":0},{"$f":"AI78","v":0},0,0,0,0,0,0]
[null,null,null,null,"Tax allowance",null,"£m 09/10 prices",null,{"$f":"IF(m_tax_trigger_state = 1, \"Copy cells -->\", \"-\")","v":"Copy cells -->"},null,null,null,null,null,null,null,null,null,null,null,null,null,null,null,null,null,null,null,null,null,null,null,null,{"$f":"SUM(AH48:AH50)","v":20.39286353412886},14.769031509888402,34.968454349880254,53.659031610702662,39.815931987792027,38.47658862944953,36.461192126036195,36.659066240862387]
[null,null,null,null,null,null,null,null,null,null,null,null,null,null,null,null,null,null,null,null,null,null,null,null,null,null,null,null,null,null,null,null,null,"Adjacent named range: m_calculated_tax"]
[null,null,"Test state output"]
[null,null,"Note: The formula determines whether the recalculated tax is above or below the threshold and sets the adjustment accordingly"]
[]
[null,null,null,null,null,null,null,null,"Instruction"]
[null,null,null,null,"Value with original settings",null,"£m 09/10 prices",null,{"$f":"IF( m_tax_trigger_state = 1, \"Paste cells -->\",\"-\")","v":"Paste cells -->"},null,null,null,null,null,null,null,null,null,null,null,null,null,null,null,null,null,null,null,null,null,null,null,"m_tax_trigger_results"]
[null,null,null,null,null,null,null,null,null,null,null,null,null,null,null,null,null,null,null,null,null,null,null,null,null,null,null,null,null,null,null,null,null,"Named ranges above: m_saved_original_test"]
[null,null,null,null,"Value with new settings and threshold adjustment",null,"£m 09/10 prices",null,null,null,null,null,null,null,null,null,null,null,null,null,null,null,null,null,null,null,null,null,null,null,null,null,null,{"$f":"AH51","v":20.39286353412886},{"$f":"AI51","v":14.769031509888402},34.968454349880254,53.659031610702662,39.815931987792027,38.47658862944953,36.461192126036195,36.659066240862387]
[]
[null,null,"Result and output"]
[null,null,"Note: Once the test is complete, the \"Tax Trigger adjustment\" below can be taken from below and inputted to the PCFM set to run as the Licence Model, rather than the Tax Trigger Tool."]
[]
[null,null,null,null,"Tax trigger adjustment",null,"£m 09/10 prices",null,null,null,null,null,null,null,null,null,null,null,null,null,null,null,null,null,null,null,null,null,null,null,null,null,null,{"$f":"IF(AND(m_tax_trigger_state=2,m_model_state=2),IF(ABS((AH48+AH49)-AH57)> ABS(AH78), AH59 - AH57, 0),0)","v":0},0,0,0,0,0,0,0]
[]
[null,"Tax trigger parameters"]
[null,"Instruction: Enter values in the yellow cells below for use in the Tax Trigger test."]
[null,"Note: Flags are used throughout to indicate whether the original or Tax Trigger value is being used. The live values below are exported for use throughout the model."]
[]
[null,null,"Active policy"]
[]
[null,null,null,null,"Tax trigger tax settings are used",null,"flag",null,null,null,null,null,null,null,null,null,null,null,null,null,null,null,null,null,null,null,null,null,null,null,null,null,null,{"$f":"IF(AND(AH$4 <= $I4, m_tax_trigger_state = 2, UserInterface!$G$26 = \"Tax Trigger Tool\"), TRUE, FALSE)","v":false},{"$f":"IF(AND(AI$4 <= $I4, m_tax_trigger_state = 2, UserInterface!$G$26 = \"Tax Trigger Tool\"), TRUE, FALSE)","v":false},{"$f":"IF(AND(AJ$4 <= $I4, m_tax_trigger_state = 2, UserInterface!$G$26 = \"Tax Trigger Tool\"), TRUE, FALSE)","v":false},{"$f":"IF(AND(AK$4 <= $I4, m_tax_trigger_state = 2, UserInterface!$G$26 = \"Tax Trigger Tool\"), TRUE, FALSE)","v":false},{"$f":"IF(AND(AL$4 <= $I4, m_tax_trigger_state = 2, UserInterface!$G$26 = \"Tax Trigger Tool\"), TRUE, FALSE)","v":false},{"$f":"IF(AND(AM$4 <= $I4, m_tax_trigger_state = 2, UserInterface!$G$26 = \"Tax Trigger Tool\"), TRUE, FALSE)","v":false},{"$f":"IF(AND(AN$4 <= $I4, m_tax_trigger_state = 2, UserInterface!$G$26 = \"Tax Trigger Tool\"), TRUE, FALSE)","v":false},{"$f":"IF(AND(AO$4 <= $I4, m_tax_trigger_state = 2, UserInterface!$G$26 = \"Tax Trigger Tool\"), TRUE, FALSE)","v":false}]
[]
[null,null,"Threshold"]
[]
[null,null,null,null,"Threshold value",null,"£m 09/10 prices",null,null,null,null,null,null,null,null,null,null,null,null,null,null,null,null,null,null,null,null,null,null,null,null,null,null,{"$f":"CHOOSE(m_identity,AH131,AH132,AH133,AH134,AH135,AH136,AH137,AH138)","v":1.7716944899109435},1.7088269950491191,1.7194686253338036,1.6881202376933113,1.6841106605557123,1.6805617863606885,1.6712047288850487,1.6750504232911787]
[]
[null,null,null,null,"Threshold value applied",null,"£m 09/10 prices",null,null,null,null,null,null,null,null,null,null,null,null,null,null,null,null,null,null,null,null,null,null,null,null,null,null,{"$f":"IF(OR((AH48+AH49) = AH57, AH57 = \"\"), 0, IF(AH57 < (AH48+AH49), -AH76, +AH76))","v":0},{"$f":"IF(OR((AI48+AI49) = AI57, AI57 = \"\"), 0, IF(AI57 < (AI48+AI49), -AI76, +AI76))","v":0},0,0,0,0,0,0]
[]
[null,null,"Corporation tax rate"]
[]
[null,null,null,null,"Active",null,"text",null,null,null,null,null,null,null,null,null,null,null,null,null,null,null,null,null,null,null,null,null,null,null,null,null,null,{"$f":"AH$72 = FALSE()","v":true},true,true,true,true,true,true,true]
[null,null,null,null,"RIIO",null,"%",null,null,">",null,null,null,null,null,null,null,null,null,null,null,null,null,null,{"$f":"Input!Y218","v":0.3},{"$f":"Input!Z218","v":0.3},{"$f":"Input!AA218","v":0.3},{"$f":"Input!AB218","v":0.3},{"$f":"Input!AC218","v":0.28000000000000003},{"$f":"Input!AD218","v":0.28000000000000003},{"$f":"Input!AE218","v":0.28000000000000003},{"$f":"Input!AF218","v":0.26},{"$f":"Input!AG218","v":0.24},{"$f":"Input!AH218","v":0.23},{"$f":"Input!AI218","v":0.21},{"$f":"Input!AJ218","v":0.21},{"$f":"Input!AK218","v":0.21},{"$f":"Input!AL218","v":0.21},{"$f":"Input!AM218","v":0.21},{"$f":"Input!AN218","v":0.21},{"$f":"Input!AO218","v":0.21}]
[]
[null,null,null,null,"Active",null,"text",null,null,null,null,null,null,null,null,null,null,null,null,null,null,null,null,null,null,null,null,null,null,null,null,null,null,{"$f":"AH$72","v":false},false,false,false,false,false,false,false]
[null,null,null,null,"Tax trigger",null,"%",null,null,null,null,null,null,null,null,null,null,null,null,null,null,null,null,null,null,null,null,null,null,null,null,null,null,0.23,0.21,0.2,0.2,0.19,0.19,0.19,0.17]
[]
[null,null,null,null,"Applied",null,"%",null,null,">",null,null,null,null,null,null,null,null,null,null,null,null,null,null,{"$f":"Y83","v":0.3},{"$f":"Z83","v":0.3},{"$f":"AA83","v":0.3},0.3,0.28000000000000003,0.28000000000000003,0.28000000000000003,0.26,0.24,{"$f":"(AH82 * AH83) + (AH85 * AH86)","v":0.23},{"$f":"(AI82 * AI83) + (AI85 * AI86)","v":0.21},0.21,0.21,0.21,0.21,0.21,0.21]
[]
[null,null,"Capital allowance rate"]
[]
[null,null,null,"General pool"]
[]
[null,null,null,null,"Active",null,"text",null,null,null,null,null,null,null,null,null,null,null,null,null,null,null,null,null,null,null,null,null,null,null,null,null,null,{"$f":"AH$72 = FALSE()","v":true},true,true,true,true,true,true,true]
[null,null,null,null,"RIIO",null,"%",null,null,null,null,null,null,null,null,null,null,null,null,null,null,{"$f":"Input!V220","v":0.25},{"$f":"Input!W220","v":0.25},{"$f":"Input!X220","v":0.25},{"$f":"Input!Y220","v":0.25},{"$f":"Input!Z220","v":0.25},{"$f":"Input!AA220","v":0.25},{"$f":"Input!AB220","v":0.25},{"$f":"Input!AC220","v":0.2},{"$f":"Input!AD220","v":0.2},{"$f":"Input!AE220","v":0.2},{"$f":"Input!AF220","v":0.2},{"$f":"Input!AG220","v":0.18000000000000002},{"$f":"Input!AH220","v":0.18000000000000002},{"$f":"Input!AI220","v":0.18000000000000002},{"$f":"Input!AJ220","v":0.18000000000000002},{"$f":"Input!AK220","v":0.18000000000000002},{"$f":"Input!AL220","v":0.18000000000000002},{"$f":"Input!AM220","v":0.18000000000000002},{"$f":"Input!AN220","v":0.18000000000000002},{"$f":"Input!AO220","v":0.18000000000000002}]
[]
[null,null,null,null,"Active",null,"text",null,null,null,null,null,null,null,null,null,null,null,null,null,null,null,null,null,null,null,null,null,null,null,null,null,null,{"$f":"AH$72","v":false},false,false,false,false,false,false,false]
[null,null,null,null,"Tax trigger",null,"%",null,null,null,null,null,null,null,null,null,null,null,null,null,null,null,null,null,null,null,null,null,null,null,null,null,null,{"$f":"AH95","v":0.18000000000000002},{"$f":"AI95","v":0.18000000000000002},0.18000000000000002,0.18000000000000002,0.18000000000000002,0.18000000000000002,0.18000000000000002,0.18000000000000002]
[]
[null,null,null,null,"Applied",null,"%",null,null,null,null,null,null,null,null,null,null,null,null,null,null,{"$f":"V95","v":0.25},0.25,0.25,0.25,0.25,0.25,0.25,0.2,0.2,0.2,0.2,{"$f":"AG95","v":0.18000000000000002},{"$f":"(AH94 * AH95) + (AH97 * AH98)","v":0.18000000000000002},0.18000000000000002,0.18000000000000002,0.18000000000000002,0.18000000000000002,0.18000000000000002,0.18000000000000002,0.18000000000000002]
[]
[null,null,null,"Special Rate pool"]
[]
[null,null,null,null,"Active",null,"text",null,null,null,null,null,null,null,null,null,null,null,null,null,null,null,null,null,null,null,null,null,null,null,null,null,null,{"$f":"AH$72 = FALSE()","v":true},true,true,true,true,true,true,true]
[null,null,null,null,"RIIO",null,"%",null,null,">",null,null,null,null,null,null,null,null,null,null,null,{"$f":"Input!V221","v":0.06},{"$f":"Input!W221","v":0.06},{"$f":"Input!X221","v":0.06},{"$f":"Input!Y221","v":0.06},{"$f":"Input!Z221","v":0.06},{"$f":"Input!AA221","v":0.06},{"$f":"Input!AB221","v":0.06},{"$f":"Input!AC221","v":0.1},{"$f":"Input!AD221","v":0.1},{"$f":"Input!AE221","v":0.1},{"$f":"Input!AF221","v":0.1},{"$f":"Input!AG221","v":0.08},{"$f":"Input!AH221","v":0.08},{"$f":"Input!AI221","v":0.08},{"$f":"Input!AJ221","v":0.08},{"$f":"Input!AK221","v":0.08},{"$f":"Input!AL221","v":0.08},{"$f":"Input!AM221","v":0.08},{"$f":"Input!AN221","v":0.08},{"$f":"Input!AO221","v":0.08}]
[]
[null,null,null,null,"Active",null,"text",null,null,null,null,null,null,null,null,null,null,null,null,null,null,null,null,null,null,null,null,null,null,null,null,null,null,{"$f":"AH$72","v":false},false,false,false,false,false,false,false]
[null,null,null,null,"Tax trigger",null,"%",null,null,null,null,null,null,null,null,null,null,null,null,null,null,null,null,null,null,null,null,null,null,null,null,null,null,{"$f":"AH105","v":0.08},{"$f":"AI105","v":0.08},0.08,0.08,0.08,0.08,0.08,0.08]
[]
[null,null,null,null,"Applied",null,"%",null,null,">",null,null,null,null,null,null,null,null,null,null,null,{"$f":"V105","v":0.06},{"$f":"W105","v":0.06},{"$f":"X105","v":0.06},{"$f":"Y105","v":0.06},{"$f":"Z105","v":0.06},{"$f":"AA105","v":0.06},0.06,0.1,0.1,0.1,0.1,0.08,{"$f":"(AH104 * AH105) + (AH107 * AH108)","v":0.08},0.08,0.08,0.08,0.08,0.08,0.08,0.08]
[]
[null,null,null,"Deferred revenue writing down allowance rate"]
[]
[null,null,null,null,"Active",null,"text",null,null,null,null,null,null,null,null,null,null,null,null,null,null,null,null,null,null,null,null,null,null,null,null,null,null,{"$f":"AH$72 = FALSE()","v":true},true,true,true,true,true,true,true]
[null,null,null,null,"RIIO",null,"%",null,null,">",null,null,null,null,null,null,null,null,null,null,null,{"$f":"Input!V222","v":0},{"$f":"Input!W222","v":0},{"$f":"Input!X222","v":0},{"$f":"Input!Y222","v":0},{"$f":"Input!Z222","v":0},{"$f":"Input!AA222","v":0},{"$f":"Input!AB222","v":0},{"$f":"Input!AC222","v":0},{"$f":"Input!AD222","v":0},{"$f":"Input!AE222","v":0},{"$f":"Input!AF222","v":0},{"$f":"Input!AG222","v":0},{"$f":"Input!AH222","v":2.2200000000000001E-2},{"$f":"Input!AI222","v":2.2200000000000001E-2},{"$f":"Input!AJ222","v":2.2200000000000001E-2},{"$f":"Input!AK222","v":2.2200000000000001E-2},{"$f":"Input!AL222","v":2.2200000000000001E-2},{"$f":"Input!AM222","v":2.2200000000000001E-2},{"$f":"Input!AN222","v":2.2200000000000001E-2},{"$f":"Input!AO222","v":2.2200000000000001E-2}]
[]
[null,null,null,null,"Active",null,"text",null,null,null,null,null,null,null,null,null,null,null,null,null,null,null,null,null,null,null,null,null,null,null,null,null,null,{"$f":"AH$72","v":false},false,false,false,false,false,false,false]
[null,null,null,null,"Tax trigger",null,"%",null,null,null,null,null,null,null,null,null,null,null,null,null,null,null,null,null,null,null,null,null,null,null,null,null,null,{"$f":"AH115","v":2.2200000000000001E-2},{"$f":"AI115","v":2.2200000000000001E-2},2.2200000000000001E-2,2.2200000000000001E-2,2.2200000000000001E-2,2.2200000000000001E-2,2.2200000000000001E-2,2.2200000000000001E-2]
[]
[null,null,null,null,"Applied",null,"%",null,null,">",null,null,null,null,null,null,null,null,null,null,null,{"$f":"V115","v":0},0,0,0,0,0,0,0,0,0,0,{"$f":"AG115","v":0},{"$f":"(AH114 * AH115) + (AH117 * AH118)","v":2.2200000000000001E-2},2.2200000000000001E-2,2.2200000000000001E-2,2.2200000000000001E-2,2.2200000000000001E-2,2.2200000000000001E-2,2.2200000000000001E-2,2.2200000000000001E-2]
[]
[null,null,"B event value"]
[]
[null,null,null,null,"Active",null,"text",null,null,null,null,null,null,null,null,null,null,null,null,null,null,null,null,null,null,null,null,null,null,null,null,null,null,{"$f":"AH$72","v":false},false,false,false,false,false,false,false]
[null,null,null,null,"Tax trigger",null,"£m 09/10 prices",null,null,null,null,null,null,null,null,null,null,null,null,null,null,null,null,null,null,null,null,null,null,null,null,null,null,{"$f":"INDEX(AH142:AH149,MATCH($B$2,$E$142:$E$149,0),1)","v":0},{"$f":"INDEX(AI142:AI149,MATCH($B$2,$E$142:$E$149,0),1)","v":0},0,0,0,0,0,0]
[]
[null,null,null,null,"Applied",null,"£m 09/10 prices",null,null,null,null,null,null,null,null,null,null,null,null,null,null,null,null,null,null,null,null,null,null,null,null,null,null,{"$f":"AH124 * AH125","v":0},{"$f":"AI124 * AI125","v":0},0,0,0,0,0,0]
[]
[null,null,"Tax Trigger Deadbands"]
[]
[null,null,null,null,"East",null,null,null,null,null,null,null,null,null,null,null,null,null,null,null,null,null,null,null,null,null,null,null,null,null,null,null,null,{"$f":"East!AH$281","v":1.7716944899109435},{"$f":"East!AI$281","v":1.7088269950491191},{"$f":"East!AJ$281","v":1.7194686253338036},{"$f":"East!AK$281","v":1.6881202376933113},{"$f":"East!AL$281","v":1.6841106605557123},{"$f":"East!AM$281","v":1.6805617863606885},{"$f":"East!AN$281","v":1.6712047288850487},{"$f":"East!AO$281","v":1.6750504232911787}]
[null,null,null,null,"London",null,null,null,null,null,null,null,null,null,null,null,null,null,null,null,null,null,null,null,null,null,null,null,null,null,null,null,null,{"$f":"London!AH$281","v":1.2063818965071793},{"$f":"London!AI$281","v":1.1842616866053806},{"$f":"London!AJ$281","v":1.2573447697950768},{"$f":"London!AK$281","v":1.2254438210356353},{"$f":"London!AL$281","v":1.2095656010952576},{"$f":"London!AM$281","v":1.2061780784358844},{"$f":"London!AN$281","v":1.1882166018823794},{"$f":"London!AO$281","v":1.1870138458039279}]
[null,null,null,null,"North West",null,null,null,null,null,null,null,null,null,null,null,null,null,null,null,null,null,null,null,null,null,null,null,null,null,null,null,null,{"$f":"'North West'!AH$281","v":1.2987885357440807},{"$f":"'North West'!AI$281","v":1.2426609844443655},{"$f":"'North West'!AJ$281","v":1.252343585145447},{"$f":"'North West'!AK$281","v":1.2320487140770524},{"$f":"'North West'!AL$281","v":1.2376118216962129},{"$f":"'North West'!AM$281","v":1.2324329220647154},{"$f":"'North West'!AN$281","v":1.2316569094697196},{"$f":"'North West'!AO$281","v":1.22911128589156}]
[null,null,null,null,"West Midlands",null,null,null,null,null,null,null,null,null,null,null,null,null,null,null,null,null,null,null,null,null,null,null,null,null,null,null,null,{"$f":"'West Midlands'!AH$281","v":0.93770121593731504},{"$f":"'West Midlands'!AI$281","v":0.91920780322236972},{"$f":"'West Midlands'!AJ$281","v":0.91920484125283253},{"$f":"'West Midlands'!AK$281","v":0.89344126487775832},{"$f":"'West Midlands'!AL$281","v":0.90373329918096501},{"$f":"'West Midlands'!AM$281","v":0.90476692902423284},{"$f":"'West Midlands'!AN$281","v":0.9057263125972439},{"$f":"'West Midlands'!AO$281","v":0.89837112315684287}]
[null,null,null,null,"Northern",null,null,null,null,null,null,null,null,null,null,null,null,null,null,null,null,null,null,null,null,null,null,null,null,null,null,null,null,{"$f":"Northern!AH$281","v":1.1236730845369962},{"$f":"Northern!AI$281","v":1.1174975484313017},{"$f":"Northern!AJ$281","v":1.1512141959044764},{"$f":"Northern!AK$281","v":1.1225830325021626},{"$f":"Northern!AL$281","v":1.0916705316553208},{"$f":"Northern!AM$281","v":1.1007067755464492},{"$f":"Northern!AN$281","v":1.1095324017327328},{"$f":"Northern!AO$281","v":1.1253574439425253}]
[null,null,null,null,"Scotland",null,null,null,null,null,null,null,null,null,null,null,null,null,null,null,null,null,null,null,null,null,null,null,null,null,null,null,null,{"$f":"Scotland!AH$281","v":0.88428277539207756},{"$f":"Scotland!AI$281","v":0.86112837270313014},{"$f":"Scotland!AJ$281","v":0.84102383707548445},{"$f":"Scotland!AK$281","v":0.88297663287429251},{"$f":"Scotland!AL$281","v":0.89466104974996341},{"$f":"Scotland!AM$281","v":0.90155767404145859},{"$f":"Scotland!AN$281","v":0.8868768210530461},{"$f":"Scotland!AO$281","v":0.90207646953253651}]
[null,null,null,null,"Southern",null,null,null,null,null,null,null,null,null,null,null,null,null,null,null,null,null,null,null,null,null,null,null,null,null,null,null,null,{"$f":"Southern!AH$281","v":2.0582482142006566},{"$f":"Southern!AI$281","v":1.9915604480938982},{"$f":"Southern!AJ$281","v":2.0274775456533054},{"$f":"Southern!AK$281","v":2.0332886583840861},{"$f":"Southern!AL$281","v":2.0460326563931726},{"$f":"Southern!AM$281","v":2.0554435628492405},{"$f":"Southern!AN$281","v":2.0351424127847837},{"$f":"Southern!AO$281","v":2.0474719911564803}]
[null,null,null,null,"Wales & West",null,null,null,null,null,null,null,null,null,null,null,null,null,null,null,null,null,null,null,null,null,null,null,null,null,null,null,null,{"$f":"'Wales & West'!AH$281","v":1.1505382797466641},{"$f":"'Wales & West'!AI$281","v":1.1361345811943602},{"$f":"'Wales & West'!AJ$281","v":1.1193976033941275},{"$f":"'Wales & West'!AK$281","v":1.1227450757495376},{"$f":"'Wales & West'!AL$281","v":1.1600317196092877},{"$f":"'Wales & West'!AM$281","v":1.1478173889001966},{"$f":"'Wales & West'!AN$281","v":1.1459053525115468},{"$f":"'Wales & West'!AO$281","v":1.1386472540479209}]
[]
[null,null,"B event value by Licencee"]
[]
[null,null,null,null,"East",null,"£m 09/10 prices",null,null,null,null,null,null,null,null,null,null,null,null,null,null,null,null,null,null,null,null,null,null,null,null,null,null,0,0,0,0,0,0,0,0]
[null,null,null,null,"London",null,"£m 09/10 prices",null,null,null,null,null,null,null,null,null,null,null,null,null,null,null,null,null,null,null,null,null,null,null,null,null,null,0,0,0,0,0,0,0,0]
[null,null,null,null,"North West",null,"£m 09/10 prices",null,null,null,null,null,null,null,null,null,null,null,null,null,null,null,null,null,null,null,null,null,null,null,null,null,null,0,0,0,0,0,0,0,0]
[null,null,null,null,"West Midlands",null,"£m 09/10 prices",null,null,null,null,null,null,null,null,null,null,null,null,null,null,null,null,null,null,null,null,null,null,null,null,null,null,0,0,0,0,0,0,0,0]
[null,null,null,null,"Northern",null,"£m 09/10 prices",null,null,null,null,null,null,null,null,null,null,null,null,null,null,null,null,null,null,null,null,null,null,null,null,null,null,0,0,0,0,0,0,0,0]
[null,null,null,null,"Scotland",null,"£m 09/10 prices",null,null,null,null,null,null,null,null,null,null,null,null,null,null,null,null,null,null,null,null,null,null,null,null,null,null,0,0,0,0,0,0,0,0]
[null,null,null,null,"Southern",null,"£m 09/10 prices",null,null,null,null,null,null,null,null,null,null,null,null,null,null,null,null,null,null,null,null,null,null,null,null,null,null,0,0,0,0,0,0,0,0]
[null,null,null,null,"Wales & West",null,"£m 09/10 prices",null,null,null,null,null,null,null,null,null,null,null,null,null,null,null,null,null,null,null,null,null,null,null,null,null,null,0,0,0,0,0,0,0,0]
[]
[null,"End of sheet"]

{"sheet":"MOD","index":3,"n_rows":12,"n_cols":41,"rows_kept":12,"cut":false,"hidden":false,"merged":[]}
["MOD"]
[null,{"$f":"UserInterface!G17","v":"East"}]
[null,null,null,null,"Parameter",null,"Units",null,"Constant",null,null,null,null,null,null,null,null,null,null,null,null,null,null,null,null,null,null,null,null,null,null,null,null,"Annual values"]
[null,null,null,null,"PCFM year ending",null,null,null,{"$f":"UserInterface!$G$10","v":"2019-03-31"},null,"1991-03-31","1992-03-31","1993-03-31","1994-03-31","1995-03-31","1996-03-31","1997-03-31","1998-03-31","1999-03-31","2000-03-31","2001-03-31","2002-03-31","2003-03-31","2004-03-31","2005-03-31","2006-03-31","2007-03-31","2008-03-31","2009-03-31","2010-03-31","2011-03-31","2012-03-31","2013-03-31","2014-03-31","2015-03-31","2016-03-31","2017-03-31","2018-03-31","2019-03-31","2020-03-31","2021-03-31"]
[null,null,null,"Note: Base revenue referred to in the PCFM is not the BRt terms quoted in the licence as this also includes the terms TRUE and RPIFt which relate to retail price index adjustments"]
[null,null,null,null,{"$f":"UserInterface!E10","v":"Year t selected:"},null,{"$f":"UserInterface!G10","v":"2019-03-31"}]
[]
[null,null,null,null,{"$f":"Revenue!E64","v":"Final Proposals base revenue"},null,null,null,null,null,null,null,null,null,null,null,null,null,null,null,null,null,null,null,null,null,null,null,null,null,null,null,null,{"$f":"Revenue!AH64","v":525.49014697737812},{"$f":"Revenue!AI64","v":506.44916889431431},{"$f":"Revenue!AJ64","v":509.69251982366461},{"$f":"Revenue!AK64","v":500.19300841745479},{"$f":"Revenue!AL64","v":498.97798504242502},{"$f":"Revenue!AM64","v":497.90256861969033},{"$f":"Revenue!AN64","v":495.06709665737515},{"$f":"Revenue!AO64","v":496.23245859862675}]
[null,null,null,null,{"$f":"Revenue!E65","v":"MOD"},null,null,null,null,null,null,null,null,null,null,null,null,null,null,null,null,null,null,null,null,null,null,null,null,null,null,null,null,{"$f":"Revenue!AH65","v":0},{"$f":"Revenue!AI65","v":-3.2207653560816425},{"$f":"Revenue!AJ65","v":-7.5547471844549818},{"$f":"Revenue!AK65","v":-13.560457981873526},{"$f":"Revenue!AL65","v":-12.344135342007519},{"$f":"Revenue!AM65","v":-48.705177001458082},{"$f":"Revenue!AN65","v":0},{"$f":"Revenue!AO65","v":0}]
[null,null,null,null,{"$f":"Revenue!E66","v":"Base revenue"},null,null,null,null,null,null,null,null,null,null,null,null,null,null,null,null,null,null,null,null,null,null,null,null,null,null,null,null,{"$f":"Revenue!AH66","v":525.49014697737812},{"$f":"Revenue!AI66","v":503.22840353823267},{"$f":"Revenue!AJ66","v":502.13777263920963},{"$f":"Revenue!AK66","v":486.63255043558127},{"$f":"Revenue!AL66","v":486.6338497004175},{"$f":"Revenue!AM66","v":449.19739161823225},{"$f":"Revenue!AN66","v":495.06709665737515},{"$f":"Revenue!AO66","v":496.23245859862675}]
[]
[null,"End of sheet"]

{"sheet":"Input","index":4,"n_rows":292,"n_cols":41,"rows_kept":292,"cut":false,"hidden":false,"merged":[]}
["Input"]
[null,{"$f":"UserInterface!G17","v":"East"}]
[null,null,null,null,"Parameter","Licence condition","Units","Term","Constant",null,null,null,null,null,null,null,null,null,null,null,null,null,null,null,null,null,null,null,null,null,null,null,null,"Annual values"]
[null,null,null,null,"PCFM year ending",{"$f":"Cover!C3","v":"GD1 PCFM for use in AIP 2018.xlsm"},null,null,{"$f":"UserInterface!$G$10","v":"2019-03-31"},null,"1991-03-31","1992-03-31","1993-03-31","1994-03-31","1995-03-31","1996-03-31","1997-03-31","1998-03-31","1999-03-31","2000-03-31","2001-03-31","2002-03-31","2003-03-31","2004-03-31","2005-03-31","2006-03-31","2007-03-31","2008-03-31","2009-03-31","2010-03-31","2011-03-31","2012-03-31","2013-03-31","2014-03-31","2015-03-31","2016-03-31","2017-03-31","2018-03-31","2019-03-31","2020-03-31","2021-03-31"]
[]
[null,"PCFM Variable Values Table"]
[]
[null,null,null,null,"Allowed percentage cost of debt","3C","annual real %","CDE",null,null,null,null,null,null,null,null,null,null,null,null,null,null,null,null,null,null,null,null,null,null,null,null,null,{"$f":"CHOOSE(m_identity,East!AH8, London!AH8, 'North West'!AH8, 'West Midlands'!AH8, Northern!AH8, Scotland!AH8, Southern!AH8, 'Wales & West'!AH8)","v":2.92E-2},{"$f":"CHOOSE(m_identity,East!AI8, London!AI8, 'North West'!AI8, 'West Midlands'!AI8, Northern!AI8, Scotland!AI8, Southern!AI8, 'Wales & West'!AI8)","v":2.7199999999999998E-2},{"$f":"CHOOSE(m_identity,East!AJ8, London!AJ8, 'North West'!AJ8, 'West Midlands'!AJ8, Northern!AJ8, Scotland!AJ8, Southern!AJ8, 'Wales & West'!AJ8)","v":2.5499999999999998E-2},{"$f":"CHOOSE(m_identity,East!AK8, London!AK8, 'North West'!AK8, 'West Midlands'!AK8, Northern!AK8, Scotland!AK8, Southern!AK8, 'Wales & West'!AK8)","v":2.3800000000000002E-2},{"$f":"CHOOSE(m_identity,East!AL8, London!AL8, 'North West'!AL8, 'West Midlands'!AL8, Northern!AL8, Scotland!AL8, Southern!AL8, 'Wales & West'!AL8)","v":2.2200000000000001E-2},{"$f":"CHOOSE(m_identity,East!AM8, London!AM8, 'North West'!AM8, 'West Midlands'!AM8, Northern!AM8, Scotland!AM8, Southern!AM8, 'Wales & West'!AM8)","v":2.2200000000000001E-2},{"$f":"CHOOSE(m_identity,East!AN8, London!AN8, 'North West'!AN8, 'West Midlands'!AN8, Northern!AN8, Scotland!AN8, Southern!AN8, 'Wales & West'!AN8)","v":2.2200000000000001E-2},{"$f":"CHOOSE(m_identity,East!AO8, London!AO8, 'North West'!AO8, 'West Midlands'!AO8, Northern!AO8, Scotland!AO8, Southern!AO8, 'Wales & West'!AO8)","v":2.2200000000000001E-2}]
[null,null,null,null,"Actual load related capex","3B","£m 09/10 prices","ALC",null,null,null,null,null,null,null,null,null,null,null,null,null,null,null,null,null,null,null,null,null,null,null,null,null,{"$f":"CHOOSE(m_identity,East!AH9, London!AH9, 'North West'!AH9, 'West Midlands'!AH9, Northern!AH9, Scotland!AH9, Southern!AH9, 'Wales & West'!AH9)","v":28.994705520563567},{"$f":"CHOOSE(m_identity,East!AI9, London!AI9, 'North West'!AI9, 'West Midlands'!AI9, Northern!AI9, Scotland!AI9, Southern!AI9, 'Wales & West'!AI9)","v":19.813505166441491},{"$f":"CHOOSE(m_identity,East!AJ9, London!AJ9, 'North West'!AJ9, 'West Midlands'!AJ9, Northern!AJ9, Scotland!AJ9, Southern!AJ9, 'Wales & West'!AJ9)","v":19.732860307816889},{"$f":"CHOOSE(m_identity,East!AK9, London!AK9, 'North West'!AK9, 'West Midlands'!AK9, Northern!AK9, Scotland!AK9, Southern!AK9, 'Wales & West'!AK9)","v":0},{"$f":"CHOOSE(m_identity,East!AL9, London!AL9, 'North West'!AL9, 'West Midlands'!AL9, Northern!AL9, Scotland!AL9, Southern!AL9, 'Wales & West'!AL9)","v":0},{"$f":"CHOOSE(m_identity,East!AM9, London!AM9, 'North West'!AM9, 'West Midlands'!AM9, Northern!AM9, Scotland!AM9, Southern!AM9, 'Wales & West'!AM9)","v":0},{"$f":"CHOOSE(m_identity,East!AN9, London!AN9, 'North West'!AN9, 'West Midlands'!AN9, Northern!AN9, Scotland!AN9, Southern!AN9, 'Wales & West'!AN9)","v":0},{"$f":"CHOOSE(m_identity,East!AO9, London!AO9, 'North West'!AO9, 'West Midlands'!AO9, Northern!AO9, Scotland!AO9, Southern!AO9, 'Wales & West'!AO9)","v":0}]
[null,null,null,null,"Actual other capex","3B","£m 09/10 prices","AOC",null,null,null,null,null,null,null,null,null,null,null,null,null,null,null,null,null,null,null,null,null,null,null,null,null,{"$f":"CHOOSE(m_identity,East!AH10, London!AH10, 'North West'!AH10, 'West Midlands'!AH10, Northern!AH10, Scotland!AH10, Southern!AH10, 'Wales & West'!AH10)","v":17.585404328298281},{"$f":"CHOOSE(m_identity,East!AI10, London!AI10, 'North West'!AI10, 'West Midlands'!AI10, Northern!AI10, Scotland!AI10, Southern!AI10, 'Wales & West'!AI10)","v":19.93498036545277},{"$f":"CHOOSE(m_identity,East!AJ10, London!AJ10, 'North West'!AJ10, 'West Midlands'!AJ10, Northern!AJ10, Scotland!AJ10, Southern!AJ10, 'Wales & West'!AJ10)","v":16.771849986032894},{"$f":"CHOOSE(m_identity,East!AK10, London!AK10, 'North West'!AK10, 'West Midlands'!AK10, Northern!AK10, Scotland!AK10, Southern!AK10, 'Wales & West'!AK10)","v":0},{"$f":"CHOOSE(m_identity,East!AL10, London!AL10, 'North West'!AL10, 'West Midlands'!AL10, Northern!AL10, Scotland!AL10, Southern!AL10, 'Wales & West'!AL10)","v":0},{"$f":"CHOOSE(m_identity,East!AM10, London!AM10, 'North West'!AM10, 'West Midlands'!AM10, Northern!AM10, Scotland!AM10, Southern!AM10, 'Wales & West'!AM10)","v":0},{"$f":"CHOOSE(m_identity,East!AN10, London!AN10, 'North West'!AN10, 'West Midlands'!AN10, Northern!AN10, Scotland!AN10, Southern!AN10, 'Wales & West'!AN10)","v":0},{"$f":"CHOOSE(m_identity,East!AO10, London!AO10, 'North West'!AO10, 'West Midlands'!AO10, Northern!AO10, Scotland!AO10, Southern!AO10, 'Wales & West'!AO10)","v":0}]
[null,null,null,null,"Actual controllable opex","3B","£m 09/10 prices","ACO",null,null,null,null,null,null,null,null,null,null,null,null,null,null,null,null,null,null,null,null,null,null,null,null,null,{"$f":"CHOOSE(m_identity,East!AH11, London!AH11, 'North West'!AH11, 'West Midlands'!AH11, Northern!AH11, Scotland!AH11, Southern!AH11, 'Wales & West'!AH11)","v":126.88055213470393},{"$f":"CHOOSE(m_identity,East!AI11, London!AI11, 'North West'!AI11, 'West Midlands'!AI11, Northern!AI11, Scotland!AI11, Southern!AI11, 'Wales & West'!AI11)","v":124.57403585982755},{"$f":"CHOOSE(m_identity,East!AJ11, London!AJ11, 'North West'!AJ11, 'West Midlands'!AJ11, Northern!AJ11, Scotland!AJ11, Southern!AJ11, 'Wales & West'!AJ11)","v":118.85835822933886},{"$f":"CHOOSE(m_identity,East!AK11, London!AK11, 'North West'!AK11, 'West Midlands'!AK11, Northern!AK11, Scotland!AK11, Southern!AK11, 'Wales & West'!AK11)","v":0},{"$f":"CHOOSE(m_identity,East!AL11, London!AL11, 'North West'!AL11, 'West Midlands'!AL11, Northern!AL11, Scotland!AL11, Southern!AL11, 'Wales & West'!AL11)","v":0},{"$f":"CHOOSE(m_identity,East!AM11, London!AM11, 'North West'!AM11, 'West Midlands'!AM11, Northern!AM11, Scotland!AM11, Southern!AM11, 'Wales & West'!AM11)","v":0},{"$f":"CHOOSE(m_identity,East!AN11, London!AN11, 'North West'!AN11, 'West Midlands'!AN11, Northern!AN11, Scotland!AN11, Southern!AN11, 'Wales & West'!AN11)","v":0},{"$f":"CHOOSE(m_identity,East!AO11, London!AO11, 'North West'!AO11, 'West Midlands'!AO11, Northern!AO11, Scotland!AO11, Southern!AO11, 'Wales & West'!AO11)","v":0}]
[null,null,null,null,"Actual replacement expenditure","3B","£m 09/10 prices","ARE",null,null,null,null,null,null,null,null,null,null,null,null,null,null,null,null,null,null,null,null,null,null,null,null,null,{"$f":"CHOOSE(m_identity,East!AH12, London!AH12, 'North West'!AH12, 'West Midlands'!AH12, Northern!AH12, Scotland!AH12, Southern!AH12, 'Wales & West'!AH12)","v":80.98027960027801},{"$f":"CHOOSE(m_identity,East!AI12, London!AI12, 'North West'!AI12, 'West Midlands'!AI12, Northern!AI12, Scotland!AI12, Southern!AI12, 'Wales & West'!AI12)","v":87.292768607308034},{"$f":"CHOOSE(m_identity,East!AJ12, London!AJ12, 'North West'!AJ12, 'West Midlands'!AJ12, Northern!AJ12, Scotland!AJ12, Southern!AJ12, 'Wales & West'!AJ12)","v":91.558452979737709},{"$f":"CHOOSE(m_identity,East!AK12, London!AK12, 'North West'!AK12, 'West Midlands'!AK12, Northern!AK12, Scotland!AK12, Southern!AK12, 'Wales & West'!AK12)","v":0},{"$f":"CHOOSE(m_identity,East!AL12, London!AL12, 'North West'!AL12, 'West Midlands'!AL12, Northern!AL12, Scotland!AL12, Southern!AL12, 'Wales & West'!AL12)","v":0},{"$f":"CHOOSE(m_identity,East!AM12, London!AM12, 'North West'!AM12, 'West Midlands'!AM12, Northern!AM12, Scotland!AM12, Southern!AM12, 'Wales & West'!AM12)","v":0},{"$f":"CHOOSE(m_identity,East!AN12, London!AN12, 'North West'!AN12, 'West Midlands'!AN12, Northern!AN12, Scotland!AN12, Southern!AN12, 'Wales & West'!AN12)","v":0},{"$f":"CHOOSE(m_identity,East!AO12, London!AO12, 'North West'!AO12, 'West Midlands'!AO12, Northern!AO12, Scotland!AO12, Southern!AO12, 'Wales & West'!AO12)","v":0}]
[null,null,null,null,"Allowed uncertain costs (Enhanced physical site security)","3F","£m 09/10 prices","IAEEPS",null,null,null,null,null,null,null,null,null,null,null,null,null,null,null,null,null,null,null,null,null,null,null,null,null,{"$f":"CHOOSE(m_identity,East!AH13, London!AH13, 'North West'!AH13, 'West Midlands'!AH13, Northern!AH13, Scotland!AH13, Southern!AH13, 'Wales & West'!AH13)","v":-1.2092019818719479},{"$f":"CHOOSE(m_identity,East!AI13, London!AI13, 'North West'!AI13, 'West Midlands'!AI13, Northern!AI13, Scotland!AI13, Southern!AI13, 'Wales & West'!AI13)","v":0.21213453381116881},{"$f":"CHOOSE(m_identity,East!AJ13, London!AJ13, 'North West'!AJ13, 'West Midlands'!AJ13, Northern!AJ13, Scotland!AJ13, Southern!AJ13, 'Wales & West'!AJ13)","v":0.41797344366272721},{"$f":"CHOOSE(m_identity,East!AK13, London!AK13, 'North West'!AK13, 'West Midlands'!AK13, Northern!AK13, Scotland!AK13, Southern!AK13, 'Wales & West'!AK13)","v":2.3324946307316878},{"$f":"CHOOSE(m_identity,East!AL13, London!AL13, 'North West'!AL13, 'West Midlands'!AL13, Northern!AL13, Scotland!AL13, Southern!AL13, 'Wales & West'!AL13)","v":12.804418133191946},{"$f":"CHOOSE(m_identity,East!AM13, London!AM13, 'North West'!AM13, 'West Midlands'!AM13, Northern!AM13, Scotland!AM13, Southern!AM13, 'Wales & West'!AM13)","v":9.9181918928894781},{"$f":"CHOOSE(m_identity,East!AN13, London!AN13, 'North West'!AN13, 'West Midlands'!AN13, Northern!AN13, Scotland!AN13, Southern!AN13, 'Wales & West'!AN13)","v":2.2324976937249348},{"$f":"CHOOSE(m_identity,East!AO13, London!AO13, 'North West'!AO13, 'West Midlands'!AO13, Northern!AO13, Scotland!AO13, Southern!AO13, 'Wales & West'!AO13)","v":0.46585095352675315}]
[null,null,null,null,"Allowed uncertain costs (Specified street work costs)","3F","£m 09/10 prices","IAESW",null,null,null,null,null,null,null,null,null,null,null,null,null,null,null,null,null,null,null,null,null,null,null,null,null,{"$f":"CHOOSE(m_identity,East!AH14, London!AH14, 'North West'!AH14, 'West Midlands'!AH14, Northern!AH14, Scotland!AH14, Southern!AH14, 'Wales & West'!AH14)","v":2.5069237234056003},{"$f":"CHOOSE(m_identity,East!AI14, London!AI14, 'North West'!AI14, 'West Midlands'!AI14, Northern!AI14, Scotland!AI14, Southern!AI14, 'Wales & West'!AI14)","v":2.4294400914595151},{"$f":"CHOOSE(m_identity,East!AJ14, London!AJ14, 'North West'!AJ14, 'West Midlands'!AJ14, Northern!AJ14, Scotland!AJ14, Southern!AJ14, 'Wales & West'!AJ14)","v":2.3600138601103731},{"$f":"CHOOSE(m_identity,East!AK14, London!AK14, 'North West'!AK14, 'West Midlands'!AK14, Northern!AK14, Scotland!AK14, Southern!AK14, 'Wales & West'!AK14)","v":2.2945494341020423},{"$f":"CHOOSE(m_identity,East!AL14, London!AL14, 'North West'!AL14, 'West Midlands'!AL14, Northern!AL14, Scotland!AL14, Southern!AL14, 'Wales & West'!AL14)","v":2.2351258000404703},{"$f":"CHOOSE(m_identity,East!AM14, London!AM14, 'North West'!AM14, 'West Midlands'!AM14, Northern!AM14, Scotland!AM14, Southern!AM14, 'Wales & West'!AM14)","v":2.1743981151621057},{"$f":"CHOOSE(m_identity,East!AN14, London!AN14, 'North West'!AN14, 'West Midlands'!AN14, Northern!AN14, Scotland!AN14, Southern!AN14, 'Wales & West'!AN14)","v":2.1151581854026622},{"$f":"CHOOSE(m_identity,East!AO14, London!AO14, 'North West'!AO14, 'West Midlands'!AO14, Northern!AO14, Scotland!AO14, Southern!AO14, 'Wales & West'!AO14)","v":2.0555882416470448}]
[null,null,null,null,"Allowed uncertain costs (Connection charging boundary change costs)","3F","£m 09/10 prices","IAECCB",null,null,null,null,null,null,null,null,null,null,null,null,null,null,null,null,null,null,null,null,null,null,null,null,null,{"$f":"CHOOSE(m_identity,East!AH15, London!AH15, 'North West'!AH15, 'West Midlands'!AH15, Northern!AH15, Scotland!AH15, Southern!AH15, 'Wales & West'!AH15)","v":0},{"$f":"CHOOSE(m_identity,East!AI15, London!AI15, 'North West'!AI15, 'West Midlands'!AI15, Northern!AI15, Scotland!AI15, Southern!AI15, 'Wales & West'!AI15)","v":0},{"$f":"CHOOSE(m_identity,East!AJ15, London!AJ15, 'North West'!AJ15, 'West Midlands'!AJ15, Northern!AJ15, Scotland!AJ15, Southern!AJ15, 'Wales & West'!AJ15)","v":0},{"$f":"CHOOSE(m_identity,East!AK15, London!AK15, 'North West'!AK15, 'West Midlands'!AK15, Northern!AK15, Scotland!AK15, Southern!AK15, 'Wales & West'!AK15)","v":0},{"$f":"CHOOSE(m_identity,East!AL15, London!AL15, 'North West'!AL15, 'West Midlands'!AL15, Northern!AL15, Scotland!AL15, Southern!AL15, 'Wales & West'!AL15)","v":0},{"$f":"CHOOSE(m_identity,East!AM15, London!AM15, 'North West'!AM15, 'West Midlands'!AM15, Northern!AM15, Scotland!AM15, Southern!AM15, 'Wales & West'!AM15)","v":0},{"$f":"CHOOSE(m_identity,East!AN15, London!AN15, 'North West'!AN15, 'West Midlands'!AN15, Northern!AN15, Scotland!AN15, Southern!AN15, 'Wales & West'!AN15)","v":0},{"$f":"CHOOSE(m_identity,East!AO15, London!AO15, 'North West'!AO15, 'West Midlands'!AO15, Northern!AO15, Scotland!AO15, Southern!AO15, 'Wales & West'!AO15)","v":0}]
[null,null,null,null,"Allowed uncertain costs (Fuel poor network extension scheme)","3F","£m 09/10 prices","IAEFP",null,null,null,null,null,null,null,null,null,null,null,null,null,null,null,null,null,null,null,null,null,null,null,null,null,{"$f":"CHOOSE(m_identity,East!AH16, London!AH16, 'North West'!AH16, 'West Midlands'!AH16, Northern!AH16, Scotland!AH16, Southern!AH16, 'Wales & West'!AH16)","v":1.2250858862540879},{"$f":"CHOOSE(m_identity,East!AI16, London!AI16, 'North West'!AI16, 'West Midlands'!AI16, Northern!AI16, Scotland!AI16, Southern!AI16, 'Wales & West'!AI16)","v":1.2201855427090715},{"$f":"CHOOSE(m_identity,East!AJ16, London!AJ16, 'North West'!AJ16, 'West Midlands'!AJ16, Northern!AJ16, Scotland!AJ16, Southern!AJ16, 'Wales & West'!AJ16)","v":1.2331313377910282},{"$f":"CHOOSE(m_identity,East!AK16, London!AK16, 'North West'!AK16, 'West Midlands'!AK16, Northern!AK16, Scotland!AK16, Southern!AK16, 'Wales & West'!AK16)","v":1.7413241022553574},{"$f":"CHOOSE(m_identity,East!AL16, London!AL16, 'North West'!AL16, 'West Midlands'!AL16, Northern!AL16, Scotland!AL16, Southern!AL16, 'Wales & West'!AL16)","v":1.8283062074662149},{"$f":"CHOOSE(m_identity,East!AM16, London!AM16, 'North West'!AM16, 'West Midlands'!AM16, Northern!AM16, Scotland!AM16, Southern!AM16, 'Wales & West'!AM16)","v":1.7874479931648435},{"$f":"CHOOSE(m_identity,East!AN16, London!AN16, 'North West'!AN16, 'West Midlands'!AN16, Northern!AN16, Scotland!AN16, Southern!AN16, 'Wales & West'!AN16)","v":1.781980158397976},{"$f":"CHOOSE(m_identity,East!AO16, London!AO16, 'North West'!AO16, 'West Midlands'!AO16, Northern!AO16, Scotland!AO16, Southern!AO16, 'Wales & West'!AO16)","v":1.6853715130527143}]
[null,null,null,null,"Allowed uncertain costs (Central agent)","3F","£m 09/10 prices","IAECA",null,null,null,null,null,null,null,null,null,null,null,null,null,null,null,null,null,null,null,null,null,null,null,null,null,{"$f":"CHOOSE(m_identity,East!AH17, London!AH17, 'North West'!AH17, 'West Midlands'!AH17, Northern!AH17, Scotland!AH17, Southern!AH17, 'Wales & West'!AH17)","v":-8.5304052177548328E-7},{"$f":"CHOOSE(m_identity,East!AI17, London!AI17, 'North West'!AI17, 'West Midlands'!AI17, Northern!AI17, Scotland!AI17, Southern!AI17, 'Wales & West'!AI17)","v":2.1238368020719989E-2},{"$f":"CHOOSE(m_identity,East!AJ17, London!AJ17, 'North West'!AJ17, 'West Midlands'!AJ17, Northern!AJ17, Scotland!AJ17, Southern!AJ17, 'Wales & West'!AJ17)","v":0.20500950116138306},{"$f":"CHOOSE(m_identity,East!AK17, London!AK17, 'North West'!AK17, 'West Midlands'!AK17, Northern!AK17, Scotland!AK17, Southern!AK17, 'Wales & West'!AK17)","v":0.20800442295421639},{"$f":"CHOOSE(m_identity,East!AL17, London!AL17, 'North West'!AL17, 'West Midlands'!AL17, Northern!AL17, Scotland!AL17, Southern!AL17, 'Wales & West'!AL17)","v":-2.6476908923078391},{"$f":"CHOOSE(m_identity,East!AM17, London!AM17, 'North West'!AM17, 'West Midlands'!AM17, Northern!AM17, Scotland!AM17, Southern!AM17, 'Wales & West'!AM17)","v":-3.9467600392068958},{"$f":"CHOOSE(m_identity,East!AN17, London!AN17, 'North West'!AN17, 'West Midlands'!AN17, Northern!AN17, Scotland!AN17, Southern!AN17, 'Wales & West'!AN17)","v":-5.1937163916232922},{"$f":"CHOOSE(m_identity,East!AO17, London!AO17, 'North West'!AO17, 'West Midlands'!AO17, Northern!AO17, Scotland!AO17, Southern!AO17, 'Wales & West'!AO17)","v":-5.8272863354473889}]
[null,null,null,null,"Allowed uncertain costs (Smart metering roll out costs)","3F","£m 09/10 prices","IAESM",null,null,null,null,null,null,null,null,null,null,null,null,null,null,null,null,null,null,null,null,null,null,null,null,null,{"$f":"CHOOSE(m_identity,East!AH18, London!AH18, 'North West'!AH18, 'West Midlands'!AH18, Northern!AH18, Scotland!AH18, Southern!AH18, 'Wales & West'!AH18)","v":0},{"$f":"CHOOSE(m_identity,East!AI18, London!AI18, 'North West'!AI18, 'West Midlands'!AI18, Northern!AI18, Scotland!AI18, Southern!AI18, 'Wales & West'!AI18)","v":0},{"$f":"CHOOSE(m_identity,East!AJ18, London!AJ18, 'North West'!AJ18, 'West Midlands'!AJ18, Northern!AJ18, Scotland!AJ18, Southern!AJ18, 'Wales & West'!AJ18)","v":0},{"$f":"CHOOSE(m_identity,East!AK18, London!AK18, 'North West'!AK18, 'West Midlands'!AK18, Northern!AK18, Scotland!AK18, Southern!AK18, 'Wales & West'!AK18)","v":0},{"$f":"CHOOSE(m_identity,East!AL18, London!AL18, 'North West'!AL18, 'West Midlands'!AL18, Northern!AL18, Scotland!AL18, Southern!AL18, 'Wales & West'!AL18)","v":0},{"$f":"CHOOSE(m_identity,East!AM18, London!AM18, 'North West'!AM18, 'West Midlands'!AM18, Northern!AM18, Scotland!AM18, Southern!AM18, 'Wales & West'!AM18)","v":0},{"$f":"CHOOSE(m_identity,East!AN18, London!AN18, 'North West'!AN18, 'West Midlands'!AN18, Northern!AN18, Scotland!AN18, Southern!AN18, 'Wales & West'!AN18)","v":0},{"$f":"CHOOSE(m_identity,East!AO18, London!AO18, 'North West'!AO18, 'West Midlands'!AO18, Northern!AO18, Scotland!AO18, Southern!AO18, 'Wales & West'!AO18)","v":0}]
[null,null,null,null,"Allowed uncertain costs (Mains and services replacement expenditure)","3E","£m 09/10 prices","RE",null,null,null,null,null,null,null,null,null,null,null,null,null,null,null,null,null,null,null,null,null,null,null,null,null,{"$f":"CHOOSE(m_identity,East!AH19, London!AH19, 'North West'!AH19, 'West Midlands'!AH19, Northern!AH19, Scotland!AH19, Southern!AH19, 'Wales & West'!AH19)","v":0.10560899999999998},{"$f":"CHOOSE(m_identity,East!AI19, London!AI19, 'North West'!AI19, 'West Midlands'!AI19, Northern!AI19, Scotland!AI19, Southern!AI19, 'Wales & West'!AI19)","v":0.182225},{"$f":"CHOOSE(m_identity,East!AJ19, London!AJ19, 'North West'!AJ19, 'West Midlands'!AJ19, Northern!AJ19, Scotland!AJ19, Southern!AJ19, 'Wales & West'!AJ19)","v":0.41686099999999998},{"$f":"CHOOSE(m_identity,East!AK19, London!AK19, 'North West'!AK19, 'West Midlands'!AK19, Northern!AK19, Scotland!AK19, Southern!AK19, 'Wales & West'!AK19)","v":0.94362146250000001},{"$f":"CHOOSE(m_identity,East!AL19, London!AL19, 'North West'!AL19, 'West Midlands'!AL19, Northern!AL19, Scotland!AL19, Southern!AL19, 'Wales & West'!AL19)","v":0.94362146250000001},{"$f":"CHOOSE(m_identity,East!AM19, London!AM19, 'North West'!AM19, 'West Midlands'!AM19, Northern!AM19, Scotland!AM19, Southern!AM19, 'Wales & West'!AM19)","v":0.94362146250000001},{"$f":"CHOOSE(m_identity,East!AN19, London!AN19, 'North West'!AN19, 'West Midlands'!AN19, Northern!AN19, Scotland!AN19, Southern!AN19, 'Wales & West'!AN19)","v":0.94362146250000001},{"$f":"CHOOSE(m_identity,East!AO19, London!AO19, 'North West'!AO19, 'West Midlands'!AO19, Northern!AO19, Scotland!AO19, Southern!AO19, 'Wales & West'!AO19)","v":0.94362146250000001}]
[null,null,null,null,"Allowed uncertain Costs (Large load connection costs)","3F","£m 09/10 prices","IAELLC",null,null,null,null,null,null,null,null,null,null,null,null,null,null,null,null,null,null,null,null,null,null,null,null,null,{"$f":"CHOOSE(m_identity,East!AH20, London!AH20, 'North West'!AH20, 'West Midlands'!AH20, Northern!AH20, Scotland!AH20, Southern!AH20, 'Wales & West'!AH20)","v":0},{"$f":"CHOOSE(m_identity,East!AI20, London!AI20, 'North West'!AI20, 'West Midlands'!AI20, Northern!AI20, Scotland!AI20, Southern!AI20, 'Wales & West'!AI20)","v":0},{"$f":"CHOOSE(m_identity,East!AJ20, London!AJ20, 'North West'!AJ20, 'West Midlands'!AJ20, Northern!AJ20, Scotland!AJ20, Southern!AJ20, 'Wales & West'!AJ20)","v":0},{"$f":"CHOOSE(m_identity,East!AK20, London!AK20, 'North West'!AK20, 'West Midlands'!AK20, Northern!AK20, Scotland!AK20, Southern!AK20, 'Wales & West'!AK20)","v":0},{"$f":"CHOOSE(m_identity,East!AL20, London!AL20, 'North West'!AL20, 'West Midlands'!AL20, Northern!AL20, Scotland!AL20, Southern!AL20, 'Wales & West'!AL20)","v":0},{"$f":"CHOOSE(m_identity,East!AM20, London!AM20, 'North West'!AM20, 'West Midlands'!AM20, Northern!AM20, Scotland!AM20, Southern!AM20, 'Wales & West'!AM20)","v":0},{"$f":"CHOOSE(m_identity,East!AN20, London!AN20, 'North West'!AN20, 'West Midlands'!AN20, Northern!AN20, Scotland!AN20, Southern!AN20, 'Wales & West'!AN20)","v":0},{"$f":"CHOOSE(m_identity,East!AO20, London!AO20, 'North West'!AO20, 'West Midlands'!AO20, Northern!AO20, Scotland!AO20, Southern!AO20, 'Wales & West'!AO20)","v":0}]
[null,null,null,null,"Allowed innovation roll-out mechanism","3D","£m 09/10 prices","IRM",null,null,null,null,null,null,null,null,null,null,null,null,null,null,null,null,null,null,null,null,null,null,null,null,null,{"$f":"CHOOSE(m_identity,East!AH21, London!AH21, 'North West'!AH21, 'West Midlands'!AH21, Northern!AH21, Scotland!AH21, Southern!AH21, 'Wales & West'!AH21)","v":0},{"$f":"CHOOSE(m_identity,East!AI21, London!AI21, 'North West'!AI21, 'West Midlands'!AI21, Northern!AI21, Scotland!AI21, Southern!AI21, 'Wales & West'!AI21)","v":0},{"$f":"CHOOSE(m_identity,East!AJ21, London!AJ21, 'North West'!AJ21, 'West Midlands'!AJ21, Northern!AJ21, Scotland!AJ21, Southern!AJ21, 'Wales & West'!AJ21)","v":0},{"$f":"CHOOSE(m_identity,East!AK21, London!AK21, 'North West'!AK21, 'West Midlands'!AK21, Northern!AK21, Scotland!AK21, Southern!AK21, 'Wales & West'!AK21)","v":0},{"$f":"CHOOSE(m_identity,East!AL21, London!AL21, 'North West'!AL21, 'West Midlands'!AL21, Northern!AL21, Scotland!AL21, Southern!AL21, 'Wales & West'!AL21)","v":0},{"$f":"CHOOSE(m_identity,East!AM21, London!AM21, 'North West'!AM21, 'West Midlands'!AM21, Northern!AM21, Scotland!AM21, Southern!AM21, 'Wales & West'!AM21)","v":0},{"$f":"CHOOSE(m_identity,East!AN21, London!AN21, 'North West'!AN21, 'West Midlands'!AN21, Northern!AN21, Scotland!AN21, Southern!AN21, 'Wales & West'!AN21)","v":0},{"$f":"CHOOSE(m_identity,East!AO21, London!AO21, 'North West'!AO21, 'West Midlands'!AO21, Northern!AO21, Scotland!AO21, Southern!AO21, 'Wales & West'!AO21)","v":0}]
[null,null,null,null,"NTS Exit Capacity costs","1D","£m 09/10 prices","AEx",null,null,null,null,null,null,null,null,null,null,null,null,null,null,null,null,null,null,null,null,null,null,null,null,null,{"$f":"CHOOSE(m_identity,East!AH22, London!AH22, 'North West'!AH22, 'West Midlands'!AH22, Northern!AH22, Scotland!AH22, Southern!AH22, 'Wales & West'!AH22)","v":24.741315956933445},{"$f":"CHOOSE(m_identity,East!AI22, London!AI22, 'North West'!AI22, 'West Midlands'!AI22, Northern!AI22, Scotland!AI22, Southern!AI22, 'Wales & West'!AI22)","v":24.720070711637774},{"$f":"CHOOSE(m_identity,East!AJ22, London!AJ22, 'North West'!AJ22, 'West Midlands'!AJ22, Northern!AJ22, Scotland!AJ22, Southern!AJ22, 'Wales & West'!AJ22)","v":24.679625652967726},{"$f":"CHOOSE(m_identity,East!AK22, London!AK22, 'North West'!AK22, 'West Midlands'!AK22, Northern!AK22, Scotland!AK22, Southern!AK22, 'Wales & West'!AK22)","v":24.679625652967726},{"$f":"CHOOSE(m_identity,East!AL22, London!AL22, 'North West'!AL22, 'West Midlands'!AL22, Northern!AL22, Scotland!AL22, Southern!AL22, 'Wales & West'!AL22)","v":24.679625652967726},{"$f":"CHOOSE(m_identity,East!AM22, London!AM22, 'North West'!AM22, 'West Midlands'!AM22, Northern!AM22, Scotland!AM22, Southern!AM22, 'Wales & West'!AM22)","v":24.679625652967726},{"$f":"CHOOSE(m_identity,East!AN22, London!AN22, 'North West'!AN22, 'West Midlands'!AN22, Northern!AN22, Scotland!AN22, Southern!AN22, 'Wales & West'!AN22)","v":24.679625652967726},{"$f":"CHOOSE(m_identity,East!AO22, London!AO22, 'North West'!AO22, 'West Midlands'!AO22, Northern!AO22, Scotland!AO22, Southern!AO22, 'Wales & West'!AO22)","v":24.679625652967726}]
[null,null,null,null,"Shrinkage costs","1F","£m 09/10 prices","ALSC",null,null,null,null,null,null,null,null,null,null,null,null,null,null,null,null,null,null,null,null,null,null,null,null,null,{"$f":"CHOOSE(m_identity,East!AH23, London!AH23, 'North West'!AH23, 'West Midlands'!AH23, Northern!AH23, Scotland!AH23, Southern!AH23, 'Wales & West'!AH23)","v":11.826470463750899},{"$f":"CHOOSE(m_identity,East!AI23, London!AI23, 'North West'!AI23, 'West Midlands'!AI23, Northern!AI23, Scotland!AI23, Southern!AI23, 'Wales & West'!AI23)","v":10.8},{"$f":"CHOOSE(m_identity,East!AJ23, London!AJ23, 'North West'!AJ23, 'West Midlands'!AJ23, Northern!AJ23, Scotland!AJ23, Southern!AJ23, 'Wales & West'!AJ23)","v":10.67},{"$f":"CHOOSE(m_identity,East!AK23, London!AK23, 'North West'!AK23, 'West Midlands'!AK23, Northern!AK23, Scotland!AK23, Southern!AK23, 'Wales & West'!AK23)","v":7.92},{"$f":"CHOOSE(m_identity,East!AL23, London!AL23, 'North West'!AL23, 'West Midlands'!AL23, Northern!AL23, Scotland!AL23, Southern!AL23, 'Wales & West'!AL23)","v":7.74},{"$f":"CHOOSE(m_identity,East!AM23, London!AM23, 'North West'!AM23, 'West Midlands'!AM23, Northern!AM23, Scotland!AM23, Southern!AM23, 'Wales & West'!AM23)","v":7.55},{"$f":"CHOOSE(m_identity,East!AN23, London!AN23, 'North West'!AN23, 'West Midlands'!AN23, Northern!AN23, Scotland!AN23, Southern!AN23, 'Wales & West'!AN23)","v":7.36},{"$f":"CHOOSE(m_identity,East!AO23, London!AO23, 'North West'!AO23, 'West Midlands'!AO23, Northern!AO23, Scotland!AO23, Southern!AO23, 'Wales & West'!AO23)","v":7.18}]
[null,null,null,null,"Tax liability allowance adjustments - gearing/interest costs","3C","£m nominal","TGIE",null,null,null,null,null,null,null,null,null,null,null,null,null,null,null,null,null,null,null,null,null,null,null,null,null,{"$f":"CHOOSE(m_identity,East!AH24, London!AH24, 'North West'!AH24, 'West Midlands'!AH24, Northern!AH24, Scotland!AH24, Southern!AH24, 'Wales & West'!AH24)","v":0},{"$f":"CHOOSE(m_identity,East!AI24, London!AI24, 'North West'!AI24, 'West Midlands'!AI24, Northern!AI24, Scotland!AI24, Southern!AI24, 'Wales & West'!AI24)","v":0},{"$f":"CHOOSE(m_identity,East!AJ24, London!AJ24, 'North West'!AJ24, 'West Midlands'!AJ24, Northern!AJ24, Scotland!AJ24, Southern!AJ24, 'Wales & West'!AJ24)","v":0},{"$f":"CHOOSE(m_identity,East!AK24, London!AK24, 'North West'!AK24, 'West Midlands'!AK24, Northern!AK24, Scotland!AK24, Southern!AK24, 'Wales & West'!AK24)","v":0},{"$f":"CHOOSE(m_identity,East!AL24, London!AL24, 'North West'!AL24, 'West Midlands'!AL24, Northern!AL24, Scotland!AL24, Southern!AL24, 'Wales & West'!AL24)","v":0},{"$f":"CHOOSE(m_identity,East!AM24, London!AM24, 'North West'!AM24, 'West Midlands'!AM24, Northern!AM24, Scotland!AM24, Southern!AM24, 'Wales & West'!AM24)","v":0},{"$f":"CHOOSE(m_identity,East!AN24, London!AN24, 'North West'!AN24, 'West Midlands'!AN24, Northern!AN24, Scotland!AN24, Southern!AN24, 'Wales & West'!AN24)","v":0},{"$f":"CHOOSE(m_identity,East!AO24, London!AO24, 'North West'!AO24, 'West Midlands'!AO24, Northern!AO24, Scotland!AO24, Southern!AO24, 'Wales & West'!AO24)","v":0}]
[null,null,null,null,"Tax liability allowance adjustments - driven by tax trigger events","3C","£m 09/10 prices","TTE",null,null,null,null,null,null,null,null,null,null,null,null,null,null,null,null,null,null,null,null,null,null,null,null,null,{"$f":"CHOOSE(m_identity,East!AH25, London!AH25, 'North West'!AH25, 'West Midlands'!AH25, Northern!AH25, Scotland!AH25, Southern!AH25, 'Wales & West'!AH25)","v":0},{"$f":"CHOOSE(m_identity,East!AI25, London!AI25, 'North West'!AI25, 'West Midlands'!AI25, Northern!AI25, Scotland!AI25, Southern!AI25, 'Wales & West'!AI25)","v":0},{"$f":"CHOOSE(m_identity,East!AJ25, London!AJ25, 'North West'!AJ25, 'West Midlands'!AJ25, Northern!AJ25, Scotland!AJ25, Southern!AJ25, 'Wales & West'!AJ25)","v":-0.36198699073049312},{"$f":"CHOOSE(m_identity,East!AK25, London!AK25, 'North West'!AK25, 'West Midlands'!AK25, Northern!AK25, Scotland!AK25, Southern!AK25, 'Wales & West'!AK25)","v":-0.38204674206826184},{"$f":"CHOOSE(m_identity,East!AL25, London!AL25, 'North West'!AL25, 'West Midlands'!AL25, Northern!AL25, Scotland!AL25, Southern!AL25, 'Wales & West'!AL25)","v":-2.5688584201412965},{"$f":"CHOOSE(m_identity,East!AM25, London!AM25, 'North West'!AM25, 'West Midlands'!AM25, Northern!AM25, Scotland!AM25, Southern!AM25, 'Wales & West'!AM25)","v":0},{"$f":"CHOOSE(m_identity,East!AN25, London!AN25, 'North West'!AN25, 'West Midlands'!AN25, Northern!AN25, Scotland!AN25, Southern!AN25, 'Wales & West'!AN25)","v":0},{"$f":"CHOOSE(m_identity,East!AO25, London!AO25, 'North West'!AO25, 'West Midlands'!AO25, Northern!AO25, Scotland!AO25, Southern!AO25, 'Wales & West'!AO25)","v":0}]
[null,null,null,null,"Pension scheme administration and Pension Protection Fund Levy","3C","£m 09/10 prices","APFE",null,null,null,null,null,null,null,null,null,null,null,null,null,null,null,null,null,null,null,null,null,null,null,null,null,{"$f":"CHOOSE(m_identity,East!AH26, London!AH26, 'North West'!AH26, 'West Midlands'!AH26, Northern!AH26, Scotland!AH26, Southern!AH26, 'Wales & West'!AH26)","v":9.3511641421976086E-2},{"$f":"CHOOSE(m_identity,East!AI26, London!AI26, 'North West'!AI26, 'West Midlands'!AI26, Northern!AI26, Scotland!AI26, Southern!AI26, 'Wales & West'!AI26)","v":9.3511641421976086E-2},{"$f":"CHOOSE(m_identity,East!AJ26, London!AJ26, 'North West'!AJ26, 'West Midlands'!AJ26, Northern!AJ26, Scotland!AJ26, Southern!AJ26, 'Wales & West'!AJ26)","v":9.3511641421976086E-2},{"$f":"CHOOSE(m_identity,East!AK26, London!AK26, 'North West'!AK26, 'West Midlands'!AK26, Northern!AK26, Scotland!AK26, Southern!AK26, 'Wales & West'!AK26)","v":9.3511641421976086E-2},{"$f":"CHOOSE(m_identity,East!AL26, London!AL26, 'North West'!AL26, 'West Midlands'!AL26, Northern!AL26, Scotland!AL26, Southern!AL26, 'Wales & West'!AL26)","v":9.3511641421976086E-2},{"$f":"CHOOSE(m_identity,East!AM26, London!AM26, 'North West'!AM26, 'West Midlands'!AM26, Northern!AM26, Scotland!AM26, Southern!AM26, 'Wales & West'!AM26)","v":9.3511641421976086E-2},{"$f":"CHOOSE(m_identity,East!AN26, London!AN26, 'North West'!AN26, 'West Midlands'!AN26, Northern!AN26, Scotland!AN26, Southern!AN26, 'Wales & West'!AN26)","v":9.3511641421976086E-2},{"$f":"CHOOSE(m_identity,East!AO26, London!AO26, 'North West'!AO26, 'West Midlands'!AO26, Northern!AO26, Scotland!AO26, Southern!AO26, 'Wales & West'!AO26)","v":9.3511641421976086E-2}]
[null,null,null,null,"Pension scheme deficit revenue allowances","3C","£m 09/10 prices","EDE",null,null,null,null,null,null,null,null,null,null,null,null,null,null,null,null,null,null,null,null,null,null,null,null,null,{"$f":"CHOOSE(m_identity,East!AH27, London!AH27, 'North West'!AH27, 'West Midlands'!AH27, Northern!AH27, Scotland!AH27, Southern!AH27, 'Wales & West'!AH27)","v":4.3561575242036632},{"$f":"CHOOSE(m_identity,East!AI27, London!AI27, 'North West'!AI27, 'West Midlands'!AI27, Northern!AI27, Scotland!AI27, Southern!AI27, 'Wales & West'!AI27)","v":4.3561575242036632},{"$f":"CHOOSE(m_identity,East!AJ27, London!AJ27, 'North West'!AJ27, 'West Midlands'!AJ27, Northern!AJ27, Scotland!AJ27, Southern!AJ27, 'Wales & West'!AJ27)","v":3.4866155722048706},{"$f":"CHOOSE(m_identity,East!AK27, London!AK27, 'North West'!AK27, 'West Midlands'!AK27, Northern!AK27, Scotland!AK27, Southern!AK27, 'Wales & West'!AK27)","v":3.4866155722048706},{"$f":"CHOOSE(m_identity,East!AL27, London!AL27, 'North West'!AL27, 'West Midlands'!AL27, Northern!AL27, Scotland!AL27, Southern!AL27, 'Wales & West'!AL27)","v":3.4866155722048706},{"$f":"CHOOSE(m_identity,East!AM27, London!AM27, 'North West'!AM27, 'West Midlands'!AM27, Northern!AM27, Scotland!AM27, Southern!AM27, 'Wales & West'!AM27)","v":3.4866155722048706},{"$f":"CHOOSE(m_identity,East!AN27, London!AN27, 'North West'!AN27, 'West Midlands'!AN27, Northern!AN27, Scotland!AN27, Southern!AN27, 'Wales & West'!AN27)","v":3.4866155722048706},{"$f":"CHOOSE(m_identity,East!AO27, London!AO27, 'North West'!AO27, 'West Midlands'!AO27, Northern!AO27, Scotland!AO27, Southern!AO27, 'Wales & West'!AO27)","v":3.4866155722048706}]
[null,null,null,null,"Legacy price control allowed revenue adjustment","3A","£m 09/10 prices","LAR",null,null,null,null,null,null,null,null,null,null,null,null,null,null,null,null,null,null,null,null,null,null,null,null,null,{"$f":"CHOOSE(m_identity,East!AH28, London!AH28, 'North West'!AH28, 'West Midlands'!AH28, Northern!AH28, Scotland!AH28, Southern!AH28, 'Wales & West'!AH28)","v":1.2086076135375989}]
[null,null,null,null,"Legacy price control RAV additions adjustment","3A","£m 09/10 prices","LRAV",null,null,null,null,null,null,null,null,null,null,null,null,null,null,null,null,null,null,null,null,null,null,null,null,null,{"$f":"CHOOSE(m_identity,East!AH29, London!AH29, 'North West'!AH29, 'West Midlands'!AH29, Northern!AH29, Scotland!AH29, Southern!AH29, 'Wales & West'!AH29)","v":-3.4376013621925008}]
[]
[null,"Policy"]
[]
[null,null,"Cost of capital"]
[]
[null,null,null,null,"Cost of debt",null,"annual real %",null,null,null,null,null,null,null,null,null,null,null,null,null,null,null,null,null,null,null,null,null,null,null,null,null,null,{"$f":"AH8","v":2.92E-2},2.7199999999999998E-2,2.5499999999999998E-2,2.3800000000000002E-2,2.2200000000000001E-2,2.2200000000000001E-2,2.2200000000000001E-2,2.2200000000000001E-2]
[null,null,null,null,"Cost of equity",null,"annual real %",null,null,null,null,null,null,null,null,null,null,null,null,null,null,null,null,null,null,null,null,null,null,null,null,null,null,{"$f":"CHOOSE(m_identity,East!AH36, London!AH36, 'North West'!AH36, 'West Midlands'!AH36, Northern!AH36, Scotland!AH36, Southern!AH36, 'Wales & West'!AH36)","v":6.7000000000000004E-2},{"$f":"CHOOSE(m_identity,East!AI36, London!AI36, 'North West'!AI36, 'West Midlands'!AI36, Northern!AI36, Scotland!AI36, Southern!AI36, 'Wales & West'!AI36)","v":6.7000000000000004E-2},{"$f":"CHOOSE(m_identity,East!AJ36, London!AJ36, 'North West'!AJ36, 'West Midlands'!AJ36, Northern!AJ36, Scotland!AJ36, Southern!AJ36, 'Wales & West'!AJ36)","v":6.7000000000000004E-2},{"$f":"CHOOSE(m_identity,East!AK36, London!AK36, 'North West'!AK36, 'West Midlands'!AK36, Northern!AK36, Scotland!AK36, Southern!AK36, 'Wales & West'!AK36)","v":6.7000000000000004E-2},{"$f":"CHOOSE(m_identity,East!AL36, London!AL36, 'North West'!AL36, 'West Midlands'!AL36, Northern!AL36, Scotland!AL36, Southern!AL36, 'Wales & West'!AL36)","v":6.7000000000000004E-2},{"$f":"CHOOSE(m_identity,East!AM36, London!AM36, 'North West'!AM36, 'West Midlands'!AM36, Northern!AM36, Scotland!AM36, Southern!AM36, 'Wales & West'!AM36)","v":6.7000000000000004E-2},{"$f":"CHOOSE(m_identity,East!AN36, London!AN36, 'North West'!AN36, 'West Midlands'!AN36, Northern!AN36, Scotland!AN36, Southern!AN36, 'Wales & West'!AN36)","v":6.7000000000000004E-2},{"$f":"CHOOSE(m_identity,East!AO36, London!AO36, 'North West'!AO36, 'West Midlands'!AO36, Northern!AO36, Scotland!AO36, Southern!AO36, 'Wales & West'!AO36)","v":6.7000000000000004E-2}]
[null,null,null,null,"Notional gearing",null,"%",null,null,">",null,null,null,null,null,null,null,null,null,null,null,null,null,null,null,null,null,null,null,null,null,null,{"$f":"CHOOSE(m_identity,East!AG37, London!AG37, 'North West'!AG37, 'West Midlands'!AG37, Northern!AG37, Scotland!AG37, Southern!AG37, 'Wales & West'!AG37)","v":0.625},{"$f":"CHOOSE(m_identity,East!AH37, London!AH37, 'North West'!AH37, 'West Midlands'!AH37, Northern!AH37, Scotland!AH37, Southern!AH37, 'Wales & West'!AH37)","v":0.65},{"$f":"CHOOSE(m_identity,East!AI37, London!AI37, 'North West'!AI37, 'West Midlands'!AI37, Northern!AI37, Scotland!AI37, Southern!AI37, 'Wales & West'!AI37)","v":0.65},{"$f":"CHOOSE(m_identity,East!AJ37, London!AJ37, 'North West'!AJ37, 'West Midlands'!AJ37, Northern!AJ37, Scotland!AJ37, Southern!AJ37, 'Wales & West'!AJ37)","v":0.65},{"$f":"CHOOSE(m_identity,East!AK37, London!AK37, 'North West'!AK37, 'West Midlands'!AK37, Northern!AK37, Scotland!AK37, Southern!AK37, 'Wales & West'!AK37)","v":0.65},{"$f":"CHOOSE(m_identity,East!AL37, London!AL37, 'North West'!AL37, 'West Midlands'!AL37, Northern!AL37, Scotland!AL37, Southern!AL37, 'Wales & West'!AL37)","v":0.65},{"$f":"CHOOSE(m_identity,East!AM37, London!AM37, 'North West'!AM37, 'West Midlands'!AM37, Northern!AM37, Scotland!AM37, Southern!AM37, 'Wales & West'!AM37)","v":0.65},{"$f":"CHOOSE(m_identity,East!AN37, London!AN37, 'North West'!AN37, 'West Midlands'!AN37, Northern!AN37, Scotland!AN37, Southern!AN37, 'Wales & West'!AN37)","v":0.65},{"$f":"CHOOSE(m_identity,East!AO37, London!AO37, 'North West'!AO37, 'West Midlands'!AO37, Northern!AO37, Scotland!AO37, Southern!AO37, 'Wales & West'!AO37)","v":0.65}]
[]
[null,null,null,null,"Vanilla WACC",null,"annual real %",null,null,null,null,null,null,null,null,null,null,null,null,null,null,null,null,null,null,null,null,null,null,null,null,null,null,{"$f":"(AH35 * AH37) + (AH36 * (1 - AH37))","v":4.2429999999999995E-2},4.113E-2,4.0024999999999998E-2,3.8919999999999996E-2,3.7879999999999997E-2,3.7879999999999997E-2,3.7879999999999997E-2,3.7879999999999997E-2]
[]
[null,null,null,null,"Pre-RIIO closing notional gearing",null,"%",null,{"$f":"CHOOSE(m_identity,East!I41, London!I41, 'North West'!I41, 'West Midlands'!I41, Northern!I41, Scotland!I41, Southern!I41, 'Wales & West'!I41)","v":0.625}]
[]
[null,null,null,null,"Forecast RPI (simple average year to March)",null,"index value",null,null,">",null,null,null,null,null,null,null,null,null,null,null,{"$f":"CHOOSE(m_identity, East!V43, London!V43, 'North West'!V43, 'West Midlands'!V43, Northern!V43, Scotland!V43, Southern!V43, 'Wales & West'!V43)","v":173.875},{"$f":"CHOOSE(m_identity, East!W43, London!W43, 'North West'!W43, 'West Midlands'!W43, Northern!W43, Scotland!W43, Southern!W43, 'Wales & West'!W43)","v":177.517},{"$f":"CHOOSE(m_identity, East!X43, London!X43, 'North West'!X43, 'West Midlands'!X43, Northern!X43, Scotland!X43, Southern!X43, 'Wales & West'!X43)","v":182.47499999999999},{"$f":"CHOOSE(m_identity, East!Y43, London!Y43, 'North West'!Y43, 'West Midlands'!Y43, Northern!Y43, Scotland!Y43, Southern!Y43, 'Wales & West'!Y43)","v":188.15},{"$f":"CHOOSE(m_identity, East!Z43, London!Z43, 'North West'!Z43, 'West Midlands'!Z43, Northern!Z43, Scotland!Z43, Southern!Z43, 'Wales & West'!Z43)","v":193.108},{"$f":"CHOOSE(m_identity, East!AA43, London!AA43, 'North West'!AA43, 'West Midlands'!AA43, Northern!AA43, Scotland!AA43, Southern!AA43, 'Wales & West'!AA43)","v":200.31700000000001},{"$f":"CHOOSE(m_identity, East!AB43, London!AB43, 'North West'!AB43, 'West Midlands'!AB43, Northern!AB43, Scotland!AB43, Southern!AB43, 'Wales & West'!AB43)","v":208.59200000000001},{"$f":"CHOOSE(m_identity, East!AC43, London!AC43, 'North West'!AC43, 'West Midlands'!AC43, Northern!AC43, Scotland!AC43, Southern!AC43, 'Wales & West'!AC43)","v":214.78299999999999},{"$f":"CHOOSE(m_identity, East!AD43, London!AD43, 'North West'!AD43, 'West Midlands'!AD43, Northern!AD43, Scotland!AD43, Southern!AD43, 'Wales & West'!AD43)","v":215.767},{"$f":"CHOOSE(m_identity, East!AE43, London!AE43, 'North West'!AE43, 'West Midlands'!AE43, Northern!AE43, Scotland!AE43, Southern!AE43, 'Wales & West'!AE43)","v":226.47499999999999},{"$f":"CHOOSE(m_identity, East!AF43, London!AF43, 'North West'!AF43, 'West Midlands'!AF43, Northern!AF43, Scotland!AF43, Southern!AF43, 'Wales & West'!AF43)","v":237.34200000000001},{"$f":"CHOOSE(m_identity, East!AG43, London!AG43, 'North West'!AG43, 'West Midlands'!AG43, Northern!AG43, Scotland!AG43, Southern!AG43, 'Wales & West'!AG43)","v":243.988},{"$f":"CHOOSE(m_identity, East!AH43, London!AH43, 'North West'!AH43, 'West Midlands'!AH43, Northern!AH43, Scotland!AH43, Southern!AH43, 'Wales & West'!AH43)","v":250.82},{"$f":"CHOOSE(m_identity, East!AI43, London!AI43, 'North West'!AI43, 'West Midlands'!AI43, Northern!AI43, Scotland!AI43, Southern!AI43, 'Wales & West'!AI43)","v":257.84300000000002},{"$f":"CHOOSE(m_identity, East!AJ43, London!AJ43, 'North West'!AJ43, 'West Midlands'!AJ43, Northern!AJ43, Scotland!AJ43, Southern!AJ43, 'Wales & West'!AJ43)","v":265.06299999999999},{"$f":"CHOOSE(m_identity, East!AK43, London!AK43, 'North West'!AK43, 'West Midlands'!AK43, Northern!AK43, Scotland!AK43, Southern!AK43, 'Wales & West'!AK43)","v":272.48500000000001},{"$f":"CHOOSE(m_identity, East!AL43, London!AL43, 'North West'!AL43, 'West Midlands'!AL43, Northern!AL43, Scotland!AL43, Southern!AL43, 'Wales & West'!AL43)","v":280.11500000000001},{"$f":"CHOOSE(m_identity, East!AM43, London!AM43, 'North West'!AM43, 'West Midlands'!AM43, Northern!AM43, Scotland!AM43, Southern!AM43, 'Wales & West'!AM43)","v":287.95800000000003},{"$f":"CHOOSE(m_identity, East!AN43, London!AN43, 'North West'!AN43, 'West Midlands'!AN43, Northern!AN43, Scotland!AN43, Southern!AN43, 'Wales & West'!AN43)","v":296.02100000000002},{"$f":"CHOOSE(m_identity, East!AO43, London!AO43, 'North West'!AO43, 'West Midlands'!AO43, Northern!AO43, Scotland!AO43, Southern!AO43, 'Wales & West'!AO43)","v":304.31}]
[null,null,null,null,"RPI assumption for interest costs",null,"index value",null,null,">",null,null,null,null,null,null,null,null,null,null,null,{"$f":"CHOOSE(m_identity, East!V44, London!V44, 'North West'!V44, 'West Midlands'!V44, Northern!V44, Scotland!V44, Southern!V44, 'Wales & West'!V44)","v":173.875},{"$f":"CHOOSE(m_identity, East!W44, London!W44, 'North West'!W44, 'West Midlands'!W44, Northern!W44, Scotland!W44, Southern!W44, 'Wales & West'!W44)","v":177.517},{"$f":"CHOOSE(m_identity, East!X44, London!X44, 'North West'!X44, 'West Midlands'!X44, Northern!X44, Scotland!X44, Southern!X44, 'Wales & West'!X44)","v":182.47499999999999},{"$f":"CHOOSE(m_identity, East!Y44, London!Y44, 'North West'!Y44, 'West Midlands'!Y44, Northern!Y44, Scotland!Y44, Southern!Y44, 'Wales & West'!Y44)","v":188.15},{"$f":"CHOOSE(m_identity, East!Z44, London!Z44, 'North West'!Z44, 'West Midlands'!Z44, Northern!Z44, Scotland!Z44, Southern!Z44, 'Wales & West'!Z44)","v":193.108},{"$f":"CHOOSE(m_identity, East!AA44, London!AA44, 'North West'!AA44, 'West Midlands'!AA44, Northern!AA44, Scotland!AA44, Southern!AA44, 'Wales & West'!AA44)","v":200.31700000000001},{"$f":"CHOOSE(m_identity, East!AB44, London!AB44, 'North West'!AB44, 'West Midlands'!AB44, Northern!AB44, Scotland!AB44, Southern!AB44, 'Wales & West'!AB44)","v":208.59200000000001},{"$f":"CHOOSE(m_identity, East!AC44, London!AC44, 'North West'!AC44, 'West Midlands'!AC44, Northern!AC44, Scotland!AC44, Southern!AC44, 'Wales & West'!AC44)","v":214.78299999999999},{"$f":"CHOOSE(m_identity, East!AD44, London!AD44, 'North West'!AD44, 'West Midlands'!AD44, Northern!AD44, Scotland!AD44, Southern!AD44, 'Wales & West'!AD44)","v":215.767},{"$f":"CHOOSE(m_identity, East!AE44, London!AE44, 'North West'!AE44, 'West Midlands'!AE44, Northern!AE44, Scotland!AE44, Southern!AE44, 'Wales & West'!AE44)","v":226.47499999999999},{"$f":"CHOOSE(m_identity, East!AF44, London!AF44, 'North West'!AF44, 'West Midlands'!AF44, Northern!AF44, Scotland!AF44, Southern!AF44, 'Wales & West'!AF44)","v":237.34200000000001},{"$f":"CHOOSE(m_identity, East!AG44, London!AG44, 'North West'!AG44, 'West Midlands'!AG44, Northern!AG44, Scotland!AG44, Southern!AG44, 'Wales & West'!AG44)","v":243.988},{"$f":"CHOOSE(m_identity, East!AH44, London!AH44, 'North West'!AH44, 'West Midlands'!AH44, Northern!AH44, Scotland!AH44, Southern!AH44, 'Wales & West'!AH44)","v":250.82},{"$f":"CHOOSE(m_identity, East!AI44, London!AI44, 'North West'!AI44, 'West Midlands'!AI44, Northern!AI44, Scotland!AI44, Southern!AI44, 'Wales & West'!AI44)","v":257.84300000000002},{"$f":"CHOOSE(m_identity, East!AJ44, London!AJ44, 'North West'!AJ44, 'West Midlands'!AJ44, Northern!AJ44, Scotland!AJ44, Southern!AJ44, 'Wales & West'!AJ44)","v":265.06299999999999},{"$f":"CHOOSE(m_identity, East!AK44, London!AK44, 'North West'!AK44, 'West Midlands'!AK44, Northern!AK44, Scotland!AK44, Southern!AK44, 'Wales & West'!AK44)","v":272.48500000000001},{"$f":"CHOOSE(m_identity, East!AL44, London!AL44, 'North West'!AL44, 'West Midlands'!AL44, Northern!AL44, Scotland!AL44, Southern!AL44, 'Wales & West'!AL44)","v":280.11500000000001},{"$f":"CHOOSE(m_identity, East!AM44, London!AM44, 'North West'!AM44, 'West Midlands'!AM44, Northern!AM44, Scotland!AM44, Southern!AM44, 'Wales & West'!AM44)","v":287.95800000000003},{"$f":"CHOOSE(m_identity, East!AN44, London!AN44, 'North West'!AN44, 'West Midlands'!AN44, Northern!AN44, Scotland!AN44, Southern!AN44, 'Wales & West'!AN44)","v":296.02100000000002},{"$f":"CHOOSE(m_identity, East!AO44, London!AO44, 'North West'!AO44, 'West Midlands'!AO44, Northern!AO44, Scotland!AO44, Southern!AO44, 'Wales & West'!AO44)","v":304.31}]
[null,null,"TIM and capitalisation"]
[]
[null,null,null,null,"Years from t until normal reporting of actual costs",null,"years",null,{"$f":"CHOOSE(m_identity,East!I47, London!I47, 'North West'!I47, 'West Midlands'!I47, Northern!I47, Scotland!I47, Southern!I47, 'Wales & West'!I47)","v":2}]
[]
[null,null,null,null,"Capitalised share of totex (excluding repex)",null,"%",null,null,null,null,null,null,null,null,null,null,null,null,null,null,null,null,null,null,null,null,null,null,null,null,null,null,{"$f":"CHOOSE(m_identity, East!AH49, London!AH49, 'North West'!AH49, 'West Midlands'!AH49, Northern!AH49, Scotland!AH49, Southern!AH49, 'Wales & West'!AH49)","v":0.26634501855794862},{"$f":"CHOOSE(m_identity, East!AI49, London!AI49, 'North West'!AI49, 'West Midlands'!AI49, Northern!AI49, Scotland!AI49, Southern!AI49, 'Wales & West'!AI49)","v":0.26634501855794862},{"$f":"CHOOSE(m_identity, East!AJ49, London!AJ49, 'North West'!AJ49, 'West Midlands'!AJ49, Northern!AJ49, Scotland!AJ49, Southern!AJ49, 'Wales & West'!AJ49)","v":0.26634501855794862},{"$f":"CHOOSE(m_identity, East!AK49, London!AK49, 'North West'!AK49, 'West Midlands'!AK49, Northern!AK49, Scotland!AK49, Southern!AK49, 'Wales & West'!AK49)","v":0.26634501855794862},{"$f":"CHOOSE(m_identity, East!AL49, London!AL49, 'North West'!AL49, 'West Midlands'!AL49, Northern!AL49, Scotland!AL49, Southern!AL49, 'Wales & West'!AL49)","v":0.26634501855794862},{"$f":"CHOOSE(m_identity, East!AM49, London!AM49, 'North West'!AM49, 'West Midlands'!AM49, Northern!AM49, Scotland!AM49, Southern!AM49, 'Wales & West'!AM49)","v":0.26634501855794862},{"$f":"CHOOSE(m_identity, East!AN49, London!AN49, 'North West'!AN49, 'West Midlands'!AN49, Northern!AN49, Scotland!AN49, Southern!AN49, 'Wales & West'!AN49)","v":0.26634501855794862},{"$f":"CHOOSE(m_identity, East!AO49, London!AO49, 'North West'!AO49, 'West Midlands'!AO49, Northern!AO49, Scotland!AO49, Southern!AO49, 'Wales & West'!AO49)","v":0.26634501855794862}]
[null,null,null,null,"Capitalised share of repex",null,"%",null,null,null,null,null,null,null,null,null,null,null,null,null,null,null,null,null,null,null,null,null,null,null,null,null,null,{"$f":"CHOOSE(m_identity, East!AH50, London!AH50, 'North West'!AH50, 'West Midlands'!AH50, Northern!AH50, Scotland!AH50, Southern!AH50, 'Wales & West'!AH50)","v":0.5},{"$f":"CHOOSE(m_identity, East!AI50, London!AI50, 'North West'!AI50, 'West Midlands'!AI50, Northern!AI50, Scotland!AI50, Southern!AI50, 'Wales & West'!AI50)","v":0.5714285714285714},{"$f":"CHOOSE(m_identity, East!AJ50, London!AJ50, 'North West'!AJ50, 'West Midlands'!AJ50, Northern!AJ50, Scotland!AJ50, Southern!AJ50, 'Wales & West'!AJ50)","v":0.64285714285714279},{"$f":"CHOOSE(m_identity, East!AK50, London!AK50, 'North West'!AK50, 'West Midlands'!AK50, Northern!AK50, Scotland!AK50, Southern!AK50, 'Wales & West'!AK50)","v":0.71428571428571419},{"$f":"CHOOSE(m_identity, East!AL50, London!AL50, 'North West'!AL50, 'West Midlands'!AL50, Northern!AL50, Scotland!AL50, Southern!AL50, 'Wales & West'!AL50)","v":0.78571428571428559},{"$f":"CHOOSE(m_identity, East!AM50, London!AM50, 'North West'!AM50, 'West Midlands'!AM50, Northern!AM50, Scotland!AM50, Southern!AM50, 'Wales & West'!AM50)","v":0.85714285714285698},{"$f":"CHOOSE(m_identity, East!AN50, London!AN50, 'North West'!AN50, 'West Midlands'!AN50, Northern!AN50, Scotland!AN50, Southern!AN50, 'Wales & West'!AN50)","v":0.92857142857142838},{"$f":"CHOOSE(m_identity, East!AO50, London!AO50, 'North West'!AO50, 'West Midlands'!AO50, Northern!AO50, Scotland!AO50, Southern!AO50, 'Wales & West'!AO50)","v":1}]
[]
[null,null,null,null,"Incentive rate (slope)",null,"scalar",null,{"$f":"CHOOSE(m_identity,East!I52, London!I52, 'North West'!I52, 'West Midlands'!I52, Northern!I52, Scotland!I52, Southern!I52, 'Wales & West'!I52)","v":-1.666666666666667E-3}]
[null,null,null,null,"Incentive rate (intercept)",null,"scalar",null,{"$f":"CHOOSE(m_identity,East!I53, London!I53, 'North West'!I53, 'West Midlands'!I53, Northern!I53, Scotland!I53, Southern!I53, 'Wales & West'!I53)","v":0.81666666666666665}]
[null,null,null,null,"Additional income (intercept)",null,"scalar",null,{"$f":"CHOOSE(m_identity,East!I54, London!I54, 'North West'!I54, 'West Midlands'!I54, Northern!I54, Scotland!I54, Southern!I54, 'Wales & West'!I54)","v":14.583333333333332}]
[]
[null,null,null,null,"Weight of Ofgem's view on price control totex",null,"%",null,{"$f":"CHOOSE(m_identity,East!I56, London!I56, 'North West'!I56, 'West Midlands'!I56, Northern!I56, Scotland!I56, Southern!I56, 'Wales & West'!I56)","v":0.75}]
[null,null,null,null,"Weight of operator's view on price control totex",null,"%",null,{"$f":"CHOOSE(m_identity,East!I57, London!I57, 'North West'!I57, 'West Midlands'!I57, Northern!I57, Scotland!I57, Southern!I57, 'Wales & West'!I57)","v":0.25}]
[]
[null,null,null,null,"GD TIM group ratio",null,"scalar",null,{"$f":"CHOOSE(m_identity,East!I59, London!I59, 'North West'!I59, 'West Midlands'!I59, Northern!I59, Scotland!I59, Southern!I59, 'Wales & West'!I59)","v":111.77479741299152}]
[]
[null,null,null,null,"Ofgem's view of  licensee totex",null,"£m 09/10 prices",null,{"$f":"CHOOSE(m_identity,East!I61, London!I61, 'North West'!I61, 'West Midlands'!I61, Northern!I61, Scotland!I61, Southern!I61, 'Wales & West'!I61)","v":2062.585196291785}]
[null,null,null,null,"Operator's view of licensee totex",null,"£m 09/10 prices",null,{"$f":"CHOOSE(m_identity,East!I62, London!I62, 'North West'!I62, 'West Midlands'!I62, Northern!I62, Scotland!I62, Southern!I62, 'Wales & West'!I62)","v":2279.2101778988895}]
[]
[null,null,null,null,"Ofgem's view of group price control totex",null,"£m 09/10 prices",null,{"$f":"CHOOSE(m_identity,East!I64, London!I64, 'North West'!I64, 'West Midlands'!I64, Northern!I64, Scotland!I64, Southern!I64, 'Wales & West'!I64)","v":6729.0571105813278}]
[null,null,null,null,"Operator's view of group price control totex",null,"£m 09/10 prices",null,{"$f":"CHOOSE(m_identity,East!I65, London!I65, 'North West'!I65, 'West Midlands'!I65, Northern!I65, Scotland!I65, Southern!I65, 'Wales & West'!I65)","v":7521.3899531567795}]
[]
[null,null,"Finance"]
[]
[null,null,null,null,"Minimum equity issuance threshold",null,"%",null,{"$f":"CHOOSE(m_identity,East!I69, London!I69, 'North West'!I69, 'West Midlands'!I69, Northern!I69, Scotland!I69, Southern!I69, 'Wales & West'!I69)","v":0.05}]
[null,null,null,null,"Equity issuance costs",null,"%",null,{"$f":"CHOOSE(m_identity,East!I70, London!I70, 'North West'!I70, 'West Midlands'!I70, Northern!I70, Scotland!I70, Southern!I70, 'Wales & West'!I70)","v":0.05}]
[null,null,null,null,"Assumed dividends as % of notional equity portion of RAV",null,"%",null,{"$f":"CHOOSE(m_identity,East!I71, London!I71, 'North West'!I71, 'West Midlands'!I71, Northern!I71, Scotland!I71, Southern!I71, 'Wales & West'!I71)","v":0.05}]
[]
[null,null,null,null,"Equity issuance gearing target",null,"%",null,null,null,null,null,null,null,null,null,null,null,null,null,null,null,null,null,null,null,null,null,null,null,null,null,null,{"$f":"CHOOSE(m_identity,East!AH73, London!AH73, 'North West'!AH73, 'West Midlands'!AH73, Northern!AH73, Scotland!AH73, Southern!AH73, 'Wales & West'!AH73)","v":0.65},{"$f":"CHOOSE(m_identity,East!AI73, London!AI73, 'North West'!AI73, 'West Midlands'!AI73, Northern!AI73, Scotland!AI73, Southern!AI73, 'Wales & West'!AI73)","v":0.65},{"$f":"CHOOSE(m_identity,East!AJ73, London!AJ73, 'North West'!AJ73, 'West Midlands'!AJ73, Northern!AJ73, Scotland!AJ73, Southern!AJ73, 'Wales & West'!AJ73)","v":0.65},{"$f":"CHOOSE(m_identity,East!AK73, London!AK73, 'North West'!AK73, 'West Midlands'!AK73, Northern!AK73, Scotland!AK73, Southern!AK73, 'Wales & West'!AK73)","v":0.65},{"$f":"CHOOSE(m_identity,East!AL73, London!AL73, 'North West'!AL73, 'West Midlands'!AL73, Northern!AL73, Scotland!AL73, Southern!AL73, 'Wales & West'!AL73)","v":0.65},{"$f":"CHOOSE(m_identity,East!AM73, London!AM73, 'North West'!AM73, 'West Midlands'!AM73, Northern!AM73, Scotland!AM73, Southern!AM73, 'Wales & West'!AM73)","v":0.65},{"$f":"CHOOSE(m_identity,East!AN73, London!AN73, 'North West'!AN73, 'West Midlands'!AN73, Northern!AN73, Scotland!AN73, Southern!AN73, 'Wales & West'!AN73)","v":0.65},{"$f":"CHOOSE(m_identity,East!AO73, London!AO73, 'North West'!AO73, 'West Midlands'!AO73, Northern!AO73, Scotland!AO73, Southern!AO73, 'Wales & West'!AO73)","v":0.65}]
[]
[null,null,null,null,"Index-linked debt as a percentage of net debt",null,"%",null,null,null,null,null,null,null,null,null,null,null,null,null,null,null,null,null,null,null,null,null,null,null,null,null,null,{"$f":"CHOOSE(m_identity,East!AH75, London!AH75, 'North West'!AH75, 'West Midlands'!AH75, Northern!AH75, Scotland!AH75, Southern!AH75, 'Wales & West'!AH75)","v":0.25},{"$f":"CHOOSE(m_identity,East!AI75, London!AI75, 'North West'!AI75, 'West Midlands'!AI75, Northern!AI75, Scotland!AI75, Southern!AI75, 'Wales & West'!AI75)","v":0.25},{"$f":"CHOOSE(m_identity,East!AJ75, London!AJ75, 'North West'!AJ75, 'West Midlands'!AJ75, Northern!AJ75, Scotland!AJ75, Southern!AJ75, 'Wales & West'!AJ75)","v":0.25},{"$f":"CHOOSE(m_identity,East!AK75, London!AK75, 'North West'!AK75, 'West Midlands'!AK75, Northern!AK75, Scotland!AK75, Southern!AK75, 'Wales & West'!AK75)","v":0.25},{"$f":"CHOOSE(m_identity,East!AL75, London!AL75, 'North West'!AL75, 'West Midlands'!AL75, Northern!AL75, Scotland!AL75, Southern!AL75, 'Wales & West'!AL75)","v":0.25},{"$f":"CHOOSE(m_identity,East!AM75, London!AM75, 'North West'!AM75, 'West Midlands'!AM75, Northern!AM75, Scotland!AM75, Southern!AM75, 'Wales & West'!AM75)","v":0.25},{"$f":"CHOOSE(m_identity,East!AN75, London!AN75, 'North West'!AN75, 'West Midlands'!AN75, Northern!AN75, Scotland!AN75, Southern!AN75, 'Wales & West'!AN75)","v":0.25},{"$f":"CHOOSE(m_identity,East!AO75, London!AO75, 'North West'!AO75, 'West Midlands'!AO75, Northern!AO75, Scotland!AO75, Southern!AO75, 'Wales & West'!AO75)","v":0.25}]
[]
[null,"Expenditure"]
[]
[null,null,"Totex"]
[]
[null,null,null,"Non-variant allowances"]
[]
[null,null,null,null,"Non-variant allowed load related capex",null,"£m 09/10 prices",null,null,null,null,null,null,null,null,null,null,null,null,null,null,null,null,null,null,null,null,null,null,null,null,null,null,{"$f":"CHOOSE(m_identity,East!AH83, London!AH83, 'North West'!AH83, 'West Midlands'!AH83, Northern!AH83, Scotland!AH83, Southern!AH83, 'Wales & West'!AH83)","v":22.843918152871311},{"$f":"CHOOSE(m_identity,East!AI83, London!AI83, 'North West'!AI83, 'West Midlands'!AI83, Northern!AI83, Scotland!AI83, Southern!AI83, 'Wales & West'!AI83)","v":24.193588786833523},{"$f":"CHOOSE(m_identity,East!AJ83, London!AJ83, 'North West'!AJ83, 'West Midlands'!AJ83, Northern!AJ83, Scotland!AJ83, Southern!AJ83, 'Wales & West'!AJ83)","v":22.476719950427562},{"$f":"CHOOSE(m_identity,East!AK83, London!AK83, 'North West'!AK83, 'West Midlands'!AK83, Northern!AK83, Scotland!AK83, Southern!AK83, 'Wales & West'!AK83)","v":21.839899000578804},{"$f":"CHOOSE(m_identity,East!AL83, London!AL83, 'North West'!AL83, 'West Midlands'!AL83, Northern!AL83, Scotland!AL83, Southern!AL83, 'Wales & West'!AL83)","v":19.573084649472207},{"$f":"CHOOSE(m_identity,East!AM83, London!AM83, 'North West'!AM83, 'West Midlands'!AM83, Northern!AM83, Scotland!AM83, Southern!AM83, 'Wales & West'!AM83)","v":19.686592684242683},{"$f":"CHOOSE(m_identity,East!AN83, London!AN83, 'North West'!AN83, 'West Midlands'!AN83, Northern!AN83, Scotland!AN83, Southern!AN83, 'Wales & West'!AN83)","v":19.086923517899706},{"$f":"CHOOSE(m_identity,East!AO83, London!AO83, 'North West'!AO83, 'West Midlands'!AO83, Northern!AO83, Scotland!AO83, Southern!AO83, 'Wales & West'!AO83)","v":19.027266096587532}]
[null,null,null,null,"Non-variant allowed non-load related capex - other",null,"£m 09/10 prices",null,null,null,null,null,null,null,null,null,null,null,null,null,null,null,null,null,null,null,null,null,null,null,null,null,null,{"$f":"CHOOSE(m_identity,East!AH84, London!AH84, 'North West'!AH84, 'West Midlands'!AH84, Northern!AH84, Scotland!AH84, Southern!AH84, 'Wales & West'!AH84)","v":30.550453884390336},{"$f":"CHOOSE(m_identity,East!AI84, London!AI84, 'North West'!AI84, 'West Midlands'!AI84, Northern!AI84, Scotland!AI84, Southern!AI84, 'Wales & West'!AI84)","v":20.483138706505621},{"$f":"CHOOSE(m_identity,East!AJ84, London!AJ84, 'North West'!AJ84, 'West Midlands'!AJ84, Northern!AJ84, Scotland!AJ84, Southern!AJ84, 'Wales & West'!AJ84)","v":16.137874702056287},{"$f":"CHOOSE(m_identity,East!AK84, London!AK84, 'North West'!AK84, 'West Midlands'!AK84, Northern!AK84, Scotland!AK84, Southern!AK84, 'Wales & West'!AK84)","v":16.823488465948579},{"$f":"CHOOSE(m_identity,East!AL84, London!AL84, 'North West'!AL84, 'West Midlands'!AL84, Northern!AL84, Scotland!AL84, Southern!AL84, 'Wales & West'!AL84)","v":20.975007535552244},{"$f":"CHOOSE(m_identity,East!AM84, London!AM84, 'North West'!AM84, 'West Midlands'!AM84, Northern!AM84, Scotland!AM84, Southern!AM84, 'Wales & West'!AM84)","v":18.616106398916752},{"$f":"CHOOSE(m_identity,East!AN84, London!AN84, 'North West'!AN84, 'West Midlands'!AN84, Northern!AN84, Scotland!AN84, Southern!AN84, 'Wales & West'!AN84)","v":14.897589919446366},{"$f":"CHOOSE(m_identity,East!AO84, London!AO84, 'North West'!AO84, 'West Midlands'!AO84, Northern!AO84, Scotland!AO84, Southern!AO84, 'Wales & West'!AO84)","v":12.544337852857174}]
[null,null,null,null,"Non-variant allowed controllable opex",null,"£m 09/10 prices",null,null,null,null,null,null,null,null,null,null,null,null,null,null,null,null,null,null,null,null,null,null,null,null,null,null,{"$f":"CHOOSE(m_identity,East!AH85, London!AH85, 'North West'!AH85, 'West Midlands'!AH85, Northern!AH85, Scotland!AH85, Southern!AH85, 'Wales & West'!AH85)","v":114.72021103948836},{"$f":"CHOOSE(m_identity,East!AI85, London!AI85, 'North West'!AI85, 'West Midlands'!AI85, Northern!AI85, Scotland!AI85, Southern!AI85, 'Wales & West'!AI85)","v":112.92722288859693},{"$f":"CHOOSE(m_identity,East!AJ85, London!AJ85, 'North West'!AJ85, 'West Midlands'!AJ85, Northern!AJ85, Scotland!AJ85, Southern!AJ85, 'Wales & West'!AJ85)","v":113.85630407266422},{"$f":"CHOOSE(m_identity,East!AK85, London!AK85, 'North West'!AK85, 'West Midlands'!AK85, Northern!AK85, Scotland!AK85, Southern!AK85, 'Wales & West'!AK85)","v":114.86593283800406},{"$f":"CHOOSE(m_identity,East!AL85, London!AL85, 'North West'!AL85, 'West Midlands'!AL85, Northern!AL85, Scotland!AL85, Southern!AL85, 'Wales & West'!AL85)","v":113.01881860750507},{"$f":"CHOOSE(m_identity,East!AM85, London!AM85, 'North West'!AM85, 'West Midlands'!AM85, Northern!AM85, Scotland!AM85, Southern!AM85, 'Wales & West'!AM85)","v":112.89536754363438},{"$f":"CHOOSE(m_identity,East!AN85, London!AN85, 'North West'!AN85, 'West Midlands'!AN85, Northern!AN85, Scotland!AN85, Southern!AN85, 'Wales & West'!AN85)","v":112.79399906891089},{"$f":"CHOOSE(m_identity,East!AO85, London!AO85, 'North West'!AO85, 'West Midlands'!AO85, Northern!AO85, Scotland!AO85, Southern!AO85, 'Wales & West'!AO85)","v":112.33005300808742}]
[null,null,null,null,"Non-variant allowed repex",null,"£m 09/10 prices",null,null,null,null,null,null,null,null,null,null,null,null,null,null,null,null,null,null,null,null,null,null,null,null,null,null,{"$f":"CHOOSE(m_identity,East!AH86, London!AH86, 'North West'!AH86, 'West Midlands'!AH86, Northern!AH86, Scotland!AH86, Southern!AH86, 'Wales & West'!AH86)","v":106.87462362607909},{"$f":"CHOOSE(m_identity,East!AI86, London!AI86, 'North West'!AI86, 'West Midlands'!AI86, Northern!AI86, Scotland!AI86, Southern!AI86, 'Wales & West'!AI86)","v":104.88023837095979},{"$f":"CHOOSE(m_identity,East!AJ86, London!AJ86, 'North West'!AJ86, 'West Midlands'!AJ86, Northern!AJ86, Scotland!AJ86, Southern!AJ86, 'Wales & West'!AJ86)","v":105.98829103985847},{"$f":"CHOOSE(m_identity,East!AK86, London!AK86, 'North West'!AK86, 'West Midlands'!AK86, Northern!AK86, Scotland!AK86, Southern!AK86, 'Wales & West'!AK86)","v":106.08676333447424},{"$f":"CHOOSE(m_identity,East!AL86, London!AL86, 'North West'!AL86, 'West Midlands'!AL86, Northern!AL86, Scotland!AL86, Southern!AL86, 'Wales & West'!AL86)","v":106.62347635966032},{"$f":"CHOOSE(m_identity,East!AM86, London!AM86, 'North West'!AM86, 'West Midlands'!AM86, Northern!AM86, Scotland!AM86, Southern!AM86, 'Wales & West'!AM86)","v":107.14277690446711},{"$f":"CHOOSE(m_identity,East!AN86, London!AN86, 'North West'!AN86, 'West Midlands'!AN86, Northern!AN86, Scotland!AN86, Southern!AN86, 'Wales & West'!AN86)","v":107.67727554452013},{"$f":"CHOOSE(m_identity,East!AO86, London!AO86, 'North West'!AO86, 'West Midlands'!AO86, Northern!AO86, Scotland!AO86, Southern!AO86, 'Wales & West'!AO86)","v":108.18354175688259}]
[]
[null,null,null,"Variant allowances"]
[]
[null,null,null,null,{"$f":"E13","v":"Allowed uncertain costs (Enhanced physical site security)"},null,"£m 09/10 prices",null,null,null,null,null,null,null,null,null,null,null,null,null,null,null,null,null,null,null,null,null,null,null,null,null,null,{"$f":"AH13","v":-1.2092019818719479},{"$f":"AI13","v":0.21213453381116881},0.41797344366272721,2.3324946307316878,12.804418133191946,9.9181918928894781,2.2324976937249348,0.46585095352675315]
[null,null,null,null,"Allocation to load related capex",null,"%",null,null,null,null,null,null,null,null,null,null,null,null,null,null,null,null,null,null,null,null,null,null,null,null,null,null,{"$f":"CHOOSE(m_identity,East!AH91, London!AH91, 'North West'!AH91, 'West Midlands'!AH91, Northern!AH91, Scotland!AH91, Southern!AH91, 'Wales & West'!AH91)","v":0},{"$f":"CHOOSE(m_identity,East!AI91, London!AI91, 'North West'!AI91, 'West Midlands'!AI91, Northern!AI91, Scotland!AI91, Southern!AI91, 'Wales & West'!AI91)","v":0},{"$f":"CHOOSE(m_identity,East!AJ91, London!AJ91, 'North West'!AJ91, 'West Midlands'!AJ91, Northern!AJ91, Scotland!AJ91, Southern!AJ91, 'Wales & West'!AJ91)","v":0},{"$f":"CHOOSE(m_identity,East!AK91, London!AK91, 'North West'!AK91, 'West Midlands'!AK91, Northern!AK91, Scotland!AK91, Southern!AK91, 'Wales & West'!AK91)","v":0},{"$f":"CHOOSE(m_identity,East!AL91, London!AL91, 'North West'!AL91, 'West Midlands'!AL91, Northern!AL91, Scotland!AL91, Southern!AL91, 'Wales & West'!AL91)","v":0},{"$f":"CHOOSE(m_identity,East!AM91, London!AM91, 'North West'!AM91, 'West Midlands'!AM91, Northern!AM91, Scotland!AM91, Southern!AM91, 'Wales & West'!AM91)","v":0},{"$f":"CHOOSE(m_identity,East!AN91, London!AN91, 'North West'!AN91, 'West Midlands'!AN91, Northern!AN91, Scotland!AN91, Southern!AN91, 'Wales & West'!AN91)","v":0},{"$f":"CHOOSE(m_identity,East!AO91, London!AO91, 'North West'!AO91, 'West Midlands'!AO91, Northern!AO91, Scotland!AO91, Southern!AO91, 'Wales & West'!AO91)","v":0}]
[null,null,null,null,"Allocation to non-load related capex - other",null,"%",null,null,null,null,null,null,null,null,null,null,null,null,null,null,null,null,null,null,null,null,null,null,null,null,null,null,{"$f":"CHOOSE(m_identity,East!AH92, London!AH92, 'North West'!AH92, 'West Midlands'!AH92, Northern!AH92, Scotland!AH92, Southern!AH92, 'Wales & West'!AH92)","v":1},{"$f":"CHOOSE(m_identity,East!AI92, London!AI92, 'North West'!AI92, 'West Midlands'!AI92, Northern!AI92, Scotland!AI92, Southern!AI92, 'Wales & West'!AI92)","v":1},{"$f":"CHOOSE(m_identity,East!AJ92, London!AJ92, 'North West'!AJ92, 'West Midlands'!AJ92, Northern!AJ92, Scotland!AJ92, Southern!AJ92, 'Wales & West'!AJ92)","v":1},{"$f":"CHOOSE(m_identity,East!AK92, London!AK92, 'North West'!AK92, 'West Midlands'!AK92, Northern!AK92, Scotland!AK92, Southern!AK92, 'Wales & West'!AK92)","v":1},{"$f":"CHOOSE(m_identity,East!AL92, London!AL92, 'North West'!AL92, 'West Midlands'!AL92, Northern!AL92, Scotland!AL92, Southern!AL92, 'Wales & West'!AL92)","v":1},{"$f":"CHOOSE(m_identity,East!AM92, London!AM92, 'North West'!AM92, 'West Midlands'!AM92, Northern!AM92, Scotland!AM92, Southern!AM92, 'Wales & West'!AM92)","v":1},{"$f":"CHOOSE(m_identity,East!AN92, London!AN92, 'North West'!AN92, 'West Midlands'!AN92, Northern!AN92, Scotland!AN92, Southern!AN92, 'Wales & West'!AN92)","v":1},{"$f":"CHOOSE(m_identity,East!AO92, London!AO92, 'North West'!AO92, 'West Midlands'!AO92, Northern!AO92, Scotland!AO92, Southern!AO92, 'Wales & West'!AO92)","v":1}]
[null,null,null,null,"Allocation to controllable opex",null,"%",null,null,null,null,null,null,null,null,null,null,null,null,null,null,null,null,null,null,null,null,null,null,null,null,null,null,{"$f":"CHOOSE(m_identity,East!AH93, London!AH93, 'North West'!AH93, 'West Midlands'!AH93, Northern!AH93, Scotland!AH93, Southern!AH93, 'Wales & West'!AH93)","v":0},{"$f":"CHOOSE(m_identity,East!AI93, London!AI93, 'North West'!AI93, 'West Midlands'!AI93, Northern!AI93, Scotland!AI93, Southern!AI93, 'Wales & West'!AI93)","v":0},{"$f":"CHOOSE(m_identity,East!AJ93, London!AJ93, 'North West'!AJ93, 'West Midlands'!AJ93, Northern!AJ93, Scotland!AJ93, Southern!AJ93, 'Wales & West'!AJ93)","v":0},{"$f":"CHOOSE(m_identity,East!AK93, London!AK93, 'North West'!AK93, 'West Midlands'!AK93, Northern!AK93, Scotland!AK93, Southern!AK93, 'Wales & West'!AK93)","v":0},{"$f":"CHOOSE(m_identity,East!AL93, London!AL93, 'North West'!AL93, 'West Midlands'!AL93, Northern!AL93, Scotland!AL93, Southern!AL93, 'Wales & West'!AL93)","v":0},{"$f":"CHOOSE(m_identity,East!AM93, London!AM93, 'North West'!AM93, 'West Midlands'!AM93, Northern!AM93, Scotland!AM93, Southern!AM93, 'Wales & West'!AM93)","v":0},{"$f":"CHOOSE(m_identity,East!AN93, London!AN93, 'North West'!AN93, 'West Midlands'!AN93, Northern!AN93, Scotland!AN93, Southern!AN93, 'Wales & West'!AN93)","v":0},{"$f":"CHOOSE(m_identity,East!AO93, London!AO93, 'North West'!AO93, 'West Midlands'!AO93, Northern!AO93, Scotland!AO93, Southern!AO93, 'Wales & West'!AO93)","v":0}]
[null,null,null,null,"Allocation to repex",null,"%",null,null,null,null,null,null,null,null,null,null,null,null,null,null,null,null,null,null,null,null,null,null,null,null,null,null,{"$f":"CHOOSE(m_identity,East!AH94, London!AH94, 'North West'!AH94, 'West Midlands'!AH94, Northern!AH94, Scotland!AH94, Southern!AH94, 'Wales & West'!AH94)","v":0},{"$f":"CHOOSE(m_identity,East!AI94, London!AI94, 'North West'!AI94, 'West Midlands'!AI94, Northern!AI94, Scotland!AI94, Southern!AI94, 'Wales & West'!AI94)","v":0},{"$f":"CHOOSE(m_identity,East!AJ94, London!AJ94, 'North West'!AJ94, 'West Midlands'!AJ94, Northern!AJ94, Scotland!AJ94, Southern!AJ94, 'Wales & West'!AJ94)","v":0},{"$f":"CHOOSE(m_identity,East!AK94, London!AK94, 'North West'!AK94, 'West Midlands'!AK94, Northern!AK94, Scotland!AK94, Southern!AK94, 'Wales & West'!AK94)","v":0},{"$f":"CHOOSE(m_identity,East!AL94, London!AL94, 'North West'!AL94, 'West Midlands'!AL94, Northern!AL94, Scotland!AL94, Southern!AL94, 'Wales & West'!AL94)","v":0},{"$f":"CHOOSE(m_identity,East!AM94, London!AM94, 'North West'!AM94, 'West Midlands'!AM94, Northern!AM94, Scotland!AM94, Southern!AM94, 'Wales & West'!AM94)","v":0},{"$f":"CHOOSE(m_identity,East!AN94, London!AN94, 'North West'!AN94, 'West Midlands'!AN94, Northern!AN94, Scotland!AN94, Southern!AN94, 'Wales & West'!AN94)","v":0},{"$f":"CHOOSE(m_identity,East!AO94, London!AO94, 'North West'!AO94, 'West Midlands'!AO94, Northern!AO94, Scotland!AO94, Southern!AO94, 'Wales & West'!AO94)","v":0}]
[]
[null,null,null,null,{"$f":"E14","v":"Allowed uncertain costs (Specified street work costs)"},null,"£m 09/10 prices",null,null,null,null,null,null,null,null,null,null,null,null,null,null,null,null,null,null,null,null,null,null,null,null,null,null,{"$f":"AH14","v":2.5069237234056003},2.4294400914595151,2.3600138601103731,2.2945494341020423,2.2351258000404703,2.1743981151621057,2.1151581854026622,2.0555882416470448]
[null,null,null,null,"Allocation to load related capex",null,"%",null,null,null,null,null,null,null,null,null,null,null,null,null,null,null,null,null,null,null,null,null,null,null,null,null,null,{"$f":"CHOOSE(m_identity,East!AH97, London!AH97, 'North West'!AH97, 'West Midlands'!AH97, Northern!AH97, Scotland!AH97, Southern!AH97, 'Wales & West'!AH97)","v":0.05},{"$f":"CHOOSE(m_identity,East!AI97, London!AI97, 'North West'!AI97, 'West Midlands'!AI97, Northern!AI97, Scotland!AI97, Southern!AI97, 'Wales & West'!AI97)","v":0.05},{"$f":"CHOOSE(m_identity,East!AJ97, London!AJ97, 'North West'!AJ97, 'West Midlands'!AJ97, Northern!AJ97, Scotland!AJ97, Southern!AJ97, 'Wales & West'!AJ97)","v":0.05},{"$f":"CHOOSE(m_identity,East!AK97, London!AK97, 'North West'!AK97, 'West Midlands'!AK97, Northern!AK97, Scotland!AK97, Southern!AK97, 'Wales & West'!AK97)","v":0.05},{"$f":"CHOOSE(m_identity,East!AL97, London!AL97, 'North West'!AL97, 'West Midlands'!AL97, Northern!AL97, Scotland!AL97, Southern!AL97, 'Wales & West'!AL97)","v":0.05},{"$f":"CHOOSE(m_identity,East!AM97, London!AM97, 'North West'!AM97, 'West Midlands'!AM97, Northern!AM97, Scotland!AM97, Southern!AM97, 'Wales & West'!AM97)","v":0.05},{"$f":"CHOOSE(m_identity,East!AN97, London!AN97, 'North West'!AN97, 'West Midlands'!AN97, Northern!AN97, Scotland!AN97, Southern!AN97, 'Wales & West'!AN97)","v":0.05},{"$f":"CHOOSE(m_identity,East!AO97, London!AO97, 'North West'!AO97, 'West Midlands'!AO97, Northern!AO97, Scotland!AO97, Southern!AO97, 'Wales & West'!AO97)","v":0.05}]
[null,null,null,null,"Allocation to non-load related capex - other",null,"%",null,null,null,null,null,null,null,null,null,null,null,null,null,null,null,null,null,null,null,null,null,null,null,null,null,null,{"$f":"CHOOSE(m_identity,East!AH98, London!AH98, 'North West'!AH98, 'West Midlands'!AH98, Northern!AH98, Scotland!AH98, Southern!AH98, 'Wales & West'!AH98)","v":0},{"$f":"CHOOSE(m_identity,East!AI98, London!AI98, 'North West'!AI98, 'West Midlands'!AI98, Northern!AI98, Scotland!AI98, Southern!AI98, 'Wales & West'!AI98)","v":0},{"$f":"CHOOSE(m_identity,East!AJ98, London!AJ98, 'North West'!AJ98, 'West Midlands'!AJ98, Northern!AJ98, Scotland!AJ98, Southern!AJ98, 'Wales & West'!AJ98)","v":0},{"$f":"CHOOSE(m_identity,East!AK98, London!AK98, 'North West'!AK98, 'West Midlands'!AK98, Northern!AK98, Scotland!AK98, Southern!AK98, 'Wales & West'!AK98)","v":0},{"$f":"CHOOSE(m_identity,East!AL98, London!AL98, 'North West'!AL98, 'West Midlands'!AL98, Northern!AL98, Scotland!AL98, Southern!AL98, 'Wales & West'!AL98)","v":0},{"$f":"CHOOSE(m_identity,East!AM98, London!AM98, 'North West'!AM98, 'West Midlands'!AM98, Northern!AM98, Scotland!AM98, Southern!AM98, 'Wales & West'!AM98)","v":0},{"$f":"CHOOSE(m_identity,East!AN98, London!AN98, 'North West'!AN98, 'West Midlands'!AN98, Northern!AN98, Scotland!AN98, Southern!AN98, 'Wales & West'!AN98)","v":0},{"$f":"CHOOSE(m_identity,East!AO98, London!AO98, 'North West'!AO98, 'West Midlands'!AO98, Northern!AO98, Scotland!AO98, Southern!AO98, 'Wales & West'!AO98)","v":0}]
[null,null,null,null,"Allocation to controllable opex",null,"%",null,null,null,null,null,null,null,null,null,null,null,null,null,null,null,null,null,null,null,null,null,null,null,null,null,null,{"$f":"CHOOSE(m_identity,East!AH99, London!AH99, 'North West'!AH99, 'West Midlands'!AH99, Northern!AH99, Scotland!AH99, Southern!AH99, 'Wales & West'!AH99)","v":0.3},{"$f":"CHOOSE(m_identity,East!AI99, London!AI99, 'North West'!AI99, 'West Midlands'!AI99, Northern!AI99, Scotland!AI99, Southern!AI99, 'Wales & West'!AI99)","v":0.3},{"$f":"CHOOSE(m_identity,East!AJ99, London!AJ99, 'North West'!AJ99, 'West Midlands'!AJ99, Northern!AJ99, Scotland!AJ99, Southern!AJ99, 'Wales & West'!AJ99)","v":0.3},{"$f":"CHOOSE(m_identity,East!AK99, London!AK99, 'North West'!AK99, 'West Midlands'!AK99, Northern!AK99, Scotland!AK99, Southern!AK99, 'Wales & West'!AK99)","v":0.3},{"$f":"CHOOSE(m_identity,East!AL99, London!AL99, 'North West'!AL99, 'West Midlands'!AL99, Northern!AL99, Scotland!AL99, Southern!AL99, 'Wales & West'!AL99)","v":0.3},{"$f":"CHOOSE(m_identity,East!AM99, London!AM99, 'North West'!AM99, 'West Midlands'!AM99, Northern!AM99, Scotland!AM99, Southern!AM99, 'Wales & West'!AM99)","v":0.3},{"$f":"CHOOSE(m_identity,East!AN99, London!AN99, 'North West'!AN99, 'West Midlands'!AN99, Northern!AN99, Scotland!AN99, Southern!AN99, 'Wales & West'!AN99)","v":0.3},{"$f":"CHOOSE(m_identity,East!AO99, London!AO99, 'North West'!AO99, 'West Midlands'!AO99, Northern!AO99, Scotland!AO99, Southern!AO99, 'Wales & West'!AO99)","v":0.3}]
[null,null,null,null,"Allocation to repex",null,"%",null,null,null,null,null,null,null,null,null,null,null,null,null,null,null,null,null,null,null,null,null,null,null,null,null,null,{"$f":"CHOOSE(m_identity,East!AH100, London!AH100, 'North West'!AH100, 'West Midlands'!AH100, Northern!AH100, Scotland!AH100, Southern!AH100, 'Wales & West'!AH100)","v":0.65},{"$f":"CHOOSE(m_identity,East!AI100, London!AI100, 'North West'!AI100, 'West Midlands'!AI100, Northern!AI100, Scotland!AI100, Southern!AI100, 'Wales & West'!AI100)","v":0.65},{"$f":"CHOOSE(m_identity,East!AJ100, London!AJ100, 'North West'!AJ100, 'West Midlands'!AJ100, Northern!AJ100, Scotland!AJ100, Southern!AJ100, 'Wales & West'!AJ100)","v":0.65},{"$f":"CHOOSE(m_identity,East!AK100, London!AK100, 'North West'!AK100, 'West Midlands'!AK100, Northern!AK100, Scotland!AK100, Southern!AK100, 'Wales & West'!AK100)","v":0.65},{"$f":"CHOOSE(m_identity,East!AL100, London!AL100, 'North West'!AL100, 'West Midlands'!AL100, Northern!AL100, Scotland!AL100, Southern!AL100, 'Wales & West'!AL100)","v":0.65},{"$f":"CHOOSE(m_identity,East!AM100, London!AM100, 'North West'!AM100, 'West Midlands'!AM100, Northern!AM100, Scotland!AM100, Southern!AM100, 'Wales & West'!AM100)","v":0.65},{"$f":"CHOOSE(m_identity,East!AN100, London!AN100, 'North West'!AN100, 'West Midlands'!AN100, Northern!AN100, Scotland!AN100, Southern!AN100, 'Wales & West'!AN100)","v":0.65},{"$f":"CHOOSE(m_identity,East!AO100, London!AO100, 'North West'!AO100, 'West Midlands'!AO100, Northern!AO100, Scotland!AO100, Southern!AO100, 'Wales & West'!AO100)","v":0.65}]
[]
[null,null,null,null,{"$f":"E15","v":"Allowed uncertain costs (Connection charging boundary change costs)"},null,"£m 09/10 prices",null,null,null,null,null,null,null,null,null,null,null,null,null,null,null,null,null,null,null,null,null,null,null,null,null,null,{"$f":"AH15","v":0},{"$f":"AI15","v":0},0,0,0,0,0,0]
[null,null,null,null,"Allocation to load related capex",null,"%",null,null,null,null,null,null,null,null,null,null,null,null,null,null,null,null,null,null,null,null,null,null,null,null,null,null,{"$f":"CHOOSE(m_identity,East!AH103, London!AH103, 'North West'!AH103, 'West Midlands'!AH103, Northern!AH103, Scotland!AH103, Southern!AH103, 'Wales & West'!AH103)","v":0.9},{"$f":"CHOOSE(m_identity,East!AI103, London!AI103, 'North West'!AI103, 'West Midlands'!AI103, Northern!AI103, Scotland!AI103, Southern!AI103, 'Wales & West'!AI103)","v":0.9},{"$f":"CHOOSE(m_identity,East!AJ103, London!AJ103, 'North West'!AJ103, 'West Midlands'!AJ103, Northern!AJ103, Scotland!AJ103, Southern!AJ103, 'Wales & West'!AJ103)","v":0.9},{"$f":"CHOOSE(m_identity,East!AK103, London!AK103, 'North West'!AK103, 'West Midlands'!AK103, Northern!AK103, Scotland!AK103, Southern!AK103, 'Wales & West'!AK103)","v":0.9},{"$f":"CHOOSE(m_identity,East!AL103, London!AL103, 'North West'!AL103, 'West Midlands'!AL103, Northern!AL103, Scotland!AL103, Southern!AL103, 'Wales & West'!AL103)","v":0.9},{"$f":"CHOOSE(m_identity,East!AM103, London!AM103, 'North West'!AM103, 'West Midlands'!AM103, Northern!AM103, Scotland!AM103, Southern!AM103, 'Wales & West'!AM103)","v":0.9},{"$f":"CHOOSE(m_identity,East!AN103, London!AN103, 'North West'!AN103, 'West Midlands'!AN103, Northern!AN103, Scotland!AN103, Southern!AN103, 'Wales & West'!AN103)","v":0.9},{"$f":"CHOOSE(m_identity,East!AO103, London!AO103, 'North West'!AO103, 'West Midlands'!AO103, Northern!AO103, Scotland!AO103, Southern!AO103, 'Wales & West'!AO103)","v":0.9}]
[null,null,null,null,"Allocation to non-load related capex - other",null,"%",null,null,null,null,null,null,null,null,null,null,null,null,null,null,null,null,null,null,null,null,null,null,null,null,null,null,{"$f":"CHOOSE(m_identity,East!AH104, London!AH104, 'North West'!AH104, 'West Midlands'!AH104, Northern!AH104, Scotland!AH104, Southern!AH104, 'Wales & West'!AH104)","v":0},{"$f":"CHOOSE(m_identity,East!AI104, London!AI104, 'North West'!AI104, 'West Midlands'!AI104, Northern!AI104, Scotland!AI104, Southern!AI104, 'Wales & West'!AI104)","v":0},{"$f":"CHOOSE(m_identity,East!AJ104, London!AJ104, 'North West'!AJ104, 'West Midlands'!AJ104, Northern!AJ104, Scotland!AJ104, Southern!AJ104, 'Wales & West'!AJ104)","v":0},{"$f":"CHOOSE(m_identity,East!AK104, London!AK104, 'North West'!AK104, 'West Midlands'!AK104, Northern!AK104, Scotland!AK104, Southern!AK104, 'Wales & West'!AK104)","v":0},{"$f":"CHOOSE(m_identity,East!AL104, London!AL104, 'North West'!AL104, 'West Midlands'!AL104, Northern!AL104, Scotland!AL104, Southern!AL104, 'Wales & West'!AL104)","v":0},{"$f":"CHOOSE(m_identity,East!AM104, London!AM104, 'North West'!AM104, 'West Midlands'!AM104, Northern!AM104, Scotland!AM104, Southern!AM104, 'Wales & West'!AM104)","v":0},{"$f":"CHOOSE(m_identity,East!AN104, London!AN104, 'North West'!AN104, 'West Midlands'!AN104, Northern!AN104, Scotland!AN104, Southern!AN104, 'Wales & West'!AN104)","v":0},{"$f":"CHOOSE(m_identity,East!AO104, London!AO104, 'North West'!AO104, 'West Midlands'!AO104, Northern!AO104, Scotland!AO104, Southern!AO104, 'Wales & West'!AO104)","v":0}]
[null,null,null,null,"Allocation to controllable opex",null,"%",null,null,null,null,null,null,null,null,null,null,null,null,null,null,null,null,null,null,null,null,null,null,null,null,null,null,{"$f":"CHOOSE(m_identity,East!AH105, London!AH105, 'North West'!AH105, 'West Midlands'!AH105, Northern!AH105, Scotland!AH105, Southern!AH105, 'Wales & West'!AH105)","v":0.1},{"$f":"CHOOSE(m_identity,East!AI105, London!AI105, 'North West'!AI105, 'West Midlands'!AI105, Northern!AI105, Scotland!AI105, Southern!AI105, 'Wales & West'!AI105)","v":0.1},{"$f":"CHOOSE(m_identity,East!AJ105, London!AJ105, 'North West'!AJ105, 'West Midlands'!AJ105, Northern!AJ105, Scotland!AJ105, Southern!AJ105, 'Wales & West'!AJ105)","v":0.1},{"$f":"CHOOSE(m_identity,East!AK105, London!AK105, 'North West'!AK105, 'West Midlands'!AK105, Northern!AK105, Scotland!AK105, Southern!AK105, 'Wales & West'!AK105)","v":0.1},{"$f":"CHOOSE(m_identity,East!AL105, London!AL105, 'North West'!AL105, 'West Midlands'!AL105, Northern!AL105, Scotland!AL105, Southern!AL105, 'Wales & West'!AL105)","v":0.1},{"$f":"CHOOSE(m_identity,East!AM105, London!AM105, 'North West'!AM105, 'West Midlands'!AM105, Northern!AM105, Scotland!AM105, Southern!AM105, 'Wales & West'!AM105)","v":0.1},{"$f":"CHOOSE(m_identity,East!AN105, London!AN105, 'North West'!AN105, 'West Midlands'!AN105, Northern!AN105, Scotland!AN105, Southern!AN105, 'Wales & West'!AN105)","v":0.1},{"$f":"CHOOSE(m_identity,East!AO105, London!AO105, 'North West'!AO105, 'West Midlands'!AO105, Northern!AO105, Scotland!AO105, Southern!AO105, 'Wales & West'!AO105)","v":0.1}]
[null,null,null,null,"Allocation to repex",null,"%",null,null,null,null,null,null,null,null,null,null,null,null,null,null,null,null,null,null,null,null,null,null,null,null,null,null,{"$f":"CHOOSE(m_identity,East!AH106, London!AH106, 'North West'!AH106, 'West Midlands'!AH106, Northern!AH106, Scotland!AH106, Southern!AH106, 'Wales & West'!AH106)","v":0},{"$f":"CHOOSE(m_identity,East!AI106, London!AI106, 'North West'!AI106, 'West Midlands'!AI106, Northern!AI106, Scotland!AI106, Southern!AI106, 'Wales & West'!AI106)","v":0},{"$f":"CHOOSE(m_identity,East!AJ106, London!AJ106, 'North West'!AJ106, 'West Midlands'!AJ106, Northern!AJ106, Scotland!AJ106, Southern!AJ106, 'Wales & West'!AJ106)","v":0},{"$f":"CHOOSE(m_identity,East!AK106, London!AK106, 'North West'!AK106, 'West Midlands'!AK106, Northern!AK106, Scotland!AK106, Southern!AK106, 'Wales & West'!AK106)","v":0},{"$f":"CHOOSE(m_identity,East!AL106, London!AL106, 'North West'!AL106, 'West Midlands'!AL106, Northern!AL106, Scotland!AL106, Southern!AL106, 'Wales & West'!AL106)","v":0},{"$f":"CHOOSE(m_identity,East!AM106, London!AM106, 'North West'!AM106, 'West Midlands'!AM106, Northern!AM106, Scotland!AM106, Southern!AM106, 'Wales & West'!AM106)","v":0},{"$f":"CHOOSE(m_identity,East!AN106, London!AN106, 'North West'!AN106, 'West Midlands'!AN106, Northern!AN106, Scotland!AN106, Southern!AN106, 'Wales & West'!AN106)","v":0},{"$f":"CHOOSE(m_identity,East!AO106, London!AO106, 'North West'!AO106, 'West Midlands'!AO106, Northern!AO106, Scotland!AO106, Southern!AO106, 'Wales & West'!AO106)","v":0}]
[]
[null,null,null,null,{"$f":"E16","v":"Allowed uncertain costs (Fuel poor network extension scheme)"},null,"£m 09/10 prices",null,null,null,null,null,null,null,null,null,null,null,null,null,null,null,null,null,null,null,null,null,null,null,null,null,null,{"$f":"AH16","v":1.2250858862540879},{"$f":"AI16","v":1.2201855427090715},1.2331313377910282,1.7413241022553574,1.8283062074662149,1.7874479931648435,1.781980158397976,1.6853715130527143]
[null,null,null,null,"Allocation to load related capex",null,"%",null,null,null,null,null,null,null,null,null,null,null,null,null,null,null,null,null,null,null,null,null,null,null,null,null,null,{"$f":"CHOOSE(m_identity,East!AH109, London!AH109, 'North West'!AH109, 'West Midlands'!AH109, Northern!AH109, Scotland!AH109, Southern!AH109, 'Wales & West'!AH109)","v":1},{"$f":"CHOOSE(m_identity,East!AI109, London!AI109, 'North West'!AI109, 'West Midlands'!AI109, Northern!AI109, Scotland!AI109, Southern!AI109, 'Wales & West'!AI109)","v":1},{"$f":"CHOOSE(m_identity,East!AJ109, London!AJ109, 'North West'!AJ109, 'West Midlands'!AJ109, Northern!AJ109, Scotland!AJ109, Southern!AJ109, 'Wales & West'!AJ109)","v":1},{"$f":"CHOOSE(m_identity,East!AK109, London!AK109, 'North West'!AK109, 'West Midlands'!AK109, Northern!AK109, Scotland!AK109, Southern!AK109, 'Wales & West'!AK109)","v":1},{"$f":"CHOOSE(m_identity,East!AL109, London!AL109, 'North West'!AL109, 'West Midlands'!AL109, Northern!AL109, Scotland!AL109, Southern!AL109, 'Wales & West'!AL109)","v":1},{"$f":"CHOOSE(m_identity,East!AM109, London!AM109, 'North West'!AM109, 'West Midlands'!AM109, Northern!AM109, Scotland!AM109, Southern!AM109, 'Wales & West'!AM109)","v":1},{"$f":"CHOOSE(m_identity,East!AN109, London!AN109, 'North West'!AN109, 'West Midlands'!AN109, Northern!AN109, Scotland!AN109, Southern!AN109, 'Wales & West'!AN109)","v":1},{"$f":"CHOOSE(m_identity,East!AO109, London!AO109, 'North West'!AO109, 'West Midlands'!AO109, Northern!AO109, Scotland!AO109, Southern!AO109, 'Wales & West'!AO109)","v":1}]
[null,null,null,null,"Allocation to non-load related capex - other",null,"%",null,null,null,null,null,null,null,null,null,null,null,null,null,null,null,null,null,null,null,null,null,null,null,null,null,null,{"$f":"CHOOSE(m_identity,East!AH110, London!AH110, 'North West'!AH110, 'West Midlands'!AH110, Northern!AH110, Scotland!AH110, Southern!AH110, 'Wales & West'!AH110)","v":0},{"$f":"CHOOSE(m_identity,East!AI110, London!AI110, 'North West'!AI110, 'West Midlands'!AI110, Northern!AI110, Scotland!AI110, Southern!AI110, 'Wales & West'!AI110)","v":0},{"$f":"CHOOSE(m_identity,East!AJ110, London!AJ110, 'North West'!AJ110, 'West Midlands'!AJ110, Northern!AJ110, Scotland!AJ110, Southern!AJ110, 'Wales & West'!AJ110)","v":0},{"$f":"CHOOSE(m_identity,East!AK110, London!AK110, 'North West'!AK110, 'West Midlands'!AK110, Northern!AK110, Scotland!AK110, Southern!AK110, 'Wales & West'!AK110)","v":0},{"$f":"CHOOSE(m_identity,East!AL110, London!AL110, 'North West'!AL110, 'West Midlands'!AL110, Northern!AL110, Scotland!AL110, Southern!AL110, 'Wales & West'!AL110)","v":0},{"$f":"CHOOSE(m_identity,East!AM110, London!AM110, 'North West'!AM110, 'West Midlands'!AM110, Northern!AM110, Scotland!AM110, Southern!AM110, 'Wales & West'!AM110)","v":0},{"$f":"CHOOSE(m_identity,East!AN110, London!AN110, 'North West'!AN110, 'West Midlands'!AN110, Northern!AN110, Scotland!AN110, Southern!AN110, 'Wales & West'!AN110)","v":0},{"$f":"CHOOSE(m_identity,East!AO110, London!AO110, 'North West'!AO110, 'West Midlands'!AO110, Northern!AO110, Scotland!AO110, Southern!AO110, 'Wales & West'!AO110)","v":0}]
[null,null,null,null,"Allocation to controllable opex",null,"%",null,null,null,null,null,null,null,null,null,null,null,null,null,null,null,null,null,null,null,null,null,null,null,null,null,null,{"$f":"CHOOSE(m_identity,East!AH111, London!AH111, 'North West'!AH111, 'West Midlands'!AH111, Northern!AH111, Scotland!AH111, Southern!AH111, 'Wales & West'!AH111)","v":0},{"$f":"CHOOSE(m_identity,East!AI111, London!AI111, 'North West'!AI111, 'West Midlands'!AI111, Northern!AI111, Scotland!AI111, Southern!AI111, 'Wales & West'!AI111)","v":0},{"$f":"CHOOSE(m_identity,East!AJ111, London!AJ111, 'North West'!AJ111, 'West Midlands'!AJ111, Northern!AJ111, Scotland!AJ111, Southern!AJ111, 'Wales & West'!AJ111)","v":0},{"$f":"CHOOSE(m_identity,East!AK111, London!AK111, 'North West'!AK111, 'West Midlands'!AK111, Northern!AK111, Scotland!AK111, Southern!AK111, 'Wales & West'!AK111)","v":0},{"$f":"CHOOSE(m_identity,East!AL111, London!AL111, 'North West'!AL111, 'West Midlands'!AL111, Northern!AL111, Scotland!AL111, Southern!AL111, 'Wales & West'!AL111)","v":0},{"$f":"CHOOSE(m_identity,East!AM111, London!AM111, 'North West'!AM111, 'West Midlands'!AM111, Northern!AM111, Scotland!AM111, Southern!AM111, 'Wales & West'!AM111)","v":0},{"$f":"CHOOSE(m_identity,East!AN111, London!AN111, 'North West'!AN111, 'West Midlands'!AN111, Northern!AN111, Scotland!AN111, Southern!AN111, 'Wales & West'!AN111)","v":0},{"$f":"CHOOSE(m_identity,East!AO111, London!AO111, 'North West'!AO111, 'West Midlands'!AO111, Northern!AO111, Scotland!AO111, Southern!AO111, 'Wales & West'!AO111)","v":0}]
[null,null,null,null,"Allocation to repex",null,"%",null,null,null,null,null,null,null,null,null,null,null,null,null,null,null,null,null,null,null,null,null,null,null,null,null,null,{"$f":"CHOOSE(m_identity,East!AH112, London!AH112, 'North West'!AH112, 'West Midlands'!AH112, Northern!AH112, Scotland!AH112, Southern!AH112, 'Wales & West'!AH112)","v":0},{"$f":"CHOOSE(m_identity,East!AI112, London!AI112, 'North West'!AI112, 'West Midlands'!AI112, Northern!AI112, Scotland!AI112, Southern!AI112, 'Wales & West'!AI112)","v":0},{"$f":"CHOOSE(m_identity,East!AJ112, London!AJ112, 'North West'!AJ112, 'West Midlands'!AJ112, Northern!AJ112, Scotland!AJ112, Southern!AJ112, 'Wales & West'!AJ112)","v":0},{"$f":"CHOOSE(m_identity,East!AK112, London!AK112, 'North West'!AK112, 'West Midlands'!AK112, Northern!AK112, Scotland!AK112, Southern!AK112, 'Wales & West'!AK112)","v":0},{"$f":"CHOOSE(m_identity,East!AL112, London!AL112, 'North West'!AL112, 'West Midlands'!AL112, Northern!AL112, Scotland!AL112, Southern!AL112, 'Wales & West'!AL112)","v":0},{"$f":"CHOOSE(m_identity,East!AM112, London!AM112, 'North West'!AM112, 'West Midlands'!AM112, Northern!AM112, Scotland!AM112, Southern!AM112, 'Wales & West'!AM112)","v":0},{"$f":"CHOOSE(m_identity,East!AN112, London!AN112, 'North West'!AN112, 'West Midlands'!AN112, Northern!AN112, Scotland!AN112, Southern!AN112, 'Wales & West'!AN112)","v":0},{"$f":"CHOOSE(m_identity,East!AO112, London!AO112, 'North West'!AO112, 'West Midlands'!AO112, Northern!AO112, Scotland!AO112, Southern!AO112, 'Wales & West'!AO112)","v":0}]
[]
[null,null,null,null,{"$f":"E17","v":"Allowed uncertain costs (Central agent)"},null,"£m 09/10 prices",null,null,null,null,null,null,null,null,null,null,null,null,null,null,null,null,null,null,null,null,null,null,null,null,null,null,{"$f":"AH17","v":-8.5304052177548328E-7},2.1238368020719989E-2,0.20500950116138306,0.20800442295421639,-2.6476908923078391,-3.9467600392068958,-5.1937163916232922,-5.8272863354473889]
[null,null,null,null,"Allocation to load related capex",null,"%",null,null,null,null,null,null,null,null,null,null,null,null,null,null,null,null,null,null,null,null,null,null,null,null,null,null,{"$f":"CHOOSE(m_identity,East!AH115, London!AH115, 'North West'!AH115, 'West Midlands'!AH115, Northern!AH115, Scotland!AH115, Southern!AH115, 'Wales & West'!AH115)","v":0},{"$f":"CHOOSE(m_identity,East!AI115, London!AI115, 'North West'!AI115, 'West Midlands'!AI115, Northern!AI115, Scotland!AI115, Southern!AI115, 'Wales & West'!AI115)","v":0},{"$f":"CHOOSE(m_identity,East!AJ115, London!AJ115, 'North West'!AJ115, 'West Midlands'!AJ115, Northern!AJ115, Scotland!AJ115, Southern!AJ115, 'Wales & West'!AJ115)","v":0},{"$f":"CHOOSE(m_identity,East!AK115, London!AK115, 'North West'!AK115, 'West Midlands'!AK115, Northern!AK115, Scotland!AK115, Southern!AK115, 'Wales & West'!AK115)","v":0},{"$f":"CHOOSE(m_identity,East!AL115, London!AL115, 'North West'!AL115, 'West Midlands'!AL115, Northern!AL115, Scotland!AL115, Southern!AL115, 'Wales & West'!AL115)","v":0},{"$f":"CHOOSE(m_identity,East!AM115, London!AM115, 'North West'!AM115, 'West Midlands'!AM115, Northern!AM115, Scotland!AM115, Southern!AM115, 'Wales & West'!AM115)","v":0},{"$f":"CHOOSE(m_identity,East!AN115, London!AN115, 'North West'!AN115, 'West Midlands'!AN115, Northern!AN115, Scotland!AN115, Southern!AN115, 'Wales & West'!AN115)","v":0},{"$f":"CHOOSE(m_identity,East!AO115, London!AO115, 'North West'!AO115, 'West Midlands'!AO115, Northern!AO115, Scotland!AO115, Southern!AO115, 'Wales & West'!AO115)","v":0}]
[null,null,null,null,"Allocation to non-load related capex - other",null,"%",null,null,null,null,null,null,null,null,null,null,null,null,null,null,null,null,null,null,null,null,null,null,null,null,null,null,{"$f":"CHOOSE(m_identity,East!AH116, London!AH116, 'North West'!AH116, 'West Midlands'!AH116, Northern!AH116, Scotland!AH116, Southern!AH116, 'Wales & West'!AH116)","v":0.15},{"$f":"CHOOSE(m_identity,East!AI116, London!AI116, 'North West'!AI116, 'West Midlands'!AI116, Northern!AI116, Scotland!AI116, Southern!AI116, 'Wales & West'!AI116)","v":0.15},{"$f":"CHOOSE(m_identity,East!AJ116, London!AJ116, 'North West'!AJ116, 'West Midlands'!AJ116, Northern!AJ116, Scotland!AJ116, Southern!AJ116, 'Wales & West'!AJ116)","v":0.15},{"$f":"CHOOSE(m_identity,East!AK116, London!AK116, 'North West'!AK116, 'West Midlands'!AK116, Northern!AK116, Scotland!AK116, Southern!AK116, 'Wales & West'!AK116)","v":0.15},{"$f":"CHOOSE(m_identity,East!AL116, London!AL116, 'North West'!AL116, 'West Midlands'!AL116, Northern!AL116, Scotland!AL116, Southern!AL116, 'Wales & West'!AL116)","v":0.15},{"$f":"CHOOSE(m_identity,East!AM116, London!AM116, 'North West'!AM116, 'West Midlands'!AM116, Northern!AM116, Scotland!AM116, Southern!AM116, 'Wales & West'!AM116)","v":0.15},{"$f":"CHOOSE(m_identity,East!AN116, London!AN116, 'North West'!AN116, 'West Midlands'!AN116, Northern!AN116, Scotland!AN116, Southern!AN116, 'Wales & West'!AN116)","v":0.15},{"$f":"CHOOSE(m_identity,East!AO116, London!AO116, 'North West'!AO116, 'West Midlands'!AO116, Northern!AO116, Scotland!AO116, Southern!AO116, 'Wales & West'!AO116)","v":0.15}]
[null,null,null,null,"Allocation to controllable opex",null,"%",null,null,null,null,null,null,null,null,null,null,null,null,null,null,null,null,null,null,null,null,null,null,null,null,null,null,{"$f":"CHOOSE(m_identity,East!AH117, London!AH117, 'North West'!AH117, 'West Midlands'!AH117, Northern!AH117, Scotland!AH117, Southern!AH117, 'Wales & West'!AH117)","v":0.85},{"$f":"CHOOSE(m_identity,East!AI117, London!AI117, 'North West'!AI117, 'West Midlands'!AI117, Northern!AI117, Scotland!AI117, Southern!AI117, 'Wales & West'!AI117)","v":0.85},{"$f":"CHOOSE(m_identity,East!AJ117, London!AJ117, 'North West'!AJ117, 'West Midlands'!AJ117, Northern!AJ117, Scotland!AJ117, Southern!AJ117, 'Wales & West'!AJ117)","v":0.85},{"$f":"CHOOSE(m_identity,East!AK117, London!AK117, 'North West'!AK117, 'West Midlands'!AK117, Northern!AK117, Scotland!AK117, Southern!AK117, 'Wales & West'!AK117)","v":0.85},{"$f":"CHOOSE(m_identity,East!AL117, London!AL117, 'North West'!AL117, 'West Midlands'!AL117, Northern!AL117, Scotland!AL117, Southern!AL117, 'Wales & West'!AL117)","v":0.85},{"$f":"CHOOSE(m_identity,East!AM117, London!AM117, 'North West'!AM117, 'West Midlands'!AM117, Northern!AM117, Scotland!AM117, Southern!AM117, 'Wales & West'!AM117)","v":0.85},{"$f":"CHOOSE(m_identity,East!AN117, London!AN117, 'North West'!AN117, 'West Midlands'!AN117, Northern!AN117, Scotland!AN117, Southern!AN117, 'Wales & West'!AN117)","v":0.85},{"$f":"CHOOSE(m_identity,East!AO117, London!AO117, 'North West'!AO117, 'West Midlands'!AO117, Northern!AO117, Scotland!AO117, Southern!AO117, 'Wales & West'!AO117)","v":0.85}]
[null,null,null,null,"Allocation to repex",null,"%",null,null,null,null,null,null,null,null,null,null,null,null,null,null,null,null,null,null,null,null,null,null,null,null,null,null,{"$f":"CHOOSE(m_identity,East!AH118, London!AH118, 'North West'!AH118, 'West Midlands'!AH118, Northern!AH118, Scotland!AH118, Southern!AH118, 'Wales & West'!AH118)","v":0},{"$f":"CHOOSE(m_identity,East!AI118, London!AI118, 'North West'!AI118, 'West Midlands'!AI118, Northern!AI118, Scotland!AI118, Southern!AI118, 'Wales & West'!AI118)","v":0},{"$f":"CHOOSE(m_identity,East!AJ118, London!AJ118, 'North West'!AJ118, 'West Midlands'!AJ118, Northern!AJ118, Scotland!AJ118, Southern!AJ118, 'Wales & West'!AJ118)","v":0},{"$f":"CHOOSE(m_identity,East!AK118, London!AK118, 'North West'!AK118, 'West Midlands'!AK118, Northern!AK118, Scotland!AK118, Southern!AK118, 'Wales & West'!AK118)","v":0},{"$f":"CHOOSE(m_identity,East!AL118, London!AL118, 'North West'!AL118, 'West Midlands'!AL118, Northern!AL118, Scotland!AL118, Southern!AL118, 'Wales & West'!AL118)","v":0},{"$f":"CHOOSE(m_identity,East!AM118, London!AM118, 'North West'!AM118, 'West Midlands'!AM118, Northern!AM118, Scotland!AM118, Southern!AM118, 'Wales & West'!AM118)","v":0},{"$f":"CHOOSE(m_identity,East!AN118, London!AN118, 'North West'!AN118, 'West Midlands'!AN118, Northern!AN118, Scotland!AN118, Southern!AN118, 'Wales & West'!AN118)","v":0},{"$f":"CHOOSE(m_identity,East!AO118, London!AO118, 'North West'!AO118, 'West Midlands'!AO118, Northern!AO118, Scotland!AO118, Southern!AO118, 'Wales & West'!AO118)","v":0}]
[]
[null,null,null,null,{"$f":"E18","v":"Allowed uncertain costs (Smart metering roll out costs)"},null,"£m 09/10 prices",null,null,null,null,null,null,null,null,null,null,null,null,null,null,null,null,null,null,null,null,null,null,null,null,null,null,{"$f":"AH18","v":0},0,0,0,0,0,0,0]
[null,null,null,null,"Allocation to load related capex",null,"%",null,null,null,null,null,null,null,null,null,null,null,null,null,null,null,null,null,null,null,null,null,null,null,null,null,null,{"$f":"CHOOSE(m_identity,East!AH121, London!AH121, 'North West'!AH121, 'West Midlands'!AH121, Northern!AH121, Scotland!AH121, Southern!AH121, 'Wales & West'!AH121)","v":0},{"$f":"CHOOSE(m_identity,East!AI121, London!AI121, 'North West'!AI121, 'West Midlands'!AI121, Northern!AI121, Scotland!AI121, Southern!AI121, 'Wales & West'!AI121)","v":0},{"$f":"CHOOSE(m_identity,East!AJ121, London!AJ121, 'North West'!AJ121, 'West Midlands'!AJ121, Northern!AJ121, Scotland!AJ121, Southern!AJ121, 'Wales & West'!AJ121)","v":0},{"$f":"CHOOSE(m_identity,East!AK121, London!AK121, 'North West'!AK121, 'West Midlands'!AK121, Northern!AK121, Scotland!AK121, Southern!AK121, 'Wales & West'!AK121)","v":0},{"$f":"CHOOSE(m_identity,East!AL121, London!AL121, 'North West'!AL121, 'West Midlands'!AL121, Northern!AL121, Scotland!AL121, Southern!AL121, 'Wales & West'!AL121)","v":0},{"$f":"CHOOSE(m_identity,East!AM121, London!AM121, 'North West'!AM121, 'West Midlands'!AM121, Northern!AM121, Scotland!AM121, Southern!AM121, 'Wales & West'!AM121)","v":0},{"$f":"CHOOSE(m_identity,East!AN121, London!AN121, 'North West'!AN121, 'West Midlands'!AN121, Northern!AN121, Scotland!AN121, Southern!AN121, 'Wales & West'!AN121)","v":0},{"$f":"CHOOSE(m_identity,East!AO121, London!AO121, 'North West'!AO121, 'West Midlands'!AO121, Northern!AO121, Scotland!AO121, Southern!AO121, 'Wales & West'!AO121)","v":0}]
[null,null,null,null,"Allocation to non-load related capex - other",null,"%",null,null,null,null,null,null,null,null,null,null,null,null,null,null,null,null,null,null,null,null,null,null,null,null,null,null,{"$f":"CHOOSE(m_identity,East!AH122, London!AH122, 'North West'!AH122, 'West Midlands'!AH122, Northern!AH122, Scotland!AH122, Southern!AH122, 'Wales & West'!AH122)","v":0},{"$f":"CHOOSE(m_identity,East!AI122, London!AI122, 'North West'!AI122, 'West Midlands'!AI122, Northern!AI122, Scotland!AI122, Southern!AI122, 'Wales & West'!AI122)","v":0},{"$f":"CHOOSE(m_identity,East!AJ122, London!AJ122, 'North West'!AJ122, 'West Midlands'!AJ122, Northern!AJ122, Scotland!AJ122, Southern!AJ122, 'Wales & West'!AJ122)","v":0},{"$f":"CHOOSE(m_identity,East!AK122, London!AK122, 'North West'!AK122, 'West Midlands'!AK122, Northern!AK122, Scotland!AK122, Southern!AK122, 'Wales & West'!AK122)","v":0},{"$f":"CHOOSE(m_identity,East!AL122, London!AL122, 'North West'!AL122, 'West Midlands'!AL122, Northern!AL122, Scotland!AL122, Southern!AL122, 'Wales & West'!AL122)","v":0},{"$f":"CHOOSE(m_identity,East!AM122, London!AM122, 'North West'!AM122, 'West Midlands'!AM122, Northern!AM122, Scotland!AM122, Southern!AM122, 'Wales & West'!AM122)","v":0},{"$f":"CHOOSE(m_identity,East!AN122, London!AN122, 'North West'!AN122, 'West Midlands'!AN122, Northern!AN122, Scotland!AN122, Southern!AN122, 'Wales & West'!AN122)","v":0},{"$f":"CHOOSE(m_identity,East!AO122, London!AO122, 'North West'!AO122, 'West Midlands'!AO122, Northern!AO122, Scotland!AO122, Southern!AO122, 'Wales & West'!AO122)","v":0}]
[null,null,null,null,"Allocation to controllable opex",null,"%",null,null,null,null,null,null,null,null,null,null,null,null,null,null,null,null,null,null,null,null,null,null,null,null,null,null,{"$f":"CHOOSE(m_identity,East!AH123, London!AH123, 'North West'!AH123, 'West Midlands'!AH123, Northern!AH123, Scotland!AH123, Southern!AH123, 'Wales & West'!AH123)","v":0.5},{"$f":"CHOOSE(m_identity,East!AI123, London!AI123, 'North West'!AI123, 'West Midlands'!AI123, Northern!AI123, Scotland!AI123, Southern!AI123, 'Wales & West'!AI123)","v":0.5},{"$f":"CHOOSE(m_identity,East!AJ123, London!AJ123, 'North West'!AJ123, 'West Midlands'!AJ123, Northern!AJ123, Scotland!AJ123, Southern!AJ123, 'Wales & West'!AJ123)","v":0.5},{"$f":"CHOOSE(m_identity,East!AK123, London!AK123, 'North West'!AK123, 'West Midlands'!AK123, Northern!AK123, Scotland!AK123, Southern!AK123, 'Wales & West'!AK123)","v":0.5},{"$f":"CHOOSE(m_identity,East!AL123, London!AL123, 'North West'!AL123, 'West Midlands'!AL123, Northern!AL123, Scotland!AL123, Southern!AL123, 'Wales & West'!AL123)","v":0.5},{"$f":"CHOOSE(m_identity,East!AM123, London!AM123, 'North West'!AM123, 'West Midlands'!AM123, Northern!AM123, Scotland!AM123, Southern!AM123, 'Wales & West'!AM123)","v":0.5},{"$f":"CHOOSE(m_identity,East!AN123, London!AN123, 'North West'!AN123, 'West Midlands'!AN123, Northern!AN123, Scotland!AN123, Southern!AN123, 'Wales & West'!AN123)","v":0.5},{"$f":"CHOOSE(m_identity,East!AO123, London!AO123, 'North West'!AO123, 'West Midlands'!AO123, Northern!AO123, Scotland!AO123, Southern!AO123, 'Wales & West'!AO123)","v":0.5}]
[null,null,null,null,"Allocation to repex",null,"%",null,null,null,null,null,null,null,null,null,null,null,null,null,null,null,null,null,null,null,null,null,null,null,null,null,null,{"$f":"CHOOSE(m_identity,East!AH124, London!AH124, 'North West'!AH124, 'West Midlands'!AH124, Northern!AH124, Scotland!AH124, Southern!AH124, 'Wales & West'!AH124)","v":0.5},{"$f":"CHOOSE(m_identity,East!AI124, London!AI124, 'North West'!AI124, 'West Midlands'!AI124, Northern!AI124, Scotland!AI124, Southern!AI124, 'Wales & West'!AI124)","v":0.5},{"$f":"CHOOSE(m_identity,East!AJ124, London!AJ124, 'North West'!AJ124, 'West Midlands'!AJ124, Northern!AJ124, Scotland!AJ124, Southern!AJ124, 'Wales & West'!AJ124)","v":0.5},{"$f":"CHOOSE(m_identity,East!AK124, London!AK124, 'North West'!AK124, 'West Midlands'!AK124, Northern!AK124, Scotland!AK124, Southern!AK124, 'Wales & West'!AK124)","v":0.5},{"$f":"CHOOSE(m_identity,East!AL124, London!AL124, 'North West'!AL124, 'West Midlands'!AL124, Northern!AL124, Scotland!AL124, Southern!AL124, 'Wales & West'!AL124)","v":0.5},{"$f":"CHOOSE(m_identity,East!AM124, London!AM124, 'North West'!AM124, 'West Midlands'!AM124, Northern!AM124, Scotland!AM124, Southern!AM124, 'Wales & West'!AM124)","v":0.5},{"$f":"CHOOSE(m_identity,East!AN124, London!AN124, 'North West'!AN124, 'West Midlands'!AN124, Northern!AN124, Scotland!AN124, Southern!AN124, 'Wales & West'!AN124)","v":0.5},{"$f":"CHOOSE(m_identity,East!AO124, London!AO124, 'North West'!AO124, 'West Midlands'!AO124, Northern!AO124, Scotland!AO124, Southern!AO124, 'Wales & West'!AO124)","v":0.5}]
[]
[null,null,null,null,{"$f":"E19","v":"Allowed uncertain costs (Mains and services replacement expenditure)"},null,"£m 09/10 prices",null,null,null,null,null,null,null,null,null,null,null,null,null,null,null,null,null,null,null,null,null,null,null,null,null,null,{"$f":"AH19","v":0.10560899999999998},{"$f":"AI19","v":0.182225},0.41686099999999998,0.94362146250000001,0.94362146250000001,0.94362146250000001,0.94362146250000001,0.94362146250000001]
[null,null,null,null,"Allocation to load related capex",null,"%",null,null,null,null,null,null,null,null,null,null,null,null,null,null,null,null,null,null,null,null,null,null,null,null,null,null,{"$f":"CHOOSE(m_identity,East!AH127, London!AH127, 'North West'!AH127, 'West Midlands'!AH127, Northern!AH127, Scotland!AH127, Southern!AH127, 'Wales & West'!AH127)","v":0},{"$f":"CHOOSE(m_identity,East!AI127, London!AI127, 'North West'!AI127, 'West Midlands'!AI127, Northern!AI127, Scotland!AI127, Southern!AI127, 'Wales & West'!AI127)","v":0},{"$f":"CHOOSE(m_identity,East!AJ127, London!AJ127, 'North West'!AJ127, 'West Midlands'!AJ127, Northern!AJ127, Scotland!AJ127, Southern!AJ127, 'Wales & West'!AJ127)","v":0},{"$f":"CHOOSE(m_identity,East!AK127, London!AK127, 'North West'!AK127, 'West Midlands'!AK127, Northern!AK127, Scotland!AK127, Southern!AK127, 'Wales & West'!AK127)","v":0},{"$f":"CHOOSE(m_identity,East!AL127, London!AL127, 'North West'!AL127, 'West Midlands'!AL127, Northern!AL127, Scotland!AL127, Southern!AL127, 'Wales & West'!AL127)","v":0},{"$f":"CHOOSE(m_identity,East!AM127, London!AM127, 'North West'!AM127, 'West Midlands'!AM127, Northern!AM127, Scotland!AM127, Southern!AM127, 'Wales & West'!AM127)","v":0},{"$f":"CHOOSE(m_identity,East!AN127, London!AN127, 'North West'!AN127, 'West Midlands'!AN127, Northern!AN127, Scotland!AN127, Southern!AN127, 'Wales & West'!AN127)","v":0},{"$f":"CHOOSE(m_identity,East!AO127, London!AO127, 'North West'!AO127, 'West Midlands'!AO127, Northern!AO127, Scotland!AO127, Southern!AO127, 'Wales & West'!AO127)","v":0}]
[null,null,null,null,"Allocation to non-load related capex - other",null,"%",null,null,null,null,null,null,null,null,null,null,null,null,null,null,null,null,null,null,null,null,null,null,null,null,null,null,{"$f":"CHOOSE(m_identity,East!AH128, London!AH128, 'North West'!AH128, 'West Midlands'!AH128, Northern!AH128, Scotland!AH128, Southern!AH128, 'Wales & West'!AH128)","v":0},{"$f":"CHOOSE(m_identity,East!AI128, London!AI128, 'North West'!AI128, 'West Midlands'!AI128, Northern!AI128, Scotland!AI128, Southern!AI128, 'Wales & West'!AI128)","v":0},{"$f":"CHOOSE(m_identity,East!AJ128, London!AJ128, 'North West'!AJ128, 'West Midlands'!AJ128, Northern!AJ128, Scotland!AJ128, Southern!AJ128, 'Wales & West'!AJ128)","v":0},{"$f":"CHOOSE(m_identity,East!AK128, London!AK128, 'North West'!AK128, 'West Midlands'!AK128, Northern!AK128, Scotland!AK128, Southern!AK128, 'Wales & West'!AK128)","v":0},{"$f":"CHOOSE(m_identity,East!AL128, London!AL128, 'North West'!AL128, 'West Midlands'!AL128, Northern!AL128, Scotland!AL128, Southern!AL128, 'Wales & West'!AL128)","v":0},{"$f":"CHOOSE(m_identity,East!AM128, London!AM128, 'North West'!AM128, 'West Midlands'!AM128, Northern!AM128, Scotland!AM128, Southern!AM128, 'Wales & West'!AM128)","v":0},{"$f":"CHOOSE(m_identity,East!AN128, London!AN128, 'North West'!AN128, 'West Midlands'!AN128, Northern!AN128, Scotland!AN128, Southern!AN128, 'Wales & West'!AN128)","v":0},{"$f":"CHOOSE(m_identity,East!AO128, London!AO128, 'North West'!AO128, 'West Midlands'!AO128, Northern!AO128, Scotland!AO128, Southern!AO128, 'Wales & West'!AO128)","v":0}]
[null,null,null,null,"Allocation to controllable opex",null,"%",null,null,null,null,null,null,null,null,null,null,null,null,null,null,null,null,null,null,null,null,null,null,null,null,null,null,{"$f":"CHOOSE(m_identity,East!AH129, London!AH129, 'North West'!AH129, 'West Midlands'!AH129, Northern!AH129, Scotland!AH129, Southern!AH129, 'Wales & West'!AH129)","v":0},{"$f":"CHOOSE(m_identity,East!AI129, London!AI129, 'North West'!AI129, 'West Midlands'!AI129, Northern!AI129, Scotland!AI129, Southern!AI129, 'Wales & West'!AI129)","v":0},{"$f":"CHOOSE(m_identity,East!AJ129, London!AJ129, 'North West'!AJ129, 'West Midlands'!AJ129, Northern!AJ129, Scotland!AJ129, Southern!AJ129, 'Wales & West'!AJ129)","v":0},{"$f":"CHOOSE(m_identity,East!AK129, London!AK129, 'North West'!AK129, 'West Midlands'!AK129, Northern!AK129, Scotland!AK129, Southern!AK129, 'Wales & West'!AK129)","v":0},{"$f":"CHOOSE(m_identity,East!AL129, London!AL129, 'North West'!AL129, 'West Midlands'!AL129, Northern!AL129, Scotland!AL129, Southern!AL129, 'Wales & West'!AL129)","v":0},{"$f":"CHOOSE(m_identity,East!AM129, London!AM129, 'North West'!AM129, 'West Midlands'!AM129, Northern!AM129, Scotland!AM129, Southern!AM129, 'Wales & West'!AM129)","v":0},{"$f":"CHOOSE(m_identity,East!AN129, London!AN129, 'North West'!AN129, 'West Midlands'!AN129, Northern!AN129, Scotland!AN129, Southern!AN129, 'Wales & West'!AN129)","v":0},{"$f":"CHOOSE(m_identity,East!AO129, London!AO129, 'North West'!AO129, 'West Midlands'!AO129, Northern!AO129, Scotland!AO129, Southern!AO129, 'Wales & West'!AO129)","v":0}]
[null,null,null,null,"Allocation to repex",null,"%",null,null,null,null,null,null,null,null,null,null,null,null,null,null,null,null,null,null,null,null,null,null,null,null,null,null,{"$f":"CHOOSE(m_identity,East!AH130, London!AH130, 'North West'!AH130, 'West Midlands'!AH130, Northern!AH130, Scotland!AH130, Southern!AH130, 'Wales & West'!AH130)","v":1},{"$f":"CHOOSE(m_identity,East!AI130, London!AI130, 'North West'!AI130, 'West Midlands'!AI130, Northern!AI130, Scotland!AI130, Southern!AI130, 'Wales & West'!AI130)","v":1},{"$f":"CHOOSE(m_identity,East!AJ130, London!AJ130, 'North West'!AJ130, 'West Midlands'!AJ130, Northern!AJ130, Scotland!AJ130, Southern!AJ130, 'Wales & West'!AJ130)","v":1},{"$f":"CHOOSE(m_identity,East!AK130, London!AK130, 'North West'!AK130, 'West Midlands'!AK130, Northern!AK130, Scotland!AK130, Southern!AK130, 'Wales & West'!AK130)","v":1},{"$f":"CHOOSE(m_identity,East!AL130, London!AL130, 'North West'!AL130, 'West Midlands'!AL130, Northern!AL130, Scotland!AL130, Southern!AL130, 'Wales & West'!AL130)","v":1},{"$f":"CHOOSE(m_identity,East!AM130, London!AM130, 'North West'!AM130, 'West Midlands'!AM130, Northern!AM130, Scotland!AM130, Southern!AM130, 'Wales & West'!AM130)","v":1},{"$f":"CHOOSE(m_identity,East!AN130, London!AN130, 'North West'!AN130, 'West Midlands'!AN130, Northern!AN130, Scotland!AN130, Southern!AN130, 'Wales & West'!AN130)","v":1},{"$f":"CHOOSE(m_identity,East!AO130, London!AO130, 'North West'!AO130, 'West Midlands'!AO130, Northern!AO130, Scotland!AO130, Southern!AO130, 'Wales & West'!AO130)","v":1}]
[]
[null,null,null,null,{"$f":"E20","v":"Allowed uncertain Costs (Large load connection costs)"},null,"£m 09/10 prices",null,null,null,null,null,null,null,null,null,null,null,null,null,null,null,null,null,null,null,null,null,null,null,null,null,null,{"$f":"AH20","v":0},{"$f":"AI20","v":0},{"$f":"AJ20","v":0},0,{"$f":"AL20","v":0},0,0,0]
[null,null,null,null,"Allocation to load related capex",null,"%",null,null,null,null,null,null,null,null,null,null,null,null,null,null,null,null,null,null,null,null,null,null,null,null,null,null,{"$f":"CHOOSE(m_identity,East!AH133, London!AH133, 'North West'!AH133, 'West Midlands'!AH133, Northern!AH133, Scotland!AH133, Southern!AH133, 'Wales & West'!AH133)","v":1},{"$f":"CHOOSE(m_identity,East!AI133, London!AI133, 'North West'!AI133, 'West Midlands'!AI133, Northern!AI133, Scotland!AI133, Southern!AI133, 'Wales & West'!AI133)","v":1},{"$f":"CHOOSE(m_identity,East!AJ133, London!AJ133, 'North West'!AJ133, 'West Midlands'!AJ133, Northern!AJ133, Scotland!AJ133, Southern!AJ133, 'Wales & West'!AJ133)","v":1},{"$f":"CHOOSE(m_identity,East!AK133, London!AK133, 'North West'!AK133, 'West Midlands'!AK133, Northern!AK133, Scotland!AK133, Southern!AK133, 'Wales & West'!AK133)","v":1},{"$f":"CHOOSE(m_identity,East!AL133, London!AL133, 'North West'!AL133, 'West Midlands'!AL133, Northern!AL133, Scotland!AL133, Southern!AL133, 'Wales & West'!AL133)","v":1},{"$f":"CHOOSE(m_identity,East!AM133, London!AM133, 'North West'!AM133, 'West Midlands'!AM133, Northern!AM133, Scotland!AM133, Southern!AM133, 'Wales & West'!AM133)","v":1},{"$f":"CHOOSE(m_identity,East!AN133, London!AN133, 'North West'!AN133, 'West Midlands'!AN133, Northern!AN133, Scotland!AN133, Southern!AN133, 'Wales & West'!AN133)","v":1},{"$f":"CHOOSE(m_identity,East!AO133, London!AO133, 'North West'!AO133, 'West Midlands'!AO133, Northern!AO133, Scotland!AO133, Southern!AO133, 'Wales & West'!AO133)","v":1}]
[null,null,null,null,"Allocation to non-load related capex - other",null,"%",null,null,null,null,null,null,null,null,null,null,null,null,null,null,null,null,null,null,null,null,null,null,null,null,null,null,{"$f":"CHOOSE(m_identity,East!AH134, London!AH134, 'North West'!AH134, 'West Midlands'!AH134, Northern!AH134, Scotland!AH134, Southern!AH134, 'Wales & West'!AH134)","v":0},{"$f":"CHOOSE(m_identity,East!AI134, London!AI134, 'North West'!AI134, 'West Midlands'!AI134, Northern!AI134, Scotland!AI134, Southern!AI134, 'Wales & West'!AI134)","v":0},{"$f":"CHOOSE(m_identity,East!AJ134, London!AJ134, 'North West'!AJ134, 'West Midlands'!AJ134, Northern!AJ134, Scotland!AJ134, Southern!AJ134, 'Wales & West'!AJ134)","v":0},{"$f":"CHOOSE(m_identity,East!AK134, London!AK134, 'North West'!AK134, 'West Midlands'!AK134, Northern!AK134, Scotland!AK134, Southern!AK134, 'Wales & West'!AK134)","v":0},{"$f":"CHOOSE(m_identity,East!AL134, London!AL134, 'North West'!AL134, 'West Midlands'!AL134, Northern!AL134, Scotland!AL134, Southern!AL134, 'Wales & West'!AL134)","v":0},{"$f":"CHOOSE(m_identity,East!AM134, London!AM134, 'North West'!AM134, 'West Midlands'!AM134, Northern!AM134, Scotland!AM134, Southern!AM134, 'Wales & West'!AM134)","v":0},{"$f":"CHOOSE(m_identity,East!AN134, London!AN134, 'North West'!AN134, 'West Midlands'!AN134, Northern!AN134, Scotland!AN134, Southern!AN134, 'Wales & West'!AN134)","v":0},{"$f":"CHOOSE(m_identity,East!AO134, London!AO134, 'North West'!AO134, 'West Midlands'!AO134, Northern!AO134, Scotland!AO134, Southern!AO134, 'Wales & West'!AO134)","v":0}]
[null,null,null,null,"Allocation to controllable opex",null,"%",null,null,null,null,null,null,null,null,null,null,null,null,null,null,null,null,null,null,null,null,null,null,null,null,null,null,{"$f":"CHOOSE(m_identity,East!AH135, London!AH135, 'North West'!AH135, 'West Midlands'!AH135, Northern!AH135, Scotland!AH135, Southern!AH135, 'Wales & West'!AH135)","v":0},{"$f":"CHOOSE(m_identity,East!AI135, London!AI135, 'North West'!AI135, 'West Midlands'!AI135, Northern!AI135, Scotland!AI135, Southern!AI135, 'Wales & West'!AI135)","v":0},{"$f":"CHOOSE(m_identity,East!AJ135, London!AJ135, 'North West'!AJ135, 'West Midlands'!AJ135, Northern!AJ135, Scotland!AJ135, Southern!AJ135, 'Wales & West'!AJ135)","v":0},{"$f":"CHOOSE(m_identity,East!AK135, London!AK135, 'North West'!AK135, 'West Midlands'!AK135, Northern!AK135, Scotland!AK135, Southern!AK135, 'Wales & West'!AK135)","v":0},{"$f":"CHOOSE(m_identity,East!AL135, London!AL135, 'North West'!AL135, 'West Midlands'!AL135, Northern!AL135, Scotland!AL135, Southern!AL135, 'Wales & West'!AL135)","v":0},{"$f":"CHOOSE(m_identity,East!AM135, London!AM135, 'North West'!AM135, 'West Midlands'!AM135, Northern!AM135, Scotland!AM135, Southern!AM135, 'Wales & West'!AM135)","v":0},{"$f":"CHOOSE(m_identity,East!AN135, London!AN135, 'North West'!AN135, 'West Midlands'!AN135, Northern!AN135, Scotland!AN135, Southern!AN135, 'Wales & West'!AN135)","v":0},{"$f":"CHOOSE(m_identity,East!AO135, London!AO135, 'North West'!AO135, 'West Midlands'!AO135, Northern!AO135, Scotland!AO135, Southern!AO135, 'Wales & West'!AO135)","v":0}]
[null,null,null,null,"Allocation to repex",null,"%",null,null,null,null,null,null,null,null,null,null,null,null,null,null,null,null,null,null,null,null,null,null,null,null,null,null,{"$f":"CHOOSE(m_identity,East!AH136, London!AH136, 'North West'!AH136, 'West Midlands'!AH136, Northern!AH136, Scotland!AH136, Southern!AH136, 'Wales & West'!AH136)","v":0},{"$f":"CHOOSE(m_identity,East!AI136, London!AI136, 'North West'!AI136, 'West Midlands'!AI136, Northern!AI136, Scotland!AI136, Southern!AI136, 'Wales & West'!AI136)","v":0},{"$f":"CHOOSE(m_identity,East!AJ136, London!AJ136, 'North West'!AJ136, 'West Midlands'!AJ136, Northern!AJ136, Scotland!AJ136, Southern!AJ136, 'Wales & West'!AJ136)","v":0},{"$f":"CHOOSE(m_identity,East!AK136, London!AK136, 'North West'!AK136, 'West Midlands'!AK136, Northern!AK136, Scotland!AK136, Southern!AK136, 'Wales & West'!AK136)","v":0},{"$f":"CHOOSE(m_identity,East!AL136, London!AL136, 'North West'!AL136, 'West Midlands'!AL136, Northern!AL136, Scotland!AL136, Southern!AL136, 'Wales & West'!AL136)","v":0},{"$f":"CHOOSE(m_identity,East!AM136, London!AM136, 'North West'!AM136, 'West Midlands'!AM136, Northern!AM136, Scotland!AM136, Southern!AM136, 'Wales & West'!AM136)","v":0},{"$f":"CHOOSE(m_identity,East!AN136, London!AN136, 'North West'!AN136, 'West Midlands'!AN136, Northern!AN136, Scotland!AN136, Southern!AN136, 'Wales & West'!AN136)","v":0},{"$f":"CHOOSE(m_identity,East!AO136, London!AO136, 'North West'!AO136, 'West Midlands'!AO136, Northern!AO136, Scotland!AO136, Southern!AO136, 'Wales & West'!AO136)","v":0}]
[]
[null,null,null,null,{"$f":"E21","v":"Allowed innovation roll-out mechanism"},null,"£m 09/10 prices",null,null,null,null,null,null,null,null,null,null,null,null,null,null,null,null,null,null,null,null,null,null,null,null,null,null,{"$f":"AH21","v":0},{"$f":"AI21","v":0},0,0,0,0,0,0]
[null,null,null,null,"Allocation to load related capex",null,"%",null,null,null,null,null,null,null,null,null,null,null,null,null,null,null,null,null,null,null,null,null,null,null,null,null,null,{"$f":"CHOOSE(m_identity,East!AH139, London!AH139, 'North West'!AH139, 'West Midlands'!AH139, Northern!AH139, Scotland!AH139, Southern!AH139, 'Wales & West'!AH139)","v":0.5},{"$f":"CHOOSE(m_identity,East!AI139, London!AI139, 'North West'!AI139, 'West Midlands'!AI139, Northern!AI139, Scotland!AI139, Southern!AI139, 'Wales & West'!AI139)","v":0.5},{"$f":"CHOOSE(m_identity,East!AJ139, London!AJ139, 'North West'!AJ139, 'West Midlands'!AJ139, Northern!AJ139, Scotland!AJ139, Southern!AJ139, 'Wales & West'!AJ139)","v":0.5},{"$f":"CHOOSE(m_identity,East!AK139, London!AK139, 'North West'!AK139, 'West Midlands'!AK139, Northern!AK139, Scotland!AK139, Southern!AK139, 'Wales & West'!AK139)","v":0.5},{"$f":"CHOOSE(m_identity,East!AL139, London!AL139, 'North West'!AL139, 'West Midlands'!AL139, Northern!AL139, Scotland!AL139, Southern!AL139, 'Wales & West'!AL139)","v":0.5},{"$f":"CHOOSE(m_identity,East!AM139, London!AM139, 'North West'!AM139, 'West Midlands'!AM139, Northern!AM139, Scotland!AM139, Southern!AM139, 'Wales & West'!AM139)","v":0.5},{"$f":"CHOOSE(m_identity,East!AN139, London!AN139, 'North West'!AN139, 'West Midlands'!AN139, Northern!AN139, Scotland!AN139, Southern!AN139, 'Wales & West'!AN139)","v":0.5},{"$f":"CHOOSE(m_identity,East!AO139, London!AO139, 'North West'!AO139, 'West Midlands'!AO139, Northern!AO139, Scotland!AO139, Southern!AO139, 'Wales & West'!AO139)","v":0.5}]
[null,null,null,null,"Allocation to non-load related capex - other",null,"%",null,null,null,null,null,null,null,null,null,null,null,null,null,null,null,null,null,null,null,null,null,null,null,null,null,null,{"$f":"CHOOSE(m_identity,East!AH140, London!AH140, 'North West'!AH140, 'West Midlands'!AH140, Northern!AH140, Scotland!AH140, Southern!AH140, 'Wales & West'!AH140)","v":0},{"$f":"CHOOSE(m_identity,East!AI140, London!AI140, 'North West'!AI140, 'West Midlands'!AI140, Northern!AI140, Scotland!AI140, Southern!AI140, 'Wales & West'!AI140)","v":0},{"$f":"CHOOSE(m_identity,East!AJ140, London!AJ140, 'North West'!AJ140, 'West Midlands'!AJ140, Northern!AJ140, Scotland!AJ140, Southern!AJ140, 'Wales & West'!AJ140)","v":0},{"$f":"CHOOSE(m_identity,East!AK140, London!AK140, 'North West'!AK140, 'West Midlands'!AK140, Northern!AK140, Scotland!AK140, Southern!AK140, 'Wales & West'!AK140)","v":0},{"$f":"CHOOSE(m_identity,East!AL140, London!AL140, 'North West'!AL140, 'West Midlands'!AL140, Northern!AL140, Scotland!AL140, Southern!AL140, 'Wales & West'!AL140)","v":0},{"$f":"CHOOSE(m_identity,East!AM140, London!AM140, 'North West'!AM140, 'West Midlands'!AM140, Northern!AM140, Scotland!AM140, Southern!AM140, 'Wales & West'!AM140)","v":0},{"$f":"CHOOSE(m_identity,East!AN140, London!AN140, 'North West'!AN140, 'West Midlands'!AN140, Northern!AN140, Scotland!AN140, Southern!AN140, 'Wales & West'!AN140)","v":0},{"$f":"CHOOSE(m_identity,East!AO140, London!AO140, 'North West'!AO140, 'West Midlands'!AO140, Northern!AO140, Scotland!AO140, Southern!AO140, 'Wales & West'!AO140)","v":0}]
[null,null,null,null,"Allocation to controllable opex",null,"%",null,null,null,null,null,null,null,null,null,null,null,null,null,null,null,null,null,null,null,null,null,null,null,null,null,null,{"$f":"CHOOSE(m_identity,East!AH141, London!AH141, 'North West'!AH141, 'West Midlands'!AH141, Northern!AH141, Scotland!AH141, Southern!AH141, 'Wales & West'!AH141)","v":0.5},{"$f":"CHOOSE(m_identity,East!AI141, London!AI141, 'North West'!AI141, 'West Midlands'!AI141, Northern!AI141, Scotland!AI141, Southern!AI141, 'Wales & West'!AI141)","v":0.5},{"$f":"CHOOSE(m_identity,East!AJ141, London!AJ141, 'North West'!AJ141, 'West Midlands'!AJ141, Northern!AJ141, Scotland!AJ141, Southern!AJ141, 'Wales & West'!AJ141)","v":0.5},{"$f":"CHOOSE(m_identity,East!AK141, London!AK141, 'North West'!AK141, 'West Midlands'!AK141, Northern!AK141, Scotland!AK141, Southern!AK141, 'Wales & West'!AK141)","v":0.5},{"$f":"CHOOSE(m_identity,East!AL141, London!AL141, 'North West'!AL141, 'West Midlands'!AL141, Northern!AL141, Scotland!AL141, Southern!AL141, 'Wales & West'!AL141)","v":0.5},{"$f":"CHOOSE(m_identity,East!AM141, London!AM141, 'North West'!AM141, 'West Midlands'!AM141, Northern!AM141, Scotland!AM141, Southern!AM141, 'Wales & West'!AM141)","v":0.5},{"$f":"CHOOSE(m_identity,East!AN141, London!AN141, 'North West'!AN141, 'West Midlands'!AN141, Northern!AN141, Scotland!AN141, Southern!AN141, 'Wales & West'!AN141)","v":0.5},{"$f":"CHOOSE(m_identity,East!AO141, London!AO141, 'North West'!AO141, 'West Midlands'!AO141, Northern!AO141, Scotland!AO141, Southern!AO141, 'Wales & West'!AO141)","v":0.5}]
[null,null,null,null,"Allocation to repex",null,"%",null,null,null,null,null,null,null,null,null,null,null,null,null,null,null,null,null,null,null,null,null,null,null,null,null,null,{"$f":"CHOOSE(m_identity,East!AH142, London!AH142, 'North West'!AH142, 'West Midlands'!AH142, Northern!AH142, Scotland!AH142, Southern!AH142, 'Wales & West'!AH142)","v":0},{"$f":"CHOOSE(m_identity,East!AI142, London!AI142, 'North West'!AI142, 'West Midlands'!AI142, Northern!AI142, Scotland!AI142, Southern!AI142, 'Wales & West'!AI142)","v":0},{"$f":"CHOOSE(m_identity,East!AJ142, London!AJ142, 'North West'!AJ142, 'West Midlands'!AJ142, Northern!AJ142, Scotland!AJ142, Southern!AJ142, 'Wales & West'!AJ142)","v":0},{"$f":"CHOOSE(m_identity,East!AK142, London!AK142, 'North West'!AK142, 'West Midlands'!AK142, Northern!AK142, Scotland!AK142, Southern!AK142, 'Wales & West'!AK142)","v":0},{"$f":"CHOOSE(m_identity,East!AL142, London!AL142, 'North West'!AL142, 'West Midlands'!AL142, Northern!AL142, Scotland!AL142, Southern!AL142, 'Wales & West'!AL142)","v":0},{"$f":"CHOOSE(m_identity,East!AM142, London!AM142, 'North West'!AM142, 'West Midlands'!AM142, Northern!AM142, Scotland!AM142, Southern!AM142, 'Wales & West'!AM142)","v":0},{"$f":"CHOOSE(m_identity,East!AN142, London!AN142, 'North West'!AN142, 'West Midlands'!AN142, Northern!AN142, Scotland!AN142, Southern!AN142, 'Wales & West'!AN142)","v":0},{"$f":"CHOOSE(m_identity,East!AO142, London!AO142, 'North West'!AO142, 'West Midlands'!AO142, Northern!AO142, Scotland!AO142, Southern!AO142, 'Wales & West'!AO142)","v":0}]
[]
[null,null,null,null,"Variant allowed load related capex",null,"£m 09/10 prices",null,null,null,null,null,null,null,null,null,null,null,null,null,null,null,null,null,null,null,null,null,null,null,null,null,null,{"$f":"(AH$90*AH91) + (AH$96*AH97) + (AH$102*AH103) + (AH$108*AH109) + (AH$114*AH115) + (AH$120*AH121)      + (AH$126 * AH127) + (AH$132*AH133) + (AH$138*AH139)","v":1.3504320724243679},{"$f":"(AI$90*AI91) + (AI$96*AI97) + (AI$102*AI103) + (AI$108*AI109) + (AI$114*AI115) + (AI$120*AI121)      + (AI$126 * AI127) + (AI$132*AI133) + (AI$138*AI139)","v":1.3416575472820473},1.3511320307965469,1.8560515739604595,1.9400624974682383,1.8961678989229487,1.887738067668109,1.7881509251350665]
[null,null,null,null,"Variant allowed non-load related capex - other",null,"£m 09/10 prices",null,null,null,null,null,null,null,null,null,null,null,null,null,null,null,null,null,null,null,null,null,null,null,null,null,null,{"$f":"(AH$90*AH92) + (AH$96*AH98) + (AH$102*AH104) + (AH$108*AH110) + (AH$114*AH116) + (AH$120*AH122)      + (AH$126 * AH128) + (AH$132*AH134) + (AH$138*AH140)","v":-1.2092021098280261},0.2153202890142768,0.44872486883693469,2.3636952941748204,12.407264499345771,9.3261778870084431,1.453440234981441,-0.40824199679035517]
[null,null,null,null,"Variant allowed controllable opex",null,"£m 09/10 prices",null,null,null,null,null,null,null,null,null,null,null,null,null,null,null,null,null,null,null,null,null,null,null,null,null,null,{"$f":"(AH$90*AH93) + (AH$96*AH99) + (AH$102*AH105) + (AH$108*AH111) + (AH$114*AH117) + (AH$120*AH123)      + (AH$126 * AH129) + (AH$132*AH135) + (AH$138*AH141)","v":0.75207639193723663},0.74688464025546641,0.88226223402028747,0.86516858974169664,-1.5799995184495221,-2.7024265987772296,-3.7801114772590001,-4.3365169126361671]
[null,null,null,null,"Variant allowed repex",null,"£m 09/10 prices",null,null,null,null,null,null,null,null,null,null,null,null,null,null,null,null,null,null,null,null,null,null,null,null,null,null,{"$f":"(AH$90*AH94) + (AH$96*AH100) + (AH$102*AH106) + (AH$108*AH112) + (AH$114*AH118) + (AH$120*AH124)      + (AH$126 * AH130) + (AH$132*AH136) + (AH$138*AH142)","v":1.7351094202136403},1.761361059448685,1.9508700090717426,2.4350785946663276,2.3964532325263059,2.3569802373553688,2.3184742830117306,2.2797538195705793]
[]
[null,null,null,"Actual"]
[]
[null,null,null,null,"Actual load related capex",null,"£m 09/10 prices",null,null,null,null,null,null,null,null,null,null,null,null,null,null,null,null,null,null,null,null,null,null,null,null,null,null,{"$f":"AH9","v":28.994705520563567},19.813505166441491,19.732860307816889,0,0,0,0,0]
[null,null,null,null,"Actual non-load related capex - other",null,"£m 09/10 prices",null,null,null,null,null,null,null,null,null,null,null,null,null,null,null,null,null,null,null,null,null,null,null,null,null,null,17.585404328298281,19.93498036545277,16.771849986032894,0,0,0,0,0]
[null,null,null,null,"Actual controllable opex",null,"£m 09/10 prices",null,null,null,null,null,null,null,null,null,null,null,null,null,null,null,null,null,null,null,null,null,null,null,null,null,null,126.88055213470393,124.57403585982755,118.85835822933886,0,0,0,0,0]
[null,null,null,null,"Actual repex",null,"£m 09/10 prices",null,null,null,null,null,null,null,null,null,null,null,null,null,null,null,null,null,null,null,null,null,null,null,null,null,null,80.98027960027801,87.292768607308034,91.558452979737709,0,0,0,0,0]
[]
[null,null,"Non-totex"]
[]
[null,null,null,null,"Non-controllable opex (Other)",null,"£m 09/10 prices",null,null,null,null,null,null,null,null,null,null,null,null,null,null,null,null,null,null,null,null,null,null,null,null,null,null,{"$f":"CHOOSE(m_identity,East!AH158, London!AH158, 'North West'!AH158, 'West Midlands'!AH158, Northern!AH158, Scotland!AH158, Southern!AH158, 'Wales & West'!AH158)","v":59.024859266885422},{"$f":"CHOOSE(m_identity,East!AI158, London!AI158, 'North West'!AI158, 'West Midlands'!AI158, Northern!AI158, Scotland!AI158, Southern!AI158, 'Wales & West'!AI158)","v":59.102970874651731},{"$f":"CHOOSE(m_identity,East!AJ158, London!AJ158, 'North West'!AJ158, 'West Midlands'!AJ158, Northern!AJ158, Scotland!AJ158, Southern!AJ158, 'Wales & West'!AJ158)","v":59.116944328634922},{"$f":"CHOOSE(m_identity,East!AK158, London!AK158, 'North West'!AK158, 'West Midlands'!AK158, Northern!AK158, Scotland!AK158, Southern!AK158, 'Wales & West'!AK158)","v":59.116944328634929},{"$f":"CHOOSE(m_identity,East!AL158, London!AL158, 'North West'!AL158, 'West Midlands'!AL158, Northern!AL158, Scotland!AL158, Southern!AL158, 'Wales & West'!AL158)","v":59.116944328634922},{"$f":"CHOOSE(m_identity,East!AM158, London!AM158, 'North West'!AM158, 'West Midlands'!AM158, Northern!AM158, Scotland!AM158, Southern!AM158, 'Wales & West'!AM158)","v":59.116944328634922},{"$f":"CHOOSE(m_identity,East!AN158, London!AN158, 'North West'!AN158, 'West Midlands'!AN158, Northern!AN158, Scotland!AN158, Southern!AN158, 'Wales & West'!AN158)","v":59.116944328634929},{"$f":"CHOOSE(m_identity,East!AO158, London!AO158, 'North West'!AO158, 'West Midlands'!AO158, Northern!AO158, Scotland!AO158, Southern!AO158, 'Wales & West'!AO158)","v":59.116944328634929}]
[null,null,null,null,"Non-controllable opex (Exit Charges)",null,"£m 09/10 prices",null,null,null,null,null,null,null,null,null,null,null,null,null,null,null,null,null,null,null,null,null,null,null,null,null,null,{"$f":"AH22","v":24.741315956933445},{"$f":"AI22","v":24.720070711637774},24.679625652967726,24.679625652967726,24.679625652967726,24.679625652967726,24.679625652967726,24.679625652967726]
[null,null,null,null,"Non-controllable opex (Shrinkage)",null,"£m 09/10 prices",null,null,null,null,null,null,null,null,null,null,null,null,null,null,null,null,null,null,null,null,null,null,null,null,null,null,{"$f":"AH23","v":11.826470463750899},10.8,10.67,7.92,7.74,7.55,7.36,7.18]
[null,null,null,null,"Non-controllable opex",null,"£m 09/10 prices",null,null,null,null,null,null,null,null,null,null,null,null,null,null,null,null,null,null,null,null,null,null,null,null,null,null,{"$f":"SUM(AH158:AH160)","v":95.592645687569757},{"$f":"SUM(AI158:AI160)","v":94.623041586289503},94.466569981602646,91.71656998160266,91.536569981602639,91.346569981602642,91.156569981602658,90.976569981602665]
[]
[null,"Direct allowed revenue terms (DARTs)"]
[]
[null,null,null,null,{"$f":"E26","v":"Pension scheme administration and Pension Protection Fund Levy"},null,"£m 09/10 prices",null,null,null,null,null,null,null,null,null,null,null,null,null,null,null,null,null,null,null,null,null,null,null,null,null,null,{"$f":"AH26","v":9.3511641421976086E-2},9.3511641421976086E-2,9.3511641421976086E-2,9.3511641421976086E-2,9.3511641421976086E-2,9.3511641421976086E-2,9.3511641421976086E-2,9.3511641421976086E-2]
[null,null,null,null,{"$f":"E27","v":"Pension scheme deficit revenue allowances"},null,"£m 09/10 prices",null,null,null,null,null,null,null,null,null,null,null,null,null,null,null,null,null,null,null,null,null,null,null,null,null,null,{"$f":"AH27","v":4.3561575242036632},4.3561575242036632,3.4866155722048706,3.4866155722048706,3.4866155722048706,3.4866155722048706,3.4866155722048706,3.4866155722048706]
[]
[null,null,null,null,"Pension true-up from previous price controls",null,"£m 09/10 prices",null,null,null,null,null,null,null,null,null,null,null,null,null,null,null,null,null,null,null,null,null,null,null,null,null,null,{"$f":"CHOOSE(m_identity,East!AH168, London!AH168, 'North West'!AH168, 'West Midlands'!AH168, Northern!AH168, Scotland!AH168, Southern!AH168, 'Wales & West'!AH168)","v":0.22294429120168036},{"$f":"CHOOSE(m_identity,East!AI168, London!AI168, 'North West'!AI168, 'West Midlands'!AI168, Northern!AI168, Scotland!AI168, Southern!AI168, 'Wales & West'!AI168)","v":0.23211398989880544},{"$f":"CHOOSE(m_identity,East!AJ168, London!AJ168, 'North West'!AJ168, 'West Midlands'!AJ168, Northern!AJ168, Scotland!AJ168, Southern!AJ168, 'Wales & West'!AJ168)","v":0.24140435234450514},{"$f":"CHOOSE(m_identity,East!AK168, London!AK168, 'North West'!AK168, 'West Midlands'!AK168, Northern!AK168, Scotland!AK168, Southern!AK168, 'Wales & West'!AK168)","v":0.25079980973775329},{"$f":"CHOOSE(m_identity,East!AL168, London!AL168, 'North West'!AL168, 'West Midlands'!AL168, Northern!AL168, Scotland!AL168, Southern!AL168, 'Wales & West'!AL168)","v":0.26030010653061936},{"$f":"CHOOSE(m_identity,East!AM168, London!AM168, 'North West'!AM168, 'West Midlands'!AM168, Northern!AM168, Scotland!AM168, Southern!AM168, 'Wales & West'!AM168)","v":0.27016027456599917},{"$f":"CHOOSE(m_identity,East!AN168, London!AN168, 'North West'!AN168, 'West Midlands'!AN168, Northern!AN168, Scotland!AN168, Southern!AN168, 'Wales & West'!AN168)","v":0.28039394576655918},{"$f":"CHOOSE(m_identity,East!AO168, London!AO168, 'North West'!AO168, 'West Midlands'!AO168, Northern!AO168, Scotland!AO168, Southern!AO168, 'Wales & West'!AO168)","v":0.29101526843219644}]
[]
[null,null,null,null,"Revenue adjustment from previous controls (Base)",null,"£m 09/10 prices",null,null,null,null,null,null,null,null,null,null,null,null,null,null,null,null,null,null,null,null,null,null,null,null,null,null,{"$f":"CHOOSE(m_identity,East!AH170, London!AH170, 'North West'!AH170, 'West Midlands'!AH170, Northern!AH170, Scotland!AH170, Southern!AH170, 'Wales & West'!AH170)","v":-0.59541915753916297},{"$f":"CHOOSE(m_identity,East!AI170, London!AI170, 'North West'!AI170, 'West Midlands'!AI170, Northern!AI170, Scotland!AI170, Southern!AI170, 'Wales & West'!AI170)","v":-0.61990874748874869},{"$f":"CHOOSE(m_identity,East!AJ170, London!AJ170, 'North West'!AJ170, 'West Midlands'!AJ170, Northern!AJ170, Scotland!AJ170, Southern!AJ170, 'Wales & West'!AJ170)","v":-0.64472059510698587},{"$f":"CHOOSE(m_identity,East!AK170, London!AK170, 'North West'!AK170, 'West Midlands'!AK170, Northern!AK170, Scotland!AK170, Southern!AK170, 'Wales & West'!AK170)","v":-0.66981312066854981},{"$f":"CHOOSE(m_identity,East!AL170, London!AL170, 'North West'!AL170, 'West Midlands'!AL170, Northern!AL170, Scotland!AL170, Southern!AL170, 'Wales & West'!AL170)","v":-0.69518564167947439},{"$f":"CHOOSE(m_identity,East!AM170, London!AM170, 'North West'!AM170, 'West Midlands'!AM170, Northern!AM170, Scotland!AM170, Southern!AM170, 'Wales & West'!AM170)","v":-0.72151927378629277},{"$f":"CHOOSE(m_identity,East!AN170, London!AN170, 'North West'!AN170, 'West Midlands'!AN170, Northern!AN170, Scotland!AN170, Southern!AN170, 'Wales & West'!AN170)","v":-0.74885042387731748},{"$f":"CHOOSE(m_identity,East!AO170, London!AO170, 'North West'!AO170, 'West Midlands'!AO170, Northern!AO170, Scotland!AO170, Southern!AO170, 'Wales & West'!AO170)","v":-0.77721687793379024}]
[null,null,null,null,{"$f":"E28","v":"Legacy price control allowed revenue adjustment"},null,"£m 09/10 prices",null,null,null,null,null,null,null,null,null,null,null,null,null,null,null,null,null,null,null,null,null,null,null,null,null,null,{"$f":"($AH$28/8)","v":0.15107595169219987},{"$f":"($AH$28/8)*(1+$AI$39)","v":0.15728970558530003},{"$f":"($AH$28/8)*(1+$AI$39)*(1+$AJ$39)","v":0.16358522605135167},{"$f":"($AH$28/8)*(1+$AI$39)*(1+$AJ$39)*(1+$AK$39)","v":0.16995196304927029},{"$f":"($AH$28/8)*(1+$AI$39)*(1+$AJ$39)*(1+$AK$39)*(1+$AL$39)","v":0.17638974340957664},{"$f":"($AH$28/8)*(1+$AI$39)*(1+$AJ$39)*(1+$AK$39)*(1+$AL$39)*(1+$AM$39)","v":0.18307138688993138},{"$f":"($AH$28/8)*(1+$AI$39)*(1+$AJ$39)*(1+$AK$39)*(1+$AL$39)*(1+$AM$39)*(1+$AN$39)","v":0.19000613102532196},{"$f":"($AH$28/8)*(1+$AI$39)*(1+$AJ$39)*(1+$AK$39)*(1+$AL$39)*(1+$AM$39)*(1+$AN$39)*(1+$AO$39)","v":0.19720356326856114}]
[null,null,null,null,"Revenue adjustment from previous controls",null,"£m 09/10 prices",null,null,null,null,null,null,null,null,null,null,null,null,null,null,null,null,null,null,null,null,null,null,null,null,null,null,{"$f":"AH170+AH171","v":-0.44434320584696307},{"$f":"AI170+AI171","v":-0.46261904190344866},-0.4811353690556342,-0.49986115761927952,-0.51879589826989769,-0.53844788689636136,-0.55884429285199555,-0.5800133146652291]
[]
[null,null,null,null,"Excluded services revenue",null,"£m 09/10 prices",null,null,null,null,null,null,null,null,null,null,null,null,null,null,null,null,null,null,null,null,null,null,null,null,null,null,{"$f":"CHOOSE(m_identity,East!AH174, London!AH174, 'North West'!AH174, 'West Midlands'!AH174, Northern!AH174, Scotland!AH174, Southern!AH174, 'Wales & West'!AH174)","v":4.0367514872889485},{"$f":"CHOOSE(m_identity,East!AI174, London!AI174, 'North West'!AI174, 'West Midlands'!AI174, Northern!AI174, Scotland!AI174, Southern!AI174, 'Wales & West'!AI174)","v":3.7526183556097119},{"$f":"CHOOSE(m_identity,East!AJ174, London!AJ174, 'North West'!AJ174, 'West Midlands'!AJ174, Northern!AJ174, Scotland!AJ174, Southern!AJ174, 'Wales & West'!AJ174)","v":3.5656868305579503},{"$f":"CHOOSE(m_identity,East!AK174, London!AK174, 'North West'!AK174, 'West Midlands'!AK174, Northern!AK174, Scotland!AK174, Southern!AK174, 'Wales & West'!AK174)","v":3.5730210938536877},{"$f":"CHOOSE(m_identity,East!AL174, London!AL174, 'North West'!AL174, 'West Midlands'!AL174, Northern!AL174, Scotland!AL174, Southern!AL174, 'Wales & West'!AL174)","v":3.5723799712838513},{"$f":"CHOOSE(m_identity,East!AM174, London!AM174, 'North West'!AM174, 'West Midlands'!AM174, Northern!AM174, Scotland!AM174, Southern!AM174, 'Wales & West'!AM174)","v":3.5727969308881065},{"$f":"CHOOSE(m_identity,East!AN174, London!AN174, 'North West'!AN174, 'West Midlands'!AN174, Northern!AN174, Scotland!AN174, Southern!AN174, 'Wales & West'!AN174)","v":3.5805934286425245},{"$f":"CHOOSE(m_identity,East!AO174, London!AO174, 'North West'!AO174, 'West Midlands'!AO174, Northern!AO174, Scotland!AO174, Southern!AO174, 'Wales & West'!AO174)","v":3.5339308527476048}]
[null,null,null,null,"Identified excluded services costs",null,"£m 09/10 prices",null,null,null,null,null,null,null,null,null,null,null,null,null,null,null,null,null,null,null,null,null,null,null,null,null,null,{"$f":"CHOOSE(m_identity,East!AH175, London!AH175, 'North West'!AH175, 'West Midlands'!AH175, Northern!AH175, Scotland!AH175, Southern!AH175, 'Wales & West'!AH175)","v":4.0367514872889485},{"$f":"CHOOSE(m_identity,East!AI175, London!AI175, 'North West'!AI175, 'West Midlands'!AI175, Northern!AI175, Scotland!AI175, Southern!AI175, 'Wales & West'!AI175)","v":3.7526183556097119},{"$f":"CHOOSE(m_identity,East!AJ175, London!AJ175, 'North West'!AJ175, 'West Midlands'!AJ175, Northern!AJ175, Scotland!AJ175, Southern!AJ175, 'Wales & West'!AJ175)","v":3.5656868305579503},{"$f":"CHOOSE(m_identity,East!AK175, London!AK175, 'North West'!AK175, 'West Midlands'!AK175, Northern!AK175, Scotland!AK175, Southern!AK175, 'Wales & West'!AK175)","v":3.5730210938536877},{"$f":"CHOOSE(m_identity,East!AL175, London!AL175, 'North West'!AL175, 'West Midlands'!AL175, Northern!AL175, Scotland!AL175, Southern!AL175, 'Wales & West'!AL175)","v":3.5723799712838513},{"$f":"CHOOSE(m_identity,East!AM175, London!AM175, 'North West'!AM175, 'West Midlands'!AM175, Northern!AM175, Scotland!AM175, Southern!AM175, 'Wales & West'!AM175)","v":3.5727969308881065},{"$f":"CHOOSE(m_identity,East!AN175, London!AN175, 'North West'!AN175, 'West Midlands'!AN175, Northern!AN175, Scotland!AN175, Southern!AN175, 'Wales & West'!AN175)","v":3.5805934286425245},{"$f":"CHOOSE(m_identity,East!AO175, London!AO175, 'North West'!AO175, 'West Midlands'!AO175, Northern!AO175, Scotland!AO175, Southern!AO175, 'Wales & West'!AO175)","v":3.5339308527476048}]
[null,null,null,null,"Excluded services",null,"£m 09/10 prices",null,null,null,null,null,null,null,null,null,null,null,null,null,null,null,null,null,null,null,null,null,null,null,null,null,null,{"$f":"SUM(AH174, -AH175)","v":0},{"$f":"SUM(AI174, -AI175)","v":0},0,0,0,0,0,0]
[]
[null,"RAV and assets"]
[]
[null,null,"Pre-vesting assets"]
[]
[null,null,null,null,"Pre-vesting RAV cost opening balance brought forward (before transfers)",null,"£m 09/10 prices",null,null,null,null,null,null,null,null,null,null,null,null,null,null,null,null,null,null,null,null,null,null,null,null,null,null,{"$f":"CHOOSE(m_identity,East!AH182, London!AH182, 'North West'!AH182, 'West Midlands'!AH182, Northern!AH182, Scotland!AH182, Southern!AH182, 'Wales & West'!AH182)","v":2382.1513055087926}]
[null,null,null,null,"Pre-vesting RAV cumulative depreciation opening balance brought forward (before transfers)",null,"£m 09/10 prices",null,null,null,null,null,null,null,null,null,null,null,null,null,null,null,null,null,null,null,null,null,null,null,null,null,null,{"$f":"CHOOSE(m_identity,East!AH183, London!AH183, 'North West'!AH183, 'West Midlands'!AH183, Northern!AH183, Scotland!AH183, Southern!AH183, 'Wales & West'!AH183)","v":837.79512189384059}]
[]
[null,null,null,null,"Pre-vesting asset life",null,"years",null,{"$f":"CHOOSE(m_identity,East!I185, London!I185, 'North West'!I185, 'West Midlands'!I185, Northern!I185, Scotland!I185, Southern!I185, 'Wales & West'!I185)","v":56}]
[null,null,null,null,"Pre-vesting RAV disposals",null,"£m 09/10 prices",null,null,null,null,null,null,null,null,null,null,null,null,null,null,null,null,null,null,null,null,null,null,null,null,null,null,{"$f":"CHOOSE(m_identity,East!AH186, London!AH186, 'North West'!AH186, 'West Midlands'!AH186, Northern!AH186, Scotland!AH186, Southern!AH186, 'Wales & West'!AH186)","v":0.47215324304065037},{"$f":"CHOOSE(m_identity,East!AI186, London!AI186, 'North West'!AI186, 'West Midlands'!AI186, Northern!AI186, Scotland!AI186, Southern!AI186, 'Wales & West'!AI186)","v":0.31603274923678387},{"$f":"CHOOSE(m_identity,East!AJ186, London!AJ186, 'North West'!AJ186, 'West Midlands'!AJ186, Northern!AJ186, Scotland!AJ186, Southern!AJ186, 'Wales & West'!AJ186)","v":-0.19054376862788389},{"$f":"CHOOSE(m_identity,East!AK186, London!AK186, 'North West'!AK186, 'West Midlands'!AK186, Northern!AK186, Scotland!AK186, Southern!AK186, 'Wales & West'!AK186)","v":-0.45365214024176076},{"$f":"CHOOSE(m_identity,East!AL186, London!AL186, 'North West'!AL186, 'West Midlands'!AL186, Northern!AL186, Scotland!AL186, Southern!AL186, 'Wales & West'!AL186)","v":0},{"$f":"CHOOSE(m_identity,East!AM186, London!AM186, 'North West'!AM186, 'West Midlands'!AM186, Northern!AM186, Scotland!AM186, Southern!AM186, 'Wales & West'!AM186)","v":0},{"$f":"CHOOSE(m_identity,East!AN186, London!AN186, 'North West'!AN186, 'West Midlands'!AN186, Northern!AN186, Scotland!AN186, Southern!AN186, 'Wales & West'!AN186)","v":0},{"$f":"CHOOSE(m_identity,East!AO186, London!AO186, 'North West'!AO186, 'West Midlands'!AO186, Northern!AO186, Scotland!AO186, Southern!AO186, 'Wales & West'!AO186)","v":0}]
[null,null,null,null,"Years of pre-vesting depreciation remaining",null,"years",null,null,null,null,null,null,null,null,null,null,null,null,null,null,null,null,null,null,null,null,null,null,null,null,null,null,{"$f":"CHOOSE(m_identity,East!AH187, London!AH187, 'North West'!AH187, 'West Midlands'!AH187, Northern!AH187, Scotland!AH187, Southern!AH187, 'Wales & West'!AH187)","v":45},{"$f":"CHOOSE(m_identity,East!AI187, London!AI187, 'North West'!AI187, 'West Midlands'!AI187, Northern!AI187, Scotland!AI187, Southern!AI187, 'Wales & West'!AI187)","v":44},{"$f":"CHOOSE(m_identity,East!AJ187, London!AJ187, 'North West'!AJ187, 'West Midlands'!AJ187, Northern!AJ187, Scotland!AJ187, Southern!AJ187, 'Wales & West'!AJ187)","v":43},{"$f":"CHOOSE(m_identity,East!AK187, London!AK187, 'North West'!AK187, 'West Midlands'!AK187, Northern!AK187, Scotland!AK187, Southern!AK187, 'Wales & West'!AK187)","v":42},{"$f":"CHOOSE(m_identity,East!AL187, London!AL187, 'North West'!AL187, 'West Midlands'!AL187, Northern!AL187, Scotland!AL187, Southern!AL187, 'Wales & West'!AL187)","v":41},{"$f":"CHOOSE(m_identity,East!AM187, London!AM187, 'North West'!AM187, 'West Midlands'!AM187, Northern!AM187, Scotland!AM187, Southern!AM187, 'Wales & West'!AM187)","v":40},{"$f":"CHOOSE(m_identity,East!AN187, London!AN187, 'North West'!AN187, 'West Midlands'!AN187, Northern!AN187, Scotland!AN187, Southern!AN187, 'Wales & West'!AN187)","v":39},{"$f":"CHOOSE(m_identity,East!AO187, London!AO187, 'North West'!AO187, 'West Midlands'!AO187, Northern!AO187, Scotland!AO187, Southern!AO187, 'Wales & West'!AO187)","v":38}]
[]
[null,null,"Post-vesting assets"]
[]
[null,null,null,null,"Gas distribution"]
[null,null,null,null,"GD post-vesting asset life",null,"years",null,{"$f":"CHOOSE(m_identity,East!I192, London!I192, 'North West'!I192, 'West Midlands'!I192, Northern!I192, Scotland!I192, Southern!I192, 'Wales & West'!I192)","v":45}]
[null,null,null,null,"GD smoothing profile for recovery of backlog depreciation",null,"years",null,null,null,null,null,null,null,null,null,null,null,null,null,null,null,null,null,null,null,null,null,null,null,null,null,null,{"$f":"CHOOSE(m_identity,East!AH193, London!AH193, 'North West'!AH193, 'West Midlands'!AH193, Northern!AH193, Scotland!AH193, Southern!AH193, 'Wales & West'!AH193)","v":0.15},{"$f":"CHOOSE(m_identity,East!AI193, London!AI193, 'North West'!AI193, 'West Midlands'!AI193, Northern!AI193, Scotland!AI193, Southern!AI193, 'Wales & West'!AI193)","v":0.15},{"$f":"CHOOSE(m_identity,East!AJ193, London!AJ193, 'North West'!AJ193, 'West Midlands'!AJ193, Northern!AJ193, Scotland!AJ193, Southern!AJ193, 'Wales & West'!AJ193)","v":2.5000000000000001E-2},{"$f":"CHOOSE(m_identity,East!AK193, London!AK193, 'North West'!AK193, 'West Midlands'!AK193, Northern!AK193, Scotland!AK193, Southern!AK193, 'Wales & West'!AK193)","v":0},{"$f":"CHOOSE(m_identity,East!AL193, London!AL193, 'North West'!AL193, 'West Midlands'!AL193, Northern!AL193, Scotland!AL193, Southern!AL193, 'Wales & West'!AL193)","v":0.05},{"$f":"CHOOSE(m_identity,East!AM193, London!AM193, 'North West'!AM193, 'West Midlands'!AM193, Northern!AM193, Scotland!AM193, Southern!AM193, 'Wales & West'!AM193)","v":0.125},{"$f":"CHOOSE(m_identity,East!AN193, London!AN193, 'North West'!AN193, 'West Midlands'!AN193, Northern!AN193, Scotland!AN193, Southern!AN193, 'Wales & West'!AN193)","v":0.2},{"$f":"CHOOSE(m_identity,East!AO193, London!AO193, 'North West'!AO193, 'West Midlands'!AO193, Northern!AO193, Scotland!AO193, Southern!AO193, 'Wales & West'!AO193)","v":0.3}]
[null,null,null,null,"GD start of smoothing period",null,"year ending",null,{"$f":"CHOOSE(m_identity,East!I194, London!I194, 'North West'!I194, 'West Midlands'!I194, Northern!I194, Scotland!I194, Southern!I194, 'Wales & West'!I194)","v":"2014-03-31"}]
[null,null,null,null,"Pre-RIIO net additions to RAV",null,"£m 09/10 prices",null,null,">",null,null,null,null,null,null,null,null,null,null,null,null,{"$f":"CHOOSE(m_identity,East!W195, London!W195, 'North West'!W195, 'West Midlands'!W195, Northern!W195, Scotland!W195, Southern!W195, 'Wales & West'!W195)","v":81.90091088924332},{"$f":"CHOOSE(m_identity,East!X195, London!X195, 'North West'!X195, 'West Midlands'!X195, Northern!X195, Scotland!X195, Southern!X195, 'Wales & West'!X195)","v":58.77200426704227},{"$f":"CHOOSE(m_identity,East!Y195, London!Y195, 'North West'!Y195, 'West Midlands'!Y195, Northern!Y195, Scotland!Y195, Southern!Y195, 'Wales & West'!Y195)","v":60.112810448039433},{"$f":"CHOOSE(m_identity,East!Z195, London!Z195, 'North West'!Z195, 'West Midlands'!Z195, Northern!Z195, Scotland!Z195, Southern!Z195, 'Wales & West'!Z195)","v":60.14993076431395},{"$f":"CHOOSE(m_identity,East!AA195, London!AA195, 'North West'!AA195, 'West Midlands'!AA195, Northern!AA195, Scotland!AA195, Southern!AA195, 'Wales & West'!AA195)","v":56.218061398377856},{"$f":"CHOOSE(m_identity,East!AB195, London!AB195, 'North West'!AB195, 'West Midlands'!AB195, Northern!AB195, Scotland!AB195, Southern!AB195, 'Wales & West'!AB195)","v":129.32018756832116},{"$f":"CHOOSE(m_identity,East!AC195, London!AC195, 'North West'!AC195, 'West Midlands'!AC195, Northern!AC195, Scotland!AC195, Southern!AC195, 'Wales & West'!AC195)","v":107.48059043304164},{"$f":"CHOOSE(m_identity,East!AD195, London!AD195, 'North West'!AD195, 'West Midlands'!AD195, Northern!AD195, Scotland!AD195, Southern!AD195, 'Wales & West'!AD195)","v":122.51660767666124},{"$f":"CHOOSE(m_identity,East!AE195, London!AE195, 'North West'!AE195, 'West Midlands'!AE195, Northern!AE195, Scotland!AE195, Southern!AE195, 'Wales & West'!AE195)","v":157.98474018687872},{"$f":"CHOOSE(m_identity,East!AF195, London!AF195, 'North West'!AF195, 'West Midlands'!AF195, Northern!AF195, Scotland!AF195, Southern!AF195, 'Wales & West'!AF195)","v":152.25907013145695},{"$f":"CHOOSE(m_identity,East!AG195, London!AG195, 'North West'!AG195, 'West Midlands'!AG195, Northern!AG195, Scotland!AG195, Southern!AG195, 'Wales & West'!AG195)","v":110.9381496111678}]
[null,null,null,null,"LRAV",null,null,null,null,null,null,null,null,null,null,null,null,null,null,null,null,null,null,null,null,null,null,null,null,null,null,null,null,{"$f":"AH29","v":-3.4376013621925008}]
[null,null,null,null,"RIIO post-vesting RAV additions",null,"£m 09/10 prices",null,null,null,null,null,null,null,null,null,null,null,null,null,null,null,null,null,null,null,null,null,null,null,null,null,null,{"$f":"CHOOSE(m_identity,East!AH197, London!AH197, 'North West'!AH197, 'West Midlands'!AH197, Northern!AH197, Scotland!AH197, Southern!AH197, 'Wales & West'!AH197)","v":11.871297238443168},{"$f":"CHOOSE(m_identity,East!AI197, London!AI197, 'North West'!AI197, 'West Midlands'!AI197, Northern!AI197, Scotland!AI197, Southern!AI197, 'Wales & West'!AI197)","v":0},{"$f":"CHOOSE(m_identity,East!AJ197, London!AJ197, 'North West'!AJ197, 'West Midlands'!AJ197, Northern!AJ197, Scotland!AJ197, Southern!AJ197, 'Wales & West'!AJ197)","v":0},{"$f":"CHOOSE(m_identity,East!AK197, London!AK197, 'North West'!AK197, 'West Midlands'!AK197, Northern!AK197, Scotland!AK197, Southern!AK197, 'Wales & West'!AK197)","v":0},{"$f":"CHOOSE(m_identity,East!AL197, London!AL197, 'North West'!AL197, 'West Midlands'!AL197, Northern!AL197, Scotland!AL197, Southern!AL197, 'Wales & West'!AL197)","v":0},{"$f":"CHOOSE(m_identity,East!AM197, London!AM197, 'North West'!AM197, 'West Midlands'!AM197, Northern!AM197, Scotland!AM197, Southern!AM197, 'Wales & West'!AM197)","v":0},{"$f":"CHOOSE(m_identity,East!AN197, London!AN197, 'North West'!AN197, 'West Midlands'!AN197, Northern!AN197, Scotland!AN197, Southern!AN197, 'Wales & West'!AN197)","v":0},{"$f":"CHOOSE(m_identity,East!AO197, London!AO197, 'North West'!AO197, 'West Midlands'!AO197, Northern!AO197, Scotland!AO197, Southern!AO197, 'Wales & West'!AO197)","v":0}]
[null,null,null,null,"RIIO post-vesting RAV disposals",null,null,null,null,null,null,null,null,null,null,null,null,null,null,null,null,null,null,null,null,null,null,null,null,null,null,null,null,{"$f":"CHOOSE(m_identity,East!AH198, London!AH198, 'North West'!AH198, 'West Midlands'!AH198, Northern!AH198, Scotland!AH198, Southern!AH198, 'Wales & West'!AH198)","v":0},{"$f":"CHOOSE(m_identity,East!AI198, London!AI198, 'North West'!AI198, 'West Midlands'!AI198, Northern!AI198, Scotland!AI198, Southern!AI198, 'Wales & West'!AI198)","v":0},{"$f":"CHOOSE(m_identity,East!AJ198, London!AJ198, 'North West'!AJ198, 'West Midlands'!AJ198, Northern!AJ198, Scotland!AJ198, Southern!AJ198, 'Wales & West'!AJ198)","v":-0.19054376862788389},{"$f":"CHOOSE(m_identity,East!AK198, London!AK198, 'North West'!AK198, 'West Midlands'!AK198, Northern!AK198, Scotland!AK198, Southern!AK198, 'Wales & West'!AK198)","v":-0.34342791438514897},{"$f":"CHOOSE(m_identity,East!AL198, London!AL198, 'North West'!AL198, 'West Midlands'!AL198, Northern!AL198, Scotland!AL198, Southern!AL198, 'Wales & West'!AL198)","v":-8.8433447546600652E-2},{"$f":"CHOOSE(m_identity,East!AM198, London!AM198, 'North West'!AM198, 'West Midlands'!AM198, Northern!AM198, Scotland!AM198, Southern!AM198, 'Wales & West'!AM198)","v":-1.3},{"$f":"CHOOSE(m_identity,East!AN198, London!AN198, 'North West'!AN198, 'West Midlands'!AN198, Northern!AN198, Scotland!AN198, Southern!AN198, 'Wales & West'!AN198)","v":-4.4000000000000004},{"$f":"CHOOSE(m_identity,East!AO198, London!AO198, 'North West'!AO198, 'West Midlands'!AO198, Northern!AO198, Scotland!AO198, Southern!AO198, 'Wales & West'!AO198)","v":-1.7}]
[null,null,null,null,"Pre-RIIO transfers to depreciation",null,"£m 09/10 prices",null,null,">",null,null,null,null,null,null,null,null,null,null,null,{"$f":"CHOOSE(m_identity,East!V199, London!V199, 'North West'!V199, 'West Midlands'!V199, Northern!V199, Scotland!V199, Southern!V199, 'Wales & West'!V199)","v":0},{"$f":"CHOOSE(m_identity,East!W199, London!W199, 'North West'!W199, 'West Midlands'!W199, Northern!W199, Scotland!W199, Southern!W199, 'Wales & West'!W199)","v":0},{"$f":"CHOOSE(m_identity,East!X199, London!X199, 'North West'!X199, 'West Midlands'!X199, Northern!X199, Scotland!X199, Southern!X199, 'Wales & West'!X199)","v":0},{"$f":"CHOOSE(m_identity,East!Y199, London!Y199, 'North West'!Y199, 'West Midlands'!Y199, Northern!Y199, Scotland!Y199, Southern!Y199, 'Wales & West'!Y199)","v":0},{"$f":"CHOOSE(m_identity,East!Z199, London!Z199, 'North West'!Z199, 'West Midlands'!Z199, Northern!Z199, Scotland!Z199, Southern!Z199, 'Wales & West'!Z199)","v":0},{"$f":"CHOOSE(m_identity,East!AA199, London!AA199, 'North West'!AA199, 'West Midlands'!AA199, Northern!AA199, Scotland!AA199, Southern!AA199, 'Wales & West'!AA199)","v":0},{"$f":"CHOOSE(m_identity,East!AB199, London!AB199, 'North West'!AB199, 'West Midlands'!AB199, Northern!AB199, Scotland!AB199, Southern!AB199, 'Wales & West'!AB199)","v":2.0135423360226272},{"$f":"CHOOSE(m_identity,East!AC199, London!AC199, 'North West'!AC199, 'West Midlands'!AC199, Northern!AC199, Scotland!AC199, Southern!AC199, 'Wales & West'!AC199)","v":2.0734923877904725},{"$f":"CHOOSE(m_identity,East!AD199, London!AD199, 'North West'!AD199, 'West Midlands'!AD199, Northern!AD199, Scotland!AD199, Southern!AD199, 'Wales & West'!AD199)","v":1.7212400495067763},{"$f":"CHOOSE(m_identity,East!AE199, London!AE199, 'North West'!AE199, 'West Midlands'!AE199, Northern!AE199, Scotland!AE199, Southern!AE199, 'Wales & West'!AE199)","v":4.3498239965769017},{"$f":"CHOOSE(m_identity,East!AF199, London!AF199, 'North West'!AF199, 'West Midlands'!AF199, Northern!AF199, Scotland!AF199, Southern!AF199, 'Wales & West'!AF199)","v":3.9304722646366335},{"$f":"CHOOSE(m_identity,East!AG199, London!AG199, 'North West'!AG199, 'West Midlands'!AG199, Northern!AG199, Scotland!AG199, Southern!AG199, 'Wales & West'!AG199)","v":0}]
[]
[null,null,"Fuel Poor"]
[]
[null,null,null,null,"Post-vesting asset life",null,"years",null,{"$f":"CHOOSE(m_identity,East!I203, London!I203, 'North West'!I203, 'West Midlands'!I203, Northern!I203, Scotland!I203, Southern!I203, 'Wales & West'!I203)","v":45}]
[null,null,null,null,"Years additional customer discount applied",null,"years",null,{"$f":"CHOOSE(m_identity,East!I204, London!I204, 'North West'!I204, 'West Midlands'!I204, Northern!I204, Scotland!I204, Southern!I204, 'Wales & West'!I204)","v":5}]
[]
[null,null,null,null,"NPV of future transportation revenue",null,"£m 09/10 prices",null,null,">",null,null,null,null,null,null,null,null,null,null,null,null,null,null,null,null,null,null,{"$f":"CHOOSE(m_identity,East!AC206, London!AC206, 'North West'!AC206, 'West Midlands'!AC206, Northern!AC206, Scotland!AC206, Southern!AC206, 'Wales & West'!AC206)","v":0},{"$f":"CHOOSE(m_identity,East!AD206, London!AD206, 'North West'!AD206, 'West Midlands'!AD206, Northern!AD206, Scotland!AD206, Southern!AD206, 'Wales & West'!AD206)","v":0},{"$f":"CHOOSE(m_identity,East!AE206, London!AE206, 'North West'!AE206, 'West Midlands'!AE206, Northern!AE206, Scotland!AE206, Southern!AE206, 'Wales & West'!AE206)","v":0},{"$f":"CHOOSE(m_identity,East!AF206, London!AF206, 'North West'!AF206, 'West Midlands'!AF206, Northern!AF206, Scotland!AF206, Southern!AF206, 'Wales & West'!AF206)","v":0},{"$f":"CHOOSE(m_identity,East!AG206, London!AG206, 'North West'!AG206, 'West Midlands'!AG206, Northern!AG206, Scotland!AG206, Southern!AG206, 'Wales & West'!AG206)","v":0}]
[null,null,null,null,"Community based schemes actual capex spend",null,"£m 09/10 prices",null,null,">",null,null,null,null,null,null,null,null,null,null,null,null,null,null,null,null,null,null,{"$f":"CHOOSE(m_identity,East!AC207, London!AC207, 'North West'!AC207, 'West Midlands'!AC207, Northern!AC207, Scotland!AC207, Southern!AC207, 'Wales & West'!AC207)","v":0},{"$f":"CHOOSE(m_identity,East!AD207, London!AD207, 'North West'!AD207, 'West Midlands'!AD207, Northern!AD207, Scotland!AD207, Southern!AD207, 'Wales & West'!AD207)","v":0.43814887890642806},{"$f":"CHOOSE(m_identity,East!AE207, London!AE207, 'North West'!AE207, 'West Midlands'!AE207, Northern!AE207, Scotland!AE207, Southern!AE207, 'Wales & West'!AE207)","v":0.60252655168967606},{"$f":"CHOOSE(m_identity,East!AF207, London!AF207, 'North West'!AF207, 'West Midlands'!AF207, Northern!AF207, Scotland!AF207, Southern!AF207, 'Wales & West'!AF207)","v":1.3727027465475992},{"$f":"CHOOSE(m_identity,East!AG207, London!AG207, 'North West'!AG207, 'West Midlands'!AG207, Northern!AG207, Scotland!AG207, Southern!AG207, 'Wales & West'!AG207)","v":1.36466763149376}]
[]
[null,null,null,null,"One off schemes actual capex spend",null,"£m 09/10 prices",null,null,">",null,null,null,null,null,null,null,null,null,null,null,null,null,null,null,null,null,null,{"$f":"CHOOSE(m_identity,East!AC209, London!AC209, 'North West'!AC209, 'West Midlands'!AC209, Northern!AC209, Scotland!AC209, Southern!AC209, 'Wales & West'!AC209)","v":0},{"$f":"CHOOSE(m_identity,East!AD209, London!AD209, 'North West'!AD209, 'West Midlands'!AD209, Northern!AD209, Scotland!AD209, Southern!AD209, 'Wales & West'!AD209)","v":1.5467310097669948},{"$f":"CHOOSE(m_identity,East!AE209, London!AE209, 'North West'!AE209, 'West Midlands'!AE209, Northern!AE209, Scotland!AE209, Southern!AE209, 'Wales & West'!AE209)","v":1.2578827941075721},{"$f":"CHOOSE(m_identity,East!AF209, London!AF209, 'North West'!AF209, 'West Midlands'!AF209, Northern!AF209, Scotland!AF209, Southern!AF209, 'Wales & West'!AF209)","v":0.96462572780117928},{"$f":"CHOOSE(m_identity,East!AG209, London!AG209, 'North West'!AG209, 'West Midlands'!AG209, Northern!AG209, Scotland!AG209, Southern!AG209, 'Wales & West'!AG209)","v":0}]
[]
[null,"Tax"]
[]
[null,null,"Tax policy"]
[]
[null,null,null,null,{"$f":"E24","v":"Tax liability allowance adjustments - gearing/interest costs"},null,"£m nominal",null,null,null,null,null,null,null,null,null,null,null,null,null,null,null,null,null,null,null,null,null,null,null,null,null,null,{"$f":"AH24","v":0},{"$f":"AI24","v":0},0,0,0,0,0,0]
[null,null,null,null,{"$f":"E25","v":"Tax liability allowance adjustments - driven by tax trigger events"},null,"£m 09/10 prices",null,null,null,null,null,null,null,null,null,null,null,null,null,null,null,null,null,null,null,null,null,null,null,null,null,null,{"$f":"AH25","v":0},{"$f":"AI25","v":0},-0.36198699073049312,-0.38204674206826184,-2.5688584201412965,0,0,0]
[]
[null,null,null,null,"Corporation tax rate",null,"%",null,null,">",null,null,null,null,null,null,null,null,null,null,null,null,null,null,{"$f":"CHOOSE(m_identity,East!Y218, London!Y218, 'North West'!Y218, 'West Midlands'!Y218, Northern!Y218, Scotland!Y218, Southern!Y218, 'Wales & West'!Y218)","v":0.3},{"$f":"CHOOSE(m_identity,East!Z218, London!Z218, 'North West'!Z218, 'West Midlands'!Z218, Northern!Z218, Scotland!Z218, Southern!Z218, 'Wales & West'!Z218)","v":0.3},{"$f":"CHOOSE(m_identity,East!AA218, London!AA218, 'North West'!AA218, 'West Midlands'!AA218, Northern!AA218, Scotland!AA218, Southern!AA218, 'Wales & West'!AA218)","v":0.3},{"$f":"CHOOSE(m_identity,East!AB218, London!AB218, 'North West'!AB218, 'West Midlands'!AB218, Northern!AB218, Scotland!AB218, Southern!AB218, 'Wales & West'!AB218)","v":0.3},{"$f":"CHOOSE(m_identity,East!AC218, London!AC218, 'North West'!AC218, 'West Midlands'!AC218, Northern!AC218, Scotland!AC218, Southern!AC218, 'Wales & West'!AC218)","v":0.28000000000000003},{"$f":"CHOOSE(m_identity,East!AD218, London!AD218, 'North West'!AD218, 'West Midlands'!AD218, Northern!AD218, Scotland!AD218, Southern!AD218, 'Wales & West'!AD218)","v":0.28000000000000003},{"$f":"CHOOSE(m_identity,East!AE218, London!AE218, 'North West'!AE218, 'West Midlands'!AE218, Northern!AE218, Scotland!AE218, Southern!AE218, 'Wales & West'!AE218)","v":0.28000000000000003},{"$f":"CHOOSE(m_identity,East!AF218, London!AF218, 'North West'!AF218, 'West Midlands'!AF218, Northern!AF218, Scotland!AF218, Southern!AF218, 'Wales & West'!AF218)","v":0.26},{"$f":"CHOOSE(m_identity,East!AG218, London!AG218, 'North West'!AG218, 'West Midlands'!AG218, Northern!AG218, Scotland!AG218, Southern!AG218, 'Wales & West'!AG218)","v":0.24},{"$f":"CHOOSE(m_identity,East!AH218, London!AH218, 'North West'!AH218, 'West Midlands'!AH218, Northern!AH218, Scotland!AH218, Southern!AH218, 'Wales & West'!AH218)","v":0.23},{"$f":"CHOOSE(m_identity,East!AI218, London!AI218, 'North West'!AI218, 'West Midlands'!AI218, Northern!AI218, Scotland!AI218, Southern!AI218, 'Wales & West'!AI218)","v":0.21},{"$f":"CHOOSE(m_identity,East!AJ218, London!AJ218, 'North West'!AJ218, 'West Midlands'!AJ218, Northern!AJ218, Scotland!AJ218, Southern!AJ218, 'Wales & West'!AJ218)","v":0.21},{"$f":"CHOOSE(m_identity,East!AK218, London!AK218, 'North West'!AK218, 'West Midlands'!AK218, Northern!AK218, Scotland!AK218, Southern!AK218, 'Wales & West'!AK218)","v":0.21},{"$f":"CHOOSE(m_identity,East!AL218, London!AL218, 'North West'!AL218, 'West Midlands'!AL218, Northern!AL218, Scotland!AL218, Southern!AL218, 'Wales & West'!AL218)","v":0.21},{"$f":"CHOOSE(m_identity,East!AM218, London!AM218, 'North West'!AM218, 'West Midlands'!AM218, Northern!AM218, Scotland!AM218, Southern!AM218, 'Wales & West'!AM218)","v":0.21},{"$f":"CHOOSE(m_identity,East!AN218, London!AN218, 'North West'!AN218, 'West Midlands'!AN218, Northern!AN218, Scotland!AN218, Southern!AN218, 'Wales & West'!AN218)","v":0.21},{"$f":"CHOOSE(m_identity,East!AO218, London!AO218, 'North West'!AO218, 'West Midlands'!AO218, Northern!AO218, Scotland!AO218, Southern!AO218, 'Wales & West'!AO218)","v":0.21}]
[]
[null,null,null,null,"General pool capital allowance rate",null,"%",null,null,">",null,null,null,null,null,null,null,null,null,null,null,{"$f":"CHOOSE(m_identity,East!V220, London!V220, 'North West'!V220, 'West Midlands'!V220, Northern!V220, Scotland!V220, Southern!V220, 'Wales & West'!V220)","v":0.25},{"$f":"CHOOSE(m_identity,East!W220, London!W220, 'North West'!W220, 'West Midlands'!W220, Northern!W220, Scotland!W220, Southern!W220, 'Wales & West'!W220)","v":0.25},{"$f":"CHOOSE(m_identity,East!X220, London!X220, 'North West'!X220, 'West Midlands'!X220, Northern!X220, Scotland!X220, Southern!X220, 'Wales & West'!X220)","v":0.25},{"$f":"CHOOSE(m_identity,East!Y220, London!Y220, 'North West'!Y220, 'West Midlands'!Y220, Northern!Y220, Scotland!Y220, Southern!Y220, 'Wales & West'!Y220)","v":0.25},{"$f":"CHOOSE(m_identity,East!Z220, London!Z220, 'North West'!Z220, 'West Midlands'!Z220, Northern!Z220, Scotland!Z220, Southern!Z220, 'Wales & West'!Z220)","v":0.25},{"$f":"CHOOSE(m_identity,East!AA220, London!AA220, 'North West'!AA220, 'West Midlands'!AA220, Northern!AA220, Scotland!AA220, Southern!AA220, 'Wales & West'!AA220)","v":0.25},{"$f":"CHOOSE(m_identity,East!AB220, London!AB220, 'North West'!AB220, 'West Midlands'!AB220, Northern!AB220, Scotland!AB220, Southern!AB220, 'Wales & West'!AB220)","v":0.25},{"$f":"CHOOSE(m_identity,East!AC220, London!AC220, 'North West'!AC220, 'West Midlands'!AC220, Northern!AC220, Scotland!AC220, Southern!AC220, 'Wales & West'!AC220)","v":0.2},{"$f":"CHOOSE(m_identity,East!AD220, London!AD220, 'North West'!AD220, 'West Midlands'!AD220, Northern!AD220, Scotland!AD220, Southern!AD220, 'Wales & West'!AD220)","v":0.2},{"$f":"CHOOSE(m_identity,East!AE220, London!AE220, 'North West'!AE220, 'West Midlands'!AE220, Northern!AE220, Scotland!AE220, Southern!AE220, 'Wales & West'!AE220)","v":0.2},{"$f":"CHOOSE(m_identity,East!AF220, London!AF220, 'North West'!AF220, 'West Midlands'!AF220, Northern!AF220, Scotland!AF220, Southern!AF220, 'Wales & West'!AF220)","v":0.2},{"$f":"CHOOSE(m_identity,East!AG220, London!AG220, 'North West'!AG220, 'West Midlands'!AG220, Northern!AG220, Scotland!AG220, Southern!AG220, 'Wales & West'!AG220)","v":0.18000000000000002},{"$f":"CHOOSE(m_identity,East!AH220, London!AH220, 'North West'!AH220, 'West Midlands'!AH220, Northern!AH220, Scotland!AH220, Southern!AH220, 'Wales & West'!AH220)","v":0.18000000000000002},{"$f":"CHOOSE(m_identity,East!AI220, London!AI220, 'North West'!AI220, 'West Midlands'!AI220, Northern!AI220, Scotland!AI220, Southern!AI220, 'Wales & West'!AI220)","v":0.18000000000000002},{"$f":"CHOOSE(m_identity,East!AJ220, London!AJ220, 'North West'!AJ220, 'West Midlands'!AJ220, Northern!AJ220, Scotland!AJ220, Southern!AJ220, 'Wales & West'!AJ220)","v":0.18000000000000002},{"$f":"CHOOSE(m_identity,East!AK220, London!AK220, 'North West'!AK220, 'West Midlands'!AK220, Northern!AK220, Scotland!AK220, Southern!AK220, 'Wales & West'!AK220)","v":0.18000000000000002},{"$f":"CHOOSE(m_identity,East!AL220, London!AL220, 'North West'!AL220, 'West Midlands'!AL220, Northern!AL220, Scotland!AL220, Southern!AL220, 'Wales & West'!AL220)","v":0.18000000000000002},{"$f":"CHOOSE(m_identity,East!AM220, London!AM220, 'North West'!AM220, 'West Midlands'!AM220, Northern!AM220, Scotland!AM220, Southern!AM220, 'Wales & West'!AM220)","v":0.18000000000000002},{"$f":"CHOOSE(m_identity,East!AN220, London!AN220, 'North West'!AN220, 'West Midlands'!AN220, Northern!AN220, Scotland!AN220, Southern!AN220, 'Wales & West'!AN220)","v":0.18000000000000002},{"$f":"CHOOSE(m_identity,East!AO220, London!AO220, 'North West'!AO220, 'West Midlands'!AO220, Northern!AO220, Scotland!AO220, Southern!AO220, 'Wales & West'!AO220)","v":0.18000000000000002}]
[null,null,null,null,"Special Rates capital allowance rate",null,"%",null,null,">",null,null,null,null,null,null,null,null,null,null,null,{"$f":"CHOOSE(m_identity,East!V221, London!V221, 'North West'!V221, 'West Midlands'!V221, Northern!V221, Scotland!V221, Southern!V221, 'Wales & West'!V221)","v":0.06},{"$f":"CHOOSE(m_identity,East!W221, London!W221, 'North West'!W221, 'West Midlands'!W221, Northern!W221, Scotland!W221, Southern!W221, 'Wales & West'!W221)","v":0.06},{"$f":"CHOOSE(m_identity,East!X221, London!X221, 'North West'!X221, 'West Midlands'!X221, Northern!X221, Scotland!X221, Southern!X221, 'Wales & West'!X221)","v":0.06},{"$f":"CHOOSE(m_identity,East!Y221, London!Y221, 'North West'!Y221, 'West Midlands'!Y221, Northern!Y221, Scotland!Y221, Southern!Y221, 'Wales & West'!Y221)","v":0.06},{"$f":"CHOOSE(m_identity,East!Z221, London!Z221, 'North West'!Z221, 'West Midlands'!Z221, Northern!Z221, Scotland!Z221, Southern!Z221, 'Wales & West'!Z221)","v":0.06},{"$f":"CHOOSE(m_identity,East!AA221, London!AA221, 'North West'!AA221, 'West Midlands'!AA221, Northern!AA221, Scotland!AA221, Southern!AA221, 'Wales & West'!AA221)","v":0.06},{"$f":"CHOOSE(m_identity,East!AB221, London!AB221, 'North West'!AB221, 'West Midlands'!AB221, Northern!AB221, Scotland!AB221, Southern!AB221, 'Wales & West'!AB221)","v":0.06},{"$f":"CHOOSE(m_identity,East!AC221, London!AC221, 'North West'!AC221, 'West Midlands'!AC221, Northern!AC221, Scotland!AC221, Southern!AC221, 'Wales & West'!AC221)","v":0.1},{"$f":"CHOOSE(m_identity,East!AD221, London!AD221, 'North West'!AD221, 'West Midlands'!AD221, Northern!AD221, Scotland!AD221, Southern!AD221, 'Wales & West'!AD221)","v":0.1},{"$f":"CHOOSE(m_identity,East!AE221, London!AE221, 'North West'!AE221, 'West Midlands'!AE221, Northern!AE221, Scotland!AE221, Southern!AE221, 'Wales & West'!AE221)","v":0.1},{"$f":"CHOOSE(m_identity,East!AF221, London!AF221, 'North West'!AF221, 'West Midlands'!AF221, Northern!AF221, Scotland!AF221, Southern!AF221, 'Wales & West'!AF221)","v":0.1},{"$f":"CHOOSE(m_identity,East!AG221, London!AG221, 'North West'!AG221, 'West Midlands'!AG221, Northern!AG221, Scotland!AG221, Southern!AG221, 'Wales & West'!AG221)","v":0.08},{"$f":"CHOOSE(m_identity,East!AH221, London!AH221, 'North West'!AH221, 'West Midlands'!AH221, Northern!AH221, Scotland!AH221, Southern!AH221, 'Wales & West'!AH221)","v":0.08},{"$f":"CHOOSE(m_identity,East!AI221, London!AI221, 'North West'!AI221, 'West Midlands'!AI221, Northern!AI221, Scotland!AI221, Southern!AI221, 'Wales & West'!AI221)","v":0.08},{"$f":"CHOOSE(m_identity,East!AJ221, London!AJ221, 'North West'!AJ221, 'West Midlands'!AJ221, Northern!AJ221, Scotland!AJ221, Southern!AJ221, 'Wales & West'!AJ221)","v":0.08},{"$f":"CHOOSE(m_identity,East!AK221, London!AK221, 'North West'!AK221, 'West Midlands'!AK221, Northern!AK221, Scotland!AK221, Southern!AK221, 'Wales & West'!AK221)","v":0.08},{"$f":"CHOOSE(m_identity,East!AL221, London!AL221, 'North West'!AL221, 'West Midlands'!AL221, Northern!AL221, Scotland!AL221, Southern!AL221, 'Wales & West'!AL221)","v":0.08},{"$f":"CHOOSE(m_identity,East!AM221, London!AM221, 'North West'!AM221, 'West Midlands'!AM221, Northern!AM221, Scotland!AM221, Southern!AM221, 'Wales & West'!AM221)","v":0.08},{"$f":"CHOOSE(m_identity,East!AN221, London!AN221, 'North West'!AN221, 'West Midlands'!AN221, Northern!AN221, Scotland!AN221, Southern!AN221, 'Wales & West'!AN221)","v":0.08},{"$f":"CHOOSE(m_identity,East!AO221, London!AO221, 'North West'!AO221, 'West Midlands'!AO221, Northern!AO221, Scotland!AO221, Southern!AO221, 'Wales & West'!AO221)","v":0.08}]
[null,null,null,null,"Deferred Revenue Expenditure capital allowance rate",null,"%",null,null,null,null,null,null,null,null,null,null,null,null,null,null,null,null,null,null,null,null,null,null,null,null,null,null,{"$f":"CHOOSE(m_identity,East!AH222, London!AH222, 'North West'!AH222, 'West Midlands'!AH222, Northern!AH222, Scotland!AH222, Southern!AH222, 'Wales & West'!AH222)","v":2.2200000000000001E-2},{"$f":"CHOOSE(m_identity,East!AI222, London!AI222, 'North West'!AI222, 'West Midlands'!AI222, Northern!AI222, Scotland!AI222, Southern!AI222, 'Wales & West'!AI222)","v":2.2200000000000001E-2},{"$f":"CHOOSE(m_identity,East!AJ222, London!AJ222, 'North West'!AJ222, 'West Midlands'!AJ222, Northern!AJ222, Scotland!AJ222, Southern!AJ222, 'Wales & West'!AJ222)","v":2.2200000000000001E-2},{"$f":"CHOOSE(m_identity,East!AK222, London!AK222, 'North West'!AK222, 'West Midlands'!AK222, Northern!AK222, Scotland!AK222, Southern!AK222, 'Wales & West'!AK222)","v":2.2200000000000001E-2},{"$f":"CHOOSE(m_identity,East!AL222, London!AL222, 'North West'!AL222, 'West Midlands'!AL222, Northern!AL222, Scotland!AL222, Southern!AL222, 'Wales & West'!AL222)","v":2.2200000000000001E-2},{"$f":"CHOOSE(m_identity,East!AM222, London!AM222, 'North West'!AM222, 'West Midlands'!AM222, Northern!AM222, Scotland!AM222, Southern!AM222, 'Wales & West'!AM222)","v":2.2200000000000001E-2},{"$f":"CHOOSE(m_identity,East!AN222, London!AN222, 'North West'!AN222, 'West Midlands'!AN222, Northern!AN222, Scotland!AN222, Southern!AN222, 'Wales & West'!AN222)","v":2.2200000000000001E-2},{"$f":"CHOOSE(m_identity,East!AO222, London!AO222, 'North West'!AO222, 'West Midlands'!AO222, Northern!AO222, Scotland!AO222, Southern!AO222, 'Wales & West'!AO222)","v":2.2200000000000001E-2}]
[]
[null,null,"Capital allowances and tax losses"]
[]
[null,null,null,null,"General pool capital allowance opening balance brought forward",null,"£m nominal",null,null,null,null,null,null,null,null,null,null,null,null,null,null,null,null,null,null,null,null,null,null,null,null,null,null,{"$f":"CHOOSE(m_identity,East!AH226, London!AH226, 'North West'!AH226, 'West Midlands'!AH226, Northern!AH226, Scotland!AH226, Southern!AH226, 'Wales & West'!AH226)","v":93.347165715101582}]
[]
[null,null,null,null,"Special Rate capital allowance opening balance brought forward",null,"£m nominal",null,null,null,null,null,null,null,null,null,null,null,null,null,null,null,null,null,null,null,null,null,null,null,null,null,null,{"$f":"CHOOSE(m_identity,East!AH228, London!AH228, 'North West'!AH228, 'West Midlands'!AH228, Northern!AH228, Scotland!AH228, Southern!AH228, 'Wales & West'!AH228)","v":246.88306659693257}]
[]
[null,null,null,null,"Deferred revenue expenditure opening balance brought forward",null,"£m nominal",null,null,null,null,null,null,null,null,null,null,null,null,null,null,null,null,null,null,null,null,null,null,null,null,null,null,{"$f":"CHOOSE(m_identity,East!AH230, London!AH230, 'North West'!AH230, 'West Midlands'!AH230, Northern!AH230, Scotland!AH230, Southern!AH230, 'Wales & West'!AH230)","v":10.406944779971756}]
[]
[null,null,null,null,"Tax loss brought forward",null,"£m nominal",null,null,null,null,null,null,null,null,null,null,null,null,null,null,null,null,null,null,null,null,null,null,null,null,null,null,{"$f":"CHOOSE(m_identity,East!AH232, London!AH232, 'North West'!AH232, 'West Midlands'!AH232, Northern!AH232, Scotland!AH232, Southern!AH232, 'Wales & West'!AH232)","v":0}]
[]
[null,null,"Tax pool allocation"]
[]
[null,null,null,"Allocation to \"General\" pool"]
[]
[null,null,null,null,"Load Related",null,"%",null,null,null,null,null,null,null,null,null,null,null,null,null,null,null,null,null,null,null,null,null,null,null,null,null,null,{"$f":"CHOOSE(m_identity,East!AH238, London!AH238, 'North West'!AH238, 'West Midlands'!AH238, Northern!AH238, Scotland!AH238, Southern!AH238, 'Wales & West'!AH238)","v":2.8999999999999998E-3},{"$f":"CHOOSE(m_identity,East!AI238, London!AI238, 'North West'!AI238, 'West Midlands'!AI238, Northern!AI238, Scotland!AI238, Southern!AI238, 'Wales & West'!AI238)","v":2.8999999999999998E-3},{"$f":"CHOOSE(m_identity,East!AJ238, London!AJ238, 'North West'!AJ238, 'West Midlands'!AJ238, Northern!AJ238, Scotland!AJ238, Southern!AJ238, 'Wales & West'!AJ238)","v":2.8999999999999998E-3},{"$f":"CHOOSE(m_identity,East!AK238, London!AK238, 'North West'!AK238, 'West Midlands'!AK238, Northern!AK238, Scotland!AK238, Southern!AK238, 'Wales & West'!AK238)","v":2.8999999999999998E-3},{"$f":"CHOOSE(m_identity,East!AL238, London!AL238, 'North West'!AL238, 'West Midlands'!AL238, Northern!AL238, Scotland!AL238, Southern!AL238, 'Wales & West'!AL238)","v":2.8999999999999998E-3},{"$f":"CHOOSE(m_identity,East!AM238, London!AM238, 'North West'!AM238, 'West Midlands'!AM238, Northern!AM238, Scotland!AM238, Southern!AM238, 'Wales & West'!AM238)","v":2.8999999999999998E-3},{"$f":"CHOOSE(m_identity,East!AN238, London!AN238, 'North West'!AN238, 'West Midlands'!AN238, Northern!AN238, Scotland!AN238, Southern!AN238, 'Wales & West'!AN238)","v":2.8999999999999998E-3},{"$f":"CHOOSE(m_identity,East!AO238, London!AO238, 'North West'!AO238, 'West Midlands'!AO238, Northern!AO238, Scotland!AO238, Southern!AO238, 'Wales & West'!AO238)","v":2.8999999999999998E-3}]
[null,null,null,null,"Non-Load Related - other",null,"%",null,null,null,null,null,null,null,null,null,null,null,null,null,null,null,null,null,null,null,null,null,null,null,null,null,null,{"$f":"CHOOSE(m_identity,East!AH239, London!AH239, 'North West'!AH239, 'West Midlands'!AH239, Northern!AH239, Scotland!AH239, Southern!AH239, 'Wales & West'!AH239)","v":0.89756098390240724},{"$f":"CHOOSE(m_identity,East!AI239, London!AI239, 'North West'!AI239, 'West Midlands'!AI239, Northern!AI239, Scotland!AI239, Southern!AI239, 'Wales & West'!AI239)","v":0.89756098390240724},{"$f":"CHOOSE(m_identity,East!AJ239, London!AJ239, 'North West'!AJ239, 'West Midlands'!AJ239, Northern!AJ239, Scotland!AJ239, Southern!AJ239, 'Wales & West'!AJ239)","v":0.89756098390240724},{"$f":"CHOOSE(m_identity,East!AK239, London!AK239, 'North West'!AK239, 'West Midlands'!AK239, Northern!AK239, Scotland!AK239, Southern!AK239, 'Wales & West'!AK239)","v":0.89756098390240724},{"$f":"CHOOSE(m_identity,East!AL239, London!AL239, 'North West'!AL239, 'West Midlands'!AL239, Northern!AL239, Scotland!AL239, Southern!AL239, 'Wales & West'!AL239)","v":0.89756098390240724},{"$f":"CHOOSE(m_identity,East!AM239, London!AM239, 'North West'!AM239, 'West Midlands'!AM239, Northern!AM239, Scotland!AM239, Southern!AM239, 'Wales & West'!AM239)","v":0.89756098390240724},{"$f":"CHOOSE(m_identity,East!AN239, London!AN239, 'North West'!AN239, 'West Midlands'!AN239, Northern!AN239, Scotland!AN239, Southern!AN239, 'Wales & West'!AN239)","v":0.89756098390240724},{"$f":"CHOOSE(m_identity,East!AO239, London!AO239, 'North West'!AO239, 'West Midlands'!AO239, Northern!AO239, Scotland!AO239, Southern!AO239, 'Wales & West'!AO239)","v":0.89756098390240724}]
[null,null,null,null,"Opex",null,"%",null,null,null,null,null,null,null,null,null,null,null,null,null,null,null,null,null,null,null,null,null,null,null,null,null,null,{"$f":"CHOOSE(m_identity,East!AH240, London!AH240, 'North West'!AH240, 'West Midlands'!AH240, Northern!AH240, Scotland!AH240, Southern!AH240, 'Wales & West'!AH240)","v":0},{"$f":"CHOOSE(m_identity,East!AI240, London!AI240, 'North West'!AI240, 'West Midlands'!AI240, Northern!AI240, Scotland!AI240, Southern!AI240, 'Wales & West'!AI240)","v":0},{"$f":"CHOOSE(m_identity,East!AJ240, London!AJ240, 'North West'!AJ240, 'West Midlands'!AJ240, Northern!AJ240, Scotland!AJ240, Southern!AJ240, 'Wales & West'!AJ240)","v":0},{"$f":"CHOOSE(m_identity,East!AK240, London!AK240, 'North West'!AK240, 'West Midlands'!AK240, Northern!AK240, Scotland!AK240, Southern!AK240, 'Wales & West'!AK240)","v":0},{"$f":"CHOOSE(m_identity,East!AL240, London!AL240, 'North West'!AL240, 'West Midlands'!AL240, Northern!AL240, Scotland!AL240, Southern!AL240, 'Wales & West'!AL240)","v":0},{"$f":"CHOOSE(m_identity,East!AM240, London!AM240, 'North West'!AM240, 'West Midlands'!AM240, Northern!AM240, Scotland!AM240, Southern!AM240, 'Wales & West'!AM240)","v":0},{"$f":"CHOOSE(m_identity,East!AN240, London!AN240, 'North West'!AN240, 'West Midlands'!AN240, Northern!AN240, Scotland!AN240, Southern!AN240, 'Wales & West'!AN240)","v":0},{"$f":"CHOOSE(m_identity,East!AO240, London!AO240, 'North West'!AO240, 'West Midlands'!AO240, Northern!AO240, Scotland!AO240, Southern!AO240, 'Wales & West'!AO240)","v":0}]
[null,null,null,null,"Repex",null,"%",null,null,null,null,null,null,null,null,null,null,null,null,null,null,null,null,null,null,null,null,null,null,null,null,null,null,{"$f":"CHOOSE(m_identity,East!AH241, London!AH241, 'North West'!AH241, 'West Midlands'!AH241, Northern!AH241, Scotland!AH241, Southern!AH241, 'Wales & West'!AH241)","v":0},{"$f":"CHOOSE(m_identity,East!AI241, London!AI241, 'North West'!AI241, 'West Midlands'!AI241, Northern!AI241, Scotland!AI241, Southern!AI241, 'Wales & West'!AI241)","v":0},{"$f":"CHOOSE(m_identity,East!AJ241, London!AJ241, 'North West'!AJ241, 'West Midlands'!AJ241, Northern!AJ241, Scotland!AJ241, Southern!AJ241, 'Wales & West'!AJ241)","v":0},{"$f":"CHOOSE(m_identity,East!AK241, London!AK241, 'North West'!AK241, 'West Midlands'!AK241, Northern!AK241, Scotland!AK241, Southern!AK241, 'Wales & West'!AK241)","v":0},{"$f":"CHOOSE(m_identity,East!AL241, London!AL241, 'North West'!AL241, 'West Midlands'!AL241, Northern!AL241, Scotland!AL241, Southern!AL241, 'Wales & West'!AL241)","v":0},{"$f":"CHOOSE(m_identity,East!AM241, London!AM241, 'North West'!AM241, 'West Midlands'!AM241, Northern!AM241, Scotland!AM241, Southern!AM241, 'Wales & West'!AM241)","v":0},{"$f":"CHOOSE(m_identity,East!AN241, London!AN241, 'North West'!AN241, 'West Midlands'!AN241, Northern!AN241, Scotland!AN241, Southern!AN241, 'Wales & West'!AN241)","v":0},{"$f":"CHOOSE(m_identity,East!AO241, London!AO241, 'North West'!AO241, 'West Midlands'!AO241, Northern!AO241, Scotland!AO241, Southern!AO241, 'Wales & West'!AO241)","v":0}]
[]
[null,null,null,"Allocation to \"Special Rate\" pool"]
[]
[null,null,null,null,"Load Related",null,"%",null,null,null,null,null,null,null,null,null,null,null,null,null,null,null,null,null,null,null,null,null,null,null,null,null,null,{"$f":"CHOOSE(m_identity,East!AH245, London!AH245, 'North West'!AH245, 'West Midlands'!AH245, Northern!AH245, Scotland!AH245, Southern!AH245, 'Wales & West'!AH245)","v":0.98870000000000002},{"$f":"CHOOSE(m_identity,East!AI245, London!AI245, 'North West'!AI245, 'West Midlands'!AI245, Northern!AI245, Scotland!AI245, Southern!AI245, 'Wales & West'!AI245)","v":0.98870000000000002},{"$f":"CHOOSE(m_identity,East!AJ245, London!AJ245, 'North West'!AJ245, 'West Midlands'!AJ245, Northern!AJ245, Scotland!AJ245, Southern!AJ245, 'Wales & West'!AJ245)","v":0.98870000000000002},{"$f":"CHOOSE(m_identity,East!AK245, London!AK245, 'North West'!AK245, 'West Midlands'!AK245, Northern!AK245, Scotland!AK245, Southern!AK245, 'Wales & West'!AK245)","v":0.98870000000000002},{"$f":"CHOOSE(m_identity,East!AL245, London!AL245, 'North West'!AL245, 'West Midlands'!AL245, Northern!AL245, Scotland!AL245, Southern!AL245, 'Wales & West'!AL245)","v":0.98870000000000002},{"$f":"CHOOSE(m_identity,East!AM245, London!AM245, 'North West'!AM245, 'West Midlands'!AM245, Northern!AM245, Scotland!AM245, Southern!AM245, 'Wales & West'!AM245)","v":0.98870000000000002},{"$f":"CHOOSE(m_identity,East!AN245, London!AN245, 'North West'!AN245, 'West Midlands'!AN245, Northern!AN245, Scotland!AN245, Southern!AN245, 'Wales & West'!AN245)","v":0.98870000000000002},{"$f":"CHOOSE(m_identity,East!AO245, London!AO245, 'North West'!AO245, 'West Midlands'!AO245, Northern!AO245, Scotland!AO245, Southern!AO245, 'Wales & West'!AO245)","v":0.98870000000000002}]
[null,null,null,null,"Non-Load Related - other",null,"%",null,null,null,null,null,null,null,null,null,null,null,null,null,null,null,null,null,null,null,null,null,null,null,null,null,null,{"$f":"CHOOSE(m_identity,East!AH246, London!AH246, 'North West'!AH246, 'West Midlands'!AH246, Northern!AH246, Scotland!AH246, Southern!AH246, 'Wales & West'!AH246)","v":1.6271113794003381E-2},{"$f":"CHOOSE(m_identity,East!AI246, London!AI246, 'North West'!AI246, 'West Midlands'!AI246, Northern!AI246, Scotland!AI246, Southern!AI246, 'Wales & West'!AI246)","v":1.6271113794003381E-2},{"$f":"CHOOSE(m_identity,East!AJ246, London!AJ246, 'North West'!AJ246, 'West Midlands'!AJ246, Northern!AJ246, Scotland!AJ246, Southern!AJ246, 'Wales & West'!AJ246)","v":1.6271113794003381E-2},{"$f":"CHOOSE(m_identity,East!AK246, London!AK246, 'North West'!AK246, 'West Midlands'!AK246, Northern!AK246, Scotland!AK246, Southern!AK246, 'Wales & West'!AK246)","v":1.6271113794003381E-2},{"$f":"CHOOSE(m_identity,East!AL246, London!AL246, 'North West'!AL246, 'West Midlands'!AL246, Northern!AL246, Scotland!AL246, Southern!AL246, 'Wales & West'!AL246)","v":1.6271113794003381E-2},{"$f":"CHOOSE(m_identity,East!AM246, London!AM246, 'North West'!AM246, 'West Midlands'!AM246, Northern!AM246, Scotland!AM246, Southern!AM246, 'Wales & West'!AM246)","v":1.6271113794003381E-2},{"$f":"CHOOSE(m_identity,East!AN246, London!AN246, 'North West'!AN246, 'West Midlands'!AN246, Northern!AN246, Scotland!AN246, Southern!AN246, 'Wales & West'!AN246)","v":1.6271113794003381E-2},{"$f":"CHOOSE(m_identity,East!AO246, London!AO246, 'North West'!AO246, 'West Midlands'!AO246, Northern!AO246, Scotland!AO246, Southern!AO246, 'Wales & West'!AO246)","v":1.6271113794003381E-2}]
[null,null,null,null,"Opex",null,"%",null,null,null,null,null,null,null,null,null,null,null,null,null,null,null,null,null,null,null,null,null,null,null,null,null,null,{"$f":"CHOOSE(m_identity,East!AH247, London!AH247, 'North West'!AH247, 'West Midlands'!AH247, Northern!AH247, Scotland!AH247, Southern!AH247, 'Wales & West'!AH247)","v":0},{"$f":"CHOOSE(m_identity,East!AI247, London!AI247, 'North West'!AI247, 'West Midlands'!AI247, Northern!AI247, Scotland!AI247, Southern!AI247, 'Wales & West'!AI247)","v":0},{"$f":"CHOOSE(m_identity,East!AJ247, London!AJ247, 'North West'!AJ247, 'West Midlands'!AJ247, Northern!AJ247, Scotland!AJ247, Southern!AJ247, 'Wales & West'!AJ247)","v":0},{"$f":"CHOOSE(m_identity,East!AK247, London!AK247, 'North West'!AK247, 'West Midlands'!AK247, Northern!AK247, Scotland!AK247, Southern!AK247, 'Wales & West'!AK247)","v":0},{"$f":"CHOOSE(m_identity,East!AL247, London!AL247, 'North West'!AL247, 'West Midlands'!AL247, Northern!AL247, Scotland!AL247, Southern!AL247, 'Wales & West'!AL247)","v":0},{"$f":"CHOOSE(m_identity,East!AM247, London!AM247, 'North West'!AM247, 'West Midlands'!AM247, Northern!AM247, Scotland!AM247, Southern!AM247, 'Wales & West'!AM247)","v":0},{"$f":"CHOOSE(m_identity,East!AN247, London!AN247, 'North West'!AN247, 'West Midlands'!AN247, Northern!AN247, Scotland!AN247, Southern!AN247, 'Wales & West'!AN247)","v":0},{"$f":"CHOOSE(m_identity,East!AO247, London!AO247, 'North West'!AO247, 'West Midlands'!AO247, Northern!AO247, Scotland!AO247, Southern!AO247, 'Wales & West'!AO247)","v":0}]
[null,null,null,null,"Repex",null,"%",null,null,null,null,null,null,null,null,null,null,null,null,null,null,null,null,null,null,null,null,null,null,null,null,null,null,{"$f":"CHOOSE(m_identity,East!AH248, London!AH248, 'North West'!AH248, 'West Midlands'!AH248, Northern!AH248, Scotland!AH248, Southern!AH248, 'Wales & West'!AH248)","v":0},{"$f":"CHOOSE(m_identity,East!AI248, London!AI248, 'North West'!AI248, 'West Midlands'!AI248, Northern!AI248, Scotland!AI248, Southern!AI248, 'Wales & West'!AI248)","v":0},{"$f":"CHOOSE(m_identity,East!AJ248, London!AJ248, 'North West'!AJ248, 'West Midlands'!AJ248, Northern!AJ248, Scotland!AJ248, Southern!AJ248, 'Wales & West'!AJ248)","v":0},{"$f":"CHOOSE(m_identity,East!AK248, London!AK248, 'North West'!AK248, 'West Midlands'!AK248, Northern!AK248, Scotland!AK248, Southern!AK248, 'Wales & West'!AK248)","v":0},{"$f":"CHOOSE(m_identity,East!AL248, London!AL248, 'North West'!AL248, 'West Midlands'!AL248, Northern!AL248, Scotland!AL248, Southern!AL248, 'Wales & West'!AL248)","v":0},{"$f":"CHOOSE(m_identity,East!AM248, London!AM248, 'North West'!AM248, 'West Midlands'!AM248, Northern!AM248, Scotland!AM248, Southern!AM248, 'Wales & West'!AM248)","v":0},{"$f":"CHOOSE(m_identity,East!AN248, London!AN248, 'North West'!AN248, 'West Midlands'!AN248, Northern!AN248, Scotland!AN248, Southern!AN248, 'Wales & West'!AN248)","v":0},{"$f":"CHOOSE(m_identity,East!AO248, London!AO248, 'North West'!AO248, 'West Midlands'!AO248, Northern!AO248, Scotland!AO248, Southern!AO248, 'Wales & West'!AO248)","v":0}]
[]
[null,null,null,"Allocation to \"Deferred Revenue\" pool"]
[]
[null,null,null,null,"Load Related",null,"%",null,null,null,null,null,null,null,null,null,null,null,null,null,null,null,null,null,null,null,null,null,null,null,null,null,null,{"$f":"CHOOSE(m_identity,East!AH252, London!AH252, 'North West'!AH252, 'West Midlands'!AH252, Northern!AH252, Scotland!AH252, Southern!AH252, 'Wales & West'!AH252)","v":0},{"$f":"CHOOSE(m_identity,East!AI252, London!AI252, 'North West'!AI252, 'West Midlands'!AI252, Northern!AI252, Scotland!AI252, Southern!AI252, 'Wales & West'!AI252)","v":0},{"$f":"CHOOSE(m_identity,East!AJ252, London!AJ252, 'North West'!AJ252, 'West Midlands'!AJ252, Northern!AJ252, Scotland!AJ252, Southern!AJ252, 'Wales & West'!AJ252)","v":0},{"$f":"CHOOSE(m_identity,East!AK252, London!AK252, 'North West'!AK252, 'West Midlands'!AK252, Northern!AK252, Scotland!AK252, Southern!AK252, 'Wales & West'!AK252)","v":0},{"$f":"CHOOSE(m_identity,East!AL252, London!AL252, 'North West'!AL252, 'West Midlands'!AL252, Northern!AL252, Scotland!AL252, Southern!AL252, 'Wales & West'!AL252)","v":0},{"$f":"CHOOSE(m_identity,East!AM252, London!AM252, 'North West'!AM252, 'West Midlands'!AM252, Northern!AM252, Scotland!AM252, Southern!AM252, 'Wales & West'!AM252)","v":0},{"$f":"CHOOSE(m_identity,East!AN252, London!AN252, 'North West'!AN252, 'West Midlands'!AN252, Northern!AN252, Scotland!AN252, Southern!AN252, 'Wales & West'!AN252)","v":0},{"$f":"CHOOSE(m_identity,East!AO252, London!AO252, 'North West'!AO252, 'West Midlands'!AO252, Northern!AO252, Scotland!AO252, Southern!AO252, 'Wales & West'!AO252)","v":0}]
[null,null,null,null,"Non-Load Related - other",null,"%",null,null,null,null,null,null,null,null,null,null,null,null,null,null,null,null,null,null,null,null,null,null,null,null,null,null,{"$f":"CHOOSE(m_identity,East!AH253, London!AH253, 'North West'!AH253, 'West Midlands'!AH253, Northern!AH253, Scotland!AH253, Southern!AH253, 'Wales & West'!AH253)","v":0},{"$f":"CHOOSE(m_identity,East!AI253, London!AI253, 'North West'!AI253, 'West Midlands'!AI253, Northern!AI253, Scotland!AI253, Southern!AI253, 'Wales & West'!AI253)","v":0},{"$f":"CHOOSE(m_identity,East!AJ253, London!AJ253, 'North West'!AJ253, 'West Midlands'!AJ253, Northern!AJ253, Scotland!AJ253, Southern!AJ253, 'Wales & West'!AJ253)","v":0},{"$f":"CHOOSE(m_identity,East!AK253, London!AK253, 'North West'!AK253, 'West Midlands'!AK253, Northern!AK253, Scotland!AK253, Southern!AK253, 'Wales & West'!AK253)","v":0},{"$f":"CHOOSE(m_identity,East!AL253, London!AL253, 'North West'!AL253, 'West Midlands'!AL253, Northern!AL253, Scotland!AL253, Southern!AL253, 'Wales & West'!AL253)","v":0},{"$f":"CHOOSE(m_identity,East!AM253, London!AM253, 'North West'!AM253, 'West Midlands'!AM253, Northern!AM253, Scotland!AM253, Southern!AM253, 'Wales & West'!AM253)","v":0},{"$f":"CHOOSE(m_identity,East!AN253, London!AN253, 'North West'!AN253, 'West Midlands'!AN253, Northern!AN253, Scotland!AN253, Southern!AN253, 'Wales & West'!AN253)","v":0},{"$f":"CHOOSE(m_identity,East!AO253, London!AO253, 'North West'!AO253, 'West Midlands'!AO253, Northern!AO253, Scotland!AO253, Southern!AO253, 'Wales & West'!AO253)","v":0}]
[null,null,null,null,"Opex",null,"%",null,null,null,null,null,null,null,null,null,null,null,null,null,null,null,null,null,null,null,null,null,null,null,null,null,null,{"$f":"CHOOSE(m_identity,East!AH254, London!AH254, 'North West'!AH254, 'West Midlands'!AH254, Northern!AH254, Scotland!AH254, Southern!AH254, 'Wales & West'!AH254)","v":0},{"$f":"CHOOSE(m_identity,East!AI254, London!AI254, 'North West'!AI254, 'West Midlands'!AI254, Northern!AI254, Scotland!AI254, Southern!AI254, 'Wales & West'!AI254)","v":0},{"$f":"CHOOSE(m_identity,East!AJ254, London!AJ254, 'North West'!AJ254, 'West Midlands'!AJ254, Northern!AJ254, Scotland!AJ254, Southern!AJ254, 'Wales & West'!AJ254)","v":0},{"$f":"CHOOSE(m_identity,East!AK254, London!AK254, 'North West'!AK254, 'West Midlands'!AK254, Northern!AK254, Scotland!AK254, Southern!AK254, 'Wales & West'!AK254)","v":0},{"$f":"CHOOSE(m_identity,East!AL254, London!AL254, 'North West'!AL254, 'West Midlands'!AL254, Northern!AL254, Scotland!AL254, Southern!AL254, 'Wales & West'!AL254)","v":0},{"$f":"CHOOSE(m_identity,East!AM254, London!AM254, 'North West'!AM254, 'West Midlands'!AM254, Northern!AM254, Scotland!AM254, Southern!AM254, 'Wales & West'!AM254)","v":0},{"$f":"CHOOSE(m_identity,East!AN254, London!AN254, 'North West'!AN254, 'West Midlands'!AN254, Northern!AN254, Scotland!AN254, Southern!AN254, 'Wales & West'!AN254)","v":0},{"$f":"CHOOSE(m_identity,East!AO254, London!AO254, 'North West'!AO254, 'West Midlands'!AO254, Northern!AO254, Scotland!AO254, Southern!AO254, 'Wales & West'!AO254)","v":0}]
[null,null,null,null,"Repex",null,"%",null,null,null,null,null,null,null,null,null,null,null,null,null,null,null,null,null,null,null,null,null,null,null,null,null,null,{"$f":"CHOOSE(m_identity,East!AH255, London!AH255, 'North West'!AH255, 'West Midlands'!AH255, Northern!AH255, Scotland!AH255, Southern!AH255, 'Wales & West'!AH255)","v":0},{"$f":"CHOOSE(m_identity,East!AI255, London!AI255, 'North West'!AI255, 'West Midlands'!AI255, Northern!AI255, Scotland!AI255, Southern!AI255, 'Wales & West'!AI255)","v":0},{"$f":"CHOOSE(m_identity,East!AJ255, London!AJ255, 'North West'!AJ255, 'West Midlands'!AJ255, Northern!AJ255, Scotland!AJ255, Southern!AJ255, 'Wales & West'!AJ255)","v":1},{"$f":"CHOOSE(m_identity,East!AK255, London!AK255, 'North West'!AK255, 'West Midlands'!AK255, Northern!AK255, Scotland!AK255, Southern!AK255, 'Wales & West'!AK255)","v":1},{"$f":"CHOOSE(m_identity,East!AL255, London!AL255, 'North West'!AL255, 'West Midlands'!AL255, Northern!AL255, Scotland!AL255, Southern!AL255, 'Wales & West'!AL255)","v":1},{"$f":"CHOOSE(m_identity,East!AM255, London!AM255, 'North West'!AM255, 'West Midlands'!AM255, Northern!AM255, Scotland!AM255, Southern!AM255, 'Wales & West'!AM255)","v":1},{"$f":"CHOOSE(m_identity,East!AN255, London!AN255, 'North West'!AN255, 'West Midlands'!AN255, Northern!AN255, Scotland!AN255, Southern!AN255, 'Wales & West'!AN255)","v":1},{"$f":"CHOOSE(m_identity,East!AO255, London!AO255, 'North West'!AO255, 'West Midlands'!AO255, Northern!AO255, Scotland!AO255, Southern!AO255, 'Wales & West'!AO255)","v":1}]
[]
[null,null,null,"Allocation to \"Revenue\" pool"]
[]
[null,null,null,null,"Load Related",null,"%",null,null,null,null,null,null,null,null,null,null,null,null,null,null,null,null,null,null,null,null,null,null,null,null,null,null,{"$f":"CHOOSE(m_identity,East!AH259, London!AH259, 'North West'!AH259, 'West Midlands'!AH259, Northern!AH259, Scotland!AH259, Southern!AH259, 'Wales & West'!AH259)","v":0},{"$f":"CHOOSE(m_identity,East!AI259, London!AI259, 'North West'!AI259, 'West Midlands'!AI259, Northern!AI259, Scotland!AI259, Southern!AI259, 'Wales & West'!AI259)","v":0},{"$f":"CHOOSE(m_identity,East!AJ259, London!AJ259, 'North West'!AJ259, 'West Midlands'!AJ259, Northern!AJ259, Scotland!AJ259, Southern!AJ259, 'Wales & West'!AJ259)","v":0},{"$f":"CHOOSE(m_identity,East!AK259, London!AK259, 'North West'!AK259, 'West Midlands'!AK259, Northern!AK259, Scotland!AK259, Southern!AK259, 'Wales & West'!AK259)","v":0},{"$f":"CHOOSE(m_identity,East!AL259, London!AL259, 'North West'!AL259, 'West Midlands'!AL259, Northern!AL259, Scotland!AL259, Southern!AL259, 'Wales & West'!AL259)","v":0},{"$f":"CHOOSE(m_identity,East!AM259, London!AM259, 'North West'!AM259, 'West Midlands'!AM259, Northern!AM259, Scotland!AM259, Southern!AM259, 'Wales & West'!AM259)","v":0},{"$f":"CHOOSE(m_identity,East!AN259, London!AN259, 'North West'!AN259, 'West Midlands'!AN259, Northern!AN259, Scotland!AN259, Southern!AN259, 'Wales & West'!AN259)","v":0},{"$f":"CHOOSE(m_identity,East!AO259, London!AO259, 'North West'!AO259, 'West Midlands'!AO259, Northern!AO259, Scotland!AO259, Southern!AO259, 'Wales & West'!AO259)","v":0}]
[null,null,null,null,"Non-Load Related - other",null,"%",null,null,null,null,null,null,null,null,null,null,null,null,null,null,null,null,null,null,null,null,null,null,null,null,null,null,{"$f":"CHOOSE(m_identity,East!AH260, London!AH260, 'North West'!AH260, 'West Midlands'!AH260, Northern!AH260, Scotland!AH260, Southern!AH260, 'Wales & West'!AH260)","v":0},{"$f":"CHOOSE(m_identity,East!AI260, London!AI260, 'North West'!AI260, 'West Midlands'!AI260, Northern!AI260, Scotland!AI260, Southern!AI260, 'Wales & West'!AI260)","v":0},{"$f":"CHOOSE(m_identity,East!AJ260, London!AJ260, 'North West'!AJ260, 'West Midlands'!AJ260, Northern!AJ260, Scotland!AJ260, Southern!AJ260, 'Wales & West'!AJ260)","v":0},{"$f":"CHOOSE(m_identity,East!AK260, London!AK260, 'North West'!AK260, 'West Midlands'!AK260, Northern!AK260, Scotland!AK260, Southern!AK260, 'Wales & West'!AK260)","v":0},{"$f":"CHOOSE(m_identity,East!AL260, London!AL260, 'North West'!AL260, 'West Midlands'!AL260, Northern!AL260, Scotland!AL260, Southern!AL260, 'Wales & West'!AL260)","v":0},{"$f":"CHOOSE(m_identity,East!AM260, London!AM260, 'North West'!AM260, 'West Midlands'!AM260, Northern!AM260, Scotland!AM260, Southern!AM260, 'Wales & West'!AM260)","v":0},{"$f":"CHOOSE(m_identity,East!AN260, London!AN260, 'North West'!AN260, 'West Midlands'!AN260, Northern!AN260, Scotland!AN260, Southern!AN260, 'Wales & West'!AN260)","v":0},{"$f":"CHOOSE(m_identity,East!AO260, London!AO260, 'North West'!AO260, 'West Midlands'!AO260, Northern!AO260, Scotland!AO260, Southern!AO260, 'Wales & West'!AO260)","v":0}]
[null,null,null,null,"Opex",null,"%",null,null,null,null,null,null,null,null,null,null,null,null,null,null,null,null,null,null,null,null,null,null,null,null,null,null,{"$f":"CHOOSE(m_identity,East!AH261, London!AH261, 'North West'!AH261, 'West Midlands'!AH261, Northern!AH261, Scotland!AH261, Southern!AH261, 'Wales & West'!AH261)","v":1},{"$f":"CHOOSE(m_identity,East!AI261, London!AI261, 'North West'!AI261, 'West Midlands'!AI261, Northern!AI261, Scotland!AI261, Southern!AI261, 'Wales & West'!AI261)","v":1},{"$f":"CHOOSE(m_identity,East!AJ261, London!AJ261, 'North West'!AJ261, 'West Midlands'!AJ261, Northern!AJ261, Scotland!AJ261, Southern!AJ261, 'Wales & West'!AJ261)","v":1},{"$f":"CHOOSE(m_identity,East!AK261, London!AK261, 'North West'!AK261, 'West Midlands'!AK261, Northern!AK261, Scotland!AK261, Southern!AK261, 'Wales & West'!AK261)","v":1},{"$f":"CHOOSE(m_identity,East!AL261, London!AL261, 'North West'!AL261, 'West Midlands'!AL261, Northern!AL261, Scotland!AL261, Southern!AL261, 'Wales & West'!AL261)","v":1},{"$f":"CHOOSE(m_identity,East!AM261, London!AM261, 'North West'!AM261, 'West Midlands'!AM261, Northern!AM261, Scotland!AM261, Southern!AM261, 'Wales & West'!AM261)","v":1},{"$f":"CHOOSE(m_identity,East!AN261, London!AN261, 'North West'!AN261, 'West Midlands'!AN261, Northern!AN261, Scotland!AN261, Southern!AN261, 'Wales & West'!AN261)","v":1},{"$f":"CHOOSE(m_identity,East!AO261, London!AO261, 'North West'!AO261, 'West Midlands'!AO261, Northern!AO261, Scotland!AO261, Southern!AO261, 'Wales & West'!AO261)","v":1}]
[null,null,null,null,"Repex",null,"%",null,null,null,null,null,null,null,null,null,null,null,null,null,null,null,null,null,null,null,null,null,null,null,null,null,null,{"$f":"CHOOSE(m_identity,East!AH262, London!AH262, 'North West'!AH262, 'West Midlands'!AH262, Northern!AH262, Scotland!AH262, Southern!AH262, 'Wales & West'!AH262)","v":1},{"$f":"CHOOSE(m_identity,East!AI262, London!AI262, 'North West'!AI262, 'West Midlands'!AI262, Northern!AI262, Scotland!AI262, Southern!AI262, 'Wales & West'!AI262)","v":1},{"$f":"CHOOSE(m_identity,East!AJ262, London!AJ262, 'North West'!AJ262, 'West Midlands'!AJ262, Northern!AJ262, Scotland!AJ262, Southern!AJ262, 'Wales & West'!AJ262)","v":0},{"$f":"CHOOSE(m_identity,East!AK262, London!AK262, 'North West'!AK262, 'West Midlands'!AK262, Northern!AK262, Scotland!AK262, Southern!AK262, 'Wales & West'!AK262)","v":0},{"$f":"CHOOSE(m_identity,East!AL262, London!AL262, 'North West'!AL262, 'West Midlands'!AL262, Northern!AL262, Scotland!AL262, Southern!AL262, 'Wales & West'!AL262)","v":0},{"$f":"CHOOSE(m_identity,East!AM262, London!AM262, 'North West'!AM262, 'West Midlands'!AM262, Northern!AM262, Scotland!AM262, Southern!AM262, 'Wales & West'!AM262)","v":0},{"$f":"CHOOSE(m_identity,East!AN262, London!AN262, 'North West'!AN262, 'West Midlands'!AN262, Northern!AN262, Scotland!AN262, Southern!AN262, 'Wales & West'!AN262)","v":0},{"$f":"CHOOSE(m_identity,East!AO262, London!AO262, 'North West'!AO262, 'West Midlands'!AO262, Northern!AO262, Scotland!AO262, Southern!AO262, 'Wales & West'!AO262)","v":0}]
[]
[null,null,null,"Allocation to \"Non Qualifying\" pool"]
[]
[null,null,null,null,"Load Related",null,"%",null,null,null,null,null,null,null,null,null,null,null,null,null,null,null,null,null,null,null,null,null,null,null,null,null,null,{"$f":"CHOOSE(m_identity,East!AH266, London!AH266, 'North West'!AH266, 'West Midlands'!AH266, Northern!AH266, Scotland!AH266, Southern!AH266, 'Wales & West'!AH266)","v":8.4000000000000012E-3},{"$f":"CHOOSE(m_identity,East!AI266, London!AI266, 'North West'!AI266, 'West Midlands'!AI266, Northern!AI266, Scotland!AI266, Southern!AI266, 'Wales & West'!AI266)","v":8.4000000000000012E-3},{"$f":"CHOOSE(m_identity,East!AJ266, London!AJ266, 'North West'!AJ266, 'West Midlands'!AJ266, Northern!AJ266, Scotland!AJ266, Southern!AJ266, 'Wales & West'!AJ266)","v":8.4000000000000012E-3},{"$f":"CHOOSE(m_identity,East!AK266, London!AK266, 'North West'!AK266, 'West Midlands'!AK266, Northern!AK266, Scotland!AK266, Southern!AK266, 'Wales & West'!AK266)","v":8.4000000000000012E-3},{"$f":"CHOOSE(m_identity,East!AL266, London!AL266, 'North West'!AL266, 'West Midlands'!AL266, Northern!AL266, Scotland!AL266, Southern!AL266, 'Wales & West'!AL266)","v":8.4000000000000012E-3},{"$f":"CHOOSE(m_identity,East!AM266, London!AM266, 'North West'!AM266, 'West Midlands'!AM266, Northern!AM266, Scotland!AM266, Southern!AM266, 'Wales & West'!AM266)","v":8.4000000000000012E-3},{"$f":"CHOOSE(m_identity,East!AN266, London!AN266, 'North West'!AN266, 'West Midlands'!AN266, Northern!AN266, Scotland!AN266, Southern!AN266, 'Wales & West'!AN266)","v":8.4000000000000012E-3},{"$f":"CHOOSE(m_identity,East!AO266, London!AO266, 'North West'!AO266, 'West Midlands'!AO266, Northern!AO266, Scotland!AO266, Southern!AO266, 'Wales & West'!AO266)","v":8.4000000000000012E-3}]
[null,null,null,null,"Non-Load Related - other",null,"%",null,null,null,null,null,null,null,null,null,null,null,null,null,null,null,null,null,null,null,null,null,null,null,null,null,null,{"$f":"CHOOSE(m_identity,East!AH267, London!AH267, 'North West'!AH267, 'West Midlands'!AH267, Northern!AH267, Scotland!AH267, Southern!AH267, 'Wales & West'!AH267)","v":8.6167902303589283E-2},{"$f":"CHOOSE(m_identity,East!AI267, London!AI267, 'North West'!AI267, 'West Midlands'!AI267, Northern!AI267, Scotland!AI267, Southern!AI267, 'Wales & West'!AI267)","v":8.6167902303589283E-2},{"$f":"CHOOSE(m_identity,East!AJ267, London!AJ267, 'North West'!AJ267, 'West Midlands'!AJ267, Northern!AJ267, Scotland!AJ267, Southern!AJ267, 'Wales & West'!AJ267)","v":8.6167902303589283E-2},{"$f":"CHOOSE(m_identity,East!AK267, London!AK267, 'North West'!AK267, 'West Midlands'!AK267, Northern!AK267, Scotland!AK267, Southern!AK267, 'Wales & West'!AK267)","v":8.6167902303589283E-2},{"$f":"CHOOSE(m_identity,East!AL267, London!AL267, 'North West'!AL267, 'West Midlands'!AL267, Northern!AL267, Scotland!AL267, Southern!AL267, 'Wales & West'!AL267)","v":8.6167902303589283E-2},{"$f":"CHOOSE(m_identity,East!AM267, London!AM267, 'North West'!AM267, 'West Midlands'!AM267, Northern!AM267, Scotland!AM267, Southern!AM267, 'Wales & West'!AM267)","v":8.6167902303589283E-2},{"$f":"CHOOSE(m_identity,East!AN267, London!AN267, 'North West'!AN267, 'West Midlands'!AN267, Northern!AN267, Scotland!AN267, Southern!AN267, 'Wales & West'!AN267)","v":8.6167902303589283E-2},{"$f":"CHOOSE(m_identity,East!AO267, London!AO267, 'North West'!AO267, 'West Midlands'!AO267, Northern!AO267, Scotland!AO267, Southern!AO267, 'Wales & West'!AO267)","v":8.6167902303589283E-2}]
[null,null,null,null,"Opex",null,"%",null,null,null,null,null,null,null,null,null,null,null,null,null,null,null,null,null,null,null,null,null,null,null,null,null,null,{"$f":"CHOOSE(m_identity,East!AH268, London!AH268, 'North West'!AH268, 'West Midlands'!AH268, Northern!AH268, Scotland!AH268, Southern!AH268, 'Wales & West'!AH268)","v":0},{"$f":"CHOOSE(m_identity,East!AI268, London!AI268, 'North West'!AI268, 'West Midlands'!AI268, Northern!AI268, Scotland!AI268, Southern!AI268, 'Wales & West'!AI268)","v":0},{"$f":"CHOOSE(m_identity,East!AJ268, London!AJ268, 'North West'!AJ268, 'West Midlands'!AJ268, Northern!AJ268, Scotland!AJ268, Southern!AJ268, 'Wales & West'!AJ268)","v":0},{"$f":"CHOOSE(m_identity,East!AK268, London!AK268, 'North West'!AK268, 'West Midlands'!AK268, Northern!AK268, Scotland!AK268, Southern!AK268, 'Wales & West'!AK268)","v":0},{"$f":"CHOOSE(m_identity,East!AL268, London!AL268, 'North West'!AL268, 'West Midlands'!AL268, Northern!AL268, Scotland!AL268, Southern!AL268, 'Wales & West'!AL268)","v":0},{"$f":"CHOOSE(m_identity,East!AM268, London!AM268, 'North West'!AM268, 'West Midlands'!AM268, Northern!AM268, Scotland!AM268, Southern!AM268, 'Wales & West'!AM268)","v":0},{"$f":"CHOOSE(m_identity,East!AN268, London!AN268, 'North West'!AN268, 'West Midlands'!AN268, Northern!AN268, Scotland!AN268, Southern!AN268, 'Wales & West'!AN268)","v":0},{"$f":"CHOOSE(m_identity,East!AO268, London!AO268, 'North West'!AO268, 'West Midlands'!AO268, Northern!AO268, Scotland!AO268, Southern!AO268, 'Wales & West'!AO268)","v":0}]
[null,null,null,null,"Repex",null,"%",null,null,null,null,null,null,null,null,null,null,null,null,null,null,null,null,null,null,null,null,null,null,null,null,null,null,{"$f":"CHOOSE(m_identity,East!AH269, London!AH269, 'North West'!AH269, 'West Midlands'!AH269, Northern!AH269, Scotland!AH269, Southern!AH269, 'Wales & West'!AH269)","v":0},{"$f":"CHOOSE(m_identity,East!AI269, London!AI269, 'North West'!AI269, 'West Midlands'!AI269, Northern!AI269, Scotland!AI269, Southern!AI269, 'Wales & West'!AI269)","v":0},{"$f":"CHOOSE(m_identity,East!AJ269, London!AJ269, 'North West'!AJ269, 'West Midlands'!AJ269, Northern!AJ269, Scotland!AJ269, Southern!AJ269, 'Wales & West'!AJ269)","v":0},{"$f":"CHOOSE(m_identity,East!AK269, London!AK269, 'North West'!AK269, 'West Midlands'!AK269, Northern!AK269, Scotland!AK269, Southern!AK269, 'Wales & West'!AK269)","v":0},{"$f":"CHOOSE(m_identity,East!AL269, London!AL269, 'North West'!AL269, 'West Midlands'!AL269, Northern!AL269, Scotland!AL269, Southern!AL269, 'Wales & West'!AL269)","v":0},{"$f":"CHOOSE(m_identity,East!AM269, London!AM269, 'North West'!AM269, 'West Midlands'!AM269, Northern!AM269, Scotland!AM269, Southern!AM269, 'Wales & West'!AM269)","v":0},{"$f":"CHOOSE(m_identity,East!AN269, London!AN269, 'North West'!AN269, 'West Midlands'!AN269, Northern!AN269, Scotland!AN269, Southern!AN269, 'Wales & West'!AN269)","v":0},{"$f":"CHOOSE(m_identity,East!AO269, London!AO269, 'North West'!AO269, 'West Midlands'!AO269, Northern!AO269, Scotland!AO269, Southern!AO269, 'Wales & West'!AO269)","v":0}]
[]
[null,null,null,"Allocation check"]
[null,null,null,"Note: All categories should equal 100%"]
[]
[null,null,null,null,"Load Related",null,"%",null,null,null,null,null,null,null,null,null,null,null,null,null,null,null,null,null,null,null,null,null,null,null,null,null,null,{"$f":"AH238+AH245+AH252+AH259+AH266","v":1},1,1,1,1,1,1,1]
[null,null,null,null,"Non-Load Related - other",null,"%",null,null,null,null,null,null,null,null,null,null,null,null,null,null,null,null,null,null,null,null,null,null,null,null,null,null,0.99999999999999989,0.99999999999999989,0.99999999999999989,0.99999999999999989,0.99999999999999989,0.99999999999999989,0.99999999999999989,0.99999999999999989]
[null,null,null,null,"Opex",null,"%",null,null,null,null,null,null,null,null,null,null,null,null,null,null,null,null,null,null,null,null,null,null,null,null,null,null,1,1,1,1,1,1,1,1]
[null,null,null,null,"Repex",null,"%",null,null,null,null,null,null,null,null,null,null,null,null,null,null,null,null,null,null,null,null,null,null,null,null,null,null,1,1,1,1,1,1,1,1]
[]
[null,null,null,"Tax Trigger Deadbands"]
[]
[null,null,null,null,"Tax Trigger Deadband",null,"£m 09/10 prices",null,null,null,null,null,null,null,null,null,null,null,null,null,null,null,null,null,null,null,null,null,null,null,null,null,null,{"$f":"CHOOSE(m_identity,East!AH281, London!AH281, 'North West'!AH281, 'West Midlands'!AH281, Northern!AH281, Scotland!AH281, Southern!AH281, 'Wales & West'!AH281)","v":1.7716944899109435},{"$f":"CHOOSE(m_identity,East!AI281, London!AI281, 'North West'!AI281, 'West Midlands'!AI281, Northern!AI281, Scotland!AI281, Southern!AI281, 'Wales & West'!AI281)","v":1.7088269950491191},{"$f":"CHOOSE(m_identity,East!AJ281, London!AJ281, 'North West'!AJ281, 'West Midlands'!AJ281, Northern!AJ281, Scotland!AJ281, Southern!AJ281, 'Wales & West'!AJ281)","v":1.7194686253338036},{"$f":"CHOOSE(m_identity,East!AK281, London!AK281, 'North West'!AK281, 'West Midlands'!AK281, Northern!AK281, Scotland!AK281, Southern!AK281, 'Wales & West'!AK281)","v":1.6881202376933113},{"$f":"CHOOSE(m_identity,East!AL281, London!AL281, 'North West'!AL281, 'West Midlands'!AL281, Northern!AL281, Scotland!AL281, Southern!AL281, 'Wales & West'!AL281)","v":1.6841106605557123},{"$f":"CHOOSE(m_identity,East!AM281, London!AM281, 'North West'!AM281, 'West Midlands'!AM281, Northern!AM281, Scotland!AM281, Southern!AM281, 'Wales & West'!AM281)","v":1.6805617863606885},{"$f":"CHOOSE(m_identity,East!AN281, London!AN281, 'North West'!AN281, 'West Midlands'!AN281, Northern!AN281, Scotland!AN281, Southern!AN281, 'Wales & West'!AN281)","v":1.6712047288850487},{"$f":"CHOOSE(m_identity,East!AO281, London!AO281, 'North West'!AO281, 'West Midlands'!AO281, Northern!AO281, Scotland!AO281, Southern!AO281, 'Wales & West'!AO281)","v":1.6750504232911787}]
[]
[null,null,null,"SIU Costs"]
[]
[null,null,null,null,"SIU Costs",null,"£m 09/10 prices",null,null,null,null,null,null,null,null,null,null,null,null,null,null,null,null,null,null,null,null,null,null,null,null,null,null,{"$f":"CHOOSE(m_identity,East!AH285, London!AH285, 'North West'!AH285, 'West Midlands'!AH285, Northern!AH285, Scotland!AH285, Southern!AH285, 'Wales & West'!AH285)","v":0},{"$f":"CHOOSE(m_identity,East!AI285, London!AI285, 'North West'!AI285, 'West Midlands'!AI285, Northern!AI285, Scotland!AI285, Southern!AI285, 'Wales & West'!AI285)","v":0},{"$f":"CHOOSE(m_identity,East!AJ285, London!AJ285, 'North West'!AJ285, 'West Midlands'!AJ285, Northern!AJ285, Scotland!AJ285, Southern!AJ285, 'Wales & West'!AJ285)","v":0},{"$f":"CHOOSE(m_identity,East!AK285, London!AK285, 'North West'!AK285, 'West Midlands'!AK285, Northern!AK285, Scotland!AK285, Southern!AK285, 'Wales & West'!AK285)","v":0},{"$f":"CHOOSE(m_identity,East!AL285, London!AL285, 'North West'!AL285, 'West Midlands'!AL285, Northern!AL285, Scotland!AL285, Southern!AL285, 'Wales & West'!AL285)","v":0},{"$f":"CHOOSE(m_identity,East!AM285, London!AM285, 'North West'!AM285, 'West Midlands'!AM285, Northern!AM285, Scotland!AM285, Southern!AM285, 'Wales & West'!AM285)","v":0},{"$f":"CHOOSE(m_identity,East!AN285, London!AN285, 'North West'!AN285, 'West Midlands'!AN285, Northern!AN285, Scotland!AN285, Southern!AN285, 'Wales & West'!AN285)","v":0},{"$f":"CHOOSE(m_identity,East!AO285, London!AO285, 'North West'!AO285, 'West Midlands'!AO285, Northern!AO285, Scotland!AO285, Southern!AO285, 'Wales & West'!AO285)","v":0}]
[]
[null,null,null,"Additional Income Workings"]
[]
[null,null,null,null,"Original allowed totex",null,null,null,null,null,null,null,null,null,null,null,null,null,null,null,null,null,null,null,null,null,null,null,null,null,null,null,null,{"$f":"CHOOSE(m_identity,East!AH289, London!AH289, 'North West'!AH289, 'West Midlands'!AH289, Northern!AH289, Scotland!AH289, Southern!AH289, 'Wales & West'!AH289)","v":274.98920670282911},{"$f":"CHOOSE(m_identity,East!AI289, London!AI289, 'North West'!AI289, 'West Midlands'!AI289, Northern!AI289, Scotland!AI289, Southern!AI289, 'Wales & West'!AI289)","v":262.48418875289588},{"$f":"CHOOSE(m_identity,East!AJ289, London!AJ289, 'North West'!AJ289, 'West Midlands'!AJ289, Northern!AJ289, Scotland!AJ289, Southern!AJ289, 'Wales & West'!AJ289)","v":258.4591897650065},{"$f":"CHOOSE(m_identity,East!AK289, London!AK289, 'North West'!AK289, 'West Midlands'!AK289, Northern!AK289, Scotland!AK289, Southern!AK289, 'Wales & West'!AK289)","v":259.61608363900569},{"$f":"CHOOSE(m_identity,East!AL289, London!AL289, 'North West'!AL289, 'West Midlands'!AL289, Northern!AL289, Scotland!AL289, Southern!AL289, 'Wales & West'!AL289)","v":260.19038715218983},{"$f":"CHOOSE(m_identity,East!AM289, London!AM289, 'North West'!AM289, 'West Midlands'!AM289, Northern!AM289, Scotland!AM289, Southern!AM289, 'Wales & West'!AM289)","v":258.34084353126093},{"$f":"CHOOSE(m_identity,East!AN289, London!AN289, 'North West'!AN289, 'West Midlands'!AN289, Northern!AN289, Scotland!AN289, Southern!AN289, 'Wales & West'!AN289)","v":254.45578805077707},{"$f":"CHOOSE(m_identity,East!AO289, London!AO289, 'North West'!AO289, 'West Midlands'!AO289, Northern!AO289, Scotland!AO289, Southern!AO289, 'Wales & West'!AO289)","v":252.0851987144147}]
[null,null,null,null,"Total allowed totex",null,null,null,{"$f":"CHOOSE(m_identity,East!I290, London!I290, 'North West'!I290, 'West Midlands'!I290, Northern!I290, Scotland!I290, Southern!I290, 'Wales & West'!I290)","v":2080.6208863083798}]
[]
[null,"End of sheet"]

{"sheet":"Totex","index":5,"n_rows":71,"n_cols":41,"rows_kept":71,"cut":false,"hidden":false,"merged":[]}
["Totex"]
[null,{"$f":"UserInterface!G17","v":"East"}]
[null,null,null,null,"Parameter",null,"Units",null,"Constant",null,null,null,null,null,null,null,null,null,null,null,null,null,null,null,null,null,null,null,null,null,null,null,null,"Annual values"]
[null,null,null,null,"PCFM year ending",null,null,null,{"$f":"UserInterface!$G$10","v":"2019-03-31"},null,"1991-03-31","1992-03-31","1993-03-31","1994-03-31","1995-03-31","1996-03-31","1997-03-31","1998-03-31","1999-03-31","2000-03-31","2001-03-31","2002-03-31","2003-03-31","2004-03-31","2005-03-31","2006-03-31","2007-03-31","2008-03-31","2009-03-31","2010-03-31","2011-03-31","2012-03-31","2013-03-31","2014-03-31","2015-03-31","2016-03-31","2017-03-31","2018-03-31","2019-03-31","2020-03-31","2021-03-31"]
[]
[null,"Totex"]
[]
[null,null,"Allowed totex aggregated by sub-category"]
[null,null,"Note: Totex is the sum of a number of cost categories, with all totex allowances falling under one (or more) of them. They have significance in the model as each sub-category can have its own set of tax pool allocation rules."]
[]
[null,null,null,"Non-variant allowances"]
[null,null,null,"Note: These values are set at final proposals and are not updated during the price control"]
[]
[null,null,null,null,"Non-variant allowed load related capex",null,"£m 09/10 prices",null,null,null,null,null,null,null,null,null,null,null,null,null,null,null,null,null,null,null,null,null,null,null,null,null,null,{"$f":"Input!AH83","v":22.843918152871311},{"$f":"Input!AI83","v":24.193588786833523},{"$f":"Input!AJ83","v":22.476719950427562},{"$f":"Input!AK83","v":21.839899000578804},{"$f":"Input!AL83","v":19.573084649472207},{"$f":"Input!AM83","v":19.686592684242683},{"$f":"Input!AN83","v":19.086923517899706},{"$f":"Input!AO83","v":19.027266096587532}]
[null,null,null,null,"Non-variant allowed non-load related capex - other",null,"£m 09/10 prices",null,null,null,null,null,null,null,null,null,null,null,null,null,null,null,null,null,null,null,null,null,null,null,null,null,null,{"$f":"Input!AH84","v":30.550453884390336},{"$f":"Input!AI84","v":20.483138706505621},{"$f":"Input!AJ84","v":16.137874702056287},{"$f":"Input!AK84","v":16.823488465948579},{"$f":"Input!AL84","v":20.975007535552244},{"$f":"Input!AM84","v":18.616106398916752},{"$f":"Input!AN84","v":14.897589919446366},{"$f":"Input!AO84","v":12.544337852857174}]
[null,null,null,null,"Non-variant allowed controllable opex",null,"£m 09/10 prices",null,null,null,null,null,null,null,null,null,null,null,null,null,null,null,null,null,null,null,null,null,null,null,null,null,null,{"$f":"Input!AH85","v":114.72021103948836},{"$f":"Input!AI85","v":112.92722288859693},{"$f":"Input!AJ85","v":113.85630407266422},{"$f":"Input!AK85","v":114.86593283800406},{"$f":"Input!AL85","v":113.01881860750507},{"$f":"Input!AM85","v":112.89536754363438},{"$f":"Input!AN85","v":112.79399906891089},{"$f":"Input!AO85","v":112.33005300808742}]
[null,null,null,null,"Non-variant allowed repex",null,"£m 09/10 prices",null,null,null,null,null,null,null,null,null,null,null,null,null,null,null,null,null,null,null,null,null,null,null,null,null,null,{"$f":"Input!AH86","v":106.87462362607909},{"$f":"Input!AI86","v":104.88023837095979},{"$f":"Input!AJ86","v":105.98829103985847},{"$f":"Input!AK86","v":106.08676333447424},{"$f":"Input!AL86","v":106.62347635966032},{"$f":"Input!AM86","v":107.14277690446711},{"$f":"Input!AN86","v":107.67727554452013},{"$f":"Input!AO86","v":108.18354175688259}]
[]
[null,null,null,"Variant"]
[null,null,null,"Note: Licence conditions may allow for non-baseline allowances to be granted. These are added to the baseline to generate the allowed sub-categories and thereby the overall allowed totex."]
[]
[null,null,null,null,{"$f":"Input!E144","v":"Variant allowed load related capex"},null,{"$f":"Input!G144","v":"£m 09/10 prices"},null,null,null,null,null,null,null,null,null,null,null,null,null,null,null,null,null,null,null,null,null,null,null,null,null,null,{"$f":"Input!AH144","v":1.3504320724243679},{"$f":"Input!AI144","v":1.3416575472820473},{"$f":"Input!AJ144","v":1.3511320307965469},{"$f":"Input!AK144","v":1.8560515739604595},{"$f":"Input!AL144","v":1.9400624974682383},{"$f":"Input!AM144","v":1.8961678989229487},{"$f":"Input!AN144","v":1.887738067668109},{"$f":"Input!AO144","v":1.7881509251350665}]
[null,null,null,null,{"$f":"Input!E145","v":"Variant allowed non-load related capex - other"},null,{"$f":"Input!G145","v":"£m 09/10 prices"},null,null,null,null,null,null,null,null,null,null,null,null,null,null,null,null,null,null,null,null,null,null,null,null,null,null,{"$f":"Input!AH145","v":-1.2092021098280261},{"$f":"Input!AI145","v":0.2153202890142768},{"$f":"Input!AJ145","v":0.44872486883693469},{"$f":"Input!AK145","v":2.3636952941748204},{"$f":"Input!AL145","v":12.407264499345771},{"$f":"Input!AM145","v":9.3261778870084431},{"$f":"Input!AN145","v":1.453440234981441},{"$f":"Input!AO145","v":-0.40824199679035517}]
[null,null,null,null,{"$f":"Input!E146","v":"Variant allowed controllable opex"},null,{"$f":"Input!G146","v":"£m 09/10 prices"},null,null,null,null,null,null,null,null,null,null,null,null,null,null,null,null,null,null,null,null,null,null,null,null,null,null,{"$f":"Input!AH146","v":0.75207639193723663},{"$f":"Input!AI146","v":0.74688464025546641},{"$f":"Input!AJ146","v":0.88226223402028747},{"$f":"Input!AK146","v":0.86516858974169664},{"$f":"Input!AL146","v":-1.5799995184495221},{"$f":"Input!AM146","v":-2.7024265987772296},{"$f":"Input!AN146","v":-3.7801114772590001},{"$f":"Input!AO146","v":-4.3365169126361671}]
[null,null,null,null,{"$f":"Input!E147","v":"Variant allowed repex"},null,{"$f":"Input!G147","v":"£m 09/10 prices"},null,null,null,null,null,null,null,null,null,null,null,null,null,null,null,null,null,null,null,null,null,null,null,null,null,null,{"$f":"Input!AH147","v":1.7351094202136403},{"$f":"Input!AI147","v":1.761361059448685},{"$f":"Input!AJ147","v":1.9508700090717426},{"$f":"Input!AK147","v":2.4350785946663276},{"$f":"Input!AL147","v":2.3964532325263059},{"$f":"Input!AM147","v":2.3569802373553688},{"$f":"Input!AN147","v":2.3184742830117306},{"$f":"Input!AO147","v":2.2797538195705793}]
[]
[null,null,null,"Allowance"]
[null,null,null,"Note: \"Allowed totex\" is exported to be used in the TIM calculation. The allowed totex sub-categories are used below to create forecast actuals for the tax calculation and the TIM calculation when actuals are not yet available."]
[]
[null,null,null,null,"Allowed load related capex",null,"£m 09/10 prices",null,null,null,null,null,null,null,null,null,null,null,null,null,null,null,null,null,null,null,null,null,null,null,null,null,null,{"$f":"AH14 + AH22","v":24.194350225295679},25.53524633411557,23.827851981224107,23.695950574539264,21.513147146940447,21.58276058316563,20.974661585567816,20.815417021722599]
[null,null,null,null,"Allowed non-load related capex - other",null,"£m 09/10 prices",null,null,null,null,null,null,null,null,null,null,null,null,null,null,null,null,null,null,null,null,null,null,null,null,null,null,29.341251774562309,20.698458995519896,16.58659957089322,19.1871837601234,33.382272034898016,27.942284285925197,16.351030154427807,12.136095856066818]
[null,null,null,null,"Allowed controllable opex",null,"£m 09/10 prices",null,null,null,null,null,null,null,null,null,null,null,null,null,null,null,null,null,null,null,null,null,null,null,null,null,null,115.4722874314256,113.6741075288524,114.7385663066845,115.73110142774576,111.43881908905554,110.19294094485716,109.01388759165189,107.99353609545125]
[null,null,null,null,"Allowed repex",null,"£m 09/10 prices",null,null,null,null,null,null,null,null,null,null,null,null,null,null,null,null,null,null,null,null,null,null,null,null,null,null,108.60973304629273,106.64159943040848,107.9391610489302,108.52184192914056,109.01992959218663,109.49975714182249,109.99574982753185,110.46329557645316]
[null,null,null,null,"Allowed totex",null,"£m 09/10 prices",null,null,null,null,null,null,null,null,null,null,null,null,null,null,null,null,null,null,null,null,null,null,null,null,null,null,{"$f":"SUM(AH30:AH33)","v":277.61762247757633},266.54941228889635,263.09217890773203,267.13607769154896,275.35416786308065,269.21774295577046,256.33532915917937,251.40834454969382]
[]
[null,null,"Actual totex"]
[]
[null,null,null,"Source of actuals"]
[null,null,null,"Note: The model assumes that there is a time lag from year t until actual expenditure data becomes available for the model. After the lag, actual expenditure inputs are used. Up to that point the model generates a forecast actual expenditure."]
[null,null,null,"When required in the model, forecasts assume that actuals are equal to their corresponding allowance."]
[null,null,null,"In a year where actual totex is assumed to be available, values must be inputted to the model as it will not generate a forecast and the empty input cell will be read as an actual spend of zero."]
[]
[null,null,null,null,"Years from t until normal reporting of actual costs",null,"years",null,{"$f":"Input!I47","v":2}]
[null,null,null,null,"Input actuals used",null,"text",null,null,null,null,null,null,null,null,null,null,null,null,null,null,null,null,null,null,null,null,null,null,null,null,null,null,{"$f":"YEAR($I$4) >= YEAR(AH$4) + $I43","v":true},true,true,true,false,false,false,false]
[null,null,null,null,"Forecast actuals generated from allowances",null,"text",null,null,null,null,null,null,null,null,null,null,null,null,null,null,null,null,null,null,null,null,null,null,null,null,null,null,{"$f":"YEAR($I$4) < YEAR(AH$4) + $I43","v":false},false,false,false,true,true,true,true]
[]
[null,null,null,"Actual totex from cost reporting processes and final proposals"]
[]
[null,null,null,null,"Actual load related capex",null,"£m 09/10 prices",null,null,null,null,null,null,null,null,null,null,null,null,null,null,null,null,null,null,null,null,null,null,null,null,null,null,{"$f":"IF(AH$44, Input!AH151, 0)","v":28.994705520563567},{"$f":"IF(AI$44, Input!AI151, 0)","v":19.813505166441491},{"$f":"IF(AJ$44, Input!AJ151, 0)","v":19.732860307816889},{"$f":"IF(AK$44, Input!AK151, 0)","v":0},{"$f":"IF(AL$44, Input!AL151, 0)","v":0},{"$f":"IF(AM$44, Input!AM151, 0)","v":0},{"$f":"IF(AN$44, Input!AN151, 0)","v":0},{"$f":"IF(AO$44, Input!AO151, 0)","v":0}]
[null,null,null,null,"Actual non-load related capex - other",null,"£m 09/10 prices",null,null,null,null,null,null,null,null,null,null,null,null,null,null,null,null,null,null,null,null,null,null,null,null,null,null,{"$f":"IF(AH$44, Input!AH152, 0)","v":17.585404328298281},{"$f":"IF(AI$44, Input!AI152, 0)","v":19.93498036545277},{"$f":"IF(AJ$44, Input!AJ152, 0)","v":16.771849986032894},{"$f":"IF(AK$44, Input!AK152, 0)","v":0},{"$f":"IF(AL$44, Input!AL152, 0)","v":0},{"$f":"IF(AM$44, Input!AM152, 0)","v":0},{"$f":"IF(AN$44, Input!AN152, 0)","v":0},{"$f":"IF(AO$44, Input!AO152, 0)","v":0}]
[null,null,null,null,"Actual controllable opex",null,"£m 09/10 prices",null,null,null,null,null,null,null,null,null,null,null,null,null,null,null,null,null,null,null,null,null,null,null,null,null,null,{"$f":"IF(AH$44, Input!AH153, 0)","v":126.88055213470393},{"$f":"IF(AI$44, Input!AI153, 0)","v":124.57403585982755},{"$f":"IF(AJ$44, Input!AJ153, 0)","v":118.85835822933886},{"$f":"IF(AK$44, Input!AK153, 0)","v":0},{"$f":"IF(AL$44, Input!AL153, 0)","v":0},{"$f":"IF(AM$44, Input!AM153, 0)","v":0},{"$f":"IF(AN$44, Input!AN153, 0)","v":0},{"$f":"IF(AO$44, Input!AO153, 0)","v":0}]
[null,null,null,null,"Actual repex",null,"£m 09/10 prices",null,null,null,null,null,null,null,null,null,null,null,null,null,null,null,null,null,null,null,null,null,null,null,null,null,null,{"$f":"IF(AH$44, Input!AH154, 0)","v":80.98027960027801},{"$f":"IF(AI$44, Input!AI154, 0)","v":87.292768607308034},{"$f":"IF(AJ$44, Input!AJ154, 0)","v":91.558452979737709},{"$f":"IF(AK$44, Input!AK154, 0)","v":0},{"$f":"IF(AL$44, Input!AL154, 0)","v":0},{"$f":"IF(AM$44, Input!AM154, 0)","v":0},{"$f":"IF(AN$44, Input!AN154, 0)","v":0},{"$f":"IF(AO$44, Input!AO154, 0)","v":0}]
[]
[]
[null,null,null,"Forecast totex from new allowances"]
[]
[null,null,null,null,"Forecast actual load related capex",null,"£m 09/10 prices",null,null,null,null,null,null,null,null,null,null,null,null,null,null,null,null,null,null,null,null,null,null,null,null,null,null,{"$f":"IF(AH$45, AH30, 0)","v":0},0,0,0,21.513147146940447,21.58276058316563,20.974661585567816,20.815417021722599]
[null,null,null,null,"Forecast actual non-load related capex - other",null,"£m 09/10 prices",null,null,null,null,null,null,null,null,null,null,null,null,null,null,null,null,null,null,null,null,null,null,null,null,null,null,0,0,0,0,33.382272034898016,27.942284285925197,16.351030154427807,12.136095856066818]
[null,null,null,null,"Forecast actual controllable opex",null,"£m 09/10 prices",null,null,null,null,null,null,null,null,null,null,null,null,null,null,null,null,null,null,null,null,null,null,null,null,null,null,0,0,0,0,111.43881908905554,110.19294094485716,109.01388759165189,107.99353609545125]
[null,null,null,null,"Forecast actual repex",null,"£m 09/10 prices",null,null,null,null,null,null,null,null,null,null,null,null,null,null,null,null,null,null,null,null,null,null,null,null,null,null,0,0,0,0,109.01992959218663,109.49975714182249,109.99574982753185,110.46329557645316]
[]
[null,null,null,"Totex applied"]
[null,null,null,"Note: Actuals are exported both to identify performance against the allowance and to generate writing down allowances used in the tax calculation."]
[]
[null,null,null,null,"Actual load related capex",null,"£m 09/10 prices",null,null,null,null,null,null,null,null,null,null,null,null,null,null,null,null,null,null,null,null,null,null,null,null,null,null,{"$f":"AH49 + AH57","v":28.994705520563567},19.813505166441491,19.732860307816889,0,21.513147146940447,21.58276058316563,20.974661585567816,20.815417021722599]
[null,null,null,null,"Actual non-load related capex - other",null,"£m 09/10 prices",null,null,null,null,null,null,null,null,null,null,null,null,null,null,null,null,null,null,null,null,null,null,null,null,null,null,17.585404328298281,19.93498036545277,16.771849986032894,0,33.382272034898016,27.942284285925197,16.351030154427807,12.136095856066818]
[null,null,null,null,"Actual controllable opex",null,"£m 09/10 prices",null,null,null,null,null,null,null,null,null,null,null,null,null,null,null,null,null,null,null,null,null,null,null,null,null,null,126.88055213470393,124.57403585982755,118.85835822933886,0,111.43881908905554,110.19294094485716,109.01388759165189,107.99353609545125]
[null,null,null,null,"Actual repex",null,"£m 09/10 prices",null,null,null,null,null,null,null,null,null,null,null,null,null,null,null,null,null,null,null,null,null,null,null,null,null,null,80.98027960027801,87.292768607308034,91.558452979737709,0,109.01992959218663,109.49975714182249,109.99574982753185,110.46329557645316]
[null,null,null,null,"Actual totex",null,"£m 09/10 prices",null,null,null,null,null,null,null,null,null,null,null,null,null,null,null,null,null,null,null,null,null,null,null,null,null,null,{"$f":"SUM(AH65:AH68)","v":254.4409415838438},251.61528999902984,246.92152150292634,0,275.35416786308065,269.21774295577046,256.33532915917937,251.40834454969382]
[]
[null,"End of sheet"]

{"sheet":"TIM","index":6,"n_rows":113,"n_cols":41,"rows_kept":113,"cut":false,"hidden":false,"merged":[]}
["Totex Incentive Mechanism (TIM)"]
[null,{"$f":"UserInterface!G17","v":"East"}]
[null,null,null,null,"Parameter",null,"Units",null,"Constant",null,null,null,null,null,null,null,null,null,null,null,null,null,null,null,null,null,null,null,null,null,null,null,null,"Annual values"]
[null,null,null,null,"PCFM year ending",null,null,null,{"$f":"UserInterface!$G$10","v":"2019-03-31"},null,"1991-03-31","1992-03-31","1993-03-31","1994-03-31","1995-03-31","1996-03-31","1997-03-31","1998-03-31","1999-03-31","2000-03-31","2001-03-31","2002-03-31","2003-03-31","2004-03-31","2005-03-31","2006-03-31","2007-03-31","2008-03-31","2009-03-31","2010-03-31","2011-03-31","2012-03-31","2013-03-31","2014-03-31","2015-03-31","2016-03-31","2017-03-31","2018-03-31","2019-03-31","2020-03-31","2021-03-31"]
[]
[null,"Efficiency incentive"]
[]
[null,null,"Incentive strength"]
[]
[null,null,null,null,"Incentive rate (slope)",null,"scalar",null,{"$f":"Input!I52","v":-1.666666666666667E-3}]
[null,null,null,null,"Incentive rate (intercept)",null,"scalar",null,{"$f":"Input!I53","v":0.81666666666666665}]
[null,null,null,null,"Group rate",null,"ratio",null,{"$f":"Input!I65/Input!I64*100","v":111.77479741299152}]
[]
[null,null,null,null,"Incentive strength",null,"%",null,{"$f":"ROUND(I11+I10*I12,4)","v":0.63039999999999996}]
[]
[null,null,"Additional income"]
[]
[null,null,null,null,"Ofgem view",null,"%",null,{"$f":"Input!I56","v":0.75}]
[null,null,null,null,"Operator view",null,"%",null,{"$f":"Input!I57","v":0.25}]
[]
[null,null,null,null,"Ofgem view of group price control totex",null,"£m 09/10 prices",null,{"$f":"Input!I64","v":6729.0571105813278}]
[]
[null,null,null,null,"Additional income (intercept)",null,"scalar",null,{"$f":"Input!I54","v":14.583333333333332}]
[null,null,null,null,"First order parameter",null,"%",null,{"$f":" (-(I10 * I18*100) - (I11 * I19))","v":-7.9166666666666635E-2}]
[null,null,null,null,"Second order parameter",null,"%",null,{"$f":"(0.5-I19) * I10","v":-4.1666666666666675E-4}]
[null,null,null,null,"Additional income scalar",null,"%",null,{"$f":"(I23+I24*(I12)+I25*(I12)^2)","v":0.52882631450679973}]
[]
[null,null,null,null,"Additional income at group level",null,"£m 09/10 prices",null,{"$f":"I21*I26/100","v":35.585024718944986}]
[]
[null,null,null,null,"Forecast licensee totex",null,"£m 09/10 prices",null,{"$f":"Input!I61*Input!$I$56+Input!I62*Input!$I$57","v":2116.7414416935612}]
[null,null,null,null,"Forecast group totex",null,"£m 09/10 prices",null,{"$f":"Input!I64*I18 + Input!I65*I19","v":6927.1403212251907}]
[null,null,null,null,"Percentage of group totex at licensee level",null,"%",null,{"$f":"I30 / I31","v":0.30557219047631146}]
[]
[null,"Efficiency incentive"]
[]
[null,null,"Post-TIM overspend (underspend)"]
[null,null,"Note: Totex overspend (underspend) is identified and subject to the \"efficiency incentive rate.\"  Repex is separated at this stage in order to apply the repex capitalisation rate to any overspend (underspend)"]
[]
[null,null,null,"Totex excluding repex"]
[]
[null,null,null,null,"Actual totex excluding repex",null,"£m 09/10 prices",null,null,null,null,null,null,null,null,null,null,null,null,null,null,null,null,null,null,null,null,null,null,null,null,null,null,{"$f":"Totex!AH69 - Totex!AH68","v":173.46066198356579},{"$f":"Totex!AI69 - Totex!AI68","v":164.32252139172181},{"$f":"Totex!AJ69 - Totex!AJ68","v":155.36306852318864},{"$f":"Totex!AK69 - Totex!AK68","v":0},{"$f":"Totex!AL69 - Totex!AL68","v":166.33423827089402},{"$f":"Totex!AM69 - Totex!AM68","v":159.71798581394796},{"$f":"Totex!AN69 - Totex!AN68","v":146.33957933164751},{"$f":"Totex!AO69 - Totex!AO68","v":140.94504897324066}]
[null,null,null,null,"Less allowed totex excluding repex",null,"£m 09/10 prices",null,null,null,null,null,null,null,null,null,null,null,null,null,null,null,null,null,null,null,null,null,null,null,null,null,null,{"$f":"-Totex!AH34 + Totex!AH33","v":-169.00788943128362},{"$f":"-Totex!AI34 + Totex!AI33","v":-159.90781285848789},{"$f":"-Totex!AJ34 + Totex!AJ33","v":-155.15301785880183},{"$f":"-Totex!AK34 + Totex!AK33","v":-158.61423576240838},{"$f":"-Totex!AL34 + Totex!AL33","v":-166.33423827089402},{"$f":"-Totex!AM34 + Totex!AM33","v":-159.71798581394796},{"$f":"-Totex!AN34 + Totex!AN33","v":-146.33957933164751},{"$f":"-Totex!AO34 + Totex!AO33","v":-140.94504897324066}]
[null,null,null,null,"Pre-TIM totex excluding repex overspend (underspend)",null,"£m 09/10 prices",null,null,null,null,null,null,null,null,null,null,null,null,null,null,null,null,null,null,null,null,null,null,null,null,null,null,{"$f":"SUM(AH41:AH42)","v":4.4527725522821697},4.4147085332339202,0.21005066438681297,-158.61423576240838,0,0,0,0]
[]
[null,null,null,null,"Funding Adjustment Rate (often referred to as 'sharing factor')",null,"%",null,null,null,null,null,null,null,null,null,null,null,null,null,null,null,null,null,null,null,null,null,null,null,null,null,null,{"$f":"(1 - $I$14)","v":0.36960000000000004},{"$f":"(1 - $I$14)","v":0.36960000000000004},0.36960000000000004,0.36960000000000004,0.36960000000000004,0.36960000000000004,0.36960000000000004,0.36960000000000004]
[]
[null,null,null,null,"Post-TIM totex excluding repex overspend (underspend)",null,"£m 09/10 prices",null,null,null,null,null,null,null,null,null,null,null,null,null,null,null,null,null,null,null,null,null,null,null,null,null,null,{"$f":"AH$45 * AH43","v":1.6457447353234902},{"$f":"AI$45 * AI43","v":1.6316762738832571},{"$f":"AJ$45 * AJ43","v":7.7634725557366085E-2},-58.623821537786142,0,0,0,0]
[]
[null,null,null,"Repex"]
[]
[null,null,null,null,"Actual repex",null,"£m 09/10 prices",null,null,null,null,null,null,null,null,null,null,null,null,null,null,null,null,null,null,null,null,null,null,null,null,null,null,{"$f":"Totex!AH68","v":80.98027960027801},{"$f":"Totex!AI68","v":87.292768607308034},{"$f":"Totex!AJ68","v":91.558452979737709},{"$f":"Totex!AK68","v":0},{"$f":"Totex!AL68","v":109.01992959218663},{"$f":"Totex!AM68","v":109.49975714182249},{"$f":"Totex!AN68","v":109.99574982753185},{"$f":"Totex!AO68","v":110.46329557645316}]
[null,null,null,null,"Less allowed repex",null,"£m 09/10 prices",null,null,null,null,null,null,null,null,null,null,null,null,null,null,null,null,null,null,null,null,null,null,null,null,null,null,{"$f":"-Totex!AH33","v":-108.60973304629273},{"$f":"-Totex!AI33","v":-106.64159943040848},{"$f":"-Totex!AJ33","v":-107.9391610489302},{"$f":"-Totex!AK33","v":-108.52184192914056},{"$f":"-Totex!AL33","v":-109.01992959218663},{"$f":"-Totex!AM33","v":-109.49975714182249},{"$f":"-Totex!AN33","v":-109.99574982753185},{"$f":"-Totex!AO33","v":-110.46329557645316}]
[null,null,null,null,"Pre-TIM repex overspend (underspend)",null,"£m 09/10 prices",null,null,null,null,null,null,null,null,null,null,null,null,null,null,null,null,null,null,null,null,null,null,null,null,null,null,{"$f":"SUM(AH51:AH52)","v":-27.629453446014722},-19.348830823100442,-16.380708069192494,-108.52184192914056,0,0,0,0]
[]
[null,null,null,null,"Funding Adjustment Rate (often referred to as 'sharing factor')",null,"%",null,null,null,null,null,null,null,null,null,null,null,null,null,null,null,null,null,null,null,null,null,null,null,null,null,null,{"$f":"(1 - $I$14)","v":0.36960000000000004},{"$f":"(1 - $I$14)","v":0.36960000000000004},0.36960000000000004,0.36960000000000004,0.36960000000000004,0.36960000000000004,0.36960000000000004,0.36960000000000004]
[]
[null,null,null,null,"Post-TIM repex overspend (underspend)",null,"£m 09/10 prices",null,null,null,null,null,null,null,null,null,null,null,null,null,null,null,null,null,null,null,null,null,null,null,null,null,null,{"$f":"AH$55 * AH53","v":-10.211845993647042},{"$f":"AI$55 * AI53","v":-7.1513278722179239},-6.0543097023735459,-40.10967277701036,0,0,0,0]
[]
[null,null,"Post-TIM totex"]
[null,null,"Note: \"Post-TIM overspend (underspend)\" is added to the allowed totex value to give the Post-TIM totex allowance to be split into fast and slow money."]
[]
[null,null,null,"Totex excluding repex"]
[]
[null,null,null,null,"Allowed totex excluding repex",null,"£m 09/10 prices",null,null,null,null,null,null,null,null,null,null,null,null,null,null,null,null,null,null,null,null,null,null,null,null,null,null,{"$f":"-AH42","v":169.00788943128362},{"$f":"-AI42","v":159.90781285848789},155.15301785880183,158.61423576240838,166.33423827089402,159.71798581394796,146.33957933164751,140.94504897324066]
[null,null,null,null,"Post-TIM totex excluding repex overspend (underspend)",null,"£m 09/10 prices",null,null,null,null,null,null,null,null,null,null,null,null,null,null,null,null,null,null,null,null,null,null,null,null,null,null,{"$f":"AH47","v":1.6457447353234902},1.6316762738832571,7.7634725557366085E-2,-58.623821537786142,0,0,0,0]
[null,null,null,null,"Post-TIM totex excluding repex",null,"£m 09/10 prices",null,null,null,null,null,null,null,null,null,null,null,null,null,null,null,null,null,null,null,null,null,null,null,null,null,null,{"$f":"SUM(AH64:AH65)","v":170.65363416660711},161.53948913237113,155.23065258435921,99.990414224622242,166.33423827089402,159.71798581394796,146.33957933164751,140.94504897324066]
[]
[null,null,null,"Repex"]
[]
[null,null,null,null,"Allowed repex",null,"£m 09/10 prices",null,null,null,null,null,null,null,null,null,null,null,null,null,null,null,null,null,null,null,null,null,null,null,null,null,null,{"$f":"-AH52","v":108.60973304629273},{"$f":"-AI52","v":106.64159943040848},107.9391610489302,108.52184192914056,109.01992959218663,109.49975714182249,109.99574982753185,110.46329557645316]
[null,null,null,null,"Post-TIM repex overspend (underspend)",null,"£m 09/10 prices",null,null,null,null,null,null,null,null,null,null,null,null,null,null,null,null,null,null,null,null,null,null,null,null,null,null,{"$f":"AH57","v":-10.211845993647042},{"$f":"AI57","v":-7.1513278722179239},-6.0543097023735459,-40.10967277701036,0,0,0,0]
[null,null,null,null,"Post-TIM repex",null,"£m 09/10 prices",null,null,null,null,null,null,null,null,null,null,null,null,null,null,null,null,null,null,null,null,null,null,null,null,null,null,{"$f":"SUM(AH70:AH71)","v":98.397887052645686},{"$f":"SUM(AI70:AI71)","v":99.490271558190557},101.88485134655666,68.412169152130204,109.01992959218663,109.49975714182249,109.99574982753185,110.46329557645316]
[]
[null,"Capitalisation"]
[null,"Note: Post-TIM totex (excluding repex) and repex are allocated into \"fast\" and \"slow\" elements based on a pre-set percentage split:"]
[null,"- \"fast money \" is exported to the \"Revenue\" sheet where it is included as an element of \"recalculated base revenue;\" and"]
[null,"- \"slow money \" is exported to the \"Depn\" sheet where it is added to RAV. Slow money is recovered over the life of the RAV through regulatory depreciation and return allowances."]
[]
[null,null,"Separate capitalisation"]
[]
[null,null,null,"Totex excluding repex"]
[]
[null,null,null,null,"Post-TIM totex excluding repex",null,"£m 09/10 prices",null,null,null,null,null,null,null,null,null,null,null,null,null,null,null,null,null,null,null,null,null,null,null,null,null,null,{"$f":"AH66","v":170.65363416660711},161.53948913237113,155.23065258435921,99.990414224622242,166.33423827089402,159.71798581394796,146.33957933164751,140.94504897324066]
[null,null,null,null,"Capitalised share of totex (excluding repex)",null,"%",null,null,null,null,null,null,null,null,null,null,null,null,null,null,null,null,null,null,null,null,null,null,null,null,null,null,{"$f":"Input!AH49","v":0.26634501855794862},{"$f":"Input!AI49","v":0.26634501855794862},{"$f":"Input!AJ49","v":0.26634501855794862},{"$f":"Input!AK49","v":0.26634501855794862},{"$f":"Input!AL49","v":0.26634501855794862},{"$f":"Input!AM49","v":0.26634501855794862},{"$f":"Input!AN49","v":0.26634501855794862},{"$f":"Input!AO49","v":0.26634501855794862}]
[null,null,null,null,"Totex excluding repex fast pot expenditure",null,"£m 09/10 prices",null,null,null,null,null,null,null,null,null,null,null,null,null,null,null,null,null,null,null,null,null,null,null,null,null,null,{"$f":"AH83-AH86","v":125.20088880752076},118.5142509015682,113.88574154101558,73.358465492348259,122.0319424918105,117.17789591829381,107.36276135879746,103.4050372888119]
[null,null,null,null,"Totex excluding repex slow pot expenditure",null,"£m 09/10 prices",null,null,null,null,null,null,null,null,null,null,null,null,null,null,null,null,null,null,null,null,null,null,null,null,null,null,{"$f":"AH83 * AH84","v":45.452745359086343},{"$f":"AI83 * AI84","v":43.025238230802927},41.344911043343629,26.63194873227398,44.302295779083515,42.540089895654141,38.97681797285005,37.540011684428762]
[]
[null,null,null,"Repex"]
[]
[null,null,null,null,"Post-TIM repex",null,"£m 09/10 prices",null,null,null,null,null,null,null,null,null,null,null,null,null,null,null,null,null,null,null,null,null,null,null,null,null,null,{"$f":"AH72","v":98.397887052645686},{"$f":"AI72","v":99.490271558190557},101.88485134655666,68.412169152130204,109.01992959218663,109.49975714182249,109.99574982753185,110.46329557645316]
[null,null,null,null,"Capitalised share of repex",null,"%",null,null,null,null,null,null,null,null,null,null,null,null,null,null,null,null,null,null,null,null,null,null,null,null,null,null,{"$f":"Input!AH50","v":0.5},{"$f":"Input!AI50","v":0.5714285714285714},{"$f":"Input!AJ50","v":0.64285714285714279},{"$f":"Input!AK50","v":0.71428571428571419},{"$f":"Input!AL50","v":0.78571428571428559},{"$f":"Input!AM50","v":0.85714285714285698},{"$f":"Input!AN50","v":0.92857142857142838},{"$f":"Input!AO50","v":1}]
[null,null,null,null,"Fast pot expenditure",null,"£m 09/10 prices",null,null,null,null,null,null,null,null,null,null,null,null,null,null,null,null,null,null,null,null,null,null,null,null,null,null,{"$f":"AH90-AH93","v":49.198943526322843},{"$f":"AI90-AI93","v":42.638687810653096},36.387446909484524,19.546334043465777,23.36141348404,15.642822448831808,7.8568392733951526,0]
[null,null,null,null,"Slow pot expenditure",null,"£m 09/10 prices",null,null,null,null,null,null,null,null,null,null,null,null,null,null,null,null,null,null,null,null,null,null,null,null,null,null,{"$f":"AH90 * AH91","v":49.198943526322843},{"$f":"AI90 * AI91","v":56.851583747537461},65.497404437072134,48.865835108664427,85.658516108146628,93.856934692990677,102.1389105541367,110.46329557645316]
[]
[null,null,"Totex"]
[]
[null,null,null,null,"Fast pot expenditure",null,"£m 09/10 prices",null,null,null,null,null,null,null,null,null,null,null,null,null,null,null,null,null,null,null,null,null,null,null,null,null,null,{"$f":"AH85 + AH92","v":174.39983233384359},{"$f":"AI85 + AI92","v":161.1529387122213},150.2731884505001,92.904799535814035,145.39335597585051,132.82071836712561,115.21960063219261,103.4050372888119]
[]
[null,null,null,null,"Slow pot expenditure",null,"£m 09/10 prices",null,null,null,null,null,null,null,null,null,null,null,null,null,null,null,null,null,null,null,null,null,null,null,null,null,null,{"$f":"AH86 + AH93","v":94.651688885409186},{"$f":"AI86 + AI93","v":99.876821978340388},106.84231548041576,75.497783840938411,129.96081188723014,136.39702458864483,141.11572852698674,148.00330726088191]
[]
[null,"Additional income"]
[null,"Note: The additional income lump sum is recovered across the price control and is matched to the profile of allowed totex set at final proposals."]
[]
[null,null,null,null,"Additional income",null,"£m 09/10 prices",null,{"$f":"I28*I32","v":10.873793951521709}]
[]
[null,null,null,null,"Original allowed totex (set at final proposals)",null,"£m 09/10 prices",null,null,null,null,null,null,null,null,null,null,null,null,null,null,null,null,null,null,null,null,null,null,null,null,null,null,{"$f":"Input!AH$289","v":274.98920670282911},{"$f":"Input!AI$289","v":262.48418875289588},{"$f":"Input!AJ$289","v":258.4591897650065},{"$f":"Input!AK$289","v":259.61608363900569},{"$f":"Input!AL$289","v":260.19038715218983},{"$f":"Input!AM$289","v":258.34084353126093},{"$f":"Input!AN$289","v":254.45578805077707},{"$f":"Input!AO$289","v":252.0851987144147}]
[null,null,null,null,"Total allowed totex in price control (set at final proposals)",null,"£m 09/10 prices",null,{"$f":"Input!$I$290","v":2080.6208863083798}]
[]
[null,null,null,null,"Share of additional income allowed in year",null,"%",null,null,null,null,null,null,null,null,null,null,null,null,null,null,null,null,null,null,null,null,null,null,null,null,null,null,{"$f":"AH106 / $I107","v":0.1321668971567132},0.12615666336918224,0.12422214516147989,0.12477817816182714,0.12505420322576999,0.12416526491264439,0.12229800715989873,0.12115864085248437]
[]
[null,null,null,null,"Additional income",null,"£m 09/10 prices",null,null,null,null,null,null,null,null,null,null,null,null,null,null,null,null,null,null,null,null,null,null,null,null,null,null,{"$f":"$I104 * AH109","v":1.4371556068940596},{"$f":"$I104 * AI109","v":1.3718015630879741},1.3507660107019517,1.356812198977974,1.3598136386487443,1.3501475065962032,1.3298433305384654,1.3174540960763355]
[]
[null,"End of sheet"]

{"sheet":"DARTs","index":7,"n_rows":51,"n_cols":41,"rows_kept":51,"cut":false,"hidden":false,"merged":[]}
["Direct Allowed Revenue Terms (DARTs)"]
[null,{"$f":"UserInterface!G17","v":"East"}]
[null,null,null,null,"Parameter",null,"Units",null,"Constant",null,null,null,null,null,null,null,null,null,null,null,null,null,null,null,null,null,null,null,null,null,null,null,null,"Annual values"]
[null,null,null,null,"PCFM year ending",null,null,null,{"$f":"UserInterface!$G$10","v":"2019-03-31"},null,"1991-03-31","1992-03-31","1993-03-31","1994-03-31","1995-03-31","1996-03-31","1997-03-31","1998-03-31","1999-03-31","2000-03-31","2001-03-31","2002-03-31","2003-03-31","2004-03-31","2005-03-31","2006-03-31","2007-03-31","2008-03-31","2009-03-31","2010-03-31","2011-03-31","2012-03-31","2013-03-31","2014-03-31","2015-03-31","2016-03-31","2017-03-31","2018-03-31","2019-03-31","2020-03-31","2021-03-31"]
[]
[null,"Direct Allowed Revenue Terms (DARTs) "]
[null,"Note: DARTs are allowances with minimal processing required in the model as they flow directly from input to revenue. "]
[null,"They do however have different indirect impacts on equity issuance and tax. They are grouped here by their treatment type to aid common treatment of DARTs through the rest of the model."]
[null,"\"Post-tax\" allowances can be included in the tax calculation but \"Pre-tax\" allowances cannot. "]
[null,"\"Passthrough-style\" allowances are treated as an equal revenue and cost. Therefore they have no net cash flow impact. \"Revenue\" allowances are just set as a revenue amount with any costs relating to them are dealt with elsewhere."]
[]
[null,null,"Base Revenue"]
[]
[null,null,null,"No impact on net debt or tax"]
[]
[null,null,null,null,"Pension admin and PPF levy",null,"£m 09/10 prices",null,null,null,null,null,null,null,null,null,null,null,null,null,null,null,null,null,null,null,null,null,null,null,null,null,null,{"$f":"Input!AH165","v":9.3511641421976086E-2},{"$f":"Input!AI165","v":9.3511641421976086E-2},{"$f":"Input!AJ165","v":9.3511641421976086E-2},{"$f":"Input!AK165","v":9.3511641421976086E-2},{"$f":"Input!AL165","v":9.3511641421976086E-2},{"$f":"Input!AM165","v":9.3511641421976086E-2},{"$f":"Input!AN165","v":9.3511641421976086E-2},{"$f":"Input!AO165","v":9.3511641421976086E-2}]
[null,null,null,null,"Established pension deficit repair",null,"£m 09/10 prices",null,null,null,null,null,null,null,null,null,null,null,null,null,null,null,null,null,null,null,null,null,null,null,null,null,null,{"$f":"Input!AH166","v":4.3561575242036632},{"$f":"Input!AI166","v":4.3561575242036632},{"$f":"Input!AJ166","v":3.4866155722048706},{"$f":"Input!AK166","v":3.4866155722048706},{"$f":"Input!AL166","v":3.4866155722048706},{"$f":"Input!AM166","v":3.4866155722048706},{"$f":"Input!AN166","v":3.4866155722048706},{"$f":"Input!AO166","v":3.4866155722048706}]
[null,null,null,null,"Base Revenue DARTs with no impact on net debt or tax",null,"£m 09/10 prices",null,null,null,null,null,null,null,null,null,null,null,null,null,null,null,null,null,null,null,null,null,null,null,null,null,null,{"$f":"SUM(AH16:AH17)","v":4.4496691656256395},4.4496691656256395,3.5801272136268465,3.5801272136268465,3.5801272136268465,3.5801272136268465,3.5801272136268465,3.5801272136268465]
[]
[null,null,null,"Impact net debt and tax"]
[]
[null,null,null,null,"Pension true-up from previous price controls",null,"£m 09/10 prices",null,null,null,null,null,null,null,null,null,null,null,null,null,null,null,null,null,null,null,null,null,null,null,null,null,null,{"$f":"Input!AH168","v":0.22294429120168036},{"$f":"Input!AI168","v":0.23211398989880544},{"$f":"Input!AJ168","v":0.24140435234450514},{"$f":"Input!AK168","v":0.25079980973775329},{"$f":"Input!AL168","v":0.26030010653061936},{"$f":"Input!AM168","v":0.27016027456599917},{"$f":"Input!AN168","v":0.28039394576655918},{"$f":"Input!AO168","v":0.29101526843219644}]
[null,null,null,null,"Base Revenue DARTs impacting both net debt and tax",null,"£m 09/10 prices",null,null,null,null,null,null,null,null,null,null,null,null,null,null,null,null,null,null,null,null,null,null,null,null,null,null,{"$f":"SUM(AH22:AH22)","v":0.22294429120168036},0.23211398989880544,0.24140435234450514,0.25079980973775329,0.26030010653061936,0.27016027456599917,0.28039394576655918,0.29101526843219644]
[]
[null,null,null,"Impact net debt, no impact on tax"]
[]
[null,null,null,null,"Revenue adjustment from previous controls",null,"£m 09/10 prices",null,null,null,null,null,null,null,null,null,null,null,null,null,null,null,null,null,null,null,null,null,null,null,null,null,null,{"$f":"Input!AH172","v":-0.44434320584696307},{"$f":"Input!AI172","v":-0.46261904190344866},{"$f":"Input!AJ172","v":-0.4811353690556342},{"$f":"Input!AK172","v":-0.49986115761927952},{"$f":"Input!AL172","v":-0.51879589826989769},{"$f":"Input!AM172","v":-0.53844788689636136},{"$f":"Input!AN172","v":-0.55884429285199555},{"$f":"Input!AO172","v":-0.5800133146652291}]
[null,null,null,null,"Base Revenue DARTs impacting net debt but not tax",null,"£m 09/10 prices",null,null,null,null,null,null,null,null,null,null,null,null,null,null,null,null,null,null,null,null,null,null,null,null,null,null,{"$f":"SUM(AH27)","v":-0.44434320584696307},{"$f":"SUM(AI27)","v":-0.46261904190344866},-0.4811353690556342,-0.49986115761927952,-0.51879589826989769,-0.53844788689636136,-0.55884429285199555,-0.5800133146652291]
[]
[null,null,"Directly-charged"]
[]
[null,null,null,"No impact on debt or tax"]
[]
[null,null,null,null,"Excluded services net position",null,"£m 09/10 prices",null,null,null,null,null,null,null,null,null,null,null,null,null,null,null,null,null,null,null,null,null,null,null,null,null,null,{"$f":"Input!AH176","v":0},{"$f":"Input!AI176","v":0},{"$f":"Input!AJ176","v":0},{"$f":"Input!AK176","v":0},{"$f":"Input!AL176","v":0},{"$f":"Input!AM176","v":0},{"$f":"Input!AN176","v":0},{"$f":"Input!AO176","v":0}]
[null,null,null,null,"Directly-charged post-tax passthrough-style allowance",null,"£m 09/10 prices",null,null,null,null,null,null,null,null,null,null,null,null,null,null,null,null,null,null,null,null,null,null,null,null,null,null,{"$f":"SUM(AH34)","v":0},{"$f":"SUM(AI34)","v":0},0,0,0,0,0,0]
[]
[null,null,"DART groups"]
[null,null,"Note: The following subtotals are exported to the rest of the model allowing common treatment of DARTs after this stage."]
[null,null,"Excluded services are directly charged to users. It is treated here as a negative Base Revenue DART and positive Non Base Revenue DART. It is tax and cash flow neutral."]
[null,null,"\"Net impact of DARTs on core net debt\" removes the passthrough-style allowances from the cash flow, netting off their impact after being added to revenue."]
[null,null,"\"Net DART impact on core tax calculation\" removes passthrough and pre-tax allowances from the tax base such that only post-tax revenue allowances have an impact."]
[]
[null,null,null,null,"Base revenue DARTs",null,"£m 09/10 prices",null,null,null,null,null,null,null,null,null,null,null,null,null,null,null,null,null,null,null,null,null,null,null,null,null,null,{"$f":" AH18 + AH23 + AH28 - AH35","v":4.2282702509803567},4.2191641136209963,3.3403961969157177,3.3310658657453205,3.3216314218875684,3.3118396012964841,3.3016768665414098,3.2911291673938137]
[]
[null,null,null,null,"Non Base Revenue DARTs",null,"£m 09/10 prices",null,null,null,null,null,null,null,null,null,null,null,null,null,null,null,null,null,null,null,null,null,null,null,null,null,null,{"$f":"  AH35","v":0},{"$f":"  AI35","v":0},0,0,0,0,0,0]
[]
[null,null,null,null,"Net impact of DARTs on core net debt",null,"£m 09/10 prices",null,null,null,null,null,null,null,null,null,null,null,null,null,null,null,null,null,null,null,null,null,null,null,null,null,null,{"$f":" - AH18 + AH35","v":-4.4496691656256395},-4.4496691656256395,-3.5801272136268465,-3.5801272136268465,-3.5801272136268465,-3.5801272136268465,-3.5801272136268465,-3.5801272136268465]
[]
[null,null,null,null,"Net DART impact on core tax calculation",null,"£m 09/10 prices",null,null,null,null,null,null,null,null,null,null,null,null,null,null,null,null,null,null,null,null,null,null,null,null,null,null,{"$f":" - AH18  - AH28 + AH35","v":-4.0053259597786761},-3.9870501237221907,-3.0989918445712124,-3.080266056007567,-3.0613313153569486,-3.0416793267304851,-3.0212829207748508,-3.0001138989616174]
[]
[null,"End of sheet"]

{"sheet":"Depn","index":8,"n_rows":184,"n_cols":41,"rows_kept":184,"cut":false,"hidden":false,"merged":[]}
["Regulatory Depreciation"]
[null,{"$f":"UserInterface!G17","v":"East"}]
[null,null,null,null,"Parameter",null,"Units",null,"Constant",null,null,null,null,null,null,null,null,null,null,null,null,null,null,null,null,null,null,null,null,null,null,null,null,"Annual values"]
[null,null,null,null,"PCFM year ending",null,null,null,{"$f":"UserInterface!$G$10","v":"2019-03-31"},null,"1991-03-31","1992-03-31","1993-03-31","1994-03-31","1995-03-31","1996-03-31","1997-03-31","1998-03-31","1999-03-31","2000-03-31","2001-03-31","2002-03-31","2003-03-31","2004-03-31","2005-03-31","2006-03-31","2007-03-31","2008-03-31","2009-03-31","2010-03-31","2011-03-31","2012-03-31","2013-03-31","2014-03-31","2015-03-31","2016-03-31","2017-03-31","2018-03-31","2019-03-31","2020-03-31","2021-03-31"]
[]
[null,"Regulatory depreciation"]
[]
[null,null,"Net RAV additions (after disposals)"]
[null,null,"Note: Additions to RAV are combined before feeding into the depreciation calculations. Disposals are treated as negative additions. Pre-RIIO values are used to build up the post-vesting RAV from vesting."]
[]
[null,null,null,null,"Slow money",null,"£m 09/10 prices",null,null,null,null,null,null,null,null,null,null,null,null,null,null,null,null,null,null,null,null,null,null,null,null,null,null,{"$f":"TIM!AH99","v":94.651688885409186},{"$f":"TIM!AI99","v":99.876821978340388},{"$f":"TIM!AJ99","v":106.84231548041576},{"$f":"TIM!AK99","v":75.497783840938411},{"$f":"TIM!AL99","v":129.96081188723014},{"$f":"TIM!AM99","v":136.39702458864483},{"$f":"TIM!AN99","v":141.11572852698674},{"$f":"TIM!AO99","v":148.00330726088191}]
[null,null,null,null,"Net adjustments",null,"£m 09/10 prices",null,null,null,null,null,null,null,null,null,null,null,null,null,null,null,null,null,null,null,null,null,null,null,null,null,null,{"$f":"SUM(Input!AH196:AH198)","v":8.4336958762506669},{"$f":"SUM(Input!AI196:AI198)","v":0},{"$f":"SUM(Input!AJ196:AJ198)","v":-0.19054376862788389},{"$f":"SUM(Input!AK196:AK198)","v":-0.34342791438514897},{"$f":"SUM(Input!AL196:AL198)","v":-8.8433447546600652E-2},{"$f":"SUM(Input!AM196:AM198)","v":-1.3},{"$f":"SUM(Input!AN196:AN198)","v":-4.4000000000000004},{"$f":"SUM(Input!AO196:AO198)","v":-1.7}]
[null,null,null,null,"Pre-RIIO net RAV additions (after disposals)",null,"£m 09/10 prices",null,null,null,null,null,null,null,null,null,null,null,null,null,null,null,{"$f":"Input!W195","v":81.90091088924332},{"$f":"Input!X195","v":58.77200426704227},{"$f":"Input!Y195","v":60.112810448039433},{"$f":"Input!Z195","v":60.14993076431395},{"$f":"Input!AA195","v":56.218061398377856},{"$f":"Input!AB195","v":129.32018756832116},{"$f":"Input!AC195","v":107.48059043304164},{"$f":"Input!AD195","v":122.51660767666124},{"$f":"Input!AE195","v":157.98474018687872},{"$f":"Input!AF195","v":152.25907013145695},{"$f":"Input!AG195","v":110.9381496111678}]
[null,null,null,null,"Net RAV additions (after disposals)",null,"£m 09/10 prices",null,null,">",null,null,null,null,null,null,null,null,null,null,null,null,{"$f":"SUM(W11:W13)","v":81.90091088924332},58.77200426704227,60.112810448039433,60.14993076431395,56.218061398377856,129.32018756832116,107.48059043304164,122.51660767666124,157.98474018687872,152.25907013145695,110.9381496111678,103.08538476165985,99.876821978340388,106.65177171178787,75.154355926553265,129.87237843968353,135.09702458864481,136.71572852698674,146.30330726088192]
[]
[null,null,"Net depreciation additions (after disposals)"]
[null,null,"Note:"]
[]
[null,null,null,null,"Pre-RIIO transfers to depreciation",null,"£m 09/10 prices",null,null,">",null,null,null,null,null,null,null,null,null,null,null,{"$f":"Input!V199","v":0},{"$f":"Input!W199","v":0},{"$f":"Input!X199","v":0},{"$f":"Input!Y199","v":0},{"$f":"Input!Z199","v":0},{"$f":"Input!AA199","v":0},{"$f":"Input!AB199","v":2.0135423360226272},{"$f":"Input!AC199","v":2.0734923877904725},{"$f":"Input!AD199","v":1.7212400495067763},{"$f":"Input!AE199","v":4.3498239965769017},{"$f":"Input!AF199","v":3.9304722646366335},{"$f":"Input!AG199","v":0}]
[]
[null,null,"Pre-vesting depreciation"]
[null,null,"Note: The following depreciation factor is used to depreciate the pre-vesting balance on the \"Return&RAV\" sheet."]
[]
[null,null,null,null,"Pre-vesting asset life",null,"years",null,{"$f":"Input!I185","v":56}]
[null,null,null,null,"Sum of digits",null,"integer",null,{"$f":"I24 * (1 + I24) / 2","v":1596}]
[null,null,null,null,"Years of pre-vesting depreciation remaining",null,"years",null,null,null,null,null,null,null,null,null,null,null,null,null,null,null,null,null,null,null,null,null,null,null,null,null,null,{"$f":"Input!AH187","v":45},{"$f":"Input!AI187","v":44},{"$f":"Input!AJ187","v":43},{"$f":"Input!AK187","v":42},{"$f":"Input!AL187","v":41},{"$f":"Input!AM187","v":40},{"$f":"Input!AN187","v":39},{"$f":"Input!AO187","v":38}]
[]
[null,null,null,null,"Sum-of-digits pre-vesting depreciation factor",null,"%",null,null,null,null,null,null,null,null,null,null,null,null,null,null,null,null,null,null,null,null,null,null,null,null,null,null,{"$f":"AH26 / $I25","v":2.819548872180451E-2},{"$f":"AI26 / $I25","v":2.7568922305764409E-2},2.6942355889724309E-2,2.6315789473684209E-2,2.5689223057644109E-2,2.5062656641604009E-2,2.4436090225563908E-2,2.3809523809523808E-2]
[]
[null,null,"Sum-of-digit post-vesting depreciation"]
[null,null,"Note: Sum-of-digit depreciation calculations provide the main allowed depreciation after the start of RIIO but are also used to establish the \"RAV differential\" generated before the start of the price control."]
[]
[null,null,null,"Depreciation parameters"]
[]
[null,null,null,null,"Post-vesting asset life",null,"years",null,{"$f":"Input!$I$192","v":45}]
[null,null,null,null,"Post-vesting asset life sum of digits",null,"integer",null,{"$f":"I35 * (I35 + 1) / 2","v":1035}]
[null,null,null,null,"Sum-of-digit post-vesting depreciation applied",null,"text",null,null,">",null,null,null,null,null,null,null,null,null,null,null,null,null,{"$f":"X$4 >= $I98","v":false},false,false,false,false,false,false,false,false,false,true,true,true,true,true,true,true,true]
[]
[null,null,null,"Depreciation schedule"]
[]
[null,null,null,null,"Sum-of-digit depreciation of additions from year ending",null,null,null,"Net additions"]
[null,null,null,null,"2003-03-31",null,"£m 09/10 prices",null,{"$f":"I73","v":81.90091088924332},">",null,null,null,null,null,null,null,null,null,null,null,null,null,{"$f":"$I42 * ($I$35 - COUNT($W42:W42)) / $I$36","v":3.5609091690975356},{"$f":"$I42 * ($I$35 - COUNT($W42:X42)) / $I$36","v":3.4817778542287017},{"$f":"$I42 * ($I$35 - COUNT($W42:Y42)) / $I$36","v":3.4026465393598673},{"$f":"$I42 * ($I$35 - COUNT($W42:Z42)) / $I$36","v":3.3235152244910333},{"$f":"$I42 * ($I$35 - COUNT($W42:AA42)) / $I$36","v":3.2443839096221994},{"$f":"$I42 * ($I$35 - COUNT($W42:AB42)) / $I$36","v":3.165252594753365},{"$f":"$I42 * ($I$35 - COUNT($W42:AC42)) / $I$36","v":3.086121279884531},{"$f":"$I42 * ($I$35 - COUNT($W42:AD42)) / $I$36","v":3.006989965015697},{"$f":"$I42 * ($I$35 - COUNT($W42:AE42)) / $I$36","v":2.9278586501468626},{"$f":"$I42 * ($I$35 - COUNT($W42:AF42)) / $I$36","v":2.8487273352780282},{"$f":"$I42 * ($I$35 - COUNT($W42:AG42)) / $I$36","v":2.7695960204091943},{"$f":"$I42 * ($I$35 - COUNT($W42:AH42)) / $I$36","v":2.6904647055403603},{"$f":"$I42 * ($I$35 - COUNT($W42:AI42)) / $I$36","v":2.6113333906715259},{"$f":"$I42 * ($I$35 - COUNT($W42:AJ42)) / $I$36","v":2.532202075802692},{"$f":"$I42 * ($I$35 - COUNT($W42:AK42)) / $I$36","v":2.453070760933858},{"$f":"$I42 * ($I$35 - COUNT($W42:AL42)) / $I$36","v":2.3739394460650241},{"$f":"$I42 * ($I$35 - COUNT($W42:AM42)) / $I$36","v":2.2948081311961896},{"$f":"$I42 * ($I$35 - COUNT($W42:AN42)) / $I$36","v":2.2156768163273557}]
[null,null,null,null,"2004-03-31",null,"£m 09/10 prices",null,{"$f":"I74","v":58.77200426704227},">",null,null,null,null,null,null,null,null,null,null,null,null,null,null,{"$f":"$I43 * ($I$35 - COUNT($W43:X43)) / $I$36","v":2.555304533349664},{"$f":"$I43 * ($I$35 - COUNT($W43:Y43)) / $I$36","v":2.4985199881641158},{"$f":"$I43 * ($I$35 - COUNT($W43:Z43)) / $I$36","v":2.4417354429785676},{"$f":"$I43 * ($I$35 - COUNT($W43:AA43)) / $I$36","v":2.3849508977930198},{"$f":"$I43 * ($I$35 - COUNT($W43:AB43)) / $I$36","v":2.3281663526074712},{"$f":"$I43 * ($I$35 - COUNT($W43:AC43)) / $I$36","v":2.2713818074219234},{"$f":"$I43 * ($I$35 - COUNT($W43:AD43)) / $I$36","v":2.2145972622363757},{"$f":"$I43 * ($I$35 - COUNT($W43:AE43)) / $I$36","v":2.157812717050827},{"$f":"$I43 * ($I$35 - COUNT($W43:AF43)) / $I$36","v":2.1010281718652792},{"$f":"$I43 * ($I$35 - COUNT($W43:AG43)) / $I$36","v":2.044243626679731},{"$f":"$I43 * ($I$35 - COUNT($W43:AH43)) / $I$36","v":1.9874590814941828},{"$f":"$I43 * ($I$35 - COUNT($W43:AI43)) / $I$36","v":1.9306745363086348},{"$f":"$I43 * ($I$35 - COUNT($W43:AJ43)) / $I$36","v":1.8738899911230869},{"$f":"$I43 * ($I$35 - COUNT($W43:AK43)) / $I$36","v":1.8171054459375389},{"$f":"$I43 * ($I$35 - COUNT($W43:AL43)) / $I$36","v":1.7603209007519907},{"$f":"$I43 * ($I$35 - COUNT($W43:AM43)) / $I$36","v":1.7035363555664427},{"$f":"$I43 * ($I$35 - COUNT($W43:AN43)) / $I$36","v":1.6467518103808945}]
[null,null,null,null,"2005-03-31",null,"£m 09/10 prices",null,60.112810448039433,">",null,null,null,null,null,null,null,null,null,null,null,null,null,null,null,{"$f":"$I44 * ($I$35 - COUNT($W44:Y44)) / $I$36","v":2.6136004542625839},{"$f":"$I44 * ($I$35 - COUNT($W44:Z44)) / $I$36","v":2.5555204441678598},{"$f":"$I44 * ($I$35 - COUNT($W44:AA44)) / $I$36","v":2.4974404340731358},{"$f":"$I44 * ($I$35 - COUNT($W44:AB44)) / $I$36","v":2.4393604239784117},{"$f":"$I44 * ($I$35 - COUNT($W44:AC44)) / $I$36","v":2.3812804138836876},{"$f":"$I44 * ($I$35 - COUNT($W44:AD44)) / $I$36","v":2.3232004037889635},{"$f":"$I44 * ($I$35 - COUNT($W44:AE44)) / $I$36","v":2.2651203936942395},{"$f":"$I44 * ($I$35 - COUNT($W44:AF44)) / $I$36","v":2.2070403835995154},{"$f":"$I44 * ($I$35 - COUNT($W44:AG44)) / $I$36","v":2.1489603735047913},{"$f":"$I44 * ($I$35 - COUNT($W44:AH44)) / $I$36","v":2.0908803634100672},{"$f":"$I44 * ($I$35 - COUNT($W44:AI44)) / $I$36","v":2.0328003533153431},{"$f":"$I44 * ($I$35 - COUNT($W44:AJ44)) / $I$36","v":1.9747203432206191},{"$f":"$I44 * ($I$35 - COUNT($W44:AK44)) / $I$36","v":1.916640333125895},{"$f":"$I44 * ($I$35 - COUNT($W44:AL44)) / $I$36","v":1.8585603230311709},{"$f":"$I44 * ($I$35 - COUNT($W44:AM44)) / $I$36","v":1.8004803129364468},{"$f":"$I44 * ($I$35 - COUNT($W44:AN44)) / $I$36","v":1.7424003028417225}]
[null,null,null,null,"2006-03-31",null,"£m 09/10 prices",null,60.14993076431395,">",null,null,null,null,null,null,null,null,null,null,null,null,null,null,null,null,{"$f":"$I45 * ($I$35 - COUNT($W45:Z45)) / $I$36","v":2.6152143810571284},{"$f":"$I45 * ($I$35 - COUNT($W45:AA45)) / $I$36","v":2.5570985059225255},{"$f":"$I45 * ($I$35 - COUNT($W45:AB45)) / $I$36","v":2.4989826307879226},{"$f":"$I45 * ($I$35 - COUNT($W45:AC45)) / $I$36","v":2.4408667556533197},{"$f":"$I45 * ($I$35 - COUNT($W45:AD45)) / $I$36","v":2.3827508805187172},{"$f":"$I45 * ($I$35 - COUNT($W45:AE45)) / $I$36","v":2.3246350053841138},{"$f":"$I45 * ($I$35 - COUNT($W45:AF45)) / $I$36","v":2.2665191302495109},{"$f":"$I45 * ($I$35 - COUNT($W45:AG45)) / $I$36","v":2.208403255114908},{"$f":"$I45 * ($I$35 - COUNT($W45:AH45)) / $I$36","v":2.1502873799803055},{"$f":"$I45 * ($I$35 - COUNT($W45:AI45)) / $I$36","v":2.0921715048457026},{"$f":"$I45 * ($I$35 - COUNT($W45:AJ45)) / $I$36","v":2.0340556297110997},{"$f":"$I45 * ($I$35 - COUNT($W45:AK45)) / $I$36","v":1.975939754576497},{"$f":"$I45 * ($I$35 - COUNT($W45:AL45)) / $I$36","v":1.917823879441894},{"$f":"$I45 * ($I$35 - COUNT($W45:AM45)) / $I$36","v":1.8597080043072911},{"$f":"$I45 * ($I$35 - COUNT($W45:AN45)) / $I$36","v":1.8015921291726884}]
[null,null,null,null,"2007-03-31",null,"£m 09/10 prices",null,56.218061398377856,">",null,null,null,null,null,null,null,null,null,null,null,null,null,null,null,null,null,{"$f":"$I46 * ($I$35 - COUNT($W46:AA46)) / $I$36","v":2.4442635390599068},{"$f":"$I46 * ($I$35 - COUNT($W46:AB46)) / $I$36","v":2.3899465715252419},{"$f":"$I46 * ($I$35 - COUNT($W46:AC46)) / $I$36","v":2.3356296039905775},{"$f":"$I46 * ($I$35 - COUNT($W46:AD46)) / $I$36","v":2.2813126364559131},{"$f":"$I46 * ($I$35 - COUNT($W46:AE46)) / $I$36","v":2.2269956689212487},{"$f":"$I46 * ($I$35 - COUNT($W46:AF46)) / $I$36","v":2.1726787013865838},{"$f":"$I46 * ($I$35 - COUNT($W46:AG46)) / $I$36","v":2.1183617338519194},{"$f":"$I46 * ($I$35 - COUNT($W46:AH46)) / $I$36","v":2.064044766317255},{"$f":"$I46 * ($I$35 - COUNT($W46:AI46)) / $I$36","v":2.0097277987825897},{"$f":"$I46 * ($I$35 - COUNT($W46:AJ46)) / $I$36","v":1.9554108312479255},{"$f":"$I46 * ($I$35 - COUNT($W46:AK46)) / $I$36","v":1.9010938637132608},{"$f":"$I46 * ($I$35 - COUNT($W46:AL46)) / $I$36","v":1.8467768961785962},{"$f":"$I46 * ($I$35 - COUNT($W46:AM46)) / $I$36","v":1.7924599286439316},{"$f":"$I46 * ($I$35 - COUNT($W46:AN46)) / $I$36","v":1.7381429611092671}]
[null,null,null,null,"2008-03-31",null,"£m 09/10 prices",null,129.32018756832116,">",null,null,null,null,null,null,null,null,null,null,null,null,null,null,null,null,null,null,{"$f":"$I47 * ($I$35 - COUNT($W47:AB47)) / $I$36","v":5.6226168507965726},{"$f":"$I47 * ($I$35 - COUNT($W47:AC47)) / $I$36","v":5.4976698096677596},{"$f":"$I47 * ($I$35 - COUNT($W47:AD47)) / $I$36","v":5.3727227685389467},{"$f":"$I47 * ($I$35 - COUNT($W47:AE47)) / $I$36","v":5.2477757274101338},{"$f":"$I47 * ($I$35 - COUNT($W47:AF47)) / $I$36","v":5.1228286862813217},{"$f":"$I47 * ($I$35 - COUNT($W47:AG47)) / $I$36","v":4.9978816451525088},{"$f":"$I47 * ($I$35 - COUNT($W47:AH47)) / $I$36","v":4.8729346040236958},{"$f":"$I47 * ($I$35 - COUNT($W47:AI47)) / $I$36","v":4.7479875628948838},{"$f":"$I47 * ($I$35 - COUNT($W47:AJ47)) / $I$36","v":4.6230405217660699},{"$f":"$I47 * ($I$35 - COUNT($W47:AK47)) / $I$36","v":4.4980934806372579},{"$f":"$I47 * ($I$35 - COUNT($W47:AL47)) / $I$36","v":4.3731464395084449},{"$f":"$I47 * ($I$35 - COUNT($W47:AM47)) / $I$36","v":4.248199398379632},{"$f":"$I47 * ($I$35 - COUNT($W47:AN47)) / $I$36","v":4.1232523572508191}]
[null,null,null,null,"2009-03-31",null,"£m 09/10 prices",null,107.48059043304164,">",null,null,null,null,null,null,null,null,null,null,null,null,null,null,null,null,null,null,null,{"$f":"$I48 * ($I$35 - COUNT($W48:AC48)) / $I$36","v":4.6730691492626795},{"$f":"$I48 * ($I$35 - COUNT($W48:AD48)) / $I$36","v":4.5692231681679534},{"$f":"$I48 * ($I$35 - COUNT($W48:AE48)) / $I$36","v":4.4653771870732273},{"$f":"$I48 * ($I$35 - COUNT($W48:AF48)) / $I$36","v":4.3615312059785012},{"$f":"$I48 * ($I$35 - COUNT($W48:AG48)) / $I$36","v":4.2576852248837751},{"$f":"$I48 * ($I$35 - COUNT($W48:AH48)) / $I$36","v":4.153839243789049},{"$f":"$I48 * ($I$35 - COUNT($W48:AI48)) / $I$36","v":4.049993262694322},{"$f":"$I48 * ($I$35 - COUNT($W48:AJ48)) / $I$36","v":3.9461472815995964},{"$f":"$I48 * ($I$35 - COUNT($W48:AK48)) / $I$36","v":3.8423013005048703},{"$f":"$I48 * ($I$35 - COUNT($W48:AL48)) / $I$36","v":3.7384553194101442},{"$f":"$I48 * ($I$35 - COUNT($W48:AM48)) / $I$36","v":3.6346093383154177},{"$f":"$I48 * ($I$35 - COUNT($W48:AN48)) / $I$36","v":3.5307633572206916}]
[null,null,null,null,"2010-03-31",null,"£m 09/10 prices",null,122.51660767666124,">",null,null,null,null,null,null,null,null,null,null,null,null,null,null,null,null,null,null,null,null,{"$f":"$I49 * ($I$35 - COUNT($W49:AD49)) / $I$36","v":5.3268090294200539},{"$f":"$I49 * ($I$35 - COUNT($W49:AE49)) / $I$36","v":5.2084354954329415},{"$f":"$I49 * ($I$35 - COUNT($W49:AF49)) / $I$36","v":5.0900619614458291},{"$f":"$I49 * ($I$35 - COUNT($W49:AG49)) / $I$36","v":4.9716884274587168},{"$f":"$I49 * ($I$35 - COUNT($W49:AH49)) / $I$36","v":4.8533148934716044},{"$f":"$I49 * ($I$35 - COUNT($W49:AI49)) / $I$36","v":4.734941359484492},{"$f":"$I49 * ($I$35 - COUNT($W49:AJ49)) / $I$36","v":4.6165678254973805},{"$f":"$I49 * ($I$35 - COUNT($W49:AK49)) / $I$36","v":4.4981942915102673},{"$f":"$I49 * ($I$35 - COUNT($W49:AL49)) / $I$36","v":4.3798207575231558},{"$f":"$I49 * ($I$35 - COUNT($W49:AM49)) / $I$36","v":4.2614472235360434},{"$f":"$I49 * ($I$35 - COUNT($W49:AN49)) / $I$36","v":4.1430736895489311}]
[null,null,null,null,"2011-03-31",null,"£m 09/10 prices",null,157.98474018687872,">",null,null,null,null,null,null,null,null,null,null,null,null,null,null,null,null,null,null,null,null,null,{"$f":"$I50 * ($I$35 - COUNT($W50:AE50)) / $I$36","v":6.8689017472555962},{"$f":"$I50 * ($I$35 - COUNT($W50:AF50)) / $I$36","v":6.7162594862054723},{"$f":"$I50 * ($I$35 - COUNT($W50:AG50)) / $I$36","v":6.5636172251553475},{"$f":"$I50 * ($I$35 - COUNT($W50:AH50)) / $I$36","v":6.4109749641052236},{"$f":"$I50 * ($I$35 - COUNT($W50:AI50)) / $I$36","v":6.2583327030550988},{"$f":"$I50 * ($I$35 - COUNT($W50:AJ50)) / $I$36","v":6.1056904420049749},{"$f":"$I50 * ($I$35 - COUNT($W50:AK50)) / $I$36","v":5.9530481809548501},{"$f":"$I50 * ($I$35 - COUNT($W50:AL50)) / $I$36","v":5.8004059199047262},{"$f":"$I50 * ($I$35 - COUNT($W50:AM50)) / $I$36","v":5.6477636588546014},{"$f":"$I50 * ($I$35 - COUNT($W50:AN50)) / $I$36","v":5.4951213978044775}]
[null,null,null,null,"2012-03-31",null,"£m 09/10 prices",null,152.25907013145695,">",null,null,null,null,null,null,null,null,null,null,null,null,null,null,null,null,null,null,null,null,null,null,{"$f":"$I51 * ($I$35 - COUNT($W51:AF51)) / $I$36","v":6.6199595709329113},{"$f":"$I51 * ($I$35 - COUNT($W51:AG51)) / $I$36","v":6.4728493582455124},{"$f":"$I51 * ($I$35 - COUNT($W51:AH51)) / $I$36","v":6.3257391455581145},{"$f":"$I51 * ($I$35 - COUNT($W51:AI51)) / $I$36","v":6.1786289328707173},{"$f":"$I51 * ($I$35 - COUNT($W51:AJ51)) / $I$36","v":6.0315187201833185},{"$f":"$I51 * ($I$35 - COUNT($W51:AK51)) / $I$36","v":5.8844085074959205},{"$f":"$I51 * ($I$35 - COUNT($W51:AL51)) / $I$36","v":5.7372982948085234},{"$f":"$I51 * ($I$35 - COUNT($W51:AM51)) / $I$36","v":5.5901880821211245},{"$f":"$I51 * ($I$35 - COUNT($W51:AN51)) / $I$36","v":5.4430778694337265}]
[null,null,null,null,"2013-03-31",null,"£m 09/10 prices",null,110.9381496111678,null,null,null,null,null,null,null,null,null,null,null,null,null,null,null,null,null,null,null,null,null,null,null,null,{"$f":"$I52 * ($I$35 - COUNT($W52:AG52)) / $I$36","v":4.8233978091812091},{"$f":"$I52 * ($I$35 - COUNT($W52:AH52)) / $I$36","v":4.7162111911994042},{"$f":"$I52 * ($I$35 - COUNT($W52:AI52)) / $I$36","v":4.6090245732175994},{"$f":"$I52 * ($I$35 - COUNT($W52:AJ52)) / $I$36","v":4.5018379552357946},{"$f":"$I52 * ($I$35 - COUNT($W52:AK52)) / $I$36","v":4.3946513372539906},{"$f":"$I52 * ($I$35 - COUNT($W52:AL52)) / $I$36","v":4.2874647192721858},{"$f":"$I52 * ($I$35 - COUNT($W52:AM52)) / $I$36","v":4.1802781012903809},{"$f":"$I52 * ($I$35 - COUNT($W52:AN52)) / $I$36","v":4.0730914833085761}]
[null,null,null,null,"2014-03-31",null,"£m 09/10 prices",null,103.08538476165985,null,null,null,null,null,null,null,null,null,null,null,null,null,null,null,null,null,null,null,null,null,null,null,null,null,{"$f":"$I53 * ($I$35 - COUNT($W53:AH53)) / $I$36","v":4.4819732505069503},{"$f":"$I53 * ($I$35 - COUNT($W53:AI53)) / $I$36","v":4.3823738449401288},{"$f":"$I53 * ($I$35 - COUNT($W53:AJ53)) / $I$36","v":4.2827744393733074},{"$f":"$I53 * ($I$35 - COUNT($W53:AK53)) / $I$36","v":4.1831750338064868},{"$f":"$I53 * ($I$35 - COUNT($W53:AL53)) / $I$36","v":4.0835756282396662},{"$f":"$I53 * ($I$35 - COUNT($W53:AM53)) / $I$36","v":3.9839762226728448},{"$f":"$I53 * ($I$35 - COUNT($W53:AN53)) / $I$36","v":3.8843768171060233}]
[null,null,null,null,"2015-03-31",null,"£m 09/10 prices",null,99.876821978340388,null,null,null,null,null,null,null,null,null,null,null,null,null,null,null,null,null,null,null,null,null,null,null,null,null,null,{"$f":"$I54 * ($I$35 - COUNT($W54:AI54)) / $I$36","v":4.3424705207974084},{"$f":"$I54 * ($I$35 - COUNT($W54:AJ54)) / $I$36","v":4.2459711758907996},{"$f":"$I54 * ($I$35 - COUNT($W54:AK54)) / $I$36","v":4.14947183098419},{"$f":"$I54 * ($I$35 - COUNT($W54:AL54)) / $I$36","v":4.0529724860775804},{"$f":"$I54 * ($I$35 - COUNT($W54:AM54)) / $I$36","v":3.9564731411709722},{"$f":"$I54 * ($I$35 - COUNT($W54:AN54)) / $I$36","v":3.859973796264363}]
[null,null,null,null,"2016-03-31",null,"£m 09/10 prices",null,106.65177171178787,null,null,null,null,null,null,null,null,null,null,null,null,null,null,null,null,null,null,null,null,null,null,null,null,null,null,null,{"$f":"$I55 * ($I$35 - COUNT($W55:AJ55)) / $I$36","v":4.6370335526864297},{"$f":"$I55 * ($I$35 - COUNT($W55:AK55)) / $I$36","v":4.5339883626267303},{"$f":"$I55 * ($I$35 - COUNT($W55:AL55)) / $I$36","v":4.4309431725670327},{"$f":"$I55 * ($I$35 - COUNT($W55:AM55)) / $I$36","v":4.3278979825073343},{"$f":"$I55 * ($I$35 - COUNT($W55:AN55)) / $I$36","v":4.2248527924476358}]
[null,null,null,null,"2017-03-31",null,"£m 09/10 prices",null,75.154355926553265,null,null,null,null,null,null,null,null,null,null,null,null,null,null,null,null,null,null,null,null,null,null,null,null,null,null,null,null,{"$f":"$I56 * ($I$35 - COUNT($W56:AK56)) / $I$36","v":3.2675806924588375},{"$f":"$I56 * ($I$35 - COUNT($W56:AL56)) / $I$36","v":3.1949677881819745},{"$f":"$I56 * ($I$35 - COUNT($W56:AM56)) / $I$36","v":3.1223548839051114},{"$f":"$I56 * ($I$35 - COUNT($W56:AN56)) / $I$36","v":3.0497419796282483}]
[null,null,null,null,"2018-03-31",null,"£m 09/10 prices",null,129.87237843968353,null,null,null,null,null,null,null,null,null,null,null,null,null,null,null,null,null,null,null,null,null,null,null,null,null,null,null,null,null,{"$f":"$I57 * ($I$35 - COUNT($W57:AL57)) / $I$36","v":5.6466251495514586},{"$f":"$I57 * ($I$35 - COUNT($W57:AM57)) / $I$36","v":5.5211445906725372},{"$f":"$I57 * ($I$35 - COUNT($W57:AN57)) / $I$36","v":5.3956640317936149}]
[null,null,null,null,"2019-03-31",null,"£m 09/10 prices",null,135.09702458864481,null,null,null,null,null,null,null,null,null,null,null,null,null,null,null,null,null,null,null,null,null,null,null,null,null,null,null,null,null,null,{"$f":"$I58 * ($I$35 - COUNT($W58:AM58)) / $I$36","v":5.8737836777671655},{"$f":"$I58 * ($I$35 - COUNT($W58:AN58)) / $I$36","v":5.7432551515945622}]
[null,null,null,null,"2020-03-31",null,"£m 09/10 prices",null,136.71572852698674,null,null,null,null,null,null,null,null,null,null,null,null,null,null,null,null,null,null,null,null,null,null,null,null,null,null,null,null,null,null,null,{"$f":"$I59 * ($I$35 - COUNT($W59:AN59)) / $I$36","v":5.944162109868989}]
[null,null,null,null,"2021-03-31",null,"£m 09/10 prices",null,146.30330726088192]
[]
[null,null,"Straight line post-vesting depreciation"]
[null,null,"Note: Straight line calculations are used to establish the \"RAV differential\" based on the accumulated difference between it and if sum-of-digit depreciation was in place before RIIO."]
[]
[null,null,null,"Depreciation parameters"]
[]
[null,null,null,null,"Post-vesting asset life",null,"years",null,{"$f":"I35","v":45}]
[null,null,null,null,"Straight line depreciation applied",null,"text",null,null,">",null,null,null,null,null,null,null,null,null,null,null,null,null,{"$f":"X$4<$I98","v":true},{"$f":"Y4<$I98","v":true},true,true,true,true,true,true,true,true,false,false,false,false,false,false,false,false]
[]
[null,null,null,"Depreciation schedule"]
[]
[null,null,null,null,"Straight line depreciation of additions from year ending",null,null,null,"Net additions"]
[null,null,null,null,"2003-03-31",null,"£m 09/10 prices",null,{"$f":"TRANSPOSE(W14:AO14)","v":81.90091088924332},">",null,null,null,null,null,null,null,null,null,null,null,null,null,{"$f":"$I73 / $I$67","v":1.8200202419831848},{"$f":"IF($I73 >0, MIN(X73,$I73-SUM($W73:X73)), MAX(X73,$I73-SUM($W73:X73)))","v":1.8200202419831848},{"$f":"IF($I73 >0, MIN(Y73,$I73-SUM($W73:Y73)), MAX(Y73,$I73-SUM($W73:Y73)))","v":1.8200202419831848},{"$f":"IF($I73 >0, MIN(Z73,$I73-SUM($W73:Z73)), MAX(Z73,$I73-SUM($W73:Z73)))","v":1.8200202419831848},{"$f":"IF($I73 >0, MIN(AA73,$I73-SUM($W73:AA73)), MAX(AA73,$I73-SUM($W73:AA73)))","v":1.8200202419831848},{"$f":"IF($I73 >0, MIN(AB73,$I73-SUM($W73:AB73)), MAX(AB73,$I73-SUM($W73:AB73)))","v":1.8200202419831848},{"$f":"IF($I73 >0, MIN(AC73,$I73-SUM($W73:AC73)), MAX(AC73,$I73-SUM($W73:AC73)))","v":1.8200202419831848},{"$f":"IF($I73 >0, MIN(AD73,$I73-SUM($W73:AD73)), MAX(AD73,$I73-SUM($W73:AD73)))","v":1.8200202419831848},{"$f":"IF($I73 >0, MIN(AE73,$I73-SUM($W73:AE73)), MAX(AE73,$I73-SUM($W73:AE73)))","v":1.8200202419831848},{"$f":"IF($I73 >0, MIN(AF73,$I73-SUM($W73:AF73)), MAX(AF73,$I73-SUM($W73:AF73)))","v":1.8200202419831848},{"$f":"IF($I73 >0, MIN(AG73,$I73-SUM($W73:AG73)), MAX(AG73,$I73-SUM($W73:AG73)))","v":1.8200202419831848},{"$f":"IF($I73 >0, MIN(AH73,$I73-SUM($W73:AH73)), MAX(AH73,$I73-SUM($W73:AH73)))","v":1.8200202419831848},{"$f":"IF($I73 >0, MIN(AI73,$I73-SUM($W73:AI73)), MAX(AI73,$I73-SUM($W73:AI73)))","v":1.8200202419831848},{"$f":"IF($I73 >0, MIN(AJ73,$I73-SUM($W73:AJ73)), MAX(AJ73,$I73-SUM($W73:AJ73)))","v":1.8200202419831848},{"$f":"IF($I73 >0, MIN(AK73,$I73-SUM($W73:AK73)), MAX(AK73,$I73-SUM($W73:AK73)))","v":1.8200202419831848},{"$f":"IF($I73 >0, MIN(AL73,$I73-SUM($W73:AL73)), MAX(AL73,$I73-SUM($W73:AL73)))","v":1.8200202419831848},{"$f":"IF($I73 >0, MIN(AM73,$I73-SUM($W73:AM73)), MAX(AM73,$I73-SUM($W73:AM73)))","v":1.8200202419831848},{"$f":"IF($I73 >0, MIN(AN73,$I73-SUM($W73:AN73)), MAX(AN73,$I73-SUM($W73:AN73)))","v":1.8200202419831848}]
[null,null,null,null,"2004-03-31",null,"£m 09/10 prices",null,58.77200426704227,">",null,null,null,null,null,null,null,null,null,null,null,null,null,null,{"$f":"$I74 / $I$67","v":1.3060445392676061},{"$f":"IF($I74 >0, MIN(Y74,$I74-SUM($W74:Y74)), MAX(Y74,$I74-SUM($W74:Y74)))","v":1.3060445392676061},{"$f":"IF($I74 >0, MIN(Z74,$I74-SUM($W74:Z74)), MAX(Z74,$I74-SUM($W74:Z74)))","v":1.3060445392676061},{"$f":"IF($I74 >0, MIN(AA74,$I74-SUM($W74:AA74)), MAX(AA74,$I74-SUM($W74:AA74)))","v":1.3060445392676061},{"$f":"IF($I74 >0, MIN(AB74,$I74-SUM($W74:AB74)), MAX(AB74,$I74-SUM($W74:AB74)))","v":1.3060445392676061},{"$f":"IF($I74 >0, MIN(AC74,$I74-SUM($W74:AC74)), MAX(AC74,$I74-SUM($W74:AC74)))","v":1.3060445392676061},{"$f":"IF($I74 >0, MIN(AD74,$I74-SUM($W74:AD74)), MAX(AD74,$I74-SUM($W74:AD74)))","v":1.3060445392676061},{"$f":"IF($I74 >0, MIN(AE74,$I74-SUM($W74:AE74)), MAX(AE74,$I74-SUM($W74:AE74)))","v":1.3060445392676061},{"$f":"IF($I74 >0, MIN(AF74,$I74-SUM($W74:AF74)), MAX(AF74,$I74-SUM($W74:AF74)))","v":1.3060445392676061},{"$f":"IF($I74 >0, MIN(AG74,$I74-SUM($W74:AG74)), MAX(AG74,$I74-SUM($W74:AG74)))","v":1.3060445392676061},{"$f":"IF($I74 >0, MIN(AH74,$I74-SUM($W74:AH74)), MAX(AH74,$I74-SUM($W74:AH74)))","v":1.3060445392676061},{"$f":"IF($I74 >0, MIN(AI74,$I74-SUM($W74:AI74)), MAX(AI74,$I74-SUM($W74:AI74)))","v":1.3060445392676061},{"$f":"IF($I74 >0, MIN(AJ74,$I74-SUM($W74:AJ74)), MAX(AJ74,$I74-SUM($W74:AJ74)))","v":1.3060445392676061},{"$f":"IF($I74 >0, MIN(AK74,$I74-SUM($W74:AK74)), MAX(AK74,$I74-SUM($W74:AK74)))","v":1.3060445392676061},{"$f":"IF($I74 >0, MIN(AL74,$I74-SUM($W74:AL74)), MAX(AL74,$I74-SUM($W74:AL74)))","v":1.3060445392676061},{"$f":"IF($I74 >0, MIN(AM74,$I74-SUM($W74:AM74)), MAX(AM74,$I74-SUM($W74:AM74)))","v":1.3060445392676061},{"$f":"IF($I74 >0, MIN(AN74,$I74-SUM($W74:AN74)), MAX(AN74,$I74-SUM($W74:AN74)))","v":1.3060445392676061}]
[null,null,null,null,"2005-03-31",null,"£m 09/10 prices",null,60.112810448039433,">",null,null,null,null,null,null,null,null,null,null,null,null,null,null,null,{"$f":"$I75 / $I$67","v":1.335840232178654},{"$f":"IF($I75 >0, MIN(Z75,$I75-SUM($W75:Z75)), MAX(Z75,$I75-SUM($W75:Z75)))","v":1.335840232178654},{"$f":"IF($I75 >0, MIN(AA75,$I75-SUM($W75:AA75)), MAX(AA75,$I75-SUM($W75:AA75)))","v":1.335840232178654},{"$f":"IF($I75 >0, MIN(AB75,$I75-SUM($W75:AB75)), MAX(AB75,$I75-SUM($W75:AB75)))","v":1.335840232178654},{"$f":"IF($I75 >0, MIN(AC75,$I75-SUM($W75:AC75)), MAX(AC75,$I75-SUM($W75:AC75)))","v":1.335840232178654},{"$f":"IF($I75 >0, MIN(AD75,$I75-SUM($W75:AD75)), MAX(AD75,$I75-SUM($W75:AD75)))","v":1.335840232178654},{"$f":"IF($I75 >0, MIN(AE75,$I75-SUM($W75:AE75)), MAX(AE75,$I75-SUM($W75:AE75)))","v":1.335840232178654},{"$f":"IF($I75 >0, MIN(AF75,$I75-SUM($W75:AF75)), MAX(AF75,$I75-SUM($W75:AF75)))","v":1.335840232178654},{"$f":"IF($I75 >0, MIN(AG75,$I75-SUM($W75:AG75)), MAX(AG75,$I75-SUM($W75:AG75)))","v":1.335840232178654},{"$f":"IF($I75 >0, MIN(AH75,$I75-SUM($W75:AH75)), MAX(AH75,$I75-SUM($W75:AH75)))","v":1.335840232178654},{"$f":"IF($I75 >0, MIN(AI75,$I75-SUM($W75:AI75)), MAX(AI75,$I75-SUM($W75:AI75)))","v":1.335840232178654},{"$f":"IF($I75 >0, MIN(AJ75,$I75-SUM($W75:AJ75)), MAX(AJ75,$I75-SUM($W75:AJ75)))","v":1.335840232178654},{"$f":"IF($I75 >0, MIN(AK75,$I75-SUM($W75:AK75)), MAX(AK75,$I75-SUM($W75:AK75)))","v":1.335840232178654},{"$f":"IF($I75 >0, MIN(AL75,$I75-SUM($W75:AL75)), MAX(AL75,$I75-SUM($W75:AL75)))","v":1.335840232178654},{"$f":"IF($I75 >0, MIN(AM75,$I75-SUM($W75:AM75)), MAX(AM75,$I75-SUM($W75:AM75)))","v":1.335840232178654},{"$f":"IF($I75 >0, MIN(AN75,$I75-SUM($W75:AN75)), MAX(AN75,$I75-SUM($W75:AN75)))","v":1.335840232178654}]
[null,null,null,null,"2006-03-31",null,"£m 09/10 prices",null,60.14993076431395,">",null,null,null,null,null,null,null,null,null,null,null,null,null,null,null,null,{"$f":"$I76 / $I$67","v":1.3366651280958655},{"$f":"IF($I76 >0, MIN(AA76,$I76-SUM($W76:AA76)), MAX(AA76,$I76-SUM($W76:AA76)))","v":1.3366651280958655},{"$f":"IF($I76 >0, MIN(AB76,$I76-SUM($W76:AB76)), MAX(AB76,$I76-SUM($W76:AB76)))","v":1.3366651280958655},{"$f":"IF($I76 >0, MIN(AC76,$I76-SUM($W76:AC76)), MAX(AC76,$I76-SUM($W76:AC76)))","v":1.3366651280958655},{"$f":"IF($I76 >0, MIN(AD76,$I76-SUM($W76:AD76)), MAX(AD76,$I76-SUM($W76:AD76)))","v":1.3366651280958655},{"$f":"IF($I76 >0, MIN(AE76,$I76-SUM($W76:AE76)), MAX(AE76,$I76-SUM($W76:AE76)))","v":1.3366651280958655},{"$f":"IF($I76 >0, MIN(AF76,$I76-SUM($W76:AF76)), MAX(AF76,$I76-SUM($W76:AF76)))","v":1.3366651280958655},{"$f":"IF($I76 >0, MIN(AG76,$I76-SUM($W76:AG76)), MAX(AG76,$I76-SUM($W76:AG76)))","v":1.3366651280958655},{"$f":"IF($I76 >0, MIN(AH76,$I76-SUM($W76:AH76)), MAX(AH76,$I76-SUM($W76:AH76)))","v":1.3366651280958655},{"$f":"IF($I76 >0, MIN(AI76,$I76-SUM($W76:AI76)), MAX(AI76,$I76-SUM($W76:AI76)))","v":1.3366651280958655},{"$f":"IF($I76 >0, MIN(AJ76,$I76-SUM($W76:AJ76)), MAX(AJ76,$I76-SUM($W76:AJ76)))","v":1.3366651280958655},{"$f":"IF($I76 >0, MIN(AK76,$I76-SUM($W76:AK76)), MAX(AK76,$I76-SUM($W76:AK76)))","v":1.3366651280958655},{"$f":"IF($I76 >0, MIN(AL76,$I76-SUM($W76:AL76)), MAX(AL76,$I76-SUM($W76:AL76)))","v":1.3366651280958655},{"$f":"IF($I76 >0, MIN(AM76,$I76-SUM($W76:AM76)), MAX(AM76,$I76-SUM($W76:AM76)))","v":1.3366651280958655},{"$f":"IF($I76 >0, MIN(AN76,$I76-SUM($W76:AN76)), MAX(AN76,$I76-SUM($W76:AN76)))","v":1.3366651280958655}]
[null,null,null,null,"2007-03-31",null,"£m 09/10 prices",null,56.218061398377856,">",null,null,null,null,null,null,null,null,null,null,null,null,null,null,null,null,null,{"$f":"$I77 / $I$67","v":1.2492902532972856},{"$f":"IF($I77 >0, MIN(AB77,$I77-SUM($W77:AB77)), MAX(AB77,$I77-SUM($W77:AB77)))","v":1.2492902532972856},{"$f":"IF($I77 >0, MIN(AC77,$I77-SUM($W77:AC77)), MAX(AC77,$I77-SUM($W77:AC77)))","v":1.2492902532972856},{"$f":"IF($I77 >0, MIN(AD77,$I77-SUM($W77:AD77)), MAX(AD77,$I77-SUM($W77:AD77)))","v":1.2492902532972856},{"$f":"IF($I77 >0, MIN(AE77,$I77-SUM($W77:AE77)), MAX(AE77,$I77-SUM($W77:AE77)))","v":1.2492902532972856},{"$f":"IF($I77 >0, MIN(AF77,$I77-SUM($W77:AF77)), MAX(AF77,$I77-SUM($W77:AF77)))","v":1.2492902532972856},{"$f":"IF($I77 >0, MIN(AG77,$I77-SUM($W77:AG77)), MAX(AG77,$I77-SUM($W77:AG77)))","v":1.2492902532972856},{"$f":"IF($I77 >0, MIN(AH77,$I77-SUM($W77:AH77)), MAX(AH77,$I77-SUM($W77:AH77)))","v":1.2492902532972856},{"$f":"IF($I77 >0, MIN(AI77,$I77-SUM($W77:AI77)), MAX(AI77,$I77-SUM($W77:AI77)))","v":1.2492902532972856},{"$f":"IF($I77 >0, MIN(AJ77,$I77-SUM($W77:AJ77)), MAX(AJ77,$I77-SUM($W77:AJ77)))","v":1.2492902532972856},{"$f":"IF($I77 >0, MIN(AK77,$I77-SUM($W77:AK77)), MAX(AK77,$I77-SUM($W77:AK77)))","v":1.2492902532972856},{"$f":"IF($I77 >0, MIN(AL77,$I77-SUM($W77:AL77)), MAX(AL77,$I77-SUM($W77:AL77)))","v":1.2492902532972856},{"$f":"IF($I77 >0, MIN(AM77,$I77-SUM($W77:AM77)), MAX(AM77,$I77-SUM($W77:AM77)))","v":1.2492902532972856},{"$f":"IF($I77 >0, MIN(AN77,$I77-SUM($W77:AN77)), MAX(AN77,$I77-SUM($W77:AN77)))","v":1.2492902532972856}]
[null,null,null,null,"2008-03-31",null,"£m 09/10 prices",null,129.32018756832116,">",null,null,null,null,null,null,null,null,null,null,null,null,null,null,null,null,null,null,{"$f":"$I78 / $I$67","v":2.8737819459626923},{"$f":"IF($I78 >0, MIN(AC78,$I78-SUM($W78:AC78)), MAX(AC78,$I78-SUM($W78:AC78)))","v":2.8737819459626923},{"$f":"IF($I78 >0, MIN(AD78,$I78-SUM($W78:AD78)), MAX(AD78,$I78-SUM($W78:AD78)))","v":2.8737819459626923},{"$f":"IF($I78 >0, MIN(AE78,$I78-SUM($W78:AE78)), MAX(AE78,$I78-SUM($W78:AE78)))","v":2.8737819459626923},{"$f":"IF($I78 >0, MIN(AF78,$I78-SUM($W78:AF78)), MAX(AF78,$I78-SUM($W78:AF78)))","v":2.8737819459626923},{"$f":"IF($I78 >0, MIN(AG78,$I78-SUM($W78:AG78)), MAX(AG78,$I78-SUM($W78:AG78)))","v":2.8737819459626923},{"$f":"IF($I78 >0, MIN(AH78,$I78-SUM($W78:AH78)), MAX(AH78,$I78-SUM($W78:AH78)))","v":2.8737819459626923},{"$f":"IF($I78 >0, MIN(AI78,$I78-SUM($W78:AI78)), MAX(AI78,$I78-SUM($W78:AI78)))","v":2.8737819459626923},{"$f":"IF($I78 >0, MIN(AJ78,$I78-SUM($W78:AJ78)), MAX(AJ78,$I78-SUM($W78:AJ78)))","v":2.8737819459626923},{"$f":"IF($I78 >0, MIN(AK78,$I78-SUM($W78:AK78)), MAX(AK78,$I78-SUM($W78:AK78)))","v":2.8737819459626923},{"$f":"IF($I78 >0, MIN(AL78,$I78-SUM($W78:AL78)), MAX(AL78,$I78-SUM($W78:AL78)))","v":2.8737819459626923},{"$f":"IF($I78 >0, MIN(AM78,$I78-SUM($W78:AM78)), MAX(AM78,$I78-SUM($W78:AM78)))","v":2.8737819459626923},{"$f":"IF($I78 >0, MIN(AN78,$I78-SUM($W78:AN78)), MAX(AN78,$I78-SUM($W78:AN78)))","v":2.8737819459626923}]
[null,null,null,null,"2009-03-31",null,"£m 09/10 prices",null,107.48059043304164,">",null,null,null,null,null,null,null,null,null,null,null,null,null,null,null,null,null,null,null,{"$f":"$I79 / $I$67","v":2.3884575651787032},{"$f":"IF($I79 >0, MIN(AD79,$I79-SUM($W79:AD79)), MAX(AD79,$I79-SUM($W79:AD79)))","v":2.3884575651787032},{"$f":"IF($I79 >0, MIN(AE79,$I79-SUM($W79:AE79)), MAX(AE79,$I79-SUM($W79:AE79)))","v":2.3884575651787032},{"$f":"IF($I79 >0, MIN(AF79,$I79-SUM($W79:AF79)), MAX(AF79,$I79-SUM($W79:AF79)))","v":2.3884575651787032},{"$f":"IF($I79 >0, MIN(AG79,$I79-SUM($W79:AG79)), MAX(AG79,$I79-SUM($W79:AG79)))","v":2.3884575651787032},{"$f":"IF($I79 >0, MIN(AH79,$I79-SUM($W79:AH79)), MAX(AH79,$I79-SUM($W79:AH79)))","v":2.3884575651787032},{"$f":"IF($I79 >0, MIN(AI79,$I79-SUM($W79:AI79)), MAX(AI79,$I79-SUM($W79:AI79)))","v":2.3884575651787032},{"$f":"IF($I79 >0, MIN(AJ79,$I79-SUM($W79:AJ79)), MAX(AJ79,$I79-SUM($W79:AJ79)))","v":2.3884575651787032},{"$f":"IF($I79 >0, MIN(AK79,$I79-SUM($W79:AK79)), MAX(AK79,$I79-SUM($W79:AK79)))","v":2.3884575651787032},{"$f":"IF($I79 >0, MIN(AL79,$I79-SUM($W79:AL79)), MAX(AL79,$I79-SUM($W79:AL79)))","v":2.3884575651787032},{"$f":"IF($I79 >0, MIN(AM79,$I79-SUM($W79:AM79)), MAX(AM79,$I79-SUM($W79:AM79)))","v":2.3884575651787032},{"$f":"IF($I79 >0, MIN(AN79,$I79-SUM($W79:AN79)), MAX(AN79,$I79-SUM($W79:AN79)))","v":2.3884575651787032}]
[null,null,null,null,"2010-03-31",null,"£m 09/10 prices",null,122.51660767666124,">",null,null,null,null,null,null,null,null,null,null,null,null,null,null,null,null,null,null,null,null,{"$f":"$I80 / $I$67","v":2.7225912817035831},{"$f":"IF($I80 >0, MIN(AE80,$I80-SUM($W80:AE80)), MAX(AE80,$I80-SUM($W80:AE80)))","v":2.7225912817035831},{"$f":"IF($I80 >0, MIN(AF80,$I80-SUM($W80:AF80)), MAX(AF80,$I80-SUM($W80:AF80)))","v":2.7225912817035831},{"$f":"IF($I80 >0, MIN(AG80,$I80-SUM($W80:AG80)), MAX(AG80,$I80-SUM($W80:AG80)))","v":2.7225912817035831},{"$f":"IF($I80 >0, MIN(AH80,$I80-SUM($W80:AH80)), MAX(AH80,$I80-SUM($W80:AH80)))","v":2.7225912817035831},{"$f":"IF($I80 >0, MIN(AI80,$I80-SUM($W80:AI80)), MAX(AI80,$I80-SUM($W80:AI80)))","v":2.7225912817035831},{"$f":"IF($I80 >0, MIN(AJ80,$I80-SUM($W80:AJ80)), MAX(AJ80,$I80-SUM($W80:AJ80)))","v":2.7225912817035831},{"$f":"IF($I80 >0, MIN(AK80,$I80-SUM($W80:AK80)), MAX(AK80,$I80-SUM($W80:AK80)))","v":2.7225912817035831},{"$f":"IF($I80 >0, MIN(AL80,$I80-SUM($W80:AL80)), MAX(AL80,$I80-SUM($W80:AL80)))","v":2.7225912817035831},{"$f":"IF($I80 >0, MIN(AM80,$I80-SUM($W80:AM80)), MAX(AM80,$I80-SUM($W80:AM80)))","v":2.7225912817035831},{"$f":"IF($I80 >0, MIN(AN80,$I80-SUM($W80:AN80)), MAX(AN80,$I80-SUM($W80:AN80)))","v":2.7225912817035831}]
[null,null,null,null,"2011-03-31",null,"£m 09/10 prices",null,157.98474018687872,">",null,null,null,null,null,null,null,null,null,null,null,null,null,null,null,null,null,null,null,null,null,{"$f":"$I81 / $I$67","v":3.5107720041528605},{"$f":"IF($I81 >0, MIN(AF81,$I81-SUM($W81:AF81)), MAX(AF81,$I81-SUM($W81:AF81)))","v":3.5107720041528605},{"$f":"IF($I81 >0, MIN(AG81,$I81-SUM($W81:AG81)), MAX(AG81,$I81-SUM($W81:AG81)))","v":3.5107720041528605},{"$f":"IF($I81 >0, MIN(AH81,$I81-SUM($W81:AH81)), MAX(AH81,$I81-SUM($W81:AH81)))","v":3.5107720041528605},{"$f":"IF($I81 >0, MIN(AI81,$I81-SUM($W81:AI81)), MAX(AI81,$I81-SUM($W81:AI81)))","v":3.5107720041528605},{"$f":"IF($I81 >0, MIN(AJ81,$I81-SUM($W81:AJ81)), MAX(AJ81,$I81-SUM($W81:AJ81)))","v":3.5107720041528605},{"$f":"IF($I81 >0, MIN(AK81,$I81-SUM($W81:AK81)), MAX(AK81,$I81-SUM($W81:AK81)))","v":3.5107720041528605},{"$f":"IF($I81 >0, MIN(AL81,$I81-SUM($W81:AL81)), MAX(AL81,$I81-SUM($W81:AL81)))","v":3.5107720041528605},{"$f":"IF($I81 >0, MIN(AM81,$I81-SUM($W81:AM81)), MAX(AM81,$I81-SUM($W81:AM81)))","v":3.5107720041528605},{"$f":"IF($I81 >0, MIN(AN81,$I81-SUM($W81:AN81)), MAX(AN81,$I81-SUM($W81:AN81)))","v":3.5107720041528605}]
[null,null,null,null,"2012-03-31",null,"£m 09/10 prices",null,152.25907013145695,">",null,null,null,null,null,null,null,null,null,null,null,null,null,null,null,null,null,null,null,null,null,null,{"$f":"$I82 / $I$67","v":3.3835348918101547},{"$f":"IF($I82 >0, MIN(AG82,$I82-SUM($W82:AG82)), MAX(AG82,$I82-SUM($W82:AG82)))","v":3.3835348918101547},{"$f":"IF($I82 >0, MIN(AH82,$I82-SUM($W82:AH82)), MAX(AH82,$I82-SUM($W82:AH82)))","v":3.3835348918101547},{"$f":"IF($I82 >0, MIN(AI82,$I82-SUM($W82:AI82)), MAX(AI82,$I82-SUM($W82:AI82)))","v":3.3835348918101547},{"$f":"IF($I82 >0, MIN(AJ82,$I82-SUM($W82:AJ82)), MAX(AJ82,$I82-SUM($W82:AJ82)))","v":3.3835348918101547},{"$f":"IF($I82 >0, MIN(AK82,$I82-SUM($W82:AK82)), MAX(AK82,$I82-SUM($W82:AK82)))","v":3.3835348918101547},{"$f":"IF($I82 >0, MIN(AL82,$I82-SUM($W82:AL82)), MAX(AL82,$I82-SUM($W82:AL82)))","v":3.3835348918101547},{"$f":"IF($I82 >0, MIN(AM82,$I82-SUM($W82:AM82)), MAX(AM82,$I82-SUM($W82:AM82)))","v":3.3835348918101547},{"$f":"IF($I82 >0, MIN(AN82,$I82-SUM($W82:AN82)), MAX(AN82,$I82-SUM($W82:AN82)))","v":3.3835348918101547}]
[null,null,null,null,"2013-03-31",null,"£m 09/10 prices",null,110.9381496111678,null,null,null,null,null,null,null,null,null,null,null,null,null,null,null,null,null,null,null,null,null,null,null,null,{"$f":"$I83 / $I$67","v":2.4652922135815065},{"$f":"IF($I83 >0, MIN(AH83,$I83-SUM($W83:AH83)), MAX(AH83,$I83-SUM($W83:AH83)))","v":2.4652922135815065},{"$f":"IF($I83 >0, MIN(AI83,$I83-SUM($W83:AI83)), MAX(AI83,$I83-SUM($W83:AI83)))","v":2.4652922135815065},{"$f":"IF($I83 >0, MIN(AJ83,$I83-SUM($W83:AJ83)), MAX(AJ83,$I83-SUM($W83:AJ83)))","v":2.4652922135815065},{"$f":"IF($I83 >0, MIN(AK83,$I83-SUM($W83:AK83)), MAX(AK83,$I83-SUM($W83:AK83)))","v":2.4652922135815065},{"$f":"IF($I83 >0, MIN(AL83,$I83-SUM($W83:AL83)), MAX(AL83,$I83-SUM($W83:AL83)))","v":2.4652922135815065},{"$f":"IF($I83 >0, MIN(AM83,$I83-SUM($W83:AM83)), MAX(AM83,$I83-SUM($W83:AM83)))","v":2.4652922135815065},{"$f":"IF($I83 >0, MIN(AN83,$I83-SUM($W83:AN83)), MAX(AN83,$I83-SUM($W83:AN83)))","v":2.4652922135815065}]
[null,null,null,null,"2014-03-31",null,"£m 09/10 prices",null,103.08538476165985,null,null,null,null,null,null,null,null,null,null,null,null,null,null,null,null,null,null,null,null,null,null,null,null,null,{"$f":"$I84 / $I$67","v":2.2907863280368854},{"$f":"IF($I84 >0, MIN(AI84,$I84-SUM($W84:AI84)), MAX(AI84,$I84-SUM($W84:AI84)))","v":2.2907863280368854},{"$f":"IF($I84 >0, MIN(AJ84,$I84-SUM($W84:AJ84)), MAX(AJ84,$I84-SUM($W84:AJ84)))","v":2.2907863280368854},{"$f":"IF($I84 >0, MIN(AK84,$I84-SUM($W84:AK84)), MAX(AK84,$I84-SUM($W84:AK84)))","v":2.2907863280368854},{"$f":"IF($I84 >0, MIN(AL84,$I84-SUM($W84:AL84)), MAX(AL84,$I84-SUM($W84:AL84)))","v":2.2907863280368854},{"$f":"IF($I84 >0, MIN(AM84,$I84-SUM($W84:AM84)), MAX(AM84,$I84-SUM($W84:AM84)))","v":2.2907863280368854},{"$f":"IF($I84 >0, MIN(AN84,$I84-SUM($W84:AN84)), MAX(AN84,$I84-SUM($W84:AN84)))","v":2.2907863280368854}]
[null,null,null,null,"2015-03-31",null,"£m 09/10 prices",null,99.876821978340388,null,null,null,null,null,null,null,null,null,null,null,null,null,null,null,null,null,null,null,null,null,null,null,null,null,null,{"$f":"$I85 / $I$67","v":2.2194849328520085},{"$f":"IF($I85 >0, MIN(AJ85,$I85-SUM($W85:AJ85)), MAX(AJ85,$I85-SUM($W85:AJ85)))","v":2.2194849328520085},{"$f":"IF($I85 >0, MIN(AK85,$I85-SUM($W85:AK85)), MAX(AK85,$I85-SUM($W85:AK85)))","v":2.2194849328520085},{"$f":"IF($I85 >0, MIN(AL85,$I85-SUM($W85:AL85)), MAX(AL85,$I85-SUM($W85:AL85)))","v":2.2194849328520085},{"$f":"IF($I85 >0, MIN(AM85,$I85-SUM($W85:AM85)), MAX(AM85,$I85-SUM($W85:AM85)))","v":2.2194849328520085},{"$f":"IF($I85 >0, MIN(AN85,$I85-SUM($W85:AN85)), MAX(AN85,$I85-SUM($W85:AN85)))","v":2.2194849328520085}]
[null,null,null,null,"2016-03-31",null,"£m 09/10 prices",null,106.65177171178787,null,null,null,null,null,null,null,null,null,null,null,null,null,null,null,null,null,null,null,null,null,null,null,null,null,null,null,{"$f":"$I86 / $I$67","v":2.3700393713730636},{"$f":"IF($I86 >0, MIN(AK86,$I86-SUM($W86:AK86)), MAX(AK86,$I86-SUM($W86:AK86)))","v":2.3700393713730636},{"$f":"IF($I86 >0, MIN(AL86,$I86-SUM($W86:AL86)), MAX(AL86,$I86-SUM($W86:AL86)))","v":2.3700393713730636},{"$f":"IF($I86 >0, MIN(AM86,$I86-SUM($W86:AM86)), MAX(AM86,$I86-SUM($W86:AM86)))","v":2.3700393713730636},{"$f":"IF($I86 >0, MIN(AN86,$I86-SUM($W86:AN86)), MAX(AN86,$I86-SUM($W86:AN86)))","v":2.3700393713730636}]
[null,null,null,null,"2017-03-31",null,"£m 09/10 prices",null,75.154355926553265,null,null,null,null,null,null,null,null,null,null,null,null,null,null,null,null,null,null,null,null,null,null,null,null,null,null,null,null,{"$f":"$I87 / $I$67","v":1.6700967983678503},{"$f":"IF($I87 >0, MIN(AL87,$I87-SUM($W87:AL87)), MAX(AL87,$I87-SUM($W87:AL87)))","v":1.6700967983678503},{"$f":"IF($I87 >0, MIN(AM87,$I87-SUM($W87:AM87)), MAX(AM87,$I87-SUM($W87:AM87)))","v":1.6700967983678503},{"$f":"IF($I87 >0, MIN(AN87,$I87-SUM($W87:AN87)), MAX(AN87,$I87-SUM($W87:AN87)))","v":1.6700967983678503}]
[null,null,null,null,"2018-03-31",null,"£m 09/10 prices",null,129.87237843968353,null,null,null,null,null,null,null,null,null,null,null,null,null,null,null,null,null,null,null,null,null,null,null,null,null,null,null,null,null,{"$f":"$I88 / $I$67","v":2.8860528542151895},{"$f":"IF($I88 >0, MIN(AM88,$I88-SUM($W88:AM88)), MAX(AM88,$I88-SUM($W88:AM88)))","v":2.8860528542151895},{"$f":"IF($I88 >0, MIN(AN88,$I88-SUM($W88:AN88)), MAX(AN88,$I88-SUM($W88:AN88)))","v":2.8860528542151895}]
[null,null,null,null,"2019-03-31",null,"£m 09/10 prices",null,135.09702458864481,null,null,null,null,null,null,null,null,null,null,null,null,null,null,null,null,null,null,null,null,null,null,null,null,null,null,null,null,null,null,{"$f":"$I89 / $I$67","v":3.0021561019698848},{"$f":"IF($I89 >0, MIN(AN89,$I89-SUM($W89:AN89)), MAX(AN89,$I89-SUM($W89:AN89)))","v":3.0021561019698848}]
[null,null,null,null,"2020-03-31",null,"£m 09/10 prices",null,136.71572852698674,null,null,null,null,null,null,null,null,null,null,null,null,null,null,null,null,null,null,null,null,null,null,null,null,null,null,null,null,null,null,null,{"$f":"$I90 / $I$67","v":3.0381273005997054}]
[null,null,null,null,"2021-03-31",null,"£m 09/10 prices",null,146.30330726088192]
[]
[null,null,"Accelerated RAV differential post-vesting depreciation"]
[null,null,"Note: The RAV differential accumulated from the straight line and sum-of-digit schedules above is released after the start of RIIO over an input smoothing profile."]
[]
[null,null,null,"Depreciation parameters"]
[]
[null,null,null,null,"Smoothing period starting year",null,"year ending",null,{"$f":"Input!I194","v":"2014-03-31"}]
[null,null,null,null,"RAV differential is accruing differences",null,"flag",null,null,">",null,null,null,null,null,null,null,null,null,null,null,null,null,{"$f":"IF(X$4 < $I98, 1, 0 )","v":1},1,1,1,1,1,1,1,1,1,0,0,0,0,0,0,0,0]
[null,null,null,null,"Smoothing profile for recovery of backlog depreciation",null,"%",null,null,null,null,null,null,null,null,null,null,null,null,null,null,null,null,null,null,null,null,null,null,null,null,null,null,{"$f":"Input!AH193","v":0.15},{"$f":"Input!AI193","v":0.15},{"$f":"Input!AJ193","v":2.5000000000000001E-2},{"$f":"Input!AK193","v":0},{"$f":"Input!AL193","v":0.05},{"$f":"Input!AM193","v":0.125},{"$f":"Input!AN193","v":0.2},{"$f":"Input!AO193","v":0.3}]
[]
[null,null,null,"Depreciation schedule"]
[]
[null,null,null,null,"RAV differential depreciation of additions from year ending",null,null,null,"RAV differential"]
[null,null,null,null,"2003-03-31",null,"£m 09/10 prices",null,{"$f":"SUMPRODUCT(X42:AG42, X$99:AG$99) - SUMPRODUCT(X73:AG73, X$99:AG$99)","v":13.84798010204598},">",null,null,null,null,null,null,null,null,null,null,null,null,null,{"$f":"$I105 * X$100","v":0},0,0,0,0,0,0,0,0,0,2.077197015306897,2.077197015306897,0.34619950255114951,0,0.69239900510229901,1.7309975127557475,2.7695960204091961,4.1543940306137941]
[null,null,null,null,"2004-03-31",null,"£m 09/10 prices",null,9.1990963200587874,">",null,null,null,null,null,null,null,null,null,null,null,null,null,null,{"$f":"$I106 * Y$100","v":0},0,0,0,0,0,0,0,0,1.379864448008818,1.379864448008818,0.22997740800146971,0,0.45995481600293942,1.1498870400073484,1.8398192640117577,2.759728896017636]
[null,null,null,null,"2005-03-31",null,"£m 09/10 prices",null,8.595841494019167,">",null,null,null,null,null,null,null,null,null,null,null,null,null,null,null,{"$f":"$I107 * Z$100","v":0},0,0,0,0,0,0,0,1.289376224102875,1.289376224102875,0.21489603735047919,0,0.42979207470095837,1.0744801867523959,1.7191682988038335,2.57875244820575]
[null,null,null,null,"2006-03-31",null,"£m 09/10 prices",null,7.729411392902179,">",null,null,null,null,null,null,null,null,null,null,null,null,null,null,null,null,{"$f":"$I108 * AA$100","v":0},0,0,0,0,0,0,1.1594117089353269,1.1594117089353269,0.19323528482255448,0,0.38647056964510895,0.96617642411277238,1.5458822785804358,2.3188234178706537]
[null,null,null,null,"2007-03-31",null,"£m 09/10 prices",null,6.3550852015557595,">",null,null,null,null,null,null,null,null,null,null,null,null,null,null,null,null,null,{"$f":"$I109 * AB$100","v":0},0,0,0,0,0,0.95326278023336386,0.95326278023336386,0.158877130038894,0,0.31775426007778801,0.79438565019446994,1.271017040311152,1.9065255604667277]
[null,null,null,null,"2008-03-31",null,"£m 09/10 prices",null,12.494704112881271,">",null,null,null,null,null,null,null,null,null,null,null,null,null,null,null,null,null,null,{"$f":"$I110 * AC$100","v":0},0,0,0,0,1.8742056169321906,1.8742056169321906,0.3123676028220318,0,0.6247352056440636,1.5618380141101589,2.4989408225762544,3.7484112338643811]
[null,null,null,null,"2009-03-31",null,"£m 09/10 prices",null,8.5153704497675466,">",null,null,null,null,null,null,null,null,null,null,null,null,null,null,null,null,null,null,null,{"$f":"$I111 * AD$100","v":0},0,0,0,1.2773055674651319,1.2773055674651319,0.21288426124418869,0,0.42576852248837738,1.0644213062209433,1.7030740899535095,2.5546111349302638]
[null,null,null,null,"2010-03-31",null,"£m 09/10 prices",null,7.4575326411880756,">",null,null,null,null,null,null,null,null,null,null,null,null,null,null,null,null,null,null,null,null,{"$f":"$I112 * AE$100","v":0},0,0,1.1186298961782113,1.1186298961782113,0.1864383160297019,0,0.3728766320594038,0.93219158014850945,1.4915065282376152,2.2372597923564226]
[null,null,null,null,"2011-03-31",null,"£m 09/10 prices",null,6.5636172251553475,">",null,null,null,null,null,null,null,null,null,null,null,null,null,null,null,null,null,null,null,null,null,{"$f":"$I113 * AF$100","v":0},0,0.98454258377330206,0.98454258377330206,0.1640904306288837,0,0.32818086125776741,0.82045215314441844,1.3127234450310696,1.9690851675466041]
[null,null,null,null,"2012-03-31",null,"£m 09/10 prices",null,3.2364246791227567,">",null,null,null,null,null,null,null,null,null,null,null,null,null,null,null,null,null,null,null,null,null,null,{"$f":"$I114 * AG$100","v":0},0.48546370186841348,0.48546370186841348,8.0910616978068922E-2,0,0.16182123395613784,0.40455308489034458,0.64728493582455138,0.97092740373682695]
[null,null,null,null,"2013-03-31",null,"£m 09/10 prices",null,0,null,null,null,null,null,null,null,null,null,null,null,null,null,null,null,null,null,null,null,null,null,null,null,null,{"$f":"$I115 * AH$100","v":0},0,0,0,0,0,0,0]
[null,null,null,null,"2014-03-31",null,"£m 09/10 prices",null,0,null,null,null,null,null,null,null,null,null,null,null,null,null,null,null,null,null,null,null,null,null,null,null,null,null,{"$f":"$I116 * AI$100","v":0},0,0,0,0,0,0]
[null,null,null,null,"2015-03-31",null,"£m 09/10 prices",null,0,null,null,null,null,null,null,null,null,null,null,null,null,null,null,null,null,null,null,null,null,null,null,null,null,null,null,{"$f":"$I117 * AJ$100","v":0},0,0,0,0,0]
[null,null,null,null,"2016-03-31",null,"£m 09/10 prices",null,0,null,null,null,null,null,null,null,null,null,null,null,null,null,null,null,null,null,null,null,null,null,null,null,null,null,null,null,{"$f":"$I118 * AK$100","v":0},{"$f":"$I118 * AL$100","v":0},{"$f":"$I118 * AM$100","v":0},{"$f":"$I118 * AN$100","v":0},{"$f":"$I118 * AO$100","v":0}]
[null,null,null,null,"2017-03-31",null,"£m 09/10 prices",null,0,null,null,null,null,null,null,null,null,null,null,null,null,null,null,null,null,null,null,null,null,null,null,null,null,null,null,null,null,{"$f":"$I119 * AL$100","v":0},{"$f":"$I119 * AM$100","v":0},{"$f":"$I119 * AN$100","v":0},{"$f":"$I119 * AO$100","v":0}]
[null,null,null,null,"2018-03-31",null,"£m 09/10 prices",null,0,null,null,null,null,null,null,null,null,null,null,null,null,null,null,null,null,null,null,null,null,null,null,null,null,null,null,null,null,null,{"$f":"$I120 * AM$100","v":0},{"$f":"$I120 * AN$100","v":0},{"$f":"$I120 * AO$100","v":0}]
[null,null,null,null,"2019-03-31",null,"£m 09/10 prices",null,0,null,null,null,null,null,null,null,null,null,null,null,null,null,null,null,null,null,null,null,null,null,null,null,null,null,null,null,null,null,null,{"$f":"$I121 * AN$100","v":0},{"$f":"$I121 * AO$100","v":0}]
[null,null,null,null,"2020-03-31",null,"£m 09/10 prices",null,0,null,null,null,null,null,null,null,null,null,null,null,null,null,null,null,null,null,null,null,null,null,null,null,null,null,null,null,null,null,null,null,{"$f":"$I122 * AO$100","v":0}]
[null,null,null,null,"2021-03-31",null,"£m 09/10 prices",null,0]
[]
[null,null,"Depreciation values applied"]
[null,null,"Note: Before RIIO, regulatory depreciation is straight-line. From the start of RIIO, it is sum-of-digit depreciation plus any smoothed RAV differential value available."]
[]
[null,null,null,null,"Depreciation allowed on additions from year ending",null,null,null,"Net additions"]
[null,null,null,null,"2003-03-31",null,"£m 09/10 prices",null,{"$f":"I73","v":81.90091088924332},">",null,null,null,null,null,null,null,null,null,null,null,null,null,{"$f":"(X$68 * X73) + (X$37 * X42) + X105","v":1.8200202419831848},1.8200202419831848,1.8200202419831848,1.8200202419831848,1.8200202419831848,1.8200202419831848,1.8200202419831848,1.8200202419831848,1.8200202419831848,1.8200202419831848,4.8467930357160913,4.7676617208472578,2.9575328932226754,2.532202075802692,3.145469766036157,4.1049369588207716,5.0644041516053857,6.3700708469411502]
[null,null,null,null,"2004-03-31",null,"£m 09/10 prices",null,58.77200426704227,">",null,null,null,null,null,null,null,null,null,null,null,null,null,null,{"$f":"(Y$68 * Y74) + (Y$37 * Y43) + Y106","v":1.3060445392676061},1.3060445392676061,1.3060445392676061,1.3060445392676061,1.3060445392676061,1.3060445392676061,1.3060445392676061,1.3060445392676061,1.3060445392676061,3.4241080746885491,3.3673235295030008,2.1606519443101044,1.8738899911230869,2.2770602619404783,2.9102079407593391,3.5433556195782003,4.406480706398531]
[null,null,null,null,"2005-03-31",null,"£m 09/10 prices",null,60.112810448039433,">",null,null,null,null,null,null,null,null,null,null,null,null,null,null,null,{"$f":"(Z$68 * Z75) + (Z$37 * Z44) + Z107","v":1.335840232178654},1.335840232178654,1.335840232178654,1.335840232178654,1.335840232178654,1.335840232178654,1.335840232178654,1.335840232178654,3.4383365976076661,3.3802565875129424,2.2476963906658223,1.9747203432206191,2.3464324078268533,2.9330405097835666,3.5196486117402803,4.3211527510474728]
[null,null,null,null,"2006-03-31",null,"£m 09/10 prices",null,60.14993076431395,">",null,null,null,null,null,null,null,null,null,null,null,null,null,null,null,null,{"$f":"(AA$68 * AA76) + (AA$37 * AA45) + AA108","v":1.3366651280958655},1.3366651280958655,1.3366651280958655,1.3366651280958655,1.3366651280958655,1.3366651280958655,1.3366651280958655,3.3678149640502348,3.3096990889156324,2.2854067896682571,2.0340556297110997,2.3624103242216057,2.8840003035546662,3.4055902828877267,4.1204155470433417]
[null,null,null,null,"2007-03-31",null,"£m 09/10 prices",null,56.218061398377856,">",null,null,null,null,null,null,null,null,null,null,null,null,null,null,null,null,null,{"$f":"(AB$68 * AB77) + (AB$37 * AB46) + AB109","v":1.2492902532972856},1.2492902532972856,1.2492902532972856,1.2492902532972856,1.2492902532972856,1.2492902532972856,3.0716245140852831,3.0173075465506187,2.1686049288214835,1.9554108312479255,2.2188481237910489,2.6411625463730664,3.0634769689550838,3.6446685215759951]
[null,null,null,null,"2008-03-31",null,"£m 09/10 prices",null,129.32018756832116,">",null,null,null,null,null,null,null,null,null,null,null,null,null,null,null,null,null,null,{"$f":"(AC$68 * AC78) + (AC$37 * AC47) + AC110","v":2.8737819459626923},2.8737819459626923,2.8737819459626923,2.8737819459626923,2.8737819459626923,6.8720872620846993,6.7471402209558864,5.0603551657169152,4.6230405217660699,5.1228286862813217,5.9349844536186041,6.7471402209558864,7.8716635911152002]
[null,null,null,null,"2009-03-31",null,"£m 09/10 prices",null,107.48059043304164,">",null,null,null,null,null,null,null,null,null,null,null,null,null,null,null,null,null,null,null,{"$f":"(AD$68 * AD79) + (AD$37 * AD48) + AD111","v":2.3884575651787032},2.3884575651787032,2.3884575651787032,2.3884575651787032,5.534990792348907,5.4311448112541809,4.2628775239385108,3.9461472815995964,4.2680698229932474,4.8028766256310877,5.3376834282689272,6.0853744921509554]
[null,null,null,null,"2010-03-31",null,"£m 09/10 prices",null,122.51660767666124,">",null,null,null,null,null,null,null,null,null,null,null,null,null,null,null,null,null,null,null,null,{"$f":"(AE$68 * AE80) + (AE$37 * AE49) + AE112","v":2.7225912817035831},2.7225912817035831,2.7225912817035831,6.0903183236369278,5.9719447896498155,4.9213796755141939,4.6165678254973805,4.871070923569671,5.312012337671665,5.7529537517736582,6.3803334819053532]
[null,null,null,null,"2011-03-31",null,"£m 09/10 prices",null,157.98474018687872,">",null,null,null,null,null,null,null,null,null,null,null,null,null,null,null,null,null,null,null,null,null,{"$f":"(AF$68 * AF81) + (AF$37 * AF50) + AF113","v":3.5107720041528605},3.5107720041528605,7.5481598089286495,7.3955175478785256,6.4224231336839823,6.1056904420049749,6.2812290422126171,6.6208580730491446,6.9604871038856713,7.4642065653510814]
[null,null,null,null,"2012-03-31",null,"£m 09/10 prices",null,152.25907013145695,">",null,null,null,null,null,null,null,null,null,null,null,null,null,null,null,null,null,null,null,null,null,null,{"$f":"(AG$68 * AG82) + (AG$37 * AG51) + AG114","v":3.3835348918101547},6.9583130601139258,6.8112028474265278,6.2595395498487862,6.0315187201833185,6.0462297414520583,6.1418513796988679,6.2374730179456757,6.4140052731705532]
[null,null,null,null,"2013-03-31",null,"£m 09/10 prices",null,110.9381496111678,null,null,null,null,null,null,null,null,null,null,null,null,null,null,null,null,null,null,null,null,null,null,null,null,{"$f":"(AH$68 * AH83) + (AH$37 * AH52) + AH115","v":4.8233978091812091},4.7162111911994042,4.6090245732175994,4.5018379552357946,4.3946513372539906,4.2874647192721858,4.1802781012903809,4.0730914833085761]
[null,null,null,null,"2014-03-31",null,"£m 09/10 prices",null,103.08538476165985,null,null,null,null,null,null,null,null,null,null,null,null,null,null,null,null,null,null,null,null,null,null,null,null,null,{"$f":"(AI$68 * AI84) + (AI$37 * AI53) + AI116","v":4.4819732505069503},4.3823738449401288,4.2827744393733074,4.1831750338064868,4.0835756282396662,3.9839762226728448,3.8843768171060233]
[null,null,null,null,"2015-03-31",null,"£m 09/10 prices",null,99.876821978340388,null,null,null,null,null,null,null,null,null,null,null,null,null,null,null,null,null,null,null,null,null,null,null,null,null,null,{"$f":"(AJ$68 * AJ85) + (AJ$37 * AJ54) + AJ117","v":4.3424705207974084},4.2459711758907996,4.14947183098419,4.0529724860775804,3.9564731411709722,3.859973796264363]
[null,null,null,null,"2016-03-31",null,"£m 09/10 prices",null,106.65177171178787,null,null,null,null,null,null,null,null,null,null,null,null,null,null,null,null,null,null,null,null,null,null,null,null,null,null,null,{"$f":"(AK$68 * AK86) + (AK$37 * AK55) + AK118","v":4.6370335526864297},{"$f":"(AL$68 * AL86) + (AL$37 * AL55) + AL118","v":4.5339883626267303},{"$f":"(AM$68 * AM86) + (AM$37 * AM55) + AM118","v":4.4309431725670327},{"$f":"(AN$68 * AN86) + (AN$37 * AN55) + AN118","v":4.3278979825073343},{"$f":"(AO$68 * AO86) + (AO$37 * AO55) + AO118","v":4.2248527924476358}]
[null,null,null,null,"2017-03-31",null,"£m 09/10 prices",null,75.154355926553265,null,null,null,null,null,null,null,null,null,null,null,null,null,null,null,null,null,null,null,null,null,null,null,null,null,null,null,null,{"$f":"(AL$68 * AL87) + (AL$37 * AL56) + AL119","v":3.2675806924588375},{"$f":"(AM$68 * AM87) + (AM$37 * AM56) + AM119","v":3.1949677881819745},{"$f":"(AN$68 * AN87) + (AN$37 * AN56) + AN119","v":3.1223548839051114},{"$f":"(AO$68 * AO87) + (AO$37 * AO56) + AO119","v":3.0497419796282483}]
[null,null,null,null,"2018-03-31",null,"£m 09/10 prices",null,129.87237843968353,null,null,null,null,null,null,null,null,null,null,null,null,null,null,null,null,null,null,null,null,null,null,null,null,null,null,null,null,null,{"$f":"(AM$68 * AM88) + (AM$37 * AM57) + AM120","v":5.6466251495514586},{"$f":"(AN$68 * AN88) + (AN$37 * AN57) + AN120","v":5.5211445906725372},{"$f":"(AO$68 * AO88) + (AO$37 * AO57) + AO120","v":5.3956640317936149}]
[null,null,null,null,"2019-03-31",null,"£m 09/10 prices",null,135.09702458864481,null,null,null,null,null,null,null,null,null,null,null,null,null,null,null,null,null,null,null,null,null,null,null,null,null,null,null,null,null,null,{"$f":"(AN$68 * AN89) + (AN$37 * AN58) + AN121","v":5.8737836777671655},{"$f":"(AO$68 * AO89) + (AO$37 * AO58) + AO121","v":5.7432551515945622}]
[null,null,null,null,"2020-03-31",null,"£m 09/10 prices",null,136.71572852698674,null,null,null,null,null,null,null,null,null,null,null,null,null,null,null,null,null,null,null,null,null,null,null,null,null,null,null,null,null,null,null,{"$f":"(AO$68 * AO90) + (AO$37 * AO59) + AO122","v":5.944162109868989}]
[null,null,null,null,"2021-03-31",null,"£m 09/10 prices",null,146.30330726088192]
[null,null,null,null,"Total",null,"£m 09/10 prices",null,null,null,null,null,null,null,null,null,null,null,null,null,null,null,null,{"$f":"SUM(X129:X147)","v":1.8200202419831848},3.1260647812507907,4.4619050134294449,5.7985701415253104,7.047860394822596,9.9216423407852883,12.310099905963991,15.032691187667574,18.543463191820436,21.92699808363059,{"$f":"SUM(AH129:AH147)","v":55.975944242442147},{"$f":"SUM(AI129:AI147)","v":59.397383132200744},52.080336934345873,53.360860785343093,59.468516357455293,69.982480072850677,80.598121757582845,93.253489938711638]
[]
[null,null,"Removal of fully depreciated items"]
[]
[null,null,null,null,"Removal of additions from year ending"]
[null,null,null,null,"2003-03-31",null,"£m 09/10 prices",null,null,">",null,null,null,null,null,null,null,null,null,null,null,null,null,{"$f":"IF(AND($I129 = SUM($W129:X129), SUM($W153:W153) = 0 ), $I129, 0 )","v":0},{"$f":"IF(AND($I129 = SUM($W129:Y129), SUM($W153:X153) = 0 ), $I129, 0 )","v":0},{"$f":"IF(AND($I129 = SUM($W129:Z129), SUM($W153:Y153) = 0 ), $I129, 0 )","v":0},{"$f":"IF(AND($I129 = SUM($W129:AA129), SUM($W153:Z153) = 0 ), $I129, 0 )","v":0},{"$f":"IF(AND($I129 = SUM($W129:AB129), SUM($W153:AA153) = 0 ), $I129, 0 )","v":0},{"$f":"IF(AND($I129 = SUM($W129:AC129), SUM($W153:AB153) = 0 ), $I129, 0 )","v":0},{"$f":"IF(AND($I129 = SUM($W129:AD129), SUM($W153:AC153) = 0 ), $I129, 0 )","v":0},{"$f":"IF(AND($I129 = SUM($W129:AE129), SUM($W153:AD153) = 0 ), $I129, 0 )","v":0},{"$f":"IF(AND($I129 = SUM($W129:AF129), SUM($W153:AE153) = 0 ), $I129, 0 )","v":0},{"$f":"IF(AND($I129 = SUM($W129:AG129), SUM($W153:AF153) = 0 ), $I129, 0 )","v":0},{"$f":"IF(AND($I129 = SUM($W129:AH129), SUM($W153:AG153) = 0 ), $I129, 0 )","v":0},{"$f":"IF(AND($I129 = SUM($W129:AI129), SUM($W153:AH153) = 0 ), $I129, 0 )","v":0},{"$f":"IF(AND($I129 = SUM($W129:AJ129), SUM($W153:AI153) = 0 ), $I129, 0 )","v":0},{"$f":"IF(AND($I129 = SUM($W129:AK129), SUM($W153:AJ153) = 0 ), $I129, 0 )","v":0},{"$f":"IF(AND($I129 = SUM($W129:AL129), SUM($W153:AK153) = 0 ), $I129, 0 )","v":0},{"$f":"IF(AND($I129 = SUM($W129:AM129), SUM($W153:AL153) = 0 ), $I129, 0 )","v":0},{"$f":"IF(AND($I129 = SUM($W129:AN129), SUM($W153:AM153) = 0 ), $I129, 0 )","v":0},{"$f":"IF(AND($I129 = SUM($W129:AO129), SUM($W153:AN153) = 0 ), $I129, 0 )","v":0}]
[null,null,null,null,"2004-03-31",null,"£m 09/10 prices",null,null,">",null,null,null,null,null,null,null,null,null,null,null,null,null,{"$f":"IF(AND($I130 = SUM($W130:X130), SUM($W154:W154) = 0 ), $I130, 0 )","v":0},{"$f":"IF(AND($I130 = SUM($W130:Y130), SUM($W154:X154) = 0 ), $I130, 0 )","v":0},{"$f":"IF(AND($I130 = SUM($W130:Z130), SUM($W154:Y154) = 0 ), $I130, 0 )","v":0},{"$f":"IF(AND($I130 = SUM($W130:AA130), SUM($W154:Z154) = 0 ), $I130, 0 )","v":0},{"$f":"IF(AND($I130 = SUM($W130:AB130), SUM($W154:AA154) = 0 ), $I130, 0 )","v":0},{"$f":"IF(AND($I130 = SUM($W130:AC130), SUM($W154:AB154) = 0 ), $I130, 0 )","v":0},{"$f":"IF(AND($I130 = SUM($W130:AD130), SUM($W154:AC154) = 0 ), $I130, 0 )","v":0},{"$f":"IF(AND($I130 = SUM($W130:AE130), SUM($W154:AD154) = 0 ), $I130, 0 )","v":0},{"$f":"IF(AND($I130 = SUM($W130:AF130), SUM($W154:AE154) = 0 ), $I130, 0 )","v":0},{"$f":"IF(AND($I130 = SUM($W130:AG130), SUM($W154:AF154) = 0 ), $I130, 0 )","v":0},{"$f":"IF(AND($I130 = SUM($W130:AH130), SUM($W154:AG154) = 0 ), $I130, 0 )","v":0},{"$f":"IF(AND($I130 = SUM($W130:AI130), SUM($W154:AH154) = 0 ), $I130, 0 )","v":0},{"$f":"IF(AND($I130 = SUM($W130:AJ130), SUM($W154:AI154) = 0 ), $I130, 0 )","v":0},{"$f":"IF(AND($I130 = SUM($W130:AK130), SUM($W154:AJ154) = 0 ), $I130, 0 )","v":0},{"$f":"IF(AND($I130 = SUM($W130:AL130), SUM($W154:AK154) = 0 ), $I130, 0 )","v":0},{"$f":"IF(AND($I130 = SUM($W130:AM130), SUM($W154:AL154) = 0 ), $I130, 0 )","v":0},{"$f":"IF(AND($I130 = SUM($W130:AN130), SUM($W154:AM154) = 0 ), $I130, 0 )","v":0},{"$f":"IF(AND($I130 = SUM($W130:AO130), SUM($W154:AN154) = 0 ), $I130, 0 )","v":0}]
[null,null,null,null,"2005-03-31",null,"£m 09/10 prices",null,null,">",null,null,null,null,null,null,null,null,null,null,null,null,null,{"$f":"IF(AND($I131 = SUM($W131:X131), SUM($W155:W155) = 0 ), $I131, 0 )","v":0},{"$f":"IF(AND($I131 = SUM($W131:Y131), SUM($W155:X155) = 0 ), $I131, 0 )","v":0},{"$f":"IF(AND($I131 = SUM($W131:Z131), SUM($W155:Y155) = 0 ), $I131, 0 )","v":0},{"$f":"IF(AND($I131 = SUM($W131:AA131), SUM($W155:Z155) = 0 ), $I131, 0 )","v":0},{"$f":"IF(AND($I131 = SUM($W131:AB131), SUM($W155:AA155) = 0 ), $I131, 0 )","v":0},{"$f":"IF(AND($I131 = SUM($W131:AC131), SUM($W155:AB155) = 0 ), $I131, 0 )","v":0},{"$f":"IF(AND($I131 = SUM($W131:AD131), SUM($W155:AC155) = 0 ), $I131, 0 )","v":0},{"$f":"IF(AND($I131 = SUM($W131:AE131), SUM($W155:AD155) = 0 ), $I131, 0 )","v":0},{"$f":"IF(AND($I131 = SUM($W131:AF131), SUM($W155:AE155) = 0 ), $I131, 0 )","v":0},{"$f":"IF(AND($I131 = SUM($W131:AG131), SUM($W155:AF155) = 0 ), $I131, 0 )","v":0},{"$f":"IF(AND($I131 = SUM($W131:AH131), SUM($W155:AG155) = 0 ), $I131, 0 )","v":0},{"$f":"IF(AND($I131 = SUM($W131:AI131), SUM($W155:AH155) = 0 ), $I131, 0 )","v":0},{"$f":"IF(AND($I131 = SUM($W131:AJ131), SUM($W155:AI155) = 0 ), $I131, 0 )","v":0},{"$f":"IF(AND($I131 = SUM($W131:AK131), SUM($W155:AJ155) = 0 ), $I131, 0 )","v":0},{"$f":"IF(AND($I131 = SUM($W131:AL131), SUM($W155:AK155) = 0 ), $I131, 0 )","v":0},{"$f":"IF(AND($I131 = SUM($W131:AM131), SUM($W155:AL155) = 0 ), $I131, 0 )","v":0},{"$f":"IF(AND($I131 = SUM($W131:AN131), SUM($W155:AM155) = 0 ), $I131, 0 )","v":0},{"$f":"IF(AND($I131 = SUM($W131:AO131), SUM($W155:AN155) = 0 ), $I131, 0 )","v":0}]
[null,null,null,null,"2006-03-31",null,"£m 09/10 prices",null,null,">",null,null,null,null,null,null,null,null,null,null,null,null,null,{"$f":"IF(AND($I132 = SUM($W132:X132), SUM($W156:W156) = 0 ), $I132, 0 )","v":0},{"$f":"IF(AND($I132 = SUM($W132:Y132), SUM($W156:X156) = 0 ), $I132, 0 )","v":0},{"$f":"IF(AND($I132 = SUM($W132:Z132), SUM($W156:Y156) = 0 ), $I132, 0 )","v":0},{"$f":"IF(AND($I132 = SUM($W132:AA132), SUM($W156:Z156) = 0 ), $I132, 0 )","v":0},{"$f":"IF(AND($I132 = SUM($W132:AB132), SUM($W156:AA156) = 0 ), $I132, 0 )","v":0},{"$f":"IF(AND($I132 = SUM($W132:AC132), SUM($W156:AB156) = 0 ), $I132, 0 )","v":0},{"$f":"IF(AND($I132 = SUM($W132:AD132), SUM($W156:AC156) = 0 ), $I132, 0 )","v":0},{"$f":"IF(AND($I132 = SUM($W132:AE132), SUM($W156:AD156) = 0 ), $I132, 0 )","v":0},{"$f":"IF(AND($I132 = SUM($W132:AF132), SUM($W156:AE156) = 0 ), $I132, 0 )","v":0},{"$f":"IF(AND($I132 = SUM($W132:AG132), SUM($W156:AF156) = 0 ), $I132, 0 )","v":0},{"$f":"IF(AND($I132 = SUM($W132:AH132), SUM($W156:AG156) = 0 ), $I132, 0 )","v":0},{"$f":"IF(AND($I132 = SUM($W132:AI132), SUM($W156:AH156) = 0 ), $I132, 0 )","v":0},{"$f":"IF(AND($I132 = SUM($W132:AJ132), SUM($W156:AI156) = 0 ), $I132, 0 )","v":0},{"$f":"IF(AND($I132 = SUM($W132:AK132), SUM($W156:AJ156) = 0 ), $I132, 0 )","v":0},{"$f":"IF(AND($I132 = SUM($W132:AL132), SUM($W156:AK156) = 0 ), $I132, 0 )","v":0},{"$f":"IF(AND($I132 = SUM($W132:AM132), SUM($W156:AL156) = 0 ), $I132, 0 )","v":0},{"$f":"IF(AND($I132 = SUM($W132:AN132), SUM($W156:AM156) = 0 ), $I132, 0 )","v":0},{"$f":"IF(AND($I132 = SUM($W132:AO132), SUM($W156:AN156) = 0 ), $I132, 0 )","v":0}]
[null,null,null,null,"2007-03-31",null,"£m 09/10 prices",null,null,">",null,null,null,null,null,null,null,null,null,null,null,null,null,{"$f":"IF(AND($I133 = SUM($W133:X133), SUM($W157:W157) = 0 ), $I133, 0 )","v":0},{"$f":"IF(AND($I133 = SUM($W133:Y133), SUM($W157:X157) = 0 ), $I133, 0 )","v":0},{"$f":"IF(AND($I133 = SUM($W133:Z133), SUM($W157:Y157) = 0 ), $I133, 0 )","v":0},{"$f":"IF(AND($I133 = SUM($W133:AA133), SUM($W157:Z157) = 0 ), $I133, 0 )","v":0},{"$f":"IF(AND($I133 = SUM($W133:AB133), SUM($W157:AA157) = 0 ), $I133, 0 )","v":0},{"$f":"IF(AND($I133 = SUM($W133:AC133), SUM($W157:AB157) = 0 ), $I133, 0 )","v":0},{"$f":"IF(AND($I133 = SUM($W133:AD133), SUM($W157:AC157) = 0 ), $I133, 0 )","v":0},{"$f":"IF(AND($I133 = SUM($W133:AE133), SUM($W157:AD157) = 0 ), $I133, 0 )","v":0},{"$f":"IF(AND($I133 = SUM($W133:AF133), SUM($W157:AE157) = 0 ), $I133, 0 )","v":0},{"$f":"IF(AND($I133 = SUM($W133:AG133), SUM($W157:AF157) = 0 ), $I133, 0 )","v":0},{"$f":"IF(AND($I133 = SUM($W133:AH133), SUM($W157:AG157) = 0 ), $I133, 0 )","v":0},{"$f":"IF(AND($I133 = SUM($W133:AI133), SUM($W157:AH157) = 0 ), $I133, 0 )","v":0},{"$f":"IF(AND($I133 = SUM($W133:AJ133), SUM($W157:AI157) = 0 ), $I133, 0 )","v":0},{"$f":"IF(AND($I133 = SUM($W133:AK133), SUM($W157:AJ157) = 0 ), $I133, 0 )","v":0},{"$f":"IF(AND($I133 = SUM($W133:AL133), SUM($W157:AK157) = 0 ), $I133, 0 )","v":0},{"$f":"IF(AND($I133 = SUM($W133:AM133), SUM($W157:AL157) = 0 ), $I133, 0 )","v":0},{"$f":"IF(AND($I133 = SUM($W133:AN133), SUM($W157:AM157) = 0 ), $I133, 0 )","v":0},{"$f":"IF(AND($I133 = SUM($W133:AO133), SUM($W157:AN157) = 0 ), $I133, 0 )","v":0}]
[null,null,null,null,"2008-03-31",null,"£m 09/10 prices",null,null,">",null,null,null,null,null,null,null,null,null,null,null,null,null,{"$f":"IF(AND($I134 = SUM($W134:X134), SUM($W158:W158) = 0 ), $I134, 0 )","v":0},{"$f":"IF(AND($I134 = SUM($W134:Y134), SUM($W158:X158) = 0 ), $I134, 0 )","v":0},{"$f":"IF(AND($I134 = SUM($W134:Z134), SUM($W158:Y158) = 0 ), $I134, 0 )","v":0},{"$f":"IF(AND($I134 = SUM($W134:AA134), SUM($W158:Z158) = 0 ), $I134, 0 )","v":0},{"$f":"IF(AND($I134 = SUM($W134:AB134), SUM($W158:AA158) = 0 ), $I134, 0 )","v":0},{"$f":"IF(AND($I134 = SUM($W134:AC134), SUM($W158:AB158) = 0 ), $I134, 0 )","v":0},{"$f":"IF(AND($I134 = SUM($W134:AD134), SUM($W158:AC158) = 0 ), $I134, 0 )","v":0},{"$f":"IF(AND($I134 = SUM($W134:AE134), SUM($W158:AD158) = 0 ), $I134, 0 )","v":0},{"$f":"IF(AND($I134 = SUM($W134:AF134), SUM($W158:AE158) = 0 ), $I134, 0 )","v":0},{"$f":"IF(AND($I134 = SUM($W134:AG134), SUM($W158:AF158) = 0 ), $I134, 0 )","v":0},{"$f":"IF(AND($I134 = SUM($W134:AH134), SUM($W158:AG158) = 0 ), $I134, 0 )","v":0},{"$f":"IF(AND($I134 = SUM($W134:AI134), SUM($W158:AH158) = 0 ), $I134, 0 )","v":0},{"$f":"IF(AND($I134 = SUM($W134:AJ134), SUM($W158:AI158) = 0 ), $I134, 0 )","v":0},{"$f":"IF(AND($I134 = SUM($W134:AK134), SUM($W158:AJ158) = 0 ), $I134, 0 )","v":0},{"$f":"IF(AND($I134 = SUM($W134:AL134), SUM($W158:AK158) = 0 ), $I134, 0 )","v":0},{"$f":"IF(AND($I134 = SUM($W134:AM134), SUM($W158:AL158) = 0 ), $I134, 0 )","v":0},{"$f":"IF(AND($I134 = SUM($W134:AN134), SUM($W158:AM158) = 0 ), $I134, 0 )","v":0},{"$f":"IF(AND($I134 = SUM($W134:AO134), SUM($W158:AN158) = 0 ), $I134, 0 )","v":0}]
[null,null,null,null,"2009-03-31",null,"£m 09/10 prices",null,null,">",null,null,null,null,null,null,null,null,null,null,null,null,null,{"$f":"IF(AND($I135 = SUM($W135:X135), SUM($W159:W159) = 0 ), $I135, 0 )","v":0},{"$f":"IF(AND($I135 = SUM($W135:Y135), SUM($W159:X159) = 0 ), $I135, 0 )","v":0},{"$f":"IF(AND($I135 = SUM($W135:Z135), SUM($W159:Y159) = 0 ), $I135, 0 )","v":0},{"$f":"IF(AND($I135 = SUM($W135:AA135), SUM($W159:Z159) = 0 ), $I135, 0 )","v":0},{"$f":"IF(AND($I135 = SUM($W135:AB135), SUM($W159:AA159) = 0 ), $I135, 0 )","v":0},{"$f":"IF(AND($I135 = SUM($W135:AC135), SUM($W159:AB159) = 0 ), $I135, 0 )","v":0},{"$f":"IF(AND($I135 = SUM($W135:AD135), SUM($W159:AC159) = 0 ), $I135, 0 )","v":0},{"$f":"IF(AND($I135 = SUM($W135:AE135), SUM($W159:AD159) = 0 ), $I135, 0 )","v":0},{"$f":"IF(AND($I135 = SUM($W135:AF135), SUM($W159:AE159) = 0 ), $I135, 0 )","v":0},{"$f":"IF(AND($I135 = SUM($W135:AG135), SUM($W159:AF159) = 0 ), $I135, 0 )","v":0},{"$f":"IF(AND($I135 = SUM($W135:AH135), SUM($W159:AG159) = 0 ), $I135, 0 )","v":0},{"$f":"IF(AND($I135 = SUM($W135:AI135), SUM($W159:AH159) = 0 ), $I135, 0 )","v":0},{"$f":"IF(AND($I135 = SUM($W135:AJ135), SUM($W159:AI159) = 0 ), $I135, 0 )","v":0},{"$f":"IF(AND($I135 = SUM($W135:AK135), SUM($W159:AJ159) = 0 ), $I135, 0 )","v":0},{"$f":"IF(AND($I135 = SUM($W135:AL135), SUM($W159:AK159) = 0 ), $I135, 0 )","v":0},{"$f":"IF(AND($I135 = SUM($W135:AM135), SUM($W159:AL159) = 0 ), $I135, 0 )","v":0},{"$f":"IF(AND($I135 = SUM($W135:AN135), SUM($W159:AM159) = 0 ), $I135, 0 )","v":0},{"$f":"IF(AND($I135 = SUM($W135:AO135), SUM($W159:AN159) = 0 ), $I135, 0 )","v":0}]
[null,null,null,null,"2010-03-31",null,"£m 09/10 prices",null,null,">",null,null,null,null,null,null,null,null,null,null,null,null,null,{"$f":"IF(AND($I136 = SUM($W136:X136), SUM($W160:W160) = 0 ), $I136, 0 )","v":0},{"$f":"IF(AND($I136 = SUM($W136:Y136), SUM($W160:X160) = 0 ), $I136, 0 )","v":0},{"$f":"IF(AND($I136 = SUM($W136:Z136), SUM($W160:Y160) = 0 ), $I136, 0 )","v":0},{"$f":"IF(AND($I136 = SUM($W136:AA136), SUM($W160:Z160) = 0 ), $I136, 0 )","v":0},{"$f":"IF(AND($I136 = SUM($W136:AB136), SUM($W160:AA160) = 0 ), $I136, 0 )","v":0},{"$f":"IF(AND($I136 = SUM($W136:AC136), SUM($W160:AB160) = 0 ), $I136, 0 )","v":0},{"$f":"IF(AND($I136 = SUM($W136:AD136), SUM($W160:AC160) = 0 ), $I136, 0 )","v":0},{"$f":"IF(AND($I136 = SUM($W136:AE136), SUM($W160:AD160) = 0 ), $I136, 0 )","v":0},{"$f":"IF(AND($I136 = SUM($W136:AF136), SUM($W160:AE160) = 0 ), $I136, 0 )","v":0},{"$f":"IF(AND($I136 = SUM($W136:AG136), SUM($W160:AF160) = 0 ), $I136, 0 )","v":0},{"$f":"IF(AND($I136 = SUM($W136:AH136), SUM($W160:AG160) = 0 ), $I136, 0 )","v":0},{"$f":"IF(AND($I136 = SUM($W136:AI136), SUM($W160:AH160) = 0 ), $I136, 0 )","v":0},{"$f":"IF(AND($I136 = SUM($W136:AJ136), SUM($W160:AI160) = 0 ), $I136, 0 )","v":0},{"$f":"IF(AND($I136 = SUM($W136:AK136), SUM($W160:AJ160) = 0 ), $I136, 0 )","v":0},{"$f":"IF(AND($I136 = SUM($W136:AL136), SUM($W160:AK160) = 0 ), $I136, 0 )","v":0},{"$f":"IF(AND($I136 = SUM($W136:AM136), SUM($W160:AL160) = 0 ), $I136, 0 )","v":0},{"$f":"IF(AND($I136 = SUM($W136:AN136), SUM($W160:AM160) = 0 ), $I136, 0 )","v":0},{"$f":"IF(AND($I136 = SUM($W136:AO136), SUM($W160:AN160) = 0 ), $I136, 0 )","v":0}]
[null,null,null,null,"2011-03-31",null,"£m 09/10 prices",null,null,">",null,null,null,null,null,null,null,null,null,null,null,null,null,{"$f":"IF(AND($I137 = SUM($W137:X137), SUM($W161:W161) = 0 ), $I137, 0 )","v":0},{"$f":"IF(AND($I137 = SUM($W137:Y137), SUM($W161:X161) = 0 ), $I137, 0 )","v":0},{"$f":"IF(AND($I137 = SUM($W137:Z137), SUM($W161:Y161) = 0 ), $I137, 0 )","v":0},{"$f":"IF(AND($I137 = SUM($W137:AA137), SUM($W161:Z161) = 0 ), $I137, 0 )","v":0},{"$f":"IF(AND($I137 = SUM($W137:AB137), SUM($W161:AA161) = 0 ), $I137, 0 )","v":0},{"$f":"IF(AND($I137 = SUM($W137:AC137), SUM($W161:AB161) = 0 ), $I137, 0 )","v":0},{"$f":"IF(AND($I137 = SUM($W137:AD137), SUM($W161:AC161) = 0 ), $I137, 0 )","v":0},{"$f":"IF(AND($I137 = SUM($W137:AE137), SUM($W161:AD161) = 0 ), $I137, 0 )","v":0},{"$f":"IF(AND($I137 = SUM($W137:AF137), SUM($W161:AE161) = 0 ), $I137, 0 )","v":0},{"$f":"IF(AND($I137 = SUM($W137:AG137), SUM($W161:AF161) = 0 ), $I137, 0 )","v":0},{"$f":"IF(AND($I137 = SUM($W137:AH137), SUM($W161:AG161) = 0 ), $I137, 0 )","v":0},{"$f":"IF(AND($I137 = SUM($W137:AI137), SUM($W161:AH161) = 0 ), $I137, 0 )","v":0},{"$f":"IF(AND($I137 = SUM($W137:AJ137), SUM($W161:AI161) = 0 ), $I137, 0 )","v":0},{"$f":"IF(AND($I137 = SUM($W137:AK137), SUM($W161:AJ161) = 0 ), $I137, 0 )","v":0},{"$f":"IF(AND($I137 = SUM($W137:AL137), SUM($W161:AK161) = 0 ), $I137, 0 )","v":0},{"$f":"IF(AND($I137 = SUM($W137:AM137), SUM($W161:AL161) = 0 ), $I137, 0 )","v":0},{"$f":"IF(AND($I137 = SUM($W137:AN137), SUM($W161:AM161) = 0 ), $I137, 0 )","v":0},{"$f":"IF(AND($I137 = SUM($W137:AO137), SUM($W161:AN161) = 0 ), $I137, 0 )","v":0}]
[null,null,null,null,"2012-03-31",null,"£m 09/10 prices",null,null,">",null,null,null,null,null,null,null,null,null,null,null,null,null,{"$f":"IF(AND($I138 = SUM($W138:X138), SUM($W162:W162) = 0 ), $I138, 0 )","v":0},{"$f":"IF(AND($I138 = SUM($W138:Y138), SUM($W162:X162) = 0 ), $I138, 0 )","v":0},{"$f":"IF(AND($I138 = SUM($W138:Z138), SUM($W162:Y162) = 0 ), $I138, 0 )","v":0},{"$f":"IF(AND($I138 = SUM($W138:AA138), SUM($W162:Z162) = 0 ), $I138, 0 )","v":0},{"$f":"IF(AND($I138 = SUM($W138:AB138), SUM($W162:AA162) = 0 ), $I138, 0 )","v":0},{"$f":"IF(AND($I138 = SUM($W138:AC138), SUM($W162:AB162) = 0 ), $I138, 0 )","v":0},{"$f":"IF(AND($I138 = SUM($W138:AD138), SUM($W162:AC162) = 0 ), $I138, 0 )","v":0},{"$f":"IF(AND($I138 = SUM($W138:AE138), SUM($W162:AD162) = 0 ), $I138, 0 )","v":0},{"$f":"IF(AND($I138 = SUM($W138:AF138), SUM($W162:AE162) = 0 ), $I138, 0 )","v":0},{"$f":"IF(AND($I138 = SUM($W138:AG138), SUM($W162:AF162) = 0 ), $I138, 0 )","v":0},{"$f":"IF(AND($I138 = SUM($W138:AH138), SUM($W162:AG162) = 0 ), $I138, 0 )","v":0},{"$f":"IF(AND($I138 = SUM($W138:AI138), SUM($W162:AH162) = 0 ), $I138, 0 )","v":0},{"$f":"IF(AND($I138 = SUM($W138:AJ138), SUM($W162:AI162) = 0 ), $I138, 0 )","v":0},{"$f":"IF(AND($I138 = SUM($W138:AK138), SUM($W162:AJ162) = 0 ), $I138, 0 )","v":0},{"$f":"IF(AND($I138 = SUM($W138:AL138), SUM($W162:AK162) = 0 ), $I138, 0 )","v":0},{"$f":"IF(AND($I138 = SUM($W138:AM138), SUM($W162:AL162) = 0 ), $I138, 0 )","v":0},{"$f":"IF(AND($I138 = SUM($W138:AN138), SUM($W162:AM162) = 0 ), $I138, 0 )","v":0},{"$f":"IF(AND($I138 = SUM($W138:AO138), SUM($W162:AN162) = 0 ), $I138, 0 )","v":0}]
[null,null,null,null,"2013-03-31",null,"£m 09/10 prices",null,null,">",null,null,null,null,null,null,null,null,null,null,null,null,null,{"$f":"IF(AND($I139 = SUM($W139:X139), SUM($W163:W163) = 0 ), $I139, 0 )","v":0},{"$f":"IF(AND($I139 = SUM($W139:Y139), SUM($W163:X163) = 0 ), $I139, 0 )","v":0},{"$f":"IF(AND($I139 = SUM($W139:Z139), SUM($W163:Y163) = 0 ), $I139, 0 )","v":0},{"$f":"IF(AND($I139 = SUM($W139:AA139), SUM($W163:Z163) = 0 ), $I139, 0 )","v":0},{"$f":"IF(AND($I139 = SUM($W139:AB139), SUM($W163:AA163) = 0 ), $I139, 0 )","v":0},{"$f":"IF(AND($I139 = SUM($W139:AC139), SUM($W163:AB163) = 0 ), $I139, 0 )","v":0},{"$f":"IF(AND($I139 = SUM($W139:AD139), SUM($W163:AC163) = 0 ), $I139, 0 )","v":0},{"$f":"IF(AND($I139 = SUM($W139:AE139), SUM($W163:AD163) = 0 ), $I139, 0 )","v":0},{"$f":"IF(AND($I139 = SUM($W139:AF139), SUM($W163:AE163) = 0 ), $I139, 0 )","v":0},{"$f":"IF(AND($I139 = SUM($W139:AG139), SUM($W163:AF163) = 0 ), $I139, 0 )","v":0},{"$f":"IF(AND($I139 = SUM($W139:AH139), SUM($W163:AG163) = 0 ), $I139, 0 )","v":0},{"$f":"IF(AND($I139 = SUM($W139:AI139), SUM($W163:AH163) = 0 ), $I139, 0 )","v":0},{"$f":"IF(AND($I139 = SUM($W139:AJ139), SUM($W163:AI163) = 0 ), $I139, 0 )","v":0},{"$f":"IF(AND($I139 = SUM($W139:AK139), SUM($W163:AJ163) = 0 ), $I139, 0 )","v":0},{"$f":"IF(AND($I139 = SUM($W139:AL139), SUM($W163:AK163) = 0 ), $I139, 0 )","v":0},{"$f":"IF(AND($I139 = SUM($W139:AM139), SUM($W163:AL163) = 0 ), $I139, 0 )","v":0},{"$f":"IF(AND($I139 = SUM($W139:AN139), SUM($W163:AM163) = 0 ), $I139, 0 )","v":0},{"$f":"IF(AND($I139 = SUM($W139:AO139), SUM($W163:AN163) = 0 ), $I139, 0 )","v":0}]
[null,null,null,null,"2014-03-31",null,"£m 09/10 prices",null,null,">",null,null,null,null,null,null,null,null,null,null,null,null,null,{"$f":"IF(AND($I140 = SUM($W140:X140), SUM($W164:W164) = 0 ), $I140, 0 )","v":0},{"$f":"IF(AND($I140 = SUM($W140:Y140), SUM($W164:X164) = 0 ), $I140, 0 )","v":0},{"$f":"IF(AND($I140 = SUM($W140:Z140), SUM($W164:Y164) = 0 ), $I140, 0 )","v":0},{"$f":"IF(AND($I140 = SUM($W140:AA140), SUM($W164:Z164) = 0 ), $I140, 0 )","v":0},{"$f":"IF(AND($I140 = SUM($W140:AB140), SUM($W164:AA164) = 0 ), $I140, 0 )","v":0},{"$f":"IF(AND($I140 = SUM($W140:AC140), SUM($W164:AB164) = 0 ), $I140, 0 )","v":0},{"$f":"IF(AND($I140 = SUM($W140:AD140), SUM($W164:AC164) = 0 ), $I140, 0 )","v":0},{"$f":"IF(AND($I140 = SUM($W140:AE140), SUM($W164:AD164) = 0 ), $I140, 0 )","v":0},{"$f":"IF(AND($I140 = SUM($W140:AF140), SUM($W164:AE164) = 0 ), $I140, 0 )","v":0},{"$f":"IF(AND($I140 = SUM($W140:AG140), SUM($W164:AF164) = 0 ), $I140, 0 )","v":0},{"$f":"IF(AND($I140 = SUM($W140:AH140), SUM($W164:AG164) = 0 ), $I140, 0 )","v":0},{"$f":"IF(AND($I140 = SUM($W140:AI140), SUM($W164:AH164) = 0 ), $I140, 0 )","v":0},{"$f":"IF(AND($I140 = SUM($W140:AJ140), SUM($W164:AI164) = 0 ), $I140, 0 )","v":0},{"$f":"IF(AND($I140 = SUM($W140:AK140), SUM($W164:AJ164) = 0 ), $I140, 0 )","v":0},{"$f":"IF(AND($I140 = SUM($W140:AL140), SUM($W164:AK164) = 0 ), $I140, 0 )","v":0},{"$f":"IF(AND($I140 = SUM($W140:AM140), SUM($W164:AL164) = 0 ), $I140, 0 )","v":0},{"$f":"IF(AND($I140 = SUM($W140:AN140), SUM($W164:AM164) = 0 ), $I140, 0 )","v":0},{"$f":"IF(AND($I140 = SUM($W140:AO140), SUM($W164:AN164) = 0 ), $I140, 0 )","v":0}]
[null,null,null,null,"2015-03-31",null,"£m 09/10 prices",null,null,">",null,null,null,null,null,null,null,null,null,null,null,null,null,{"$f":"IF(AND($I141 = SUM($W141:X141), SUM($W165:W165) = 0 ), $I141, 0 )","v":0},{"$f":"IF(AND($I141 = SUM($W141:Y141), SUM($W165:X165) = 0 ), $I141, 0 )","v":0},{"$f":"IF(AND($I141 = SUM($W141:Z141), SUM($W165:Y165) = 0 ), $I141, 0 )","v":0},{"$f":"IF(AND($I141 = SUM($W141:AA141), SUM($W165:Z165) = 0 ), $I141, 0 )","v":0},{"$f":"IF(AND($I141 = SUM($W141:AB141), SUM($W165:AA165) = 0 ), $I141, 0 )","v":0},{"$f":"IF(AND($I141 = SUM($W141:AC141), SUM($W165:AB165) = 0 ), $I141, 0 )","v":0},{"$f":"IF(AND($I141 = SUM($W141:AD141), SUM($W165:AC165) = 0 ), $I141, 0 )","v":0},{"$f":"IF(AND($I141 = SUM($W141:AE141), SUM($W165:AD165) = 0 ), $I141, 0 )","v":0},{"$f":"IF(AND($I141 = SUM($W141:AF141), SUM($W165:AE165) = 0 ), $I141, 0 )","v":0},{"$f":"IF(AND($I141 = SUM($W141:AG141), SUM($W165:AF165) = 0 ), $I141, 0 )","v":0},{"$f":"IF(AND($I141 = SUM($W141:AH141), SUM($W165:AG165) = 0 ), $I141, 0 )","v":0},{"$f":"IF(AND($I141 = SUM($W141:AI141), SUM($W165:AH165) = 0 ), $I141, 0 )","v":0},{"$f":"IF(AND($I141 = SUM($W141:AJ141), SUM($W165:AI165) = 0 ), $I141, 0 )","v":0},{"$f":"IF(AND($I141 = SUM($W141:AK141), SUM($W165:AJ165) = 0 ), $I141, 0 )","v":0},{"$f":"IF(AND($I141 = SUM($W141:AL141), SUM($W165:AK165) = 0 ), $I141, 0 )","v":0},{"$f":"IF(AND($I141 = SUM($W141:AM141), SUM($W165:AL165) = 0 ), $I141, 0 )","v":0},{"$f":"IF(AND($I141 = SUM($W141:AN141), SUM($W165:AM165) = 0 ), $I141, 0 )","v":0},{"$f":"IF(AND($I141 = SUM($W141:AO141), SUM($W165:AN165) = 0 ), $I141, 0 )","v":0}]
[null,null,null,null,"2016-03-31",null,"£m 09/10 prices",null,null,">",null,null,null,null,null,null,null,null,null,null,null,null,null,{"$f":"IF(AND($I142 = SUM($W142:X142), SUM($W166:W166) = 0 ), $I142, 0 )","v":0},{"$f":"IF(AND($I142 = SUM($W142:Y142), SUM($W166:X166) = 0 ), $I142, 0 )","v":0},{"$f":"IF(AND($I142 = SUM($W142:Z142), SUM($W166:Y166) = 0 ), $I142, 0 )","v":0},{"$f":"IF(AND($I142 = SUM($W142:AA142), SUM($W166:Z166) = 0 ), $I142, 0 )","v":0},{"$f":"IF(AND($I142 = SUM($W142:AB142), SUM($W166:AA166) = 0 ), $I142, 0 )","v":0},{"$f":"IF(AND($I142 = SUM($W142:AC142), SUM($W166:AB166) = 0 ), $I142, 0 )","v":0},{"$f":"IF(AND($I142 = SUM($W142:AD142), SUM($W166:AC166) = 0 ), $I142, 0 )","v":0},{"$f":"IF(AND($I142 = SUM($W142:AE142), SUM($W166:AD166) = 0 ), $I142, 0 )","v":0},{"$f":"IF(AND($I142 = SUM($W142:AF142), SUM($W166:AE166) = 0 ), $I142, 0 )","v":0},{"$f":"IF(AND($I142 = SUM($W142:AG142), SUM($W166:AF166) = 0 ), $I142, 0 )","v":0},{"$f":"IF(AND($I142 = SUM($W142:AH142), SUM($W166:AG166) = 0 ), $I142, 0 )","v":0},{"$f":"IF(AND($I142 = SUM($W142:AI142), SUM($W166:AH166) = 0 ), $I142, 0 )","v":0},{"$f":"IF(AND($I142 = SUM($W142:AJ142), SUM($W166:AI166) = 0 ), $I142, 0 )","v":0},{"$f":"IF(AND($I142 = SUM($W142:AK142), SUM($W166:AJ166) = 0 ), $I142, 0 )","v":0},{"$f":"IF(AND($I142 = SUM($W142:AL142), SUM($W166:AK166) = 0 ), $I142, 0 )","v":0},{"$f":"IF(AND($I142 = SUM($W142:AM142), SUM($W166:AL166) = 0 ), $I142, 0 )","v":0},{"$f":"IF(AND($I142 = SUM($W142:AN142), SUM($W166:AM166) = 0 ), $I142, 0 )","v":0},{"$f":"IF(AND($I142 = SUM($W142:AO142), SUM($W166:AN166) = 0 ), $I142, 0 )","v":0}]
[null,null,null,null,"2017-03-31",null,"£m 09/10 prices",null,null,">",null,null,null,null,null,null,null,null,null,null,null,null,null,{"$f":"IF(AND($I143 = SUM($W143:X143), SUM($W167:W167) = 0 ), $I143, 0 )","v":0},{"$f":"IF(AND($I143 = SUM($W143:Y143), SUM($W167:X167) = 0 ), $I143, 0 )","v":0},{"$f":"IF(AND($I143 = SUM($W143:Z143), SUM($W167:Y167) = 0 ), $I143, 0 )","v":0},{"$f":"IF(AND($I143 = SUM($W143:AA143), SUM($W167:Z167) = 0 ), $I143, 0 )","v":0},{"$f":"IF(AND($I143 = SUM($W143:AB143), SUM($W167:AA167) = 0 ), $I143, 0 )","v":0},{"$f":"IF(AND($I143 = SUM($W143:AC143), SUM($W167:AB167) = 0 ), $I143, 0 )","v":0},{"$f":"IF(AND($I143 = SUM($W143:AD143), SUM($W167:AC167) = 0 ), $I143, 0 )","v":0},{"$f":"IF(AND($I143 = SUM($W143:AE143), SUM($W167:AD167) = 0 ), $I143, 0 )","v":0},{"$f":"IF(AND($I143 = SUM($W143:AF143), SUM($W167:AE167) = 0 ), $I143, 0 )","v":0},{"$f":"IF(AND($I143 = SUM($W143:AG143), SUM($W167:AF167) = 0 ), $I143, 0 )","v":0},{"$f":"IF(AND($I143 = SUM($W143:AH143), SUM($W167:AG167) = 0 ), $I143, 0 )","v":0},{"$f":"IF(AND($I143 = SUM($W143:AI143), SUM($W167:AH167) = 0 ), $I143, 0 )","v":0},{"$f":"IF(AND($I143 = SUM($W143:AJ143), SUM($W167:AI167) = 0 ), $I143, 0 )","v":0},{"$f":"IF(AND($I143 = SUM($W143:AK143), SUM($W167:AJ167) = 0 ), $I143, 0 )","v":0},{"$f":"IF(AND($I143 = SUM($W143:AL143), SUM($W167:AK167) = 0 ), $I143, 0 )","v":0},{"$f":"IF(AND($I143 = SUM($W143:AM143), SUM($W167:AL167) = 0 ), $I143, 0 )","v":0},{"$f":"IF(AND($I143 = SUM($W143:AN143), SUM($W167:AM167) = 0 ), $I143, 0 )","v":0},{"$f":"IF(AND($I143 = SUM($W143:AO143), SUM($W167:AN167) = 0 ), $I143, 0 )","v":0}]
[null,null,null,null,"2018-03-31",null,"£m 09/10 prices",null,null,">",null,null,null,null,null,null,null,null,null,null,null,null,null,{"$f":"IF(AND($I144 = SUM($W144:X144), SUM($W168:W168) = 0 ), $I144, 0 )","v":0},{"$f":"IF(AND($I144 = SUM($W144:Y144), SUM($W168:X168) = 0 ), $I144, 0 )","v":0},{"$f":"IF(AND($I144 = SUM($W144:Z144), SUM($W168:Y168) = 0 ), $I144, 0 )","v":0},{"$f":"IF(AND($I144 = SUM($W144:AA144), SUM($W168:Z168) = 0 ), $I144, 0 )","v":0},{"$f":"IF(AND($I144 = SUM($W144:AB144), SUM($W168:AA168) = 0 ), $I144, 0 )","v":0},{"$f":"IF(AND($I144 = SUM($W144:AC144), SUM($W168:AB168) = 0 ), $I144, 0 )","v":0},{"$f":"IF(AND($I144 = SUM($W144:AD144), SUM($W168:AC168) = 0 ), $I144, 0 )","v":0},{"$f":"IF(AND($I144 = SUM($W144:AE144), SUM($W168:AD168) = 0 ), $I144, 0 )","v":0},{"$f":"IF(AND($I144 = SUM($W144:AF144), SUM($W168:AE168) = 0 ), $I144, 0 )","v":0},{"$f":"IF(AND($I144 = SUM($W144:AG144), SUM($W168:AF168) = 0 ), $I144, 0 )","v":0},{"$f":"IF(AND($I144 = SUM($W144:AH144), SUM($W168:AG168) = 0 ), $I144, 0 )","v":0},{"$f":"IF(AND($I144 = SUM($W144:AI144), SUM($W168:AH168) = 0 ), $I144, 0 )","v":0},{"$f":"IF(AND($I144 = SUM($W144:AJ144), SUM($W168:AI168) = 0 ), $I144, 0 )","v":0},{"$f":"IF(AND($I144 = SUM($W144:AK144), SUM($W168:AJ168) = 0 ), $I144, 0 )","v":0},{"$f":"IF(AND($I144 = SUM($W144:AL144), SUM($W168:AK168) = 0 ), $I144, 0 )","v":0},{"$f":"IF(AND($I144 = SUM($W144:AM144), SUM($W168:AL168) = 0 ), $I144, 0 )","v":0},{"$f":"IF(AND($I144 = SUM($W144:AN144), SUM($W168:AM168) = 0 ), $I144, 0 )","v":0},{"$f":"IF(AND($I144 = SUM($W144:AO144), SUM($W168:AN168) = 0 ), $I144, 0 )","v":0}]
[null,null,null,null,"2019-03-31",null,"£m 09/10 prices",null,null,">",null,null,null,null,null,null,null,null,null,null,null,null,null,{"$f":"IF(AND($I145 = SUM($W145:X145), SUM($W169:W169) = 0 ), $I145, 0 )","v":0},{"$f":"IF(AND($I145 = SUM($W145:Y145), SUM($W169:X169) = 0 ), $I145, 0 )","v":0},{"$f":"IF(AND($I145 = SUM($W145:Z145), SUM($W169:Y169) = 0 ), $I145, 0 )","v":0},{"$f":"IF(AND($I145 = SUM($W145:AA145), SUM($W169:Z169) = 0 ), $I145, 0 )","v":0},{"$f":"IF(AND($I145 = SUM($W145:AB145), SUM($W169:AA169) = 0 ), $I145, 0 )","v":0},{"$f":"IF(AND($I145 = SUM($W145:AC145), SUM($W169:AB169) = 0 ), $I145, 0 )","v":0},{"$f":"IF(AND($I145 = SUM($W145:AD145), SUM($W169:AC169) = 0 ), $I145, 0 )","v":0},{"$f":"IF(AND($I145 = SUM($W145:AE145), SUM($W169:AD169) = 0 ), $I145, 0 )","v":0},{"$f":"IF(AND($I145 = SUM($W145:AF145), SUM($W169:AE169) = 0 ), $I145, 0 )","v":0},{"$f":"IF(AND($I145 = SUM($W145:AG145), SUM($W169:AF169) = 0 ), $I145, 0 )","v":0},{"$f":"IF(AND($I145 = SUM($W145:AH145), SUM($W169:AG169) = 0 ), $I145, 0 )","v":0},{"$f":"IF(AND($I145 = SUM($W145:AI145), SUM($W169:AH169) = 0 ), $I145, 0 )","v":0},{"$f":"IF(AND($I145 = SUM($W145:AJ145), SUM($W169:AI169) = 0 ), $I145, 0 )","v":0},{"$f":"IF(AND($I145 = SUM($W145:AK145), SUM($W169:AJ169) = 0 ), $I145, 0 )","v":0},{"$f":"IF(AND($I145 = SUM($W145:AL145), SUM($W169:AK169) = 0 ), $I145, 0 )","v":0},{"$f":"IF(AND($I145 = SUM($W145:AM145), SUM($W169:AL169) = 0 ), $I145, 0 )","v":0},{"$f":"IF(AND($I145 = SUM($W145:AN145), SUM($W169:AM169) = 0 ), $I145, 0 )","v":0},{"$f":"IF(AND($I145 = SUM($W145:AO145), SUM($W169:AN169) = 0 ), $I145, 0 )","v":0}]
[null,null,null,null,"2020-03-31",null,"£m 09/10 prices",null,null,">",null,null,null,null,null,null,null,null,null,null,null,null,null,{"$f":"IF(AND($I146 = SUM($W146:X146), SUM($W170:W170) = 0 ), $I146, 0 )","v":0},{"$f":"IF(AND($I146 = SUM($W146:Y146), SUM($W170:X170) = 0 ), $I146, 0 )","v":0},{"$f":"IF(AND($I146 = SUM($W146:Z146), SUM($W170:Y170) = 0 ), $I146, 0 )","v":0},{"$f":"IF(AND($I146 = SUM($W146:AA146), SUM($W170:Z170) = 0 ), $I146, 0 )","v":0},{"$f":"IF(AND($I146 = SUM($W146:AB146), SUM($W170:AA170) = 0 ), $I146, 0 )","v":0},{"$f":"IF(AND($I146 = SUM($W146:AC146), SUM($W170:AB170) = 0 ), $I146, 0 )","v":0},{"$f":"IF(AND($I146 = SUM($W146:AD146), SUM($W170:AC170) = 0 ), $I146, 0 )","v":0},{"$f":"IF(AND($I146 = SUM($W146:AE146), SUM($W170:AD170) = 0 ), $I146, 0 )","v":0},{"$f":"IF(AND($I146 = SUM($W146:AF146), SUM($W170:AE170) = 0 ), $I146, 0 )","v":0},{"$f":"IF(AND($I146 = SUM($W146:AG146), SUM($W170:AF170) = 0 ), $I146, 0 )","v":0},{"$f":"IF(AND($I146 = SUM($W146:AH146), SUM($W170:AG170) = 0 ), $I146, 0 )","v":0},{"$f":"IF(AND($I146 = SUM($W146:AI146), SUM($W170:AH170) = 0 ), $I146, 0 )","v":0},{"$f":"IF(AND($I146 = SUM($W146:AJ146), SUM($W170:AI170) = 0 ), $I146, 0 )","v":0},{"$f":"IF(AND($I146 = SUM($W146:AK146), SUM($W170:AJ170) = 0 ), $I146, 0 )","v":0},{"$f":"IF(AND($I146 = SUM($W146:AL146), SUM($W170:AK170) = 0 ), $I146, 0 )","v":0},{"$f":"IF(AND($I146 = SUM($W146:AM146), SUM($W170:AL170) = 0 ), $I146, 0 )","v":0},{"$f":"IF(AND($I146 = SUM($W146:AN146), SUM($W170:AM170) = 0 ), $I146, 0 )","v":0},{"$f":"IF(AND($I146 = SUM($W146:AO146), SUM($W170:AN170) = 0 ), $I146, 0 )","v":0}]
[null,null,null,null,"2021-03-31",null,"£m 09/10 prices",null,null,">",null,null,null,null,null,null,null,null,null,null,null,null,null,{"$f":"IF(AND($I147 = SUM($W147:X147), SUM($W171:W171) = 0 ), $I147, 0 )","v":0},{"$f":"IF(AND($I147 = SUM($W147:Y147), SUM($W171:X171) = 0 ), $I147, 0 )","v":0},{"$f":"IF(AND($I147 = SUM($W147:Z147), SUM($W171:Y171) = 0 ), $I147, 0 )","v":0},{"$f":"IF(AND($I147 = SUM($W147:AA147), SUM($W171:Z171) = 0 ), $I147, 0 )","v":0},{"$f":"IF(AND($I147 = SUM($W147:AB147), SUM($W171:AA171) = 0 ), $I147, 0 )","v":0},{"$f":"IF(AND($I147 = SUM($W147:AC147), SUM($W171:AB171) = 0 ), $I147, 0 )","v":0},{"$f":"IF(AND($I147 = SUM($W147:AD147), SUM($W171:AC171) = 0 ), $I147, 0 )","v":0},{"$f":"IF(AND($I147 = SUM($W147:AE147), SUM($W171:AD171) = 0 ), $I147, 0 )","v":0},{"$f":"IF(AND($I147 = SUM($W147:AF147), SUM($W171:AE171) = 0 ), $I147, 0 )","v":0},{"$f":"IF(AND($I147 = SUM($W147:AG147), SUM($W171:AF171) = 0 ), $I147, 0 )","v":0},{"$f":"IF(AND($I147 = SUM($W147:AH147), SUM($W171:AG171) = 0 ), $I147, 0 )","v":0},{"$f":"IF(AND($I147 = SUM($W147:AI147), SUM($W171:AH171) = 0 ), $I147, 0 )","v":0},{"$f":"IF(AND($I147 = SUM($W147:AJ147), SUM($W171:AI171) = 0 ), $I147, 0 )","v":0},{"$f":"IF(AND($I147 = SUM($W147:AK147), SUM($W171:AJ171) = 0 ), $I147, 0 )","v":0},{"$f":"IF(AND($I147 = SUM($W147:AL147), SUM($W171:AK171) = 0 ), $I147, 0 )","v":0},{"$f":"IF(AND($I147 = SUM($W147:AM147), SUM($W171:AL171) = 0 ), $I147, 0 )","v":0},{"$f":"IF(AND($I147 = SUM($W147:AN147), SUM($W171:AM171) = 0 ), $I147, 0 )","v":0},{"$f":"IF(AND($I147 = SUM($W147:AO147), SUM($W171:AN171) = 0 ), $I147, 0 )","v":0}]
[null,null,null,null,"Total",null,"£m 09/10 prices",null,null,null,null,null,null,null,null,null,null,null,null,null,null,null,null,{"$f":"SUM(X153:X171)","v":0},0,0,0,0,0,0,0,0,0,{"$f":"SUM(AH153:AH171)","v":0},0,0,0,0,0,0,0]
[]
[null,null,"RIIO opening value"]
[null,null,"Note: Cumulative values provide the opening values for the following year."]
[]
[null,null,null,null,"Cumulative net additions",null,"£m 09/10 prices",null,null,">",null,null,null,null,null,null,null,null,null,null,null,null,null,null,null,null,null,null,null,null,null,null,{"$f":"SUM($W14:AG14)","v":1097.6530633745444}]
[null,null,null,null,"Cumulative depreciation",null,"£m 09/10 prices",null,null,">",null,null,null,null,null,null,null,null,null,null,null,null,null,null,null,null,null,null,null,null,null,null,{"$f":"SUM($W148:AG148, V19:AG19)","v":114.07788631741261}]
[null,null,null,null,"Cumulative removals",null,"£m 09/10 prices",null,null,">",null,null,null,null,null,null,null,null,null,null,null,null,null,null,null,null,null,null,null,null,null,null,{"$f":"SUM($W172:AG172)","v":0}]
[]
[null,null,null,null,"Opening post-vesting RAV cost contribution",null,"£m 09/10 prices",null,null,null,null,null,null,null,null,null,null,null,null,null,null,null,null,null,null,null,null,null,null,null,null,null,null,{"$f":"AG177- AG179","v":1097.6530633745444}]
[null,null,null,null,"Opening post-vesting RAV accumulated depreciation contribution",null,"£m 09/10 prices",null,null,null,null,null,null,null,null,null,null,null,null,null,null,null,null,null,null,null,null,null,null,null,null,null,null,{"$f":"AG178-AG179","v":114.07788631741261}]
[]
[null,"End of sheet"]

{"sheet":"FuelPoor","index":9,"n_rows":178,"n_cols":41,"rows_kept":178,"cut":false,"hidden":false,"merged":[]}
["Fuel Poor calculations"]
[null,{"$f":"UserInterface!G17","v":"East"}]
[null,null,null,null,"Parameter",null,"Units",null,"Constant",null,null,null,null,null,null,null,null,null,null,null,null,null,null,null,null,null,null,null,null,null,null,null,null,"Annual values"]
[null,null,null,null,"PCFM year ending",null,null,null,{"$f":"UserInterface!$G$10","v":"2019-03-31"},null,"1991-03-31","1992-03-31","1993-03-31","1994-03-31","1995-03-31","1996-03-31","1997-03-31","1998-03-31","1999-03-31","2000-03-31","2001-03-31","2002-03-31","2003-03-31","2004-03-31","2005-03-31","2006-03-31","2007-03-31","2008-03-31","2009-03-31","2010-03-31","2011-03-31","2012-03-31","2013-03-31","2014-03-31","2015-03-31","2016-03-31","2017-03-31","2018-03-31","2019-03-31","2020-03-31","2021-03-31"]
[]
[null,"Fuel Poor RAV"]
[]
[null,null,"Exported values"]
[]
[null,null,null,null,"Opening Cost",null,"£m 09/10 prices",null,null,">",null,null,null,null,null,null,null,null,null,null,null,null,null,null,null,null,null,null,null,{"$f":"AC14","v":0},1.9848798886734229,3.8452892344706711,6.1826177088194498,7.5472853403132101,7.5472853403132101,7.5472853403132101,7.5472853403132101,7.5472853403132101,7.5472853403132101,7.5472853403132101,7.5472853403132101]
[null,null,null,null,"Community based scheme - Actual capex",null,"£m 09/10 prices",null,null,">",null,null,null,null,null,null,null,null,null,null,null,null,null,null,null,null,null,null,{"$f":"AC49+AC77+AC105+AC133+AC161","v":0},{"$f":"AD49+AD77+AD105+AD133+AD161","v":0.43814887890642806},0.60252655168967606,1.3727027465475992,1.36466763149376,0,0,0,0,0,0,0,0]
[null,null,null,null,"Community based scheme - Additional customer discount",null,"£m 09/10 prices",null,null,">",null,null,null,null,null,null,null,null,null,null,null,null,null,null,null,null,null,null,{"$f":"AC50+AC78+AC106+AC134+AC162","v":0},{"$f":"AD50+AD78+AD106+AD134+AD162","v":0},0,0,0,0,0,0,0,0,0,0,0]
[null,null,null,null,"One off schemes - Actual capex",null,"£m 09/10 prices",null,null,">",null,null,null,null,null,null,null,null,null,null,null,null,null,null,null,null,null,null,{"$f":"AC51+AC79+AC107+AC135+AC163","v":0},{"$f":"AD51+AD79+AD107+AD135+AD163","v":1.5467310097669948},{"$f":"AE51+AE79+AE107+AE135+AE163","v":1.2578827941075721},0.96462572780117928,0,0,0,0,0,0,0,0,0]
[null,null,null,null,"Closing Cost",null,"£m 09/10 prices",null,null,">",null,null,null,null,null,null,null,null,null,null,null,null,null,null,null,null,null,null,{"$f":"SUM(AC10:AC13)","v":0},{"$f":"SUM(AD10:AD13)","v":1.9848798886734229},{"$f":"SUM(AE10:AE13)","v":3.8452892344706711},6.1826177088194498,7.5472853403132101,7.5472853403132101,7.5472853403132101,7.5472853403132101,7.5472853403132101,7.5472853403132101,7.5472853403132101,7.5472853403132101,7.5472853403132101]
[]
[null,null,null,null,"Opening Depreciation",null,"£m 09/10 prices",null,null,">",null,null,null,null,null,null,null,null,null,null,null,null,null,null,null,null,null,null,null,{"$f":"AC20","v":0},{"$f":"AD20","v":0},8.6299125594496637E-2,0.25156785570319884,0.51474430765849466,0.83128059121610909,1.1405248116429862,1.4424769689391259,1.737137063104528,2.0245050941391929,2.3045810620431202,2.5773649668163103]
[null,null,null,null,"Depreciation Community based scheme - Actual capex",null,"£m 09/10 prices",null,null,">",null,null,null,null,null,null,null,null,null,null,null,null,null,null,null,null,null,null,{"$f":"AC57 + AC85 + AC113 + AC141 + AC169","v":0},{"$f":"AD57 + AD85 + AD113 + AD141 + AD169","v":0},1.9049951256801218E-2,{"$f":"AF57 + AF85 + AF113 + AF141 + AF169","v":4.4823425601853387E-2},0.10350067020479625,0.16050227913240542,0.15685199332695859,0.15320170752151177,0.14955142171606495,0.14590113591061815,0.1422508501051713,0.13860056429972448,0.13495027849427765]
[null,null,null,null,"Depreciation Community based scheme - Additional customer discount",null,"£m 09/10 prices",null,null,">",null,null,null,null,null,null,null,null,null,null,null,null,null,null,null,null,null,null,{"$f":"AC58 + AC86 + AC114 + AC142 + AC170","v":0},0,0,0,0,0,{"$f":"AI58 + AI86 + AI114 + AI142 + AI170","v":0},0,0,0,0,0,0]
[null,null,null,null,"Depreciation One off schemes - Actual capex",null,"£m 09/10 prices",null,null,">",null,null,null,null,null,null,null,null,null,null,null,null,null,null,null,null,null,null,0,0,6.7249174337695422E-2,0.12044530450684879,0.15967578175049954,0.15603400442520896,0.1523922270999184,0.14875044977462781,0.14510867244933723,0.14146689512404664,0.13782511779875606,0.1341833404734655,0.13054156314817494]
[null,null,null,null,"Closing depreciation",null,"£m 09/10 prices",null,null,">",null,null,null,null,null,null,null,null,null,null,null,null,null,null,null,null,null,null,{"$f":"SUM(AC16:AC19)","v":0},{"$f":"SUM(AD16:AD19)","v":0},{"$f":"SUM(AE16:AE19)","v":8.6299125594496637E-2},0.25156785570319884,0.51474430765849466,0.83128059121610909,1.1405248116429862,1.4424769689391259,1.737137063104528,2.0245050941391929,2.3045810620431202,2.5773649668163103,2.8428568084587629]
[]
[null,null,null,null,"Net value after regulatory depreciation",null,"£m 09/10 prices",null,null,">",null,null,null,null,null,null,null,null,null,null,null,null,null,null,null,null,null,null,{"$f":"AC14 - AC20","v":0},{"$f":"AD14 - AD20","v":1.9848798886734229},3.7589901088761746,5.9310498531162512,7.0325410326547155,6.7160047490971007,6.4067605286702243,6.1048083713740837,5.8101482772086825,5.5227802461740172,5.2427042782700894,4.9699203734968993,4.7044285318544468]
[]
[null,null,"Fuel poor additions to RAV"]
[]
[null,null,null,null,"NPV of future transportation revenue",null,"£m 09/10 prices",null,null,">",null,null,null,null,null,null,null,null,null,null,null,null,null,null,null,null,null,null,{"$f":"Input!AC206","v":0},{"$f":"Input!AD206","v":0},{"$f":"Input!AE206","v":0},{"$f":"Input!AF206","v":0},{"$f":"Input!AG206","v":0}]
[null,null,null,null,"Community based schemes actual capex spend",null,"£m 09/10 prices",null,null,">",null,null,null,null,null,null,null,null,null,null,null,null,null,null,null,null,null,null,{"$f":"Input!AC207","v":0},{"$f":"Input!AD207","v":0.43814887890642806},{"$f":"Input!AE207","v":0.60252655168967606},{"$f":"Input!AF207","v":1.3727027465475992},{"$f":"Input!AG207","v":1.36466763149376}]
[null,null,null,null,"Community based schemes additional customer discount",null,"£m 09/10 prices",null,null,">",null,null,null,null,null,null,null,null,null,null,null,null,null,null,null,null,null,null,{"$f":"IF(AC26>=AC27,AC26-AC27,0)","v":0},{"$f":"IF(AD26>=AD27,AD26-AD27,0)","v":0},{"$f":"IF(AE26>=AE27,AE26-AE27,0)","v":0},{"$f":"IF(AF26>=AF27,AF26-AF27,0)","v":0},{"$f":"IF(AG26>=AG27,AG26-AG27,0)","v":0}]
[null,null,null,null,"One off schemes actual capex spend",null,"£m 09/10 prices",null,null,">",null,null,null,null,null,null,null,null,null,null,null,null,null,null,null,null,null,null,{"$f":"Input!AC209","v":0},{"$f":"Input!AD209","v":1.5467310097669948},{"$f":"Input!AE209","v":1.2578827941075721},{"$f":"Input!AF209","v":0.96462572780117928},{"$f":"Input!AG209","v":0}]
[]
[null,null,"Common inputs"]
[]
[null,null,null,null,"Pre-vesting asset life",null,"years",null,{"$f":"Input!I203","v":45}]
[null,null,null,null,"Sum of digits",null,"integer",null,{"$f":"I33 * (1 + I33) / 2","v":1035}]
[]
[null,null,null,null,"Years additional customer discount applied",null,"years",null,{"$f":"Input!I204","v":5}]
[]
[null,"2009 Schemes"]
[]
[null,null,"Input"]
[]
[null,null,null,null,"Scheme year",null,"year ending",null,"2009-03-31"]
[]
[null,null,"RAV"]
[]
[null,null,null,"Cost"]
[]
[null,null,null,null,"Opening balance brought forward",null,"£m 09/10 prices",null,null,">",null,null,null,null,null,null,null,null,null,null,null,null,null,null,null,null,null,null,null,{"$f":"AC52","v":0},{"$f":"AD52","v":0},0,0,0,0,0,0,0,0,0,0]
[null,null,null,null,"Community based scheme - Actual capex",null,"£m 09/10 prices",null,null,">",null,null,null,null,null,null,null,null,null,null,null,null,null,null,null,null,null,null,{"$f":"IF($I42 = AC$4, AC$27, 0)","v":0},0,0,0,0,0,0,0,0,0,0,0,0]
[null,null,null,null,"Community based scheme - Additional customer discount",null,"£m 09/10 prices",null,null,">",null,null,null,null,null,null,null,null,null,null,null,null,null,null,null,null,null,null,{"$f":"IF($I42 = AC$4, AC$28, 0)","v":0},0,0,0,0,0,0,0,0,0,0,0,0]
[null,null,null,null,"One off schemes - Actual capex",null,"£m 09/10 prices",null,null,">",null,null,null,null,null,null,null,null,null,null,null,null,null,null,null,null,null,null,{"$f":"IF($I42 = AC$4, AC$29, 0)","v":0},0,0,0,0,0,0,0,0,0,0,0,0]
[null,null,null,null,"Balance carried forward",null,"£m 09/10 prices",null,null,">",null,null,null,null,null,null,null,null,null,null,null,null,null,null,null,null,null,null,{"$f":"SUM(AC48:AC51)","v":0},0,0,0,0,0,0,0,0,0,0,0,0]
[]
[null,null,null,"Depreciation"]
[]
[null,null,null,null,"Opening balance brought forward",null,"£m 09/10 prices",null,null,">",null,null,null,null,null,null,null,null,null,null,null,null,null,null,null,null,null,null,null,{"$f":"AC60","v":0},{"$f":"AD60","v":0},{"$f":"AE60","v":0},0,0,0,0,0,0,0,0,0]
[null,null,null,null,"Community based scheme - Actual capex",null,"£m 09/10 prices",null,null,">",null,null,null,null,null,null,null,null,null,null,null,null,null,null,null,null,null,null,{"$f":"SUM(AB49:$AB49)*($I$33-(YEAR(AC$4) - YEAR($I42)) + 1)/$I$34","v":0},{"$f":"SUM($AB49:AC49)*($I$33-(YEAR(AD$4) - YEAR($I42)) + 1)/$I$34","v":0},{"$f":"SUM($AB49:AD49)*($I$33-(YEAR(AE$4) - YEAR($I42)) + 1)/$I$34","v":0},{"$f":"SUM($AB49:AE49)*($I$33-(YEAR(AF$4) - YEAR($I42)) + 1)/$I$34","v":0},{"$f":"SUM($AB49:AF49)*($I$33-(YEAR(AG$4) - YEAR($I42)) + 1)/$I$34","v":0},{"$f":"SUM($AB49:AG49)*($I$33-(YEAR(AH$4) - YEAR($I42)) + 1)/$I$34","v":0},{"$f":"SUM($AB49:AH49)*($I$33-(YEAR(AI$4) - YEAR($I42)) + 1)/$I$34","v":0},{"$f":"SUM($AB49:AI49)*($I$33-(YEAR(AJ$4) - YEAR($I42)) + 1)/$I$34","v":0},{"$f":"SUM($AB49:AJ49)*($I$33-(YEAR(AK$4) - YEAR($I42)) + 1)/$I$34","v":0},{"$f":"SUM($AB49:AK49)*($I$33-(YEAR(AL$4) - YEAR($I42)) + 1)/$I$34","v":0},{"$f":"SUM($AB49:AL49)*($I$33-(YEAR(AM$4) - YEAR($I42)) + 1)/$I$34","v":0},{"$f":"SUM($AB49:AM49)*($I$33-(YEAR(AN$4) - YEAR($I42)) + 1)/$I$34","v":0},{"$f":"SUM($AB49:AN49)*($I$33-(YEAR(AO$4) - YEAR($I42)) + 1)/$I$34","v":0}]
[null,null,null,null,"Community based scheme - Additional customer discount",null,"£m 09/10 prices",null,null,">",null,null,null,null,null,null,null,null,null,null,null,null,null,null,null,null,null,null,{"$f":" IF(YEAR(AC$4) - YEAR($I42) <= $I$36, SUM(AB50:$AB50) / $I$36, 0)","v":0},{"$f":" IF(YEAR(AD$4) - YEAR($I42) <= $I$36, SUM($AB50:AC50) / $I$36, 0)","v":0},{"$f":" IF(YEAR(AE$4) - YEAR($I42) <= $I$36, SUM($AB50:AD50) / $I$36, 0)","v":0},{"$f":" IF(YEAR(AF$4) - YEAR($I42) <= $I$36, SUM($AB50:AE50) / $I$36, 0)","v":0},{"$f":" IF(YEAR(AG$4) - YEAR($I42) <= $I$36, SUM($AB50:AF50) / $I$36, 0)","v":0},{"$f":" IF(YEAR(AH$4) - YEAR($I42) <= $I$36, SUM($AB50:AG50) / $I$36, 0)","v":0},{"$f":" IF(YEAR(AI$4) - YEAR($I42) <= $I$36, SUM($AB50:AH50) / $I$36, 0)","v":0},{"$f":" IF(YEAR(AJ$4) - YEAR($I42) <= $I$36, SUM($AB50:AI50) / $I$36, 0)","v":0},{"$f":" IF(YEAR(AK$4) - YEAR($I42) <= $I$36, SUM($AB50:AJ50) / $I$36, 0)","v":0},{"$f":" IF(YEAR(AL$4) - YEAR($I42) <= $I$36, SUM($AB50:AK50) / $I$36, 0)","v":0},{"$f":" IF(YEAR(AM$4) - YEAR($I42) <= $I$36, SUM($AB50:AL50) / $I$36, 0)","v":0},{"$f":" IF(YEAR(AN$4) - YEAR($I42) <= $I$36, SUM($AB50:AM50) / $I$36, 0)","v":0},{"$f":" IF(YEAR(AO$4) - YEAR($I42) <= $I$36, SUM($AB50:AN50) / $I$36, 0)","v":0}]
[null,null,null,null,"One off schemes - Actual capex",null,"£m 09/10 prices",null,null,">",null,null,null,null,null,null,null,null,null,null,null,null,null,null,null,null,null,null,{"$f":"SUM(AB51:$AB51)*($I$33-(YEAR(AC$4) - YEAR($I42)) + 1)/$I$34","v":0},{"$f":"SUM($AB51:AC51)*($I$33-(YEAR(AD$4) - YEAR($I42)) + 1)/$I$34","v":0},{"$f":"SUM($AB51:AD51)*($I$33-(YEAR(AE$4) - YEAR($I42)) + 1)/$I$34","v":0},{"$f":"SUM($AB51:AE51)*($I$33-(YEAR(AF$4) - YEAR($I42)) + 1)/$I$34","v":0},{"$f":"SUM($AB51:AF51)*($I$33-(YEAR(AG$4) - YEAR($I42)) + 1)/$I$34","v":0},{"$f":"SUM($AB51:AG51)*($I$33-(YEAR(AH$4) - YEAR($I42)) + 1)/$I$34","v":0},{"$f":"SUM($AB51:AH51)*($I$33-(YEAR(AI$4) - YEAR($I42)) + 1)/$I$34","v":0},{"$f":"SUM($AB51:AI51)*($I$33-(YEAR(AJ$4) - YEAR($I42)) + 1)/$I$34","v":0},{"$f":"SUM($AB51:AJ51)*($I$33-(YEAR(AK$4) - YEAR($I42)) + 1)/$I$34","v":0},{"$f":"SUM($AB51:AK51)*($I$33-(YEAR(AL$4) - YEAR($I42)) + 1)/$I$34","v":0},{"$f":"SUM($AB51:AL51)*($I$33-(YEAR(AM$4) - YEAR($I42)) + 1)/$I$34","v":0},{"$f":"SUM($AB51:AM51)*($I$33-(YEAR(AN$4) - YEAR($I42)) + 1)/$I$34","v":0},{"$f":"SUM($AB51:AN51)*($I$33-(YEAR(AO$4) - YEAR($I42)) + 1)/$I$34","v":0}]
[null,null,null,null,"Closing value carried forward",null,"£m 09/10 prices",null,null,">",null,null,null,null,null,null,null,null,null,null,null,null,null,null,null,null,null,null,{"$f":"SUM(AC56:AC59)","v":0},0,0,0,0,0,0,0,0,0,0,0,0]
[]
[null,null,null,"Net value after regulatory depreciation"]
[]
[null,null,null,null,"Net value after regulatory depreciation",null,"£m 09/10 prices",null,null,">",null,null,null,null,null,null,null,null,null,null,null,null,null,null,null,null,null,null,{"$f":"AC52-AC60","v":0},{"$f":"AD52-AD60","v":0},0,0,0,0,0,0,0,0,0,0,0]
[]
[null,"2010 Schemes"]
[]
[null,null,"Input"]
[]
[null,null,null,null,"Scheme year",null,"year ending",null,"2010-03-31"]
[]
[null,null,"RAV"]
[]
[null,null,null,"Cost"]
[]
[null,null,null,null,"Opening balance brought forward",null,"£m 09/10 prices",null,null,">",null,null,null,null,null,null,null,null,null,null,null,null,null,null,null,null,null,null,null,{"$f":"AC80","v":0},{"$f":"AD80","v":1.9848798886734229},1.9848798886734229,1.9848798886734229,1.9848798886734229,1.9848798886734229,1.9848798886734229,1.9848798886734229,1.9848798886734229,1.9848798886734229,1.9848798886734229,1.9848798886734229]
[null,null,null,null,"Community based scheme - Actual capex",null,"£m 09/10 prices",null,null,">",null,null,null,null,null,null,null,null,null,null,null,null,null,null,null,null,null,null,{"$f":"IF($I70 = AC$4, AC$27, 0)","v":0},0.43814887890642806,0,0,0,0,0,0,0,0,0,0,0]
[null,null,null,null,"Community based scheme - Additional customer discount",null,"£m 09/10 prices",null,null,">",null,null,null,null,null,null,null,null,null,null,null,null,null,null,null,null,null,null,{"$f":"IF($I70 = AC$4, AC$28, 0)","v":0},0,0,0,0,0,0,0,0,0,0,0,0]
[null,null,null,null,"One off schemes - Actual capex",null,"£m 09/10 prices",null,null,">",null,null,null,null,null,null,null,null,null,null,null,null,null,null,null,null,null,null,{"$f":"IF($I70 = AC$4, AC$29, 0)","v":0},{"$f":"IF($I70 = AD$4, AD$29, 0)","v":1.5467310097669948},0,0,0,0,0,0,0,0,0,0,0]
[null,null,null,null,"Balance carried forward",null,"£m 09/10 prices",null,null,">",null,null,null,null,null,null,null,null,null,null,null,null,null,null,null,null,null,null,{"$f":"SUM(AC76:AC79)","v":0},1.9848798886734229,1.9848798886734229,1.9848798886734229,1.9848798886734229,1.9848798886734229,1.9848798886734229,1.9848798886734229,1.9848798886734229,1.9848798886734229,1.9848798886734229,1.9848798886734229,1.9848798886734229]
[]
[null,null,null,"Depreciation"]
[]
[null,null,null,null,"Opening balance brought forward",null,"£m 09/10 prices",null,null,">",null,null,null,null,null,null,null,null,null,null,null,null,null,null,null,null,null,null,null,{"$f":"AC88","v":0},{"$f":"AD88","v":0},{"$f":"AE88","v":8.6299125594496637E-2},0.17068049284244891,0.25314410174385682,0.33368995229872034,0.41231804450703952,0.4890283783688143,0.56382095388404474,0.63669577105273079,0.70765282987487244,0.7766921303504698]
[null,null,null,null,"Community based scheme - Actual capex",null,"£m 09/10 prices",null,null,">",null,null,null,null,null,null,null,null,null,null,null,null,null,null,null,null,null,null,{"$f":"SUM(AB77:$AB77)*($I$33-(YEAR(AC$4) - YEAR($I70)) + 1)/$I$34","v":0},{"$f":"SUM($AB77:AC77)*($I$33-(YEAR(AD$4) - YEAR($I70)) + 1)/$I$34","v":0},{"$f":"SUM($AB77:AD77)*($I$33-(YEAR(AE$4) - YEAR($I70)) + 1)/$I$34","v":1.9049951256801218E-2},{"$f":"SUM($AB77:AE77)*($I$33-(YEAR(AF$4) - YEAR($I70)) + 1)/$I$34","v":1.862661900665008E-2},{"$f":"SUM($AB77:AF77)*($I$33-(YEAR(AG$4) - YEAR($I70)) + 1)/$I$34","v":1.8203286756498946E-2},{"$f":"SUM($AB77:AG77)*($I$33-(YEAR(AH$4) - YEAR($I70)) + 1)/$I$34","v":1.7779954506347808E-2},{"$f":"SUM($AB77:AH77)*($I$33-(YEAR(AI$4) - YEAR($I70)) + 1)/$I$34","v":1.7356622256196667E-2},{"$f":"SUM($AB77:AI77)*($I$33-(YEAR(AJ$4) - YEAR($I70)) + 1)/$I$34","v":1.6933290006045529E-2},{"$f":"SUM($AB77:AJ77)*($I$33-(YEAR(AK$4) - YEAR($I70)) + 1)/$I$34","v":1.6509957755894391E-2},{"$f":"SUM($AB77:AK77)*($I$33-(YEAR(AL$4) - YEAR($I70)) + 1)/$I$34","v":1.6086625505743253E-2},{"$f":"SUM($AB77:AL77)*($I$33-(YEAR(AM$4) - YEAR($I70)) + 1)/$I$34","v":1.5663293255592112E-2},{"$f":"SUM($AB77:AM77)*($I$33-(YEAR(AN$4) - YEAR($I70)) + 1)/$I$34","v":1.5239961005440976E-2},{"$f":"SUM($AB77:AN77)*($I$33-(YEAR(AO$4) - YEAR($I70)) + 1)/$I$34","v":1.4816628755289838E-2}]
[null,null,null,null,"Community based scheme - Additional customer discount",null,"£m 09/10 prices",null,null,">",null,null,null,null,null,null,null,null,null,null,null,null,null,null,null,null,null,null,{"$f":" IF(YEAR(AC$4) - YEAR($I70) <= $I$36, SUM(AB78:$AB78) / $I$36, 0)","v":0},{"$f":" IF(YEAR(AD$4) - YEAR($I70) <= $I$36, SUM($AB78:AC78) / $I$36, 0)","v":0},{"$f":" IF(YEAR(AE$4) - YEAR($I70) <= $I$36, SUM($AB78:AD78) / $I$36, 0)","v":0},{"$f":" IF(YEAR(AF$4) - YEAR($I70) <= $I$36, SUM($AB78:AE78) / $I$36, 0)","v":0},{"$f":" IF(YEAR(AG$4) - YEAR($I70) <= $I$36, SUM($AB78:AF78) / $I$36, 0)","v":0},{"$f":" IF(YEAR(AH$4) - YEAR($I70) <= $I$36, SUM($AB78:AG78) / $I$36, 0)","v":0},{"$f":" IF(YEAR(AI$4) - YEAR($I70) <= $I$36, SUM($AB78:AH78) / $I$36, 0)","v":0},{"$f":" IF(YEAR(AJ$4) - YEAR($I70) <= $I$36, SUM($AB78:AI78) / $I$36, 0)","v":0},{"$f":" IF(YEAR(AK$4) - YEAR($I70) <= $I$36, SUM($AB78:AJ78) / $I$36, 0)","v":0},{"$f":" IF(YEAR(AL$4) - YEAR($I70) <= $I$36, SUM($AB78:AK78) / $I$36, 0)","v":0},{"$f":" IF(YEAR(AM$4) - YEAR($I70) <= $I$36, SUM($AB78:AL78) / $I$36, 0)","v":0},{"$f":" IF(YEAR(AN$4) - YEAR($I70) <= $I$36, SUM($AB78:AM78) / $I$36, 0)","v":0},{"$f":" IF(YEAR(AO$4) - YEAR($I70) <= $I$36, SUM($AB78:AN78) / $I$36, 0)","v":0}]
[null,null,null,null,"One off schemes - Actual capex",null,"£m 09/10 prices",null,null,">",null,null,null,null,null,null,null,null,null,null,null,null,null,null,null,null,null,null,{"$f":"SUM(AB79:$AB79)*($I$33-(YEAR(AC$4) - YEAR($I70)) + 1)/$I$34","v":0},{"$f":"SUM($AB79:AC79)*($I$33-(YEAR(AD$4) - YEAR($I70)) + 1)/$I$34","v":0},{"$f":"SUM($AB79:AD79)*($I$33-(YEAR(AE$4) - YEAR($I70)) + 1)/$I$34","v":6.7249174337695422E-2},{"$f":"SUM($AB79:AE79)*($I$33-(YEAR(AF$4) - YEAR($I70)) + 1)/$I$34","v":6.5754748241302188E-2},{"$f":"SUM($AB79:AF79)*($I$33-(YEAR(AG$4) - YEAR($I70)) + 1)/$I$34","v":6.4260322144908968E-2},{"$f":"SUM($AB79:AG79)*($I$33-(YEAR(AH$4) - YEAR($I70)) + 1)/$I$34","v":6.2765896048515735E-2},{"$f":"SUM($AB79:AH79)*($I$33-(YEAR(AI$4) - YEAR($I70)) + 1)/$I$34","v":6.1271469952122501E-2},{"$f":"SUM($AB79:AI79)*($I$33-(YEAR(AJ$4) - YEAR($I70)) + 1)/$I$34","v":5.9777043855729267E-2},{"$f":"SUM($AB79:AJ79)*($I$33-(YEAR(AK$4) - YEAR($I70)) + 1)/$I$34","v":5.828261775933604E-2},{"$f":"SUM($AB79:AK79)*($I$33-(YEAR(AL$4) - YEAR($I70)) + 1)/$I$34","v":5.6788191662942807E-2},{"$f":"SUM($AB79:AL79)*($I$33-(YEAR(AM$4) - YEAR($I70)) + 1)/$I$34","v":5.5293765566549573E-2},{"$f":"SUM($AB79:AM79)*($I$33-(YEAR(AN$4) - YEAR($I70)) + 1)/$I$34","v":5.3799339470156346E-2},{"$f":"SUM($AB79:AN79)*($I$33-(YEAR(AO$4) - YEAR($I70)) + 1)/$I$34","v":5.2304913373763105E-2}]
[null,null,null,null,"Closing value carried forward",null,"£m 09/10 prices",null,null,">",null,null,null,null,null,null,null,null,null,null,null,null,null,null,null,null,null,null,{"$f":"SUM(AC84:AC87)","v":0},0,8.6299125594496637E-2,0.17068049284244891,0.25314410174385682,0.33368995229872034,0.41231804450703952,0.4890283783688143,0.56382095388404474,0.63669577105273079,0.70765282987487244,0.7766921303504698,0.84381367247952277]
[]
[null,null,null,"Net value after regulatory depreciation"]
[]
[null,null,null,null,"Net value after regulatory depreciation",null,"£m 09/10 prices",null,null,">",null,null,null,null,null,null,null,null,null,null,null,null,null,null,null,null,null,null,{"$f":"AC80-AC88","v":0},{"$f":"AD80-AD88","v":1.9848798886734229},1.8985807630789262,1.8141993958309741,1.731735786929566,1.6511899363747027,1.5725618441663833,1.4958515103046086,1.4210589347893783,1.3481841176206921,1.2772270587985504,1.208187758322953,1.1410662161939]
[]
[null,"2011 Schemes"]
[]
[null,null,"Input"]
[]
[null,null,null,null,"Scheme year",null,"year ending",null,"2011-03-31"]
[]
[null,null,"RAV"]
[]
[null,null,null,"Cost"]
[]
[null,null,null,null,"Opening balance brought forward",null,"£m 09/10 prices",null,null,">",null,null,null,null,null,null,null,null,null,null,null,null,null,null,null,null,null,null,null,{"$f":"AC108","v":0},{"$f":"AD108","v":0},1.8604093457972481,1.8604093457972481,1.8604093457972481,1.8604093457972481,1.8604093457972481,1.8604093457972481,1.8604093457972481,1.8604093457972481,1.8604093457972481,1.8604093457972481]
[null,null,null,null,"Community based scheme - Actual capex",null,"£m 09/10 prices",null,null,">",null,null,null,null,null,null,null,null,null,null,null,null,null,null,null,null,null,null,{"$f":"IF($I98 = AC$4, AC$27, 0)","v":0},0,0.60252655168967606,0,0,0,0,0,0,0,0,0,0]
[null,null,null,null,"Community based scheme - Additional customer discount",null,"£m 09/10 prices",null,null,">",null,null,null,null,null,null,null,null,null,null,null,null,null,null,null,null,null,null,{"$f":"IF($I98 = AC$4, AC$28, 0)","v":0},0,0,0,0,0,0,0,0,0,0,0,0]
[null,null,null,null,"One off schemes - Actual capex",null,"£m 09/10 prices",null,null,">",null,null,null,null,null,null,null,null,null,null,null,null,null,null,null,null,null,null,{"$f":"IF($I98 = AC$4, AC$29, 0)","v":0},0,1.2578827941075721,0,0,0,0,0,0,0,0,0,0]
[null,null,null,null,"Balance carried forward",null,"£m 09/10 prices",null,null,">",null,null,null,null,null,null,null,null,null,null,null,null,null,null,null,null,null,null,{"$f":"SUM(AC104:AC107)","v":0},0,1.8604093457972481,1.8604093457972481,1.8604093457972481,1.8604093457972481,1.8604093457972481,1.8604093457972481,1.8604093457972481,1.8604093457972481,1.8604093457972481,1.8604093457972481,1.8604093457972481]
[]
[null,null,null,"Depreciation"]
[]
[null,null,null,null,"Opening balance brought forward",null,"£m 09/10 prices",null,null,">",null,null,null,null,null,null,null,null,null,null,null,null,null,null,null,null,null,null,null,{"$f":"AC116","v":0},{"$f":"AD116","v":0},{"$f":"AE116","v":0},8.0887362860749906E-2,0.15997722876903872,0.23726959772486642,0.31276446972823302,0.38646184477913853,0.45836172287758292,0.52846410402356614,0.59676898821708824,0.66327637545814933]
[null,null,null,null,"Community based scheme - Actual capex",null,"£m 09/10 prices",null,null,">",null,null,null,null,null,null,null,null,null,null,null,null,null,null,null,null,null,null,{"$f":"SUM(AB105:$AB105)*($I$33-(YEAR(AC$4) - YEAR($I98)) + 1)/$I$34","v":0},{"$f":"SUM($AB105:AC105)*($I$33-(YEAR(AD$4) - YEAR($I98)) + 1)/$I$34","v":0},{"$f":"SUM($AB105:AD105)*($I$33-(YEAR(AE$4) - YEAR($I98)) + 1)/$I$34","v":0},{"$f":"SUM($AB105:AE105)*($I$33-(YEAR(AF$4) - YEAR($I98)) + 1)/$I$34","v":2.6196806595203306E-2},{"$f":"SUM($AB105:AF105)*($I$33-(YEAR(AG$4) - YEAR($I98)) + 1)/$I$34","v":2.561465533753212E-2},{"$f":"SUM($AB105:AG105)*($I$33-(YEAR(AH$4) - YEAR($I98)) + 1)/$I$34","v":2.5032504079860938E-2},{"$f":"SUM($AB105:AH105)*($I$33-(YEAR(AI$4) - YEAR($I98)) + 1)/$I$34","v":2.4450352822189752E-2},{"$f":"SUM($AB105:AI105)*($I$33-(YEAR(AJ$4) - YEAR($I98)) + 1)/$I$34","v":2.3868201564518569E-2},{"$f":"SUM($AB105:AJ105)*($I$33-(YEAR(AK$4) - YEAR($I98)) + 1)/$I$34","v":2.3286050306847387E-2},{"$f":"SUM($AB105:AK105)*($I$33-(YEAR(AL$4) - YEAR($I98)) + 1)/$I$34","v":2.2703899049176197E-2},{"$f":"SUM($AB105:AL105)*($I$33-(YEAR(AM$4) - YEAR($I98)) + 1)/$I$34","v":2.2121747791505015E-2},{"$f":"SUM($AB105:AM105)*($I$33-(YEAR(AN$4) - YEAR($I98)) + 1)/$I$34","v":2.1539596533833829E-2},{"$f":"SUM($AB105:AN105)*($I$33-(YEAR(AO$4) - YEAR($I98)) + 1)/$I$34","v":2.0957445276162646E-2}]
[null,null,null,null,"Community based scheme - Additional customer discount",null,"£m 09/10 prices",null,null,">",null,null,null,null,null,null,null,null,null,null,null,null,null,null,null,null,null,null,{"$f":" IF(YEAR(AC$4) - YEAR($I98) <= $I$36, SUM(AB106:$AB106) / $I$36, 0)","v":0},{"$f":" IF(YEAR(AD$4) - YEAR($I98) <= $I$36, SUM($AB106:AC106) / $I$36, 0)","v":0},{"$f":" IF(YEAR(AE$4) - YEAR($I98) <= $I$36, SUM($AB106:AD106) / $I$36, 0)","v":0},{"$f":" IF(YEAR(AF$4) - YEAR($I98) <= $I$36, SUM($AB106:AE106) / $I$36, 0)","v":0},{"$f":" IF(YEAR(AG$4) - YEAR($I98) <= $I$36, SUM($AB106:AF106) / $I$36, 0)","v":0},{"$f":" IF(YEAR(AH$4) - YEAR($I98) <= $I$36, SUM($AB106:AG106) / $I$36, 0)","v":0},{"$f":" IF(YEAR(AI$4) - YEAR($I98) <= $I$36, SUM($AB106:AH106) / $I$36, 0)","v":0},{"$f":" IF(YEAR(AJ$4) - YEAR($I98) <= $I$36, SUM($AB106:AI106) / $I$36, 0)","v":0},{"$f":" IF(YEAR(AK$4) - YEAR($I98) <= $I$36, SUM($AB106:AJ106) / $I$36, 0)","v":0},{"$f":" IF(YEAR(AL$4) - YEAR($I98) <= $I$36, SUM($AB106:AK106) / $I$36, 0)","v":0},{"$f":" IF(YEAR(AM$4) - YEAR($I98) <= $I$36, SUM($AB106:AL106) / $I$36, 0)","v":0},{"$f":" IF(YEAR(AN$4) - YEAR($I98) <= $I$36, SUM($AB106:AM106) / $I$36, 0)","v":0},{"$f":" IF(YEAR(AO$4) - YEAR($I98) <= $I$36, SUM($AB106:AN106) / $I$36, 0)","v":0}]
[null,null,null,null,"One off schemes - Actual capex",null,"£m 09/10 prices",null,null,">",null,null,null,null,null,null,null,null,null,null,null,null,null,null,null,null,null,null,{"$f":"SUM(AB107:$AB107)*($I$33-(YEAR(AC$4) - YEAR($I98)) + 1)/$I$34","v":0},{"$f":"SUM($AB107:AC107)*($I$33-(YEAR(AD$4) - YEAR($I98)) + 1)/$I$34","v":0},{"$f":"SUM($AB107:AD107)*($I$33-(YEAR(AE$4) - YEAR($I98)) + 1)/$I$34","v":0},{"$f":"SUM($AB107:AE107)*($I$33-(YEAR(AF$4) - YEAR($I98)) + 1)/$I$34","v":5.4690556265546607E-2},{"$f":"SUM($AB107:AF107)*($I$33-(YEAR(AG$4) - YEAR($I98)) + 1)/$I$34","v":5.3475210570756687E-2},{"$f":"SUM($AB107:AG107)*($I$33-(YEAR(AH$4) - YEAR($I98)) + 1)/$I$34","v":5.2259864875966767E-2},{"$f":"SUM($AB107:AH107)*($I$33-(YEAR(AI$4) - YEAR($I98)) + 1)/$I$34","v":5.1044519181176841E-2},{"$f":"SUM($AB107:AI107)*($I$33-(YEAR(AJ$4) - YEAR($I98)) + 1)/$I$34","v":4.9829173486386914E-2},{"$f":"SUM($AB107:AJ107)*($I$33-(YEAR(AK$4) - YEAR($I98)) + 1)/$I$34","v":4.8613827791596988E-2},{"$f":"SUM($AB107:AK107)*($I$33-(YEAR(AL$4) - YEAR($I98)) + 1)/$I$34","v":4.7398482096807061E-2},{"$f":"SUM($AB107:AL107)*($I$33-(YEAR(AM$4) - YEAR($I98)) + 1)/$I$34","v":4.6183136402017134E-2},{"$f":"SUM($AB107:AM107)*($I$33-(YEAR(AN$4) - YEAR($I98)) + 1)/$I$34","v":4.4967790707227215E-2},{"$f":"SUM($AB107:AN107)*($I$33-(YEAR(AO$4) - YEAR($I98)) + 1)/$I$34","v":4.3752445012437295E-2}]
[null,null,null,null,"Closing value carried forward",null,"£m 09/10 prices",null,null,">",null,null,null,null,null,null,null,null,null,null,null,null,null,null,null,null,null,null,{"$f":"SUM(AC112:AC115)","v":0},0,0,8.0887362860749906E-2,0.15997722876903872,0.23726959772486642,0.31276446972823302,0.38646184477913853,0.45836172287758292,0.52846410402356614,0.59676898821708824,0.66327637545814933,0.72798626574674918]
[]
[null,null,null,"Net value after regulatory depreciation"]
[]
[null,null,null,null,"Net value after regulatory depreciation",null,"£m 09/10 prices",null,null,">",null,null,null,null,null,null,null,null,null,null,null,null,null,null,null,null,null,null,{"$f":"AC108-AC116","v":0},{"$f":"AD108-AD116","v":0},1.8604093457972481,1.7795219829364983,1.7004321170282095,1.6231397480723817,1.5476448760690151,1.4739475010181096,1.4020476229196652,1.3319452417736821,1.2636403575801598,1.1971329703390987,1.1324230800504989]
[]
[null,"2012 Schemes"]
[]
[null,null,"Input"]
[]
[null,null,null,null,"Scheme year",null,"year ending",null,"2012-03-31"]
[]
[null,null,"RAV"]
[]
[null,null,null,"Cost"]
[]
[null,null,null,null,"Opening balance brought forward",null,"£m 09/10 prices",null,null,">",null,null,null,null,null,null,null,null,null,null,null,null,null,null,null,null,null,null,null,{"$f":"AC136","v":0},{"$f":"AD136","v":0},0,2.3373284743487783,2.3373284743487783,2.3373284743487783,2.3373284743487783,2.3373284743487783,2.3373284743487783,2.3373284743487783,2.3373284743487783,2.3373284743487783]
[null,null,null,null,"Community based scheme - Actual capex",null,"£m 09/10 prices",null,null,">",null,null,null,null,null,null,null,null,null,null,null,null,null,null,null,null,null,null,{"$f":"IF($I126 = AC$4, AC$27, 0)","v":0},0,0,1.3727027465475992,0,0,0,0,0,0,0,0,0]
[null,null,null,null,"Community based scheme - Additional customer discount",null,"£m 09/10 prices",null,null,">",null,null,null,null,null,null,null,null,null,null,null,null,null,null,null,null,null,null,{"$f":"IF($I126 = AC$4, AC$28, 0)","v":0},0,0,{"$f":"IF($I126 = AF$4, AF$28, 0)","v":0},0,0,0,0,0,0,0,0,0]
[null,null,null,null,"One off schemes - Actual capex",null,"£m 09/10 prices",null,null,">",null,null,null,null,null,null,null,null,null,null,null,null,null,null,null,null,null,null,{"$f":"IF($I126 = AC$4, AC$29, 0)","v":0},0,0,0.96462572780117928,0,0,0,0,0,0,0,0,0]
[null,null,null,null,"Balance carried forward",null,"£m 09/10 prices",null,null,">",null,null,null,null,null,null,null,null,null,null,null,null,null,null,null,null,null,null,{"$f":"SUM(AC132:AC135)","v":0},0,0,2.3373284743487783,2.3373284743487783,2.3373284743487783,2.3373284743487783,2.3373284743487783,2.3373284743487783,2.3373284743487783,2.3373284743487783,2.3373284743487783,2.3373284743487783]
[]
[null,null,null,"Depreciation"]
[]
[null,null,null,null,"Opening balance brought forward",null,"£m 09/10 prices",null,null,">",null,null,null,null,null,null,null,null,null,null,null,null,null,null,null,null,null,null,null,{"$f":"AC144","v":0},{"$f":"AD144","v":0},{"$f":"AE144","v":0},0,0.10162297714559906,0.2009876659101848,0.29809406629375723,0.39294217829631639,0.48553200191786222,0.57586353715839467,0.66393678401791378,0.74975174249641974]
[null,null,null,null,"Community based scheme - Actual capex",null,"£m 09/10 prices",null,null,">",null,null,null,null,null,null,null,null,null,null,null,null,null,null,null,null,null,null,{"$f":"SUM(AB133:$AB133)*($I$33-(YEAR(AC$4) - YEAR($I126)) + 1)/$I$34","v":0},{"$f":"SUM($AB133:AC133)*($I$33-(YEAR(AD$4) - YEAR($I126)) + 1)/$I$34","v":0},{"$f":"SUM($AB133:AD133)*($I$33-(YEAR(AE$4) - YEAR($I126)) + 1)/$I$34","v":0},{"$f":"SUM($AB133:AE133)*($I$33-(YEAR(AF$4) - YEAR($I126)) + 1)/$I$34","v":0},{"$f":"SUM($AB133:AF133)*($I$33-(YEAR(AG$4) - YEAR($I126)) + 1)/$I$34","v":5.9682728110765186E-2},{"$f":"SUM($AB133:AG133)*($I$33-(YEAR(AH$4) - YEAR($I126)) + 1)/$I$34","v":5.8356445263859288E-2},{"$f":"SUM($AB133:AH133)*($I$33-(YEAR(AI$4) - YEAR($I126)) + 1)/$I$34","v":5.7030162416953391E-2},{"$f":"SUM($AB133:AI133)*($I$33-(YEAR(AJ$4) - YEAR($I126)) + 1)/$I$34","v":5.57038795700475E-2},{"$f":"SUM($AB133:AJ133)*($I$33-(YEAR(AK$4) - YEAR($I126)) + 1)/$I$34","v":5.4377596723141609E-2},{"$f":"SUM($AB133:AK133)*($I$33-(YEAR(AL$4) - YEAR($I126)) + 1)/$I$34","v":5.3051313876235719E-2},{"$f":"SUM($AB133:AL133)*($I$33-(YEAR(AM$4) - YEAR($I126)) + 1)/$I$34","v":5.1725031029329821E-2},{"$f":"SUM($AB133:AM133)*($I$33-(YEAR(AN$4) - YEAR($I126)) + 1)/$I$34","v":5.039874818242393E-2},{"$f":"SUM($AB133:AN133)*($I$33-(YEAR(AO$4) - YEAR($I126)) + 1)/$I$34","v":4.907246533551804E-2}]
[null,null,null,null,"Community based scheme - Additional customer discount",null,"£m 09/10 prices",null,null,">",null,null,null,null,null,null,null,null,null,null,null,null,null,null,null,null,null,null,{"$f":" IF(YEAR(AC$4) - YEAR($I126) <= $I$36, SUM(AB134:$AB134) / $I$36, 0)","v":0},{"$f":" IF(YEAR(AD$4) - YEAR($I126) <= $I$36, SUM($AB134:AC134) / $I$36, 0)","v":0},{"$f":" IF(YEAR(AE$4) - YEAR($I126) <= $I$36, SUM($AB134:AD134) / $I$36, 0)","v":0},{"$f":" IF(YEAR(AF$4) - YEAR($I126) <= $I$36, SUM($AB134:AE134) / $I$36, 0)","v":0},{"$f":" IF(YEAR(AG$4) - YEAR($I126) <= $I$36, SUM($AB134:AF134) / $I$36, 0)","v":0},{"$f":" IF(YEAR(AH$4) - YEAR($I126) <= $I$36, SUM($AB134:AG134) / $I$36, 0)","v":0},{"$f":" IF(YEAR(AI$4) - YEAR($I126) <= $I$36, SUM($AB134:AH134) / $I$36, 0)","v":0},{"$f":" IF(YEAR(AJ$4) - YEAR($I126) <= $I$36, SUM($AB134:AI134) / $I$36, 0)","v":0},{"$f":" IF(YEAR(AK$4) - YEAR($I126) <= $I$36, SUM($AB134:AJ134) / $I$36, 0)","v":0},{"$f":" IF(YEAR(AL$4) - YEAR($I126) <= $I$36, SUM($AB134:AK134) / $I$36, 0)","v":0},{"$f":" IF(YEAR(AM$4) - YEAR($I126) <= $I$36, SUM($AB134:AL134) / $I$36, 0)","v":0},{"$f":" IF(YEAR(AN$4) - YEAR($I126) <= $I$36, SUM($AB134:AM134) / $I$36, 0)","v":0},{"$f":" IF(YEAR(AO$4) - YEAR($I126) <= $I$36, SUM($AB134:AN134) / $I$36, 0)","v":0}]
[null,null,null,null,"One off schemes - Actual capex",null,"£m 09/10 prices",null,null,">",null,null,null,null,null,null,null,null,null,null,null,null,null,null,null,null,null,null,{"$f":"SUM(AB135:$AB135)*($I$33-(YEAR(AC$4) - YEAR($I126)) + 1)/$I$34","v":0},{"$f":"SUM($AB135:AC135)*($I$33-(YEAR(AD$4) - YEAR($I126)) + 1)/$I$34","v":0},{"$f":"SUM($AB135:AD135)*($I$33-(YEAR(AE$4) - YEAR($I126)) + 1)/$I$34","v":0},{"$f":"SUM($AB135:AE135)*($I$33-(YEAR(AF$4) - YEAR($I126)) + 1)/$I$34","v":0},{"$f":"SUM($AB135:AF135)*($I$33-(YEAR(AG$4) - YEAR($I126)) + 1)/$I$34","v":4.1940249034833885E-2},{"$f":"SUM($AB135:AG135)*($I$33-(YEAR(AH$4) - YEAR($I126)) + 1)/$I$34","v":4.1008243500726467E-2},{"$f":"SUM($AB135:AH135)*($I$33-(YEAR(AI$4) - YEAR($I126)) + 1)/$I$34","v":4.0076237966619042E-2},{"$f":"SUM($AB135:AI135)*($I$33-(YEAR(AJ$4) - YEAR($I126)) + 1)/$I$34","v":3.9144232432511625E-2},{"$f":"SUM($AB135:AJ135)*($I$33-(YEAR(AK$4) - YEAR($I126)) + 1)/$I$34","v":3.8212226898404207E-2},{"$f":"SUM($AB135:AK135)*($I$33-(YEAR(AL$4) - YEAR($I126)) + 1)/$I$34","v":3.7280221364296789E-2},{"$f":"SUM($AB135:AL135)*($I$33-(YEAR(AM$4) - YEAR($I126)) + 1)/$I$34","v":3.6348215830189365E-2},{"$f":"SUM($AB135:AM135)*($I$33-(YEAR(AN$4) - YEAR($I126)) + 1)/$I$34","v":3.5416210296081947E-2},{"$f":"SUM($AB135:AN135)*($I$33-(YEAR(AO$4) - YEAR($I126)) + 1)/$I$34","v":3.448420476197453E-2}]
[null,null,null,null,"Closing value carried forward",null,"£m 09/10 prices",null,null,">",null,null,null,null,null,null,null,null,null,null,null,null,null,null,null,null,null,null,{"$f":"SUM(AC140:AC143)","v":0},0,0,0,0.10162297714559906,0.2009876659101848,0.29809406629375723,0.39294217829631639,0.48553200191786222,0.57586353715839467,0.66393678401791378,0.74975174249641974,0.83330841259391231]
[]
[null,null,null,"Net value after regulatory depreciation"]
[]
[null,null,null,null,"Net value after regulatory depreciation",null,"£m 09/10 prices",null,null,">",null,null,null,null,null,null,null,null,null,null,null,null,null,null,null,null,null,null,{"$f":"AC136-AC144","v":0},{"$f":"AD136-AD144","v":0},0,2.3373284743487783,2.2357054972031793,2.1363408084385935,2.0392344080550213,1.9443862960524618,1.8517964724309162,1.7614649371903837,1.6733916903308645,1.5875767318523586,1.504020061754866]
[]
[null,"2013 Schemes"]
[]
[null,null,"Input"]
[]
[null,null,null,null,"Scheme year",null,"year ending",null,"2013-03-31"]
[]
[null,null,"RAV"]
[]
[null,null,null,"Cost"]
[]
[null,null,null,null,"Opening balance brought forward",null,"£m 09/10 prices",null,null,">",null,null,null,null,null,null,null,null,null,null,null,null,null,null,null,null,null,null,null,{"$f":"AC164","v":0},{"$f":"AD164","v":0},0,0,1.36466763149376,1.36466763149376,1.36466763149376,1.36466763149376,1.36466763149376,1.36466763149376,1.36466763149376,1.36466763149376]
[null,null,null,null,"Community based scheme - Actual capex",null,"£m 09/10 prices",null,null,">",null,null,null,null,null,null,null,null,null,null,null,null,null,null,null,null,null,null,{"$f":"IF($I154 = AC$4, AC$27, 0)","v":0},0,0,0,1.36466763149376,0,0,0,0,0,0,0,0]
[null,null,null,null,"Community based scheme - Additional customer discount",null,"£m 09/10 prices",null,null,">",null,null,null,null,null,null,null,null,null,null,null,null,null,null,null,null,null,null,{"$f":"IF($I154 = AC$4, AC$28, 0)","v":0},0,0,0,0,0,0,0,0,0,0,0,0]
[null,null,null,null,"One off schemes - Actual capex",null,"£m 09/10 prices",null,null,">",null,null,null,null,null,null,null,null,null,null,null,null,null,null,null,null,null,null,{"$f":"IF($I154 = AC$4, AC$29, 0)","v":0},0,0,0,0,0,0,0,0,0,0,0,0]
[null,null,null,null,"Balance carried forward",null,"£m 09/10 prices",null,null,">",null,null,null,null,null,null,null,null,null,null,null,null,null,null,null,null,null,null,{"$f":"SUM(AC160:AC163)","v":0},0,0,0,1.36466763149376,1.36466763149376,1.36466763149376,1.36466763149376,1.36466763149376,1.36466763149376,1.36466763149376,1.36466763149376,1.36466763149376]
[]
[null,null,null,"Depreciation"]
[]
[null,null,null,null,"Opening balance brought forward",null,"£m 09/10 prices",null,null,">",null,null,null,null,null,null,null,null,null,null,null,null,null,null,null,null,null,null,null,{"$f":"AC172","v":0},{"$f":"AD172","v":0},{"$f":"AE172","v":0},0,0,5.933337528233739E-2,0.11734823111395618,0.17404456749485636,0.22942238442503793,0.2834816819045009,0.33622245993324523,0.38764471851127097]
[null,null,null,null,"Community based scheme - Actual capex",null,"£m 09/10 prices",null,null,">",null,null,null,null,null,null,null,null,null,null,null,null,null,null,null,null,null,null,{"$f":"SUM(AB161:$AB161)*($I$33-(YEAR(AC$4) - YEAR($I154)) + 1)/$I$34","v":0},{"$f":"SUM($AB161:AC161)*($I$33-(YEAR(AD$4) - YEAR($I154)) + 1)/$I$34","v":0},{"$f":"SUM($AB161:AD161)*($I$33-(YEAR(AE$4) - YEAR($I154)) + 1)/$I$34","v":0},{"$f":"SUM($AB161:AE161)*($I$33-(YEAR(AF$4) - YEAR($I154)) + 1)/$I$34","v":0},{"$f":"SUM($AB161:AF161)*($I$33-(YEAR(AG$4) - YEAR($I154)) + 1)/$I$34","v":0},{"$f":"SUM($AB161:AG161)*($I$33-(YEAR(AH$4) - YEAR($I154)) + 1)/$I$34","v":5.933337528233739E-2},{"$f":"SUM($AB161:AH161)*($I$33-(YEAR(AI$4) - YEAR($I154)) + 1)/$I$34","v":5.8014855831618785E-2},{"$f":"SUM($AB161:AI161)*($I$33-(YEAR(AJ$4) - YEAR($I154)) + 1)/$I$34","v":5.6696336380900172E-2},{"$f":"SUM($AB161:AJ161)*($I$33-(YEAR(AK$4) - YEAR($I154)) + 1)/$I$34","v":5.5377816930181567E-2},{"$f":"SUM($AB161:AK161)*($I$33-(YEAR(AL$4) - YEAR($I154)) + 1)/$I$34","v":5.4059297479462962E-2},{"$f":"SUM($AB161:AL161)*($I$33-(YEAR(AM$4) - YEAR($I154)) + 1)/$I$34","v":5.2740778028744349E-2},{"$f":"SUM($AB161:AM161)*($I$33-(YEAR(AN$4) - YEAR($I154)) + 1)/$I$34","v":5.1422258578025744E-2},{"$f":"SUM($AB161:AN161)*($I$33-(YEAR(AO$4) - YEAR($I154)) + 1)/$I$34","v":5.0103739127307131E-2}]
[null,null,null,null,"Community based scheme - Additional customer discount",null,"£m 09/10 prices",null,null,">",null,null,null,null,null,null,null,null,null,null,null,null,null,null,null,null,null,null,{"$f":" IF(YEAR(AC$4) - YEAR($I154) <= $I$36, SUM(AB162:$AB162) / $I$36, 0)","v":0},{"$f":" IF(YEAR(AD$4) - YEAR($I154) <= $I$36, SUM($AB162:AC162) / $I$36, 0)","v":0},{"$f":" IF(YEAR(AE$4) - YEAR($I154) <= $I$36, SUM($AB162:AD162) / $I$36, 0)","v":0},{"$f":" IF(YEAR(AF$4) - YEAR($I154) <= $I$36, SUM($AB162:AE162) / $I$36, 0)","v":0},{"$f":" IF(YEAR(AG$4) - YEAR($I154) <= $I$36, SUM($AB162:AF162) / $I$36, 0)","v":0},{"$f":" IF(YEAR(AH$4) - YEAR($I154) <= $I$36, SUM($AB162:AG162) / $I$36, 0)","v":0},{"$f":" IF(YEAR(AI$4) - YEAR($I154) <= $I$36, SUM($AB162:AH162) / $I$36, 0)","v":0},{"$f":" IF(YEAR(AJ$4) - YEAR($I154) <= $I$36, SUM($AB162:AI162) / $I$36, 0)","v":0},{"$f":" IF(YEAR(AK$4) - YEAR($I154) <= $I$36, SUM($AB162:AJ162) / $I$36, 0)","v":0},{"$f":" IF(YEAR(AL$4) - YEAR($I154) <= $I$36, SUM($AB162:AK162) / $I$36, 0)","v":0},{"$f":" IF(YEAR(AM$4) - YEAR($I154) <= $I$36, SUM($AB162:AL162) / $I$36, 0)","v":0},{"$f":" IF(YEAR(AN$4) - YEAR($I154) <= $I$36, SUM($AB162:AM162) / $I$36, 0)","v":0},{"$f":" IF(YEAR(AO$4) - YEAR($I154) <= $I$36, SUM($AB162:AN162) / $I$36, 0)","v":0}]
[null,null,null,null,"One off schemes - Actual capex",null,"£m 09/10 prices",null,null,">",null,null,null,null,null,null,null,null,null,null,null,null,null,null,null,null,null,null,{"$f":"SUM(AB163:$AB163)*($I$33-(YEAR(AC$4) - YEAR($I154)) + 1)/$I$34","v":0},{"$f":"SUM($AB163:AC163)*($I$33-(YEAR(AD$4) - YEAR($I154)) + 1)/$I$34","v":0},{"$f":"SUM($AB163:AD163)*($I$33-(YEAR(AE$4) - YEAR($I154)) + 1)/$I$34","v":0},{"$f":"SUM($AB163:AE163)*($I$33-(YEAR(AF$4) - YEAR($I154)) + 1)/$I$34","v":0},{"$f":"SUM($AB163:AF163)*($I$33-(YEAR(AG$4) - YEAR($I154)) + 1)/$I$34","v":0},{"$f":"SUM($AB163:AG163)*($I$33-(YEAR(AH$4) - YEAR($I154)) + 1)/$I$34","v":0},{"$f":"SUM($AB163:AH163)*($I$33-(YEAR(AI$4) - YEAR($I154)) + 1)/$I$34","v":0},{"$f":"SUM($AB163:AI163)*($I$33-(YEAR(AJ$4) - YEAR($I154)) + 1)/$I$34","v":0},{"$f":"SUM($AB163:AJ163)*($I$33-(YEAR(AK$4) - YEAR($I154)) + 1)/$I$34","v":0},{"$f":"SUM($AB163:AK163)*($I$33-(YEAR(AL$4) - YEAR($I154)) + 1)/$I$34","v":0},{"$f":"SUM($AB163:AL163)*($I$33-(YEAR(AM$4) - YEAR($I154)) + 1)/$I$34","v":0},{"$f":"SUM($AB163:AM163)*($I$33-(YEAR(AN$4) - YEAR($I154)) + 1)/$I$34","v":0},{"$f":"SUM($AB163:AN163)*($I$33-(YEAR(AO$4) - YEAR($I154)) + 1)/$I$34","v":0}]
[null,null,null,null,"Closing value carried forward",null,"£m 09/10 prices",null,null,">",null,null,null,null,null,null,null,null,null,null,null,null,null,null,null,null,null,null,{"$f":"SUM(AC168:AC171)","v":0},0,0,0,0,5.933337528233739E-2,0.11734823111395618,0.17404456749485636,0.22942238442503793,0.2834816819045009,0.33622245993324523,0.38764471851127097,0.43774845763857811]
[]
[null,null,null,"Net value after regulatory depreciation"]
[]
[null,null,null,null,"Net value after regulatory depreciation",null,"£m 09/10 prices",null,null,">",null,null,null,null,null,null,null,null,null,null,null,null,null,null,null,null,null,null,{"$f":"AC164-AC172","v":0},{"$f":"AD164-AD172","v":0},0,0,1.36466763149376,1.3053342562114227,1.2473194003798038,1.1906230639989037,1.1352452470687222,1.0811859495892591,1.0284451715605147,0.977022912982489,0.92691917385518185]
[]
[null,"End of sheet"]

{"sheet":"Return&RAV","index":10,"n_rows":120,"n_cols":41,"rows_kept":120,"cut":false,"hidden":false,"merged":[]}
["Return & RAV"]
[null,{"$f":"UserInterface!G17","v":"East"}]
[null,null,null,null,"Parameter",null,"Units",null,"Constant",null,null,null,null,null,null,null,null,null,null,null,null,null,null,null,null,null,null,null,null,null,null,null,null,"Annual values"]
[null,null,null,null,"PCFM year ending",null,null,null,{"$f":"UserInterface!$G$10","v":"2019-03-31"},null,"1991-03-31","1992-03-31","1993-03-31","1994-03-31","1995-03-31","1996-03-31","1997-03-31","1998-03-31","1999-03-31","2000-03-31","2001-03-31","2002-03-31","2003-03-31","2004-03-31","2005-03-31","2006-03-31","2007-03-31","2008-03-31","2009-03-31","2010-03-31","2011-03-31","2012-03-31","2013-03-31","2014-03-31","2015-03-31","2016-03-31","2017-03-31","2018-03-31","2019-03-31","2020-03-31","2021-03-31"]
[]
[null,"Return"]
[]
[null,null,"Return base"]
[null,null,"Note: The \"Return base\" is calculated such that the net present value of the stream of depreciation and return flowing from a RAV addition is equal to the present value of the addition itself."]
[]
[null,null,null,"Present value of closing RAV"]
[]
[null,null,null,null,"Vanilla WACC",null,"annual real %",null,null,null,null,null,null,null,null,null,null,null,null,null,null,null,null,null,null,null,null,null,null,null,null,null,null,{"$f":"Input!AH39","v":4.2429999999999995E-2},{"$f":"Input!AI39","v":4.113E-2},{"$f":"Input!AJ39","v":4.0024999999999998E-2},{"$f":"Input!AK39","v":3.8919999999999996E-2},{"$f":"Input!AL39","v":3.7879999999999997E-2},{"$f":"Input!AM39","v":3.7879999999999997E-2},{"$f":"Input!AN39","v":3.7879999999999997E-2},{"$f":"Input!AO39","v":3.7879999999999997E-2}]
[null,null,null,null,"Single year discount factor",null,"scalar",null,null,null,null,null,null,null,null,null,null,null,null,null,null,null,null,null,null,null,null,null,null,null,null,null,null,{"$f":"1 / (1 + AH13)","v":0.95929702713851295},{"$f":"1 / (1 + AI13)","v":0.9604948469451462},0.96151534818874551,0.96253802025179991,0.96350252437661399,0.96350252437661399,0.96350252437661399,0.96350252437661399]
[]
[null,null,null,null,"Closing RAV",null,"£m 09/10 prices",null,null,null,null,null,null,null,null,null,null,null,null,null,null,null,null,null,null,null,null,null,null,null,null,null,null,{"$f":"AH44","v":2514.1187324292528},2488.3125667996555,2478.6130605197513,2437.8930828837442,2446.8176596840349,2451.9526967676297,2449.5905739545724,2445.6604395440195]
[]
[null,null,null,null,"Discounted closing RAV",null,"£m 09/10 prices",null,null,null,null,null,null,null,null,null,null,null,null,null,null,null,null,null,null,null,null,null,null,null,null,null,null,{"$f":"AH16 * AH14","v":2411.7866258926288},2390.0113979999192,2383.2244999108207,2346.5647815844763,2357.5149917948465,2362.4626129876574,2360.1867016943893,2356.4000072686822]
[]
[null,null,null,"NPV-neutral RAV return base"]
[]
[null,null,null,null,"Opening RAV (after transfers)",null,"£m 09/10 prices",null,null,null,null,null,null,null,null,null,null,null,null,null,null,null,null,null,null,null,null,null,null,null,null,null,null,{"$f":"AH41","v":2534.9639017047384},2514.1187324292528,2488.3125667996555,2478.6130605197513,2437.8930828837442,2446.8176596840349,2451.9526967676297,2449.5905739545724]
[null,null,null,null,"Discounted closing RAV",null,"£m 09/10 prices",null,null,null,null,null,null,null,null,null,null,null,null,null,null,null,null,null,null,null,null,null,null,null,null,null,null,{"$f":"AH18","v":2411.7866258926288},{"$f":"AI18","v":2390.0113979999192},2383.2244999108207,2346.5647815844763,2357.5149917948465,2362.4626129876574,2360.1867016943893,2356.4000072686822]
[]
[null,null,null,null,"NPV-neutral RAV return base",null,"£m 09/10 prices",null,null,null,null,null,null,null,null,null,null,null,null,null,null,null,null,null,null,null,null,null,null,null,null,null,null,{"$f":"AVERAGE(AH22:AH23)","v":2473.3752637986836},{"$f":"AVERAGE(AI22:AI23)","v":2452.065065214586},2435.7685333552381,2412.5889210521136,2397.7040373392956,2404.6401363358464,2406.0696992310095,2402.9952906116273]
[]
[null,null,"Return on RAV"]
[]
[null,null,null,null,"NPV-neutral RAV return base",null,"£m 09/10 prices",null,null,null,null,null,null,null,null,null,null,null,null,null,null,null,null,null,null,null,null,null,null,null,null,null,null,{"$f":"AH25","v":2473.3752637986836},{"$f":"AI25","v":2452.065065214586},2435.7685333552381,2412.5889210521136,2397.7040373392956,2404.6401363358464,2406.0696992310095,2402.9952906116273]
[null,null,null,null,"Vanilla WACC",null,"annual real %",null,null,null,null,null,null,null,null,null,null,null,null,null,null,null,null,null,null,null,null,null,null,null,null,null,null,{"$f":"AH13","v":4.2429999999999995E-2},{"$f":"AI13","v":4.113E-2},4.0024999999999998E-2,3.8919999999999996E-2,3.7879999999999997E-2,3.7879999999999997E-2,3.7879999999999997E-2,3.7879999999999997E-2]
[]
[null,null,null,null,"Return",null,"£m 09/10 prices",null,null,null,null,null,null,null,null,null,null,null,null,null,null,null,null,null,null,null,null,null,null,null,null,null,null,{"$f":"AH29 * AH30","v":104.94531244297814},{"$f":"AI29 * AI30","v":100.85343613227592},97.491635547543396,93.897960807348255,90.825028934412515,91.087768364401853,91.141920206870637,91.025461608368431]
[]
[null,"RAV"]
[null,"Note: The RAV is presented separate pre-vesting and post-vesting balances brought together to form a combined \"Running total.\""]
[]
[null,null,"Running total"]
[]
[null,null,null,null,"Opening RAV (before transfers)",null,"£m 09/10 prices",null,null,null,null,null,null,null,null,null,null,null,null,null,null,null,null,null,null,null,null,null,null,null,null,null,null,{"$f":"(AH51 - AH60) + (AH77 - AH86)","v":2534.9639017047384},{"$f":"AH44","v":2514.1187324292528},2488.3125667996555,2478.6130605197513,2437.8930828837442,2446.8176596840349,2451.9526967676297,2449.5905739545724]
[null,null,null,null,"Transfers",null,"£m 09/10 prices",null,null,null,null,null,null,null,null,null,null,null,null,null,null,null,null,null,null,null,null,null,null,null,null,null,null,{"$f":"(AH52 - AH61) + (AH78 - AH87)","v":0},{"$f":"(AI52 - AI61) + (AI78 - AI87)","v":0},0,0,0,0,0,0]
[null,null,null,null,"Opening RAV (after transfers)",null,"£m 09/10 prices",null,null,null,null,null,null,null,null,null,null,null,null,null,null,null,null,null,null,null,null,null,null,null,null,null,null,{"$f":"SUM(AH39:AH40)","v":2534.9639017047384},2514.1187324292528,2488.3125667996555,2478.6130605197513,2437.8930828837442,2446.8176596840349,2451.9526967676297,2449.5905739545724]
[null,null,null,null,"Net additions (after disposals)",null,"£m 09/10 prices",null,null,null,null,null,null,null,null,null,null,null,null,null,null,null,null,null,null,null,null,null,null,null,null,null,null,{"$f":"AH54 + AH80","v":102.6132315186192},{"$f":"AI54 + AI80","v":99.560789229103605},{"$f":"AJ54 + AJ80","v":106.84231548041576},75.608008066795023,129.87237843968353,135.09702458864481,136.71572852698674,146.30330726088192]
[null,null,null,null,"Depreciation",null,"£m 09/10 prices",null,null,null,null,null,null,null,null,null,null,null,null,null,null,null,null,null,null,null,null,null,null,null,null,null,null,{"$f":"-(AH63 + AH89)","v":-123.45840079410482},{"$f":"-(AI63 + AI89)","v":-125.36695485870098},-116.54182176032003,-116.32798570280173,-120.94780163939269,-129.96198750504996,-139.07785134004399,-150.23344167143466]
[null,null,null,null,"Closing RAV",null,"£m 09/10 prices",null,null,null,null,null,null,null,null,null,null,null,null,null,null,null,null,null,null,null,null,null,null,null,null,null,null,{"$f":"SUM(AH41:AH43)","v":2514.1187324292528},{"$f":"SUM(AI41:AI43)","v":2488.3125667996555},2478.6130605197513,2437.8930828837442,2446.8176596840349,2451.9526967676297,2449.5905739545724,2445.6604395440195]
[]
[null,null,"Pre-vesting balance"]
[null,null,"Note: Pre-vesting RAV opening balances are inputs to the model. The continued depreciation of these assets uses annual depreciation rates calculated on the \"Depn\" sheet."]
[]
[null,null,null,"Cost"]
[]
[null,null,null,null,"Opening balance brought forward (before transfers)",null,"£m 09/10 prices",null,null,null,null,null,null,null,null,null,null,null,null,null,null,null,null,null,null,null,null,null,null,null,null,null,null,{"$f":"Input!AH182","v":2382.1513055087926},{"$f":"AH56","v":2381.6791522657518},{"$f":"AI56","v":2381.3631195165149},2381.5536632851426,2382.0073154253846,2382.0073154253846,2382.0073154253846,2382.0073154253846]
[null,null,null,null,"Transfers",null,"£m 09/10 prices"]
[null,null,null,null,"Opening balance brought forward (after transfers)",null,"£m 09/10 prices",null,null,null,null,null,null,null,null,null,null,null,null,null,null,null,null,null,null,null,null,null,null,null,null,null,null,{"$f":"SUM(AH51:AH52)","v":2382.1513055087926},{"$f":"SUM(AI51:AI52)","v":2381.6791522657518},2381.3631195165149,2381.5536632851426,2382.0073154253846,2382.0073154253846,2382.0073154253846,2382.0073154253846]
[null,null,null,null,"Net additions (after disposals)",null,"£m 09/10 prices",null,null,null,null,null,null,null,null,null,null,null,null,null,null,null,null,null,null,null,null,null,null,null,null,null,null,{"$f":"-Input!AH186","v":-0.47215324304065037},{"$f":"-Input!AI186","v":-0.31603274923678387},{"$f":"-Input!AJ186","v":0.19054376862788389},{"$f":"-Input!AK186","v":0.45365214024176076},{"$f":"-Input!AL186","v":0},{"$f":"-Input!AM186","v":0},{"$f":"-Input!AN186","v":0},{"$f":"-Input!AO186","v":0}]
[null,null,null,null,"Removals",null,"£m 09/10 prices"]
[null,null,null,null,"Closing value carried forward",null,"£m 09/10 prices",null,null,null,null,null,null,null,null,null,null,null,null,null,null,null,null,null,null,null,null,null,null,null,null,null,null,{"$f":"AH53 + AH54 - AH55","v":2381.6791522657518},{"$f":"AI53 + AI54 - AI55","v":2381.3631195165149},2381.5536632851426,2382.0073154253846,2382.0073154253846,2382.0073154253846,2382.0073154253846,2382.0073154253846]
[]
[null,null,null,"Cumulative depreciation"]
[]
[null,null,null,null,"Opening balance brought forward (before transfers)",null,"£m 09/10 prices",null,null,null,null,null,null,null,null,null,null,null,null,null,null,null,null,null,null,null,null,null,null,null,null,null,null,{"$f":"Input!AH183","v":837.79512189384059},{"$f":"AH65","v":904.96104216194567},{"$f":"AI65","v":970.62136966801904},1034.7809023366972,1097.4533671599904,1158.6452844108931,1218.3447158751885,1276.5516615528766]
[null,null,null,null,"Transfers",null,"£m 09/10 prices"]
[null,null,null,null,"Opening balance brought forward (after transfers)",null,"£m 09/10 prices",null,null,null,null,null,null,null,null,null,null,null,null,null,null,null,null,null,null,null,null,null,null,null,null,null,null,{"$f":"SUM(AH60:AH61)","v":837.79512189384059},{"$f":"SUM(AI60:AI61)","v":904.96104216194567},970.62136966801904,1034.7809023366972,1097.4533671599904,1158.6452844108931,1218.3447158751885,1276.5516615528766]
[null,null,null,null,"Depreciation",null,"£m 09/10 prices",null,null,null,null,null,null,null,null,null,null,null,null,null,null,null,null,null,null,null,null,null,null,null,null,null,null,{"$f":"AH51 * Depn!AH28","v":67.165920268105054},{"$f":"AI51 * Depn!AI28","v":65.660327506073358},{"$f":"AJ51 * Depn!AJ28","v":64.159532668678025},{"$f":"AK51 * Depn!AK28","v":62.672464823293225},{"$f":"AL51 * Depn!AL28","v":61.191917250902733},{"$f":"AM51 * Depn!AM28","v":59.699431464295351},{"$f":"AN51 * Depn!AN28","v":58.206945677687969},{"$f":"AO51 * Depn!AO28","v":56.71445989108058}]
[null,null,null,null,"Removals",null,"£m 09/10 prices",null,null,null,null,null,null,null,null,null,null,null,null,null,null,null,null,null,null,null,null,null,null,null,null,null,null,{"$f":"AH55","v":0},0,0,0,0,0,0,0]
[null,null,null,null,"Closing value carried forward",null,"£m 09/10 prices",null,null,null,null,null,null,null,null,null,null,null,null,null,null,null,null,null,null,null,null,null,null,null,null,null,null,{"$f":"AH62 + AH63 - AH64","v":904.96104216194567},{"$f":"AI62 + AI63 - AI64","v":970.62136966801904},1034.7809023366972,1097.4533671599904,1158.6452844108931,1218.3447158751885,1276.5516615528766,1333.2661214439572]
[]
[null,null,null,"Asset balance"]
[]
[null,null,null,null,"Net value after regulatory depreciation",null,"£m 09/10 prices",null,null,null,null,null,null,null,null,null,null,null,null,null,null,null,null,null,null,null,null,null,null,null,null,null,null,{"$f":"AH56 - AH65","v":1476.7181101038061},1410.7417498484958,1346.7727609484455,1284.5539482653942,1223.3620310144915,1163.6625995501961,1105.455653872508,1048.7411939814274]
[]
[null,null,"Post-vesting balance"]
[null,null,"Note: Post-vesting RAV opening balances are generated from calculations built up since vesting. Net additions (after disposals), depreciation and removals are calculated principally on the \"Depn\" sheet."]
[null,null,"Assets with non-standard depreciation policies applied or that are transferred to the RAV during the price control are also brought into the RAV here."]
[]
[null,null,null,"Cost"]
[]
[null,null,null,null,"Opening balance brought forward (before transfers)",null,"£m 09/10 prices",null,null,null,null,null,null,null,null,null,null,null,null,null,null,null,null,null,null,null,null,null,null,null,null,null,null,{"$f":"Depn!AH181 + AH105","v":1105.2003487148577},{"$f":"AH82","v":1208.2857334765176},1308.162555454858,1414.8143271666459,1489.9686830931992,1619.8410615328826,1754.9380861215275,1891.6538146485143]
[null,null,null,null,"Transfers",null,"£m 09/10 prices"]
[null,null,null,null,"Opening balance brought forward (after transfers)",null,"£m 09/10 prices",null,null,null,null,null,null,null,null,null,null,null,null,null,null,null,null,null,null,null,null,null,null,null,null,null,null,{"$f":"SUM(AH77:AH78)","v":1105.2003487148577},1208.2857334765176,1308.162555454858,1414.8143271666459,1489.9686830931992,1619.8410615328826,1754.9380861215275,1891.6538146485143]
[null,null,null,null,"Net additions (after disposals)",null,"£m 09/10 prices",null,null,null,null,null,null,null,null,null,null,null,null,null,null,null,null,null,null,null,null,null,null,null,null,null,null,{"$f":"Depn!AH14 + AH106","v":103.08538476165985},{"$f":"Depn!AI14 + AI106","v":99.876821978340388},{"$f":"Depn!AJ14 + AJ106","v":106.65177171178787},{"$f":"Depn!AK14 + AK106","v":75.154355926553265},{"$f":"Depn!AL14 + AL106","v":129.87237843968353},{"$f":"Depn!AM14 + AM106","v":135.09702458864481},{"$f":"Depn!AN14 + AN106","v":136.71572852698674},{"$f":"Depn!AO14 + AO106","v":146.30330726088192}]
[null,null,null,null,"Removals",null,"£m 09/10 prices",null,null,null,null,null,null,null,null,null,null,null,null,null,null,null,null,null,null,null,null,null,null,null,null,null,null,{"$f":"Depn!AH172","v":0},{"$f":"Depn!AI172","v":0},{"$f":"Depn!AJ172","v":0},{"$f":"Depn!AK172","v":0},{"$f":"Depn!AL172","v":0},{"$f":"Depn!AM172","v":0},{"$f":"Depn!AN172","v":0},{"$f":"Depn!AO172","v":0}]
[null,null,null,null,"Closing value carried forward",null,"£m 09/10 prices",null,null,null,null,null,null,null,null,null,null,null,null,null,null,null,null,null,null,null,null,null,null,null,null,null,null,{"$f":"AH79 + AH80 - AH81","v":1208.2857334765176},{"$f":"AI79 + AI80 - AI81","v":1308.162555454858},1414.8143271666459,1489.9686830931992,1619.8410615328826,1754.9380861215275,1891.6538146485143,2037.9571219093962]
[]
[null,null,null,"Cumulative depreciation"]
[]
[null,null,null,null,"Opening balance brought forward (before transfers)",null,"£m 09/10 prices",null,null,null,null,null,null,null,null,null,null,null,null,null,null,null,null,null,null,null,null,null,null,null,null,null,null,{"$f":"Depn!AH182 + AH111","v":114.5926306250711},{"$f":"AH91","v":170.88511115107087},230.59173850369848,282.97402759534049,336.629548474849,396.38543286333896,466.64798890409355,547.5188945664496]
[null,null,null,null,null,null,"£m 09/10 prices"]
[null,null,null,null,"Opening balance brought forward (after transfers)",null,"£m 09/10 prices",null,null,null,null,null,null,null,null,null,null,null,null,null,null,null,null,null,null,null,null,null,null,null,null,null,null,{"$f":"SUM(AH86:AH87)","v":114.5926306250711},170.88511115107087,230.59173850369848,282.97402759534049,336.629548474849,396.38543286333896,466.64798890409355,547.5188945664496]
[null,null,null,null,"Depreciation",null,"£m 09/10 prices",null,null,null,null,null,null,null,null,null,null,null,null,null,null,null,null,null,null,null,null,null,null,null,null,null,null,{"$f":"Depn!AH148 + AH112","v":56.292480525999764},{"$f":"Depn!AI148 + AI112","v":59.706627352627621},{"$f":"Depn!AJ148 + AJ112","v":52.382289091642015},{"$f":"Depn!AK148 + AK112","v":53.655520879508494},{"$f":"Depn!AL148 + AL112","v":59.75588438848996},{"$f":"Depn!AM148 + AM112","v":70.262556040754603},{"$f":"Depn!AN148 + AN112","v":80.870905662356037},{"$f":"Depn!AO148 + AO112","v":93.518981780354096}]
[null,null,null,null,"Removals",null,"£m 09/10 prices",null,null,null,null,null,null,null,null,null,null,null,null,null,null,null,null,null,null,null,null,null,null,null,null,null,null,{"$f":"AH81","v":0},0,0,0,0,0,0,0]
[null,null,null,null,"Closing value carried forward",null,"£m 09/10 prices",null,null,null,null,null,null,null,null,null,null,null,null,null,null,null,null,null,null,null,null,null,null,null,null,null,null,{"$f":"AH88 + AH89 - AH90","v":170.88511115107087},{"$f":"AI88 + AI89 - AI90","v":230.59173850369848},282.97402759534049,336.629548474849,396.38543286333896,466.64798890409355,547.5188945664496,641.03787634680373]
[]
[null,null,null,"Asset balance"]
[]
[null,null,null,null,"Net value after regulatory depreciation",null,"£m 09/10 prices",null,null,null,null,null,null,null,null,null,null,null,null,null,null,null,null,null,null,null,null,null,null,null,null,null,null,{"$f":"AH82 - AH91","v":1037.4006223254469},1077.5708169511595,1131.8402995713054,1153.3391346183503,1223.4556286695436,1288.2900972174339,1344.1349200820646,1396.9192455625926]
[]
[null,"Project balances included in post-vesting RAV"]
[null,"Note: Assets non-standard depreciation policies applied or that are transferred to the RAV during the price control are also provided below."]
[]
[null,null,"Fuel Poor"]
[null,null,"Note: Fuel Poor calculations are separate due to the depreciation profile of additional customer discount"]
[]
[null,null,null,"Cost"]
[]
[null,null,null,null,"Opening balance brought forward",null,"£m 09/10 prices",null,null,">",null,null,null,null,null,null,null,null,null,null,null,null,null,null,null,null,null,null,null,null,null,null,null,{"$f":"FuelPoor!AH10","v":7.5472853403132101},{"$f":"AH107","v":7.5472853403132101},7.5472853403132101,7.5472853403132101,7.5472853403132101,7.5472853403132101,7.5472853403132101,7.5472853403132101]
[null,null,null,null,"Net additions (after disposals)",null,"£m 09/10 prices",null,null,">",null,null,null,null,null,null,null,null,null,null,null,null,null,null,null,null,null,null,null,null,null,null,null,{"$f":"SUM(FuelPoor!AH11:AH13)","v":0},{"$f":"SUM(FuelPoor!AI11:AI13)","v":0},{"$f":"SUM(FuelPoor!AJ11:AJ13)","v":0},{"$f":"SUM(FuelPoor!AK11:AK13)","v":0},{"$f":"SUM(FuelPoor!AL11:AL13)","v":0},{"$f":"SUM(FuelPoor!AM11:AM13)","v":0},{"$f":"SUM(FuelPoor!AN11:AN13)","v":0},{"$f":"SUM(FuelPoor!AO11:AO13)","v":0}]
[null,null,null,null,"Balance carried forward",null,"£m 09/10 prices",null,null,">",null,null,null,null,null,null,null,null,null,null,null,null,null,null,null,null,null,null,null,null,null,null,null,{"$f":"AH105+AH106","v":7.5472853403132101},7.5472853403132101,7.5472853403132101,7.5472853403132101,7.5472853403132101,7.5472853403132101,7.5472853403132101,7.5472853403132101]
[]
[null,null,null,"Accumulated depreciation"]
[]
[null,null,null,null,"Opening balance brought forward",null,"£m 09/10 prices",null,null,">",null,null,null,null,null,null,null,null,null,null,null,null,null,null,null,null,null,null,null,null,null,null,null,{"$f":"FuelPoor!AH16","v":0.51474430765849466},{"$f":"AH113","v":0.83128059121610898},1.140524811642986,1.4424769689391255,1.7371370631045275,2.0245050941391924,2.3045810620431197,2.5773649668163099]
[null,null,null,null,"Regulatory depreciation",null,"£m 09/10 prices",null,null,">",null,null,null,null,null,null,null,null,null,null,null,null,null,null,null,null,null,null,null,null,null,null,null,{"$f":"SUM(FuelPoor!AH17:AH19)","v":0.31653628355761437},{"$f":"SUM(FuelPoor!AI17:AI19)","v":0.30924422042687699},{"$f":"SUM(FuelPoor!AJ17:AJ19)","v":0.30195215729613956},{"$f":"SUM(FuelPoor!AK17:AK19)","v":0.29466009416540218},{"$f":"SUM(FuelPoor!AL17:AL19)","v":0.28736803103466479},{"$f":"SUM(FuelPoor!AM17:AM19)","v":0.28007596790392736},{"$f":"SUM(FuelPoor!AN17:AN19)","v":0.27278390477318998},{"$f":"SUM(FuelPoor!AO17:AO19)","v":0.2654918416424526}]
[null,null,null,null,"Closing value carried forward",null,"£m 09/10 prices",null,null,">",null,null,null,null,null,null,null,null,null,null,null,null,null,null,null,null,null,null,null,null,null,null,null,{"$f":"AH111+AH112","v":0.83128059121610898},1.140524811642986,1.4424769689391255,1.7371370631045275,2.0245050941391924,2.3045810620431197,2.5773649668163099,2.8428568084587624]
[]
[null,null,null,"Net value after regulatory depreciation"]
[]
[null,null,null,null,"Included in RAV",null,"text",null,null,">",null,null,null,null,null,null,null,null,null,null,null,null,null,null,null,null,null,null,null,null,null,null,null,{"$f":"YEAR(AH$4) >= YEAR($Z$4)","v":true},true,true,true,true,true,true,true]
[null,null,null,null,"Net value after regulatory depreciation",null,"£m 09/10 prices",null,null,">",null,null,null,null,null,null,null,null,null,null,null,null,null,null,null,null,null,null,null,null,null,null,null,{"$f":"AH107-AH113","v":6.7160047490971007},6.4067605286702243,6.1048083713740846,5.8101482772086825,5.5227802461740172,5.2427042782700903,4.9699203734969002,4.7044285318544476]
[]
[null,"End of sheet"]

{"sheet":"TaxPools","index":11,"n_rows":123,"n_cols":41,"rows_kept":123,"cut":false,"hidden":false,"merged":[]}
["Tax Pools"]
[null,{"$f":"UserInterface!G17","v":"East"}]
[null,null,null,null,"Parameter",null,"Units",null,"Constant",null,null,null,null,null,null,null,null,null,null,null,null,null,null,null,null,null,null,null,null,null,null,null,null,"Annual values"]
[null,null,null,null,"PCFM year ending",null,null,null,{"$f":"UserInterface!$G$10","v":"2019-03-31"},null,"1991-03-31","1992-03-31","1993-03-31","1994-03-31","1995-03-31","1996-03-31","1997-03-31","1998-03-31","1999-03-31","2000-03-31","2001-03-31","2002-03-31","2003-03-31","2004-03-31","2005-03-31","2006-03-31","2007-03-31","2008-03-31","2009-03-31","2010-03-31","2011-03-31","2012-03-31","2013-03-31","2014-03-31","2015-03-31","2016-03-31","2017-03-31","2018-03-31","2019-03-31","2020-03-31","2021-03-31"]
[]
[null,"Tax pool additions"]
[null,"Note: Actual totex is combined with other expenditure and allocated to tax pools. Each cost sub-category can have its own percentage split between each pool."]
[]
[null,null,"Expenditure categories allocated to tax pools"]
[]
[null,null,null,"Actual totex"]
[]
[null,null,null,null,"Load related capex",null,"£m 09/10 prices",null,null,null,null,null,null,null,null,null,null,null,null,null,null,null,null,null,null,null,null,null,null,null,null,null,null,{"$f":"Totex!AH65","v":28.994705520563567},{"$f":"Totex!AI65","v":19.813505166441491},{"$f":"Totex!AJ65","v":19.732860307816889},{"$f":"Totex!AK65","v":0},{"$f":"Totex!AL65","v":21.513147146940447},{"$f":"Totex!AM65","v":21.58276058316563},{"$f":"Totex!AN65","v":20.974661585567816},{"$f":"Totex!AO65","v":20.815417021722599}]
[null,null,null,null,"Non-load related capex - other",null,"£m 09/10 prices",null,null,null,null,null,null,null,null,null,null,null,null,null,null,null,null,null,null,null,null,null,null,null,null,null,null,{"$f":"Totex!AH66","v":17.585404328298281},{"$f":"Totex!AI66","v":19.93498036545277},{"$f":"Totex!AJ66","v":16.771849986032894},{"$f":"Totex!AK66","v":0},{"$f":"Totex!AL66","v":33.382272034898016},{"$f":"Totex!AM66","v":27.942284285925197},{"$f":"Totex!AN66","v":16.351030154427807},{"$f":"Totex!AO66","v":12.136095856066818}]
[null,null,null,null,"Controllable opex",null,"£m 09/10 prices",null,null,null,null,null,null,null,null,null,null,null,null,null,null,null,null,null,null,null,null,null,null,null,null,null,null,{"$f":"Totex!AH67","v":126.88055213470393},{"$f":"Totex!AI67","v":124.57403585982755},{"$f":"Totex!AJ67","v":118.85835822933886},{"$f":"Totex!AK67","v":0},{"$f":"Totex!AL67","v":111.43881908905554},{"$f":"Totex!AM67","v":110.19294094485716},{"$f":"Totex!AN67","v":109.01388759165189},{"$f":"Totex!AO67","v":107.99353609545125}]
[null,null,null,null,"Repex",null,"£m 09/10 prices",null,null,null,null,null,null,null,null,null,null,null,null,null,null,null,null,null,null,null,null,null,null,null,null,null,null,{"$f":"Totex!AH68","v":80.98027960027801},{"$f":"Totex!AI68","v":87.292768607308034},{"$f":"Totex!AJ68","v":91.558452979737709},{"$f":"Totex!AK68","v":0},{"$f":"Totex!AL68","v":109.01992959218663},{"$f":"Totex!AM68","v":109.49975714182249},{"$f":"Totex!AN68","v":109.99574982753185},{"$f":"Totex!AO68","v":110.46329557645316}]
[null,null,null,null,"Actual totex",null,"£m 09/10 prices",null,null,null,null,null,null,null,null,null,null,null,null,null,null,null,null,null,null,null,null,null,null,null,null,null,null,{"$f":"SUM(AH13:AH16)","v":254.4409415838438},251.61528999902984,246.92152150292634,0,275.35416786308065,269.21774295577046,256.33532915917937,251.40834454969382]
[]
[null,null,null,"Actual non-totex"]
[]
[null,null,null,null,"Non-controllable opex",null,"£m 09/10 prices",null,null,null,null,null,null,null,null,null,null,null,null,null,null,null,null,null,null,null,null,null,null,null,null,null,null,{"$f":"Input!AH161","v":95.592645687569757},{"$f":"Input!AI161","v":94.623041586289503},{"$f":"Input!AJ161","v":94.466569981602646},{"$f":"Input!AK161","v":91.71656998160266},{"$f":"Input!AL161","v":91.536569981602639},{"$f":"Input!AM161","v":91.346569981602642},{"$f":"Input!AN161","v":91.156569981602658},{"$f":"Input!AO161","v":90.976569981602665}]
[null,null,null,null,"Actual non-totex",null,"£m 09/10 prices",null,null,null,null,null,null,null,null,null,null,null,null,null,null,null,null,null,null,null,null,null,null,null,null,null,null,{"$f":"SUM(AH21:AH21)","v":95.592645687569757},94.623041586289503,94.466569981602646,91.71656998160266,91.536569981602639,91.346569981602642,91.156569981602658,90.976569981602665]
[]
[null,null,null,"Combined actual totex and non-totex"]
[]
[null,null,null,null,"Load related capex",null,"£m 09/10 prices",null,null,null,null,null,null,null,null,null,null,null,null,null,null,null,null,null,null,null,null,null,null,null,null,null,null,{"$f":"AH13","v":28.994705520563567},{"$f":"AI13","v":19.813505166441491},19.732860307816889,0,21.513147146940447,21.58276058316563,20.974661585567816,20.815417021722599]
[null,null,null,null,"Non-load related capex - other",null,"£m 09/10 prices",null,null,null,null,null,null,null,null,null,null,null,null,null,null,null,null,null,null,null,null,null,null,null,null,null,null,{"$f":"AH14","v":17.585404328298281},{"$f":"AI14","v":19.93498036545277},16.771849986032894,0,33.382272034898016,27.942284285925197,16.351030154427807,12.136095856066818]
[null,null,null,null,"Opex",null,"£m 09/10 prices",null,null,null,null,null,null,null,null,null,null,null,null,null,null,null,null,null,null,null,null,null,null,null,null,null,null,{"$f":"AH21 + AH15","v":222.47319782227368},219.19707744611705,213.32492821094149,91.71656998160266,202.9753890706582,201.5395109264598,200.17045757325457,198.97010607705391]
[null,null,null,null,"Repex",null,"£m 09/10 prices",null,null,null,null,null,null,null,null,null,null,null,null,null,null,null,null,null,null,null,null,null,null,null,null,null,null,{"$f":"AH16","v":80.98027960027801},87.292768607308034,91.558452979737709,0,109.01992959218663,109.49975714182249,109.99574982753185,110.46329557645316]
[]
[null,null,"Tax pool allocation"]
[]
[null,null,null,"General pool"]
[]
[null,null,null,null,"Load related capex allocation",null,"%",null,null,null,null,null,null,null,null,null,null,null,null,null,null,null,null,null,null,null,null,null,null,null,null,null,null,{"$f":"Input!AH238","v":2.8999999999999998E-3},{"$f":"Input!AI238","v":2.8999999999999998E-3},{"$f":"Input!AJ238","v":2.8999999999999998E-3},{"$f":"Input!AK238","v":2.8999999999999998E-3},{"$f":"Input!AL238","v":2.8999999999999998E-3},{"$f":"Input!AM238","v":2.8999999999999998E-3},{"$f":"Input!AN238","v":2.8999999999999998E-3},{"$f":"Input!AO238","v":2.8999999999999998E-3}]
[null,null,null,null,"Non-load related capex - other allocation",null,"%",null,null,null,null,null,null,null,null,null,null,null,null,null,null,null,null,null,null,null,null,null,null,null,null,null,null,{"$f":"Input!AH239","v":0.89756098390240724},{"$f":"Input!AI239","v":0.89756098390240724},{"$f":"Input!AJ239","v":0.89756098390240724},{"$f":"Input!AK239","v":0.89756098390240724},{"$f":"Input!AL239","v":0.89756098390240724},{"$f":"Input!AM239","v":0.89756098390240724},{"$f":"Input!AN239","v":0.89756098390240724},{"$f":"Input!AO239","v":0.89756098390240724}]
[null,null,null,null,"Opex allocation",null,"%",null,null,null,null,null,null,null,null,null,null,null,null,null,null,null,null,null,null,null,null,null,null,null,null,null,null,{"$f":"Input!AH240","v":0},{"$f":"Input!AI240","v":0},{"$f":"Input!AJ240","v":0},{"$f":"Input!AK240","v":0},{"$f":"Input!AL240","v":0},{"$f":"Input!AM240","v":0},{"$f":"Input!AN240","v":0},{"$f":"Input!AO240","v":0}]
[null,null,null,null,"Repex allocation",null,"%",null,null,null,null,null,null,null,null,null,null,null,null,null,null,null,null,null,null,null,null,null,null,null,null,null,null,{"$f":"Input!AH241","v":0},{"$f":"Input!AI241","v":0},{"$f":"Input!AJ241","v":0},{"$f":"Input!AK241","v":0},{"$f":"Input!AL241","v":0},{"$f":"Input!AM241","v":0},{"$f":"Input!AN241","v":0},{"$f":"Input!AO241","v":0}]
[]
[null,null,null,null,"General pool additions",null,"£m 09/10 prices",null,null,null,null,null,null,null,null,null,null,null,null,null,null,null,null,null,null,null,null,null,null,null,null,null,null,{"$f":"SUMPRODUCT(AH$26:AH$29,AH35:AH38)","v":15.86805745723869},17.95031975587364,15.110983470219928,0,30.025013059267003,25.142494181846974,14.736873231824299,10.953250846668256]
[]
[null,null,null,"Special Rate pool"]
[]
[null,null,null,null,"Load related capex allocation",null,"%",null,null,null,null,null,null,null,null,null,null,null,null,null,null,null,null,null,null,null,null,null,null,null,null,null,null,{"$f":"Input!AH245","v":0.98870000000000002},{"$f":"Input!AI245","v":0.98870000000000002},{"$f":"Input!AJ245","v":0.98870000000000002},{"$f":"Input!AK245","v":0.98870000000000002},{"$f":"Input!AL245","v":0.98870000000000002},{"$f":"Input!AM245","v":0.98870000000000002},{"$f":"Input!AN245","v":0.98870000000000002},{"$f":"Input!AO245","v":0.98870000000000002}]
[null,null,null,null,"Non-load related capex - other allocation",null,"%",null,null,null,null,null,null,null,null,null,null,null,null,null,null,null,null,null,null,null,null,null,null,null,null,null,null,{"$f":"Input!AH246","v":1.6271113794003381E-2},{"$f":"Input!AI246","v":1.6271113794003381E-2},{"$f":"Input!AJ246","v":1.6271113794003381E-2},{"$f":"Input!AK246","v":1.6271113794003381E-2},{"$f":"Input!AL246","v":1.6271113794003381E-2},{"$f":"Input!AM246","v":1.6271113794003381E-2},{"$f":"Input!AN246","v":1.6271113794003381E-2},{"$f":"Input!AO246","v":1.6271113794003381E-2}]
[null,null,null,null,"Opex allocation",null,"%",null,null,null,null,null,null,null,null,null,null,null,null,null,null,null,null,null,null,null,null,null,null,null,null,null,null,{"$f":"Input!AH247","v":0},{"$f":"Input!AI247","v":0},{"$f":"Input!AJ247","v":0},{"$f":"Input!AK247","v":0},{"$f":"Input!AL247","v":0},{"$f":"Input!AM247","v":0},{"$f":"Input!AN247","v":0},{"$f":"Input!AO247","v":0}]
[null,null,null,null,"Repex allocation",null,"%",null,null,null,null,null,null,null,null,null,null,null,null,null,null,null,null,null,null,null,null,null,null,null,null,null,null,{"$f":"Input!AH248","v":0},{"$f":"Input!AI248","v":0},{"$f":"Input!AJ248","v":0},{"$f":"Input!AK248","v":0},{"$f":"Input!AL248","v":0},{"$f":"Input!AM248","v":0},{"$f":"Input!AN248","v":0},{"$f":"Input!AO248","v":0}]
[]
[null,null,null,null,"Special Rate pool additions",null,"£m 09/10 prices",null,null,null,null,null,null,null,null,null,null,null,null,null,null,null,null,null,null,null,null,null,null,null,null,null,null,{"$f":"SUMPRODUCT(AH$26:AH$29,AH44:AH47)","v":28.953199463120502},19.913976892068209,19.782775665997256,0,21.813215331162223,21.793527475856539,21.003697381942775,20.777670606066131]
[]
[null,null,null,"Deferred revenue pool"]
[]
[null,null,null,null,"Load related capex allocation",null,"%",null,null,null,null,null,null,null,null,null,null,null,null,null,null,null,null,null,null,null,null,null,null,null,null,null,null,{"$f":"Input!AH252","v":0},{"$f":"Input!AI252","v":0},{"$f":"Input!AJ252","v":0},{"$f":"Input!AK252","v":0},{"$f":"Input!AL252","v":0},{"$f":"Input!AM252","v":0},{"$f":"Input!AN252","v":0},{"$f":"Input!AO252","v":0}]
[null,null,null,null,"Non-load related capex - other allocation",null,"%",null,null,null,null,null,null,null,null,null,null,null,null,null,null,null,null,null,null,null,null,null,null,null,null,null,null,{"$f":"Input!AH253","v":0},{"$f":"Input!AI253","v":0},{"$f":"Input!AJ253","v":0},{"$f":"Input!AK253","v":0},{"$f":"Input!AL253","v":0},{"$f":"Input!AM253","v":0},{"$f":"Input!AN253","v":0},{"$f":"Input!AO253","v":0}]
[null,null,null,null,"Opex allocation",null,"%",null,null,null,null,null,null,null,null,null,null,null,null,null,null,null,null,null,null,null,null,null,null,null,null,null,null,{"$f":"Input!AH254","v":0},{"$f":"Input!AI254","v":0},{"$f":"Input!AJ254","v":0},{"$f":"Input!AK254","v":0},{"$f":"Input!AL254","v":0},{"$f":"Input!AM254","v":0},{"$f":"Input!AN254","v":0},{"$f":"Input!AO254","v":0}]
[null,null,null,null,"Repex allocation",null,"%",null,null,null,null,null,null,null,null,null,null,null,null,null,null,null,null,null,null,null,null,null,null,null,null,null,null,{"$f":"Input!AH255","v":0},{"$f":"Input!AI255","v":0},{"$f":"Input!AJ255","v":1},{"$f":"Input!AK255","v":1},{"$f":"Input!AL255","v":1},{"$f":"Input!AM255","v":1},{"$f":"Input!AN255","v":1},{"$f":"Input!AO255","v":1}]
[]
[null,null,null,null,"Deferred revenue pool additions",null,"£m 09/10 prices",null,null,null,null,null,null,null,null,null,null,null,null,null,null,null,null,null,null,null,null,null,null,null,null,null,null,{"$f":"SUMPRODUCT(AH$26:AH$29,AH53:AH56)","v":0},0,91.558452979737709,0,109.01992959218663,109.49975714182249,109.99574982753185,110.46329557645316]
[]
[null,null,null,"Revenue pool"]
[]
[null,null,null,null,"Load related capex allocation",null,"%",null,null,null,null,null,null,null,null,null,null,null,null,null,null,null,null,null,null,null,null,null,null,null,null,null,null,{"$f":"Input!AH259","v":0},{"$f":"Input!AI259","v":0},{"$f":"Input!AJ259","v":0},{"$f":"Input!AK259","v":0},{"$f":"Input!AL259","v":0},{"$f":"Input!AM259","v":0},{"$f":"Input!AN259","v":0},{"$f":"Input!AO259","v":0}]
[null,null,null,null,"Non-load related capex - other allocation",null,"%",null,null,null,null,null,null,null,null,null,null,null,null,null,null,null,null,null,null,null,null,null,null,null,null,null,null,{"$f":"Input!AH260","v":0},{"$f":"Input!AI260","v":0},{"$f":"Input!AJ260","v":0},{"$f":"Input!AK260","v":0},{"$f":"Input!AL260","v":0},{"$f":"Input!AM260","v":0},{"$f":"Input!AN260","v":0},{"$f":"Input!AO260","v":0}]
[null,null,null,null,"Opex allocation",null,"%",null,null,null,null,null,null,null,null,null,null,null,null,null,null,null,null,null,null,null,null,null,null,null,null,null,null,{"$f":"Input!AH261","v":1},{"$f":"Input!AI261","v":1},{"$f":"Input!AJ261","v":1},{"$f":"Input!AK261","v":1},{"$f":"Input!AL261","v":1},{"$f":"Input!AM261","v":1},{"$f":"Input!AN261","v":1},{"$f":"Input!AO261","v":1}]
[null,null,null,null,"Repex allocation",null,"%",null,null,null,null,null,null,null,null,null,null,null,null,null,null,null,null,null,null,null,null,null,null,null,null,null,null,{"$f":"Input!AH262","v":1},{"$f":"Input!AI262","v":1},{"$f":"Input!AJ262","v":0},{"$f":"Input!AK262","v":0},{"$f":"Input!AL262","v":0},{"$f":"Input!AM262","v":0},{"$f":"Input!AN262","v":0},{"$f":"Input!AO262","v":0}]
[]
[null,null,null,null,"Revenue pool additions",null,"£m 09/10 prices",null,null,null,null,null,null,null,null,null,null,null,null,null,null,null,null,null,null,null,null,null,null,null,null,null,null,{"$f":"SUMPRODUCT(AH$26:AH$29,AH62:AH65)","v":303.45347742255171},{"$f":"SUMPRODUCT(AI$26:AI$29,AI62:AI65)","v":306.48984605342508},213.32492821094149,91.71656998160266,202.9753890706582,201.5395109264598,200.17045757325457,198.97010607705391]
[]
[null,null,null,"Non-qualifying expenditure"]
[]
[null,null,null,null,"Load related capex allocation",null,"%",null,null,null,null,null,null,null,null,null,null,null,null,null,null,null,null,null,null,null,null,null,null,null,null,null,null,{"$f":"Input!AH266","v":8.4000000000000012E-3},{"$f":"Input!AI266","v":8.4000000000000012E-3},{"$f":"Input!AJ266","v":8.4000000000000012E-3},{"$f":"Input!AK266","v":8.4000000000000012E-3},{"$f":"Input!AL266","v":8.4000000000000012E-3},{"$f":"Input!AM266","v":8.4000000000000012E-3},{"$f":"Input!AN266","v":8.4000000000000012E-3},{"$f":"Input!AO266","v":8.4000000000000012E-3}]
[null,null,null,null,"Non-load related capex - other allocation",null,"%",null,null,null,null,null,null,null,null,null,null,null,null,null,null,null,null,null,null,null,null,null,null,null,null,null,null,{"$f":"Input!AH267","v":8.6167902303589283E-2},{"$f":"Input!AI267","v":8.6167902303589283E-2},{"$f":"Input!AJ267","v":8.6167902303589283E-2},{"$f":"Input!AK267","v":8.6167902303589283E-2},{"$f":"Input!AL267","v":8.6167902303589283E-2},{"$f":"Input!AM267","v":8.6167902303589283E-2},{"$f":"Input!AN267","v":8.6167902303589283E-2},{"$f":"Input!AO267","v":8.6167902303589283E-2}]
[null,null,null,null,"Opex allocation",null,"%",null,null,null,null,null,null,null,null,null,null,null,null,null,null,null,null,null,null,null,null,null,null,null,null,null,null,{"$f":"Input!AH268","v":0},{"$f":"Input!AI268","v":0},{"$f":"Input!AJ268","v":0},{"$f":"Input!AK268","v":0},{"$f":"Input!AL268","v":0},{"$f":"Input!AM268","v":0},{"$f":"Input!AN268","v":0},{"$f":"Input!AO268","v":0}]
[null,null,null,null,"Repex allocation",null,"%",null,null,null,null,null,null,null,null,null,null,null,null,null,null,null,null,null,null,null,null,null,null,null,null,null,null,{"$f":"Input!AH269","v":0},{"$f":"Input!AI269","v":0},{"$f":"Input!AJ269","v":0},{"$f":"Input!AK269","v":0},{"$f":"Input!AL269","v":0},{"$f":"Input!AM269","v":0},{"$f":"Input!AN269","v":0},{"$f":"Input!AO269","v":0}]
[]
[null,null,null,null,"Non-qualifying expenditure",null,"£m 09/10 prices",null,null,null,null,null,null,null,null,null,null,null,null,null,null,null,null,null,null,null,null,null,null,null,null,null,null,{"$f":"SUMPRODUCT(AH$26:AH$29,AH71:AH74)","v":1.7588529285026564},1.8841888839524135,1.6109511576325997,0,3.0571907914092327,2.5890232113873117,1.5851211262285474,1.2205914250550303]
[]
[null,"Capital allowances"]
[null,"Note: Special, General and deferred revenue capital allowances are calculated for the tax allowance calculation."]
[null,"When \"non-core\" assets are transferred to the RAV their tax book value is moved into the \"Transfer\" line."]
[]
[null,null,"General pool"]
[]
[null,null,null,null,"Capital allowance rate",null,"%",null,null,null,null,null,null,null,null,null,null,null,null,null,null,null,null,null,null,null,null,null,null,null,null,null,null,{"$f":"TaxTrigger!AH100","v":0.18000000000000002},{"$f":"TaxTrigger!AI100","v":0.18000000000000002},{"$f":"TaxTrigger!AJ100","v":0.18000000000000002},{"$f":"TaxTrigger!AK100","v":0.18000000000000002},{"$f":"TaxTrigger!AL100","v":0.18000000000000002},{"$f":"TaxTrigger!AM100","v":0.18000000000000002},{"$f":"TaxTrigger!AN100","v":0.18000000000000002},{"$f":"TaxTrigger!AO100","v":0.18000000000000002}]
[]
[null,null,null,null,"Opening balance brought forward",null,"£m nominal",null,null,null,null,null,null,null,null,null,null,null,null,null,null,null,null,null,null,null,null,null,null,null,null,null,null,{"$f":"Input!AH226","v":93.347165715101582},{"$f":"AH91","v":91.67035062148264},92.759303731685208,91.284592295717005,74.853365682487947,93.342823521549448,104.05591374380776,101.90478691926376]
[null,null,null,null,"Revisions",null,"£m nominal"]
[null,null,null,null,"Capex additions",null,"£m nominal",null,null,null,null,null,null,null,null,null,null,null,null,null,null,null,null,null,null,null,null,null,null,null,null,null,null,{"$f":"AH40*Input!AH$43/Input!$AD$43","v":18.445944798901632},{"$f":"AI40*Input!AI$43/Input!$AD$43","v":21.450751490328585},{"$f":"AJ40*Input!AJ$43/Input!$AD$43","v":18.563369799676988},{"$f":"AK40*Input!AK$43/Input!$AD$43","v":0},{"$f":"AL40*Input!AL$43/Input!$AD$43","v":38.979345929157731},{"$f":"AM40*Input!AM$43/Input!$AD$43","v":33.554632263581972},{"$f":"AN40*Input!AN$43/Input!$AD$43","v":20.218216645538295},{"$f":"AO40*Input!AO$43/Input!$AD$43","v":15.448070210688462}]
[null,null,null,null,"Tax book value pre-depreciation",null,"£m nominal",null,null,null,null,null,null,null,null,null,null,null,null,null,null,null,null,null,null,null,null,null,null,null,null,null,null,{"$f":"SUM(AH86:AH88)","v":111.79311051400322},113.12110211181123,111.3226735313622,91.284592295717005,113.83271161164568,126.89745578513143,124.27413038934606,117.35285712995221]
[null,null,null,null,"General pool capital allowance (reducing balance)",null,"£m nominal",null,null,null,null,null,null,null,null,null,null,null,null,null,null,null,null,null,null,null,null,null,null,null,null,null,null,{"$f":"-AH89*AH84","v":-20.12275989252058},-20.361798380126022,-20.038081235645198,-16.431226613229065,-20.489888090096226,-22.84154204132366,-22.369343470082292,-21.123514283391401]
[null,null,null,null,"Closing balance carried forward",null,"£m nominal",null,null,null,null,null,null,null,null,null,null,null,null,null,null,null,null,null,null,null,null,null,null,null,null,null,null,{"$f":"AH89+AH90","v":91.67035062148264},92.759303731685208,91.284592295717005,74.853365682487947,93.342823521549448,104.05591374380776,101.90478691926376,96.229342846560812]
[]
[null,null,"Special Rates pool"]
[]
[null,null,null,null,"Capital allowance rate",null,"%",null,null,null,null,null,null,null,null,null,null,null,null,null,null,null,null,null,null,null,null,null,null,null,null,null,null,{"$f":"TaxTrigger!AH110","v":0.08},{"$f":"TaxTrigger!AI110","v":0.08},{"$f":"TaxTrigger!AJ110","v":0.08},{"$f":"TaxTrigger!AK110","v":0.08},{"$f":"TaxTrigger!AL110","v":0.08},{"$f":"TaxTrigger!AM110","v":0.08},{"$f":"TaxTrigger!AN110","v":0.08},{"$f":"TaxTrigger!AO110","v":0.08}]
[]
[null,null,null,null,"Opening balance brought forward",null,"£m nominal",null,null,null,null,null,null,null,null,null,null,null,null,null,null,null,null,null,null,null,null,null,null,null,null,null,null,{"$f":"Input!AH228","v":246.88306659693257},{"$f":"AH102","v":258.09674004912432},259.34254888673468,260.95346351870438,240.07718643720804,246.92407852269685,253.92851166610035,260.12492357501748]
[null,null,null,null,"Revisions",null,"£m nominal"]
[null,null,null,null,"Capex additions",null,"£m nominal",null,null,null,null,null,null,null,null,null,null,null,null,null,null,null,null,null,null,null,null,null,null,null,null,null,null,{"$f":"AH49 * Input!AH$43 / Input!$AD$43","v":33.656868239072168},{"$f":"AI49 * Input!AI$43 / Input!$AD$43","v":23.797334827761166},{"$f":"AJ49 * Input!AJ$43 / Input!$AD$43","v":24.302520155335298},{"$f":"AK49 * Input!AK$43 / Input!$AD$43","v":0},{"$f":"AL49 * Input!AL$43 / Input!$AD$43","v":28.318551087462428},{"$f":"AM49 * Input!AM$43 / Input!$AD$43","v":29.085173288281794},{"$f":"AN49 * Input!AN$43 / Input!$AD$43","v":28.815970480657757},{"$f":"AO49 * Input!AO$43 / Input!$AD$43","v":29.304077741878899}]
[null,null,null,null,"Tax book value pre-depreciation",null,"£m nominal",null,null,null,null,null,null,null,null,null,null,null,null,null,null,null,null,null,null,null,null,null,null,null,null,null,null,{"$f":"SUM(AH97:AH99)","v":280.5399348360047},281.8940748768855,283.64506904206996,260.95346351870438,268.39573752467049,276.00925181097864,282.74448214675812,289.42900131689635]
[null,null,null,null,"Special Rates capital allowance (reducing balance)",null,"£m nominal",null,null,null,null,null,null,null,null,null,null,null,null,null,null,null,null,null,null,null,null,null,null,null,null,null,null,{"$f":"-AH100*AH95","v":-22.443194786880376},-22.551525990150839,-22.691605523365599,-20.876277081496351,-21.471659001973642,-22.080740144878291,-22.619558571740651,-23.154320105351708]
[null,null,null,null,"Closing balance carried forward",null,"£m nominal",null,null,null,null,null,null,null,null,null,null,null,null,null,null,null,null,null,null,null,null,null,null,null,null,null,null,{"$f":"AH100 + AH101","v":258.09674004912432},259.34254888673468,260.95346351870438,240.07718643720804,246.92407852269685,253.92851166610035,260.12492357501748,266.27468121154465]
[]
[null,null,"Deferred revenue expenditure"]
[]
[null,null,null,null,"Capital allowance rate",null,"%",null,null,null,null,null,null,null,null,null,null,null,null,null,null,null,null,null,null,null,null,null,null,null,null,null,null,{"$f":"TaxTrigger!AH120","v":2.2200000000000001E-2},{"$f":"TaxTrigger!AI120","v":2.2200000000000001E-2},{"$f":"TaxTrigger!AJ120","v":2.2200000000000001E-2},{"$f":"TaxTrigger!AK120","v":2.2200000000000001E-2},{"$f":"TaxTrigger!AL120","v":2.2200000000000001E-2},{"$f":"TaxTrigger!AM120","v":2.2200000000000001E-2},{"$f":"TaxTrigger!AN120","v":2.2200000000000001E-2},{"$f":"TaxTrigger!AO120","v":2.2200000000000001E-2}]
[]
[null,null,null,null,"Opening balance brought forward",null,"£m nominal",null,null,null,null,null,null,null,null,null,null,null,null,null,null,null,null,null,null,null,null,null,null,null,null,null,null,{"$f":"Input!AH230","v":10.406944779971756},{"$f":"AH114","v":10.175910605856382},{"$f":"AI114","v":9.9448764317410081},122.19053342063117,119.46251670269707,258.26734596081752,398.53332210008421,540.32745241938073]
[null,null,null,null,"Transfer",null,"£m nominal"]
[null,null,null,null,"Revisions",null,"£m nominal"]
[null,null,null,null,"Capex additions",null,"£m nominal",null,null,null,null,null,null,null,null,null,null,null,null,null,null,null,null,null,null,null,null,null,null,null,null,null,null,{"$f":"AH58*Input!AH$43/Input!$AD$43","v":0},{"$f":"AI58*Input!AI$43/Input!$AD$43","v":0},{"$f":"AJ58*Input!AJ$43/Input!$AD$43","v":112.47669116300554},{"$f":"AK58*Input!AK$43/Input!$AD$43","v":0},{"$f":"AL58*Input!AL$43/Input!$AD$43","v":141.53284597605455},{"$f":"AM58*Input!AM$43/Input!$AD$43","v":146.1360220378692},{"$f":"AN58*Input!AN$43/Input!$AD$43","v":150.90839590713969},{"$f":"AO58*Input!AO$43/Input!$AD$43","v":155.79345069853341}]
[null,null,null,null,"Tax book value pre-depreciation",null,"£m nominal",null,null,null,null,null,null,null,null,null,null,null,null,null,null,null,null,null,null,null,null,null,null,null,null,null,null,{"$f":"SUM(AH108:AH111)","v":10.406944779971756},{"$f":"SUM(AI108:AI111)","v":10.175910605856382},122.42156759474655,122.19053342063117,260.99536267875163,404.40336799868669,549.44171800722393,696.12090311791417]
[null,null,null,null,"Deferred revenue expenditure capital allowance (straight line)",null,"£m nominal",null,null,null,null,null,null,null,null,null,null,null,null,null,null,null,null,null,null,null,null,null,null,null,null,null,null,{"$f":"-($AH$108+SUM($AG111:AG111))*AH106","v":-0.231034174115373},{"$f":"-($AH$108+SUM($AG111:AH111))*AI106","v":-0.231034174115373},{"$f":"-($AH$108+SUM($AG111:AI111))*AJ106","v":-0.231034174115373},{"$f":"-($AH$108+SUM($AG111:AJ111))*AK106","v":-2.7280167179340959},{"$f":"-($AH$108+SUM($AG111:AK111))*AL106","v":-2.7280167179340959},{"$f":"-($AH$108+SUM($AG111:AL111))*AM106","v":-5.8700458986025081},{"$f":"-($AH$108+SUM($AG111:AM111))*AN106","v":-9.1142655878432031},{"$f":"-($AH$108+SUM($AG111:AN111))*AO106","v":-12.464431976981707}]
[null,null,null,null,"Closing balance carried forward",null,"£m nominal",null,null,null,null,null,null,null,null,null,null,null,null,null,null,null,null,null,null,null,null,null,null,null,null,null,null,{"$f":"AH112+AH113","v":10.175910605856382},9.9448764317410081,122.19053342063117,119.46251670269707,258.26734596081752,398.53332210008421,540.32745241938073,683.65647114093247]
[]
[null,null,"Total capital allowances"]
[]
[null,null,null,null,"Special Rates pool",null,"£m nominal",null,null,null,null,null,null,null,null,null,null,null,null,null,null,null,null,null,null,null,null,null,null,null,null,null,null,{"$f":"-AH101","v":22.443194786880376},22.551525990150839,22.691605523365599,20.876277081496351,21.471659001973642,22.080740144878291,22.619558571740651,23.154320105351708]
[null,null,null,null,"General pool",null,"£m nominal",null,null,null,null,null,null,null,null,null,null,null,null,null,null,null,null,null,null,null,null,null,null,null,null,null,null,{"$f":"-AH90","v":20.12275989252058},20.361798380126022,20.038081235645198,16.431226613229065,20.489888090096226,22.84154204132366,22.369343470082292,21.123514283391401]
[null,null,null,null,"Deferred revenue expenditure",null,"£m nominal",null,null,null,null,null,null,null,null,null,null,null,null,null,null,null,null,null,null,null,null,null,null,null,null,null,null,{"$f":"-AH113","v":0.231034174115373},0.231034174115373,0.231034174115373,2.7280167179340959,2.7280167179340959,5.8700458986025081,9.1142655878432031,12.464431976981707]
[null,null,null,null,"Capital allowances",null,"£m nominal",null,null,null,null,null,null,null,null,null,null,null,null,null,null,null,null,null,null,null,null,null,null,null,null,null,null,{"$f":"SUM(AH118:AH120)","v":42.796988853516332},43.144358544392233,42.960720933126169,40.035520412659508,44.68956381000396,50.79232808480446,54.103167629666146,56.742266365724817]
[]
[null,"End of sheet"]

{"sheet":"Finance&Tax","index":12,"n_rows":231,"n_cols":41,"rows_kept":231,"cut":false,"hidden":false,"merged":[]}
["Finance & Tax"]
[null,{"$f":"UserInterface!G17","v":"East"}]
[null,null,null,null,"Parameter",null,"Units",null,"Constant",null,null,null,null,null,null,null,null,null,null,null,null,null,null,null,null,null,null,null,null,null,null,null,null,"Annual values"]
[null,null,null,null,"PCFM year ending",null,null,null,{"$f":"UserInterface!$G$10","v":"2019-03-31"},null,"1991-03-31","1992-03-31","1993-03-31","1994-03-31","1995-03-31","1996-03-31","1997-03-31","1998-03-31","1999-03-31","2000-03-31","2001-03-31","2002-03-31","2003-03-31","2004-03-31","2005-03-31","2006-03-31","2007-03-31","2008-03-31","2009-03-31","2010-03-31","2011-03-31","2012-03-31","2013-03-31","2014-03-31","2015-03-31","2016-03-31","2017-03-31","2018-03-31","2019-03-31","2020-03-31","2021-03-31"]
[]
[null,"Net debt"]
[null,"Note: Net debt is calculated to generate interest paid (for the tax calculation) and gearing levels (for equity issuance calculations)."]
[null,"\"Core\" net debt is distinct from \"Non-core\" net debt. Non-core net debt relates to assets held outside the main RAV and receiving a pre-tax income."]
[]
[null,null,"Core net debt"]
[null,null,"Note: The company opens the price control at its notionally geared level. Any equity issuance required to reach this level is not shown."]
[null,null,"Equity issuance (if any) occurs at the start of the year and may be followed by transfers to or from non-core net debt (to equalise opening gearing levels across the company)."]
[null,null,"Start of year transfers may also include net debt accompanying non-core assets transferred to core RAV."]
[null,null,"A sub-total is taken before tax and interest on in-year cash flow. This allows the calculation of interest on in-year cash flow to be solved analytically."]
[]
[null,null,null,null,"Opening balance brought forward (before equity issuance and transfers)",null,"£m nominal",null,null,null,null,null,null,null,null,null,null,null,null,null,null,null,null,null,null,null,null,null,null,null,null,null,null,null,{"$f":"AH33","v":-1851.3061471282701},{"$f":"AI33","v":-1840.0684405174818},-1845.6197735155724,-1604.2049887409414,-1635.1080270494576,-1658.0477841649326,-1669.8209472804394]
[null,null,null,null,"Equity issuance",null,"£m nominal",null,null,null,null,null,null,null,null,null,null,null,null,null,null,null,null,null,null,null,null,null,null,null,null,null,null,null,{"$f":"AI77","v":0},{"$f":"AJ77","v":0},0,0,0,0,0]
[null,null,null,null,"Opening balance brought forward (after equity issuance, before transfers)",null,"£m nominal",null,null,null,null,null,null,null,null,null,null,null,null,null,null,null,null,null,null,null,null,null,null,null,null,null,null,null,{"$f":"SUM(AI16:AI17)","v":-1851.3061471282701},{"$f":"SUM(AJ16:AJ17)","v":-1840.0684405174818},-1845.6197735155724,-1604.2049887409414,-1635.1080270494576,-1658.0477841649326,-1669.8209472804394]
[null,null,null,null,"Opening balance brought forward (after equity issuance and transfers)",null,"£m nominal",null,null,null,null,null,null,null,null,null,null,null,null,null,null,null,null,null,null,null,null,null,null,null,null,null,null,{"$f":"-AH58 * (AH47)","v":-1863.2390592256377},{"$f":"SUM(AI18:AI18)","v":-1851.3061471282701},-1840.0684405174818,-1845.6197735155724,-1604.2049887409414,-1635.1080270494576,-1658.0477841649326,-1669.8209472804394]
[null,null,null,null,"Add Recalculated base revenue (except tax allowance)",null,"£m nominal",null,null,null,null,null,null,null,null,null,null,null,null,null,null,null,null,null,null,null,null,null,null,null,null,null,null,{"$f":"Revenue!AH17*Input!AH$43/Input!$AD$43","v":585.95028343133151},{"$f":"Revenue!AI17*Input!AI$43/Input!$AD$43","v":582.67011046812104},{"$f":"Revenue!AJ17*Input!AJ$43/Input!$AD$43","v":569.3514690009149},{"$f":"Revenue!AK17*Input!AK$43/Input!$AD$43","v":504.55976753737889},{"$f":"Revenue!AL17*Input!AL$43/Input!$AD$43","v":588.59656772762082},{"$f":"Revenue!AM17*Input!AM$43/Input!$AD$43","v":600.39888445681345},{"$f":"Revenue!AN17*Input!AN$43/Input!$AD$43","v":605.34092161737101},{"$f":"Revenue!AO17*Input!AO$43/Input!$AD$43","v":620.91145420033342}]
[null,null,null,null,"Add net impact of DARTs on core net debt",null,"£m nominal",null,null,null,null,null,null,null,null,null,null,null,null,null,null,null,null,null,null,null,null,null,null,null,null,null,null,{"$f":"DARTs!AH47 * Input!AH$43 / Input!$AD$43","v":-5.1725519663443569},{"$f":"DARTs!AI47 * Input!AI$43 / Input!$AD$43","v":-5.3173842463046332},{"$f":"DARTs!AJ47 * Input!AJ$43 / Input!$AD$43","v":-4.3980741245212327},{"$f":"DARTs!AK47 * Input!AK$43 / Input!$AD$43","v":-4.5212241158523376},{"$f":"DARTs!AL47 * Input!AL$43 / Input!$AD$43","v":-4.6478253599720265},{"$f":"DARTs!AM47 * Input!AM$43 / Input!$AD$43","v":-4.777960819687717},{"$f":"DARTs!AN47 * Input!AN$43 / Input!$AD$43","v":-4.9117466429297929},{"$f":"DARTs!AO47 * Input!AO$43 / Input!$AD$43","v":-5.0492823850671584}]
[null,null,null,null,"Less actual totex",null,"£m nominal",null,null,null,null,null,null,null,null,null,null,null,null,null,null,null,null,null,null,null,null,null,null,null,null,null,null,{"$f":"-Totex!AH69 * Input!AH43 / Input!$AD43","v":-295.77681929145649},{"$f":"-Totex!AI69 * Input!AI43 / Input!$AD43","v":-300.6819449647993},{"$f":"-Totex!AJ69 * Input!AJ43 / Input!$AD43","v":-303.33535366450923},{"$f":"-Totex!AK69 * Input!AK43 / Input!$AD43","v":0},{"$f":"-Totex!AL69 * Input!AL43 / Input!$AD43","v":-357.47279579809162},{"$f":"-Totex!AM69 * Input!AM43 / Input!$AD43","v":-359.29221255362387},{"$f":"-Totex!AN69 * Input!AN43 / Input!$AD43","v":-351.67861847747548},{"$f":"-Totex!AO69 * Input!AO43 / Input!$AD43","v":-354.57726774677002}]
[null,null,null,null,"Less actual non-totex",null,"£m nominal",null,null,null,null,null,null,null,null,null,null,null,null,null,null,null,null,null,null,null,null,null,null,null,null,null,null,{"$f":"-Input!AH161 * Input!AH43 / Input!$AD43","v":-111.12240236623879},{"$f":"-Input!AI161 * Input!AI43 / Input!$AD43","v":-113.07516400438273},{"$f":"-Input!AJ161 * Input!AJ43 / Input!$AD43","v":-116.04922179496189},{"$f":"-Input!AK161 * Input!AK43 / Input!$AD43","v":-115.82581938589776},{"$f":"-Input!AL161 * Input!AL43 / Input!$AD43","v":-118.835439619574},{"$f":"-Input!AM161 * Input!AM43 / Input!$AD43","v":-121.90916868085637},{"$f":"-Input!AN161 * Input!AN43 / Input!$AD43","v":-125.06202988651648},{"$f":"-Input!AO161 * Input!AO43 / Input!$AD43","v":-128.3100752714804}]
[null,null,null,null,"Less dividends",null,"£m nominal",null,null,null,null,null,null,null,null,null,null,null,null,null,null,null,null,null,null,null,null,null,null,null,null,null,null,{"$f":"-AH152","v":-51.144739734010955},-52.037126160734331,-53.285723669789959,-53.877852924995935,-55.589273396728345,-57.265658819359459,-58.812419867823216,-60.362248380237524]
[null,null,null,null,"Less RAV adjustment from previous price controls (share to net debt)",null,"£m nominal",null,null,null,null,null,null,null,null,null,null,null,null,null,null,null,null,null,null,null,null,null,null,null,null,null,null,{"$f":" - ((Input!AH196+Input!AH197) * $AH$58) * Input!AH43 / Input!$AD43","v":-6.3724792938344361},{"$f":" - ((Input!AI196+Input!AI197) * $AH$58) * Input!AI43 / Input!$AD43","v":0},{"$f":" - ((Input!AJ196+Input!AJ197) * $AH$58) * Input!AJ43 / Input!$AD43","v":0},{"$f":" - ((Input!AK196+Input!AK197) * $AH$58) * Input!AK43 / Input!$AD43","v":0},{"$f":" - ((Input!AL196+Input!AL197) * $AH$58) * Input!AL43 / Input!$AD43","v":0},{"$f":" - ((Input!AM196+Input!AM197) * $AH$58) * Input!AM43 / Input!$AD43","v":0},{"$f":" - ((Input!AN196+Input!AN197) * $AH$58) * Input!AN43 / Input!$AD43","v":0},{"$f":" - ((Input!AO196+Input!AO197) * $AH$58) * Input!AO43 / Input!$AD43","v":0}]
[null,null,null,null,"Less pre-vesting and post-vesting disposal proceeds",null,"£m nominal",null,null,null,null,null,null,null,null,null,null,null,null,null,null,null,null,null,null,null,null,null,null,null,null,null,null,{"$f":"-('Return&RAV'!AH54 + Input!AH198) * Input!AH43 / Input!$AD43","v":0.54885814985357317},{"$f":"-('Return&RAV'!AI54 + Input!AI198) * Input!AI43 / Input!$AD43","v":0.37766123717463779},{"$f":"-('Return&RAV'!AJ54 + Input!AJ198) * Input!AJ43 / Input!$AD43","v":0},{"$f":"-('Return&RAV'!AK54 + Input!AK198) * Input!AK43 / Input!$AD43","v":-0.1391985251801196},{"$f":"-('Return&RAV'!AL54 + Input!AL198) * Input!AL43 / Input!$AD43","v":0.11480687574798761},{"$f":"-('Return&RAV'!AM54 + Input!AM198) * Input!AM43 / Input!$AD43","v":1.7349520547627768},{"$f":"-('Return&RAV'!AN54 + Input!AN198) * Input!AN43 / Input!$AD43","v":6.0365690768282461},{"$f":"-('Return&RAV'!AO54 + Input!AO198) * Input!AO43 / Input!$AD43","v":2.3976187276089487}]
[null,null,null,null,"Less equity issuance costs",null,"£m nominal",null,null,null,null,null,null,null,null,null,null,null,null,null,null,null,null,null,null,null,null,null,null,null,null,null,null,{"$f":"-AH142","v":0},{"$f":"-AI142","v":0},0,0,0,0,0,0]
[null,null,null,null,"Closing net debt (before tax and debt costs)",null,"£m nominal",null,null,null,null,null,null,null,null,null,null,null,null,null,null,null,null,null,null,null,null,null,null,null,null,null,null,{"$f":"SUM(AH19:AH27)","v":-1746.3289102963377},{"$f":"SUM(AI19:AI27)","v":-1739.3699947991952},-1747.7853447703492,-1515.4241009301199,-1552.0389483119388,-1576.2191914114087,-1587.1351083454783,-1594.8107481360526]
[null,null,null,null,"Less net interest paid (interest coupon)",null,"£m nominal",null,null,null,null,null,null,null,null,null,null,null,null,null,null,null,null,null,null,null,null,null,null,null,null,null,null,{"$f":"AH128","v":-91.708768053589537},{"$f":"AI128","v":-87.561012703645687},-84.38036741043932,-76.12845655508572,-68.91245435417845,-70.112261490310161,-70.853162918961502,-71.278771979945475]
[null,null,null,null,"Less net interest paid (inflation coupon)",null,"£m nominal",null,null,null,null,null,null,null,null,null,null,null,null,null,null,null,null,null,null,null,null,null,null,null,null,null,null,{"$f":"AH130","v":-13.003025232856229},{"$f":"AI130","v":-12.909272391144057},-12.878410549339835,-12.044011483060659,-11.292715550963829,-11.488843121798183,-11.610544270698641,-11.680453386940805]
[null,null,null,null,"Add tax allowance",null,"£m nominal",null,null,null,null,null,null,null,null,null,null,null,null,null,null,null,null,null,null,null,null,null,null,null,null,null,null,{"$f":"AH195","v":23.705840242623758},17.649090878605882,42.512961007097068,67.281740126756389,48.355235102691715,51.350028079173505,50.02284202098263,51.702625738675678]
[null,null,null,null,"Less tax paid (including cash flow on revenue without a tax allowance)",null,"£m nominal",null,null,null,null,null,null,null,null,null,null,null,null,null,null,null,null,null,null,null,null,null,null,null,null,null,null,{"$f":"-AH224","v":-23.971283788110515},{"$f":"-AI224","v":-17.87725150210278},-43.088611792541371,-67.890159899431652,-51.219143935068452,-51.577516220589018,-50.244973766283572,-51.921038317430337]
[null,null,null,null,"Closing value",null,"£m nominal",null,null,null,null,null,null,null,null,null,null,null,null,null,null,null,null,null,null,null,null,null,null,null,null,null,null,{"$f":"SUM(AH28:AH32)","v":-1851.3061471282701},-1840.0684405174818,-1845.6197735155724,-1604.2049887409414,-1635.1080270494576,-1658.0477841649326,-1669.8209472804394,-1677.9883860816938]
[]
[null,null,"Total net debt"]
[]
[null,null,null,null,"Opening total net debt (before equity issuance)",null,"£m nominal",null,null,null,null,null,null,null,null,null,null,null,null,null,null,null,null,null,null,null,null,null,null,null,null,null,null,null,{"$f":"AI16","v":-1851.3061471282701},{"$f":"AJ16","v":-1840.0684405174818},-1845.6197735155724,-1604.2049887409414,-1635.1080270494576,-1658.0477841649326,-1669.8209472804394]
[null,null,null,null,"Opening total net debt (after equity issuance)",null,"£m nominal",null,null,null,null,null,null,null,null,null,null,null,null,null,null,null,null,null,null,null,null,null,null,null,null,null,null,{"$f":"AH19","v":-1863.2390592256377},{"$f":"AI18","v":-1851.3061471282701},{"$f":"AJ18","v":-1840.0684405174818},-1845.6197735155724,-1604.2049887409414,-1635.1080270494576,-1658.0477841649326,-1669.8209472804394]
[]
[null,"Regearing"]
[]
[null,null,"Overall opening gearing"]
[null,null,"Note: Opening values are based on real opening RAV inflated by the previous years prices."]
[]
[null,null,null,null,"Opening total net debt (before equity issuance)",null,"£m nominal",null,null,null,null,null,null,null,null,null,null,null,null,null,null,null,null,null,null,null,null,null,null,null,null,null,null,null,{"$f":"AI37","v":-1851.3061471282701},-1840.0684405174818,-1845.6197735155724,-1604.2049887409414,-1635.1080270494576,-1658.0477841649326,-1669.8209472804394]
[]
[null,null,null,null,"Opening core RAV (after transfers)",null,"£m nominal",null,null,null,null,null,null,null,null,null,null,null,null,null,null,null,null,null,null,null,null,null,null,null,null,null,null,{"$f":"('Return&RAV'!AH41)* Input!AG$43 / Input!$AD$43","v":2866.5216295779042},{"$f":"('Return&RAV'!AI41)* Input!AH$43 / Input!$AD$43","v":2922.5565562291972},{"$f":"('Return&RAV'!AJ41)* Input!AI$43 / Input!$AD$43","v":2973.5500663276762},{"$f":"('Return&RAV'!AK41)* Input!AJ$43 / Input!$AD$43","v":3044.8984954165689},{"$f":"('Return&RAV'!AL41)* Input!AK$43 / Input!$AD$43","v":3078.7344528569106},{"$f":"('Return&RAV'!AM41)* Input!AL$43 / Input!$AD$43","v":3176.529908384477},{"$f":"('Return&RAV'!AN41)* Input!AM$43 / Input!$AD$43","v":3272.3233611062547},{"$f":"('Return&RAV'!AO41)* Input!AN$43 / Input!$AD$43","v":3360.7097067327554}]
[null,null,null,null,"Total opening regulatory assets (after transfers)",null,"£m nominal",null,null,null,null,null,null,null,null,null,null,null,null,null,null,null,null,null,null,null,null,null,null,null,null,null,null,{"$f":"SUM(AH47:AH47)","v":2866.5216295779042},2922.5565562291972,2973.5500663276762,3044.8984954165689,3078.7344528569106,3176.529908384477,3272.3233611062547,3360.7097067327554]
[]
[null,null,null,null,"Overall gearing at start of year (before equity issuance)",null,"%",null,null,null,null,null,null,null,null,null,null,null,null,null,null,null,null,null,null,null,null,null,null,null,null,null,null,null,{"$f":" - AI45 / AI$48","v":0.63345434434189407},0.61881199222246819,0.6061350735644393,0.52105987486264682,0.51474661791585097,0.50668824599424866,0.49686557096412259]
[]
[null,null,"Start of price control notional regearing"]
[null,null,"Note: An allowance is given to cover the change in notional gearing from its level in the previous price control. "]
[null,null,"For transmission only, where the Pre-RIIO closing gearing is higher than the notional opening gear the notional gearing at the start of RIIO will be uplifted to reflect this difference."]
[]
[null,null,null,null,"Pre-RIIO closing notional gearing",null,null,null,null,null,null,null,null,null,null,null,null,null,null,null,null,null,null,null,null,null,null,null,null,null,null,null,{"$f":"Input!I41","v":0.625}]
[]
[null,null,null,null,"Notional gearing",null,"%",null,null,">",null,null,null,null,null,null,null,null,null,null,null,null,null,null,null,null,null,null,null,null,null,null,{"$f":"Input!AG37","v":0.625},{"$f":"Input!AH37","v":0.65}]
[]
[null,null,null,null,"Start of price control change in notional gearing",null,"%",null,null,null,null,null,null,null,null,null,null,null,null,null,null,null,null,null,null,null,null,null,null,null,null,null,null,{"$f":"IF(AG58 >= AH58+ Input!$I$69, AG58 - AH58, 0)","v":0}]
[null,null,null,null,"Total opening regulatory assets (after transfers)",null,"£m nominal",null,null,null,null,null,null,null,null,null,null,null,null,null,null,null,null,null,null,null,null,null,null,null,null,null,null,{"$f":"AH48","v":2866.5216295779042}]
[]
[null,null,null,null,"Movement in net debt for notional regearing change",null,"£m nominal",null,null,null,null,null,null,null,null,null,null,null,null,null,null,null,null,null,null,null,null,null,null,null,null,null,null,{"$f":" AH60 * AH$61","v":0}]
[]
[null,null,"Equity issuance"]
[null,null,"Note: If opening overall gearing exceeds its target level beyond a given threshold, an equity issuance is triggered, bringing opening gearing back to its target level. An allowance is calculated for the cost of raising this equity."]
[]
[null,null,null,null,"Total opening regulatory assets (after transfers)",null,"£m nominal",null,null,null,null,null,null,null,null,null,null,null,null,null,null,null,null,null,null,null,null,null,null,null,null,null,null,null,{"$f":"AI48","v":2922.5565562291972},{"$f":"AJ48","v":2973.5500663276762},3044.8984954165689,3078.7344528569106,3176.529908384477,3272.3233611062547,3360.7097067327554]
[]
[null,null,null,null,"Overall gearing at start of year (before equity issuance)",null,"%",null,null,null,null,null,null,null,null,null,null,null,null,null,null,null,null,null,null,null,null,null,null,null,null,null,null,null,{"$f":"AI50","v":0.63345434434189407},{"$f":"AJ50","v":0.61881199222246819},0.6061350735644393,0.52105987486264682,0.51474661791585097,0.50668824599424866,0.49686557096412259]
[null,null,null,null,"Less target gearing for equity issuance",null,"%",null,null,null,null,null,null,null,null,null,null,null,null,null,null,null,null,null,null,null,null,null,null,null,null,null,null,null,{"$f":"-Input!AI73","v":-0.65},{"$f":"-Input!AJ73","v":-0.65},{"$f":"-Input!AK73","v":-0.65},{"$f":"-Input!AL73","v":-0.65},{"$f":"-Input!AM73","v":-0.65},{"$f":"-Input!AN73","v":-0.65},{"$f":"-Input!AO73","v":-0.65}]
[null,null,null,null,"Deviation from equity issuance target gearing",null,"%",null,null,null,null,null,null,null,null,null,null,null,null,null,null,null,null,null,null,null,null,null,null,null,null,null,null,null,{"$f":"SUM(AI70:AI71)","v":-1.6545655658105951E-2},{"$f":"SUM(AJ70:AJ71)","v":-3.1188007777531834E-2},-4.3864926435560725E-2,-0.1289401251373532,-0.13525338208414905,-0.14331175400575136,-0.15313442903587743]
[]
[null,null,null,null,"Threshold deviation above target level",null,"%",null,{"$f":"Input!I69","v":0.05}]
[null,null,null,null,"Equity issuance threshold met",null,"text",null,null,null,null,null,null,null,null,null,null,null,null,null,null,null,null,null,null,null,null,null,null,null,null,null,null,null,{"$f":"AI72 >= $I74","v":false},{"$f":"AJ72 >= $I74","v":false},false,false,false,false,false]
[]
[null,null,null,null,"Equity issuance",null,"£m nominal",null,null,null,null,null,null,null,null,null,null,null,null,null,null,null,null,null,null,null,null,null,null,null,null,null,null,null,{"$f":"AI68 * AI72 * AI75","v":0},{"$f":"AJ68 * AJ72 * AJ75","v":0},0,0,{"$f":"AM68 * AM72 * AM75","v":0},0,0]
[]
[null,null,"Start of year gearing equalisation between core and non-core net debt"]
[null,null,"Note: Movements in non-core cash flow allow core and non-core gearing levels to diverge within the year. Net debt transfers at the start of the year equalise levels of gearing across the company."]
[null,null,"The overall gearing percentage is exported to the \"NonCore\" sheet to set their opening gearing to that level. Net movements required to reach that level from their net debt brought forward generate a transfer from Core net debt."]
[]
[null,null,null,null,"Opening total net debt (after equity issuance)",null,"£m nominal",null,null,null,null,null,null,null,null,null,null,null,null,null,null,null,null,null,null,null,null,null,null,null,null,null,null,{"$f":"AH38","v":-1863.2390592256377},{"$f":"AI38","v":-1851.3061471282701},{"$f":"AJ38","v":-1840.0684405174818},-1845.6197735155724,-1604.2049887409414,-1635.1080270494576,-1658.0477841649326,-1669.8209472804394]
[null,null,null,null,"Total opening regulatory assets (after transfers)",null,"£m nominal",null,null,null,null,null,null,null,null,null,null,null,null,null,null,null,null,null,null,null,null,null,null,null,null,null,null,{"$f":"AH48","v":2866.5216295779042},{"$f":"AI48","v":2922.5565562291972},2973.5500663276762,3044.8984954165689,3078.7344528569106,3176.529908384477,3272.3233611062547,3360.7097067327554]
[]
[null,null,null,null,"Overall gearing at start of year (after equity issuance)",null,"%",null,null,null,null,null,null,null,null,null,null,null,null,null,null,null,null,null,null,null,null,null,null,null,null,null,null,{"$f":"-AH83/AH84","v":0.65},0.63345434434189407,0.61881199222246819,0.6061350735644393,0.52105987486264682,0.51474661791585097,0.50668824599424866,0.49686557096412259]
[]
[null,"Financing costs"]
[]
[null,null,"Interest"]
[]
[null,null,null,"Forecast cost of debt"]
[null,null,null,"Note: The nominal cost of debt is calculated and adjusted for any portion indexed for inflation."]
[]
[null,null,null,null,"Cost of debt",null,"annual real %",null,null,null,null,null,null,null,null,null,null,null,null,null,null,null,null,null,null,null,null,null,null,null,null,null,null,{"$f":"Input!AH35","v":2.92E-2},{"$f":"Input!AI35","v":2.7199999999999998E-2},{"$f":"Input!AJ35","v":2.5499999999999998E-2},{"$f":"Input!AK35","v":2.3800000000000002E-2},{"$f":"Input!AL35","v":2.2200000000000001E-2},{"$f":"Input!AM35","v":2.2200000000000001E-2},{"$f":"Input!AN35","v":2.2200000000000001E-2},{"$f":"Input!AO35","v":2.2200000000000001E-2}]
[null,null,null,null,"Forecast Debt inflation",null,"annual %",null,null,null,null,null,null,null,null,null,null,null,null,null,null,null,null,null,null,null,null,null,null,null,null,null,null,{"$f":"Input!AH44/Input!AG44-1","v":2.8001377116907422E-2},{"$f":"Input!AI44/Input!AH44-1","v":2.800015947691592E-2},{"$f":"Input!AJ44/Input!AI44-1","v":2.8001535818307888E-2},{"$f":"Input!AK44/Input!AJ44-1","v":2.8000890354368702E-2},{"$f":"Input!AL44/Input!AK44-1","v":2.8001541369249594E-2},{"$f":"Input!AM44/Input!AL44-1","v":2.7999214608285916E-2},{"$f":"Input!AN44/Input!AM44-1","v":2.8000611200244441E-2},{"$f":"Input!AO44/Input!AN44-1","v":2.8001391793149866E-2}]
[]
[null,null,null,null,"Forecast cost of debt",null,"nominal annual %",null,null,null,null,null,null,null,null,null,null,null,null,null,null,null,null,null,null,null,null,null,null,null,null,null,null,{"$f":"(((1 + AH95) * (1 + AH96)) - 1)","v":5.8019017328720945E-2},{"$f":"((1 + AI95) * (1 + AI96)) - 1","v":5.596176381468787E-2},5.4215574981674841E-2,5.2467311544802664E-2,5.0823175587646929E-2,5.0820797172589804E-2,5.0822224768889868E-2,5.0823022690957842E-2]
[]
[null,null,null,"Average net debt (except for interest and tax)"]
[]
[null,null,null,null,"Opening net debt",null,"£m nominal",null,null,null,null,null,null,null,null,null,null,null,null,null,null,null,null,null,null,null,null,null,null,null,null,null,null,{"$f":"AH19","v":-1863.2390592256377},{"$f":"AI19","v":-1851.3061471282701},{"$f":"AJ19","v":-1840.0684405174818},-1845.6197735155724,-1604.2049887409414,-1635.1080270494576,-1658.0477841649326,-1669.8209472804394]
[null,null,null,null,"Closing net debt (except for interest and tax)",null,"£m nominal",null,null,null,null,null,null,null,null,null,null,null,null,null,null,null,null,null,null,null,null,null,null,null,null,null,null,{"$f":"AH28","v":-1746.3289102963377},{"$f":"AI28","v":-1739.3699947991952},-1747.7853447703492,-1515.4241009301199,-1552.0389483119388,-1576.2191914114087,-1587.1351083454783,-1594.8107481360526]
[]
[null,null,null,null,"Average net debt (except for interest and tax)",null,"£m nominal",null,null,null,null,null,null,null,null,null,null,null,null,null,null,null,null,null,null,null,null,null,null,null,null,null,null,{"$f":"AVERAGE(AH102:AH103)","v":-1804.7839847609876},{"$f":"AVERAGE(AI102:AI103)","v":-1795.3380709637327},-1793.9268926439154,-1680.5219372228462,-1578.12196852644,-1605.6636092304332,-1622.5914462552055,-1632.3158477082461]
[]
[null,null,null,"Net interest received"]
[]
[null,null,null,null,"Average net debt (except for interest and tax)",null,"£m nominal",null,null,null,null,null,null,null,null,null,null,null,null,null,null,null,null,null,null,null,null,null,null,null,null,null,null,{"$f":"AH105","v":-1804.7839847609876},{"$f":"AI105","v":-1795.3380709637327},-1793.9268926439154,-1680.5219372228462,-1578.12196852644,-1605.6636092304332,-1622.5914462552055,-1632.3158477082461]
[null,null,null,null,"Forecast cost of debt",null,"%",null,null,null,null,null,null,null,null,null,null,null,null,null,null,null,null,null,null,null,null,null,null,null,null,null,null,{"$f":"AH98","v":5.8019017328720945E-2},{"$f":"AI98","v":5.596176381468787E-2},5.4215574981674841E-2,5.2467311544802664E-2,5.0823175587646929E-2,5.0820797172589804E-2,5.0822224768889868E-2,5.0823022690957842E-2]
[]
[null,null,null,null,"Net interest received",null,"£m nominal",null,null,null,null,null,null,null,null,null,null,null,null,null,null,null,null,null,null,null,null,null,null,null,null,null,null,{"$f":"AH109 * AH110","v":-104.71179328644577},{"$f":"AI109 * AI110","v":-100.47028509478974},-97.258777959779152,-88.172468038146377,-80.205169905142284,-81.601104612108344,-82.463707189660141,-82.959225366886272]
[]
[null,null,null,"Inflation coupon on index linked debt"]
[null,null,null,"Note: The inflation coupon from index linked debt is identified separately from other interest costs."]
[]
[null,null,null,null,"Index-linked debt as a percentage of net debt",null,"%",null,null,null,null,null,null,null,null,null,null,null,null,null,null,null,null,null,null,null,null,null,null,null,null,null,null,{"$f":"Input!AH75","v":0.25},{"$f":"Input!AI75","v":0.25},{"$f":"Input!AJ75","v":0.25},{"$f":"Input!AK75","v":0.25},{"$f":"Input!AL75","v":0.25},{"$f":"Input!AM75","v":0.25},{"$f":"Input!AN75","v":0.25},{"$f":"Input!AO75","v":0.25}]
[null,null,null,null,"Cost of debt",null,"annual real %",null,null,null,null,null,null,null,null,null,null,null,null,null,null,null,null,null,null,null,null,null,null,null,null,null,null,{"$f":"AH95","v":2.92E-2},{"$f":"AI95","v":2.7199999999999998E-2},2.5499999999999998E-2,2.3800000000000002E-2,2.2200000000000001E-2,2.2200000000000001E-2,2.2200000000000001E-2,2.2200000000000001E-2]
[null,null,null,null,"Forecast cost of debt",null,"nominal annual %",null,null,null,null,null,null,null,null,null,null,null,null,null,null,null,null,null,null,null,null,null,null,null,null,null,null,{"$f":"AH98","v":5.8019017328720945E-2},{"$f":"AI98","v":5.596176381468787E-2},5.4215574981674841E-2,5.2467311544802664E-2,5.0823175587646929E-2,5.0820797172589804E-2,5.0822224768889868E-2,5.0823022690957842E-2]
[]
[null,null,null,null,"Share of interest as inflation coupon",null,"%",null,null,null,null,null,null,null,null,null,null,null,null,null,null,null,null,null,null,null,null,null,null,null,null,null,null,{"$f":"1 - ((AH117 * AH118) + ((1 - AH117) * AH119)) / AH119","v":0.12417918578937548},{"$f":"1 - ((AI117 * AI118) + ((1 - AI117) * AI119)) / AI119","v":0.12848846182694384},0.13241386350408013,0.13659605714847423,0.14079785086571839,0.14079274020137977,0.14079580783332102,0.14079752234045251]
[]
[null,null,null,"Allocation to interest or inflation coupon"]
[]
[null,null,null,null,"Net interest received",null,"£m nominal",null,null,null,null,null,null,null,null,null,null,null,null,null,null,null,null,null,null,null,null,null,null,null,null,null,null,{"$f":"AH112","v":-104.71179328644577},{"$f":"AI112","v":-100.47028509478974},-97.258777959779152,-88.172468038146377,-80.205169905142284,-81.601104612108344,-82.463707189660141,-82.959225366886272]
[null,null,null,null,"Share of interest as inflation coupon",null,"%",null,null,null,null,null,null,null,null,null,null,null,null,null,null,null,null,null,null,null,null,null,null,null,null,null,null,{"$f":"AH121","v":0.12417918578937548},0.12848846182694384,0.13241386350408013,0.13659605714847423,0.14079785086571839,0.14079274020137977,0.14079580783332102,0.14079752234045251]
[]
[null,null,null,null,"Net interest received (interest coupon)",null,"£m nominal",null,null,null,null,null,null,null,null,null,null,null,null,null,null,null,null,null,null,null,null,null,null,null,null,null,null,{"$f":"AH$125 * (1 - AH$126)","v":-91.708768053589537},{"$f":"AI$125 * (1 - AI$126)","v":-87.561012703645687},-84.38036741043932,-76.12845655508572,-68.91245435417845,-70.112261490310161,-70.853162918961502,-71.278771979945475]
[]
[null,null,null,null,"Net interest received (inflation coupon)",null,"£m nominal",null,null,null,null,null,null,null,null,null,null,null,null,null,null,null,null,null,null,null,null,null,null,null,null,null,null,{"$f":"AH$125 * AH$126","v":-13.003025232856229},{"$f":"AI$125 * AI$126","v":-12.909272391144057},-12.878410549339835,-12.044011483060659,-11.292715550963829,-11.488843121798183,-11.610544270698641,-11.680453386940805]
[]
[]
[null,null,"Cost of raising equity"]
[null,null,"Note: If equity issuance is negative, then equity issuance costs are set to zero"]
[]
[null,null,null,null,"Start of price control change in notional gearing",null,"£m nominal",null,null,null,null,null,null,null,null,null,null,null,null,null,null,null,null,null,null,null,null,null,null,null,null,null,null,{"$f":"AH63","v":0}]
[null,null,null,null,"Issue or redeem equity",null,"£m nominal",null,null,null,null,null,null,null,null,null,null,null,null,null,null,null,null,null,null,null,null,null,null,null,null,null,null,null,{"$f":"AI77","v":0},0,0,0,0,0,0]
[null,null,null,null,"Equity issuance with issuance costs allowed",null,"£m nominal",null,null,null,null,null,null,null,null,null,null,null,null,null,null,null,null,null,null,null,null,null,null,null,null,null,null,{"$f":"IF(SUM(AH136:AH137) > 0,SUM(AH136:AH137),0)","v":0},{"$f":"IF(SUM(AI136:AI137) > 0,SUM(AI136:AI137),0)","v":0},0,0,0,0,0,0]
[]
[null,null,null,null,"Equity issuance cost as percentage of new equity",null,"%",null,{"$f":"Input!I70","v":0.05}]
[]
[null,null,null,null,"Equity issuance cost",null,"£m nominal",null,null,null,null,null,null,null,null,null,null,null,null,null,null,null,null,null,null,null,null,null,null,null,null,null,null,{"$f":"AH138 * $I140","v":0},{"$f":"AI138 * $I140","v":0},0,0,0,0,0,0]
[]
[null,null,"Dividends"]
[null,null,"Note: Unlike interest, dividends are based on notional rather than modelled gearing levels."]
[]
[]
[null,null,null,null,"Closing core RAV",null,"£m nominal",null,null,">",null,null,null,null,null,null,null,null,null,null,null,null,null,null,null,null,null,null,null,null,null,null,null,{"$f":"'Return&RAV'!AH44 * Input!AH43 / Input!$AD$43","v":2922.5565562291972},{"$f":"'Return&RAV'!AI44 * Input!AI43 / Input!$AD$43","v":2973.5500663276762},{"$f":"'Return&RAV'!AJ44 * Input!AJ43 / Input!$AD$43","v":3044.8984954165689},{"$f":"'Return&RAV'!AK44 * Input!AK43 / Input!$AD$43","v":3078.7344528569106},{"$f":"'Return&RAV'!AL44 * Input!AL43 / Input!$AD$43","v":3176.529908384477},{"$f":"'Return&RAV'!AM44 * Input!AM43 / Input!$AD$43","v":3272.3233611062547},{"$f":"'Return&RAV'!AN44 * Input!AN43 / Input!$AD$43","v":3360.7097067327554},{"$f":"'Return&RAV'!AO44 * Input!AO43 / Input!$AD$43","v":3449.2713360135731}]
[null,null,null,null,"Assumed equity portion of RAV",null,"%",null,null,null,null,null,null,null,null,null,null,null,null,null,null,null,null,null,null,null,null,null,null,null,null,null,null,{"$f":"(1-Input!AH37)","v":0.35},{"$f":"(1-Input!AI37)","v":0.35},{"$f":"(1-Input!AJ37)","v":0.35},{"$f":"(1-Input!AK37)","v":0.35},{"$f":"(1-Input!AL37)","v":0.35},{"$f":"(1-Input!AM37)","v":0.35},{"$f":"(1-Input!AN37)","v":0.35},{"$f":"(1-Input!AO37)","v":0.35}]
[null,null,null,null,"Assumed dividends as percentage of notional equity portion of RAV",null,"%",null,null,null,null,null,null,null,null,null,null,null,null,null,null,null,null,null,null,null,null,null,null,null,null,null,null,{"$f":"Input!$I$71","v":0.05},{"$f":"AH150","v":0.05},0.05,0.05,0.05,0.05,0.05,0.05]
[]
[null,null,null,null,"Notional dividends",null,"£m nominal",null,null,null,null,null,null,null,null,null,null,null,null,null,null,null,null,null,null,null,null,null,null,null,null,null,null,{"$f":"AH148 * AH149 * AH150","v":51.144739734010955},{"$f":"AI148 * AI149 * AI150","v":52.037126160734331},53.285723669789959,53.877852924995935,55.589273396728345,57.265658819359459,58.812419867823216,60.362248380237524]
[]
[null,"Tax allowance"]
[]
[null,null,"Tax base"]
[null,null,"Note: The tax charge is calculated before tax on tax. Tax on tax is added after losses are taken into account."]
[]
[null,null,null,null,"Add recalculated base revenue (except tax allowance)",null,"£m nominal",null,null,null,null,null,null,null,null,null,null,null,null,null,null,null,null,null,null,null,null,null,null,null,null,null,null,{"$f":"(Revenue!AH17)* Input!AH$43 / Input!$AD$43","v":585.95028343133151},{"$f":"Revenue!AI17 * Input!AI$43 / Input!$AD$43","v":582.67011046812104},{"$f":"Revenue!AJ17 * Input!AJ$43 / Input!$AD$43","v":569.3514690009149},{"$f":"Revenue!AK17 * Input!AK$43 / Input!$AD$43","v":504.55976753737889},{"$f":"Revenue!AL17 * Input!AL$43 / Input!$AD$43","v":588.59656772762082},{"$f":"Revenue!AM17 * Input!AM$43 / Input!$AD$43","v":600.39888445681345},{"$f":"Revenue!AN17 * Input!AN$43 / Input!$AD$43","v":605.34092161737101},{"$f":"Revenue!AO17 * Input!AO$43 / Input!$AD$43","v":620.91145420033342}]
[null,null,null,null,"Add net DART impact on core tax calculation",null,"£m nominal",null,null,null,null,null,null,null,null,null,null,null,null,null,null,null,null,null,null,null,null,null,null,null,null,null,null,{"$f":"DARTs!AH49 * Input!AH43/Input!$AD43","v":-4.6560218070033299},{"$f":"DARTs!AI49 * Input!AI43/Input!$AD43","v":-4.7645514144929528},{"$f":"DARTs!AJ49 * Input!AJ43/Input!$AD43","v":-3.8070143965369088},{"$f":"DARTs!AK49 * Input!AK43/Input!$AD43","v":-3.8899660108877723},{"$f":"DARTs!AL49 * Input!AL43/Input!$AD43","v":-3.9743094235968042},{"$f":"DARTs!AM49 * Input!AM43/Input!$AD43","v":-4.0593598444927039},{"$f":"DARTs!AN49 * Input!AN43/Input!$AD43","v":-4.1450416027042696},{"$f":"DARTs!AO49 * Input!AO43/Input!$AD43","v":-4.2312525112413386}]
[null,null,null,null,"Less net interest paid (interest coupon)",null,{"$f":"G128","v":"£m nominal"},null,null,null,null,null,null,null,null,null,null,null,null,null,null,null,null,null,null,null,null,null,null,null,null,null,null,{"$f":"AH128","v":-91.708768053589537},{"$f":"AI128","v":-87.561012703645687},-84.38036741043932,-76.12845655508572,-68.91245435417845,-70.112261490310161,-70.853162918961502,-71.278771979945475]
[null,null,null,null,"Less net interest paid (inflation coupon)",null,{"$f":"G130","v":"£m nominal"},null,null,null,null,null,null,null,null,null,null,null,null,null,null,null,null,null,null,null,null,null,null,null,null,null,null,{"$f":"AH130","v":-13.003025232856229},{"$f":"AI130","v":-12.909272391144057},-12.878410549339835,-12.044011483060659,-11.292715550963829,-11.488843121798183,-11.610544270698641,-11.680453386940805]
[null,null,null,null,"Less revenue tax pool additions",null,"£m nominal",null,null,null,null,null,null,null,null,null,null,null,null,null,null,null,null,null,null,null,null,null,null,null,null,null,null,{"$f":"-TaxPools!AH67*Input!AH43/Input!$AD43","v":-352.75181657586393},{"$f":"-TaxPools!AI67*Input!AI43/Input!$AD43","v":-366.25740440360801},{"$f":"-TaxPools!AJ67*Input!AJ43/Input!$AD43","v":-262.06299131181686},{"$f":"-TaxPools!AK67*Input!AK43/Input!$AD43","v":-115.82581938589776},{"$f":"-TaxPools!AL67*Input!AL43/Input!$AD43","v":-263.50855835010645},{"$f":"-TaxPools!AM67*Input!AM43/Input!$AD43","v":-268.97029892134344},{"$f":"-TaxPools!AN67*Input!AN43/Input!$AD43","v":-274.62336233665201},{"$f":"-TaxPools!AO67*Input!AO43/Input!$AD43","v":-280.62026621451975}]
[null,null,null,null,"Less capital allowances",null,"£m nominal",null,null,null,null,null,null,null,null,null,null,null,null,null,null,null,null,null,null,null,null,null,null,null,null,null,null,{"$f":"-TaxPools!AH121","v":-42.796988853516332},{"$f":"-TaxPools!AI121","v":-43.144358544392233},{"$f":"-TaxPools!AJ121","v":-42.960720933126169},{"$f":"-TaxPools!AK121","v":-40.035520412659508},{"$f":"-TaxPools!AL121","v":-44.68956381000396},{"$f":"-TaxPools!AM121","v":-50.79232808480446},{"$f":"-TaxPools!AN121","v":-54.103167629666146},{"$f":"-TaxPools!AO121","v":-56.742266365724817}]
[null,null,null,null,"Less additional income",null,"£m nominal",null,null,null,null,null,null,null,null,null,null,null,null,null,null,null,null,null,null,null,null,null,null,null,null,null,null,{"$f":"-TIM!AH111 * Input!AH43/Input!$AD43","v":-1.670632531022668},{"$f":"-TIM!AI111 * Input!AI43/Input!$AD43","v":-1.6393119913206955},{"$f":"-TIM!AJ111 * Input!AJ43/Input!$AD43","v":-1.6593737276538647},{"$f":"-TIM!AK111 * Input!AK43/Input!$AD43","v":-1.7134732004361801},{"$f":"-TIM!AL111 * Input!AL43/Input!$AD43","v":-1.7653496474905479},{"$f":"-TIM!AM111 * Input!AM43/Input!$AD43","v":-1.8018778390784018},{"$f":"-TIM!AN111 * Input!AN43/Input!$AD43","v":-1.8244752559442692},{"$f":"-TIM!AO111 * Input!AO43/Input!$AD43","v":-1.8580897726574948}]
[null,null,null,null,"Profits attributable to corporation tax (before Tax Clawback)",null,"£m nominal",null,null,null,null,null,null,null,null,null,null,null,null,null,null,null,null,null,null,null,null,null,null,null,null,null,null,{"$f":"SUM(AH159:AH165)","v":79.363030377479546},{"$f":"SUM(AI159:AI165)","v":66.394199019517373},161.60259067200192,254.92252048935131,194.45361659128088,193.17391515498608,188.18116760274421,194.50035396930377]
[]
[]
[null,null,"Tax allowance"]
[]
[null,null,null,"Regulatory Tax losses"]
[]
[null,null,null,null,"Taxable losses brought forward",null,"£m nominal",null,null,null,null,null,null,null,null,null,null,null,null,null,null,null,null,null,null,null,null,null,null,null,null,null,null,{"$f":"-Input!AH232","v":0},{"$f":"SUM(AH178)","v":0},{"$f":"SUM(AI178)","v":0},0,0,0,0,0]
[null,null,null,null,"In-year taxable loss",null,"£m nominal",null,null,null,null,null,null,null,null,null,null,null,null,null,null,null,null,null,null,null,null,null,null,null,null,null,null,{"$f":"MIN(AH166, 0)","v":0},{"$f":"MIN(AI166, 0)","v":0},{"$f":"MIN(AJ166, 0)","v":0},0,0,0,0,0]
[null,null,null,null,"Contributions to losses from clawback",null,"£m nominal",null,null,null,null,null,null,null,null,null,null,null,null,null,null,null,null,null,null,null,null,null,null,null,null,null,null,{"$f":"-Input!AH24*(1/AH184)","v":0},{"$f":"-Input!AI24*(1/AI184)","v":0},{"$f":"-Input!AJ24*(1/AJ184)","v":0},{"$f":"-Input!AK24*(1/AK184)","v":0},{"$f":"-Input!AL24*(1/AL184)","v":0},{"$f":"-Input!AM24*(1/AM184)","v":0},{"$f":"-Input!AN24*(1/AN184)","v":0},{"$f":"-Input!AO24*(1/AO184)","v":0}]
[null,null,null,null,"Adjustment to losses from tax trigger",null,"£m nominal",null,null,null,null,null,null,null,null,null,null,null,null,null,null,null,null,null,null,null,null,null,null,null,null,null,null,{"$f":"-IF(Input!AH25>0,-MIN(Input!AH25*(Input!AH43/Input!$AD43)*((1-AH184)*1/AH184),MAX(-(AH166+SUM(AH173:AH175)),0)),-MIN(Input!AH25*(Input!AH43/Input!$AD43)*((1-AH184)*1/AH184),MAX(AH166+SUM(AH173:AH175),0)))","v":0},{"$f":"-IF(Input!AI25>0,-MIN(Input!AI25*(Input!AI43/Input!$AD43)*((1-AI184)*1/AI184),MAX(-(AI166+SUM(AI173:AI175)),0)),-MIN(Input!AI25*(Input!AI43/Input!$AD43)*((1-AI184)*1/AI184),MAX(AI166+SUM(AI173:AI175),0)))","v":0},{"$f":"-IF(Input!AJ25>0,-MIN(Input!AJ25*(Input!AJ43/Input!$AD43)*((1-AJ184)*1/AJ184),MAX(-(AJ166+SUM(AJ173:AJ175)),0)),-MIN(Input!AJ25*(Input!AJ43/Input!$AD43)*((1-AJ184)*1/AJ184),MAX(AJ166+SUM(AJ173:AJ175),0)))","v":-1.6728802167319685},{"$f":"-IF(Input!AK25>0,-MIN(Input!AK25*(Input!AK43/Input!$AD43)*((1-AK184)*1/AK184),MAX(-(AK166+SUM(AK173:AK175)),0)),-MIN(Input!AK25*(Input!AK43/Input!$AD43)*((1-AK184)*1/AK184),MAX(AK166+SUM(AK173:AK175),0)))","v":-1.8150219172677133},{"$f":"-IF(Input!AL25>0,-MIN(Input!AL25*(Input!AL43/Input!$AD43)*((1-AL184)*1/AL184),MAX(-(AL166+SUM(AL173:AL175)),0)),-MIN(Input!AL25*(Input!AL43/Input!$AD43)*((1-AL184)*1/AL184),MAX(AL166+SUM(AL173:AL175),0)))","v":-12.545827395440558},{"$f":"-IF(Input!AM25>0,-MIN(Input!AM25*(Input!AM43/Input!$AD43)*((1-AM184)*1/AM184),MAX(-(AM166+SUM(AM173:AM175)),0)),-MIN(Input!AM25*(Input!AM43/Input!$AD43)*((1-AM184)*1/AM184),MAX(AM166+SUM(AM173:AM175),0)))","v":0},{"$f":"-IF(Input!AN25>0,-MIN(Input!AN25*(Input!AN43/Input!$AD43)*((1-AN184)*1/AN184),MAX(-(AN166+SUM(AN173:AN175)),0)),-MIN(Input!AN25*(Input!AN43/Input!$AD43)*((1-AN184)*1/AN184),MAX(AN166+SUM(AN173:AN175),0)))","v":0},{"$f":"-IF(Input!AO25>0,-MIN(Input!AO25*(Input!AO43/Input!$AD43)*((1-AO184)*1/AO184),MAX(-(AO166+SUM(AO173:AO175)),0)),-MIN(Input!AO25*(Input!AO43/Input!$AD43)*((1-AO184)*1/AO184),MAX(AO166+SUM(AO173:AO175),0)))","v":0}]
[null,null,null,null,"Profits attributable to corporation tax (before Tax Clawback)",null,"£m nominal",null,null,null,null,null,null,null,null,null,null,null,null,null,null,null,null,null,null,null,null,null,null,null,null,null,null,{"$f":"IF(AH166 >= 0, MIN(AH166, -AH173-AH175-AH176), 0)","v":0},{"$f":"IF(AI166 >= 0, MIN(AI166, -AI173-AI175-AI176), 0)","v":0},1.6728802167319685,1.8150219172677133,12.545827395440558,0,0,0]
[null,null,null,null,"Balance carried forward",null,"£m nominal",null,null,null,null,null,null,null,null,null,null,null,null,null,null,null,null,null,null,null,null,null,null,null,null,null,null,{"$f":"SUM(AH173:AH177)","v":0},{"$f":"SUM(AI173:AI177)","v":0},0,0,0,0,0,0]
[]
[null,null,null,"Tax allowance (before Tax Trigger adjustment)"]
[null,null,null,"Note: A \"grossing-up factor\" based on the infinite geometric progression of being taxed on tax is used to move the tax allowance from a post-tax to a pre-tax basis. This can only be applied once tax losses have been taken into account."]
[]
[null,null,null,null,"Profits attributable to corporation tax (after taxable losses)",null,"£m nominal",null,null,null,null,null,null,null,null,null,null,null,null,null,null,null,null,null,null,null,null,null,null,null,null,null,null,{"$f":"MAX(AH166 - AH177,0)","v":79.363030377479546},66.394199019517373,159.92971045526997,253.10749857208361,181.90778919584031,193.17391515498608,188.18116760274421,194.50035396930377]
[null,null,null,null,"Corporation tax rate",null,"%",null,null,null,null,null,null,null,null,null,null,null,null,null,null,null,null,null,null,null,null,null,null,null,null,null,null,{"$f":"TaxTrigger!AH88","v":0.23},{"$f":"TaxTrigger!AI88","v":0.21},{"$f":"TaxTrigger!AJ88","v":0.21},{"$f":"TaxTrigger!AK88","v":0.21},{"$f":"TaxTrigger!AL88","v":0.21},{"$f":"TaxTrigger!AM88","v":0.21},{"$f":"TaxTrigger!AN88","v":0.21},{"$f":"TaxTrigger!AO88","v":0.21}]
[null,null,null,null,"Corporation tax charge after losses",null,"£m nominal",null,null,null,null,null,null,null,null,null,null,null,null,null,null,null,null,null,null,null,null,null,null,null,null,null,null,{"$f":"AH184*AH183","v":18.253496986820295},13.942781794098648,33.58523919560669,53.152574700137556,38.200635731126461,40.566522182547075,39.518045196576281,40.845074333553789]
[]
[null,null,null,null,"\"Grossing-up\" factor for tax on tax charge after losses",null,"scalar",null,null,null,null,null,null,null,null,null,null,null,null,null,null,null,null,null,null,null,null,null,null,null,null,null,null,{"$f":"1 / (1 - AH184)","v":1.2987012987012987},1.2658227848101264,1.2658227848101264,1.2658227848101264,1.2658227848101264,1.2658227848101264,1.2658227848101264,1.2658227848101264]
[]
[null,null,null,null,"Tax allowance (before Tax Trigger adjustment)",null,"£m nominal",null,null,null,null,null,null,null,null,null,null,null,null,null,null,null,null,null,null,null,null,null,null,null,null,null,null,{"$f":"AH185 * AH187","v":23.705840242623758},17.649090878605882,42.512961007097068,67.281740126756389,48.355235102691715,51.350028079173505,50.02284202098263,51.702625738675678]
[]
[null,null,null,"Tax allowance"]
[]
[null,null,null,null,"Tax allowance (before Tax Trigger adjustment)",null,"£m nominal",null,null,null,null,null,null,null,null,null,null,null,null,null,null,null,null,null,null,null,null,null,null,null,null,null,null,{"$f":"AH189","v":23.705840242623758},{"$f":"AI189","v":17.649090878605882},42.512961007097068,67.281740126756389,48.355235102691715,51.350028079173505,50.02284202098263,51.702625738675678]
[null,null,null,null,"Less Tax Clawback adjustment",null,"£m nominal",null,null,null,null,null,null,null,null,null,null,null,null,null,null,null,null,null,null,null,null,null,null,null,null,null,null,{"$f":"((Input!AH25*(1-AH184)*(Input!AH43/Input!$AD43))-AH176/(1/AH184))*AH187","v":0},{"$f":"((Input!AI25*(1-AI184)*(Input!AI43/Input!$AD43))-AI176/(1/AI184))*AI187","v":0},{"$f":"((Input!AJ25*(1-AJ184)*(Input!AJ43/Input!$AD43))-AJ176/(1/AJ184))*AJ187","v":0},{"$f":"((Input!AK25*(1-AK184)*(Input!AK43/Input!$AD43))-AK176/(1/AK184))*AK187","v":7.0267280039566862E-17},{"$f":"((Input!AL25*(1-AL184)*(Input!AL43/Input!$AD43))-AL176/(1/AL184))*AL187","v":5.621382403165349E-16},{"$f":"((Input!AM25*(1-AM184)*(Input!AM43/Input!$AD43))-AM176/(1/AM184))*AM187","v":0},{"$f":"((Input!AN25*(1-AN184)*(Input!AN43/Input!$AD43))-AN176/(1/AN184))*AN187","v":0},{"$f":"((Input!AO25*(1-AO184)*(Input!AO43/Input!$AD43))-AO176/(1/AO184))*AO187","v":0}]
[null,null,null,null,"Tax allowance",null,"£m nominal",null,null,null,null,null,null,null,null,null,null,null,null,null,null,null,null,null,null,null,null,null,null,null,null,null,null,{"$f":"SUM(AH193:AH194)","v":23.705840242623758},17.649090878605882,42.512961007097068,67.281740126756389,48.355235102691715,51.350028079173505,50.02284202098263,51.702625738675678]
[]
["Tax paid"]
[]
[null,"Tax base"]
[]
[]
[null,null,null,"Add recalculated base revenue (except tax allowance), incl add. income",null,"£m nominal",null,null,null,null,null,null,null,null,null,null,null,null,null,null,null,null,null,null,null,null,null,null,null,null,null,null,null,{"$f":"AH159","v":585.95028343133151},{"$f":"AI159","v":582.67011046812104},569.3514690009149,504.55976753737889,588.59656772762082,600.39888445681345,605.34092161737101,620.91145420033342]
[null,null,null,"Add net DART impact on tax calculation",null,"£m nominal",null,null,null,null,null,null,null,null,null,null,null,null,null,null,null,null,null,null,null,null,null,null,null,null,null,null,null,{"$f":"AH160","v":-4.6560218070033299},-4.7645514144929528,-3.8070143965369088,-3.8899660108877723,-3.9743094235968042,-4.0593598444927039,-4.1450416027042696,-4.2312525112413386]
[null,null,null,"Add tax allowance",null,"£m nominal",null,null,null,null,null,null,null,null,null,null,null,null,null,null,null,null,null,null,null,null,null,null,null,null,null,null,null,{"$f":"AH195","v":23.705840242623758},{"$f":"AI195","v":17.649090878605882},42.512961007097068,67.281740126756389,48.355235102691715,51.350028079173505,50.02284202098263,51.702625738675678]
[null,null,null,"Revenue adjustment from previous price controls",null,"£m nominal",null,null,null,null,null,null,null,null,null,null,null,null,null,null,null,null,null,null,null,null,null,null,null,null,null,null,null,{"$f":"DARTs!AH27*Input!AH43/Input!$AD43","v":-0.51653015934102664},{"$f":"DARTs!AI27*Input!AI43/Input!$AD43","v":-0.55283283181168075},{"$f":"DARTs!AJ27*Input!AJ43/Input!$AD43","v":-0.5910597279843236},{"$f":"DARTs!AK27*Input!AK43/Input!$AD43","v":-0.63125810496456547},{"$f":"DARTs!AL27*Input!AL43/Input!$AD43","v":-0.67351593637522134},{"$f":"DARTs!AM27*Input!AM43/Input!$AD43","v":-0.71860097519501331},{"$f":"DARTs!AN27*Input!AN43/Input!$AD43","v":-0.76670504022552377},{"$f":"DARTs!AO27*Input!AO43/Input!$AD43","v":-0.81802987382582082}]
[null,null,null,"Less net interest paid (interest coupon)",null,"£m nominal",null,null,null,null,null,null,null,null,null,null,null,null,null,null,null,null,null,null,null,null,null,null,null,null,null,null,null,{"$f":"AH161","v":-91.708768053589537},{"$f":"AI161","v":-87.561012703645687},-84.38036741043932,-76.12845655508572,-68.91245435417845,-70.112261490310161,-70.853162918961502,-71.278771979945475]
[null,null,null,"Less net interest paid (inflation coupon)",null,"£m nominal",null,null,null,null,null,null,null,null,null,null,null,null,null,null,null,null,null,null,null,null,null,null,null,null,null,null,null,{"$f":"AH162","v":-13.003025232856229},-12.909272391144057,-12.878410549339835,-12.044011483060659,-11.292715550963829,-11.488843121798183,-11.610544270698641,-11.680453386940805]
[null,null,null,"Less revenue tax pool additions",null,"£m nominal",null,null,null,null,null,null,null,null,null,null,null,null,null,null,null,null,null,null,null,null,null,null,null,null,null,null,null,{"$f":"AH163","v":-352.75181657586393},-366.25740440360801,-262.06299131181686,-115.82581938589776,-263.50855835010645,-268.97029892134344,-274.62336233665201,-280.62026621451975]
[null,null,null,"Less capital allowances",null,"£m nominal",null,null,null,null,null,null,null,null,null,null,null,null,null,null,null,null,null,null,null,null,null,null,null,null,null,null,null,{"$f":"AH164","v":-42.796988853516332},-43.144358544392233,-42.960720933126169,-40.035520412659508,-44.68956381000396,-50.79232808480446,-54.103167629666146,-56.742266365724817]
[null,null,null,"Profits attributable to corporation tax",null,"£m nominal",null,null,null,null,null,null,null,null,null,null,null,null,null,null,null,null,null,null,null,null,null,null,null,null,null,null,null,{"$f":"SUM(AH202:AH209)","v":104.22297299178484},85.129769057632288,205.18386567876846,323.28647571157933,243.90068540508787,245.60722009804294,239.26177983944558,247.24303960681115]
[]
[null,"Tax losses"]
[]
[null,null,null,"Taxable losses brought forward",null,"£m nominal",null,null,null,null,null,null,null,null,null,null,null,null,null,null,null,null,null,null,null,null,null,null,null,null,null,null,null,{"$f":"AH173","v":0},{"$f":"SUM(AH217)","v":0},{"$f":"SUM(AI217)","v":0},0,0,0,0,0]
[null,null,null,"In-year taxable loss",null,"£m nominal",null,null,null,null,null,null,null,null,null,null,null,null,null,null,null,null,null,null,null,null,null,null,null,null,null,null,null,{"$f":"MIN(AH210, 0)","v":0},{"$f":"MIN(AI210, 0)","v":0},{"$f":"MIN(AJ210, 0)","v":0},0,0,0,0,0]
[null,null,null,"Profits reduced by tax losses ",null,"£m nominal",null,null,null,null,null,null,null,null,null,null,null,null,null,null,null,null,null,null,null,null,null,null,null,null,null,null,null,{"$f":"IF(AH210 >= 0, MIN(AH210, -AH214), 0)","v":0},0,0,0,0,0,0,0]
[null,null,null,"Balance carried forward",null,"£m nominal",null,null,null,null,null,null,null,null,null,null,null,null,null,null,null,null,null,null,null,null,null,null,null,null,null,null,null,{"$f":"SUM(AH214:AH216)","v":0},0,0,0,0,0,0,0]
[]
[null,null,"Tax paid"]
[]
[]
[null,null,null,"Profits attributable to corporation tax (after taxable losses)",null,"£m nominal",null,null,null,null,null,null,null,null,null,null,null,null,null,null,null,null,null,null,null,null,null,null,null,null,null,null,null,{"$f":"MAX(AH210 - AH216,0)","v":104.22297299178484},85.129769057632288,205.18386567876846,323.28647571157933,243.90068540508787,245.60722009804294,239.26177983944558,247.24303960681115]
[null,null,null,"Corporation tax rate",null,"%",null,null,null,null,null,null,null,null,null,null,null,null,null,null,null,null,null,null,null,null,null,null,null,null,null,null,null,{"$f":"TaxTrigger!AH88","v":0.23},{"$f":"TaxTrigger!AI88","v":0.21},{"$f":"TaxTrigger!AJ88","v":0.21},{"$f":"TaxTrigger!AK88","v":0.21},{"$f":"TaxTrigger!AL88","v":0.21},{"$f":"TaxTrigger!AM88","v":0.21},{"$f":"TaxTrigger!AN88","v":0.21},{"$f":"TaxTrigger!AO88","v":0.21}]
[null,null,null,"Corporation tax charge after losses",null,"£m nominal",null,null,null,null,null,null,null,null,null,null,null,null,null,null,null,null,null,null,null,null,null,null,null,null,null,null,null,{"$f":"AH223*AH222","v":23.971283788110515},17.87725150210278,43.088611792541371,67.890159899431652,51.219143935068452,51.577516220589018,50.244973766283572,51.921038317430337]
[]
[null,null,{"$f":"\"Additional Information for purposes of \"&Input!E24","v":"Additional Information for purposes of Tax liability allowance adjustments - gearing/interest costs"}]
[]
[null,null,null,null,"Interest",null,"£m nominal",null,null,null,null,null,null,null,null,null,null,null,null,null,null,null,null,null,null,null,null,null,null,null,null,null,null,{"$f":"-'Finance&Tax'!AH161-'Finance&Tax'!AH162","v":104.71179328644577},{"$f":"-'Finance&Tax'!AI161-'Finance&Tax'!AI162","v":100.47028509478974},{"$f":"-'Finance&Tax'!AJ161-'Finance&Tax'!AJ162","v":97.258777959779152},{"$f":"-'Finance&Tax'!AK161-'Finance&Tax'!AK162","v":88.172468038146377},{"$f":"-'Finance&Tax'!AL161-'Finance&Tax'!AL162","v":80.205169905142284},{"$f":"-'Finance&Tax'!AM161-'Finance&Tax'!AM162","v":81.601104612108344},{"$f":"-'Finance&Tax'!AN161-'Finance&Tax'!AN162","v":82.463707189660141},{"$f":"-'Finance&Tax'!AO161-'Finance&Tax'!AO162","v":82.959225366886272}]
[null,null,null,null,"RAV (Including Fuel Poor)",null,"£m 09/10 prices",null,null,null,null,null,null,null,null,null,null,null,null,null,null,null,null,null,null,null,null,null,null,null,null,null,null,{"$f":"'Return&RAV'!AH44","v":2514.1187324292528},{"$f":"'Return&RAV'!AI44","v":2488.3125667996555},{"$f":"'Return&RAV'!AJ44","v":2478.6130605197513},{"$f":"'Return&RAV'!AK44","v":2437.8930828837442},{"$f":"'Return&RAV'!AL44","v":2446.8176596840349},{"$f":"'Return&RAV'!AM44","v":2451.9526967676297},{"$f":"'Return&RAV'!AN44","v":2449.5905739545724},{"$f":"'Return&RAV'!AO44","v":2445.6604395440195}]
[]
[null,"End of sheet"]

{"sheet":"Revenue","index":13,"n_rows":70,"n_cols":41,"rows_kept":70,"cut":false,"hidden":false,"merged":[]}
["Revenue"]
[null,{"$f":"UserInterface!G17","v":"East"}]
[null,null,null,null,"Parameter",null,"Units",null,"Constant",null,null,null,null,null,null,null,null,null,null,null,null,null,null,null,null,null,null,null,null,null,null,null,null,"Annual values"]
[null,null,null,null,"PCFM year ending",null,null,null,{"$f":"UserInterface!$G$10","v":"2019-03-31"},null,"1991-03-31","1992-03-31","1993-03-31","1994-03-31","1995-03-31","1996-03-31","1997-03-31","1998-03-31","1999-03-31","2000-03-31","2001-03-31","2002-03-31","2003-03-31","2004-03-31","2005-03-31","2006-03-31","2007-03-31","2008-03-31","2009-03-31","2010-03-31","2011-03-31","2012-03-31","2013-03-31","2014-03-31","2015-03-31","2016-03-31","2017-03-31","2018-03-31","2019-03-31","2020-03-31","2021-03-31"]
[]
[null,"Recalculated base revenue"]
[null,"Note: \"Recalculated base revenue\" calculates the Base Revenue that would have been allowed if the current inputs were known at Final Proposals."]
[null,"Its values feed into the MOD calculation below and are saved via functionality on the \"LiveResults\" sheet so it can be recalled in the MOD calculation in the following year."]
[null,"Note: Base revenue referred to in the PCFM is not the BRt terms quoted in the licence as this also includes the terms TRUE and RPIFt which relate to retail price index adjustments"]
[null,null,null,null,"Fast pot expenditure",null,"£m 09/10 prices",null,null,null,null,null,null,null,null,null,null,null,null,null,null,null,null,null,null,null,null,null,null,null,null,null,null,{"$f":"TIM!AH97","v":174.39983233384359},{"$f":"TIM!AI97","v":161.1529387122213},{"$f":"TIM!AJ97","v":150.2731884505001},{"$f":"TIM!AK97","v":92.904799535814035},{"$f":"TIM!AL97","v":145.39335597585051},{"$f":"TIM!AM97","v":132.82071836712561},{"$f":"TIM!AN97","v":115.21960063219261},{"$f":"TIM!AO97","v":103.4050372888119}]
[null,null,null,null,"Non-controllable opex",null,"£m 09/10 prices",null,null,null,null,null,null,null,null,null,null,null,null,null,null,null,null,null,null,null,null,null,null,null,null,null,null,{"$f":"Input!AH161","v":95.592645687569757},{"$f":"Input!AI161","v":94.623041586289503},{"$f":"Input!AJ161","v":94.466569981602646},{"$f":"Input!AK161","v":91.71656998160266},{"$f":"Input!AL161","v":91.536569981602639},{"$f":"Input!AM161","v":91.346569981602642},{"$f":"Input!AN161","v":91.156569981602658},{"$f":"Input!AO161","v":90.976569981602665}]
[null,null,null,null,"RAV depreciation",null,"£m 09/10 prices",null,null,null,null,null,null,null,null,null,null,null,null,null,null,null,null,null,null,null,null,null,null,null,null,null,null,{"$f":"-'Return&RAV'!AH43","v":123.45840079410482},{"$f":"-'Return&RAV'!AI43","v":125.36695485870098},{"$f":"-'Return&RAV'!AJ43","v":116.54182176032003},{"$f":"-'Return&RAV'!AK43","v":116.32798570280173},{"$f":"-'Return&RAV'!AL43","v":120.94780163939269},{"$f":"-'Return&RAV'!AM43","v":129.96198750504996},{"$f":"-'Return&RAV'!AN43","v":139.07785134004399},{"$f":"-'Return&RAV'!AO43","v":150.23344167143466}]
[null,null,null,null,"Return",null,"£m 09/10 prices",null,null,null,null,null,null,null,null,null,null,null,null,null,null,null,null,null,null,null,null,null,null,null,null,null,null,{"$f":"'Return&RAV'!AH32","v":104.94531244297814},{"$f":"'Return&RAV'!AI32","v":100.85343613227592},{"$f":"'Return&RAV'!AJ32","v":97.491635547543396},{"$f":"'Return&RAV'!AK32","v":93.897960807348255},{"$f":"'Return&RAV'!AL32","v":90.825028934412515},{"$f":"'Return&RAV'!AM32","v":91.087768364401853},{"$f":"'Return&RAV'!AN32","v":91.141920206870637},{"$f":"'Return&RAV'!AO32","v":91.025461608368431}]
[null,null,null,null,"Equity issuance cost",null,"£m 09/10 prices",null,null,null,null,null,null,null,null,null,null,null,null,null,null,null,null,null,null,null,null,null,null,null,null,null,null,{"$f":"'Finance&Tax'!AH142*Input!$AD$43/Input!AH$43","v":0},{"$f":"'Finance&Tax'!AI142*Input!$AD$43/Input!AI$43","v":0},{"$f":"'Finance&Tax'!AJ142*Input!$AD$43/Input!AJ$43","v":0},{"$f":"'Finance&Tax'!AK142*Input!$AD$43/Input!AK$43","v":0},{"$f":"'Finance&Tax'!AL142*Input!$AD$43/Input!AL$43","v":0},{"$f":"'Finance&Tax'!AM142*Input!$AD$43/Input!AM$43","v":0},{"$f":"'Finance&Tax'!AN142*Input!$AD$43/Input!AN$43","v":0},{"$f":"'Finance&Tax'!AO142*Input!$AD$43/Input!AO$43","v":0}]
[null,null,null,null,"Additional income",null,"£m 09/10 prices",null,null,null,null,null,null,null,null,null,null,null,null,null,null,null,null,null,null,null,null,null,null,null,null,null,null,{"$f":"TIM!AH111","v":1.4371556068940596},{"$f":"TIM!AI111","v":1.3718015630879741},{"$f":"TIM!AJ111","v":1.3507660107019517},{"$f":"TIM!AK111","v":1.356812198977974},{"$f":"TIM!AL111","v":1.3598136386487443},{"$f":"TIM!AM111","v":1.3501475065962032},{"$f":"TIM!AN111","v":1.3298433305384654},{"$f":"TIM!AO111","v":1.3174540960763355}]
[null,null,null,null,"Core DARTs",null,"£m 09/10 prices",null,null,null,null,null,null,null,null,null,null,null,null,null,null,null,null,null,null,null,null,null,null,null,null,null,null,{"$f":"DARTs!AH43","v":4.2282702509803567},{"$f":"DARTs!AI43","v":4.2191641136209963},{"$f":"DARTs!AJ43","v":3.3403961969157177},{"$f":"DARTs!AK43","v":3.3310658657453205},{"$f":"DARTs!AL43","v":3.3216314218875684},{"$f":"DARTs!AM43","v":3.3118396012964841},{"$f":"DARTs!AN43","v":3.3016768665414098},{"$f":"DARTs!AO43","v":3.2911291673938137}]
[null,null,null,null,"Recalculated base revenue (except tax allowance)",null,"£m 09/10 prices",null,null,null,null,null,null,null,null,null,null,null,null,null,null,null,null,null,null,null,null,null,null,null,null,null,null,{"$f":"SUM(AH10:AH16)","v":504.06161711637077},487.58733696619669,463.46437794758384,399.53519409228994,453.38420159179464,449.87903132607272,441.22746235778976,440.24909381368781]
[null,null,null,null,"Tax allowance",null,"£m 09/10 prices",null,null,null,null,null,null,null,null,null,null,null,null,null,null,null,null,null,null,null,null,null,null,null,null,null,null,{"$f":"'Finance&Tax'!AH195*Input!$AD$43/Input!AH$43","v":20.39286353412886},{"$f":"'Finance&Tax'!AI195*Input!$AD$43/Input!AI$43","v":14.769031509888402},{"$f":"'Finance&Tax'!AJ195*Input!$AD$43/Input!AJ$43","v":34.606467359149761},{"$f":"'Finance&Tax'!AK195*Input!$AD$43/Input!AK$43","v":53.276984868634401},{"$f":"'Finance&Tax'!AL195*Input!$AD$43/Input!AL$43","v":37.247073567650723},{"$f":"'Finance&Tax'!AM195*Input!$AD$43/Input!AM$43","v":38.47658862944953},{"$f":"'Finance&Tax'!AN195*Input!$AD$43/Input!AN$43","v":36.461192126036188},{"$f":"'Finance&Tax'!AO195*Input!$AD$43/Input!AO$43","v":36.659066240862394}]
[null,null,null,null,"Recalculated base revenue",null,"£m 09/10 prices",null,null,null,null,null,null,null,null,null,null,null,null,null,null,null,null,null,null,null,null,null,null,null,null,null,null,{"$f":"SUM(AH17:AH18)","v":524.45448065049959},502.35636847608509,498.07084530673359,452.81217896092437,490.63127515944535,488.35561995552223,477.68865448382593,476.90816005455019]
[null,null,null,null,"Recalculated base revenue for Licence (above less recharged SIU costs)",null,"£m 09/10 prices",null,null,null,null,null,null,null,null,null,null,null,null,null,null,null,null,null,null,null,null,null,null,null,null,null,null,{"$f":"AH19-Input!AH285","v":524.45448065049959},{"$f":"AI19-Input!AI285","v":502.35636847608509},{"$f":"AJ19-Input!AJ285","v":498.07084530673359},{"$f":"AK19-Input!AK285","v":452.81217896092437},{"$f":"AL19-Input!AL285","v":490.63127515944535},{"$f":"AM19-Input!AM285","v":488.35561995552223},{"$f":"AN19-Input!AN285","v":477.68865448382593},{"$f":"AO19-Input!AO285","v":476.90816005455019}]
[null,"MOD"]
[]
[null,null,"Catch-up"]
[null,null,"Note: \"Catch-up\" calculates the revenue adjustment required to compensate for the impact of new information on previous year allowances."]
[]
[null,null,null,"Recalculated base revenue delta"]
[null,null,null,"Note: New changes to recalculated base revenue in earlier years are identified as \"recalculated base revenue deltas\" to be brought forward."]
[null,null,null,"The previous recalculated base revenue value is recalled via functionality on the \"LiveResults\" sheet saving information to and recalling it from the \"SavedResults\" sheet."]
[]
[null,null,null,null,"Current recalculated base revenue for years < t",null,"£m 09/10 prices",null,null,null,null,null,null,null,null,null,null,null,null,null,null,null,null,null,null,null,null,null,null,null,null,null,null,{"$f":"IF(AH$4 < $I$4, AH19, 0 )","v":524.45448065049959},{"$f":"IF(AI$4 < $I$4, AI19, 0 )","v":502.35636847608509},498.07084530673359,452.81217896092437,490.63127515944535,0,0]
[null,null,null,null,"Less previous recalculated base revenue for years < t",null,"£m 09/10 prices",null,null,null,null,null,null,null,null,null,null,null,null,null,null,null,null,null,null,null,null,null,null,null,null,null,null,{"$f":"IF(AH$4 < $I$4, -LiveResults!F62, 0 )","v":-524.45448065049959},{"$f":"IF(AI$4 < $I$4, -LiveResults!G62, 0 )","v":-502.35636847608509},{"$f":"IF(AJ$4 < $I$4, -LiveResults!H62, 0 )","v":-498.07084530673359},{"$f":"IF(AK$4 < $I$4, -LiveResults!I62, 0 )","v":-489.23171321523961},{"$f":"IF(AL$4 < $I$4, -LiveResults!J62, 0 )","v":-490.52334448504689},{"$f":"IF(AM$4 < $I$4, -LiveResults!K62, 0 )","v":0},{"$f":"IF(AN$4 < $I$4, -LiveResults!L62, 0 )","v":0}]
[null,null,null,null,"Recalculated base revenue delta",null,"£m 09/10 prices",null,null,null,null,null,null,null,null,null,null,null,null,null,null,null,null,null,null,null,null,null,null,null,null,null,null,{"$f":"SUM(AH30:AH31)","v":0},0,0,-36.419534254315238,0.10793067439846027,0,0]
[]
[null,null,null,"Catch-up for year t"]
[null,null,null,"Note: Recalculated base revenue deltas are brought forward using the WACC-based carrying factor to provide \"catch-up\" for year t."]
[null,null,null,"The WACC-based time value of money factor applies the WACC for the appropriate number of years delay between the new delta and recovery in year t MOD. Be aware that the calculation of this value uses an offset function."]
[]
[null,null,null,null,"WACC",null,"real annual %",null,null,null,null,null,null,null,null,null,null,null,null,null,null,null,null,null,null,null,null,null,null,null,null,null,null,{"$f":"Input!AH$39","v":4.2429999999999995E-2},{"$f":"Input!AI$39","v":4.113E-2},{"$f":"Input!AJ$39","v":4.0024999999999998E-2},{"$f":"Input!AK$39","v":3.8919999999999996E-2},{"$f":"Input!AL$39","v":3.7879999999999997E-2},{"$f":"Input!AM$39","v":3.7879999999999997E-2},{"$f":"Input!AN$39","v":3.7879999999999997E-2}]
[null,null,null,null,"1 + WACC",null,"scalar",null,null,null,null,null,null,null,null,null,null,null,null,null,null,null,null,null,null,null,null,null,null,null,null,null,null,{"$f":"1 + AH38","v":1.04243},1.0411299999999999,1.040025,1.0389200000000001,1.0378799999999999,1.0378799999999999,1.0378799999999999]
[null,null,null,null,"WACC-based time value of money factor",null,"scalar",null,null,null,null,null,null,null,null,null,null,null,null,null,null,null,null,null,null,null,null,null,null,null,null,null,null,{"$f":"IF(AH$4 < $I$4, PRODUCT(OFFSET(AH39, 0, 0, 1, YEAR($I$4) - YEAR(AH$4))), 0)","v":1.2170961570182084},{"$f":"IF(AI$4 < $I$4, PRODUCT(OFFSET(AI39, 0, 0, 1, YEAR($I$4) - YEAR(AI$4))), 0)","v":1.1675567251692762},1.1214322180412399,1.0782742895999999,1.0378799999999999,0,0]
[]
[null,null,null,null,"Recalculated base revenue delta",null,"£m 09/10 prices",null,null,null,null,null,null,null,null,null,null,null,null,null,null,null,null,null,null,null,null,null,null,null,null,null,null,{"$f":"AH32","v":0},0,0,-36.419534254315238,0.10793067439846027,0,0]
[]
[null,null,null,null,"Catch-up for year t",null,"£m 09/10 prices",null,null,null,null,null,null,null,null,null,null,null,null,null,null,null,null,null,null,null,null,null,null,null,null,null,null,null,{"$f":"IF(AI$4 = $I$4, SUMPRODUCT($AH42:AH42, $AH40:AH40), 0)","v":0},{"$f":"IF(AJ$4 = $I$4, SUMPRODUCT($AH42:AI42, $AH40:AI40), 0)","v":0},{"$f":"IF(AK$4 = $I$4, SUMPRODUCT($AH42:AJ42, $AH40:AJ40), 0)","v":0},{"$f":"IF(AL$4 = $I$4, SUMPRODUCT($AH42:AK42, $AH40:AK40), 0)","v":0},{"$f":"IF(AM$4 = $I$4, SUMPRODUCT($AH42:AL42, $AH40:AL40), 0)","v":-39.158228337289955},{"$f":"IF(AN$4 = $I$4, SUMPRODUCT($AH42:AM42, $AH40:AM40), 0)","v":0},{"$f":"IF(AO$4 = $I$4, SUMPRODUCT($AH42:AN42, $AH40:AN40), 0)","v":0}]
[]
[null,null,"Base Revenue"]
[null,null,"Note: Base Revenue is only calculated for one year t at a time in the model."]
[]
[null,null,null,null,"Recalculated base revenue for year t",null,"£m 09/10 prices",null,null,null,null,null,null,null,null,null,null,null,null,null,null,null,null,null,null,null,null,null,null,null,null,null,null,{"$f":"IF(AH$4 = $I4, AH19, 0 )","v":0},0,{"$f":"IF(AJ$4 = $I4, AJ19, 0 )","v":0},{"$f":"IF(AK$4 = $I4, AK19, 0 )","v":0},0,488.35561995552223,0,0]
[null,null,null,null,"Catch-up for year t",null,"£m 09/10 prices",null,null,null,null,null,null,null,null,null,null,null,null,null,null,null,null,null,null,null,null,null,null,null,null,null,null,null,{"$f":"AI44","v":0},0,0,0,-39.158228337289955,0,0]
[null,null,null,null,"Base Revenue for year t",null,"£m 09/10 prices",null,null,null,null,null,null,null,null,null,null,null,null,null,null,null,null,null,null,null,null,null,null,null,null,null,null,{"$f":"SUM(AH49:AH50)","v":0},0,0,0,0,449.19739161823225,0,0]
[]
[null,null,"MOD"]
[null,null,"Note: MOD is identified as the difference between Base Revenue and its opening value calculated at Final Proposals."]
[]
[null,null,null,null,"Base revenue for year t",null,"£m 09/10 prices",null,null,null,null,null,null,null,null,null,null,null,null,null,null,null,null,null,null,null,null,null,null,null,null,null,null,null,{"$f":"AI51","v":0},{"$f":"AJ51","v":0},0,0,449.19739161823225,0,0]
[null,null,null,null,"Less Final Proposals base revenue for year t",null,"£m 09/10 prices",null,null,null,null,null,null,null,null,null,null,null,null,null,null,null,null,null,null,null,null,null,null,null,null,null,null,null,{"$f":"IF(AI$4 = $I$4, -AI64, 0 )","v":0},{"$f":"IF(AJ$4 = $I$4, -AJ64, 0 )","v":0},0,0,-497.90256861969033,0,0]
[null,null,null,null,"MOD",null,"£m 09/10 prices",null,null,null,null,null,null,null,null,null,null,null,null,null,null,null,null,null,null,null,null,null,null,null,null,null,null,null,{"$f":"SUM(AI56:AI57)","v":0},0,0,0,-48.705177001458082,0,0]
[]
[null,"Total revenue"]
[null,"Note: Non-Core DARTs are added to Base Revenue to give Total Revenue. Non-Core DARTs are not included in the MOD calculation and therefore revisions to their values in earlier years must be processed as true-ups to year t."]
[null,"MOD from previous years is recalled via functionality on the \"LiveResults\" sheet saving information to and recalling it from the \"SavedResults\" sheet."]
[]
[null,null,null,null,"Final Proposals base revenue",null,"£m 09/10 prices",null,null,null,null,null,null,null,null,null,null,null,null,null,null,null,null,null,null,null,null,null,null,null,null,null,null,{"$f":"LiveResults!F53","v":525.49014697737812},{"$f":"LiveResults!G53","v":506.44916889431431},{"$f":"LiveResults!H53","v":509.69251982366461},{"$f":"LiveResults!I53","v":500.19300841745479},{"$f":"LiveResults!J53","v":498.97798504242502},{"$f":"LiveResults!K53","v":497.90256861969033},{"$f":"LiveResults!L53","v":495.06709665737515},{"$f":"LiveResults!M53","v":496.23245859862675}]
[null,null,null,null,"MOD",null,"£m 09/10 prices",null,null,null,null,null,null,null,null,null,null,null,null,null,null,null,null,null,null,null,null,null,null,null,null,null,null,null,{"$f":"IF(AI$4 = $I$4, AI58, LiveResults!G54)","v":-3.2207653560816425},{"$f":"IF(AJ$4 = $I$4, AJ58, LiveResults!H54)","v":-7.5547471844549818},{"$f":"IF(AK$4 = $I$4, AK58, LiveResults!I54)","v":-13.560457981873526},{"$f":"IF(AL$4 = $I$4, AL58, LiveResults!J54)","v":-12.344135342007519},{"$f":"IF(AM$4 = $I$4, AM58, LiveResults!K54)","v":-48.705177001458082},{"$f":"IF(AN$4 = $I$4, AN58, LiveResults!L54)","v":0},{"$f":"IF(AO$4 = $I$4, AO58, LiveResults!M54)","v":0}]
[null,null,null,null,"Base revenue",null,"£m 09/10 prices",null,null,null,null,null,null,null,null,null,null,null,null,null,null,null,null,null,null,null,null,null,null,null,null,null,null,{"$f":"SUM(AH64:AH65)","v":525.49014697737812},{"$f":"SUM(AI64:AI65)","v":503.22840353823267},502.13777263920963,486.63255043558127,486.6338497004175,449.19739161823225,495.06709665737515,496.23245859862675]
[null,null,null,null,"Non-core DARTs",null,"£m 09/10 prices",null,null,null,null,null,null,null,null,null,null,null,null,null,null,null,null,null,null,null,null,null,null,null,null,null,null,{"$f":"DARTs!AH45","v":0},{"$f":"DARTs!AI45","v":0},{"$f":"DARTs!AJ45","v":0},{"$f":"DARTs!AK45","v":0},{"$f":"DARTs!AL45","v":0},{"$f":"DARTs!AM45","v":0},{"$f":"DARTs!AN45","v":0},{"$f":"DARTs!AO45","v":0}]
[null,null,null,null,"Total revenue (Base Revenue Plus net Darts)",null,"£m 09/10 prices",null,null,null,null,null,null,null,null,null,null,null,null,null,null,null,null,null,null,null,null,null,null,null,null,null,null,{"$f":"SUM(AH66:AH67)","v":525.49014697737812},{"$f":"SUM(AI66:AI67)","v":503.22840353823267},502.13777263920963,486.63255043558127,486.6338497004175,449.19739161823225,495.06709665737515,496.23245859862675]
[]
[null,"End of sheet"]

{"sheet":"LiveResults","index":14,"n_rows":92,"n_cols":15,"rows_kept":92,"cut":false,"hidden":false,"merged":[]}
["Live Results"]
[]
[null,"Live results"]
[null,"Note: This sheet displays the output of the PCFM for the live company in the selected year."]
[null,"As well as displaying output it performs the role of recalling results generated with data at earlier stages from the \"SavedResults\" sheet required for the MOD calculation."]
[]
[null,null,"Offset settings"]
[null,null,"Note: This sheet uses Offset functions to recall saved data for the live company on the \"SavedResults\" sheet, and to place recalculated base revenue values into a row where the year of calculation can be identified."]
[]
[null,null,null,null,"Company number",{"$f":"m_identity","v":1}]
[null,null,null,null,"Number of rows per company on \"SavedResults\"",{"$f":"ROW(m_live_results_end) - ROW(m_live_results)","v":77}]
[null,null,null,null,"Year number",{"$f":"UserInterface!G54","v":6}]
[]
[null,null,"Adjacent named range: m_live_results"]
[null,null,{"$f":"\"Values for \"&E19","v":"Values for East"}]
[]
[]
[null,null,null,null,"Company","Calculated for MOD year ending",null,"File"]
[null,null,null,null,{"$f":"UserInterface!G17","v":"East"},{"$f":"UserInterface!G10","v":"2019-03-31"},null,{"$f":"MID(CELL(\"filename\"),SEARCH(\"[\",CELL(\"filename\"))+1,SEARCH(\"]\",CELL(\"filename\"))-SEARCH(\"[\",CELL(\"filename\"))-1)","v":"GD1 PCFM for use in AIP 2018.xlsm"}]
[]
[null,null,null,null,"PCFM year ending","2014-03-31","2015-03-31","2016-03-31","2017-03-31","2018-03-31","2019-03-31","2020-03-31","2021-03-31","RIIO Total","RIIO average"]
[null,null,null,null,"Price base","£m 09/10 prices","£m 09/10 prices","£m 09/10 prices","£m 09/10 prices","£m 09/10 prices","£m 09/10 prices","£m 09/10 prices","£m 09/10 prices","£m 09/10 prices","£m 09/10 prices"]
[null,null,null,null,"Totex"]
[null,null,null,1,"Slow pot",{"$f":"TIM!AH99","v":94.651688885409186},{"$f":"TIM!AI99","v":99.876821978340388},{"$f":"TIM!AJ99","v":106.84231548041576},{"$f":"TIM!AK99","v":75.497783840938411},{"$f":"TIM!AL99","v":129.96081188723014},{"$f":"TIM!AM99","v":136.39702458864483},{"$f":"TIM!AN99","v":141.11572852698674},{"$f":"TIM!AO99","v":148.00330726088191},{"$f":"SUM(F24:M24)","v":932.34548244884741},{"$f":"IFERROR(AVERAGE(F24:M24), 0 )","v":116.54318530610593}]
[null,null,null,{"$f":"+D24+1","v":2},"Fast pot",{"$f":"TIM!AH97","v":174.39983233384359},{"$f":"TIM!AI97","v":161.1529387122213},{"$f":"TIM!AJ97","v":150.2731884505001},{"$f":"TIM!AK97","v":92.904799535814035},{"$f":"TIM!AL97","v":145.39335597585051},{"$f":"TIM!AM97","v":132.82071836712561},{"$f":"TIM!AN97","v":115.21960063219261},{"$f":"TIM!AO97","v":103.4050372888119},{"$f":"SUM(F25:M25)","v":1075.5694712963598},{"$f":"IFERROR(AVERAGE(F25:M25), 0 )","v":134.44618391204497}]
[null,null,null,{"$f":"+D25+1","v":3},"Post-TIM totex allowance",{"$f":"TIM!AH66+TIM!AH72","v":269.05152121925278},{"$f":"TIM!AI66+TIM!AI72","v":261.02976069056172},{"$f":"TIM!AJ66+TIM!AJ72","v":257.11550393091585},{"$f":"TIM!AK66+TIM!AK72","v":168.40258337675243},{"$f":"TIM!AL66+TIM!AL72","v":275.35416786308065},{"$f":"TIM!AM66+TIM!AM72","v":269.21774295577046},{"$f":"TIM!AN66+TIM!AN72","v":256.33532915917937},{"$f":"TIM!AO66+TIM!AO72","v":251.40834454969382},{"$f":"SUM(F26:M26)","v":2007.914953745207},{"$f":"IFERROR(AVERAGE(F26:M26), 0 )","v":250.98936921815087}]
[null,null,null,null,"Regulatory Asset Value (RAV)"]
[null,null,null,{"$f":"D26+1","v":4},"Opening asset value (before transfers)",{"$f":"'Return&RAV'!AH39","v":2534.9639017047384},{"$f":"'Return&RAV'!AI39","v":2514.1187324292528},{"$f":"'Return&RAV'!AJ39","v":2488.3125667996555},{"$f":"'Return&RAV'!AK39","v":2478.6130605197513},{"$f":"'Return&RAV'!AL39","v":2437.8930828837442},{"$f":"'Return&RAV'!AM39","v":2446.8176596840349},{"$f":"'Return&RAV'!AN39","v":2451.9526967676297},{"$f":"'Return&RAV'!AO39","v":2449.5905739545724},null,{"$f":"IFERROR(AVERAGE(F28:M28), 0 )","v":2475.2827843429222}]
[null,null,null,{"$f":"+D28+1","v":5},"Transfers",{"$f":"'Return&RAV'!AH40","v":0},{"$f":"'Return&RAV'!AI40","v":0},{"$f":"'Return&RAV'!AJ40","v":0},{"$f":"'Return&RAV'!AK40","v":0},{"$f":"'Return&RAV'!AL40","v":0},{"$f":"'Return&RAV'!AM40","v":0},{"$f":"'Return&RAV'!AN40","v":0},{"$f":"'Return&RAV'!AO40","v":0},{"$f":"SUM(F29:M29)","v":0},0]
[null,null,null,{"$f":"+D29+1","v":6},"Opening asset value (after transfers)",{"$f":"'Return&RAV'!AH41","v":2534.9639017047384},{"$f":"'Return&RAV'!AI41","v":2514.1187324292528},{"$f":"'Return&RAV'!AJ41","v":2488.3125667996555},{"$f":"'Return&RAV'!AK41","v":2478.6130605197513},{"$f":"'Return&RAV'!AL41","v":2437.8930828837442},{"$f":"'Return&RAV'!AM41","v":2446.8176596840349},{"$f":"'Return&RAV'!AN41","v":2451.9526967676297},{"$f":"'Return&RAV'!AO41","v":2449.5905739545724},null,2475.2827843429222]
[null,null,null,{"$f":"+D30+1","v":7},"RAV additions (after disposals)",{"$f":"'Return&RAV'!AH42","v":102.6132315186192},{"$f":"'Return&RAV'!AI42","v":99.560789229103605},{"$f":"'Return&RAV'!AJ42","v":106.84231548041576},{"$f":"'Return&RAV'!AK42","v":75.608008066795023},{"$f":"'Return&RAV'!AL42","v":129.87237843968353},{"$f":"'Return&RAV'!AM42","v":135.09702458864481},{"$f":"'Return&RAV'!AN42","v":136.71572852698674},{"$f":"'Return&RAV'!AO42","v":146.30330726088192},{"$f":"SUM(F31:M31)","v":932.61278311113051},116.57659788889131]
[null,null,null,{"$f":"+D31+1","v":8},"Depreciation",{"$f":"'Return&RAV'!AH43","v":-123.45840079410482},{"$f":"'Return&RAV'!AI43","v":-125.36695485870098},{"$f":"'Return&RAV'!AJ43","v":-116.54182176032003},{"$f":"'Return&RAV'!AK43","v":-116.32798570280173},{"$f":"'Return&RAV'!AL43","v":-120.94780163939269},{"$f":"'Return&RAV'!AM43","v":-129.96198750504996},{"$f":"'Return&RAV'!AN43","v":-139.07785134004399},{"$f":"'Return&RAV'!AO43","v":-150.23344167143466},{"$f":"SUM(F32:M32)","v":-1021.9162452718489},-127.73953065898111]
[null,null,null,{"$f":"+D32+1","v":9},"Closing asset value",{"$f":"+F30+F31+F32","v":2514.1187324292528},{"$f":"+G30+G31+G32","v":2488.3125667996555},2478.6130605197513,2437.8930828837442,2446.8176596840349,2451.9526967676297,2449.5905739545724,2445.6604395440195,null,2464.1198515728324]
[null,null,null,null,"Final Proposals allowances"]
[null,null,null,{"$f":"D33+1","v":10},{"$f":"E44","v":"Fast pot expenditure"},{"$f":"IF($F$19 = $F$21, F44, OFFSET(m_results_01, ($F$11 * ($F$10 - 1)) + ROW($D35) - ROW(m_live_results), COLUMN(F$21) - COLUMN(m_live_results)))","v":179.60449042207239},163.17580366584548,152.10955900827895,145.2020208891621,137.6333283697773,128.13125357067929,117.08361941039472,107.02998699378728,{"$f":"SUM(F35:M35)","v":1129.9700623299975},{"$f":"IFERROR(AVERAGE(F35:M35), 0 )","v":141.24625779124969}]
[null,null,null,{"$f":"+D35+1","v":11},{"$f":"E45","v":"Non-controllable opex"},95.592645687569771,95.499668228987801,95.396311790743852,95.174784659752248,95.00754423031394,94.83851814583754,94.662257394239802,94.453126917270779,760.62485705471568,95.078107131839459]
[null,null,null,12,"RAV depreciation",123.45840079410482,125.75157485129662,117.09288639002907,117.04244416547402,123.53614672555523,132.36949786782139,141.35571553490951,152.48674662624032,1033.0934129554309,129.13667661942887]
[null,null,null,13,"Return",105.1253469798651,104.41967956805325,103.82311712347102,103.73298076062129,103.8478951130538,103.94341331115193,103.88450161321896,103.70136100465145,832.47829547408674,104.05978693426084]
[null,null,null,14,"Equity issuance cost",0,0,0,0,0,0,0,0,0,0]
[null,null,null,15,"Additional income",1.4368738761472886,1.3717560946477778,1.3507965881777744,1.3568209187950371,1.3598115079197914,1.3501803200347626,1.3299495458843764,1.3176050999148974,10.873793951521707,1.3592242439402134]
[null,null,null,16,"Core DARTs",4.0771942992881574,4.0613901907094574,4.0449155138037645,4.0277418163569614,4.0098394389274921,3.9911774636236892,3.9717236607077471,3.9514444329340805,32.135426816351355,4.0169283520439194]
[null,null,null,17,"Tax allowance",16.195194918330625,12.169296294773936,35.87493340916015,33.656215207293165,33.583419656877432,33.278527940541743,32.779329498020012,33.292187523827977,230.82910444882503,28.853638056103129]
[null,null,null,null,"Recalculated allowances"]
[null,null,null,{"$f":"D42+1","v":18},{"$f":"Revenue!E10","v":"Fast pot expenditure"},{"$f":"Revenue!AH10","v":174.39983233384359},{"$f":"Revenue!AI10","v":161.1529387122213},{"$f":"Revenue!AJ10","v":150.2731884505001},{"$f":"Revenue!AK10","v":92.904799535814035},{"$f":"Revenue!AL10","v":145.39335597585051},{"$f":"Revenue!AM10","v":132.82071836712561},{"$f":"Revenue!AN10","v":115.21960063219261},{"$f":"Revenue!AO10","v":103.4050372888119},{"$f":"SUM(F44:M44)","v":1075.5694712963598},{"$f":"IFERROR(AVERAGE(F44:M44), 0 )","v":134.44618391204497}]
[null,null,null,{"$f":"+D44+1","v":19},{"$f":"Revenue!E11","v":"Non-controllable opex"},{"$f":"Revenue!AH11","v":95.592645687569757},{"$f":"Revenue!AI11","v":94.623041586289503},{"$f":"Revenue!AJ11","v":94.466569981602646},{"$f":"Revenue!AK11","v":91.71656998160266},{"$f":"Revenue!AL11","v":91.536569981602639},{"$f":"Revenue!AM11","v":91.346569981602642},{"$f":"Revenue!AN11","v":91.156569981602658},{"$f":"Revenue!AO11","v":90.976569981602665},741.41510716347511,92.676888395434389]
[null,null,null,20,{"$f":"Revenue!E12","v":"RAV depreciation"},{"$f":"Revenue!AH12","v":123.45840079410482},{"$f":"Revenue!AI12","v":125.36695485870098},{"$f":"Revenue!AJ12","v":116.54182176032003},{"$f":"Revenue!AK12","v":116.32798570280173},{"$f":"Revenue!AL12","v":120.94780163939269},{"$f":"Revenue!AM12","v":129.96198750504996},{"$f":"Revenue!AN12","v":139.07785134004399},{"$f":"Revenue!AO12","v":150.23344167143466},1021.9162452718489,127.73953065898111]
[null,null,null,21,{"$f":"Revenue!E13","v":"Return"},{"$f":"Revenue!AH13","v":104.94531244297814},{"$f":"Revenue!AI13","v":100.85343613227592},{"$f":"Revenue!AJ13","v":97.491635547543396},{"$f":"Revenue!AK13","v":93.897960807348255},{"$f":"Revenue!AL13","v":90.825028934412515},{"$f":"Revenue!AM13","v":91.087768364401853},{"$f":"Revenue!AN13","v":91.141920206870637},{"$f":"Revenue!AO13","v":91.025461608368431},761.26852404419913,95.158565505524891]
[null,null,null,22,{"$f":"Revenue!E14","v":"Equity issuance cost"},{"$f":"Revenue!AH14","v":0},{"$f":"Revenue!AI14","v":0},{"$f":"Revenue!AJ14","v":0},{"$f":"Revenue!AK14","v":0},{"$f":"Revenue!AL14","v":0},{"$f":"Revenue!AM14","v":0},{"$f":"Revenue!AN14","v":0},{"$f":"Revenue!AO14","v":0},0,0]
[null,null,null,23,{"$f":"Revenue!E15","v":"Additional income"},{"$f":"Revenue!AH15","v":1.4371556068940596},{"$f":"Revenue!AI15","v":1.3718015630879741},{"$f":"Revenue!AJ15","v":1.3507660107019517},{"$f":"Revenue!AK15","v":1.356812198977974},{"$f":"Revenue!AL15","v":1.3598136386487443},{"$f":"Revenue!AM15","v":1.3501475065962032},{"$f":"Revenue!AN15","v":1.3298433305384654},{"$f":"Revenue!AO15","v":1.3174540960763355},10.873793951521709,1.3592242439402136]
[null,null,null,24,{"$f":"Revenue!E16","v":"Core DARTs"},{"$f":"Revenue!AH16","v":4.2282702509803567},{"$f":"Revenue!AI16","v":4.2191641136209963},{"$f":"Revenue!AJ16","v":3.3403961969157177},{"$f":"Revenue!AK16","v":3.3310658657453205},{"$f":"Revenue!AL16","v":3.3216314218875684},{"$f":"Revenue!AM16","v":3.3118396012964841},{"$f":"Revenue!AN16","v":3.3016768665414098},{"$f":"Revenue!AO16","v":3.2911291673938137},28.345173484381665,3.5431466855477081]
[null,null,null,25,{"$f":"Revenue!E18","v":"Tax allowance"},{"$f":"Revenue!AH18","v":20.39286353412886},{"$f":"Revenue!AI18","v":14.769031509888402},{"$f":"Revenue!AJ18","v":34.606467359149761},{"$f":"Revenue!AK18","v":53.276984868634401},{"$f":"Revenue!AL18","v":37.247073567650723},{"$f":"Revenue!AM18","v":38.47658862944953},{"$f":"Revenue!AN18","v":36.461192126036188},{"$f":"Revenue!AO18","v":36.659066240862394},271.8892678358003,33.986158479475037]
[null,null,null,null,"Price Control Revenue"]
[null,null,null,{"$f":"D51+1","v":26},"Final proposals base revenue",{"$f":"F64","v":525.49014697737812},{"$f":"G64","v":506.44916889431431},509.69251982366461,500.19300841745479,498.97798504242502,497.90256861969033,495.06709665737515,496.23245859862675,{"$f":"SUM(F53:M53)","v":4030.0049530309293},{"$f":"IFERROR(AVERAGE(F53:M53), 0 )","v":503.75061912886616}]
[null,null,null,{"$f":"+D53+1","v":27},"MOD",{"$f":"IF(F$21=$F$19,Revenue!AH58,IF(F$21 < $F$19,OFFSET(m_results_01, ($F$11 * ($F$10 - 1)) + ROW($D73) + ((F$21 - $F$21)/365) - ROW(m_live_results), COLUMN(F$21) - COLUMN(m_live_results)), 0))","v":0},{"$f":"IF(G$21=$F$19,Revenue!AI58,IF(G$21 < $F$19,OFFSET(m_results_01, ($F$11 * ($F$10 - 1)) + ROW($D73) + ((G$21 - $F$21)/365) - ROW(m_live_results), COLUMN(G$21) - COLUMN(m_live_results)), 0))","v":-3.2207653560816425},{"$f":"IF(H$21=$F$19,Revenue!AJ58,IF(H$21 < $F$19,OFFSET(m_results_01, ($F$11 * ($F$10 - 1)) + ROW($D73) + ((H$21 - $F$21)/365) - ROW(m_live_results), COLUMN(H$21) - COLUMN(m_live_results)), 0))","v":-7.5547471844549818},{"$f":"IF(I$21=$F$19,Revenue!AK58,IF(I$21 < $F$19,OFFSET(m_results_01, ($F$11 * ($F$10 - 1)) + ROW($D73) + ((I$21 - $F$21)/365) - ROW(m_live_results), COLUMN(I$21) - COLUMN(m_live_results)), 0))","v":-13.560457981873526},{"$f":"IF(J$21=$F$19,Revenue!AL58,IF(J$21 < $F$19,OFFSET(m_results_01, ($F$11 * ($F$10 - 1)) + ROW($D73) + ((J$21 - $F$21)/365) - ROW(m_live_results), COLUMN(J$21) - COLUMN(m_live_results)), 0))","v":-12.344135342007519},{"$f":"IF(K$21=$F$19,Revenue!AM58,IF(K$21 < $F$19,OFFSET(m_results_01, ($F$11 * ($F$10 - 1)) + ROW($D73) + ((K$21 - $F$21)/365) - ROW(m_live_results), COLUMN(K$21) - COLUMN(m_live_results)), 0))","v":-48.705177001458082},{"$f":"IF(L$21=$F$19,Revenue!AN58,IF(L$21 < $F$19,OFFSET(m_results_01, ($F$11 * ($F$10 - 1)) + ROW($D73) + ((L$21 - $F$21)/365) - ROW(m_live_results), COLUMN(L$21) - COLUMN(m_live_results)), 0))","v":0},{"$f":"IF(M$21=$F$19,Revenue!AO58,IF(M$21 < $F$19,OFFSET(m_results_01, ($F$11 * ($F$10 - 1)) + ROW($D73) + ((M$21 - $F$21)/365) - ROW(m_live_results), COLUMN(M$21) - COLUMN(m_live_results)), 0))","v":0},-85.385282865875752,-10.673160358234469]
[null,null,null,28,"Base revenue",{"$f":"IF(F$21 = $F$19, Revenue!AH51, IF(F$21 < $F$19, OFFSET(m_results_01, ($F$11 * ($F$10 - 1)) + ROW($D55) - ROW(m_live_results), COLUMN(F$21) - COLUMN(m_live_results)), F53))","v":525.49014697737812},{"$f":"IF(G$21 = $F$19, Revenue!AI51, IF(G$21 < $F$19, OFFSET(m_results_01, ($F$11 * ($F$10 - 1)) + ROW($D55) - ROW(m_live_results), COLUMN(G$21) - COLUMN(m_live_results)), G53))","v":503.22840353823267},{"$f":"IF(H$21 = $F$19, Revenue!AJ51, IF(H$21 < $F$19, OFFSET(m_results_01, ($F$11 * ($F$10 - 1)) + ROW($D55) - ROW(m_live_results), COLUMN(H$21) - COLUMN(m_live_results)), H53))","v":502.13777263920963},{"$f":"IF(I$21 = $F$19, Revenue!AK51, IF(I$21 < $F$19, OFFSET(m_results_01, ($F$11 * ($F$10 - 1)) + ROW($D55) - ROW(m_live_results), COLUMN(I$21) - COLUMN(m_live_results)), I53))","v":486.63255043558127},{"$f":"IF(J$21 = $F$19, Revenue!AL51, IF(J$21 < $F$19, OFFSET(m_results_01, ($F$11 * ($F$10 - 1)) + ROW($D55) - ROW(m_live_results), COLUMN(J$21) - COLUMN(m_live_results)), J53))","v":486.6338497004175},{"$f":"IF(K$21 = $F$19, Revenue!AM51, IF(K$21 < $F$19, OFFSET(m_results_01, ($F$11 * ($F$10 - 1)) + ROW($D55) - ROW(m_live_results), COLUMN(K$21) - COLUMN(m_live_results)), K53))","v":449.19739161823225},{"$f":"IF(L$21 = $F$19, Revenue!AN51, IF(L$21 < $F$19, OFFSET(m_results_01, ($F$11 * ($F$10 - 1)) + ROW($D55) - ROW(m_live_results), COLUMN(L$21) - COLUMN(m_live_results)), L53))","v":495.06709665737515},{"$f":"IF(M$21 = $F$19, Revenue!AO51, IF(M$21 < $F$19, OFFSET(m_results_01, ($F$11 * ($F$10 - 1)) + ROW($D55) - ROW(m_live_results), COLUMN(M$21) - COLUMN(m_live_results)), M53))","v":496.23245859862675},3944.6196701650538,493.07745877063172]
[null,null,null,29,"Not Used"]
[null,null,null,{"$f":"+D56+1","v":30},"Not Used"]
[null,null,null,{"$f":"+D57+1","v":31},"Excluded services revenue",{"$f":"Input!AH174","v":4.0367514872889485},{"$f":"Input!AI174","v":3.7526183556097119},{"$f":"Input!AJ174","v":3.5656868305579503},{"$f":"Input!AK174","v":3.5730210938536877},{"$f":"Input!AL174","v":3.5723799712838513},{"$f":"Input!AM174","v":3.5727969308881065},{"$f":"Input!AN174","v":3.5805934286425245},{"$f":"Input!AO174","v":3.5339308527476048},29.187778950872389,3.6484723688590486]
[null,null,null,32,"Total revenue",{"$f":"SUM(F55:F58)","v":529.52689846466706},{"$f":"SUM(G55:G58)","v":506.98102189384235},505.70345946976755,490.20557152943496,490.20622967170135,452.77018854912035,498.64769008601769,499.76638945137438,3973.8074491159255,496.72593113949068]
[null,null,null,null,"Recalculated base revenue"]
[null,null,null,{"$f":"D59+1","v":33},"Recalculated base revenue",{"$f":"Revenue!AH19","v":524.45448065049959},{"$f":"Revenue!AI19","v":502.35636847608509},{"$f":"Revenue!AJ19","v":498.07084530673359},{"$f":"Revenue!AK19","v":452.81217896092437},{"$f":"Revenue!AL19","v":490.63127515944535},{"$f":"Revenue!AM19","v":488.35561995552223},{"$f":"Revenue!AN19","v":477.68865448382593},{"$f":"Revenue!AO19","v":476.90816005455019},{"$f":"SUM(F61:M61)","v":3911.2775830475866},{"$f":"IFERROR(AVERAGE(F61:M61), 0 )","v":488.90969788094833}]
[null,null,null,{"$f":"+D61+1","v":34},"Previous year recalculated base revenue",{"$f":"IF($F$12=1, 0,  OFFSET(F64, $F$12 - 2, 0))","v":524.45448065049959},{"$f":"IF($F$12=1, 0,  OFFSET(G64, $F$12 - 2, 0))","v":502.35636847608509},498.07084530673359,489.23171321523961,490.52334448504689,488.27549025774687,477.60401321052296,476.79290802632414,{"$f":"SUM(F62:M62)","v":3947.3091636281993},{"$f":"IFERROR(AVERAGE(F62:M62), 0 )","v":493.41364545352491}]
[null,null,null,null,"Recorded recalculated base revenue"]
[null,null,null,{"$f":"D62+1","v":35},"2014-03-31",{"$f":"IF($E64 = $F$19, F$61, IF($E64 < $F$19,OFFSET(m_results_01, ($F$11 * ($F$10 - 1)) + ROW($D64) - ROW(m_live_results), COLUMN(F$21) - COLUMN(m_live_results)), \"\"))","v":525.49014697737812},506.44916889431431,509.69251982366461,500.19300841745479,498.97798504242502,497.90256861969033,495.06709665737515,496.23245859862675,{"$f":"SUM(F64:M64)","v":4030.0049530309293},{"$f":"IFERROR(AVERAGE(F64:M64), 0 )","v":503.75061912886616}]
[null,null,null,{"$f":"+D64+1","v":36},"2015-03-31",525.57095138924183,503.14417059517359,506.41095871207222,496.92130138461607,495.71027889908629,494.63876862774021,491.81051950493963,492.98575859816282,4007.1927077110327,500.89908846387908]
[null,null,null,{"$f":"+D65+1","v":37},"2016-03-31",525.19099863659369,503.23573839244233,502.45480333608714,493.3482490774901,492.09586336458608,490.99345829539538,488.14550826456895,489.30991231990424,3984.7745316870678,498.09681646088347]
[null,null,null,{"$f":"D66+1","v":38},"2017-03-31",524.45448117008118,502.34377246518932,501.75249626394293,489.160129177839,497.54319273073247,493.72091620917809,484.00153770968666,483.73269962481822,3976.7092253514684,497.08865316893355]
[null,null,null,{"$f":"D67+1","v":39},"2018-03-31",524.45448065049959,502.35636847608509,498.07084530673359,489.23171321523961,490.52334448504689,488.27549025774687,477.60401321052296,476.79290802632414,3947.3091636281993,493.41364545352491]
[null,null,null,{"$f":"D68+1","v":40},"2019-03-31",524.45448065049959,502.35636847608509,498.07084530673359,452.81217896092437,490.63127515944535,488.35561995552223,477.68865448382593,476.90816005455019,3911.2775830475866,488.90969788094833]
[null,null,null,{"$f":"D69+1","v":41},"2020-03-31","","","","","","","","",0,0]
[null,null,null,{"$f":"D70+1","v":42},"2021-03-31","","","","","","","","",0,0]
[null,null,null,null,"Recorded MOD"]
[null,null,null,{"$f":"D71+1","v":43},"2014-03-31",{"$f":"IF($E73 = $F$19, F$54, IF($E73 < $F$19,OFFSET(m_results_01, ($F$11 * ($F$10 - 1)) + ROW($D73) - ROW(m_live_results), COLUMN(F$21) - COLUMN(m_live_results)), \"\"))","v":0},0,0,0,0,0,0,0,0]
[null,null,null,{"$f":"+D73+1","v":44},"2015-03-31",0,-3.2207653560816425,0,0,0,0,0,0,-3.2207653560816425]
[null,null,null,{"$f":"+D74+1","v":45},"2016-03-31",0,-3.2207653560816425,-7.5547471844549818,0,0,0,0,0,-10.775512540536624]
[null,null,null,{"$f":"D75+1","v":46},"2017-03-31",0,-3.2207653560816425,-7.5547471844549818,-13.560457981873526,0,0,0,0,-24.33597052241015]
[null,null,null,{"$f":"D76+1","v":47},"2018-03-31",0,-3.2207653560816425,-7.5547471844549818,-13.560457981873526,-12.344135342007519,0,0,0,-36.680105864417669]
[null,null,null,{"$f":"D77+1","v":48},"2019-03-31",0,-3.2207653560816425,-7.5547471844549818,-13.560457981873526,-12.344135342007519,-48.705177001458082,0,0,-85.385282865875752]
[null,null,null,{"$f":"D78+1","v":49},"2020-03-31","","","","","","","","",0]
[null,null,null,{"$f":"D79+1","v":50},"2021-03-31","","","","","","","","",{"$f":"SUM(F80:M80)","v":0}]
[null,null,null,null,"Inputs to RoRE"]
[null,null,null,{"$f":"D80+1","v":51},"Average RAV",{"$f":"AVERAGE(F28 +F29, (F33*'Return&RAV'!AH14))","v":2473.3752637986836},{"$f":"AVERAGE(G28 +G29, (G33*'Return&RAV'!AI14))","v":2452.065065214586},{"$f":"AVERAGE(H28 +H29, (H33*'Return&RAV'!AJ14))","v":2435.7685333552381},{"$f":"AVERAGE(I28 +I29, (I33*'Return&RAV'!AK14))","v":2412.5889210521136},{"$f":"AVERAGE(J28 +J29, (J33*'Return&RAV'!AL14))","v":2397.7040373392956},{"$f":"AVERAGE(K28 +K29, (K33*'Return&RAV'!AM14))","v":2404.6401363358464},{"$f":"AVERAGE(L28 +L29, (L33*'Return&RAV'!AN14))","v":2406.0696992310095},{"$f":"AVERAGE(M28 +M29, (M33*'Return&RAV'!AO14))","v":2402.9952906116273},{"$f":"SUM(F82:M82)","v":19385.206946938397},{"$f":"IFERROR(AVERAGE(F82:M82), 0 )","v":2423.1508683672996}]
[null,null,null,{"$f":"D82+1","v":52},"Gearing",{"$f":"Input!AH37","v":0.65},{"$f":"Input!AI37","v":0.65},{"$f":"Input!AJ37","v":0.65},{"$f":"Input!AK37","v":0.65},{"$f":"Input!AL37","v":0.65},{"$f":"Input!AM37","v":0.65},{"$f":"Input!AN37","v":0.65},{"$f":"Input!AO37","v":0.65},{"$f":"1- (N84 /N82)","v":0.65},{"$f":"IFERROR(AVERAGE(F83:M83), 0 )","v":0.65}]
[null,null,null,{"$f":"D83+1","v":53},"Regulated equity",{"$f":"F82 * (1 - F83)","v":865.68134232953923},{"$f":"G82 * (1 - G83)","v":858.22277282510504},852.51898667433329,844.40612236823972,839.19641306875337,841.6240477175462,842.12439473085328,841.04835171406955,{"$f":"SUM(F84:M84)","v":6784.8224314284389},{"$f":"IFERROR(AVERAGE(F84:M84), 0 )","v":848.10280392855486}]
[null,null,null,{"$f":"D84+1","v":54},"Regulated debt return",{"$f":"(F82 * F83) * Input!AH8","v":46.944662506899022},{"$f":"(G82 * G83) * Input!AI8","v":43.352510352993882},{"$f":"(H82 * H83) * Input!AJ8","v":40.372863440363069},{"$f":"(I82 * I83) * Input!AK8","v":37.322750608676202},{"$f":"(J82 * J83) * Input!AL8","v":34.59886925880604},{"$f":"(K82 * K83) * Input!AM8","v":34.69895716732627},{"$f":"(L82 * L83) * Input!AN8","v":34.719585759903467},{"$f":"(M82 * M83) * Input!AO8","v":34.675222043525785},{"$f":"SUM(F85:M85)","v":306.68542113849367},{"$f":"IFERROR(AVERAGE(F85:M85), 0 )","v":38.335677642311708}]
[null,null,null,{"$f":"D85+1","v":55},"Allowed repex",{"$f":"Totex!AH33","v":108.60973304629273},{"$f":"Totex!AI33","v":106.64159943040848},{"$f":"Totex!AJ33","v":107.9391610489302},{"$f":"Totex!AK33","v":108.52184192914056},{"$f":"Totex!AL33","v":109.01992959218663},{"$f":"Totex!AM33","v":109.49975714182249},{"$f":"Totex!AN33","v":109.99574982753185},{"$f":"Totex!AO33","v":110.46329557645316},{"$f":"SUM(F86:M86)","v":870.6910675927661},{"$f":"IFERROR(AVERAGE(F86:M86), 0 )","v":108.83638344909576}]
[]
[]
[]
[]
[]
[null,null,"End of sheet"]

{"sheet":"SavedResults","index":15,"n_rows":635,"n_cols":15,"rows_kept":635,"cut":false,"hidden":false,"merged":[]}
["Saved Results"]
[]
[null,"Links to saved results"]
[null,"Note: The \"Run_for_one\" and \"RunForAll\" macros save output on the \"LiveResults\" sheet to points on this sheet designated by named ranges. The hyperlinks below lead to the saved output for each company."]
[null,"The \"LiveResults\" sheet recalls values generated in earlier iterations (Final Proposals allowances and recalculated base revenue) from this sheet."]
[null,"For \"LiveResults\" to recall data correctly, there must be an equal number of rows between each named ranges marking the start of each company's section. There must also be sufficient rows to hold the output generated on the \"LiveResults\" sheet."]
[]
[null,null,null,null,{"$f":"UserInterface!E46","v":"East"}]
[null,null,null,null,{"$f":"UserInterface!E47","v":"London"}]
[null,null,null,null,{"$f":"UserInterface!E48","v":"North West"}]
[null,null,null,null,{"$f":"UserInterface!E49","v":"West Midlands"}]
[null,null,null,null,{"$f":"UserInterface!E50","v":"Northern"}]
[null,null,null,null,{"$f":"UserInterface!E51","v":"Scotland"}]
[null,null,null,null,{"$f":"UserInterface!E52","v":"Southern"}]
[null,null,null,null,{"$f":"UserInterface!E53","v":"Wales & West"}]
[]
[null,"Saved results"]
[]
[null,null,"Values for East"]
[]
[]
[null,null,null,null,"Company","Calculated for MOD year ending",null,"File"]
[null,null,null,null,"East","2018-03-31",null,"GD1 Full Model AIP 2016.xlsm"]
[]
[null,null,null,null,"PCFM year ending","2014-03-31","2015-03-31","2016-03-31","2017-03-31","2018-03-31","2019-03-31","2020-03-31","2021-03-31","RIIO Total","RIIO average"]
[null,null,null,null,"Price base","£m 09/10 prices","£m 09/10 prices","£m 09/10 prices","£m 09/10 prices","£m 09/10 prices","£m 09/10 prices","£m 09/10 prices","£m 09/10 prices","£m 09/10 prices","£m 09/10 prices"]
[null,null,null,null,"Totex"]
[null,null,null,1,"Slow pot",94.651688885409186,99.876821978340388,106.84231548041576,119.76171294565103,129.96081188723014,136.39702458864483,141.11572852698674,148.00330726088191,976.60941155355999,122.076176444195]
[null,null,null,2,"Fast pot",174.39983233384359,161.1529387122213,150.2731884505001,147.37436474589791,145.39335597585051,132.82071836712561,115.21960063219261,103.4050372888119,1130.0390365064436,141.25487956330545]
[null,null,null,3,"Post-TIM totex allowance",269.05152121925278,261.02976069056172,257.11550393091585,267.13607769154896,275.35416786308065,269.21774295577046,256.33532915917937,251.40834454969382,2106.6484480600038,263.33105600750048]
[null,null,null,null,"Regulatory Asset Value (RAV)"]
[null,null,null,4,"Opening asset value (before transfers)",2534.9639017047384,2514.1187324292528,2488.3125667996555,2478.6130605197513,2482.1570119884573,2489.1570701320215,2492.4103556401501,2488.2092483328875,null,2495.9927434433644]
[null,null,null,5,"Transfers",0,0,0,0,0,0,0,0,0,0]
[null,null,null,6,"Opening asset value (after transfers)",2534.9639017047384,2514.1187324292528,2488.3125667996555,2478.6130605197513,2482.1570119884573,2489.1570701320215,2492.4103556401501,2488.2092483328875,null,2495.9927434433644]
[null,null,null,7,"RAV additions (after disposals)",102.6132315186192,99.560789229103605,106.84231548041576,119.87193717150764,129.87237843968353,135.09702458864481,136.71572852698674,146.30330726088192,976.8767122158431,122.10958902698039]
[null,null,null,8,"Depreciation",-123.45840079410482,-125.36695485870098,-116.54182176032003,-116.32798570280173,-122.87232029611934,-131.843739080516,-140.91683583424947,-152.02965908437955,-1029.357717411192,-128.669714676399]
[null,null,null,9,"Closing asset value",2514.1187324292528,2488.3125667996555,2478.6130605197513,2482.1570119884573,2489.1570701320215,2492.4103556401501,2488.2092483328875,2482.4828965093898,null,2489.4326177939461]
[null,null,null,null,"Final Proposals allowances"]
[null,null,null,10,"Fast pot expenditure",179.60449042207239,163.17580366584548,152.10955900827895,145.2020208891621,137.6333283697773,128.13125357067929,117.08361941039472,107.02998699378728,1129.9700623299975,141.24625779124969]
[null,null,null,11,"Non-controllable opex",95.592645687569771,95.499668228987801,95.396311790743852,95.174784659752248,95.00754423031394,94.83851814583754,94.662257394239802,94.453126917270779,760.62485705471568,95.078107131839459]
[null,null,null,12,"RAV depreciation",123.45840079410482,125.75157485129662,117.09288639002907,117.04244416547402,123.53614672555523,132.36949786782139,141.35571553490951,152.48674662624032,1033.0934129554309,129.13667661942887]
[null,null,null,13,"Return",105.1253469798651,104.41967956805325,103.82311712347102,103.73298076062129,103.8478951130538,103.94341331115193,103.88450161321896,103.70136100465145,832.47829547408674,104.05978693426084]
[null,null,null,14,"Equity issuance cost",0,0,0,0,0,0,0,0,0,0]
[null,null,null,15,"Additional income",1.4368738761472886,1.3717560946477778,1.3507965881777744,1.3568209187950371,1.3598115079197914,1.3501803200347626,1.3299495458843764,1.3176050999148974,10.873793951521707,1.3592242439402134]
[null,null,null,16,"Core DARTs",4.0771942992881574,4.0613901907094574,4.0449155138037645,4.0277418163569614,4.0098394389274921,3.9911774636236892,3.9717236607077471,3.9514444329340805,32.135426816351355,4.0169283520439194]
[null,null,null,17,"Tax allowance",16.195194918330625,12.169296294773936,35.87493340916015,33.656215207293165,33.583419656877432,33.278527940541743,32.779329498020012,33.292187523827977,230.82910444882503,28.853638056103129]
[null,null,null,null,"Recalculated allowances"]
[null,null,null,18,"Fast pot expenditure",174.39983233384359,161.1529387122213,150.2731884505001,147.37436474589791,145.39335597585051,132.82071836712561,115.21960063219261,103.4050372888119,1130.0390365064436,141.25487956330545]
[null,null,null,19,"Non-controllable opex",95.592645687569757,94.623041586289503,94.466569981602646,91.71656998160266,91.536569981602639,91.346569981602642,91.156569981602658,90.976569981602665,741.41510716347511,92.676888395434389]
[null,null,null,20,"RAV depreciation",123.45840079410482,125.36695485870098,116.54182176032003,116.32798570280173,122.87232029611934,131.843739080516,140.91683583424947,152.02965908437955,1029.357717411192,128.669714676399]
[null,null,null,21,"Return",104.94531244297814,100.85343613227592,97.491635547543396,94.727068015196522,92.436028552022719,92.627978007526266,92.612930329281184,92.428862663837123,768.12325169066116,96.015406461332645]
[null,null,null,22,"Equity issuance cost",0,0,0,0,0,0,0,0,0,0]
[null,null,null,23,"Additional income",1.4371556068940596,1.3718015630879741,1.3507660107019517,1.356812198977974,1.3598136386487443,1.3501475065962032,1.3298433305384654,1.3174540960763355,10.873793951521709,1.3592242439402136]
[null,null,null,24,"Core DARTs",4.2282702509803567,4.2191641136209963,3.3403961969157177,3.3310658657453205,3.3216314218875684,3.3118396012964841,3.3016768665414098,3.2911291673938137,28.345173484381665,3.5431466855477081]
[null,null,null,25,"Tax allowance",20.39286353412886,14.769031509888402,34.606467359149761,34.3978467050175,33.603624618915347,34.974497713083686,33.066556236117201,33.344195744222709,239.15508342052345,29.894385427565432]
[null,null,null,null,"Price Control Revenue"]
[null,null,null,26,"Final proposals base revenue",525.49014697737812,506.44916889431431,509.69251982366461,500.19300841745479,498.97798504242502,497.90256861969033,495.06709665737515,496.23245859862675,4030.0049530309293,503.75061912886616]
[null,null,null,27,"MOD",0,-3.2207653560816425,-7.5547471844549818,-13.560457981873526,-12.344135342007519,0,0,0,-36.680105864417669,-4.5850132330522086]
[null,null,null,28,"Base revenue",525.49014697737812,503.22840353823267,502.13777263920963,486.63255043558127,486.6338497004175,497.90256861969033,495.06709665737515,496.23245859862675,3993.3248471665115,499.16560589581394]
[null,null,null,29,"Not Used"]
[null,null,null,30,"Not Used"]
[null,null,null,31,"Excluded services revenue",4.0367514872889485,3.7526183556097119,3.5656868305579503,3.5730210938536877,3.5723799712838513,3.5727969308881065,3.5805934286425245,3.5339308527476048,29.187778950872389,3.6484723688590486]
[null,null,null,32,"Total revenue",529.52689846466706,506.98102189384235,505.70345946976755,490.20557152943496,490.20622967170135,501.47536555057843,498.64769008601769,499.76638945137438,4022.5126261173837,502.81407826467296]
[null,null,null,null,"Recalculated base revenue"]
[null,null,null,33,"Recalculated base revenue",524.45448065049959,502.35636847608509,498.07084530673359,489.23171321523961,490.52334448504689,488.27549025774687,477.60401321052296,476.79290802632414,3947.3091636281993,493.41364545352491]
[null,null,null,34,"Previous year recalculated base revenue",524.45448117008118,502.34377246518932,501.75249626394293,489.160129177839,497.54319273073247,493.72091620917809,484.00153770968666,483.73269962481822,3976.7092253514684,497.08865316893355]
[null,null,null,null,"Recorded recalculated base revenue"]
[null,null,null,35,"2014-03-31",525.49014697737812,506.44916889431431,509.69251982366461,500.19300841745479,498.97798504242502,497.90256861969033,495.06709665737515,496.23245859862675,4030.0049530309293,503.75061912886616]
[null,null,null,36,"2015-03-31",525.57095138924183,503.14417059517359,506.41095871207222,496.92130138461607,495.71027889908629,494.63876862774021,491.81051950493963,492.98575859816282,4007.1927077110327,500.89908846387908]
[null,null,null,37,"2016-03-31",525.19099863659369,503.23573839244233,502.45480333608714,493.3482490774901,492.09586336458608,490.99345829539538,488.14550826456895,489.30991231990424,3984.7745316870678,498.09681646088347]
[null,null,null,38,"2017-03-31",524.45448117008118,502.34377246518932,501.75249626394293,489.160129177839,497.54319273073247,493.72091620917809,484.00153770968666,483.73269962481822,3976.7092253514684,497.08865316893355]
[null,null,null,39,"2018-03-31",524.45448065049959,502.35636847608509,498.07084530673359,489.23171321523961,490.52334448504689,488.27549025774687,477.60401321052296,476.79290802632414,3947.3091636281993,493.41364545352491]
[null,null,null,40,"2019-03-31","","","","","","","","",0,0]
[null,null,null,41,"2020-03-31","","","","","","","","",0,0]
[null,null,null,42,"2021-03-31","","","","","","","","",0,0]
[null,null,null,null,"Recorded MOD"]
[null,null,null,43,"2014-03-31",0,0,0,0,0,0,0,0,0]
[null,null,null,44,"2015-03-31",0,-3.2207653560816425,0,0,0,0,0,0,-3.2207653560816425]
[null,null,null,45,"2016-03-31",0,-3.2207653560816425,-7.5547471844549818,0,0,0,0,0,-10.775512540536624]
[null,null,null,46,"2017-03-31",0,-3.2207653560816425,-7.5547471844549818,-13.560457981873526,0,0,0,0,-24.33597052241015]
[null,null,null,47,"2018-03-31",0,-3.2207653560816425,-7.5547471844549818,-13.560457981873526,-12.344135342007519,0,0,0,-36.680105864417669]
[null,null,null,48,"2019-03-31","","","","","","","","",0]
[null,null,null,49,"2020-03-31","","","","","","","","",0]
[null,null,null,50,"2021-03-31","","","","","","","","",0]
[null,null,null,null,"Inputs to RoRE"]
[null,null,null,51,"Average RAV",2473.3752637986836,2452.065065214586,2435.7685333552381,2433.8917783966222,2440.2330663152779,2445.3003697868603,2444.9031237930622,2440.0438929207266,19565.581093581059,2445.6976366976323]
[null,null,null,52,"Gearing",0.65,0.65,0.65,0.65,0.65,0.65,0.65,0.65,0.65000000000000013,0.65]
[null,null,null,53,"Regulated equity",865.68134232953923,858.22277282510504,852.51898667433329,851.86212243881766,854.08157321034719,855.85512942540106,855.71609332757168,854.01536252225424,6847.9533827533687,855.99417284417109]
[null,null,null,54,"Regulated debt return",46.944662506899022,43.352510352993882,40.372863440363069,37.652305811795749,35.212563146929462,35.285684336024403,35.279952076333885,35.209833374846092,309.31037504618553,38.663796880773191]
[null,null,null,55,"Allowed repex",108.60973304629273,106.64159943040848,107.9391610489302,108.52184192914056,109.01992959218663,109.49975714182249,109.99574982753185,110.46329557645316,870.6910675927661,108.83638344909576]
[]
[]
[]
[]
[]
[null,null,"Values for London"]
[]
[]
[null,null,null,null,"Company","Calculated for MOD year ending",null,"File"]
[null,null,null,null,"London","2018-03-31",null,"GD1 Full Model AIP 2016.xlsm"]
[]
[null,null,null,null,"PCFM year ending","2014-03-31","2015-03-31","2016-03-31","2017-03-31","2018-03-31","2019-03-31","2020-03-31","2021-03-31","RIIO Total","RIIO average"]
[null,null,null,null,"Price base","£m 09/10 prices","£m 09/10 prices","£m 09/10 prices","£m 09/10 prices","£m 09/10 prices","£m 09/10 prices","£m 09/10 prices","£m 09/10 prices","£m 09/10 prices","£m 09/10 prices"]
[null,null,null,null,"Totex"]
[null,null,null,1,"Slow pot",81.621719953696427,88.492225033982535,103.27130980783922,122.47021053510579,138.89625234798004,145.09325942631742,156.71529221813995,168.53718131783316,1005.0974506408946,125.63718133011183]
[null,null,null,2,"Fast pot",141.56484832563171,129.65929427753395,128.55135957681665,125.90947034849015,117.69141180191687,104.41457032629125,88.052793925600469,74.1715231430816,910.0152717253626,113.75190896567032]
[null,null,null,3,"Post-TIM totex allowance",223.18656827932813,218.15151931151647,231.82266938465585,248.37968088359594,256.58766414989691,249.50782975260867,244.76808614374042,242.70870446091476,1915.112722366257,239.38909029578213]
[null,null,null,null,"Regulatory Asset Value (RAV)"]
[null,null,null,4,"Opening asset value (before transfers)",1643.6116038196683,1645.48043178589,1652.1707028649992,1676.2184944642588,1712.7871878505475,1763.1072554714126,1814.0636099479093,1867.6164759633998,null,1721.8819702710105]
[null,null,null,5,"Transfers",0,0,0,0,0,0,0,0,0,0]
[null,null,null,6,"Opening asset value (after transfers)",1643.6116038196683,1645.48043178589,1652.1707028649992,1676.2184944642588,1712.7871878505475,1763.1072554714126,1814.0636099479093,1867.6164759633998,null,1721.8819702710105]
[null,null,null,7,"RAV additions (after disposals)",83.087202566692653,89.892225033982541,101.67186255595274,115.26037856662943,135.29625234798004,144.39325942631743,155.71529221813995,167.03718131783316,992.35365403352796,124.04420675419099]
[null,null,null,8,"Depreciation",-81.218374600470867,-83.201953954873503,-77.624070956693075,-78.691685180340841,-84.976184727115012,-93.436904949820743,-102.16242620264939,-112.78322727253124,-714.09482784449472,-89.26185348056184]
[null,null,null,9,"Closing asset value",1645.48043178589,1652.1707028649992,1676.2184944642588,1712.7871878505475,1763.1072554714126,1814.0636099479093,1867.6164759633998,1921.8704300087015,null,1756.6643235446397]
[null,null,null,null,"Final Proposals allowances"]
[null,null,null,10,"Fast pot expenditure",147.63344041589565,137.67080232113705,136.70563794219794,123.8714475567805,112.92538334711247,102.64435568200928,88.714636431616753,76.142565624874692,926.30826932162438,115.78853366520305]
[null,null,null,11,"Non-controllable opex",51.349569857757203,51.277646957454799,51.193733867227316,51.053120849551227,50.930224409298596,50.814055953752373,50.684882389134209,50.529803771962641,407.83303805613832,50.97912975701729]
[null,null,null,12,"RAV depreciation",81.218374600470867,83.848110759440942,78.769936139010639,80.318958705426411,86.516245579462804,94.851681938482074,103.49164537277279,114.05851018375564,723.07346327882215,90.384182909852768]
[null,null,null,13,"Return",68.659648637705445,69.378218344472259,70.460777235408628,71.881754165168175,73.549486296518168,75.524848392985149,77.60363142113745,79.776931419565827,586.8352959129611,73.354411989120138]
[null,null,null,14,"Equity issuance cost",0,0,0,0,0,0,0,0,0,0]
[null,null,null,15,"Additional income",1.2229289494742888,1.2203289714968126,1.2937315451657649,1.2596185752130857,1.2836631956142774,1.2677199672004649,1.259186726316418,1.2573859670665599,10.064563897547671,1.2580704871934589]
[null,null,null,16,"Core DARTs",2.9660690646583197,2.9613720488156603,2.9564757385907958,2.9513716779230914,2.9460510519612559,2.9405046718398595,2.9347229588099126,2.9286959276961051,23.585263140295002,2.9481578925368752]
[null,null,null,17,"Tax allowance",0,0,27.138549465490989,27.51561623350176,25.889252083482173,24.970617339188625,22.882206962790029,22.512547828731471,150.90878991318505,18.863598739148131]
[null,null,null,null,"Recalculated allowances"]
[null,null,null,18,"Fast pot expenditure",141.56484832563171,129.65929427753395,128.55135957681665,125.90947034849015,117.69141180191687,104.41457032629125,88.052793925600469,74.1715231430816,910.0152717253626,113.75190896567032]
[null,null,null,19,"Non-controllable opex",51.34956985775721,50.718461593012421,50.594617247496593,49.544617247496589,49.43461724749659,49.314617247496585,49.204617247496593,49.094617247496593,399.25573493574916,49.906966866968645]
[null,null,null,20,"RAV depreciation",81.218374600470867,83.201953954873503,77.624070956693075,78.691685180340841,84.976184727115012,93.436904949820743,102.16242620264939,112.78322727253124,714.09482784449472,89.26185348056184]
[null,null,null,21,"Return",68.357192854578827,66.473933324390458,65.318408750606935,64.701411374391327,64.614671376880921,66.497622610301391,68.440008175067646,70.444365640021402,534.84761410623889,66.855951763279862]
[null,null,null,22,"Equity issuance cost",0,0,0,0,0,0,0,0,0,0]
[null,null,null,23,"Additional income",1.2224510767557433,1.2198157429394254,1.2942164825881293,1.2596396269108345,1.2840112184368913,1.2678511857965422,1.2592019055105816,1.257376658609527,10.064563897547673,1.2580704871934592]
[null,null,null,24,"Core DARTs",2.8930616309412907,2.886639298896982,2.2464470539660581,2.2387510103072867,2.230969090191111,2.222892390940935,2.214509746323162,2.2058095671272686,19.139079788694094,2.3923849735867617]
[null,null,null,25,"Tax allowance",8.0045255982684456,10.57257337786997,29.528782209308179,28.582887638642035,26.12859316717735,26.628914782680468,24.13293766866445,23.624026153724309,177.20324059633523,22.150405074541904]
[null,null,null,null,"Price Control Revenue"]
[null,null,null,26,"Final proposals base revenue",353.0500315259618,346.35647940281751,368.51884193309201,358.85188776356426,354.04030596344978,353.01378394545782,347.57091226257756,347.20644072365292,2828.6086835205738,353.57608544007172]
[null,null,null,27,"MOD",0,-2.8108869531833989,-1.6721426778445334,-4.5458893073400759,-20.653852803836287,0,0,0,-29.682771742204295,-3.7103464677755369]
[null,null,null,28,"Base revenue",353.0500315259618,343.54559244963411,366.84669925524747,354.30599845622419,333.3864531596135,353.01378394545782,347.57091226257756,347.20644072365292,2798.9259117783695,349.86573897229619]
[null,null,null,29,"Not Used"]
[null,null,null,30,"Not Used"]
[null,null,null,31,"Excluded services revenue",2.3710272014403091,2.2067410879022344,2.0976569691530189,2.1013984542807744,2.1011196909925807,2.1015419087955909,2.1055888493775576,2.0788968041597959,17.163970966101864,2.145496370762733]
[null,null,null,32,"Total revenue",355.42105872740211,345.75233353753634,368.94435622440051,356.40739691050499,335.48757285060606,355.1153258542534,349.67650111195513,349.28533752781271,2816.0898827444712,352.0112353430589]
[null,null,null,null,"Recalculated base revenue"]
[null,null,null,33,"Recalculated base revenue",354.61002394440419,344.7326715695167,355.15790227747561,350.92846242657902,346.3604586292148,343.78337349332793,335.46649487131231,333.58094568259196,2764.6203328944221,345.57754161180276]
[null,null,null,34,"Previous year recalculated base revenue",354.61002424657011,344.72519677673796,367.05676665110207,351.04941291957783,351.47104961481068,347.40304343139536,339.66674565895443,338.12185204164547,2794.1040913407942,349.26301141759927]
[null,null,null,null,"Recorded recalculated base revenue"]
[null,null,null,35,"2014-03-31",353.0500315259618,346.35647940281751,368.51884193309201,358.85188776356426,354.04030596344978,353.01378394545782,347.57091226257756,347.20644072365292,2828.6086835205738,353.57608544007172]
[null,null,null,36,"2015-03-31",352.85896196314155,343.74476909400482,365.72440213069666,356.10703793182864,351.25759279890229,350.18479338917962,344.69277517278039,344.27643235888104,2808.8467648394153,351.10584560492691]
[null,null,null,37,"2016-03-31",354.29721702294245,342.94478581912261,366.11864022470695,352.99189430515031,348.14777546484174,347.07267129655162,341.57600669273279,341.15264106081531,2794.3016318868636,349.28770398585795]
[null,null,null,38,"2017-03-31",354.61002424657011,344.72519677673796,367.05676665110207,351.04941291957783,351.47104961481068,347.40304343139536,339.66674565895443,338.12185204164547,2794.1040913407942,349.26301141759927]
[null,null,null,39,"2018-03-31",354.61002394440419,344.7326715695167,355.15790227747561,350.92846242657902,346.3604586292148,343.78337349332793,335.46649487131231,333.58094568259196,2764.6203328944221,345.57754161180276]
[null,null,null,40,"2019-03-31","","","","","","","","",0,0]
[null,null,null,41,"2020-03-31","","","","","","","","",0,0]
[null,null,null,42,"2021-03-31","","","","","","","","",0,0]
[null,null,null,null,"Recorded MOD"]
[null,null,null,43,"2014-03-31",0,0,0,0,0,0,0,0,0]
[null,null,null,44,"2015-03-31",0,-2.8108869531833989,0,0,0,0,0,0,-2.8108869531833989]
[null,null,null,45,"2016-03-31",0,-2.8108869531833989,-1.6721426778445334,0,0,0,0,0,-4.4830296310279323]
[null,null,null,46,"2017-03-31",0,-2.8108869531833989,-1.6721426778445334,-4.5458893073400759,0,0,0,0,-9.0289189383680082]
[null,null,null,47,"2018-03-31",0,-2.8108869531833989,-1.6721426778445334,-4.5458893073400759,-20.653852803836287,0,0,0,-29.682771742204295]
[null,null,null,48,"2019-03-31","","","","","","","","",0]
[null,null,null,49,"2020-03-31","","","","","","","","",0]
[null,null,null,50,"2021-03-31","","","","","","","","",0]
[null,null,null,null,"Inputs to RoRE"]
[null,null,null,51,"Average RAV",1611.0580451232345,1616.1909390807309,1631.9402561051079,1662.4206416852862,1705.7727396219886,1755.4810615179881,1806.7583995530003,1859.6717434007762,13649.293826088115,1706.1617282610143]
[null,null,null,52,"Gearing",0.65,0.65,0.65,0.65,0.65,0.65,0.65,0.65,0.65,0.65]
[null,null,null,53,"Regulated equity",563.87031579313202,565.6668286782558,571.17908963678769,581.84722458985016,597.02045886769599,614.41837153129575,632.36543984355012,650.88511019027169,4777.2528391308397,597.15660489135496]
[null,null,null,54,"Regulated debt return",30.577881696438993,28.57425580294732,27.049409744942164,25.717647326871379,24.614300632745302,25.331591717704569,26.071523705549797,26.835063257273202,214.7716738844727,26.846459235559088]
[null,null,null,55,"Allowed repex",129.372479010695,130.49998718567346,136.0728569575206,133.81603355608337,142.78374115746692,139.02401221118006,143.06525929228269,145.7913107763089,1100.4256801472111,137.55321001840139]
[]
[]
[]
[]
[]
[null,null,"Values for North West"]
[]
[]
[null,null,null,null,"Company","Calculated for MOD year ending",null,"File"]
[null,null,null,null,"North West","2018-03-31",null,"GD1 Full Model AIP 2016.xlsm"]
[]
[null,null,null,null,"PCFM year ending","2014-03-31","2015-03-31","2016-03-31","2017-03-31","2018-03-31","2019-03-31","2020-03-31","2021-03-31","RIIO Total","RIIO average"]
[null,null,null,null,"Price base","£m 09/10 prices","£m 09/10 prices","£m 09/10 prices","£m 09/10 prices","£m 09/10 prices","£m 09/10 prices","£m 09/10 prices","£m 09/10 prices","£m 09/10 prices","£m 09/10 prices"]
[null,null,null,null,"Totex"]
[null,null,null,1,"Slow pot",72.526013940803807,79.180992140823179,82.674830495475504,92.412584731226957,99.367017932599396,105.01020831154366,110.44947821956322,115.40654957388821,757.02767534592408,94.62845941824051]
[null,null,null,2,"Fast pot",132.09887644408084,127.99451848298429,110.74860351446654,108.71079068622981,103.80048130107579,95.141081155699595,85.746203609348001,75.395634396238563,839.63618959012342,104.95452369876543]
[null,null,null,3,"Post-TIM totex allowance",204.62489038488465,207.17551062380747,193.42343400994207,201.12337541745677,203.16749923367519,200.15128946724326,196.19568182891123,190.80218397012678,1596.6638649360475,199.58298311700594]
[null,null,null,null,"Regulatory Asset Value (RAV)"]
[null,null,null,4,"Opening asset value (before transfers)",1742.8176686148727,1729.9131893252761,1722.2438265673941,1724.0947800514914,1737.6268711536425,1750.0566113506841,1759.3889726890895,1767.8397675007163,null,1741.747710906646]
[null,null,null,5,"Transfers",0,0,0,0,0,0,0,0,0,0]
[null,null,null,6,"Opening asset value (after transfers)",1742.8176686148727,1729.9131893252761,1722.2438265673941,1724.0947800514914,1737.6268711536425,1750.0566113506841,1759.3889726890895,1767.8397675007163,null,1741.747710906646]
[null,null,null,7,"RAV additions (after disposals)",73.3276686285907,79.976862010710249,82.895952319816132,94.61148195379414,98.867017932599396,102.91020831154367,109.24947821956322,112.40654957388821,754.24521895050577,94.280652368813222]
[null,null,null,8,"Depreciation",-86.232147918187394,-87.64622476859212,-81.044998835718729,-81.079390851642898,-86.437277735557757,-93.57784697313835,-100.79868340793627,-109.84007209371981,-726.65664258449328,-90.83208032306166]
[null,null,null,9,"Closing asset value",1729.9131893252761,1722.2438265673941,1724.0947800514914,1737.6268711536425,1750.0566113506841,1759.3889726890895,1767.8397675007163,1770.4062449808848,null,1745.1962829523973]
[null,null,null,null,"Final Proposals allowances"]
[null,null,null,10,"Fast pot expenditure",136.00441535785734,120.99149262687189,111.60762841274521,107.02244878025593,102.67798273414505,94.284275096763068,86.848906890713621,77.074676426887791,836.51182632623988,104.56397829077999]
[null,null,null,11,"Non-controllable opex",72.299719591353366,72.163427722592772,72.056487692412773,71.84028932468776,71.662222089375732,71.482416389727419,71.295333114382217,71.084187076849318,573.88408300138133,71.735510375172666]
[null,null,null,12,"RAV depreciation",86.232147918187394,88.372115728894258,81.758992214389295,81.858460227128603,87.156173985147433,94.24442123031244,101.41630471879938,110.43803976487845,731.47665578773729,91.434581973467161]
[null,null,null,13,"Return",72.519959719244298,72.431511717790514,72.316666573513047,72.620274790038238,73.092111409834345,73.484451339357278,73.809882419863129,74.016141055972597,584.29099902561347,73.036374878201684]
[null,null,null,14,"Equity issuance cost",0,0,0,0,0,0,0,0,0,0]
[null,null,null,15,"Additional income",1.0884087331876451,1.027871091093804,1.0069827319746907,1.0193263913444597,1.0340101284060732,1.0204971027439866,1.013949207921518,0.99034921133226472,8.2013945980044411,1.0251743247505551]
[null,null,null,16,"Core DARTs",3.2368138969272353,3.2288048649972687,3.2204560098425135,3.2117529127635418,3.2026805432755094,3.1932232331501003,3.1833646493560699,3.1730877658516583,25.650183876163897,3.2062729845204871]
[null,null,null,17,"Tax allowance",10.275372266467352,6.4446092402428405,25.629160049038727,23.873860327881204,24.30702205153997,23.853555024973538,23.759943084175031,23.779801699148077,161.92332374346674,20.240415467933342]
[null,null,null,null,"Recalculated allowances"]
[null,null,null,18,"Fast pot expenditure",132.09887644408084,127.99451848298429,110.74860351446654,108.71079068622981,103.80048130107579,95.141081155699595,85.746203609348001,75.395634396238563,839.63618959012342,104.95452369876543]
[null,null,null,19,"Non-controllable opex",72.299719591353366,71.750630428788057,71.643703660484732,69.133703660484727,68.963703660484725,68.773703660484742,68.613703660484731,68.453703660484734,559.63257198304984,69.95407149788123]
[null,null,null,20,"RAV depreciation",86.232147918187394,87.64622476859212,81.044998835718729,81.079390851642898,86.437277735557757,93.57784697313835,100.79868340793627,109.84007209371981,726.65664258449328,90.83208032306166]
[null,null,null,21,"Return",72.18018163858217,69.594417721635352,67.64199822912154,66.098355748345,64.846977195808648,65.252700290369162,65.583671552936352,65.790564581303769,536.98886695810199,67.123608369762749]
[null,null,null,22,"Equity issuance cost",0,0,0,0,0,0,0,0,0,0]
[null,null,null,23,"Additional income",1.0893959849781105,1.027913194554035,1.0066987144123654,1.0192350900597893,1.0341480780318344,1.0204240792759967,1.0137739549704501,0.9898055017218621,8.2013945980044429,1.0251743247505554]
[null,null,null,24,"Core DARTs",3.6179813235289,3.626851181967325,2.9505258553938574,2.9586731639932005,2.9669113844988297,2.9754616687972129,2.9843358378648182,2.9935461604567051,25.07428657650085,3.1342858220626062]
[null,null,null,25,"Tax allowance",13.783109797218266,8.1222568837052584,24.86383060168993,24.008921932044011,23.146737500180553,24.386891925130843,23.959990970434763,23.925783575985673,166.19752318638928,20.774690398298659]
[null,null,null,null,"Price Control Revenue"]
[null,null,null,26,"Final proposals base revenue",381.65683748322459,364.6598329924833,367.59637368391623,361.4464127540997,363.13220294172402,361.56283941702787,361.32768408521093,360.55628300092019,2921.938466358607,365.24230829482588]
[null,null,null,27,"MOD",0,-2.9126639268139343,-8.6070629959244798,4.1022220905960012,-15.378827799772921,0,0,0,-22.796332631915334,-2.8495415789894167]
[null,null,null,28,"Base revenue",381.65683748322459,361.74716906566937,358.98931068799175,365.5486348446957,347.7533751419511,361.56283941702787,361.32768408521093,360.55628300092019,2899.1421337266916,362.39276671583644]
[null,null,null,29,"Not Used"]
[null,null,null,30,"Not Used"]
[null,null,null,31,"Excluded services revenue",3.037474746255779,2.8220650640857943,2.6811629899604048,2.6872782347791357,2.6870390721859572,2.6874589756401601,2.6938619177506737,2.6582539829168526,21.954594983574758,2.7443243729468447]
[null,null,null,32,"Total revenue",384.69431222948037,364.56923412975516,361.67047367795215,368.23591307947481,350.44041421413704,364.25029839266801,364.0215460029616,363.21453698383704,2921.0967287102662,365.13709108878328]
[null,null,null,null,"Recalculated base revenue"]
[null,null,null,33,"Recalculated base revenue",381.30141269792909,369.76281266222639,359.9003594112877,353.00907113279942,351.19623685563812,351.12810975289585,348.70036299397543,347.3891099699112,2862.387475476663,357.79843443458287]
[null,null,null,34,"Previous year recalculated base revenue",381.30141305187232,369.75429348815669,363.18351989635619,352.91761161984397,355.94891645809156,354.89314618351307,353.12917229595655,352.19830618303496,2883.3263791768259,360.41579739710323]
[null,null,null,null,"Recorded recalculated base revenue"]
[null,null,null,35,"2014-03-31",381.65683748322459,364.6598329924833,367.59637368391623,361.4464127540997,363.13220294172402,361.56283941702787,361.32768408521093,360.55628300092019,2921.938466358607,365.24230829482588]
[null,null,null,36,"2015-03-31",381.7682759995065,361.63100221314164,364.62107416897197,358.5139956062842,360.23828174926336,358.70951651611529,358.5168835425888,357.79104004804736,2901.7900698439194,362.72375873048992]
[null,null,null,37,"2016-03-31",379.03804609319548,361.71993287655852,361.85985487319795,356.0062042411023,357.70215925018601,356.15063878041133,355.94036955578423,355.20187097316096,2883.6190766435971,360.45238458044963]
[null,null,null,38,"2017-03-31",381.30141305187232,369.75429348815669,363.18351989635619,352.91761161984397,355.94891645809156,354.89314618351307,353.12917229595655,352.19830618303496,2883.3263791768259,360.41579739710323]
[null,null,null,39,"2018-03-31",381.30141269792909,369.76281266222639,359.9003594112877,353.00907113279942,351.19623685563812,351.12810975289585,348.70036299397543,347.3891099699112,2862.387475476663,357.79843443458287]
[null,null,null,40,"2019-03-31","","","","","","","","",0,0]
[null,null,null,41,"2020-03-31","","","","","","","","",0,0]
[null,null,null,42,"2021-03-31","","","","","","","","",0,0]
[null,null,null,null,"Recorded MOD"]
[null,null,null,43,"2014-03-31",0,0,0,0,0,0,0,0,0]
[null,null,null,44,"2015-03-31",0,-2.9126639268139343,0,0,0,0,0,0,-2.9126639268139343]
[null,null,null,45,"2016-03-31",0,-2.9126639268139343,-8.6070629959244798,0,0,0,0,0,-11.519726922738414]
[null,null,null,46,"2017-03-31",0,-2.9126639268139343,-8.6070629959244798,4.1022220905960012,0,0,0,0,-7.4175048321424129]
[null,null,null,47,"2018-03-31",0,-2.9126639268139343,-8.6070629959244798,4.1022220905960012,-15.378827799772921,0,0,0,-22.796332631915334]
[null,null,null,48,"2019-03-31","","","","","","","","",0]
[null,null,null,49,"2020-03-31","","","","","","","","",0]
[null,null,null,50,"2021-03-31","","","","","","","","",0]
[null,null,null,null,"Inputs to RoRE"]
[null,null,null,51,"Average RAV",1701.1591241711567,1692.0597549631741,1689.9937096595013,1698.3133542740238,1711.9054169960048,1722.6161639484997,1731.3535256846981,1736.8153268559604,13684.216376553019,1710.5270470691273]
[null,null,null,52,"Gearing",0.65,0.65,0.65,0.65,0.65,0.65,0.65,0.65,0.65,0.65]
[null,null,null,53,"Regulated equity",595.4056934599048,592.22091423711095,591.49779838082543,594.40967399590829,599.16689594860168,602.91565738197482,605.9737339896443,607.88536439958614,4789.4757317935564,598.68446647419455]
[null,null,null,54,"Regulated debt return",32.288000176768556,29.915616467748915,28.011645737606237,26.272907590619148,24.702795167252351,24.857351245776851,24.983431375630197,25.062245166531511,216.09399292793378,27.011749115991723]
[null,null,null,55,"Allowed repex",86.094105689832944,85.289818464948254,85.85562111703328,88.078305304300102,88.325473869907668,88.528963807344766,88.750650866012279,88.784737257087883,699.70767637646713,87.463459547058392]
[]
[]
[]
[]
[]
[null,null,"Values for West Midlands"]
[]
[]
[null,null,null,null,"Company","Calculated for MOD year ending",null,"File"]
[null,null,null,null,"West Midlands","2018-03-31",null,"GD1 Full Model AIP 2016.xlsm"]
[]
[null,null,null,null,"PCFM year ending","2014-03-31","2015-03-31","2016-03-31","2017-03-31","2018-03-31","2019-03-31","2020-03-31","2021-03-31","RIIO Total","RIIO average"]
[null,null,null,null,"Price base","£m 09/10 prices","£m 09/10 prices","£m 09/10 prices","£m 09/10 prices","£m 09/10 prices","£m 09/10 prices","£m 09/10 prices","£m 09/10 prices","£m 09/10 prices","£m 09/10 prices"]
[null,null,null,null,"Totex"]
[null,null,null,1,"Slow pot",53.61269696868051,56.385905853574712,64.586763732928105,71.496236475854118,77.40721827068225,82.395295796243289,87.386595931915835,91.177905775622634,584.4486188055015,73.056077350687687]
[null,null,null,2,"Fast pot",97.906610769968324,92.025329047133653,85.926078809207411,83.00938174343807,80.031487056008771,74.200162752603759,68.236836958083259,58.634211158015972,639.97009829445915,79.996262286807394]
[null,null,null,3,"Post-TIM totex allowance",151.51930773864882,148.41123490070837,150.5128425421355,154.50561821929219,157.43870532669101,156.59545854884706,155.62343288999909,149.81211693363861,1224.4187170999608,153.05233963749509]
[null,null,null,null,"Regulatory Asset Value (RAV)"]
[null,null,null,4,"Opening asset value (before transfers)",1321.461445806588,1304.6526533764102,1294.733535011761,1298.4162469288519,1308.6639041888729,1320.6255553563599,1332.6393737489727,1343.2357739861186,null,1315.5535610504919]
[null,null,null,5,"Transfers",0,0,0,0,0,0,0,0,0,0]
[null,null,null,6,"Opening asset value (after transfers)",1321.461445806588,1304.6526533764102,1294.733535011761,1298.4162469288519,1308.6639041888729,1320.6255553563599,1332.6393737489727,1343.2357739861186,null,1315.5535610504919]
[null,null,null,7,"RAV additions (after disposals)",48.691897566362982,56.358659865247404,64.586763732928105,71.227673270422841,77.107218270682253,82.795295796243295,87.186595931915832,91.177905775622634,579.1320102094254,72.391501276178175]
[null,null,null,8,"Depreciation",-65.500689996540814,-66.277778229896512,-60.904051815837299,-60.980016010401954,-65.145567103195475,-70.781477403630348,-76.590195694770088,-83.796559514876122,-549.97633576914859,-68.747041971143574]
[null,null,null,9,"Closing asset value",1304.6526533764102,1294.733535011761,1298.4162469288519,1308.6639041888729,1320.6255553563599,1332.6393737489727,1343.2357739861186,1350.6171202468649,null,1319.1980203555265]
[null,null,null,null,"Final Proposals allowances"]
[null,null,null,10,"Fast pot expenditure",102.59714193223994,97.971939765862885,88.453758975115534,82.129271019326467,80.348216395281682,75.027927461969355,69.54430202367891,60.18265247128592,656.2552100447607,82.031901255595088]
[null,null,null,11,"Non-controllable opex",49.665008695219342,49.347040929618203,49.008324438861372,48.8764822335582,48.774433290511702,48.672168911172982,48.564656008027015,48.440460431429976,391.34857493839877,48.918571867299846]
[null,null,null,12,"RAV depreciation",65.500689996540814,66.673456040223584,61.57948772718278,61.734292444923454,65.869829880649519,71.493304956999552,77.296871393363048,84.504749785946956,554.65268222582972,69.331585278228715]
[null,null,null,13,"Return",54.771635871330147,54.533251047696901,54.560443434061966,54.857382880119708,55.283418979196007,55.759665192390514,56.215388621032339,56.580701484084784,442.56188750991237,55.320235938739046]
[null,null,null,14,"Equity issuance cost",0,0,0,0,0,0,0,0,0,0]
[null,null,null,15,"Additional income",0.82304036719555107,0.8263857051855179,0.79651533832386867,0.78778580357752626,0.81126490985633848,0.81058289562248942,0.80896382671163813,0.78073342539823298,6.4452722718711621,0.80565903398389527]
[null,null,null,16,"Core DARTs",1.8216641980445143,1.7939075903204693,1.7649732697306928,1.7348112659182917,1.703369488284131,1.6705936360249529,1.6364271043544176,1.6008108867451016,13.726557439422571,1.7158196799278214]
[null,null,null,17,"Tax allowance",6.6937887443718909,5.1379752793142321,20.15083958861285,18.387172768382356,18.83546374572563,18.504974799951704,18.163331171816058,17.910986379122424,123.78453247729715,15.473066559662144]
[null,null,null,null,"Recalculated allowances"]
[null,null,null,18,"Fast pot expenditure",97.906610769968324,92.025329047133653,85.926078809207411,83.00938174343807,80.031487056008771,74.200162752603759,68.236836958083259,58.634211158015972,639.97009829445915,79.996262286807394]
[null,null,null,19,"Non-controllable opex",49.665008695219342,49.219811993058222,48.930772624179305,47.150772624179304,47.020772624179315,46.910772624179302,46.810772624179315,46.680772624179305,382.38945643335342,47.798682054169177]
[null,null,null,20,"RAV depreciation",65.500689996540814,66.277778229896512,60.904051815837299,60.980016010401954,65.145567103195475,70.781477403630348,76.590195694770088,83.796559514876122,549.97633576914859,68.747041971143574]
[null,null,null,21,"Return",54.586425344810344,52.404505049631688,50.895403453989246,49.779750503197441,48.885843852457008,49.331634547533305,49.75254719756483,50.087943270666052,405.72405321984991,50.715506652481238]
[null,null,null,22,"Equity issuance cost",0,0,0,0,0,0,0,0,0,0]
[null,null,null,23,"Additional income",0.82325002294811445,0.82663571281128501,0.79640504595610451,0.78757021450124798,0.81133252861207505,0.81064228783969072,0.80900368952296353,0.78043276967968189,6.445272271871163,0.80565903398389538]
[null,null,null,24,"Core DARTs",1.836122408119883,1.8098108929264916,1.306235463287134,1.2792761565403574,1.2520160238289522,1.2237232772904394,1.1943588015130477,1.1638819993932084,11.065425022899513,1.3831781278624391]
[null,null,null,25,"Tax allowance",11.20622649922662,11.161287340011482,21.089096128552118,19.127519862716728,18.345140275051079,19.368437594229079,18.993258882536747,18.704124211285635,137.99509079360948,17.249386349201185]
[null,null,null,null,"Price Control Revenue"]
[null,null,null,26,"Final proposals base revenue",281.87296980494222,276.28395635822181,276.31434277188907,268.50719841580599,271.62599668950497,271.93921785413158,272.22994014898347,270.0010948640134,2188.7747169074923,273.59683961343654]
[null,null,null,27,"MOD",0,-2.1899506604078169,-5.2446944795802324,-5.390847822736589,-13.318618081349769,0,0,0,-26.144111044074407,-3.2680138805093009]
[null,null,null,28,"Base revenue",281.87296980494222,274.094005697814,271.06964829230884,263.1163505930694,258.3073786081552,271.93921785413158,272.22994014898347,270.0010948640134,2162.6306058634182,270.32882573292727]
[null,null,null,29,"Not Used"]
[null,null,null,30,"Not Used"]
[null,null,null,31,"Excluded services revenue",2.1982439120801391,2.0440771432725371,1.9430413303499938,1.9480279538089307,1.9479784764224002,1.9484013647630749,1.9535941274534518,1.9281900259517664,15.911554334102291,1.9889442917627864]
[null,null,null,32,"Total revenue",284.07121371702237,276.13808284108654,273.01268962265885,265.06437854687834,260.25535708457761,273.88761921889466,274.18353427643694,271.92928488996517,2178.5421601975204,272.31777002469005]
[null,null,null,null,"Recalculated base revenue"]
[null,null,null,33,"Recalculated base revenue",281.5243337368334,273.7251582654693,269.84804334100863,262.11428711497513,261.49215946333265,262.62685048730589,262.38697384817027,259.84792554809599,2133.5657318051913,266.69571647564891]
[null,null,null,34,"Previous year recalculated base revenue",281.52433401200233,273.71884840866403,272.86822388985928,262.04552850903849,265.33518268752323,265.5752831399459,265.84755435371926,263.59351479868747,2150.5084697994398,268.81355872492998]
[null,null,null,null,"Recorded recalculated base revenue"]
[null,null,null,35,"2014-03-31",281.87296980494222,276.28395635822181,276.31434277188907,268.50719841580599,271.62599668950497,271.93921785413158,272.22994014898347,270.0010948640134,2188.7747169074923,273.59683961343654]
[null,null,null,36,"2015-03-31",281.78394545306281,274.18680735294362,274.22628022536099,266.4208235596314,269.53757928697297,269.8470389269084,270.13408000507906,267.90336939661353,2174.0399242065728,271.7549905258216]
[null,null,null,37,"2016-03-31",280.87005270947475,274.20421040975987,272.04338194518255,264.50362015157941,267.59861371921352,267.89048537350959,268.16483048830719,265.92657816047682,2161.2017729575036,270.15022161968795]
[null,null,null,38,"2017-03-31",281.52433401200233,273.71884840866403,272.86822388985928,262.04552850903849,265.33518268752323,265.5752831399459,265.84755435371926,263.59351479868747,2150.5084697994398,268.81355872492998]
[null,null,null,39,"2018-03-31",281.5243337368334,273.7251582654693,269.84804334100863,262.11428711497513,261.49215946333265,262.62685048730589,262.38697384817027,259.84792554809599,2133.5657318051913,266.69571647564891]
[null,null,null,40,"2019-03-31","","","","","","","","",0,0]
[null,null,null,41,"2020-03-31","","","","","","","","",0,0]
[null,null,null,42,"2021-03-31","","","","","","","","",0,0]
[null,null,null,null,"Recorded MOD"]
[null,null,null,43,"2014-03-31",0,0,0,0,0,0,0,0,0]
[null,null,null,44,"2015-03-31",0,-2.1899506604078169,0,0,0,0,0,0,-2.1899506604078169]
[null,null,null,45,"2016-03-31",0,-2.1899506604078169,-5.2446944795802324,0,0,0,0,0,-7.4346451399880493]
[null,null,null,46,"2017-03-31",0,-2.1899506604078169,-5.2446944795802324,-5.390847822736589,0,0,0,0,-12.825492962724638]
[null,null,null,47,"2018-03-31",0,-2.1899506604078169,-5.2446944795802324,-5.390847822736589,-13.318618081349769,0,0,0,-26.144111044074407]
[null,null,null,48,"2019-03-31","","","","","","","","",0]
[null,null,null,49,"2020-03-31","","","","","","","","",0]
[null,null,null,50,"2021-03-31","","","","","","","","",0]
[null,null,null,null,"Inputs to RoRE"]
[null,null,null,51,"Average RAV",1286.5054288194756,1274.1187709611399,1271.5903423857401,1279.0275052209004,1290.5449802654966,1302.3134780235825,1313.4252164087866,1322.2793894051229,10339.805111490243,1292.4756389362803]
[null,null,null,52,"Gearing",0.65,0.65,0.65,0.65,0.65,0.65,0.65,0.65,0.64999999999999991,0.65]
[null,null,null,53,"Regulated equity",450.2769000868164,445.94156983639897,445.05661983500903,447.65962682731509,451.69074309292381,455.80971730825388,459.69882574307525,462.79778629179299,3618.9317890215852,452.36647362769816]
[null,null,null,54,"Regulated debt return",24.417873038993648,22.526419870592957,21.076609925043641,19.786555505767328,18.622564065231117,18.792383487880297,18.952725872778792,19.080491589115926,163.25562335540371,20.406952919425464]
[null,null,null,55,"Allowed repex",69.711165728580298,69.216087018016694,69.572658369735905,70.893405342598271,71.108738136512841,71.304959917636992,71.511955216699377,71.68918404825277,565.00815377803315,70.626019222254143]
[]
[]
[]
[]
[]
[null,null,"Values for Northern"]
[]
[]
[null,null,null,null,"Company","Calculated for MOD year ending",null,"File"]
[null,null,null,null,"Northern","2018-03-31",null,"GD1 Full Model AIP 2016.xlsm"]
[]
[null,null,null,null,"PCFM year ending","2014-03-31","2015-03-31","2016-03-31","2017-03-31","2018-03-31","2019-03-31","2020-03-31","2021-03-31","RIIO Total","RIIO average"]
[null,null,null,null,"Price base","£m 09/10 prices","£m 09/10 prices","£m 09/10 prices","£m 09/10 prices","£m 09/10 prices","£m 09/10 prices","£m 09/10 prices","£m 09/10 prices","£m 09/10 prices","£m 09/10 prices"]
[null,null,null,null,"Totex"]
[null,null,null,1,"Slow pot",81.274725474438085,90.378974017066042,95.694406525477916,107.06453908282074,108.49882697164915,114.308723457913,120.94227006533933,126.70084104247013,844.86330663717445,105.60791332964681]
[null,null,null,2,"Fast pot",116.71067608481927,115.76327755614713,111.43931474015579,109.59906335679418,94.24286039509829,87.674985421503806,80.939749341401253,74.301310378187054,790.67123727410683,98.833904659263354]
[null,null,null,3,"Post-TIM totex allowance",197.98540155925735,206.14225157321317,207.13372126563371,216.66360243961492,202.74168736674744,201.98370887941681,201.8820194067406,201.00215142065719,1635.5345439112809,204.44181798891012]
[null,null,null,null,"Regulatory Asset Value (RAV)"]
[null,null,null,4,"Opening asset value (before transfers)",1577.3037254997266,1565.5455584309791,1575.6553705000006,1597.1227716880442,1629.3005777894791,1656.9306482528405,1682.842868351283,1707.6442387954276,null,1624.0432199134725]
[null,null,null,5,"Transfers",0,0,0,0,0,0,0,0,0,0]
[null,null,null,6,"Opening asset value (after transfers)",1577.3037254997266,1565.5455584309791,1575.6553705000006,1597.1227716880442,1629.3005777894791,1656.9306482528405,1682.842868351283,1707.6442387954276,null,1624.0432199134725]
[null,null,null,7,"RAV additions (after disposals)",67.00041849679593,90.178974017066039,95.694406525477916,107.15544882488072,108.49882697164915,114.308723457913,120.94227006533933,126.70084104247013,830.47990940159229,103.80998867519904]
[null,null,null,8,"Depreciation",-78.758585565543356,-80.069161948044723,-74.227005337434321,-74.977642723445825,-80.868756508287731,-88.396503359470501,-96.140899621194563,-105.67370822452008,-679.112263287941,-84.889032910992626]
[null,null,null,9,"Closing asset value",1565.5455584309791,1575.6553705000006,1597.1227716880442,1629.3005777894791,1656.9306482528405,1682.842868351283,1707.6442387954276,1728.6713716133775,null,1642.9641756776791]
[null,null,null,null,"Final Proposals allowances"]
[null,null,null,10,"Fast pot expenditure",124.0014625241824,121.5042015021094,117.15673282179799,109.15891306771837,95.019498062433669,88.987870390885462,82.763233819249635,76.381103297042515,814.9730154854193,101.87162693567741]
[null,null,null,11,"Non-controllable opex",54.113555161770734,53.837206865369133,53.520038748750913,53.208532231463238,53.063193639850716,52.939526034151939,52.787145914269097,52.607481571095079,426.07668016672085,53.259585020840106]
[null,null,null,12,"RAV depreciation",78.758585565543356,80.891702773664122,75.211307153457241,76.183053647701257,82.036181765925789,89.55463894276977,97.301887443462135,106.84881136739871,686.78616865992251,85.848271082490314]
[null,null,null,13,"Return",65.708696079976093,66.133884748716966,66.949551576743232,68.128375017612782,69.327488898577897,70.415919528936129,71.457150727081142,72.406291774088828,550.52735835173303,68.815919793966629]
[null,null,null,14,"Equity issuance cost",0,0,0,0,0,0,0,0,0,0]
[null,null,null,15,"Additional income",3.0833890167965281,3.1715137183355271,3.207365097699495,3.1714874376176869,2.9932436330575043,2.9943105967488148,3.0047825804065718,2.9976271159545962,24.623719196616726,3.0779648995770907]
[null,null,null,16,"Core DARTs",8.7776986069726277,8.8360326637963489,8.8968418346510987,8.9602311386252165,9.0263100507669556,9.0951926911508689,9.1669980219662719,9.2418500529681715,72.00115506089756,9.000144382612195]
[null,null,null,17,"Tax allowance",6.0636083589995629,4.2610784647665438,23.910949404620055,21.366083975068232,19.343335966151368,19.560049556705319,19.740741412575115,20.534242076762883,134.7800892156491,16.847511151956137]
[null,null,null,null,"Recalculated allowances"]
[null,null,null,18,"Fast pot expenditure",116.71067608481927,115.76327755614713,111.43931474015579,109.59906335679418,94.24286039509829,87.674985421503806,80.939749341401253,74.301310378187054,790.67123727410683,98.833904659263354]
[null,null,null,19,"Non-controllable opex",54.113555161770734,53.772677234536623,53.449616239056887,53.049616239056888,52.929616239056884,52.82961623905689,52.609616239056891,52.409616239056888,425.16392983064867,53.145491228831084]
[null,null,null,20,"RAV depreciation",78.758585565543356,80.069161948044723,74.227005337434321,74.977642723445825,80.868756508287731,88.396503359470501,96.140899621194563,105.67370822452008,679.112263287941,84.889032910992626]
[null,null,null,21,"Return",65.323677725595601,63.318697695785588,62.265159986251341,61.598421761489384,61.095845915457446,62.092024760728876,63.035395915999246,63.888852505937763,502.61807626724521,62.827259533405652]
[null,null,null,22,"Equity issuance cost",0,0,0,0,0,0,0,0,0,0]
[null,null,null,23,"Additional income",3.0675250143183739,3.1629219417602221,3.2156604222069194,3.1773534622131239,2.9925267771957293,2.9953978987575276,3.008780645638939,3.0035530345258876,24.623719196616722,3.0779648995770903]
[null,null,null,24,"Core DARTs",10.952456408593623,11.098450974187577,11.566070072021649,11.715659035191598,11.866917189805006,12.023905003315171,12.1868395152011,12.35594598639727,93.766244184713003,11.720780523089125]
[null,null,null,25,"Tax allowance",10.594376225175855,8.2857690111937643,27.158464471988864,22.182522886008439,19.098035897671856,20.63429508091976,20.851400240452531,21.665839967472461,150.47070378088353,18.808837972610441]
[null,null,null,null,"Price Control Revenue"]
[null,null,null,26,"Final proposals base revenue",340.50699531424129,338.63562073675809,348.8527866377201,340.17667651580683,330.80925201676388,333.54750774134828,336.22193991900997,341.01740725531073,2709.7681861369592,338.7210232671199]
[null,null,null,27,"MOD",0,0.95763327671710385,-5.514553499721444,-6.2324603826481848,-11.079016524139888,0,0,0,-21.868397129792413,-2.7335496412240516]
[null,null,null,28,"Base revenue",340.50699531424129,339.59325401347519,343.33823313799866,333.94421613315865,319.73023549262399,333.54750774134828,336.22193991900997,341.01740725531073,2687.8997890071669,335.98747362589586]
[null,null,null,29,"Not Used"]
[null,null,null,30,"Not Used"]
[null,null,null,31,"Excluded services revenue",0.22700000000000001,6.6000000000000003E-2,6.6000000000000003E-2,6.6000000000000003E-2,6.6000000000000003E-2,6.6000000000000003E-2,6.6000000000000003E-2,6.6000000000000003E-2,0.68900000000000006,8.6125000000000007E-2]
[null,null,null,32,"Total revenue",340.73399531424127,339.65925401347516,343.40423313799863,334.01021613315862,319.79623549262396,333.61350774134826,336.28793991900994,341.0834072553107,2688.5887890071667,336.07359862589584]
[null,null,null,null,"Recalculated base revenue"]
[null,null,null,33,"Recalculated base revenue",339.52085218581675,335.47095636165557,343.32129126911576,336.30027946419943,323.09455892257296,326.64672776375249,328.77268151894447,333.29882633609742,2666.4261738221553,333.30327172776941]
[null,null,null,34,"Previous year recalculated base revenue",339.52085248439045,335.46375753895296,346.33816831331217,336.40873568710981,327.27553920189547,330.08821823378901,332.76496056982251,337.62786828232697,2685.4881003115997,335.68601253894997]
[null,null,null,null,"Recorded recalculated base revenue"]
[null,null,null,35,"2014-03-31",340.50699531424129,338.63562073675809,348.8527866377201,340.17667651580683,330.80925201676388,333.54750774134828,336.22193991900997,341.01740725531073,2709.7681861369592,338.7210232671199]
[null,null,null,36,"2015-03-31",342.40754974795817,337.61205905513572,347.96105734469916,339.41224318615724,330.17658742919338,333.05486083398864,335.87614066855946,340.82656831765541,2707.3270665833475,338.41588332291843]
[null,null,null,37,"2016-03-31",339.52085248439045,337.71905402809335,346.35978485660877,338.0366983855003,328.73914058516317,331.57150908673907,334.35298557356361,339.26748699317949,2695.567511993238,336.94593899915475]
[null,null,null,38,"2017-03-31",339.52085248439045,335.46375753895296,346.33816831331217,336.40873568710981,327.27553920189547,330.08821823378901,332.76496056982251,337.62786828232697,2685.4881003115997,335.68601253894997]
[null,null,null,39,"2018-03-31",339.52085218581675,335.47095636165557,343.32129126911576,336.30027946419943,323.09455892257296,326.64672776375249,328.77268151894447,333.29882633609742,2666.4261738221553,333.30327172776941]
[null,null,null,40,"2019-03-31","","","","","","","","",0,0]
[null,null,null,41,"2020-03-31","","","","","","","","",0,0]
[null,null,null,42,"2021-03-31","","","","","","","","",0,0]
[null,null,null,null,"Recorded MOD"]
[null,null,null,43,"2014-03-31",0,0,0,0,0,0,0,0,0]
[null,null,null,44,"2015-03-31",0,0.95763327671710385,0,0,0,0,0,0,0.95763327671710385]
[null,null,null,45,"2016-03-31",0,0.95763327671710385,-5.514553499721444,0,0,0,0,0,-4.5569202230043402]
[null,null,null,46,"2017-03-31",0,0.95763327671710385,-5.514553499721444,-6.2324603826481848,0,0,0,0,-10.789380605652525]
[null,null,null,47,"2018-03-31",0,0.95763327671710385,-5.514553499721444,-6.2324603826481848,-11.079016524139888,0,0,0,-21.868397129792413]
[null,null,null,48,"2019-03-31","","","","","","","","",0]
[null,null,null,49,"2020-03-31","","","","","","","","",0]
[null,null,null,50,"2021-03-31","","","","","","","","",0]
[null,null,null,null,"Inputs to RoRE"]
[null,null,null,51,"Average RAV",1539.563462776234,1539.4772111788375,1555.6567142099025,1582.6932621143214,1612.8787200490351,1639.1770000192419,1664.0812015839294,1686.6117345812504,12820.139306512752,1602.517413314094]
[null,null,null,52,"Gearing",0.65,0.65,0.65,0.65,0.65,0.65,0.65,0.65,0.64999999999999991,0.65]
[null,null,null,53,"Regulated equity",538.84721197168187,538.81702391259307,544.47984997346578,553.9426417400125,564.5075520171622,573.71195000673458,582.42842055437529,590.31410710343755,4487.0487572794636,560.88109465993296]
[null,null,null,54,"Regulated debt return",29.220914523492922,27.217957093641846,25.785010038029135,24.484264764908556,23.273839930307581,23.653324110277659,24.012691738856105,24.337807330007443,201.98580952952122,25.248226191190152]
[null,null,null,55,"Allowed repex",82.428297261856414,84.09177090671372,83.622438199505297,85.791668826682553,86.197320776331864,86.035915516297464,86.940831390535934,86.71985089169047,681.8280937696137,85.228511721201713]
[]
[]
[]
[]
[]
[null,null,"Values for Scotland"]
[]
[]
[null,null,null,null,"Company","Calculated for MOD year ending",null,"File"]
[null,null,null,null,"Scotland","2018-03-31",null,"GD1 Full Model AIP 2016.xlsm"]
[]
[null,null,null,null,"PCFM year ending","2014-03-31","2015-03-31","2016-03-31","2017-03-31","2018-03-31","2019-03-31","2020-03-31","2021-03-31","RIIO Total","RIIO average"]
[null,null,null,null,"Price base","£m 09/10 prices","£m 09/10 prices","£m 09/10 prices","£m 09/10 prices","£m 09/10 prices","£m 09/10 prices","£m 09/10 prices","£m 09/10 prices","£m 09/10 prices","£m 09/10 prices"]
[null,null,null,null,"Totex"]
[null,null,null,1,"Slow pot",62.548577869183958,67.128190058071169,69.675367466443447,85.106578842114743,86.458648118127968,89.979142005002956,90.529890552787919,94.244379524704357,645.67077443643643,80.708846804554554]
[null,null,null,2,"Fast pot",93.516194570980929,91.473921617662683,84.182906985132149,97.026780913020573,87.525513149627713,81.867496723131921,70.64187779470663,65.251494916669969,671.48618667093251,83.935773333866564]
[null,null,null,3,"Post-TIM totex allowance",156.06477244016489,158.60211167573385,153.8582744515756,182.1333597551353,173.9841612677557,171.84663872813488,161.17176834749455,159.49587444137433,1317.1569611073689,164.64462013842112]
[null,null,null,null,"Regulatory Asset Value (RAV)"]
[null,null,null,4,"Opening asset value (before transfers)",1277.4984764208739,1281.4927567042339,1281.6218285896794,1290.4700081832232,1314.668547112952,1335.0323003371004,1352.2531786552622,1363.2919067024618,null,1312.0411253382233]
[null,null,null,5,"Transfers",0,0,0,0,0,0,0,0,0,0]
[null,null,null,6,"Opening asset value (after transfers)",1277.4984764208739,1281.4927567042339,1281.6218285896794,1290.4700081832232,1314.668547112952,1335.0323003371004,1352.2531786552622,1363.2919067024618,null,1312.0411253382233]
[null,null,null,7,"RAV additions (after disposals)",69.101791922080025,66.928190058071166,69.675367466443447,85.107067481978319,86.458648118127968,89.979142005002956,90.529890552787919,94.244379524704357,652.02447712919616,81.50305964114952]
[null,null,null,8,"Depreciation",-65.107511638720069,-66.799118172625626,-60.827187872899643,-60.908528552249521,-66.094894893979387,-72.758263686841275,-79.49116250558842,-87.66153767063723,-559.64820499354107,-69.956025624192634]
[null,null,null,9,"Closing asset value",1281.4927567042339,1281.6218285896794,1290.4700081832232,1314.668547112952,1335.0323003371004,1352.2531786552622,1363.2919067024618,1369.8747485565289,null,1323.5881593551803]
[null,null,null,null,"Final Proposals allowances"]
[null,null,null,10,"Fast pot expenditure",105.00045370487649,96.073275088007421,88.308334688903102,90.204104686138393,87.410672009541159,82.140366037966061,71.278016200797026,66.072028365235241,686.48725078146492,85.810906347683115]
[null,null,null,11,"Non-controllable opex",31.135482390743526,31.049551054236495,30.994536418833832,30.873727568802103,30.775691561565559,30.675940257432444,30.573479633360471,30.455936149966895,246.53434503494134,30.816793129367667]
[null,null,null,12,"RAV depreciation",65.107511638720069,66.831738332012677,61.05405113314788,61.311509311191415,66.328155958322753,72.98330694573589,79.717176469305173,87.896932537434125,561.23038232586998,70.153797790733748]
[null,null,null,13,"Return",53.197681607247283,53.391561477932946,53.749003120082044,54.429391563370942,55.264252562689201,56.038899352911493,56.629666367294845,57.004589201445249,439.70504525297395,54.963130656621743]
[null,null,null,14,"Equity issuance cost",0,0,0,0,0,0,0,0,0,0]
[null,null,null,15,"Additional income",2.1239439148152437,2.0350884817535939,1.9688367213228921,2.0857694409787273,2.1149099657820258,2.0959459966158769,1.9710976821198924,1.9559840694186965,16.351576272806948,2.0439470341008685]
[null,null,null,16,"Core DARTs",11.291102988874037,11.457690443808671,11.631346204456184,11.812370179027969,12.001075000840839,12.197786568243224,12.402844607450493,12.616603259261328,95.410819251962735,11.926352406495342]
[null,null,null,17,"Tax allowance",0,0,7.0405130668085496,16.742717027926158,17.105565105261139,16.957963154035589,16.069184022790729,17.24534548505116,91.161287861873319,11.395160982734165]
[null,null,null,null,"Recalculated allowances"]
[null,null,null,18,"Fast pot expenditure",93.516194570980929,91.473921617662683,84.182906985132149,97.026780913020573,87.525513149627713,81.867496723131921,70.64187779470663,65.251494916669969,671.48618667093251,83.935773333866564]
[null,null,null,19,"Non-controllable opex",31.135482390743526,30.761596949177854,30.66159694839461,30.561596948394616,30.431596948394617,30.331596948394612,30.211596948394611,30.101596948394612,244.19666103028905,30.524582628786131]
[null,null,null,20,"RAV depreciation",65.107511638720069,66.799118172625626,60.827187872899643,60.908528552249521,66.094894893979387,72.758263686841275,79.49116250558842,87.66153767063723,559.64820499354107,69.956025624192634]
[null,null,null,21,"Return",53.182412626431194,51.669231790061055,50.480101313550023,49.737589603016012,49.262476701312522,49.962425480693106,50.490031769947024,50.819233834211687,405.60350311922264,50.70043788990283]
[null,null,null,22,"Equity issuance cost",0,0,0,0,0,0,0,0,0,0]
[null,null,null,23,"Additional income",2.1240897362733717,2.0350723340362249,1.9686998072928457,2.0858456765056492,2.1150393198028121,2.0960407823683633,1.9709648894580449,1.9558237270696361,16.351576272806948,2.0439470341008685]
[null,null,null,24,"Core DARTs",11.585612129103305,11.759208722081038,11.020328609918083,11.198199164535836,11.378054491302013,11.564722737846095,11.758461977569262,11.959540059693147,92.224127892048784,11.528015986506098]
[null,null,null,25,"Tax allowance",0,4.8226531756708519,20.677848340059267,18.669790524209557,16.678074032385286,17.844221272622754,17.048402700062081,18.278799382376512,114.01978942738631,14.252473678423289]
[null,null,null,null,"Price Control Revenue"]
[null,null,null,26,"Final proposals base revenue",267.85617624527669,260.83890487775182,254.7466213535545,267.45958977743572,271.00032216400268,273.0902083129406,268.64146498311868,273.24741906781264,2136.8807067818934,267.11008834773668]
[null,null,null,27,"MOD",0,-0.2753051908703128,-9.4732840286177122,6.0084367489295687,-9.7434951968318728,0,0,0,-13.483647667390329,-1.6854559584237911]
[null,null,null,28,"Base revenue",267.85617624527669,260.5635996868815,245.27333732493679,273.46802652636529,261.25682696717081,273.0902083129406,268.64146498311868,273.24741906781264,2123.397059114503,265.42463238931288]
[null,null,null,29,"Not Used"]
[null,null,null,30,"Not Used"]
[null,null,null,31,"Excluded services revenue",0.22040473872096467,0.27378484987623697,0.27405863472611319,0.27679922107337429,0.2801208117262548,0.28348226146696986,0.28660056634310654,0.28975317257288069,2.1850042565059011,0.27312553206323764]
[null,null,null,32,"Total revenue",268.07658098399764,260.83738453675772,245.54739595966291,273.74482574743865,261.53694777889706,273.37369057440759,268.92806554946179,273.53717224038553,2125.5820633710086,265.69775792137608]
[null,null,null,null,"Recalculated base revenue"]
[null,null,null,33,"Recalculated base revenue",256.65130309225236,259.32080276131535,259.81866987724663,270.18833138193173,263.48564953680432,266.42476763189813,261.61249858572603,266.0280265390528,2103.5300494062276,262.94125617577845]
[null,null,null,34,"Previous year recalculated base revenue",256.65130325251209,259.31588359815953,261.65169923548547,270.43258778231177,267.01592036000858,269.12169544899018,264.67552758297552,269.3102110292254,2118.1748282896683,264.77185353620854]
[null,null,null,null,"Recorded recalculated base revenue"]
[null,null,null,35,"2014-03-31",267.85617624527669,260.83890487775182,254.7466213535545,267.45958977743572,271.00032216400268,273.0902083129406,268.64146498311868,273.24741906781264,2136.8807067818934,267.11008834773668]
[null,null,null,36,"2015-03-31",268.28810973586792,260.1133392582845,254.1728579750658,266.77253713018263,270.2836793050584,272.34602217695584,267.87490136748215,272.46449981514212,2132.3159467640389,266.53949334550487]
[null,null,null,37,"2016-03-31",256.65130325251209,259.47403293294872,258.56842427766219,264.66594821302459,268.10314363416626,270.10267128260983,265.58021311871323,270.1291398149649,2113.2748765266015,264.15935956582518]
[null,null,null,38,"2017-03-31",256.65130325251209,259.31588359815953,261.65169923548547,270.43258778231177,267.01592036000858,269.12169544899018,264.67552758297552,269.3102110292254,2118.1748282896683,264.77185353620854]
[null,null,null,39,"2018-03-31",256.65130309225236,259.32080276131535,259.81866987724663,270.18833138193173,263.48564953680432,266.42476763189813,261.61249858572603,266.0280265390528,2103.5300494062276,262.94125617577845]
[null,null,null,40,"2019-03-31","","","","","","","","",0,0]
[null,null,null,41,"2020-03-31","","","","","","","","",0,0]
[null,null,null,42,"2021-03-31","","","","","","","","",0,0]
[null,null,null,null,"Recorded MOD"]
[null,null,null,43,"2014-03-31",0,0,0,0,0,0,0,0,0]
[null,null,null,44,"2015-03-31",0,-0.2753051908703128,0,0,0,0,0,0,-0.2753051908703128]
[null,null,null,45,"2016-03-31",0,-0.2753051908703128,-9.4732840286177122,0,0,0,0,0,-9.748589219488025]
[null,null,null,46,"2017-03-31",0,-0.2753051908703128,-9.4732840286177122,6.0084367489295687,0,0,0,0,-3.7401524705584563]
[null,null,null,47,"2018-03-31",0,-0.2753051908703128,-9.4732840286177122,6.0084367489295687,-9.7434951968318728,0,0,0,-13.483647667390329]
[null,null,null,48,"2019-03-31","","","","","","","","",0]
[null,null,null,49,"2020-03-31","","","","","","","","",0]
[null,null,null,50,"2021-03-31","","","","","","","","",0]
[null,null,null,null,"Inputs to RoRE"]
[null,null,null,51,"Average RAV",1253.4153341133915,1256.2419593985182,1261.2142739175522,1277.9442344043171,1300.487769306033,1318.965825783873,1332.8941861126459,1341.5848425082283,10342.748425544558,1292.8435531930697]
[null,null,null,52,"Gearing",0.65,0.65,0.65,0.65,0.65,0.65,0.65,0.65,0.65,0.65]
[null,null,null,53,"Regulated equity",438.69536693968701,439.68468578948136,441.42499587114327,447.28048204151094,455.1707192571115,461.63803902435552,466.51296513942606,469.55469487787991,3619.961948940595,452.49524361757437]
[null,null,null,54,"Regulated debt return",23.789823041472172,22.210357842165802,20.904626590183426,19.769797306234786,18.766038511086059,19.032676866061291,19.233663105605483,19.359069277393736,163.06605254020275,20.383256567525343]
[null,null,null,55,"Allowed repex",57.264701956397481,57.654321877587762,57.723202649028174,58.195974535207291,58.329369476146404,58.53694329712588,58.743980846681524,58.90925658566843,465.35775122384302,58.169718902980378]
[]
[]
[]
[]
[]
[null,null,"Values for Southern"]
[]
[]
[null,null,null,null,"Company","Calculated for MOD year ending",null,"File"]
[null,null,null,null,"Southern","2018-03-31",null,"GD1 Full Model AIP 2016.xlsm"]
[]
[null,null,null,null,"PCFM year ending","2014-03-31","2015-03-31","2016-03-31","2017-03-31","2018-03-31","2019-03-31","2020-03-31","2021-03-31","RIIO Total","RIIO average"]
[null,null,null,null,"Price base","£m 09/10 prices","£m 09/10 prices","£m 09/10 prices","£m 09/10 prices","£m 09/10 prices","£m 09/10 prices","£m 09/10 prices","£m 09/10 prices","£m 09/10 prices","£m 09/10 prices"]
[null,null,null,null,"Totex"]
[null,null,null,1,"Slow pot",131.75301001536272,139.80664294120078,149.37861260511909,176.04251604006078,188.36623051877169,200.13324966444341,206.80135008010822,217.20994236216211,1409.4915542272286,176.18644427840357]
[null,null,null,2,"Fast pot",193.83447967926091,178.02056430962796,166.99079886432855,172.2129458560002,161.89621880294885,149.74839476685733,126.62606197468668,111.50259753360513,1260.8320617873155,157.60400772341444]
[null,null,null,3,"Post-TIM totex allowance",325.58748969462363,317.82720725082868,316.36941146944764,348.25546189606098,350.26244932172051,349.88164443130074,333.4274120547949,328.71253989576724,2670.3236160145443,333.79045200181804]
[null,null,null,null,"Regulatory Asset Value (RAV)"]
[null,null,null,4,"Opening asset value (before transfers)",2863.2131398512702,2852.0995961155836,2846.4711770333311,2861.6396514553526,2903.3198344581751,2947.2521185737423,2989.6454418656499,3025.0712724338068,null,2911.0890289733643]
[null,null,null,5,"Transfers",0,0,0,0,0,0,0,0,0,0]
[null,null,null,6,"Opening asset value (after transfers)",2863.2131398512702,2852.0995961155836,2846.4711770333311,2861.6396514553526,2903.3198344581751,2947.2521185737423,2989.6454418656499,3025.0712724338068,null,2911.0890289733643]
[null,null,null,7,"RAV additions (after disposals)",131.32082910087897,139.60664294120079,149.09279695217725,176.04251604006078,188.36623051877169,200.13324966444341,206.80135008010822,217.20994236216211,1408.5735576598031,176.07169470747539]
[null,null,null,8,"Depreciation",-142.43437283656559,-145.23506202345334,-133.92432253015579,-134.36233303723824,-144.43394640320474,-157.73992637253625,-171.37551951195127,-187.97630691998589,-1217.4817896350912,-152.1852237043864]
[null,null,null,9,"Closing asset value",2852.0995961155836,2846.4711770333311,2861.6396514553526,2903.3198344581751,2947.2521185737423,2989.6454418656499,3025.0712724338068,3054.3049078759832,null,2934.9754999764532]
[null,null,null,null,"Final Proposals allowances"]
[null,null,null,10,"Fast pot expenditure",214.41406391896211,188.86603037019367,174.45935274270514,168.97726561114823,160.81509982106871,149.21355597947868,129.79289201141827,115.1044741893844,1301.6427346443593,162.70534183054491]
[null,null,null,11,"Non-controllable opex",118.61266710389702,120.09798507088126,119.98003929634396,119.70247629955345,119.48590696720586,119.27360215403998,119.0565192900815,118.64059293864008,954.84978912064309,119.35622364008039]
[null,null,null,12,"RAV depreciation",142.43437283656559,145.80961315540657,134.89965816182041,135.76080066852543,145.73365736393086,158.98691987945961,172.58158842736509,189.21824072988994,1225.4248512229635,153.17810640287044]
[null,null,null,13,"Return",119.05647129143156,119.16838444275525,119.73577020220239,121.04253124964369,122.72163240228575,124.44738636183847,126.04198447772548,127.4044451663698,979.61860559425224,122.45232569928153]
[null,null,null,14,"Equity issuance cost",0,0,0,0,0,0,0,0,0,0]
[null,null,null,15,"Additional income",4.3711361618045261,4.1061637194275455,4.0552861607435222,4.1740657363798928,4.2392735501040191,4.2456708853517631,4.1082388249047996,4.0582947641574174,33.358129802873485,4.1697662253591856]
[null,null,null,16,"Core DARTs",13.947356343253839,14.075684140573165,14.209456886332747,14.348905609694912,14.494271142389334,14.645804534635976,14.803767488715646,14.968432810936918,115.49367895653253,14.436709869566567]
[null,null,null,17,"Tax allowance",0,0,35.66826640648533,40.762727933439393,41.140749439911659,40.669440727263812,38.945526345961632,39.672272137004654,236.85898299006649,29.607372873758312]
[null,null,null,null,"Recalculated allowances"]
[null,null,null,18,"Fast pot expenditure",193.83447967926091,178.02056430962796,166.99079886432855,172.2129458560002,161.89621880294885,149.74839476685733,126.62606197468668,111.50259753360513,1260.8320617873155,157.60400772341444]
[null,null,null,19,"Non-controllable opex",118.61266710389702,120.0913300195146,119.99133001951461,119.67133001951461,119.4713300195146,119.27133001951461,119.05133001951461,118.55133001951461,954.71197724049921,119.3389971550624]
[null,null,null,20,"RAV depreciation",142.43437283656559,145.23506202345334,133.92432253015579,134.36233303723824,144.43394640320474,157.73992637253625,171.37551951195127,187.97630691998589,1217.4817896350912,152.1852237043864]
[null,null,null,21,"Return",118.78753299142014,114.87856795158288,112.02960722814906,110.06956203783101,108.77250884144698,110.37821094431619,111.82761718126467,113.03205936069246,899.7756665367034,112.47195831708792]
[null,null,null,22,"Equity issuance cost",0,0,0,0,0,0,0,0,0,0]
[null,null,null,23,"Additional income",4.3724011747736116,4.1057641662653896,4.0545669929819539,4.1740927460581894,4.2397101975440528,4.2461477210751069,4.1078523076276792,4.0575944965475035,33.358129802873485,4.1697662253591856]
[null,null,null,24,"Core DARTs",14.379755699820583,14.521936285915773,13.32985435800112,13.475535441199987,13.622842109685338,13.775728754772913,13.934406745976407,14.099095459486687,111.13915485485882,13.892394356857352]
[null,null,null,25,"Tax allowance",0,19.32938073004955,49.231774614634425,42.57158893717704,40.34642890820934,42.989232541981366,40.701149397193987,41.547574561500184,276.71712969074594,34.589641211343242]
[null,null,null,null,"Price Control Revenue"]
[null,null,null,26,"Final proposals base revenue",612.83606765591469,592.12386089923734,603.00782985663363,604.76877310838506,608.63059068689631,611.4823805220683,605.33051686617239,609.06675273638325,4847.2467723316913,605.90584654146141]
[null,null,null,27,"MOD",0,-2.7502129760486014,-18.363214908949317,-1.0811114357383076,-23.448724998925854,0,0,0,-45.64326431966208,-5.70540803995776]
[null,null,null,28,"Base revenue",612.83606765591469,589.37364792318874,584.64461494768432,603.68766167264675,585.18186568797046,611.4823805220683,605.33051686617239,609.06675273638325,4801.6035080120291,600.20043850150364]
[null,null,null,29,"Not Used"]
[null,null,null,30,"Not Used"]
[null,null,null,31,"Excluded services revenue",0.22040473872096469,0.31813028330689508,0.46319769249483916,0.55554773243599764,0.56221430522522964,0.5689608768879324,0.57521944653369972,0.58154686044557036,3.8452219360511286,0.48065274200639108]
[null,null,null,32,"Total revenue",613.05647239463565,589.69177820649566,585.10781264017919,604.24320940508278,585.74407999319567,612.0513413989562,605.90573631270604,609.64829959682879,4805.4487299480797,600.68109124350997]
[null,null,null,null,"Recalculated base revenue"]
[null,null,null,33,"Recalculated base revenue",592.42120948573779,596.18260548640956,599.55225460776558,596.53738807501929,592.78298528255391,598.14897112105371,587.6239371382153,590.76655835133238,4754.0159095480876,594.25198869351095]
[null,null,null,34,"Previous year recalculated base revenue",592.42120985918302,596.39133023375757,605.91593691222761,597.00935815826983,600.99991353176154,604.20948430368526,594.54977951208753,598.2048667803731,4789.701879291345,598.71273491141812]
[null,null,null,null,"Recorded recalculated base revenue"]
[null,null,null,35,"2014-03-31",612.83606765591469,592.12386089923734,603.00782985663363,604.76877310838506,608.63059068689631,611.4823805220683,605.33051686617239,609.06675273638325,4847.2467723316913,605.90584654146141]
[null,null,null,36,"2015-03-31",613.22997359677527,588.96302855325746,599.8167439660067,601.56512936449906,605.39462282035481,608.21321820241553,602.03184256454949,605.74483061058231,4824.9593896784409,603.11992370980511]
[null,null,null,37,"2016-03-31",591.84989354892616,594.09480988265204,602.50567434789627,597.43535678934393,601.15342780908793,603.8787616664498,597.62155186758832,601.27631250689922,4789.815788418844,598.7269735523555]
[null,null,null,38,"2017-03-31",592.42120985918302,596.39133023375757,605.91593691222761,597.00935815826983,600.99991353176154,604.20948430368526,594.54977951208753,598.2048667803731,4789.701879291345,598.71273491141812]
[null,null,null,39,"2018-03-31",592.42120948573779,596.18260548640956,599.55225460776558,596.53738807501929,592.78298528255391,598.14897112105371,587.6239371382153,590.76655835133238,4754.0159095480876,594.25198869351095]
[null,null,null,40,"2019-03-31","","","","","","","","",0,0]
[null,null,null,41,"2020-03-31","","","","","","","","",0,0]
[null,null,null,42,"2021-03-31","","","","","","","","",0,0]
[null,null,null,null,"Recorded MOD"]
[null,null,null,43,"2014-03-31",0,0,0,0,0,0,0,0,0]
[null,null,null,44,"2015-03-31",0,-2.7502129760486014,0,0,0,0,0,0,-2.7502129760486014]
[null,null,null,45,"2016-03-31",0,-2.7502129760486014,-18.363214908949317,0,0,0,0,0,-21.113427884997918]
[null,null,null,46,"2017-03-31",0,-2.7502129760486014,-18.363214908949317,-1.0811114357383076,0,0,0,0,-22.194539320736226]
[null,null,null,47,"2018-03-31",0,-2.7502129760486014,-18.363214908949317,-1.0811114357383076,-23.448724998925854,0,0,0,-45.64326431966208]
[null,null,null,48,"2019-03-31","","","","","","","","",0]
[null,null,null,49,"2020-03-31","","","","","","","","",0]
[null,null,null,50,"2021-03-31","","","","","","","","",0]
[null,null,null,null,"Inputs to RoRE"]
[null,null,null,51,"Average RAV",2799.6119017539513,2793.0602468169918,2798.9908114465725,2828.0976885362543,2871.5023453391495,2913.8915244011669,2952.1546246373991,2983.9508806940989,22941.260023625582,2867.6575029531978]
[null,null,null,52,"Gearing",0.65,0.65,0.65,0.65,0.65,0.65,0.65,0.65,0.64999999999999991,0.65]
[null,null,null,53,"Regulated equity",979.86416561388285,977.57108638594707,979.64678400630032,989.83419098768888,1005.0258208687022,1019.8620335404083,1033.2541186230897,1044.3828082429345,8029.4410082689546,1003.6801260336193]
[null,null,null,54,"Regulated debt return",53.136633895289997,49.381305163724413,46.393272699726936,43.750671241655859,41.435778843243931,42.04745469710884,42.599591233517671,43.058411208415855,361.80311898268349,45.225389872835436]
[null,null,null,55,"Allowed repex",161.41017825906721,159.98301629264756,160.39845360368977,162.75642365486814,162.86731227389944,163.34666891563882,163.84780654045363,164.17955218029823,1298.7894117205628,162.34867646507035]
[]
[]
[]
[]
[]
[null,null,"Values for Wales & West"]
[]
[]
[null,null,null,null,"Company","Calculated for MOD year ending",null,"File"]
[null,null,null,null,"Wales & West","2018-03-31",null,"GD1 Full Model AIP 2016.xlsm"]
[]
[null,null,null,null,"PCFM year ending","2014-03-31","2015-03-31","2016-03-31","2017-03-31","2018-03-31","2019-03-31","2020-03-31","2021-03-31","RIIO Total","RIIO average"]
[null,null,null,null,"Price base","£m 09/10 prices","£m 09/10 prices","£m 09/10 prices","£m 09/10 prices","£m 09/10 prices","£m 09/10 prices","£m 09/10 prices","£m 09/10 prices","£m 09/10 prices","£m 09/10 prices"]
[null,null,null,null,"Totex"]
[null,null,null,1,"Slow pot",84.47223361180653,87.297420542100795,91.687091168859382,102.60135880294054,107.61711644989359,112.80581515398896,119.18264503675451,123.42444029490562,829.08812106124981,103.63601513265623]
[null,null,null,2,"Fast pot",122.20353151402767,112.97024550880261,105.92631080542981,106.1431199948221,98.277106818858584,91.834234446845599,87.553699553733708,81.732261091703833,806.640509734224,100.830063716778]
[null,null,null,3,"Post-TIM totex allowance",206.6757651258342,200.26766605090341,197.61340197428919,208.74447879776264,205.89422326875217,204.64004960083457,206.73634459048822,205.15670138660946,1635.7286307954739,204.46607884943424]
[null,null,null,null,"Regulatory Asset Value (RAV)"]
[null,null,null,4,"Opening asset value (before transfers)",1610.1407906358629,1616.7251032745755,1622.0143710159025,1629.5527635599328,1645.1064009665909,1664.2003141948765,1685.8114106728483,1711.0062038736362,null,1648.0696697742781]
[null,null,null,5,"Transfers",0,0,0,0,0,0,0,0,0,0]
[null,null,null,6,"Opening asset value (after transfers)",1610.1407906358629,1616.7251032745755,1622.0143710159025,1629.5527635599328,1645.1064009665909,1664.2003141948765,1685.8114106728483,1711.0062038736362,null,1648.0696697742781]
[null,null,null,7,"RAV additions (after disposals)",86.272173607135457,87.081634162100784,91.382070282694997,101.55301840317959,107.61711644989359,112.80581515398896,119.18264503675451,123.42444029490562,829.31891339065351,103.66486417383169]
[null,null,null,8,"Depreciation",-79.687860968422854,-81.792366420773732,-83.843677738664638,-85.999380996521481,-88.523203221607986,-91.194718676017047,-93.987851835966595,-96.949247343327215,-701.9783072013015,-87.747288400162688]
[null,null,null,9,"Closing asset value",1616.7251032745755,1622.0143710159025,1629.5527635599328,1645.1064009665909,1664.2003141948765,1685.8114106728483,1711.0062038736362,1737.4813968252147,null,1663.9872455479472]
[null,null,null,null,"Final Proposals allowances"]
[null,null,null,10,"Fast pot expenditure",127.87742272526329,120.97952355513053,113.08918585936274,105.81814217460962,99.118180515290618,93.197864474381547,89.418294673539805,83.84975065756646,833.34836463514455,104.16854557939307]
[null,null,null,11,"Non-controllable opex",59.328807265590363,59.233567318976689,59.176921175713055,59.016441464055767,58.894456607889047,58.774570145903404,58.651152770653034,58.39390098687619,471.4698177356575,58.933727216957188]
[null,null,null,12,"RAV depreciation",79.687860968422854,81.87734832757215,84.198675016783852,86.621073387823515,89.122989171296553,91.80102167144706,94.612878431214284,97.604399708530394,705.52624668309079,88.190780835386349]
[null,null,null,13,"Return",67.101674561705337,67.516016100017097,68.033839968442223,68.620440157956637,69.319300371131405,70.164537441898858,71.147448665144438,72.240225316375273,554.14348258267125,69.267935322833907]
[null,null,null,14,"Equity issuance cost",0,0,0,0,0,0,0,0,0,0]
[null,null,null,15,"Additional income",1.3995084625244796,1.3865454968931874,1.3643695221350254,1.3459828833332954,1.341126089669473,1.3384144686579973,1.3573043806053382,1.3497112507386984,10.882962554557496,1.360370319319687]
[null,null,null,16,"Core DARTs",9.1526895760888785,9.1902056239437044,9.2484034254805483,9.2851412563374289,9.3428286966454603,9.3954853101907325,9.4569340906560022,9.5227034149534404,74.594391394296196,9.3242989242870244]
[null,null,null,17,"Tax allowance",0,0,0,5.4185592060465817,20.285882066043374,19.051557669398171,18.500033203807323,17.983931103723435,81.239963249018885,10.154995406127361]
[null,null,null,null,"Recalculated allowances"]
[null,null,null,18,"Fast pot expenditure",122.20353151402767,112.97024550880261,105.92631080542981,106.1431199948221,98.277106818858584,91.834234446845599,87.553699553733708,81.732261091703833,806.640509734224,100.830063716778]
[null,null,null,19,"Non-controllable opex",59.32880726559037,59.13324988569174,59.134334226604913,58.934334226825285,58.834334227043463,67.564383556836987,58.534334227473281,58.334334227684977,479.79811184375097,59.974763980468872]
[null,null,null,20,"RAV depreciation",79.687860968422854,81.792366420773732,83.843677738664638,85.999380996521481,88.523203221607986,91.194718676017047,93.987851835966595,96.949247343327215,701.9783072013015,87.747288400162688]
[null,null,null,21,"Return",67.061895874874807,65.286914740919514,63.816947956791559,62.525568117198645,61.527870434186752,62.283884384180197,63.152971726813988,64.113299964724249,509.7693531996897,63.721169149961213]
[null,null,null,22,"Equity issuance cost",0,0,0,0,0,0,0,0,0,0]
[null,null,null,23,"Additional income",1.3982776671905828,1.3864649866746799,1.3673040530931269,1.3493453776780693,1.3347777856873293,1.3354887108693174,1.3597799661606067,1.3515240072037848,10.882962554557498,1.3603703193196872]
[null,null,null,24,"Core DARTs",9.9512097954319891,10.019819670961827,10.392718027875146,10.457773047442997,10.542153490411746,10.622219965994416,10.711810136564486,10.80646707359632,83.504171208278933,10.438021401034867]
[null,null,null,25,"Tax allowance",0,0,5.7199081774133794E-17,11.708963639718599,20.361590572272789,20.517276946087236,19.981909583684612,19.465431662710799,92.035172404474039,11.504396550559255]
[null,null,null,null,"Price Control Revenue"]
[null,null,null,26,"Final proposals base revenue",344.54796355959519,340.18320642253337,335.11139496791742,336.1257805301629,347.42476351796597,343.72345118187781,343.14404621562022,340.94462243876387,2731.2052288344366,341.40065360430458]
[null,null,null,27,"MOD",0,-0.11605216169209598,-9.4237999823496921,-7.210347678171388,-17.232464516904145,0,0,0,-33.982664339117321,-4.2478330423896651]
[null,null,null,28,"Base revenue",344.54796355959519,340.06715426084128,325.68759498556773,328.91543285199151,330.19229900106183,343.72345118187781,343.14404621562022,340.94462243876387,2697.2225644953196,337.15282056191495]
[null,null,null,29,"Not Used"]
[null,null,null,30,"Not Used"]
[null,null,null,31,"Excluded services revenue",0.63767945792465786,0.47979443226613083,0.47499648794346949,0.37106040306403482,0.28635117911139452,0,0,0,2.2498819603096876,0.28123524503871095]
[null,null,null,32,"Total revenue",345.18564301751985,340.54694869310742,326.16259147351121,329.28649325505552,330.47865018017325,343.72345118187781,343.14404621562022,340.94462243876387,2699.4724464556293,337.43405580695367]
[null,null,null,null,"Recalculated base revenue"]
[null,null,null,33,"Recalculated base revenue",339.63158308553824,330.58906121382415,324.48129280845922,337.11848540020713,339.40103655006862,345.35220668683075,335.28235703039729,332.75256537095117,2684.6085881462768,335.5760735182846]
[null,null,null,34,"Previous year recalculated base revenue",339.63158330523845,330.58354505385228,331.76454336399428,338.41345540743356,343.55645637127316,339.83412449562513,339.1369489758672,336.94598544867273,2699.8666424219564,337.48333030274455]
[null,null,null,null,"Recorded recalculated base revenue"]
[null,null,null,35,"2014-03-31",344.54796355959519,340.18320642253337,335.11139496791742,336.1257805301629,347.42476351796597,343.72345118187781,343.14404621562022,340.94462243876387,2731.2052288344366,341.40065360430458]
[null,null,null,36,"2015-03-31",345.39213033236928,339.18716949189837,334.12808543641853,335.30096478133083,346.52149026099937,342.83628797945755,342.27166012932548,340.08642256902425,2725.7242109808235,340.71552637260294]
[null,null,null,37,"2016-03-31",339.63158330523845,338.82218514409362,332.31954247134172,338.78682751691019,345.0799591264917,341.37216159569164,340.78450846820147,338.56808038537554,2715.3648480133443,339.42060600166803]
[null,null,null,38,"2017-03-31",339.63158330523845,330.58354505385228,331.76454336399428,338.41345540743356,343.55645637127316,339.83412449562513,339.1369489758672,336.94598544867273,2699.8666424219564,337.48333030274455]
[null,null,null,39,"2018-03-31",339.63158308553824,330.58906121382415,324.48129280845922,337.11848540020713,339.40103655006862,345.35220668683075,335.28235703039729,332.75256537095117,2684.6085881462768,335.5760735182846]
[null,null,null,40,"2019-03-31","","","","","","","","",0,0]
[null,null,null,41,"2020-03-31","","","","","","","","",0,0]
[null,null,null,42,"2021-03-31","","","","","","","","",0,0]
[null,null,null,null,"Recorded MOD"]
[null,null,null,43,"2014-03-31",0,0,0,0,0,0,0,0,0]
[null,null,null,44,"2015-03-31",0,-0.11605216169209598,0,0,0,0,0,0,-0.11605216169209598]
[null,null,null,45,"2016-03-31",0,-0.11605216169209598,-9.4237999823496921,0,0,0,0,0,-9.5398521440417881]
[null,null,null,46,"2017-03-31",0,-0.11605216169209598,-9.4237999823496921,-7.210347678171388,0,0,0,0,-16.750199822213176]
[null,null,null,47,"2018-03-31",0,-0.11605216169209598,-9.4237999823496921,-7.210347678171388,-17.232464516904145,0,0,0,-33.982664339117321]
[null,null,null,48,"2019-03-31","","","","","","","","",0]
[null,null,null,49,"2020-03-31","","","","","","","","",0]
[null,null,null,50,"2021-03-31","","","","","","","","",0]
[null,null,null,null,"Inputs to RoRE"]
[null,null,null,51,"Average RAV",1580.5301879536842,1587.3307741531612,1594.427181931082,1606.5151109249396,1624.2838023808542,1644.2419320005333,1667.1851036645721,1692.536957886068,12997.051050894896,1624.6313813618619]
[null,null,null,52,"Gearing",0.65,0.65,0.65,0.65,0.65,0.65,0.65,0.65,0.65000000000000013,0.65]
[null,null,null,53,"Regulated equity",553.18556578378946,555.56577095360637,558.04951367587864,562.28028882372882,568.49933083329893,575.48467620018664,583.5147862826002,592.38793526012375,4548.9678678132123,568.62098347665153]
[null,null,null,54,"Regulated debt return",29.998462967360929,28.064008087027887,26.427630540507685,24.852788766008818,23.43841526835573,23.726411078767697,24.057481045879779,24.423308302295965,204.98850605620447,25.623563257025559]
[null,null,null,55,"Allowed repex",81.109326163685779,77.944781324448996,79.147439612176655,78.292337531416479,79.328393769732642,79.270619811940335,79.208506155904985,77.88375687401178,632.18516124331757,79.023145155414696]
[]
[]
[]
[]
[]
[null,null,"End of sheet"]

{"sheet":"East","index":16,"n_rows":292,"n_cols":41,"rows_kept":292,"cut":false,"hidden":false,"merged":[]}
["Input"]
[null,"East"]
[null,null,null,null,"Parameter","Licence condition","Units","Term","Constant",null,null,null,null,null,null,null,null,null,null,null,null,null,null,null,null,null,null,null,null,null,null,null,null,"Annual values"]
[null,null,null,null,"PCFM year ending",{"$f":"Cover!C3","v":"GD1 PCFM for use in AIP 2018.xlsm"},null,null,{"$f":"UserInterface!$G$10","v":"2019-03-31"},null,"1991-03-31","1992-03-31","1993-03-31","1994-03-31","1995-03-31","1996-03-31","1997-03-31","1998-03-31","1999-03-31","2000-03-31","2001-03-31","2002-03-31","2003-03-31","2004-03-31","2005-03-31","2006-03-31","2007-03-31","2008-03-31","2009-03-31","2010-03-31","2011-03-31","2012-03-31","2013-03-31","2014-03-31","2015-03-31","2016-03-31","2017-03-31","2018-03-31","2019-03-31","2020-03-31","2021-03-31"]
[]
[null,"PCFM Variable Values Table"]
[]
[null,null,null,null,{"$f":"Input!E8","v":"Allowed percentage cost of debt"},{"$f":"Input!F8","v":"3C"},"annual real %",{"$f":"Input!H8","v":"CDE"},null,null,null,null,null,null,null,null,null,null,null,null,null,null,null,null,null,null,null,null,null,null,null,null,null,2.92E-2,2.7199999999999998E-2,2.5499999999999998E-2,2.3800000000000002E-2,2.2200000000000001E-2,2.2200000000000001E-2,2.2200000000000001E-2,2.2200000000000001E-2]
[null,null,null,null,{"$f":"Input!E9","v":"Actual load related capex"},{"$f":"Input!F9","v":"3B"},"£m 09/10 prices",{"$f":"Input!H9","v":"ALC"},null,null,null,null,null,null,null,null,null,null,null,null,null,null,null,null,null,null,null,null,null,null,null,null,null,28.994705520563567,19.813505166441491,19.732860307816889,0,0,0,0,0]
[null,null,null,null,{"$f":"Input!E10","v":"Actual other capex"},{"$f":"Input!F10","v":"3B"},"£m 09/10 prices",{"$f":"Input!H10","v":"AOC"},null,null,null,null,null,null,null,null,null,null,null,null,null,null,null,null,null,null,null,null,null,null,null,null,null,17.585404328298281,19.93498036545277,16.771849986032894,0,0,0,0,0]
[null,null,null,null,{"$f":"Input!E11","v":"Actual controllable opex"},{"$f":"Input!F11","v":"3B"},"£m 09/10 prices",{"$f":"Input!H11","v":"ACO"},null,null,null,null,null,null,null,null,null,null,null,null,null,null,null,null,null,null,null,null,null,null,null,null,null,126.88055213470393,124.57403585982755,118.85835822933886,0,0,0,0,0]
[null,null,null,null,{"$f":"Input!E12","v":"Actual replacement expenditure"},{"$f":"Input!F12","v":"3B"},"£m 09/10 prices",{"$f":"Input!H12","v":"ARE"},null,null,null,null,null,null,null,null,null,null,null,null,null,null,null,null,null,null,null,null,null,null,null,null,null,80.98027960027801,87.292768607308034,91.558452979737709,0,0,0,0,0]
[null,null,null,null,{"$f":"Input!E13","v":"Allowed uncertain costs (Enhanced physical site security)"},{"$f":"Input!F13","v":"3F"},"£m 09/10 prices",{"$f":"Input!H13","v":"IAEEPS"},null,null,null,null,null,null,null,null,null,null,null,null,null,null,null,null,null,null,null,null,null,null,null,null,null,-1.2092019818719479,0.21213453381116881,0.41797344366272721,2.3324946307316878,12.804418133191946,9.9181918928894781,2.2324976937249348,0.46585095352675315]
[null,null,null,null,{"$f":"Input!E14","v":"Allowed uncertain costs (Specified street work costs)"},{"$f":"Input!F14","v":"3F"},"£m 09/10 prices",{"$f":"Input!H14","v":"IAESW"},null,null,null,null,null,null,null,null,null,null,null,null,null,null,null,null,null,null,null,null,null,null,null,null,null,2.5069237234056003,2.4294400914595151,2.3600138601103731,2.2945494341020423,2.2351258000404703,2.1743981151621057,2.1151581854026622,2.0555882416470448]
[null,null,null,null,{"$f":"Input!E15","v":"Allowed uncertain costs (Connection charging boundary change costs)"},{"$f":"Input!F15","v":"3F"},"£m 09/10 prices",{"$f":"Input!H15","v":"IAECCB"},null,null,null,null,null,null,null,null,null,null,null,null,null,null,null,null,null,null,null,null,null,null,null,null,null,0,0,0,0,0,0,0,0]
[null,null,null,null,{"$f":"Input!E16","v":"Allowed uncertain costs (Fuel poor network extension scheme)"},{"$f":"Input!F16","v":"3F"},"£m 09/10 prices",{"$f":"Input!H16","v":"IAEFP"},null,null,null,null,null,null,null,null,null,null,null,null,null,null,null,null,null,null,null,null,null,null,null,null,null,1.2250858862540879,1.2201855427090715,1.2331313377910282,1.7413241022553574,1.8283062074662149,1.7874479931648435,1.781980158397976,1.6853715130527143]
[null,null,null,null,{"$f":"Input!E17","v":"Allowed uncertain costs (Central agent)"},{"$f":"Input!F17","v":"3F"},"£m 09/10 prices",{"$f":"Input!H17","v":"IAECA"},null,null,null,null,null,null,null,null,null,null,null,null,null,null,null,null,null,null,null,null,null,null,null,null,null,-8.5304052177548328E-7,2.1238368020719989E-2,0.20500950116138306,0.20800442295421639,-2.6476908923078391,-3.9467600392068958,-5.1937163916232922,-5.8272863354473889]
[null,null,null,null,{"$f":"Input!E18","v":"Allowed uncertain costs (Smart metering roll out costs)"},{"$f":"Input!F18","v":"3F"},"£m 09/10 prices",{"$f":"Input!H18","v":"IAESM"},null,null,null,null,null,null,null,null,null,null,null,null,null,null,null,null,null,null,null,null,null,null,null,null,null,0,0,0,0,0,0,0,0]
[null,null,null,null,{"$f":"Input!E19","v":"Allowed uncertain costs (Mains and services replacement expenditure)"},{"$f":"Input!F19","v":"3E"},"£m 09/10 prices",{"$f":"Input!H19","v":"RE"},null,null,null,null,null,null,null,null,null,null,null,null,null,null,null,null,null,null,null,null,null,null,null,null,null,0.10560899999999998,0.182225,0.41686099999999998,0.94362146250000001,0.94362146250000001,0.94362146250000001,0.94362146250000001,0.94362146250000001]
[null,null,null,null,{"$f":"Input!E20","v":"Allowed uncertain Costs (Large load connection costs)"},{"$f":"Input!F20","v":"3F"},"£m 09/10 prices",{"$f":"Input!H20","v":"IAELLC"},null,null,null,null,null,null,null,null,null,null,null,null,null,null,null,null,null,null,null,null,null,null,null,null,null,0,0,0,0,0,0,0,0]
[null,null,null,null,{"$f":"Input!E21","v":"Allowed innovation roll-out mechanism"},{"$f":"Input!F21","v":"3D"},"£m 09/10 prices",{"$f":"Input!H21","v":"IRM"},null,null,null,null,null,null,null,null,null,null,null,null,null,null,null,null,null,null,null,null,null,null,null,null,null,0,0,0,0,0,0,0,0]
[null,null,null,null,{"$f":"Input!E22","v":"NTS Exit Capacity costs"},{"$f":"Input!F22","v":"1D"},"£m 09/10 prices",{"$f":"Input!H22","v":"AEx"},null,null,null,null,null,null,null,null,null,null,null,null,null,null,null,null,null,null,null,null,null,null,null,null,null,24.741315956933445,24.720070711637774,24.679625652967726,24.679625652967726,24.679625652967726,24.679625652967726,24.679625652967726,24.679625652967726]
[null,null,null,null,{"$f":"Input!E23","v":"Shrinkage costs"},{"$f":"Input!F23","v":"1F"},"£m 09/10 prices",{"$f":"Input!H23","v":"ALSC"},null,null,null,null,null,null,null,null,null,null,null,null,null,null,null,null,null,null,null,null,null,null,null,null,null,11.826470463750899,10.8,10.67,7.92,7.74,7.55,7.36,7.18]
[null,null,null,null,{"$f":"Input!E24","v":"Tax liability allowance adjustments - gearing/interest costs"},{"$f":"Input!F24","v":"3C"},"£m nominal",{"$f":"Input!H24","v":"TGIE"},null,null,null,null,null,null,null,null,null,null,null,null,null,null,null,null,null,null,null,null,null,null,null,null,null,0,0,0,0,0,0,0,0]
[null,null,null,null,{"$f":"Input!E25","v":"Tax liability allowance adjustments - driven by tax trigger events"},{"$f":"Input!F25","v":"3C"},"£m 09/10 prices",{"$f":"Input!H25","v":"TTE"},null,null,null,null,null,null,null,null,null,null,null,null,null,null,null,null,null,null,null,null,null,null,null,null,null,0,0,-0.36198699073049312,-0.38204674206826184,-2.5688584201412965,0,0,0]
[null,null,null,null,{"$f":"Input!E26","v":"Pension scheme administration and Pension Protection Fund Levy"},{"$f":"Input!F26","v":"3C"},"£m 09/10 prices",{"$f":"Input!H26","v":"APFE"},null,null,null,null,null,null,null,null,null,null,null,null,null,null,null,null,null,null,null,null,null,null,null,null,null,9.3511641421976086E-2,9.3511641421976086E-2,9.3511641421976086E-2,9.3511641421976086E-2,9.3511641421976086E-2,9.3511641421976086E-2,9.3511641421976086E-2,9.3511641421976086E-2]
[null,null,null,null,{"$f":"Input!E27","v":"Pension scheme deficit revenue allowances"},{"$f":"Input!F27","v":"3C"},"£m 09/10 prices",{"$f":"Input!H27","v":"EDE"},null,null,null,null,null,null,null,null,null,null,null,null,null,null,null,null,null,null,null,null,null,null,null,null,null,4.3561575242036632,4.3561575242036632,3.4866155722048706,3.4866155722048706,3.4866155722048706,3.4866155722048706,3.4866155722048706,3.4866155722048706]
[null,null,null,null,{"$f":"Input!E28","v":"Legacy price control allowed revenue adjustment"},{"$f":"Input!F28","v":"3A"},"£m 09/10 prices",{"$f":"Input!H28","v":"LAR"},null,null,null,null,null,null,null,null,null,null,null,null,null,null,null,null,null,null,null,null,null,null,null,null,null,1.2086076135375989]
[null,null,null,null,{"$f":"Input!E29","v":"Legacy price control RAV additions adjustment"},{"$f":"Input!F29","v":"3A"},"£m 09/10 prices",{"$f":"Input!H29","v":"LRAV"},null,null,null,null,null,null,null,null,null,null,null,null,null,null,null,null,null,null,null,null,null,null,null,null,null,-3.4376013621925008]
[]
[null,"Policy"]
[]
[null,null,"Cost of capital"]
[]
[null,null,null,null,"Cost of debt",null,"annual real %",null,null,">",null,null,null,null,null,null,null,null,null,null,null,null,null,null,null,null,null,null,null,null,null,null,null,{"$f":"AH8","v":2.92E-2},2.7199999999999998E-2,2.5499999999999998E-2,2.3800000000000002E-2,2.2200000000000001E-2,2.2200000000000001E-2,2.2200000000000001E-2,2.2200000000000001E-2]
[null,null,null,null,"Cost of equity",null,"annual real %",null,null,">",null,null,null,null,null,null,null,null,null,null,null,null,null,null,null,null,null,null,null,null,null,null,null,6.7000000000000004E-2,6.7000000000000004E-2,6.7000000000000004E-2,6.7000000000000004E-2,6.7000000000000004E-2,6.7000000000000004E-2,6.7000000000000004E-2,6.7000000000000004E-2]
[null,null,null,null,"Notional gearing",null,"%",null,null,">",null,null,null,null,null,null,null,null,null,null,null,null,null,null,null,null,null,null,null,null,null,null,0.625,0.65,0.65,0.65,0.65,0.65,0.65,0.65,0.65]
[]
[null,null,null,null,"Vanilla WACC",null,"annual real %",null,null,">",null,null,null,null,null,null,null,null,null,null,null,null,null,null,null,null,null,null,null,null,null,null,null,{"$f":"(AH35 * AH37) + (AH36 * (1 - AH37))","v":4.2429999999999995E-2},4.113E-2,4.0024999999999998E-2,3.8919999999999996E-2,3.7879999999999997E-2,3.7879999999999997E-2,3.7879999999999997E-2,3.7879999999999997E-2]
[]
[null,null,null,null,"Closing gearing",null,"%",null,{"$f":"AG37","v":0.625}]
[]
[null,null,null,null,"Forecast RPI (simple average year to March)",null,"index value",null,null,">",null,null,null,null,null,null,null,null,null,null,null,173.875,177.517,182.47499999999999,188.15,193.108,200.31700000000001,208.59200000000001,214.78299999999999,215.767,226.47499999999999,{"$f":"ROUND(AVERAGE(234.4,235.2,235.2,234.7,236.1,237.9,238,238.5,239.4,238,239.9,240.8),3)","v":237.34200000000001},{"$f":"ROUND(AF43*(1+2.8%),3)","v":243.988},{"$f":"ROUND(AG43*(1+2.8%),3)","v":250.82},257.84300000000002,265.06299999999999,272.48500000000001,280.11500000000001,287.95800000000003,296.02100000000002,304.31]
[null,null,null,null,"Cost of Debt Inflation",null,"index value",null,null,">",null,null,null,null,null,null,null,null,null,null,null,173.875,177.517,182.47499999999999,188.15,193.108,200.31700000000001,208.59200000000001,214.78299999999999,215.767,226.47499999999999,{"$f":"ROUND(AVERAGE(234.4,235.2,235.2,234.7,236.1,237.9,238,238.5,239.4,238,239.9,240.8),3)","v":237.34200000000001},{"$f":"ROUND(AF44*(1+2.8%),3)","v":243.988},250.82,257.84300000000002,265.06299999999999,272.48500000000001,280.11500000000001,287.95800000000003,296.02100000000002,304.31]
[null,null,"TIM and capitalisation"]
[]
[null,null,null,null,"Years from t until normal reporting of actual costs",null,"years",null,2]
[]
[null,null,null,null,{"$f":"Input!E49","v":"Capitalised share of totex (excluding repex)"},null,"%",null,null,null,null,null,null,null,null,null,null,null,null,null,null,null,null,null,null,null,null,null,null,null,null,null,null,0.26634501855794862,0.26634501855794862,0.26634501855794862,0.26634501855794862,0.26634501855794862,0.26634501855794862,0.26634501855794862,0.26634501855794862]
[null,null,null,null,{"$f":"Input!E50","v":"Capitalised share of repex"},null,"%",null,null,null,null,null,null,null,null,null,null,null,null,null,null,null,null,null,null,null,null,null,null,null,null,null,null,0.5,0.5714285714285714,0.64285714285714279,0.71428571428571419,0.78571428571428559,0.85714285714285698,0.92857142857142838,1]
[]
[null,null,null,null,"Incentive rate (slope)",null,"scalar",null,-1.666666666666667E-3]
[null,null,null,null,"Incentive rate (intercept)",null,"scalar",null,0.81666666666666665]
[null,null,null,null,"Additional income (intercept)",null,"scalar",null,14.583333333333332]
[]
[null,null,null,null,"Weight of Ofgem's view on price control totex",null,"%",null,0.75]
[null,null,null,null,"Weight of operator's view on price control totex",null,"%",null,0.25]
[]
[null,null,null,null,"GD TIM group ratio",null,"scalar",null,111.77479741299152]
[]
[null,null,null,null,"Ofgem's view of  licensee totex",null,"£m 09/10 prices",null,2062.585196291785]
[null,null,null,null,"Operator's view of licensee totex",null,"£m 09/10 prices",null,2279.2101778988895]
[]
[null,null,null,null,"Ofgem's view of group price control totex",null,"£m 09/10 prices",null,6729.0571105813278]
[null,null,null,null,"Operator's view of group price control totex",null,"£m 09/10 prices",null,7521.3899531567795]
[]
[null,null,"Finance"]
[]
[null,null,null,null,"Minimum equity issuance threshold",null,"%",null,0.05]
[null,null,null,null,"Equity issuance costs",null,"%",null,0.05]
[null,null,null,null,"Assumed dividends as % of notional equity portion of RAV",null,"%",null,0.05]
[]
[null,null,null,null,"Equity issuance gearing target",null,"%",null,null,null,null,null,null,null,null,null,null,null,null,null,null,null,null,null,null,null,null,null,null,null,null,null,null,{"$f":"AH37","v":0.65},{"$f":"AI37","v":0.65},0.65,0.65,0.65,0.65,0.65,0.65]
[]
[null,null,null,null,"Index-linked debt as a percentage of net debt",null,"%",null,null,null,null,null,null,null,null,null,null,null,null,null,null,null,null,null,null,null,null,null,null,null,null,null,null,0.25,0.25,0.25,0.25,0.25,0.25,0.25,0.25]
[]
[null,"Expenditure"]
[]
[null,null,"Totex"]
[]
[null,null,null,"Non-variant allowances"]
[]
[null,null,null,null,"Non-variant allowed load related capex",null,"£m 09/10 prices",null,null,null,null,null,null,null,null,null,null,null,null,null,null,null,null,null,null,null,null,null,null,null,null,null,null,22.843918152871311,24.193588786833523,22.476719950427562,21.839899000578804,19.573084649472207,19.686592684242683,19.086923517899706,19.027266096587532]
[null,null,null,null,"Non-variant allowed non-load related capex - other",null,"£m 09/10 prices",null,null,null,null,null,null,null,null,null,null,null,null,null,null,null,null,null,null,null,null,null,null,null,null,null,null,30.550453884390336,20.483138706505621,16.137874702056287,16.823488465948579,20.975007535552244,18.616106398916752,14.897589919446366,12.544337852857174]
[null,null,null,null,"Non-variant allowed controllable opex",null,"£m 09/10 prices",null,null,null,null,null,null,null,null,null,null,null,null,null,null,null,null,null,null,null,null,null,null,null,null,null,null,114.72021103948836,112.92722288859693,113.85630407266422,114.86593283800406,113.01881860750507,112.89536754363438,112.79399906891089,112.33005300808742]
[null,null,null,null,"Non-variant allowed repex",null,"£m 09/10 prices",null,null,null,null,null,null,null,null,null,null,null,null,null,null,null,null,null,null,null,null,null,null,null,null,null,null,106.87462362607909,104.88023837095979,105.98829103985847,106.08676333447424,106.62347635966032,107.14277690446711,107.67727554452013,108.18354175688259]
[]
[null,null,null,"Variant allowances"]
[]
[null,null,null,null,{"$f":"Input!E90","v":"Allowed uncertain costs (Enhanced physical site security)"},null,"£m 09/10 prices",null,null,null,null,null,null,null,null,null,null,null,null,null,null,null,null,null,null,null,null,null,null,null,null,null,null,{"$f":"AH13","v":-1.2092019818719479},{"$f":"AI13","v":0.21213453381116881},0.41797344366272721,2.3324946307316878,12.804418133191946,9.9181918928894781,2.2324976937249348,0.46585095352675315]
[null,null,null,null,{"$f":"Input!E91","v":"Allocation to load related capex"},null,"%",null,null,null,null,null,null,null,null,null,null,null,null,null,null,null,null,null,null,null,null,null,null,null,null,null,null,0,0,0,0,0,0,0,0]
[null,null,null,null,{"$f":"Input!E92","v":"Allocation to non-load related capex - other"},null,"%",null,null,null,null,null,null,null,null,null,null,null,null,null,null,null,null,null,null,null,null,null,null,null,null,null,null,1,1,1,1,1,1,1,1]
[null,null,null,null,{"$f":"Input!E93","v":"Allocation to controllable opex"},null,"%",null,null,null,null,null,null,null,null,null,null,null,null,null,null,null,null,null,null,null,null,null,null,null,null,null,null,0,0,0,0,0,0,0,0]
[null,null,null,null,{"$f":"Input!E94","v":"Allocation to repex"},null,"%",null,null,null,null,null,null,null,null,null,null,null,null,null,null,null,null,null,null,null,null,null,null,null,null,null,null,0,0,0,0,0,0,0,0]
[]
[null,null,null,null,{"$f":"Input!E96","v":"Allowed uncertain costs (Specified street work costs)"},null,"£m 09/10 prices",null,null,null,null,null,null,null,null,null,null,null,null,null,null,null,null,null,null,null,null,null,null,null,null,null,null,{"$f":"AH14","v":2.5069237234056003},2.4294400914595151,2.3600138601103731,2.2945494341020423,2.2351258000404703,2.1743981151621057,2.1151581854026622,2.0555882416470448]
[null,null,null,null,{"$f":"Input!E97","v":"Allocation to load related capex"},null,"%",null,null,null,null,null,null,null,null,null,null,null,null,null,null,null,null,null,null,null,null,null,null,null,null,null,null,0.05,0.05,0.05,0.05,0.05,0.05,0.05,0.05]
[null,null,null,null,{"$f":"Input!E98","v":"Allocation to non-load related capex - other"},null,"%",null,null,null,null,null,null,null,null,null,null,null,null,null,null,null,null,null,null,null,null,null,null,null,null,null,null,0,0,0,0,0,0,0,0]
[null,null,null,null,{"$f":"Input!E99","v":"Allocation to controllable opex"},null,"%",null,null,null,null,null,null,null,null,null,null,null,null,null,null,null,null,null,null,null,null,null,null,null,null,null,null,0.3,0.3,0.3,0.3,0.3,0.3,0.3,0.3]
[null,null,null,null,{"$f":"Input!E100","v":"Allocation to repex"},null,"%",null,null,null,null,null,null,null,null,null,null,null,null,null,null,null,null,null,null,null,null,null,null,null,null,null,null,0.65,0.65,0.65,0.65,0.65,0.65,0.65,0.65]
[]
[null,null,null,null,{"$f":"Input!E102","v":"Allowed uncertain costs (Connection charging boundary change costs)"},null,"£m 09/10 prices",null,null,null,null,null,null,null,null,null,null,null,null,null,null,null,null,null,null,null,null,null,null,null,null,null,null,{"$f":"AH15","v":0},{"$f":"AI15","v":0},0,0,0,0,0,0]
[null,null,null,null,{"$f":"Input!E103","v":"Allocation to load related capex"},null,"%",null,null,null,null,null,null,null,null,null,null,null,null,null,null,null,null,null,null,null,null,null,null,null,null,null,null,0.9,0.9,0.9,0.9,0.9,0.9,0.9,0.9]
[null,null,null,null,{"$f":"Input!E104","v":"Allocation to non-load related capex - other"},null,"%",null,null,null,null,null,null,null,null,null,null,null,null,null,null,null,null,null,null,null,null,null,null,null,null,null,null,0,0,0,0,0,0,0,0]
[null,null,null,null,{"$f":"Input!E105","v":"Allocation to controllable opex"},null,"%",null,null,null,null,null,null,null,null,null,null,null,null,null,null,null,null,null,null,null,null,null,null,null,null,null,null,0.1,0.1,0.1,0.1,0.1,0.1,0.1,0.1]
[null,null,null,null,{"$f":"Input!E106","v":"Allocation to repex"},null,"%",null,null,null,null,null,null,null,null,null,null,null,null,null,null,null,null,null,null,null,null,null,null,null,null,null,null,0,0,0,0,0,0,0,0]
[]
[null,null,null,null,{"$f":"Input!E108","v":"Allowed uncertain costs (Fuel poor network extension scheme)"},null,"£m 09/10 prices",null,null,null,null,null,null,null,null,null,null,null,null,null,null,null,null,null,null,null,null,null,null,null,null,null,null,{"$f":"AH16","v":1.2250858862540879},{"$f":"AI16","v":1.2201855427090715},1.2331313377910282,1.7413241022553574,1.8283062074662149,1.7874479931648435,1.781980158397976,1.6853715130527143]
[null,null,null,null,{"$f":"Input!E109","v":"Allocation to load related capex"},null,"%",null,null,null,null,null,null,null,null,null,null,null,null,null,null,null,null,null,null,null,null,null,null,null,null,null,null,1,1,1,1,1,1,1,1]
[null,null,null,null,{"$f":"Input!E110","v":"Allocation to non-load related capex - other"},null,"%",null,null,null,null,null,null,null,null,null,null,null,null,null,null,null,null,null,null,null,null,null,null,null,null,null,null,0,0,0,0,0,0,0,0]
[null,null,null,null,{"$f":"Input!E111","v":"Allocation to controllable opex"},null,"%",null,null,null,null,null,null,null,null,null,null,null,null,null,null,null,null,null,null,null,null,null,null,null,null,null,null,0,0,0,0,0,0,0,0]
[null,null,null,null,{"$f":"Input!E112","v":"Allocation to repex"},null,"%",null,null,null,null,null,null,null,null,null,null,null,null,null,null,null,null,null,null,null,null,null,null,null,null,null,null,0,0,0,0,0,0,0,0]
[]
[null,null,null,null,{"$f":"Input!E114","v":"Allowed uncertain costs (Central agent)"},null,"£m 09/10 prices",null,null,null,null,null,null,null,null,null,null,null,null,null,null,null,null,null,null,null,null,null,null,null,null,null,null,{"$f":"AH17","v":-8.5304052177548328E-7},2.1238368020719989E-2,0.20500950116138306,0.20800442295421639,-2.6476908923078391,-3.9467600392068958,-5.1937163916232922,-5.8272863354473889]
[null,null,null,null,{"$f":"Input!E115","v":"Allocation to load related capex"},null,"%",null,null,null,null,null,null,null,null,null,null,null,null,null,null,null,null,null,null,null,null,null,null,null,null,null,null,0,0,0,0,0,0,0,0]
[null,null,null,null,{"$f":"Input!E116","v":"Allocation to non-load related capex - other"},null,"%",null,null,null,null,null,null,null,null,null,null,null,null,null,null,null,null,null,null,null,null,null,null,null,null,null,null,0.15,0.15,0.15,0.15,0.15,0.15,0.15,0.15]
[null,null,null,null,{"$f":"Input!E117","v":"Allocation to controllable opex"},null,"%",null,null,null,null,null,null,null,null,null,null,null,null,null,null,null,null,null,null,null,null,null,null,null,null,null,null,0.85,0.85,0.85,0.85,0.85,0.85,0.85,0.85]
[null,null,null,null,{"$f":"Input!E118","v":"Allocation to repex"},null,"%",null,null,null,null,null,null,null,null,null,null,null,null,null,null,null,null,null,null,null,null,null,null,null,null,null,null,0,0,0,0,0,0,0,0]
[]
[null,null,null,null,{"$f":"Input!E120","v":"Allowed uncertain costs (Smart metering roll out costs)"},null,"£m 09/10 prices",null,null,null,null,null,null,null,null,null,null,null,null,null,null,null,null,null,null,null,null,null,null,null,null,null,null,{"$f":"AH18","v":0},0,0,0,0,0,0,0]
[null,null,null,null,{"$f":"Input!E121","v":"Allocation to load related capex"},null,"%",null,null,null,null,null,null,null,null,null,null,null,null,null,null,null,null,null,null,null,null,null,null,null,null,null,null,0,0,0,0,0,0,0,0]
[null,null,null,null,{"$f":"Input!E122","v":"Allocation to non-load related capex - other"},null,"%",null,null,null,null,null,null,null,null,null,null,null,null,null,null,null,null,null,null,null,null,null,null,null,null,null,null,0,0,0,0,0,0,0,0]
[null,null,null,null,{"$f":"Input!E123","v":"Allocation to controllable opex"},null,"%",null,null,null,null,null,null,null,null,null,null,null,null,null,null,null,null,null,null,null,null,null,null,null,null,null,null,0.5,0.5,0.5,0.5,0.5,0.5,0.5,0.5]
[null,null,null,null,{"$f":"Input!E124","v":"Allocation to repex"},null,"%",null,null,null,null,null,null,null,null,null,null,null,null,null,null,null,null,null,null,null,null,null,null,null,null,null,null,0.5,0.5,0.5,0.5,0.5,0.5,0.5,0.5]
[]
[null,null,null,null,{"$f":"Input!E126","v":"Allowed uncertain costs (Mains and services replacement expenditure)"},null,"£m 09/10 prices",null,null,null,null,null,null,null,null,null,null,null,null,null,null,null,null,null,null,null,null,null,null,null,null,null,null,{"$f":"AH19","v":0.10560899999999998},{"$f":"AI19","v":0.182225},0.41686099999999998,0.94362146250000001,0.94362146250000001,0.94362146250000001,0.94362146250000001,0.94362146250000001]
[null,null,null,null,{"$f":"Input!E127","v":"Allocation to load related capex"},null,"%",null,null,null,null,null,null,null,null,null,null,null,null,null,null,null,null,null,null,null,null,null,null,null,null,null,null,0,0,0,0,0,0,0,0]
[null,null,null,null,{"$f":"Input!E128","v":"Allocation to non-load related capex - other"},null,"%",null,null,null,null,null,null,null,null,null,null,null,null,null,null,null,null,null,null,null,null,null,null,null,null,null,null,0,0,0,0,0,0,0,0]
[null,null,null,null,{"$f":"Input!E129","v":"Allocation to controllable opex"},null,"%",null,null,null,null,null,null,null,null,null,null,null,null,null,null,null,null,null,null,null,null,null,null,null,null,null,null,0,0,0,0,0,0,0,0]
[null,null,null,null,{"$f":"Input!E130","v":"Allocation to repex"},null,"%",null,null,null,null,null,null,null,null,null,null,null,null,null,null,null,null,null,null,null,null,null,null,null,null,null,null,1,1,1,1,1,1,1,1]
[]
[null,null,null,null,{"$f":"Input!E132","v":"Allowed uncertain Costs (Large load connection costs)"},null,"£m 09/10 prices",null,null,null,null,null,null,null,null,null,null,null,null,null,null,null,null,null,null,null,null,null,null,null,null,null,null,{"$f":"AH20","v":0},{"$f":"AI20","v":0},{"$f":"AJ20","v":0},0,{"$f":"AL20","v":0},0,0,0]
[null,null,null,null,{"$f":"Input!E133","v":"Allocation to load related capex"},null,"%",null,null,null,null,null,null,null,null,null,null,null,null,null,null,null,null,null,null,null,null,null,null,null,null,null,null,1,1,1,1,1,1,1,1]
[null,null,null,null,{"$f":"Input!E134","v":"Allocation to non-load related capex - other"},null,"%",null,null,null,null,null,null,null,null,null,null,null,null,null,null,null,null,null,null,null,null,null,null,null,null,null,null,0,0,0,0,0,0,0,0]
[null,null,null,null,{"$f":"Input!E135","v":"Allocation to controllable opex"},null,"%",null,null,null,null,null,null,null,null,null,null,null,null,null,null,null,null,null,null,null,null,null,null,null,null,null,null,0,0,0,0,0,0,0,0]
[null,null,null,null,{"$f":"Input!E136","v":"Allocation to repex"},null,"%",null,null,null,null,null,null,null,null,null,null,null,null,null,null,null,null,null,null,null,null,null,null,null,null,null,null,0,0,0,0,0,0,0,0]
[]
[null,null,null,null,{"$f":"Input!E138","v":"Allowed innovation roll-out mechanism"},null,"£m 09/10 prices",null,null,null,null,null,null,null,null,null,null,null,null,null,null,null,null,null,null,null,null,null,null,null,null,null,null,{"$f":"AH21","v":0},{"$f":"AI21","v":0},0,0,0,0,0,0]
[null,null,null,null,{"$f":"Input!E139","v":"Allocation to load related capex"},null,"%",null,null,null,null,null,null,null,null,null,null,null,null,null,null,null,null,null,null,null,null,null,null,null,null,null,null,0.5,0.5,0.5,0.5,0.5,0.5,0.5,0.5]
[null,null,null,null,{"$f":"Input!E140","v":"Allocation to non-load related capex - other"},null,"%",null,null,null,null,null,null,null,null,null,null,null,null,null,null,null,null,null,null,null,null,null,null,null,null,null,null,0,0,0,0,0,0,0,0]
[null,null,null,null,{"$f":"Input!E141","v":"Allocation to controllable opex"},null,"%",null,null,null,null,null,null,null,null,null,null,null,null,null,null,null,null,null,null,null,null,null,null,null,null,null,null,0.5,0.5,0.5,0.5,0.5,0.5,0.5,0.5]
[null,null,null,null,{"$f":"Input!E142","v":"Allocation to repex"},null,"%",null,null,null,null,null,null,null,null,null,null,null,null,null,null,null,null,null,null,null,null,null,null,null,null,null,null,0,0,0,0,0,0,0,0]
[]
[null,null,null,null,"Variant allowed load related capex",null,"£m 09/10 prices",null,null,null,null,null,null,null,null,null,null,null,null,null,null,null,null,null,null,null,null,null,null,null,null,null,null,{"$f":"(AH$90*AH91) + (AH$96*AH97) + (AH$102*AH103) + (AH$108*AH109) + (AH$114*AH115) + (AH$120*AH121)      + (AH$126 * AH127) + (AH$132*AH133) + (AH$138*AH139)","v":1.3504320724243679},{"$f":"(AI$90*AI91) + (AI$96*AI97) + (AI$102*AI103) + (AI$108*AI109) + (AI$114*AI115) + (AI$120*AI121)      + (AI$126 * AI127) + (AI$132*AI133) + (AI$138*AI139)","v":1.3416575472820473},1.3511320307965469,1.8560515739604595,1.9400624974682383,1.8961678989229487,1.887738067668109,1.7881509251350665]
[null,null,null,null,"Variant allowed non-load related capex - other",null,"£m 09/10 prices",null,null,null,null,null,null,null,null,null,null,null,null,null,null,null,null,null,null,null,null,null,null,null,null,null,null,{"$f":"(AH$90*AH92) + (AH$96*AH98) + (AH$102*AH104) + (AH$108*AH110) + (AH$114*AH116) + (AH$120*AH122)      + (AH$126 * AH128) + (AH$132*AH134) + (AH$138*AH140)","v":-1.2092021098280261},0.2153202890142768,0.44872486883693469,2.3636952941748204,12.407264499345771,9.3261778870084431,1.453440234981441,-0.40824199679035517]
[null,null,null,null,"Variant allowed controllable opex",null,"£m 09/10 prices",null,null,null,null,null,null,null,null,null,null,null,null,null,null,null,null,null,null,null,null,null,null,null,null,null,null,{"$f":"(AH$90*AH93) + (AH$96*AH99) + (AH$102*AH105) + (AH$108*AH111) + (AH$114*AH117) + (AH$120*AH123)      + (AH$126 * AH129) + (AH$132*AH135) + (AH$138*AH141)","v":0.75207639193723663},0.74688464025546641,0.88226223402028747,0.86516858974169664,-1.5799995184495221,-2.7024265987772296,-3.7801114772590001,-4.3365169126361671]
[null,null,null,null,"Variant allowed repex",null,"£m 09/10 prices",null,null,null,null,null,null,null,null,null,null,null,null,null,null,null,null,null,null,null,null,null,null,null,null,null,null,{"$f":"(AH$90*AH94) + (AH$96*AH100) + (AH$102*AH106) + (AH$108*AH112) + (AH$114*AH118) + (AH$120*AH124)      + (AH$126 * AH130) + (AH$132*AH136) + (AH$138*AH142)","v":1.7351094202136403},1.761361059448685,1.9508700090717426,2.4350785946663276,2.3964532325263059,2.3569802373553688,2.3184742830117306,2.2797538195705793]
[]
[null,null,null,"Actual"]
[]
[null,null,null,null,"Actual load related capex",null,"£m 09/10 prices",null,null,null,null,null,null,null,null,null,null,null,null,null,null,null,null,null,null,null,null,null,null,null,null,null,null,{"$f":"AH9","v":28.994705520563567},19.813505166441491,19.732860307816889,0,0,0,0,0]
[null,null,null,null,"Actual non-load related capex - other",null,"£m 09/10 prices",null,null,null,null,null,null,null,null,null,null,null,null,null,null,null,null,null,null,null,null,null,null,null,null,null,null,17.585404328298281,19.93498036545277,16.771849986032894,0,0,0,0,0]
[null,null,null,null,"Actual controllable opex",null,"£m 09/10 prices",null,null,null,null,null,null,null,null,null,null,null,null,null,null,null,null,null,null,null,null,null,null,null,null,null,null,126.88055213470393,124.57403585982755,118.85835822933886,0,0,0,0,0]
[null,null,null,null,"Actual repex",null,"£m 09/10 prices",null,null,null,null,null,null,null,null,null,null,null,null,null,null,null,null,null,null,null,null,null,null,null,null,null,null,80.98027960027801,87.292768607308034,91.558452979737709,0,0,0,0,0]
[]
[null,null,"Non-totex"]
[]
[null,null,null,null,"Non-controllable opex (Other)",null,"£m 09/10 prices",null,null,null,null,null,null,null,null,null,null,null,null,null,null,null,null,null,null,null,null,null,null,null,null,null,null,59.024859266885422,59.102970874651731,59.116944328634922,59.116944328634929,59.116944328634922,59.116944328634922,59.116944328634929,59.116944328634929]
[null,null,null,null,"Non-controllable opex (Exit Charges)",null,"£m 09/10 prices",null,null,null,null,null,null,null,null,null,null,null,null,null,null,null,null,null,null,null,null,null,null,null,null,null,null,{"$f":"AH22","v":24.741315956933445},{"$f":"AI22","v":24.720070711637774},24.679625652967726,24.679625652967726,24.679625652967726,24.679625652967726,24.679625652967726,24.679625652967726]
[null,null,null,null,"Non-controllable opex (Shrinkage)",null,"£m 09/10 prices",null,null,null,null,null,null,null,null,null,null,null,null,null,null,null,null,null,null,null,null,null,null,null,null,null,null,{"$f":"AH23","v":11.826470463750899},10.8,10.67,7.92,7.74,7.55,7.36,7.18]
[null,null,null,null,"Non-controllable opex",null,"£m 09/10 prices",null,null,null,null,null,null,null,null,null,null,null,null,null,null,null,null,null,null,null,null,null,null,null,null,null,null,{"$f":"SUM(AH158:AH160)","v":95.592645687569757},{"$f":"SUM(AI158:AI160)","v":94.623041586289503},94.466569981602646,91.71656998160266,91.536569981602639,91.346569981602642,91.156569981602658,90.976569981602665]
[]
[null,"Direct allowed revenue terms (DARTs)"]
[]
[null,null,null,null,{"$f":"E26","v":"Pension scheme administration and Pension Protection Fund Levy"},null,"£m 09/10 prices",null,null,null,null,null,null,null,null,null,null,null,null,null,null,null,null,null,null,null,null,null,null,null,null,null,null,{"$f":"AH26","v":9.3511641421976086E-2},9.3511641421976086E-2,9.3511641421976086E-2,9.3511641421976086E-2,9.3511641421976086E-2,9.3511641421976086E-2,9.3511641421976086E-2,9.3511641421976086E-2]
[null,null,null,null,{"$f":"E27","v":"Pension scheme deficit revenue allowances"},null,"£m 09/10 prices",null,null,null,null,null,null,null,null,null,null,null,null,null,null,null,null,null,null,null,null,null,null,null,null,null,null,{"$f":"AH27","v":4.3561575242036632},4.3561575242036632,3.4866155722048706,3.4866155722048706,3.4866155722048706,3.4866155722048706,3.4866155722048706,3.4866155722048706]
[]
[null,null,null,null,"Pension true-up from previous price controls",null,"£m 09/10 prices",null,1.7835543296134428,null,null,null,null,null,null,null,null,null,null,null,null,null,null,null,null,null,null,null,null,null,null,null,null,{"$f":"($I$168/8)","v":0.22294429120168036},{"$f":"($I$168/8)*(1+$AI$39)","v":0.23211398989880544},{"$f":"($I$168/8)*(1+$AI$39)*(1+$AJ$39)","v":0.24140435234450514},{"$f":"($I$168/8)*(1+$AI$39)*(1+$AJ$39)*(1+$AK$39)","v":0.25079980973775329},{"$f":"($I$168/8)*(1+$AI$39)*(1+$AJ$39)*(1+$AK$39)*(1+$AL$39)","v":0.26030010653061936},{"$f":"($I$168/8)*(1+$AI$39)*(1+$AJ$39)*(1+$AK$39)*(1+$AL$39)*(1+$AM$39)","v":0.27016027456599917},{"$f":"($I$168/8)*(1+$AI$39)*(1+$AJ$39)*(1+$AK$39)*(1+$AL$39)*(1+$AM$39)*(1+$AN$39)","v":0.28039394576655918},{"$f":"($I$168/8)*(1+$AI$39)*(1+$AJ$39)*(1+$AK$39)*(1+$AL$39)*(1+$AM$39)*(1+$AN$39)*(1+$AO$39)","v":0.29101526843219644}]
[]
[null,null,null,null,{"$f":"Input!E170","v":"Revenue adjustment from previous controls (Base)"},null,"£m 09/10 prices",null,-4.7633532603133037,null,null,null,null,null,null,null,null,null,null,null,null,null,null,null,null,null,null,null,null,null,null,null,null,{"$f":"($I$170/8)","v":-0.59541915753916297},{"$f":"($I$170/8)*(1+$AI$39)","v":-0.61990874748874869},{"$f":"($I$170/8)*(1+$AI$39)*(1+$AJ$39)","v":-0.64472059510698587},{"$f":"($I$170/8)*(1+$AI$39)*(1+$AJ$39)*(1+$AK$39)","v":-0.66981312066854981},{"$f":"($I$170/8)*(1+$AI$39)*(1+$AJ$39)*(1+$AK$39)*(1+$AL$39)","v":-0.69518564167947439},{"$f":"($I$170/8)*(1+$AI$39)*(1+$AJ$39)*(1+$AK$39)*(1+$AL$39)*(1+$AM$39)","v":-0.72151927378629277},{"$f":"($I$170/8)*(1+$AI$39)*(1+$AJ$39)*(1+$AK$39)*(1+$AL$39)*(1+$AM$39)*(1+$AN$39)","v":-0.74885042387731748},{"$f":"($I$170/8)*(1+$AI$39)*(1+$AJ$39)*(1+$AK$39)*(1+$AL$39)*(1+$AM$39)*(1+$AN$39)*(1+$AO$39)","v":-0.77721687793379024}]
[null,null,null,null,{"$f":"Input!E171","v":"Legacy price control allowed revenue adjustment"},null,"£m 09/10 prices",null,null,null,null,null,null,null,null,null,null,null,null,null,null,null,null,null,null,null,null,null,null,null,null,null,null,{"$f":"($AH$28/8)","v":0.15107595169219987},{"$f":"($AH$28/8)*(1+$AI$39)","v":0.15728970558530003},{"$f":"($AH$28/8)*(1+$AI$39)*(1+$AJ$39)","v":0.16358522605135167},{"$f":"($AH$28/8)*(1+$AI$39)*(1+$AJ$39)*(1+$AK$39)","v":0.16995196304927029},{"$f":"($AH$28/8)*(1+$AI$39)*(1+$AJ$39)*(1+$AK$39)*(1+$AL$39)","v":0.17638974340957664},{"$f":"($AH$28/8)*(1+$AI$39)*(1+$AJ$39)*(1+$AK$39)*(1+$AL$39)*(1+$AM$39)","v":0.18307138688993138},{"$f":"($AH$28/8)*(1+$AI$39)*(1+$AJ$39)*(1+$AK$39)*(1+$AL$39)*(1+$AM$39)*(1+$AN$39)","v":0.19000613102532196},{"$f":"($AH$28/8)*(1+$AI$39)*(1+$AJ$39)*(1+$AK$39)*(1+$AL$39)*(1+$AM$39)*(1+$AN$39)*(1+$AO$39)","v":0.19720356326856114}]
[null,null,null,null,"Revenue adjustment from previous controls",null,"£m 09/10 prices",null,null,null,null,null,null,null,null,null,null,null,null,null,null,null,null,null,null,null,null,null,null,null,null,null,null,{"$f":"AH170+AH171","v":-0.44434320584696307},{"$f":"AI170+AI171","v":-0.46261904190344866},-0.4811353690556342,-0.49986115761927952,-0.51879589826989769,-0.53844788689636136,-0.55884429285199555,-0.5800133146652291]
[]
[null,null,null,null,"Excluded services revenue",null,"£m 09/10 prices",null,null,null,null,null,null,null,null,null,null,null,null,null,null,null,null,null,null,null,null,null,null,null,null,null,null,4.0367514872889485,3.7526183556097119,3.5656868305579503,3.5730210938536877,3.5723799712838513,3.5727969308881065,3.5805934286425245,3.5339308527476048]
[null,null,null,null,"Identified excluded services costs",null,"£m 09/10 prices",null,null,null,null,null,null,null,null,null,null,null,null,null,null,null,null,null,null,null,null,null,null,null,null,null,null,4.0367514872889485,3.7526183556097119,3.5656868305579503,3.5730210938536877,3.5723799712838513,3.5727969308881065,3.5805934286425245,3.5339308527476048]
[null,null,null,null,"Excluded services",null,"£m 09/10 prices",null,null,null,null,null,null,null,null,null,null,null,null,null,null,null,null,null,null,null,null,null,null,null,null,null,null,{"$f":"SUM(AH174, -AH175)","v":0},{"$f":"SUM(AI174, -AI175)","v":0},0,0,0,0,0,0]
[]
[null,"RAV and assets"]
[]
[null,null,"Pre-vesting assets"]
[]
[null,null,null,null,"Pre-vesting RAV cost opening balance brought forward (before transfers)",null,"£m 09/10 prices",null,null,null,null,null,null,null,null,null,null,null,null,null,null,null,null,null,null,null,null,null,null,null,null,null,null,2382.1513055087926]
[null,null,null,null,"Pre-vesting RAV cumulative depreciation opening balance brought forward (before transfers)",null,"£m 09/10 prices",null,null,null,null,null,null,null,null,null,null,null,null,null,null,null,null,null,null,null,null,null,null,null,null,null,null,837.79512189384059]
[]
[null,null,null,null,"Pre-vesting asset life",null,"years",null,56]
[null,null,null,null,"Pre-vesting RAV disposals",null,"£m 09/10 prices",null,null,null,null,null,null,null,null,null,null,null,null,null,null,null,null,null,null,null,null,null,null,null,null,null,null,0.47215324304065037,0.31603274923678387,-0.19054376862788389,-0.45365214024176076,0,0,0,0]
[null,null,null,null,"RAV adjustments from previous price controls (not modelled in PCFM)",null,"years",null,null,null,null,null,null,null,null,null,null,null,null,null,null,null,null,null,null,null,null,null,null,null,null,null,null,45,44,43,42,41,40,39,38]
[]
[null,null,"Post-vesting assets"]
[]
[null,null,null,null,"Gas distribution"]
[null,null,null,null,{"$f":"Input!E192","v":"GD post-vesting asset life"},null,"years",null,45]
[null,null,null,null,{"$f":"Input!E193","v":"GD smoothing profile for recovery of backlog depreciation"},null,"years",null,null,null,null,null,null,null,null,null,null,null,null,null,null,null,null,null,null,null,null,null,null,null,null,null,null,0.15,0.15,2.5000000000000001E-2,0,0.05,0.125,0.2,0.3]
[null,null,null,null,{"$f":"Input!E194","v":"GD start of smoothing period"},null,"year ending",null,"2014-03-31"]
[null,null,null,null,{"$f":"Input!E195","v":"Pre-RIIO net additions to RAV"},null,"£m 09/10 prices",null,null,">",null,null,null,null,null,null,null,null,null,null,null,null,81.90091088924332,58.77200426704227,60.112810448039433,60.14993076431395,56.218061398377856,129.32018756832116,107.48059043304164,122.51660767666124,157.98474018687872,152.25907013145695,110.9381496111678]
[null,null,null,null,"LRAV",null,"£m 09/10 prices",null,null,null,null,null,null,null,null,null,null,null,null,null,null,null,null,null,null,null,null,null,null,null,null,null,null,{"$f":"AH29","v":-3.4376013621925008}]
[null,null,null,null,"RIIO post-vesting RAV additions",null,"£m 09/10 prices",null,null,null,null,null,null,null,null,null,null,null,null,null,null,null,null,null,null,null,null,null,null,null,null,null,null,11.871297238443168,0,0,0,0,0,0,0]
[null,null,null,null,"RIIO post-vesting RAV disposals",null,null,null,null,null,null,null,null,null,null,null,null,null,null,null,null,null,null,null,null,null,null,null,null,null,null,null,null,0,0,-0.19054376862788389,-0.34342791438514897,-8.8433447546600652E-2,-1.3,-4.4000000000000004,-1.7]
[null,null,null,null,{"$f":"Input!E199","v":"Pre-RIIO transfers to depreciation"},null,"£m 09/10 prices",null,null,">",null,null,null,null,null,null,null,null,null,null,null,0,0,0,0,0,0,2.0135423360226272,2.0734923877904725,1.7212400495067763,4.3498239965769017,3.9304722646366335,0]
[]
[null,null,"Fuel Poor"]
[]
[null,null,null,null,"Post-vesting asset life",null,"years",null,45]
[null,null,null,null,"Years additional customer discount applied",null,"years",null,5]
[]
[null,null,null,null,"NPV of future transportation revenue",null,"£m 09/10 prices",null,null,">",null,null,null,null,null,null,null,null,null,null,null,null,null,null,null,null,null,null,0,0,0,0,0]
[null,null,null,null,"Community based schemes actual capex spend",null,"£m 09/10 prices",null,null,">",null,null,null,null,null,null,null,null,null,null,null,null,null,null,null,null,null,null,0,0.43814887890642806,0.60252655168967606,1.3727027465475992,1.36466763149376]
[]
[null,null,null,null,"One off schemes actual capex spend",null,"£m 09/10 prices",null,null,">",null,null,null,null,null,null,null,null,null,null,null,null,null,null,null,null,null,null,0,1.5467310097669948,1.2578827941075721,0.96462572780117928,0]
[]
[null,"Tax"]
[]
[null,null,"Tax policy"]
[]
[null,null,null,null,{"$f":"E24","v":"Tax liability allowance adjustments - gearing/interest costs"},null,"£m nominal",null,null,null,null,null,null,null,null,null,null,null,null,null,null,null,null,null,null,null,null,null,null,null,null,null,null,{"$f":"AH24","v":0},{"$f":"AI24","v":0},0,0,0,0,0,0]
[null,null,null,null,{"$f":"E25","v":"Tax liability allowance adjustments - driven by tax trigger events"},null,"£m 09/10 prices",null,null,null,null,null,null,null,null,null,null,null,null,null,null,null,null,null,null,null,null,null,null,null,null,null,null,{"$f":"AH25","v":0},0,-0.36198699073049312,-0.38204674206826184,-2.5688584201412965,0,0,0]
[]
[null,null,null,null,"Corporation tax rate",null,"%",null,null,">",null,null,null,null,null,null,null,null,null,null,null,null,null,null,0.3,0.3,0.3,0.3,0.28000000000000003,0.28000000000000003,0.28000000000000003,0.26,0.24,0.23,0.21,0.21,0.21,0.21,0.21,0.21,0.21]
[]
[null,null,null,null,"General pool capital allowance rate",null,"%",null,null,">",null,null,null,null,null,null,null,null,null,null,null,0.25,0.25,0.25,0.25,0.25,0.25,0.25,0.2,0.2,0.2,0.2,0.18000000000000002,0.18000000000000002,0.18000000000000002,0.18000000000000002,0.18000000000000002,0.18000000000000002,0.18000000000000002,0.18000000000000002,0.18000000000000002]
[null,null,null,null,"Special Rates capital allowance rate",null,"%",null,null,">",null,null,null,null,null,null,null,null,null,null,null,0.06,0.06,0.06,0.06,0.06,0.06,0.06,0.1,0.1,0.1,0.1,0.08,0.08,0.08,0.08,0.08,0.08,0.08,0.08,0.08]
[null,null,null,null,"Deferred Revenue Expenditure capital allowance rate",null,"%",null,null,">",null,null,null,null,null,null,null,null,null,null,null,null,null,null,null,null,null,null,null,null,null,null,null,2.2200000000000001E-2,2.2200000000000001E-2,2.2200000000000001E-2,2.2200000000000001E-2,2.2200000000000001E-2,2.2200000000000001E-2,2.2200000000000001E-2,2.2200000000000001E-2]
[]
[null,null,"Capital allowances and tax losses"]
[]
[null,null,null,null,"General pool capital allowance opening balance brought forward",null,"£m nominal",null,null,null,null,null,null,null,null,null,null,null,null,null,null,null,null,null,null,null,null,null,null,null,null,null,null,93.347165715101582]
[]
[null,null,null,null,"Special Rate capital allowance opening balance brought forward",null,"£m nominal",null,null,null,null,null,null,null,null,null,null,null,null,null,null,null,null,null,null,null,null,null,null,null,null,null,null,246.88306659693257]
[]
[null,null,null,null,"Deferred revenue expenditure opening balance brought forward",null,"£m nominal",null,null,null,null,null,null,null,null,null,null,null,null,null,null,null,null,null,null,null,null,null,null,null,null,null,null,10.406944779971756]
[]
[null,null,null,null,"Tax loss brought forward",null,"£m nominal",null,null,null,null,null,null,null,null,null,null,null,null,null,null,null,null,null,null,null,null,null,null,null,null,null,null,0]
[]
[null,null,"Tax pool allocation"]
[]
[null,null,null,"Allocation to \"General\" pool"]
[]
[null,null,null,null,"Load Related",null,"%",null,null,null,null,null,null,null,null,null,null,null,null,null,null,null,null,null,null,null,null,null,null,null,null,null,null,2.8999999999999998E-3,2.8999999999999998E-3,2.8999999999999998E-3,2.8999999999999998E-3,2.8999999999999998E-3,2.8999999999999998E-3,2.8999999999999998E-3,2.8999999999999998E-3]
[null,null,null,null,"Non-Load Related - other",null,"%",null,null,null,null,null,null,null,null,null,null,null,null,null,null,null,null,null,null,null,null,null,null,null,null,null,null,0.89756098390240724,0.89756098390240724,0.89756098390240724,0.89756098390240724,0.89756098390240724,0.89756098390240724,0.89756098390240724,0.89756098390240724]
[null,null,null,null,"Opex",null,"%",null,null,null,null,null,null,null,null,null,null,null,null,null,null,null,null,null,null,null,null,null,null,null,null,null,null,0,0,0,0,0,0,0,0]
[null,null,null,null,"Repex",null,"%",null,null,null,null,null,null,null,null,null,null,null,null,null,null,null,null,null,null,null,null,null,null,null,null,null,null,0,0,0,0,0,0,0,0]
[]
[null,null,null,"Allocation to \"Special Rate\" pool"]
[]
[null,null,null,null,"Load Related",null,"%",null,null,null,null,null,null,null,null,null,null,null,null,null,null,null,null,null,null,null,null,null,null,null,null,null,null,0.98870000000000002,0.98870000000000002,0.98870000000000002,0.98870000000000002,0.98870000000000002,0.98870000000000002,0.98870000000000002,0.98870000000000002]
[null,null,null,null,"Non-Load Related - other",null,"%",null,null,null,null,null,null,null,null,null,null,null,null,null,null,null,null,null,null,null,null,null,null,null,null,null,null,1.6271113794003381E-2,1.6271113794003381E-2,1.6271113794003381E-2,1.6271113794003381E-2,1.6271113794003381E-2,1.6271113794003381E-2,1.6271113794003381E-2,1.6271113794003381E-2]
[null,null,null,null,"Opex",null,"%",null,null,null,null,null,null,null,null,null,null,null,null,null,null,null,null,null,null,null,null,null,null,null,null,null,null,0,0,0,0,0,0,0,0]
[null,null,null,null,"Repex",null,"%",null,null,null,null,null,null,null,null,null,null,null,null,null,null,null,null,null,null,null,null,null,null,null,null,null,null,0,0,0,0,0,0,0,0]
[]
[null,null,null,"Allocation to \"Deferred Revenue\" pool"]
[]
[null,null,null,null,"Load Related",null,"%",null,null,null,null,null,null,null,null,null,null,null,null,null,null,null,null,null,null,null,null,null,null,null,null,null,null,0,0,0,0,0,0,0,0]
[null,null,null,null,"Non-Load Related - other",null,"%",null,null,null,null,null,null,null,null,null,null,null,null,null,null,null,null,null,null,null,null,null,null,null,null,null,null,0,0,0,0,0,0,0,0]
[null,null,null,null,"Opex",null,"%",null,null,null,null,null,null,null,null,null,null,null,null,null,null,null,null,null,null,null,null,null,null,null,null,null,null,0,0,0,0,0,0,0,0]
[null,null,null,null,"Repex",null,"%",null,null,null,null,null,null,null,null,null,null,null,null,null,null,null,null,null,null,null,null,null,null,null,null,null,null,0,0,1,1,1,1,1,1]
[]
[null,null,null,"Allocation to \"Revenue\" pool"]
[]
[null,null,null,null,"Load Related",null,"%",null,null,null,null,null,null,null,null,null,null,null,null,null,null,null,null,null,null,null,null,null,null,null,null,null,null,0,0,0,0,0,0,0,0]
[null,null,null,null,"Non-Load Related - other",null,"%",null,null,null,null,null,null,null,null,null,null,null,null,null,null,null,null,null,null,null,null,null,null,null,null,null,null,0,0,0,0,0,0,0,0]
[null,null,null,null,"Opex",null,"%",null,null,null,null,null,null,null,null,null,null,null,null,null,null,null,null,null,null,null,null,null,null,null,null,null,null,1,1,1,1,1,1,1,1]
[null,null,null,null,"Repex",null,"%",null,null,null,null,null,null,null,null,null,null,null,null,null,null,null,null,null,null,null,null,null,null,null,null,null,null,1,1,0,0,0,0,0,0]
[]
[null,null,null,"Allocation to \"Non Qualifying\" pool"]
[]
[null,null,null,null,"Load Related",null,"%",null,null,null,null,null,null,null,null,null,null,null,null,null,null,null,null,null,null,null,null,null,null,null,null,null,null,8.4000000000000012E-3,8.4000000000000012E-3,8.4000000000000012E-3,8.4000000000000012E-3,8.4000000000000012E-3,8.4000000000000012E-3,8.4000000000000012E-3,8.4000000000000012E-3]
[null,null,null,null,"Non-Load Related - other",null,"%",null,null,null,null,null,null,null,null,null,null,null,null,null,null,null,null,null,null,null,null,null,null,null,null,null,null,8.6167902303589283E-2,8.6167902303589283E-2,8.6167902303589283E-2,8.6167902303589283E-2,8.6167902303589283E-2,8.6167902303589283E-2,8.6167902303589283E-2,8.6167902303589283E-2]
[null,null,null,null,"Opex",null,"%",null,null,null,null,null,null,null,null,null,null,null,null,null,null,null,null,null,null,null,null,null,null,null,null,null,null,0,0,0,0,0,0,0,0]
[null,null,null,null,"Repex",null,"%",null,null,null,null,null,null,null,null,null,null,null,null,null,null,null,null,null,null,null,null,null,null,null,null,null,null,0,0,0,0,0,0,0,0]
[]
[null,null,null,"Allocation check"]
[null,null,null,"Note: All categories should equal 100%"]
[]
[null,null,null,null,"Load Related",null,"%",null,null,null,null,null,null,null,null,null,null,null,null,null,null,null,null,null,null,null,null,null,null,null,null,null,null,{"$f":"AH238+AH245+AH252+AH259+AH266","v":1},1,1,1,1,1,1,1]
[null,null,null,null,"Non-Load Related - other",null,"%",null,null,null,null,null,null,null,null,null,null,null,null,null,null,null,null,null,null,null,null,null,null,null,null,null,null,0.99999999999999989,0.99999999999999989,0.99999999999999989,0.99999999999999989,0.99999999999999989,0.99999999999999989,0.99999999999999989,0.99999999999999989]
[null,null,null,null,"Opex",null,"%",null,null,null,null,null,null,null,null,null,null,null,null,null,null,null,null,null,null,null,null,null,null,null,null,null,null,1,1,1,1,1,1,1,1]
[null,null,null,null,"Repex",null,"%",null,null,null,null,null,null,null,null,null,null,null,null,null,null,null,null,null,null,null,null,null,null,null,null,null,null,1,1,1,1,1,1,1,1]
[]
[null,null,null,"Tax Trigger Deadbands"]
[]
[null,null,null,null,"Tax Trigger Deadband",null,"£m 09/10 prices",null,null,null,null,null,null,null,null,null,null,null,null,null,null,null,null,null,null,null,null,null,null,null,null,null,null,1.7716944899109435,1.7088269950491191,1.7194686253338036,1.6881202376933113,1.6841106605557123,1.6805617863606885,1.6712047288850487,1.6750504232911787]
[]
[null,null,null,"SIU Costs"]
[]
[null,null,null,null,"SIU Costs",null,"£m 09/10 prices",null,null,null,null,null,null,null,null,null,null,null,null,null,null,null,null,null,null,null,null,null,null,null,null,null,null,0,0,0,0,0,0,0,0]
[]
[null,null,null,"Additional Income Workings"]
[]
[null,null,null,null,"Original allowed totex",null,null,null,null,null,null,null,null,null,null,null,null,null,null,null,null,null,null,null,null,null,null,null,null,null,null,null,null,274.98920670282911,262.48418875289588,258.4591897650065,259.61608363900569,260.19038715218983,258.34084353126093,254.45578805077707,252.0851987144147]
[null,null,null,null,"Total allowed totex",null,null,null,2080.6208863083798]
[]
[null,"End of sheet"]

{"sheet":"London","index":17,"n_rows":292,"n_cols":41,"rows_kept":292,"cut":false,"hidden":false,"merged":[]}
["Input"]
[null,"London"]
[null,null,null,null,"Parameter","Licence condition","Units","Term","Constant",null,null,null,null,null,null,null,null,null,null,null,null,null,null,null,null,null,null,null,null,null,null,null,null,"Annual values"]
[null,null,null,null,"PCFM year ending",{"$f":"Cover!C3","v":"GD1 PCFM for use in AIP 2018.xlsm"},null,null,{"$f":"UserInterface!$G$10","v":"2019-03-31"},null,"1991-03-31","1992-03-31","1993-03-31","1994-03-31","1995-03-31","1996-03-31","1997-03-31","1998-03-31","1999-03-31","2000-03-31","2001-03-31","2002-03-31","2003-03-31","2004-03-31","2005-03-31","2006-03-31","2007-03-31","2008-03-31","2009-03-31","2010-03-31","2011-03-31","2012-03-31","2013-03-31","2014-03-31","2015-03-31","2016-03-31","2017-03-31","2018-03-31","2019-03-31","2020-03-31","2021-03-31"]
[]
[null,"PCFM Variable Values Table"]
[]
[null,null,null,null,{"$f":"Input!E8","v":"Allowed percentage cost of debt"},{"$f":"Input!F8","v":"3C"},"annual real %",{"$f":"Input!H8","v":"CDE"},null,null,null,null,null,null,null,null,null,null,null,null,null,null,null,null,null,null,null,null,null,null,null,null,null,2.92E-2,2.7199999999999998E-2,2.5499999999999998E-2,2.3800000000000002E-2,2.2200000000000001E-2,2.2200000000000001E-2,2.2200000000000001E-2,2.2200000000000001E-2]
[null,null,null,null,{"$f":"Input!E9","v":"Actual load related capex"},{"$f":"Input!F9","v":"3B"},"£m 09/10 prices",{"$f":"Input!H9","v":"ALC"},null,null,null,null,null,null,null,null,null,null,null,null,null,null,null,null,null,null,null,null,null,null,null,null,null,23.995762316480469,13.268965867216544,11.380832643870306,0,0,0,0,0]
[null,null,null,null,{"$f":"Input!E10","v":"Actual other capex"},{"$f":"Input!F10","v":"3B"},"£m 09/10 prices",{"$f":"Input!H10","v":"AOC"},null,null,null,null,null,null,null,null,null,null,null,null,null,null,null,null,null,null,null,null,null,null,null,null,null,12.677373188188396,10.773302219857218,10.19879876501003,0,0,0,0,0]
[null,null,null,null,{"$f":"Input!E11","v":"Actual controllable opex"},{"$f":"Input!F11","v":"3B"},"£m 09/10 prices",{"$f":"Input!H11","v":"ACO"},null,null,null,null,null,null,null,null,null,null,null,null,null,null,null,null,null,null,null,null,null,null,null,null,null,86.764469282068248,84.760815799265131,84.530318235270073,0,0,0,0,0]
[null,null,null,null,{"$f":"Input!E12","v":"Actual replacement expenditure"},{"$f":"Input!F12","v":"3B"},"£m 09/10 prices",{"$f":"Input!H12","v":"ARE"},null,null,null,null,null,null,null,null,null,null,null,null,null,null,null,null,null,null,null,null,null,null,null,null,null,77.544989602788419,77.06456040466864,91.81948654297986,0,0,0,0,0]
[null,null,null,null,{"$f":"Input!E13","v":"Allowed uncertain costs (Enhanced physical site security)"},{"$f":"Input!F13","v":"3F"},"£m 09/10 prices",{"$f":"Input!H13","v":"IAEEPS"},null,null,null,null,null,null,null,null,null,null,null,null,null,null,null,null,null,null,null,null,null,null,null,null,null,-0.40736865046597398,-4.455442246753246E-4,0.17378074191194803,1.7753516655689605,7.0058433106293512,3.9274513242759737,1.5395612553759741,0.27332793144662326]
[null,null,null,null,{"$f":"Input!E14","v":"Allowed uncertain costs (Specified street work costs)"},{"$f":"Input!F14","v":"3F"},"£m 09/10 prices",{"$f":"Input!H14","v":"IAESW"},null,null,null,null,null,null,null,null,null,null,null,null,null,null,null,null,null,null,null,null,null,null,null,null,null,10.223041082309116,10.736415999485061,10.563101204232462,10.083347958600857,10.102017494138307,9.8240411790588276,9.7681793740864187,9.7001688492033207]
[null,null,null,null,{"$f":"Input!E15","v":"Allowed uncertain costs (Connection charging boundary change costs)"},{"$f":"Input!F15","v":"3F"},"£m 09/10 prices",{"$f":"Input!H15","v":"IAECCB"},null,null,null,null,null,null,null,null,null,null,null,null,null,null,null,null,null,null,null,null,null,null,null,null,null,0,0,0,0,0,0,0,0]
[null,null,null,null,{"$f":"Input!E16","v":"Allowed uncertain costs (Fuel poor network extension scheme)"},{"$f":"Input!F16","v":"3F"},"£m 09/10 prices",{"$f":"Input!H16","v":"IAEFP"},null,null,null,null,null,null,null,null,null,null,null,null,null,null,null,null,null,null,null,null,null,null,null,null,null,0.51496456612226549,0.51290470785777653,0.51085308902634541,0.53873965765084231,0.56639496007691892,0.5641293802366113,0.56187286271566483,0.53017140435612842]
[null,null,null,null,{"$f":"Input!E17","v":"Allowed uncertain costs (Central agent)"},{"$f":"Input!F17","v":"3F"},"£m 09/10 prices",{"$f":"Input!H17","v":"IAECA"},null,null,null,null,null,null,null,null,null,null,null,null,null,null,null,null,null,null,null,null,null,null,null,null,null,-4.7611272879777289E-7,1.2095435792279119E-2,0.11675459075445449,0.1184602218127182,-1.4527320433320821,-2.1885604672833585,-2.884444952843733,-3.2406888685063873]
[null,null,null,null,{"$f":"Input!E18","v":"Allowed uncertain costs (Smart metering roll out costs)"},{"$f":"Input!F18","v":"3F"},"£m 09/10 prices",{"$f":"Input!H18","v":"IAESM"},null,null,null,null,null,null,null,null,null,null,null,null,null,null,null,null,null,null,null,null,null,null,null,null,null,0,0,0,0,0,0,0,0]
[null,null,null,null,{"$f":"Input!E19","v":"Allowed uncertain costs (Mains and services replacement expenditure)"},{"$f":"Input!F19","v":"3E"},"£m 09/10 prices",{"$f":"Input!H19","v":"RE"},null,null,null,null,null,null,null,null,null,null,null,null,null,null,null,null,null,null,null,null,null,null,null,null,null,4.0832E-2,0.47208499999999998,1.2386299999999999,3.1604773750000006,3.1604773750000006,3.1604773750000006,3.1604773750000006,3.1604773750000006]
[null,null,null,null,{"$f":"Input!E20","v":"Allowed uncertain Costs (Large load connection costs)"},{"$f":"Input!F20","v":"3F"},"£m 09/10 prices",{"$f":"Input!H20","v":"IAELLC"},null,null,null,null,null,null,null,null,null,null,null,null,null,null,null,null,null,null,null,null,null,null,null,null,null,0,0,0,0,0,0,0,0]
[null,null,null,null,{"$f":"Input!E21","v":"Allowed innovation roll-out mechanism"},{"$f":"Input!F21","v":"3D"},"£m 09/10 prices",{"$f":"Input!H21","v":"IRM"},null,null,null,null,null,null,null,null,null,null,null,null,null,null,null,null,null,null,null,null,null,null,null,null,null,0,0,0,0,0,0,0,0]
[null,null,null,null,{"$f":"Input!E22","v":"NTS Exit Capacity costs"},{"$f":"Input!F22","v":"1D"},"£m 09/10 prices",{"$f":"Input!H22","v":"AEx"},null,null,null,null,null,null,null,null,null,null,null,null,null,null,null,null,null,null,null,null,null,null,null,null,null,17.153616166644156,17.140543243029676,17.118658162821941,17.118658162821941,17.118658162821941,17.118658162821941,17.118658162821941,17.118658162821941]
[null,null,null,null,{"$f":"Input!E23","v":"Shrinkage costs"},{"$f":"Input!F23","v":"1F"},"£m 09/10 prices",{"$f":"Input!H23","v":"ALSC"},null,null,null,null,null,null,null,null,null,null,null,null,null,null,null,null,null,null,null,null,null,null,null,null,null,6.1229830480576952,5.46,5.35,4.3,4.1900000000000004,4.07,3.96,3.85]
[null,null,null,null,{"$f":"Input!E24","v":"Tax liability allowance adjustments - gearing/interest costs"},{"$f":"Input!F24","v":"3C"},"£m nominal",{"$f":"Input!H24","v":"TGIE"},null,null,null,null,null,null,null,null,null,null,null,null,null,null,null,null,null,null,null,null,null,null,null,null,null,0,0,0,0,0,0,0,0]
[null,null,null,null,{"$f":"Input!E25","v":"Tax liability allowance adjustments - driven by tax trigger events"},{"$f":"Input!F25","v":"3C"},"£m 09/10 prices",{"$f":"Input!H25","v":"TTE"},null,null,null,null,null,null,null,null,null,null,null,null,null,null,null,null,null,null,null,null,null,null,null,null,null,0,0,-0.53198671371840334,-0.50596497075623148,-2.1106130368344047,0,0,0]
[null,null,null,null,{"$f":"Input!E26","v":"Pension scheme administration and Pension Protection Fund Levy"},{"$f":"Input!F26","v":"3C"},"£m 09/10 prices",{"$f":"Input!H26","v":"APFE"},null,null,null,null,null,null,null,null,null,null,null,null,null,null,null,null,null,null,null,null,null,null,null,null,null,0.06,6.1088787271880572E-2,6.1088787271880572E-2,6.1088787271880572E-2,6.1088787271880572E-2,6.1088787271880572E-2,6.1088787271880572E-2,6.1088787271880572E-2]
[null,null,null,null,{"$f":"Input!E27","v":"Pension scheme deficit revenue allowances"},{"$f":"Input!F27","v":"3C"},"£m 09/10 prices",{"$f":"Input!H27","v":"EDE"},null,null,null,null,null,null,null,null,null,null,null,null,null,null,null,null,null,null,null,null,null,null,null,null,null,3.0156806272016592,3.0156806272016592,2.3830983401466872,2.3830983401466872,2.3830983401466872,2.3830983401466872,2.3830983401466872,2.3830983401466872]
[null,null,null,null,{"$f":"Input!E28","v":"Legacy price control allowed revenue adjustment"},{"$f":"Input!F28","v":"3A"},"£m 09/10 prices",{"$f":"Input!H28","v":"LAR"},null,null,null,null,null,null,null,null,null,null,null,null,null,null,null,null,null,null,null,null,null,null,null,null,null,-0.57534917156119225]
[null,null,null,null,{"$f":"Input!E29","v":"Legacy price control RAV additions adjustment"},{"$f":"Input!F29","v":"3A"},"£m 09/10 prices",{"$f":"Input!H29","v":"LRAV"},null,null,null,null,null,null,null,null,null,null,null,null,null,null,null,null,null,null,null,null,null,null,null,null,null,-5.5384139491355544]
[]
[null,"Policy"]
[]
[null,null,"Cost of capital"]
[]
[null,null,null,null,"Cost of debt",null,"annual real %",null,null,">",null,null,null,null,null,null,null,null,null,null,null,null,null,null,null,null,null,null,null,null,null,null,null,{"$f":"AH8","v":2.92E-2},2.7199999999999998E-2,2.5499999999999998E-2,2.3800000000000002E-2,2.2200000000000001E-2,2.2200000000000001E-2,2.2200000000000001E-2,2.2200000000000001E-2]
[null,null,null,null,"Cost of equity",null,"annual real %",null,null,">",null,null,null,null,null,null,null,null,null,null,null,null,null,null,null,null,null,null,null,null,null,null,null,6.7000000000000004E-2,6.7000000000000004E-2,6.7000000000000004E-2,6.7000000000000004E-2,6.7000000000000004E-2,6.7000000000000004E-2,6.7000000000000004E-2,6.7000000000000004E-2]
[null,null,null,null,"Notional gearing",null,"%",null,null,">",null,null,null,null,null,null,null,null,null,null,null,null,null,null,null,null,null,null,null,null,null,null,0.625,0.65,0.65,0.65,0.65,0.65,0.65,0.65,0.65]
[]
[null,null,null,null,"Vanilla WACC",null,"annual real %",null,null,">",null,null,null,null,null,null,null,null,null,null,null,null,null,null,null,null,null,null,null,null,null,null,null,{"$f":"(AH35 * AH37) + (AH36 * (1 - AH37))","v":4.2429999999999995E-2},4.113E-2,4.0024999999999998E-2,3.8919999999999996E-2,3.7879999999999997E-2,3.7879999999999997E-2,3.7879999999999997E-2,3.7879999999999997E-2]
[]
[null,null,null,null,"Closing gearing",null,"%",null,0.625]
[]
[null,null,null,null,"Forecast RPI (simple average year to March)",null,"index value",null,null,0.625,0.625,0.625,0.625,0.625,0.625,0.625,0.625,0.625,0.625,0.625,0.625,173.875,177.517,182.47499999999999,188.15,193.108,200.31700000000001,208.59200000000001,214.78299999999999,215.767,226.47499999999999,{"$f":"ROUND(AVERAGE(234.4,235.2,235.2,234.7,236.1,237.9,238,238.5,239.4,238,239.9,240.8),3)","v":237.34200000000001},{"$f":"ROUND(AF43*(1+2.8%),3)","v":243.988},{"$f":"ROUND(AG43*(1+2.8%),3)","v":250.82},257.84300000000002,265.06299999999999,272.48500000000001,280.11500000000001,287.95800000000003,296.02100000000002,304.31]
[null,null,null,null,"Cost of Debt Inflation",null,"index value",null,null,0.625,null,null,null,null,null,null,null,null,null,null,null,173.875,177.517,182.47499999999999,188.15,193.108,200.31700000000001,208.59200000000001,214.78299999999999,215.767,226.47499999999999,{"$f":"ROUND(AVERAGE(234.4,235.2,235.2,234.7,236.1,237.9,238,238.5,239.4,238,239.9,240.8),3)","v":237.34200000000001},{"$f":"ROUND(AF44*(1+2.8%),3)","v":243.988},250.82,257.84300000000002,265.06299999999999,272.48500000000001,280.11500000000001,287.95800000000003,296.02100000000002,304.31]
[null,null,"TIM and capitalisation"]
[]
[null,null,null,null,"Years from t until normal reporting of actual costs",null,"years",null,2]
[]
[null,null,null,null,{"$f":"Input!E49","v":"Capitalised share of totex (excluding repex)"},null,"%",null,null,null,null,null,null,null,null,null,null,null,null,null,null,null,null,null,null,null,null,null,null,null,null,null,null,0.23469337831705597,0.23469337831705597,0.23469337831705597,0.23469337831705597,0.23469337831705597,0.23469337831705597,0.23469337831705597,0.23469337831705597]
[null,null,null,null,{"$f":"Input!E50","v":"Capitalised share of repex"},null,"%",null,null,null,null,null,null,null,null,null,null,null,null,null,null,null,null,null,null,null,null,null,null,null,null,null,null,0.5,0.5714285714285714,0.64285714285714279,0.71428571428571419,0.78571428571428559,0.85714285714285698,0.92857142857142838,1]
[]
[null,null,null,null,"Incentive rate (slope)",null,"scalar",null,-1.666666666666667E-3]
[null,null,null,null,"Incentive rate (intercept)",null,"scalar",null,0.81666666666666665]
[null,null,null,null,"Additional income (intercept)",null,"scalar",null,14.583333333333332]
[]
[null,null,null,null,"Weight of Ofgem's view on price control totex",null,"%",null,0.75]
[null,null,null,null,"Weight of operator's view on price control totex",null,"%",null,0.25]
[]
[null,null,null,null,"GD TIM group ratio",null,"scalar",null,111.77479741299152]
[]
[null,null,null,null,"Ofgem's view of  licensee totex",null,"£m 09/10 prices",null,1875.7745482934536]
[null,null,null,null,"Operator's view of licensee totex",null,"£m 09/10 prices",null,2209.5287323088091]
[]
[null,null,null,null,"Ofgem's view of group price control totex",null,"£m 09/10 prices",null,6729.0571105813278]
[null,null,null,null,"Operator's view of group price control totex",null,"£m 09/10 prices",null,7521.3899531567795]
[]
[null,null,"Finance"]
[]
[null,null,null,null,"Minimum equity issuance threshold",null,"%",null,0.05]
[null,null,null,null,"Equity issuance costs",null,"%",null,0.05]
[null,null,null,null,"Assumed dividends as % of notional equity portion of RAV",null,"%",null,0.05]
[]
[null,null,null,null,"Equity issuance gearing target",null,"%",null,null,null,null,null,null,null,null,null,null,null,null,null,null,null,null,null,null,null,null,null,null,null,null,null,null,{"$f":"AH37","v":0.65},{"$f":"AI37","v":0.65},0.65,0.65,0.65,0.65,0.65,0.65]
[]
[null,null,null,null,"Index-linked debt as a percentage of net debt",null,"%",null,null,null,null,null,null,null,null,null,null,null,null,null,null,null,null,null,null,null,null,null,null,null,null,null,null,0.25,0.25,0.25,0.25,0.25,0.25,0.25,0.25]
[]
[null,"Expenditure"]
[]
[null,null,"Totex"]
[]
[null,null,null,"Non-variant allowances"]
[]
[null,null,null,null,"Non-variant allowed load related capex",null,"£m 09/10 prices",null,null,null,null,null,null,null,null,null,null,null,null,null,null,null,null,null,null,null,null,null,null,null,null,null,null,8.8915231373516548,14.023647830945288,23.567730407307906,17.767583966626738,11.500761081116725,13.909375228907411,11.804488081379702,11.876847089245292]
[null,null,null,null,"Non-variant allowed non-load related capex - other",null,"£m 09/10 prices",null,null,null,null,null,null,null,null,null,null,null,null,null,null,null,null,null,null,null,null,null,null,null,null,null,null,15.213517451331963,10.648157803079204,9.0991196973480157,8.4347985980508291,11.427725174866628,10.885115611975042,6.6203407620529529,6.0388713917404342]
[null,null,null,null,"Non-variant allowed controllable opex",null,"£m 09/10 prices",null,null,null,null,null,null,null,null,null,null,null,null,null,null,null,null,null,null,null,null,null,null,null,null,null,null,79.041454771608926,77.625281951805761,78.455901851458549,82.399541432292196,81.220224386124031,79.947892050646345,80.642146061846915,78.043805639102615]
[null,null,null,null,"Non-variant allowed repex",null,"£m 09/10 prices",null,null,null,null,null,null,null,null,null,null,null,null,null,null,null,null,null,null,null,null,null,null,null,null,null,null,122.68667030719408,123.04923178600816,127.96821117476949,123.00138000799282,120.15695241127702,117.37790806979183,120.25546532412652,121.82572364932673]
[]
[null,null,null,"Variant allowances"]
[]
[null,null,null,null,{"$f":"Input!E90","v":"Allowed uncertain costs (Enhanced physical site security)"},null,"£m 09/10 prices",null,null,null,null,null,null,null,null,null,null,null,null,null,null,null,null,null,null,null,null,null,null,null,null,null,null,{"$f":"AH13","v":-0.40736865046597398},{"$f":"AI13","v":-4.455442246753246E-4},0.17378074191194803,1.7753516655689605,7.0058433106293512,3.9274513242759737,1.5395612553759741,0.27332793144662326]
[null,null,null,null,{"$f":"Input!E91","v":"Allocation to load related capex"},null,"%",null,null,null,null,null,null,null,null,null,null,null,null,null,null,null,null,null,null,null,null,null,null,null,null,null,null,0,0,0,0,0,0,0,0]
[null,null,null,null,{"$f":"Input!E92","v":"Allocation to non-load related capex - other"},null,"%",null,null,null,null,null,null,null,null,null,null,null,null,null,null,null,null,null,null,null,null,null,null,null,null,null,null,1,1,1,1,1,1,1,1]
[null,null,null,null,{"$f":"Input!E93","v":"Allocation to controllable opex"},null,"%",null,null,null,null,null,null,null,null,null,null,null,null,null,null,null,null,null,null,null,null,null,null,null,null,null,null,0,0,0,0,0,0,0,0]
[null,null,null,null,{"$f":"Input!E94","v":"Allocation to repex"},null,"%",null,null,null,null,null,null,null,null,null,null,null,null,null,null,null,null,null,null,null,null,null,null,null,null,null,null,0,0,0,0,0,0,0,0]
[]
[null,null,null,null,{"$f":"Input!E96","v":"Allowed uncertain costs (Specified street work costs)"},null,"£m 09/10 prices",null,null,null,null,null,null,null,null,null,null,null,null,null,null,null,null,null,null,null,null,null,null,null,null,null,null,{"$f":"AH14","v":10.223041082309116},10.736415999485061,10.563101204232462,10.083347958600857,10.102017494138307,9.8240411790588276,9.7681793740864187,9.7001688492033207]
[null,null,null,null,{"$f":"Input!E97","v":"Allocation to load related capex"},null,"%",null,null,null,null,null,null,null,null,null,null,null,null,null,null,null,null,null,null,null,null,null,null,null,null,null,null,0.05,0.05,0.05,0.05,0.05,0.05,0.05,0.05]
[null,null,null,null,{"$f":"Input!E98","v":"Allocation to non-load related capex - other"},null,"%",null,null,null,null,null,null,null,null,null,null,null,null,null,null,null,null,null,null,null,null,null,null,null,null,null,null,0,0,0,0,0,0,0,0]
[null,null,null,null,{"$f":"Input!E99","v":"Allocation to controllable opex"},null,"%",null,null,null,null,null,null,null,null,null,null,null,null,null,null,null,null,null,null,null,null,null,null,null,null,null,null,0.3,0.3,0.3,0.3,0.3,0.3,0.3,0.3]
[null,null,null,null,{"$f":"Input!E100","v":"Allocation to repex"},null,"%",null,null,null,null,null,null,null,null,null,null,null,null,null,null,null,null,null,null,null,null,null,null,null,null,null,null,0.65,0.65,0.65,0.65,0.65,0.65,0.65,0.65]
[]
[null,null,null,null,{"$f":"Input!E102","v":"Allowed uncertain costs (Connection charging boundary change costs)"},null,"£m 09/10 prices",null,null,null,null,null,null,null,null,null,null,null,null,null,null,null,null,null,null,null,null,null,null,null,null,null,null,{"$f":"AH15","v":0},{"$f":"AI15","v":0},0,0,0,0,0,0]
[null,null,null,null,{"$f":"Input!E103","v":"Allocation to load related capex"},null,"%",null,null,null,null,null,null,null,null,null,null,null,null,null,null,null,null,null,null,null,null,null,null,null,null,null,null,0.9,0.9,0.9,0.9,0.9,0.9,0.9,0.9]
[null,null,null,null,{"$f":"Input!E104","v":"Allocation to non-load related capex - other"},null,"%",null,null,null,null,null,null,null,null,null,null,null,null,null,null,null,null,null,null,null,null,null,null,null,null,null,null,0,0,0,0,0,0,0,0]
[null,null,null,null,{"$f":"Input!E105","v":"Allocation to controllable opex"},null,"%",null,null,null,null,null,null,null,null,null,null,null,null,null,null,null,null,null,null,null,null,null,null,null,null,null,null,0.1,0.1,0.1,0.1,0.1,0.1,0.1,0.1]
[null,null,null,null,{"$f":"Input!E106","v":"Allocation to repex"},null,"%",null,null,null,null,null,null,null,null,null,null,null,null,null,null,null,null,null,null,null,null,null,null,null,null,null,null,0,0,0,0,0,0,0,0]
[]
[null,null,null,null,{"$f":"Input!E108","v":"Allowed uncertain costs (Fuel poor network extension scheme)"},null,"£m 09/10 prices",null,null,null,null,null,null,null,null,null,null,null,null,null,null,null,null,null,null,null,null,null,null,null,null,null,null,{"$f":"AH16","v":0.51496456612226549},{"$f":"AI16","v":0.51290470785777653},0.51085308902634541,0.53873965765084231,0.56639496007691892,0.5641293802366113,0.56187286271566483,0.53017140435612842]
[null,null,null,null,{"$f":"Input!E109","v":"Allocation to load related capex"},null,"%",null,null,null,null,null,null,null,null,null,null,null,null,null,null,null,null,null,null,null,null,null,null,null,null,null,null,1,1,1,1,1,1,1,1]
[null,null,null,null,{"$f":"Input!E110","v":"Allocation to non-load related capex - other"},null,"%",null,null,null,null,null,null,null,null,null,null,null,null,null,null,null,null,null,null,null,null,null,null,null,null,null,null,0,0,0,0,0,0,0,0]
[null,null,null,null,{"$f":"Input!E111","v":"Allocation to controllable opex"},null,"%",null,null,null,null,null,null,null,null,null,null,null,null,null,null,null,null,null,null,null,null,null,null,null,null,null,null,0,0,0,0,0,0,0,0]
[null,null,null,null,{"$f":"Input!E112","v":"Allocation to repex"},null,"%",null,null,null,null,null,null,null,null,null,null,null,null,null,null,null,null,null,null,null,null,null,null,null,null,null,null,0,0,0,0,0,0,0,0]
[]
[null,null,null,null,{"$f":"Input!E114","v":"Allowed uncertain costs (Central agent)"},null,"£m 09/10 prices",null,null,null,null,null,null,null,null,null,null,null,null,null,null,null,null,null,null,null,null,null,null,null,null,null,null,{"$f":"AH17","v":-4.7611272879777289E-7},1.2095435792279119E-2,0.11675459075445449,0.1184602218127182,-1.4527320433320821,-2.1885604672833585,-2.884444952843733,-3.2406888685063873]
[null,null,null,null,{"$f":"Input!E115","v":"Allocation to load related capex"},null,"%",null,null,null,null,null,null,null,null,null,null,null,null,null,null,null,null,null,null,null,null,null,null,null,null,null,null,0,0,0,0,0,0,0,0]
[null,null,null,null,{"$f":"Input!E116","v":"Allocation to non-load related capex - other"},null,"%",null,null,null,null,null,null,null,null,null,null,null,null,null,null,null,null,null,null,null,null,null,null,null,null,null,null,0.15,0.15,0.15,0.15,0.15,0.15,0.15,0.15]
[null,null,null,null,{"$f":"Input!E117","v":"Allocation to controllable opex"},null,"%",null,null,null,null,null,null,null,null,null,null,null,null,null,null,null,null,null,null,null,null,null,null,null,null,null,null,0.85,0.85,0.85,0.85,0.85,0.85,0.85,0.85]
[null,null,null,null,{"$f":"Input!E118","v":"Allocation to repex"},null,"%",null,null,null,null,null,null,null,null,null,null,null,null,null,null,null,null,null,null,null,null,null,null,null,null,null,null,0,0,0,0,0,0,0,0]
[]
[null,null,null,null,{"$f":"Input!E120","v":"Allowed uncertain costs (Smart metering roll out costs)"},null,"£m 09/10 prices",null,null,null,null,null,null,null,null,null,null,null,null,null,null,null,null,null,null,null,null,null,null,null,null,null,null,{"$f":"AH18","v":0},0,0,0,0,0,0,0]
[null,null,null,null,{"$f":"Input!E121","v":"Allocation to load related capex"},null,"%",null,null,null,null,null,null,null,null,null,null,null,null,null,null,null,null,null,null,null,null,null,null,null,null,null,null,0,0,0,0,0,0,0,0]
[null,null,null,null,{"$f":"Input!E122","v":"Allocation to non-load related capex - other"},null,"%",null,null,null,null,null,null,null,null,null,null,null,null,null,null,null,null,null,null,null,null,null,null,null,null,null,null,0,0,0,0,0,0,0,0]
[null,null,null,null,{"$f":"Input!E123","v":"Allocation to controllable opex"},null,"%",null,null,null,null,null,null,null,null,null,null,null,null,null,null,null,null,null,null,null,null,null,null,null,null,null,null,0.5,0.5,0.5,0.5,0.5,0.5,0.5,0.5]
[null,null,null,null,{"$f":"Input!E124","v":"Allocation to repex"},null,"%",null,null,null,null,null,null,null,null,null,null,null,null,null,null,null,null,null,null,null,null,null,null,null,null,null,null,0.5,0.5,0.5,0.5,0.5,0.5,0.5,0.5]
[]
[null,null,null,null,{"$f":"Input!E126","v":"Allowed uncertain costs (Mains and services replacement expenditure)"},null,"£m 09/10 prices",null,null,null,null,null,null,null,null,null,null,null,null,null,null,null,null,null,null,null,null,null,null,null,null,null,null,{"$f":"AH19","v":4.0832E-2},{"$f":"AI19","v":0.47208499999999998},1.2386299999999999,3.1604773750000006,3.1604773750000006,3.1604773750000006,3.1604773750000006,3.1604773750000006]
[null,null,null,null,{"$f":"Input!E127","v":"Allocation to load related capex"},null,"%",null,null,null,null,null,null,null,null,null,null,null,null,null,null,null,null,null,null,null,null,null,null,null,null,null,null,0,0,0,0,0,0,0,0]
[null,null,null,null,{"$f":"Input!E128","v":"Allocation to non-load related capex - other"},null,"%",null,null,null,null,null,null,null,null,null,null,null,null,null,null,null,null,null,null,null,null,null,null,null,null,null,null,0,0,0,0,0,0,0,0]
[null,null,null,null,{"$f":"Input!E129","v":"Allocation to controllable opex"},null,"%",null,null,null,null,null,null,null,null,null,null,null,null,null,null,null,null,null,null,null,null,null,null,null,null,null,null,0,0,0,0,0,0,0,0]
[null,null,null,null,{"$f":"Input!E130","v":"Allocation to repex"},null,"%",null,null,null,null,null,null,null,null,null,null,null,null,null,null,null,null,null,null,null,null,null,null,null,null,null,null,1,1,1,1,1,1,1,1]
[]
[null,null,null,null,{"$f":"Input!E132","v":"Allowed uncertain Costs (Large load connection costs)"},null,"£m 09/10 prices",null,null,null,null,null,null,null,null,null,null,null,null,null,null,null,null,null,null,null,null,null,null,null,null,null,null,{"$f":"AH20","v":0},{"$f":"AI20","v":0},{"$f":"AJ20","v":0},0,{"$f":"AL20","v":0},0,0,0]
[null,null,null,null,{"$f":"Input!E133","v":"Allocation to load related capex"},null,"%",null,null,null,null,null,null,null,null,null,null,null,null,null,null,null,null,null,null,null,null,null,null,null,null,null,null,1,1,1,1,1,1,1,1]
[null,null,null,null,{"$f":"Input!E134","v":"Allocation to non-load related capex - other"},null,"%",null,null,null,null,null,null,null,null,null,null,null,null,null,null,null,null,null,null,null,null,null,null,null,null,null,null,0,0,0,0,0,0,0,0]
[null,null,null,null,{"$f":"Input!E135","v":"Allocation to controllable opex"},null,"%",null,null,null,null,null,null,null,null,null,null,null,null,null,null,null,null,null,null,null,null,null,null,null,null,null,null,0,0,0,0,0,0,0,0]
[null,null,null,null,{"$f":"Input!E136","v":"Allocation to repex"},null,"%",null,null,null,null,null,null,null,null,null,null,null,null,null,null,null,null,null,null,null,null,null,null,null,null,null,null,0,0,0,0,0,0,0,0]
[]
[null,null,null,null,{"$f":"Input!E138","v":"Allowed innovation roll-out mechanism"},null,"£m 09/10 prices",null,null,null,null,null,null,null,null,null,null,null,null,null,null,null,null,null,null,null,null,null,null,null,null,null,null,{"$f":"AH21","v":0},{"$f":"AI21","v":0},0,0,0,0,0,0]
[null,null,null,null,{"$f":"Input!E139","v":"Allocation to load related capex"},null,"%",null,null,null,null,null,null,null,null,null,null,null,null,null,null,null,null,null,null,null,null,null,null,null,null,null,null,0.5,0.5,0.5,0.5,0.5,0.5,0.5,0.5]
[null,null,null,null,{"$f":"Input!E140","v":"Allocation to non-load related capex - other"},null,"%",null,null,null,null,null,null,null,null,null,null,null,null,null,null,null,null,null,null,null,null,null,null,null,null,null,null,0,0,0,0,0,0,0,0]
[null,null,null,null,{"$f":"Input!E141","v":"Allocation to controllable opex"},null,"%",null,null,null,null,null,null,null,null,null,null,null,null,null,null,null,null,null,null,null,null,null,null,null,null,null,null,0.5,0.5,0.5,0.5,0.5,0.5,0.5,0.5]
[null,null,null,null,{"$f":"Input!E142","v":"Allocation to repex"},null,"%",null,null,null,null,null,null,null,null,null,null,null,null,null,null,null,null,null,null,null,null,null,null,null,null,null,null,0,0,0,0,0,0,0,0]
[]
[null,null,null,null,"Variant allowed load related capex",null,"£m 09/10 prices",null,null,null,null,null,null,null,null,null,null,null,null,null,null,null,null,null,null,null,null,null,null,null,null,null,null,{"$f":"(AH$90*AH91) + (AH$96*AH97) + (AH$102*AH103) + (AH$108*AH109) + (AH$114*AH115) + (AH$120*AH121)      + (AH$126 * AH127) + (AH$132*AH133) + (AH$138*AH139)","v":1.0261166202377212},{"$f":"(AI$90*AI91) + (AI$96*AI97) + (AI$102*AI103) + (AI$108*AI109) + (AI$114*AI115) + (AI$120*AI121)      + (AI$126 * AI127) + (AI$132*AI133) + (AI$138*AI139)","v":1.0497255078320296},1.0390081492379686,1.0429070555808853,1.0714958347838341,1.0553314391895527,1.0502818314199858,1.0151798468162945]
[null,null,null,null,"Variant allowed non-load related capex - other",null,"£m 09/10 prices",null,null,null,null,null,null,null,null,null,null,null,null,null,null,null,null,null,null,null,null,null,null,null,null,null,null,{"$f":"(AH$90*AH92) + (AH$96*AH98) + (AH$102*AH104) + (AH$108*AH110) + (AH$114*AH116) + (AH$120*AH122)      + (AH$126 * AH128) + (AH$132*AH134) + (AH$138*AH140)","v":-0.40736872188288331},1.3687711441665433E-3,0.1912939305251162,1.7931206988408683,6.7879335041295388,3.5991672541834698,1.1068945124494141,-0.21277539882933483]
[null,null,null,null,"Variant allowed controllable opex",null,"£m 09/10 prices",null,null,null,null,null,null,null,null,null,null,null,null,null,null,null,null,null,null,null,null,null,null,null,null,null,null,{"$f":"(AH$90*AH93) + (AH$96*AH99) + (AH$102*AH105) + (AH$108*AH111) + (AH$114*AH117) + (AH$120*AH123)      + (AH$126 * AH129) + (AH$132*AH135) + (AH$138*AH141)","v":3.0669119199969153},3.2312059202689558,3.2681717634110248,3.1256955761210676,1.7957830114092226,1.0869359565267933,0.47867560230875261,0.15546511653056694]
[null,null,null,null,"Variant allowed repex",null,"£m 09/10 prices",null,null,null,null,null,null,null,null,null,null,null,null,null,null,null,null,null,null,null,null,null,null,null,null,null,null,{"$f":"(AH$90*AH94) + (AH$96*AH100) + (AH$102*AH106) + (AH$108*AH112) + (AH$114*AH118) + (AH$120*AH124)      + (AH$126 * AH130) + (AH$132*AH136) + (AH$138*AH142)","v":6.6858087035009257},7.4507553996652893,8.1046457827511009,9.714653548090558,9.7267887461899001,9.5461041413882395,9.5097939681561723,9.4655871269821592]
[]
[null,null,null,"Actual"]
[]
[null,null,null,null,"Actual load related capex",null,"£m 09/10 prices",null,null,null,null,null,null,null,null,null,null,null,null,null,null,null,null,null,null,null,null,null,null,null,null,null,null,{"$f":"AH9","v":23.995762316480469},13.268965867216544,11.380832643870306,0,0,0,0,0]
[null,null,null,null,"Actual non-load related capex - other",null,"£m 09/10 prices",null,null,null,null,null,null,null,null,null,null,null,null,null,null,null,null,null,null,null,null,null,null,null,null,null,null,12.677373188188396,10.773302219857218,10.19879876501003,0,0,0,0,0]
[null,null,null,null,"Actual controllable opex",null,"£m 09/10 prices",null,null,null,null,null,null,null,null,null,null,null,null,null,null,null,null,null,null,null,null,null,null,null,null,null,null,86.764469282068248,84.760815799265131,84.530318235270073,0,0,0,0,0]
[null,null,null,null,"Actual repex",null,"£m 09/10 prices",null,null,null,null,null,null,null,null,null,null,null,null,null,null,null,null,null,null,null,null,null,null,null,null,null,null,77.544989602788419,77.06456040466864,91.81948654297986,0,0,0,0,0]
[]
[null,null,"Non-totex"]
[]
[null,null,null,null,"Non-controllable opex (Other)",null,"£m 09/10 prices",null,null,null,null,null,null,null,null,null,null,null,null,null,null,null,null,null,null,null,null,null,null,null,null,null,null,28.072970643055353,28.117918349982745,28.125959084674655,28.125959084674648,28.125959084674648,28.125959084674644,28.125959084674648,28.125959084674648]
[null,null,null,null,"Non-controllable opex (Exit Charges)",null,"£m 09/10 prices",null,null,null,null,null,null,null,null,null,null,null,null,null,null,null,null,null,null,null,null,null,null,null,null,null,null,{"$f":"AH22","v":17.153616166644156},{"$f":"AI22","v":17.140543243029676},17.118658162821941,17.118658162821941,17.118658162821941,17.118658162821941,17.118658162821941,17.118658162821941]
[null,null,null,null,"Non-controllable opex (Shrinkage)",null,"£m 09/10 prices",null,null,null,null,null,null,null,null,null,null,null,null,null,null,null,null,null,null,null,null,null,null,null,null,null,null,{"$f":"AH23","v":6.1229830480576952},5.46,5.35,4.3,4.1900000000000004,4.07,3.96,3.85]
[null,null,null,null,"Non-controllable opex",null,"£m 09/10 prices",null,null,null,null,null,null,null,null,null,null,null,null,null,null,null,null,null,null,null,null,null,null,null,null,null,null,{"$f":"SUM(AH158:AH160)","v":51.34956985775721},{"$f":"SUM(AI158:AI160)","v":50.718461593012421},50.594617247496593,49.544617247496589,49.43461724749659,49.314617247496585,49.204617247496593,49.094617247496593]
[]
[null,"Direct allowed revenue terms (DARTs)"]
[]
[null,null,null,null,{"$f":"E26","v":"Pension scheme administration and Pension Protection Fund Levy"},null,"£m 09/10 prices",null,null,null,null,null,null,null,null,null,null,null,null,null,null,null,null,null,null,null,null,null,null,null,null,null,null,{"$f":"AH26","v":0.06},6.1088787271880572E-2,6.1088787271880572E-2,6.1088787271880572E-2,6.1088787271880572E-2,6.1088787271880572E-2,6.1088787271880572E-2,6.1088787271880572E-2]
[null,null,null,null,{"$f":"E27","v":"Pension scheme deficit revenue allowances"},null,"£m 09/10 prices",null,null,null,null,null,null,null,null,null,null,null,null,null,null,null,null,null,null,null,null,null,null,null,null,null,null,{"$f":"AH27","v":3.0156806272016592},3.0156806272016592,2.3830983401466872,2.3830983401466872,2.3830983401466872,2.3830983401466872,2.3830983401466872,2.3830983401466872]
[]
[null,null,null,null,"Pension true-up from previous price controls",null,"£m 09/10 prices",null,8.663219487138063E-2,null,null,null,null,null,null,null,null,null,null,null,null,null,null,null,null,null,null,null,null,null,null,null,null,{"$f":"($I$168/8)","v":1.0829024358922579E-2},{"$f":"($I$168/8)*(1+$AI$39)","v":1.1274422130805064E-2},{"$f":"($I$168/8)*(1+$AI$39)*(1+$AJ$39)","v":1.1725680876590537E-2},{"$f":"($I$168/8)*(1+$AI$39)*(1+$AJ$39)*(1+$AK$39)","v":1.2182044376307441E-2},{"$f":"($I$168/8)*(1+$AI$39)*(1+$AJ$39)*(1+$AK$39)*(1+$AL$39)","v":1.2643500217281967E-2},{"$f":"($I$168/8)*(1+$AI$39)*(1+$AJ$39)*(1+$AK$39)*(1+$AL$39)*(1+$AM$39)","v":1.3122436005512607E-2},{"$f":"($I$168/8)*(1+$AI$39)*(1+$AJ$39)*(1+$AK$39)*(1+$AL$39)*(1+$AM$39)*(1+$AN$39)","v":1.3619513881401424E-2},{"$f":"($I$168/8)*(1+$AI$39)*(1+$AJ$39)*(1+$AK$39)*(1+$AL$39)*(1+$AM$39)*(1+$AN$39)*(1+$AO$39)","v":1.4135421067228909E-2}]
[]
[null,null,null,null,{"$f":"Input!E170","v":"Revenue adjustment from previous controls (Base)"},null,"£m 09/10 prices",null,-0.97223499339313935,null,null,null,null,null,null,null,null,null,null,null,null,null,null,null,null,null,null,null,null,null,null,null,null,{"$f":"($I$170/8)","v":-0.12152937417414242},{"$f":"($I$170/8)*(1+$AI$39)","v":-0.12652787733392487},{"$f":"($I$170/8)*(1+$AI$39)*(1+$AJ$39)","v":-0.13159215562421522},{"$f":"($I$170/8)*(1+$AI$39)*(1+$AJ$39)*(1+$AK$39)","v":-0.13671372232110968},{"$f":"($I$170/8)*(1+$AI$39)*(1+$AJ$39)*(1+$AK$39)*(1+$AL$39)","v":-0.1418924381226333},{"$f":"($I$170/8)*(1+$AI$39)*(1+$AJ$39)*(1+$AK$39)*(1+$AL$39)*(1+$AM$39)","v":-0.14726732367871864},{"$f":"($I$170/8)*(1+$AI$39)*(1+$AJ$39)*(1+$AK$39)*(1+$AL$39)*(1+$AM$39)*(1+$AN$39)","v":-0.15284580989966851},{"$f":"($I$170/8)*(1+$AI$39)*(1+$AJ$39)*(1+$AK$39)*(1+$AL$39)*(1+$AM$39)*(1+$AN$39)*(1+$AO$39)","v":-0.15863560917866792}]
[null,null,null,null,{"$f":"Input!E171","v":"Legacy price control allowed revenue adjustment"},null,"£m 09/10 prices",null,null,null,null,null,null,null,null,null,null,null,null,null,null,null,null,null,null,null,null,null,null,null,null,null,null,{"$f":"($AH$28/8)","v":-7.1918646445149031E-2},{"$f":"($AH$28/8)*(1+$AI$39)","v":-7.4876660373438E-2},{"$f":"($AH$28/8)*(1+$AI$39)*(1+$AJ$39)","v":-7.7873598704884861E-2},{"$f":"($AH$28/8)*(1+$AI$39)*(1+$AJ$39)*(1+$AK$39)","v":-8.0904439166478978E-2},{"$f":"($AH$28/8)*(1+$AI$39)*(1+$AJ$39)*(1+$AK$39)*(1+$AL$39)","v":-8.3969099322105195E-2},{"$f":"($AH$28/8)*(1+$AI$39)*(1+$AJ$39)*(1+$AK$39)*(1+$AL$39)*(1+$AM$39)","v":-8.7149848804426527E-2},{"$f":"($AH$28/8)*(1+$AI$39)*(1+$AJ$39)*(1+$AK$39)*(1+$AL$39)*(1+$AM$39)*(1+$AN$39)","v":-9.0451085077138199E-2},{"$f":"($AH$28/8)*(1+$AI$39)*(1+$AJ$39)*(1+$AK$39)*(1+$AL$39)*(1+$AM$39)*(1+$AN$39)*(1+$AO$39)","v":-9.3877372179860183E-2}]
[null,null,null,null,"Revenue adjustment from previous controls",null,"£m 09/10 prices",null,null,null,null,null,null,null,null,null,null,null,null,null,null,null,null,null,null,null,null,null,null,null,null,null,null,{"$f":"AH170+AH171","v":-0.19344802061929145},{"$f":"AI170+AI171","v":-0.20140453770736289},-0.20946575432910008,-0.21761816148758867,-0.2258615374447385,-0.23441717248314517,-0.2432968949768067,-0.25251298135852812]
[]
[null,null,null,null,"Excluded services revenue",null,"£m 09/10 prices",null,null,null,null,null,null,null,null,null,null,null,null,null,null,null,null,null,null,null,null,null,null,null,null,null,null,2.3710272014403091,2.2067410879022344,2.0976569691530189,2.1013984542807744,2.1011196909925807,2.1015419087955909,2.1055888493775576,2.0788968041597959]
[null,null,null,null,"Identified excluded services costs",null,"£m 09/10 prices",null,null,null,null,null,null,null,null,null,null,null,null,null,null,null,null,null,null,null,null,null,null,null,null,null,null,2.3710272014403091,2.2067410879022344,2.0976569691530189,2.1013984542807744,2.1011196909925807,2.1015419087955909,2.1055888493775576,2.0788968041597959]
[null,null,null,null,"Excluded services",null,"£m 09/10 prices",null,null,null,null,null,null,null,null,null,null,null,null,null,null,null,null,null,null,null,null,null,null,null,null,null,null,{"$f":"SUM(AH174, -AH175)","v":0},{"$f":"SUM(AI174, -AI175)","v":0},0,0,0,0,0,0]
[]
[null,"RAV and assets"]
[]
[null,null,"Pre-vesting assets"]
[]
[null,null,null,null,"Pre-vesting RAV cost opening balance brought forward (before transfers)",null,"£m 09/10 prices",null,null,null,null,null,null,null,null,null,null,null,null,null,null,null,null,null,null,null,null,null,null,null,null,null,null,1303.5672173759706]
[null,null,null,null,"Pre-vesting RAV cumulative depreciation opening balance brought forward (before transfers)",null,"£m 09/10 prices",null,null,null,null,null,null,null,null,null,null,null,null,null,null,null,null,null,null,null,null,null,null,null,null,null,null,459.14115524896448]
[]
[null,null,null,null,"Pre-vesting asset life",null,"years",null,56]
[null,null,null,null,"Pre-vesting RAV disposals",null,"£m 09/10 prices",null,null,null,null,null,null,null,null,null,null,null,null,null,null,null,null,null,null,null,null,null,null,null,null,null,null,2.5395816987377957,-1.4,1.5413898780385917,6.9541565008094661,0,0,0,0]
[null,null,null,null,"RAV adjustments from previous price controls (not modelled in PCFM)",null,"years",null,null,null,null,null,null,null,null,null,null,null,null,null,null,null,null,null,null,null,null,null,null,null,null,null,null,45,44,43,42,41,40,39,38]
[]
[null,null,"Post-vesting assets"]
[]
[null,null,null,null,"Gas distribution"]
[null,null,null,null,{"$f":"Input!E192","v":"GD post-vesting asset life"},null,"years",null,45]
[null,null,null,null,{"$f":"Input!E193","v":"GD smoothing profile for recovery of backlog depreciation"},null,"years",null,null,null,null,null,null,null,null,null,null,null,null,null,null,null,null,null,null,null,null,null,null,null,null,null,null,0.15,0.15,2.5000000000000001E-2,0,0.05,0.125,0.2,0.3]
[null,null,null,null,{"$f":"Input!E194","v":"GD start of smoothing period"},null,"year ending",null,"2014-03-31"]
[null,null,null,null,{"$f":"Input!E195","v":"Pre-RIIO net additions to RAV"},null,"£m 09/10 prices",null,null,">",null,null,null,null,null,null,null,null,null,null,null,null,51.285836423141454,37.207371522671245,32.738017586014045,35.780185443374101,35.911562883199281,69.188902199420355,137.24415317037221,136.03997179578954,127.15993893592933,129.14044162400771,88.153054084627115]
[null,null,null,null,"LRAV",null,"£m 09/10 prices",null,null,null,null,null,null,null,null,null,null,null,null,null,null,null,null,null,null,null,null,null,null,null,null,null,null,{"$f":"AH29","v":-5.5384139491355544}]
[null,null,null,null,"RIIO post-vesting RAV additions",null,"£m 09/10 prices",null,null,null,null,null,null,null,null,null,null,null,null,null,null,null,null,null,null,null,null,null,null,null,null,null,null,9.5434782608695663,0,0,0,0,0,0,0]
[null,null,null,null,"RIIO post-vesting RAV disposals",null,null,null,null,null,null,null,null,null,null,null,null,null,null,null,null,null,null,null,null,null,null,null,null,null,null,null,null,0,0,-5.805737384789187E-2,-0.25567546766691102,-3.6,-0.7,-1,-1.5]
[null,null,null,null,{"$f":"Input!E199","v":"Pre-RIIO transfers to depreciation"},null,"£m 09/10 prices",null,null,null,null,null,null,null,null,null,null,null,null,null,null,0,0,0,0,0,0,0.45738095060702699,1.2276628465986306,1.8450771527688403,2.8151184013120103,4.1787618858885462,0]
[]
[null,null,"Fuel Poor"]
[]
[null,null,null,null,"Post-vesting asset life",null,"years",null,45]
[null,null,null,null,"Years additional customer discount applied",null,"years",null,5]
[]
[null,null,null,null,"NPV of future transportation revenue",null,"£m 09/10 prices",null,null,">",null,null,null,null,null,null,null,null,null,null,null,null,null,null,null,null,null,null,0,0,0,0,0]
[null,null,null,null,"Community based schemes actual capex spend",null,"£m 09/10 prices",null,null,">",null,null,null,null,null,null,null,null,null,null,null,null,null,null,null,null,null,null,0,0.15491410251462631,0.22007771277182908,4.051918849435554E-2,0.56048469632939113]
[]
[null,null,null,null,"One off schemes actual capex spend",null,"£m 09/10 prices",null,null,">",null,null,null,null,null,null,null,null,null,null,null,null,null,null,null,null,null,null,0,0.5857872682700439,0.49951753170873325,0.46748001874473455,0]
[]
[null,"Tax"]
[]
[null,null,"Tax policy"]
[]
[null,null,null,null,{"$f":"E24","v":"Tax liability allowance adjustments - gearing/interest costs"},null,"£m nominal",null,null,null,null,null,null,null,null,null,null,null,null,null,null,null,null,null,null,null,null,null,null,null,null,null,null,{"$f":"AH24","v":0},{"$f":"AI24","v":0},0,0,0,0,0,0]
[null,null,null,null,{"$f":"E25","v":"Tax liability allowance adjustments - driven by tax trigger events"},null,"£m 09/10 prices",null,null,null,null,null,null,null,null,null,null,null,null,null,null,null,null,null,null,null,null,null,null,null,null,null,null,{"$f":"AH25","v":0},0,-0.53198671371840334,-0.50596497075623148,-2.1106130368344047,0,0,0]
[]
[null,null,null,null,"Corporation tax rate",null,"%",null,null,">",null,null,null,null,null,null,null,null,null,null,null,null,null,null,0.3,0.3,0.3,0.3,0.28000000000000003,0.28000000000000003,0.28000000000000003,0.26,0.24,0.23,0.21,0.21,0.21,0.21,0.21,0.21,0.21]
[]
[null,null,null,null,"General pool capital allowance rate",null,"%",null,null,">",null,null,null,null,null,null,null,null,null,null,null,0.25,0.25,0.25,0.25,0.25,0.25,0.25,0.2,0.2,0.2,0.2,0.18000000000000002,0.18000000000000002,0.18000000000000002,0.18000000000000002,0.18000000000000002,0.18000000000000002,0.18000000000000002,0.18000000000000002,0.18000000000000002]
[null,null,null,null,"Special Rates capital allowance rate",null,"%",null,null,">",null,null,null,null,null,null,null,null,null,null,null,0.06,0.06,0.06,0.06,0.06,0.06,0.06,0.1,0.1,0.1,0.1,0.08,0.08,0.08,0.08,0.08,0.08,0.08,0.08,0.08]
[null,null,null,null,"Deferred Revenue Expenditure capital allowance rate",null,"%",null,null,">",null,null,null,null,null,null,null,null,null,null,null,null,null,null,null,null,null,null,null,null,null,null,null,2.2200000000000001E-2,2.2200000000000001E-2,2.2200000000000001E-2,2.2200000000000001E-2,2.2200000000000001E-2,2.2200000000000001E-2,2.2200000000000001E-2,2.2200000000000001E-2]
[]
[null,null,"Capital allowances and tax losses"]
[]
[null,null,null,null,"General pool capital allowance opening balance brought forward",null,"£m nominal",null,null,null,null,null,null,null,null,null,null,null,null,null,null,null,null,null,null,null,null,null,null,null,null,null,null,37.559143695623419]
[]
[null,null,null,null,"Special Rate capital allowance opening balance brought forward",null,"£m nominal",null,null,null,null,null,null,null,null,null,null,null,null,null,null,null,null,null,null,null,null,null,null,null,null,null,null,199.10103423481914]
[]
[null,null,null,null,"Deferred revenue expenditure opening balance brought forward",null,"£m nominal",null,null,null,null,null,null,null,null,null,null,null,null,null,null,null,null,null,null,null,null,null,null,null,null,null,null,5.2190596362804875]
[]
[null,null,null,null,"Tax loss brought forward",null,"£m nominal",null,null,null,null,null,null,null,null,null,null,null,null,null,null,null,null,null,null,null,null,null,null,null,null,null,null,20.881910567170561]
[]
[null,null,"Tax pool allocation"]
[]
[null,null,null,"Allocation to \"General\" pool"]
[]
[null,null,null,null,"Load Related",null,"%",null,null,null,null,null,null,null,null,null,null,null,null,null,null,null,null,null,null,null,null,null,null,null,null,null,null,2.8999999999999998E-3,2.8999999999999998E-3,2.8999999999999998E-3,2.8999999999999998E-3,2.8999999999999998E-3,2.8999999999999998E-3,2.8999999999999998E-3,2.8999999999999998E-3]
[null,null,null,null,"Non-Load Related - other",null,"%",null,null,null,null,null,null,null,null,null,null,null,null,null,null,null,null,null,null,null,null,null,null,null,null,null,null,0.89756098390240724,0.89756098390240724,0.89756098390240724,0.89756098390240724,0.89756098390240724,0.89756098390240724,0.89756098390240724,0.89756098390240724]
[null,null,null,null,"Opex",null,"%",null,null,null,null,null,null,null,null,null,null,null,null,null,null,null,null,null,null,null,null,null,null,null,null,null,null,0,0,0,0,0,0,0,0]
[null,null,null,null,"Repex",null,"%",null,null,null,null,null,null,null,null,null,null,null,null,null,null,null,null,null,null,null,null,null,null,null,null,null,null,0,0,0,0,0,0,0,0]
[]
[null,null,null,"Allocation to \"Special Rate\" pool"]
[]
[null,null,null,null,"Load Related",null,"%",null,null,null,null,null,null,null,null,null,null,null,null,null,null,null,null,null,null,null,null,null,null,null,null,null,null,0.98870000000000002,0.98870000000000002,0.98870000000000002,0.98870000000000002,0.98870000000000002,0.98870000000000002,0.98870000000000002,0.98870000000000002]
[null,null,null,null,"Non-Load Related - other",null,"%",null,null,null,null,null,null,null,null,null,null,null,null,null,null,null,null,null,null,null,null,null,null,null,null,null,null,1.6271113794003381E-2,1.6271113794003381E-2,1.6271113794003381E-2,1.6271113794003381E-2,1.6271113794003381E-2,1.6271113794003381E-2,1.6271113794003381E-2,1.6271113794003381E-2]
[null,null,null,null,"Opex",null,"%",null,null,null,null,null,null,null,null,null,null,null,null,null,null,null,null,null,null,null,null,null,null,null,null,null,null,0,0,0,0,0,0,0,0]
[null,null,null,null,"Repex",null,"%",null,null,null,null,null,null,null,null,null,null,null,null,null,null,null,null,null,null,null,null,null,null,null,null,null,null,0,0,0,0,0,0,0,0]
[]
[null,null,null,"Allocation to \"Deferred Revenue\" pool"]
[]
[null,null,null,null,"Load Related",null,"%",null,null,null,null,null,null,null,null,null,null,null,null,null,null,null,null,null,null,null,null,null,null,null,null,null,null,0,0,0,0,0,0,0,0]
[null,null,null,null,"Non-Load Related - other",null,"%",null,null,null,null,null,null,null,null,null,null,null,null,null,null,null,null,null,null,null,null,null,null,null,null,null,null,0,0,0,0,0,0,0,0]
[null,null,null,null,"Opex",null,"%",null,null,null,null,null,null,null,null,null,null,null,null,null,null,null,null,null,null,null,null,null,null,null,null,null,null,0,0,0,0,0,0,0,0]
[null,null,null,null,"Repex",null,"%",null,null,null,null,null,null,null,null,null,null,null,null,null,null,null,null,null,null,null,null,null,null,null,null,null,null,0,0,1,1,1,1,1,1]
[]
[null,null,null,"Allocation to \"Revenue\" pool"]
[]
[null,null,null,null,"Load Related",null,"%",null,null,null,null,null,null,null,null,null,null,null,null,null,null,null,null,null,null,null,null,null,null,null,null,null,null,0,0,0,0,0,0,0,0]
[null,null,null,null,"Non-Load Related - other",null,"%",null,null,null,null,null,null,null,null,null,null,null,null,null,null,null,null,null,null,null,null,null,null,null,null,null,null,0,0,0,0,0,0,0,0]
[null,null,null,null,"Opex",null,"%",null,null,null,null,null,null,null,null,null,null,null,null,null,null,null,null,null,null,null,null,null,null,null,null,null,null,1,1,1,1,1,1,1,1]
[null,null,null,null,"Repex",null,"%",null,null,null,null,null,null,null,null,null,null,null,null,null,null,null,null,null,null,null,null,null,null,null,null,null,null,1,1,0,0,0,0,0,0]
[]
[null,null,null,"Allocation to \"Non Qualifying\" pool"]
[]
[null,null,null,null,"Load Related",null,"%",null,null,null,null,null,null,null,null,null,null,null,null,null,null,null,null,null,null,null,null,null,null,null,null,null,null,8.4000000000000012E-3,8.4000000000000012E-3,8.4000000000000012E-3,8.4000000000000012E-3,8.4000000000000012E-3,8.4000000000000012E-3,8.4000000000000012E-3,8.4000000000000012E-3]
[null,null,null,null,"Non-Load Related - other",null,"%",null,null,null,null,null,null,null,null,null,null,null,null,null,null,null,null,null,null,null,null,null,null,null,null,null,null,8.6167902303589283E-2,8.6167902303589283E-2,8.6167902303589283E-2,8.6167902303589283E-2,8.6167902303589283E-2,8.6167902303589283E-2,8.6167902303589283E-2,8.6167902303589283E-2]
[null,null,null,null,"Opex",null,"%",null,null,null,null,null,null,null,null,null,null,null,null,null,null,null,null,null,null,null,null,null,null,null,null,null,null,0,0,0,0,0,0,0,0]
[null,null,null,null,"Repex",null,"%",null,null,null,null,null,null,null,null,null,null,null,null,null,null,null,null,null,null,null,null,null,null,null,null,null,null,0,0,0,0,0,0,0,0]
[]
[null,null,null,"Allocation check"]
[null,null,null,"Note: All categories should equal 100%"]
[]
[null,null,null,null,"Load Related",null,"%",null,null,null,null,null,null,null,null,null,null,null,null,null,null,null,null,null,null,null,null,null,null,null,null,null,null,{"$f":"AH238+AH245+AH252+AH259+AH266","v":1},1,1,1,1,1,1,1]
[null,null,null,null,"Non-Load Related - other",null,"%",null,null,null,null,null,null,null,null,null,null,null,null,null,null,null,null,null,null,null,null,null,null,null,null,null,null,0.99999999999999989,0.99999999999999989,0.99999999999999989,0.99999999999999989,0.99999999999999989,0.99999999999999989,0.99999999999999989,0.99999999999999989]
[null,null,null,null,"Opex",null,"%",null,null,null,null,null,null,null,null,null,null,null,null,null,null,null,null,null,null,null,null,null,null,null,null,null,null,1,1,1,1,1,1,1,1]
[null,null,null,null,"Repex",null,"%",null,null,null,null,null,null,null,null,null,null,null,null,null,null,null,null,null,null,null,null,null,null,null,null,null,null,1,1,1,1,1,1,1,1]
[]
[null,null,null,"Tax Trigger Deadbands"]
[]
[null,null,null,null,"Tax Trigger Deadband",null,"£m 09/10 prices",null,null,null,null,null,null,null,null,null,null,null,null,null,null,null,null,null,null,null,null,null,null,null,null,null,null,1.2063818965071793,1.1842616866053806,1.2573447697950768,1.2254438210356353,1.2095656010952576,1.2061780784358844,1.1882166018823794,1.1870138458039279]
[]
[null,null,null,"SIU Costs"]
[]
[null,null,null,null,"SIU Costs",null,"£m 09/10 prices",null,null,null,null,null,null,null,null,null,null,null,null,null,null,null,null,null,null,null,null,null,null,null,null,null,null,0,0,0,0,0,0,0,0]
[]
[null,null,null,"Additional Income Workings"]
[]
[null,null,null,null,"Original allowed totex",null,null,null,null,null,null,null,null,null,null,null,null,null,null,null,null,null,null,null,null,null,null,null,null,null,null,null,null,225.83316566748664,225.34631937183843,239.09096313088395,232.70330400496258,237.2056630533844,234.22029096132061,232.6224402294061,232.28524776941507]
[null,null,null,null,"Total allowed totex",null,null,null,1859.3073941886976]
[]
[null,"End of sheet"]

{"sheet":"North West","index":18,"n_rows":292,"n_cols":41,"rows_kept":292,"cut":false,"hidden":false,"merged":[]}
["Input"]
[null,"North West"]
[null,null,null,null,"Parameter","Licence condition","Units","Term","Constant",null,null,null,null,null,null,null,null,null,null,null,null,null,null,null,null,null,null,null,null,null,null,null,null,"Annual values"]
[null,null,null,null,"PCFM year ending",{"$f":"Cover!C3","v":"GD1 PCFM for use in AIP 2018.xlsm"},null,null,{"$f":"UserInterface!$G$10","v":"2019-03-31"},null,"1991-03-31","1992-03-31","1993-03-31","1994-03-31","1995-03-31","1996-03-31","1997-03-31","1998-03-31","1999-03-31","2000-03-31","2001-03-31","2002-03-31","2003-03-31","2004-03-31","2005-03-31","2006-03-31","2007-03-31","2008-03-31","2009-03-31","2010-03-31","2011-03-31","2012-03-31","2013-03-31","2014-03-31","2015-03-31","2016-03-31","2017-03-31","2018-03-31","2019-03-31","2020-03-31","2021-03-31"]
[]
[null,"PCFM Variable Values Table"]
[]
[null,null,null,null,{"$f":"Input!E8","v":"Allowed percentage cost of debt"},{"$f":"Input!F8","v":"3C"},"annual real %",{"$f":"Input!H8","v":"CDE"},null,null,null,null,null,null,null,null,null,null,null,null,null,null,null,null,null,null,null,null,null,null,null,null,null,2.92E-2,2.7199999999999998E-2,2.5499999999999998E-2,2.3800000000000002E-2,2.2200000000000001E-2,2.2200000000000001E-2,2.2200000000000001E-2,2.2200000000000001E-2]
[null,null,null,null,{"$f":"Input!E9","v":"Actual load related capex"},{"$f":"Input!F9","v":"3B"},"£m 09/10 prices",{"$f":"Input!H9","v":"ALC"},null,null,null,null,null,null,null,null,null,null,null,null,null,null,null,null,null,null,null,null,null,null,null,null,null,13.933287395657004,26.524881852154888,11.834117196833995,0,0,0,0,0]
[null,null,null,null,{"$f":"Input!E10","v":"Actual other capex"},{"$f":"Input!F10","v":"3B"},"£m 09/10 prices",{"$f":"Input!H10","v":"AOC"},null,null,null,null,null,null,null,null,null,null,null,null,null,null,null,null,null,null,null,null,null,null,null,null,null,16.654638024704017,17.398722776206178,9.9473892419120649,0,0,0,0,0]
[null,null,null,null,{"$f":"Input!E11","v":"Actual controllable opex"},{"$f":"Input!F11","v":"3B"},"£m 09/10 prices",{"$f":"Input!H11","v":"ACO"},null,null,null,null,null,null,null,null,null,null,null,null,null,null,null,null,null,null,null,null,null,null,null,null,null,87.006811527179622,96.341984135662571,84.226393206711649,0,0,0,0,0]
[null,null,null,null,{"$f":"Input!E12","v":"Actual replacement expenditure"},{"$f":"Input!F12","v":"3B"},"£m 09/10 prices",{"$f":"Input!H12","v":"ARE"},null,null,null,null,null,null,null,null,null,null,null,null,null,null,null,null,null,null,null,null,null,null,null,null,null,69.659028690552006,73.415925192726704,81.687982743062463,0,0,0,0,0]
[null,null,null,null,{"$f":"Input!E13","v":"Allowed uncertain costs (Enhanced physical site security)"},{"$f":"Input!F13","v":"3F"},"£m 09/10 prices",{"$f":"Input!H13","v":"IAEEPS"},null,null,null,null,null,null,null,null,null,null,null,null,null,null,null,null,null,null,null,null,null,null,null,null,null,1.9403459391105196,3.3951646829532462,0.49362937496103881,0.424845753165974,1.7020100422905189,2.319301477784415,0.59608605234779222,0.31237357786831166]
[null,null,null,null,{"$f":"Input!E14","v":"Allowed uncertain costs (Specified street work costs)"},{"$f":"Input!F14","v":"3F"},"£m 09/10 prices",{"$f":"Input!H14","v":"IAESW"},null,null,null,null,null,null,null,null,null,null,null,null,null,null,null,null,null,null,null,null,null,null,null,null,null,1.8153015454606023,1.750655650952514,1.8563035180427618,1.7546423703388285,1.6516657695694554,1.5488203803741423,1.458401935067638,1.3431580830829142]
[null,null,null,null,{"$f":"Input!E15","v":"Allowed uncertain costs (Connection charging boundary change costs)"},{"$f":"Input!F15","v":"3F"},"£m 09/10 prices",{"$f":"Input!H15","v":"IAECCB"},null,null,null,null,null,null,null,null,null,null,null,null,null,null,null,null,null,null,null,null,null,null,null,null,null,0,0,0,0,0,0,0,0]
[null,null,null,null,{"$f":"Input!E16","v":"Allowed uncertain costs (Fuel poor network extension scheme)"},{"$f":"Input!F16","v":"3F"},"£m 09/10 prices",{"$f":"Input!H16","v":"IAEFP"},null,null,null,null,null,null,null,null,null,null,null,null,null,null,null,null,null,null,null,null,null,null,null,null,null,1.6065602956809297,1.6001340544982061,1.6115880699969971,1.6126846681754516,1.6062339295027497,1.564526687840792,1.5284573945621704,1.5223435649839221]
[null,null,null,null,{"$f":"Input!E17","v":"Allowed uncertain costs (Central agent)"},{"$f":"Input!F17","v":"3F"},"£m 09/10 prices",{"$f":"Input!H17","v":"IAECA"},null,null,null,null,null,null,null,null,null,null,null,null,null,null,null,null,null,null,null,null,null,null,null,null,null,-5.7697411737223092E-7,1.4262313706734808E-2,0.1376711481150581,0.13968234374167388,-1.8245404896067847,-2.6993567311842641,-3.538552773677738,-3.96149561739673]
[null,null,null,null,{"$f":"Input!E18","v":"Allowed uncertain costs (Smart metering roll out costs)"},{"$f":"Input!F18","v":"3F"},"£m 09/10 prices",{"$f":"Input!H18","v":"IAESM"},null,null,null,null,null,null,null,null,null,null,null,null,null,null,null,null,null,null,null,null,null,null,null,null,null,0,0,0,0,0,0,0,0]
[null,null,null,null,{"$f":"Input!E19","v":"Allowed uncertain costs (Mains and services replacement expenditure)"},{"$f":"Input!F19","v":"3E"},"£m 09/10 prices",{"$f":"Input!H19","v":"RE"},null,null,null,null,null,null,null,null,null,null,null,null,null,null,null,null,null,null,null,null,null,null,null,null,null,1.9403163999999999,0.80507519999999977,0.92739920000000009,3.0487308749999995,3.0487308749999995,3.0487308749999995,3.0487308749999995,3.0487308749999995]
[null,null,null,null,{"$f":"Input!E20","v":"Allowed uncertain Costs (Large load connection costs)"},{"$f":"Input!F20","v":"3F"},"£m 09/10 prices",{"$f":"Input!H20","v":"IAELLC"},null,null,null,null,null,null,null,null,null,null,null,null,null,null,null,null,null,null,null,null,null,null,null,null,null,0,0,0,0,0,0,0,0]
[null,null,null,null,{"$f":"Input!E21","v":"Allowed innovation roll-out mechanism"},{"$f":"Input!F21","v":"3D"},"£m 09/10 prices",{"$f":"Input!H21","v":"IRM"},null,null,null,null,null,null,null,null,null,null,null,null,null,null,null,null,null,null,null,null,null,null,null,null,null,0,0,0,0,0,0,0,0]
[null,null,null,null,{"$f":"Input!E22","v":"NTS Exit Capacity costs"},{"$f":"Input!F22","v":"1D"},"£m 09/10 prices",{"$f":"Input!H22","v":"AEx"},null,null,null,null,null,null,null,null,null,null,null,null,null,null,null,null,null,null,null,null,null,null,null,null,null,31.332807008343138,31.302975853358898,31.296614159366875,31.296614159366875,31.296614159366875,31.296614159366875,31.296614159366875,31.296614159366875]
[null,null,null,null,{"$f":"Input!E23","v":"Shrinkage costs"},{"$f":"Input!F23","v":"1F"},"£m 09/10 prices",{"$f":"Input!H23","v":"ALSC"},null,null,null,null,null,null,null,null,null,null,null,null,null,null,null,null,null,null,null,null,null,null,null,null,null,8.9519992421804755,8.3800000000000008,8.27,5.76,5.59,5.4,5.24,5.08]
[null,null,null,null,{"$f":"Input!E24","v":"Tax liability allowance adjustments - gearing/interest costs"},{"$f":"Input!F24","v":"3C"},"£m nominal",{"$f":"Input!H24","v":"TGIE"},null,null,null,null,null,null,null,null,null,null,null,null,null,null,null,null,null,null,null,null,null,null,null,null,null,0,0,0,0,0,0,0,0]
[null,null,null,null,{"$f":"Input!E25","v":"Tax liability allowance adjustments - driven by tax trigger events"},{"$f":"Input!F25","v":"3C"},"£m 09/10 prices",{"$f":"Input!H25","v":"TTE"},null,null,null,null,null,null,null,null,null,null,null,null,null,null,null,null,null,null,null,null,null,null,null,null,null,0,0,-0.24205432729407406,-0.20940328919533613,-1.681412460177139,0,0,0]
[null,null,null,null,{"$f":"Input!E26","v":"Pension scheme administration and Pension Protection Fund Levy"},{"$f":"Input!F26","v":"3C"},"£m 09/10 prices",{"$f":"Input!H26","v":"APFE"},null,null,null,null,null,null,null,null,null,null,null,null,null,null,null,null,null,null,null,null,null,null,null,null,null,0.08,8.0918317398799289E-2,8.0918317398799289E-2,8.0918317398799289E-2,8.0918317398799289E-2,8.0918317398799289E-2,8.0918317398799289E-2,8.0918317398799289E-2]
[null,null,null,null,{"$f":"Input!E27","v":"Pension scheme deficit revenue allowances"},{"$f":"Input!F27","v":"3C"},"£m 09/10 prices",{"$f":"Input!H27","v":"EDE"},null,null,null,null,null,null,null,null,null,null,null,null,null,null,null,null,null,null,null,null,null,null,null,null,null,3.3446542863388697,3.3446542863388697,2.6602727846717604,2.6602727846717604,2.6602727846717604,2.6602727846717604,2.6602727846717604,2.6602727846717604]
[null,null,null,null,{"$f":"Input!E28","v":"Legacy price control allowed revenue adjustment"},{"$f":"Input!F28","v":"3A"},"£m 09/10 prices",{"$f":"Input!H28","v":"LAR"},null,null,null,null,null,null,null,null,null,null,null,null,null,null,null,null,null,null,null,null,null,null,null,null,null,3.0566859520037104]
[null,null,null,null,{"$f":"Input!E29","v":"Legacy price control RAV additions adjustment"},{"$f":"Input!F29","v":"3A"},"£m 09/10 prices",{"$f":"Input!H29","v":"LRAV"},null,null,null,null,null,null,null,null,null,null,null,null,null,null,null,null,null,null,null,null,null,null,null,null,null,-13.156610953716498]
[]
[null,"Policy"]
[]
[null,null,"Cost of capital"]
[]
[null,null,null,null,"Cost of debt",null,"annual real %",null,null,">",null,null,null,null,null,null,null,null,null,null,null,null,null,null,null,null,null,null,null,null,null,null,null,{"$f":"AH8","v":2.92E-2},2.7199999999999998E-2,2.5499999999999998E-2,2.3800000000000002E-2,2.2200000000000001E-2,2.2200000000000001E-2,2.2200000000000001E-2,2.2200000000000001E-2]
[null,null,null,null,"Cost of equity",null,"annual real %",null,null,">",null,null,null,null,null,null,null,null,null,null,null,null,null,null,null,null,null,null,null,null,null,null,null,6.7000000000000004E-2,6.7000000000000004E-2,6.7000000000000004E-2,6.7000000000000004E-2,6.7000000000000004E-2,6.7000000000000004E-2,6.7000000000000004E-2,6.7000000000000004E-2]
[null,null,null,null,"Notional gearing",null,"%",null,null,">",null,null,null,null,null,null,null,null,null,null,null,null,null,null,null,null,null,null,null,null,null,null,0.625,0.65,0.65,0.65,0.65,0.65,0.65,0.65,0.65]
[]
[null,null,null,null,"Vanilla WACC",null,"annual real %",null,null,">",null,null,null,null,null,null,null,null,null,null,null,null,null,null,null,null,null,null,null,null,null,null,null,{"$f":"(AH35 * AH37) + (AH36 * (1 - AH37))","v":4.2429999999999995E-2},4.113E-2,4.0024999999999998E-2,3.8919999999999996E-2,3.7879999999999997E-2,3.7879999999999997E-2,3.7879999999999997E-2,3.7879999999999997E-2]
[]
[null,null,null,null,"Closing gearing",null,"%",null,0.625]
[]
[null,null,null,null,"Forecast RPI (simple average year to March)",null,"index value",null,null,">",null,null,null,null,null,null,null,null,null,null,null,173.875,177.517,182.47499999999999,188.15,193.108,200.31700000000001,208.59200000000001,214.78299999999999,215.767,226.47499999999999,{"$f":"ROUND(AVERAGE(234.4,235.2,235.2,234.7,236.1,237.9,238,238.5,239.4,238,239.9,240.8),3)","v":237.34200000000001},{"$f":"ROUND(AF43*(1+2.8%),3)","v":243.988},{"$f":"ROUND(AG43*(1+2.8%),3)","v":250.82},257.84300000000002,265.06299999999999,272.48500000000001,280.11500000000001,287.95800000000003,296.02100000000002,304.31]
[null,null,null,null,"Cost of Debt Inflation",null,"index value",null,null,">",null,null,null,null,null,null,null,null,null,null,null,173.875,177.517,182.47499999999999,188.15,193.108,200.31700000000001,208.59200000000001,214.78299999999999,215.767,226.47499999999999,{"$f":"ROUND(AVERAGE(234.4,235.2,235.2,234.7,236.1,237.9,238,238.5,239.4,238,239.9,240.8),3)","v":237.34200000000001},{"$f":"ROUND(AF44*(1+2.8%),3)","v":243.988},250.82,257.84300000000002,265.06299999999999,272.48500000000001,280.11500000000001,287.95800000000003,296.02100000000002,304.31]
[null,null,"TIM and capitalisation"]
[]
[null,null,null,null,"Years from t until normal reporting of actual costs",null,"years",null,2]
[]
[null,null,null,null,{"$f":"Input!E49","v":"Capitalised share of totex (excluding repex)"},null,"%",null,null,null,null,null,null,null,null,null,null,null,null,null,null,null,null,null,null,null,null,null,null,null,null,null,null,0.26095352485819256,0.26095352485819256,0.26095352485819256,0.26095352485819256,0.26095352485819256,0.26095352485819256,0.26095352485819256,0.26095352485819256]
[null,null,null,null,{"$f":"Input!E50","v":"Capitalised share of repex"},null,"%",null,null,null,null,null,null,null,null,null,null,null,null,null,null,null,null,null,null,null,null,null,null,null,null,null,null,0.5,0.5714285714285714,0.64285714285714279,0.71428571428571419,0.78571428571428559,0.85714285714285698,0.92857142857142838,1]
[]
[null,null,null,null,"Incentive rate (slope)",null,"scalar",null,-1.666666666666667E-3]
[null,null,null,null,"Incentive rate (intercept)",null,"scalar",null,0.81666666666666665]
[null,null,null,null,"Additional income (intercept)",null,"scalar",null,14.583333333333332]
[]
[null,null,null,null,"Weight of Ofgem's view on price control totex",null,"%",null,0.75]
[null,null,null,null,"Weight of operator's view on price control totex",null,"%",null,0.25]
[]
[null,null,null,null,"GD TIM group ratio",null,"scalar",null,111.77479741299152]
[]
[null,null,null,null,"Ofgem's view of  licensee totex",null,"£m 09/10 prices",null,1556.1758447309162]
[null,null,null,null,"Operator's view of licensee totex",null,"£m 09/10 prices",null,1717.5533140095567]
[]
[null,null,null,null,"Ofgem's view of group price control totex",null,"£m 09/10 prices",null,6729.0571105813278]
[null,null,null,null,"Operator's view of group price control totex",null,"£m 09/10 prices",null,7521.3899531567795]
[]
[null,null,"Finance"]
[]
[null,null,null,null,"Minimum equity issuance threshold",null,"%",null,0.05]
[null,null,null,null,"Equity issuance costs",null,"%",null,0.05]
[null,null,null,null,"Assumed dividends as % of notional equity portion of RAV",null,"%",null,0.05]
[]
[null,null,null,null,"Equity issuance gearing target",null,"%",null,null,null,null,null,null,null,null,null,null,null,null,null,null,null,null,null,null,null,null,null,null,null,null,null,null,{"$f":"AH37","v":0.65},{"$f":"AI37","v":0.65},0.65,0.65,0.65,0.65,0.65,0.65]
[]
[null,null,null,null,"Index-linked debt as a percentage of net debt",null,"%",null,null,null,null,null,null,null,null,null,null,null,null,null,null,null,null,null,null,null,null,null,null,null,null,null,null,0.25,0.25,0.25,0.25,0.25,0.25,0.25,0.25]
[]
[null,"Expenditure"]
[]
[null,null,"Totex"]
[]
[null,null,null,"Non-variant allowances"]
[]
[null,null,null,null,"Non-variant allowed load related capex",null,"£m 09/10 prices",null,null,null,null,null,null,null,null,null,null,null,null,null,null,null,null,null,null,null,null,null,null,null,null,null,null,20.376642015051686,15.975625947747698,14.099834212737793,14.772364020437251,17.104180422089229,14.773637240132899,14.844493789803014,13.951981354767945]
[null,null,null,null,"Non-variant allowed non-load related capex - other",null,"£m 09/10 prices",null,null,null,null,null,null,null,null,null,null,null,null,null,null,null,null,null,null,null,null,null,null,null,null,null,null,20.567228228827819,14.474511662879173,11.218608809536104,11.057793567142792,13.01200956369358,12.904158538188019,11.873387611617435,9.0438212734554195]
[null,null,null,null,"Non-variant allowed controllable opex",null,"£m 09/10 prices",null,null,null,null,null,null,null,null,null,null,null,null,null,null,null,null,null,null,null,null,null,null,null,null,null,null,83.589246695359776,81.998830593073777,82.714806580633763,84.423574930874949,82.664048876448916,82.217971314005695,81.630718210972617,80.678317230280996]
[null,null,null,null,"Non-variant allowed repex",null,"£m 09/10 prices",null,null,null,null,null,null,null,null,null,null,null,null,null,null,null,null,null,null,null,null,null,null,null,null,null,null,82.97384328528355,83.346817091829124,83.721624630305485,83.889056888579859,84.203160244687524,84.473499685101572,84.753958733218312,84.862953628083986]
[]
[null,null,null,"Variant allowances"]
[]
[null,null,null,null,{"$f":"Input!E90","v":"Allowed uncertain costs (Enhanced physical site security)"},null,"£m 09/10 prices",null,null,null,null,null,null,null,null,null,null,null,null,null,null,null,null,null,null,null,null,null,null,null,null,null,null,{"$f":"AH13","v":1.9403459391105196},{"$f":"AI13","v":3.3951646829532462},0.49362937496103881,0.424845753165974,1.7020100422905189,2.319301477784415,0.59608605234779222,0.31237357786831166]
[null,null,null,null,{"$f":"Input!E91","v":"Allocation to load related capex"},null,"%",null,null,null,null,null,null,null,null,null,null,null,null,null,null,null,null,null,null,null,null,null,null,null,null,null,null,0,0,0,0,0,0,0,0]
[null,null,null,null,{"$f":"Input!E92","v":"Allocation to non-load related capex - other"},null,"%",null,null,null,null,null,null,null,null,null,null,null,null,null,null,null,null,null,null,null,null,null,null,null,null,null,null,1,1,1,1,1,1,1,1]
[null,null,null,null,{"$f":"Input!E93","v":"Allocation to controllable opex"},null,"%",null,null,null,null,null,null,null,null,null,null,null,null,null,null,null,null,null,null,null,null,null,null,null,null,null,null,0,0,0,0,0,0,0,0]
[null,null,null,null,{"$f":"Input!E94","v":"Allocation to repex"},null,"%",null,null,null,null,null,null,null,null,null,null,null,null,null,null,null,null,null,null,null,null,null,null,null,null,null,null,0,0,0,0,0,0,0,0]
[]
[null,null,null,null,{"$f":"Input!E96","v":"Allowed uncertain costs (Specified street work costs)"},null,"£m 09/10 prices",null,null,null,null,null,null,null,null,null,null,null,null,null,null,null,null,null,null,null,null,null,null,null,null,null,null,{"$f":"AH14","v":1.8153015454606023},1.750655650952514,1.8563035180427618,1.7546423703388285,1.6516657695694554,1.5488203803741423,1.458401935067638,1.3431580830829142]
[null,null,null,null,{"$f":"Input!E97","v":"Allocation to load related capex"},null,"%",null,null,null,null,null,null,null,null,null,null,null,null,null,null,null,null,null,null,null,null,null,null,null,null,null,null,0.05,0.05,0.05,0.05,0.05,0.05,0.05,0.05]
[null,null,null,null,{"$f":"Input!E98","v":"Allocation to non-load related capex - other"},null,"%",null,null,null,null,null,null,null,null,null,null,null,null,null,null,null,null,null,null,null,null,null,null,null,null,null,null,0,0,0,0,0,0,0,0]
[null,null,null,null,{"$f":"Input!E99","v":"Allocation to controllable opex"},null,"%",null,null,null,null,null,null,null,null,null,null,null,null,null,null,null,null,null,null,null,null,null,null,null,null,null,null,0.3,0.3,0.3,0.3,0.3,0.3,0.3,0.3]
[null,null,null,null,{"$f":"Input!E100","v":"Allocation to repex"},null,"%",null,null,null,null,null,null,null,null,null,null,null,null,null,null,null,null,null,null,null,null,null,null,null,null,null,null,0.65,0.65,0.65,0.65,0.65,0.65,0.65,0.65]
[]
[null,null,null,null,{"$f":"Input!E102","v":"Allowed uncertain costs (Connection charging boundary change costs)"},null,"£m 09/10 prices",null,null,null,null,null,null,null,null,null,null,null,null,null,null,null,null,null,null,null,null,null,null,null,null,null,null,{"$f":"AH15","v":0},{"$f":"AI15","v":0},0,0,0,0,0,0]
[null,null,null,null,{"$f":"Input!E103","v":"Allocation to load related capex"},null,"%",null,null,null,null,null,null,null,null,null,null,null,null,null,null,null,null,null,null,null,null,null,null,null,null,null,null,0.9,0.9,0.9,0.9,0.9,0.9,0.9,0.9]
[null,null,null,null,{"$f":"Input!E104","v":"Allocation to non-load related capex - other"},null,"%",null,null,null,null,null,null,null,null,null,null,null,null,null,null,null,null,null,null,null,null,null,null,null,null,null,null,0,0,0,0,0,0,0,0]
[null,null,null,null,{"$f":"Input!E105","v":"Allocation to controllable opex"},null,"%",null,null,null,null,null,null,null,null,null,null,null,null,null,null,null,null,null,null,null,null,null,null,null,null,null,null,0.1,0.1,0.1,0.1,0.1,0.1,0.1,0.1]
[null,null,null,null,{"$f":"Input!E106","v":"Allocation to repex"},null,"%",null,null,null,null,null,null,null,null,null,null,null,null,null,null,null,null,null,null,null,null,null,null,null,null,null,null,0,0,0,0,0,0,0,0]
[]
[null,null,null,null,{"$f":"Input!E108","v":"Allowed uncertain costs (Fuel poor network extension scheme)"},null,"£m 09/10 prices",null,null,null,null,null,null,null,null,null,null,null,null,null,null,null,null,null,null,null,null,null,null,null,null,null,null,{"$f":"AH16","v":1.6065602956809297},{"$f":"AI16","v":1.6001340544982061},1.6115880699969971,1.6126846681754516,1.6062339295027497,1.564526687840792,1.5284573945621704,1.5223435649839221]
[null,null,null,null,{"$f":"Input!E109","v":"Allocation to load related capex"},null,"%",null,null,null,null,null,null,null,null,null,null,null,null,null,null,null,null,null,null,null,null,null,null,null,null,null,null,1,1,1,1,1,1,1,1]
[null,null,null,null,{"$f":"Input!E110","v":"Allocation to non-load related capex - other"},null,"%",null,null,null,null,null,null,null,null,null,null,null,null,null,null,null,null,null,null,null,null,null,null,null,null,null,null,0,0,0,0,0,0,0,0]
[null,null,null,null,{"$f":"Input!E111","v":"Allocation to controllable opex"},null,"%",null,null,null,null,null,null,null,null,null,null,null,null,null,null,null,null,null,null,null,null,null,null,null,null,null,null,0,0,0,0,0,0,0,0]
[null,null,null,null,{"$f":"Input!E112","v":"Allocation to repex"},null,"%",null,null,null,null,null,null,null,null,null,null,null,null,null,null,null,null,null,null,null,null,null,null,null,null,null,null,0,0,0,0,0,0,0,0]
[]
[null,null,null,null,{"$f":"Input!E114","v":"Allowed uncertain costs (Central agent)"},null,"£m 09/10 prices",null,null,null,null,null,null,null,null,null,null,null,null,null,null,null,null,null,null,null,null,null,null,null,null,null,null,{"$f":"AH17","v":-5.7697411737223092E-7},1.4262313706734808E-2,0.1376711481150581,0.13968234374167388,-1.8245404896067847,-2.6993567311842641,-3.538552773677738,-3.96149561739673]
[null,null,null,null,{"$f":"Input!E115","v":"Allocation to load related capex"},null,"%",null,null,null,null,null,null,null,null,null,null,null,null,null,null,null,null,null,null,null,null,null,null,null,null,null,null,0,0,0,0,0,0,0,0]
[null,null,null,null,{"$f":"Input!E116","v":"Allocation to non-load related capex - other"},null,"%",null,null,null,null,null,null,null,null,null,null,null,null,null,null,null,null,null,null,null,null,null,null,null,null,null,null,0.15,0.15,0.15,0.15,0.15,0.15,0.15,0.15]
[null,null,null,null,{"$f":"Input!E117","v":"Allocation to controllable opex"},null,"%",null,null,null,null,null,null,null,null,null,null,null,null,null,null,null,null,null,null,null,null,null,null,null,null,null,null,0.85,0.85,0.85,0.85,0.85,0.85,0.85,0.85]
[null,null,null,null,{"$f":"Input!E118","v":"Allocation to repex"},null,"%",null,null,null,null,null,null,null,null,null,null,null,null,null,null,null,null,null,null,null,null,null,null,null,null,null,null,0,0,0,0,0,0,0,0]
[]
[null,null,null,null,{"$f":"Input!E120","v":"Allowed uncertain costs (Smart metering roll out costs)"},null,"£m 09/10 prices",null,null,null,null,null,null,null,null,null,null,null,null,null,null,null,null,null,null,null,null,null,null,null,null,null,null,{"$f":"AH18","v":0},0,0,0,0,0,0,0]
[null,null,null,null,{"$f":"Input!E121","v":"Allocation to load related capex"},null,"%",null,null,null,null,null,null,null,null,null,null,null,null,null,null,null,null,null,null,null,null,null,null,null,null,null,null,0,0,0,0,0,0,0,0]
[null,null,null,null,{"$f":"Input!E122","v":"Allocation to non-load related capex - other"},null,"%",null,null,null,null,null,null,null,null,null,null,null,null,null,null,null,null,null,null,null,null,null,null,null,null,null,null,0,0,0,0,0,0,0,0]
[null,null,null,null,{"$f":"Input!E123","v":"Allocation to controllable opex"},null,"%",null,null,null,null,null,null,null,null,null,null,null,null,null,null,null,null,null,null,null,null,null,null,null,null,null,null,0.5,0.5,0.5,0.5,0.5,0.5,0.5,0.5]
[null,null,null,null,{"$f":"Input!E124","v":"Allocation to repex"},null,"%",null,null,null,null,null,null,null,null,null,null,null,null,null,null,null,null,null,null,null,null,null,null,null,null,null,null,0.5,0.5,0.5,0.5,0.5,0.5,0.5,0.5]
[]
[null,null,null,null,{"$f":"Input!E126","v":"Allowed uncertain costs (Mains and services replacement expenditure)"},null,"£m 09/10 prices",null,null,null,null,null,null,null,null,null,null,null,null,null,null,null,null,null,null,null,null,null,null,null,null,null,null,{"$f":"AH19","v":1.9403163999999999},{"$f":"AI19","v":0.80507519999999977},0.92739920000000009,3.0487308749999995,3.0487308749999995,3.0487308749999995,3.0487308749999995,3.0487308749999995]
[null,null,null,null,{"$f":"Input!E127","v":"Allocation to load related capex"},null,"%",null,null,null,null,null,null,null,null,null,null,null,null,null,null,null,null,null,null,null,null,null,null,null,null,null,null,0,0,0,0,0,0,0,0]
[null,null,null,null,{"$f":"Input!E128","v":"Allocation to non-load related capex - other"},null,"%",null,null,null,null,null,null,null,null,null,null,null,null,null,null,null,null,null,null,null,null,null,null,null,null,null,null,0,0,0,0,0,0,0,0]
[null,null,null,null,{"$f":"Input!E129","v":"Allocation to controllable opex"},null,"%",null,null,null,null,null,null,null,null,null,null,null,null,null,null,null,null,null,null,null,null,null,null,null,null,null,null,0,0,0,0,0,0,0,0]
[null,null,null,null,{"$f":"Input!E130","v":"Allocation to repex"},null,"%",null,null,null,null,null,null,null,null,null,null,null,null,null,null,null,null,null,null,null,null,null,null,null,null,null,null,1,1,1,1,1,1,1,1]
[]
[null,null,null,null,{"$f":"Input!E132","v":"Allowed uncertain Costs (Large load connection costs)"},null,"£m 09/10 prices",null,null,null,null,null,null,null,null,null,null,null,null,null,null,null,null,null,null,null,null,null,null,null,null,null,null,{"$f":"AH20","v":0},{"$f":"AI20","v":0},{"$f":"AJ20","v":0},0,{"$f":"AL20","v":0},0,0,0]
[null,null,null,null,{"$f":"Input!E133","v":"Allocation to load related capex"},null,"%",null,null,null,null,null,null,null,null,null,null,null,null,null,null,null,null,null,null,null,null,null,null,null,null,null,null,1,1,1,1,1,1,1,1]
[null,null,null,null,{"$f":"Input!E134","v":"Allocation to non-load related capex - other"},null,"%",null,null,null,null,null,null,null,null,null,null,null,null,null,null,null,null,null,null,null,null,null,null,null,null,null,null,0,0,0,0,0,0,0,0]
[null,null,null,null,{"$f":"Input!E135","v":"Allocation to controllable opex"},null,"%",null,null,null,null,null,null,null,null,null,null,null,null,null,null,null,null,null,null,null,null,null,null,null,null,null,null,0,0,0,0,0,0,0,0]
[null,null,null,null,{"$f":"Input!E136","v":"Allocation to repex"},null,"%",null,null,null,null,null,null,null,null,null,null,null,null,null,null,null,null,null,null,null,null,null,null,null,null,null,null,0,0,0,0,0,0,0,0]
[]
[null,null,null,null,{"$f":"Input!E138","v":"Allowed innovation roll-out mechanism"},null,"£m 09/10 prices",null,null,null,null,null,null,null,null,null,null,null,null,null,null,null,null,null,null,null,null,null,null,null,null,null,null,{"$f":"AH21","v":0},{"$f":"AI21","v":0},0,0,0,0,0,0]
[null,null,null,null,{"$f":"Input!E139","v":"Allocation to load related capex"},null,"%",null,null,null,null,null,null,null,null,null,null,null,null,null,null,null,null,null,null,null,null,null,null,null,null,null,null,0.5,0.5,0.5,0.5,0.5,0.5,0.5,0.5]
[null,null,null,null,{"$f":"Input!E140","v":"Allocation to non-load related capex - other"},null,"%",null,null,null,null,null,null,null,null,null,null,null,null,null,null,null,null,null,null,null,null,null,null,null,null,null,null,0,0,0,0,0,0,0,0]
[null,null,null,null,{"$f":"Input!E141","v":"Allocation to controllable opex"},null,"%",null,null,null,null,null,null,null,null,null,null,null,null,null,null,null,null,null,null,null,null,null,null,null,null,null,null,0.5,0.5,0.5,0.5,0.5,0.5,0.5,0.5]
[null,null,null,null,{"$f":"Input!E142","v":"Allocation to repex"},null,"%",null,null,null,null,null,null,null,null,null,null,null,null,null,null,null,null,null,null,null,null,null,null,null,null,null,null,0,0,0,0,0,0,0,0]
[]
[null,null,null,null,"Variant allowed load related capex",null,"£m 09/10 prices",null,null,null,null,null,null,null,null,null,null,null,null,null,null,null,null,null,null,null,null,null,null,null,null,null,null,{"$f":"(AH$90*AH91) + (AH$96*AH97) + (AH$102*AH103) + (AH$108*AH109) + (AH$114*AH115) + (AH$120*AH121)      + (AH$126 * AH127) + (AH$132*AH133) + (AH$138*AH139)","v":1.6973253729539599},{"$f":"(AI$90*AI91) + (AI$96*AI97) + (AI$102*AI103) + (AI$108*AI109) + (AI$114*AI115) + (AI$120*AI121)      + (AI$126 * AI127) + (AI$132*AI133) + (AI$138*AI139)","v":1.6876668370458319},1.7044032458991352,1.7004167866923932,1.6888172179812224,1.6419677068594991,1.6013774913155523,1.5895014691380678]
[null,null,null,null,"Variant allowed non-load related capex - other",null,"£m 09/10 prices",null,null,null,null,null,null,null,null,null,null,null,null,null,null,null,null,null,null,null,null,null,null,null,null,null,null,{"$f":"(AH$90*AH92) + (AH$96*AH98) + (AH$102*AH104) + (AH$108*AH110) + (AH$114*AH116) + (AH$120*AH122)      + (AH$126 * AH128) + (AH$132*AH134) + (AH$138*AH140)","v":1.940345852564402},3.3973040300092565,0.51428004717829756,0.44579810472722509,1.4283289688495011,1.9143979681067753,6.5303136296131492E-2,-0.28185076474119786]
[null,null,null,null,"Variant allowed controllable opex",null,"£m 09/10 prices",null,null,null,null,null,null,null,null,null,null,null,null,null,null,null,null,null,null,null,null,null,null,null,null,null,null,{"$f":"(AH$90*AH93) + (AH$96*AH99) + (AH$102*AH105) + (AH$108*AH111) + (AH$114*AH117) + (AH$120*AH123)      + (AH$126 * AH129) + (AH$132*AH135) + (AH$138*AH141)","v":0.54458997321018088},0.53731966193647873,0.67391153131062798,0.64512270328207133,-1.0553596852949303,-1.8298071073943818,-2.5702492771057859,-2.9643238498623461]
[null,null,null,null,"Variant allowed repex",null,"£m 09/10 prices",null,null,null,null,null,null,null,null,null,null,null,null,null,null,null,null,null,null,null,null,null,null,null,null,null,null,{"$f":"(AH$90*AH94) + (AH$96*AH100) + (AH$102*AH106) + (AH$108*AH112) + (AH$114*AH118) + (AH$120*AH124)      + (AH$126 * AH130) + (AH$132*AH136) + (AH$138*AH142)","v":3.1202624045493916},1.943001373119134,2.1339964867277952,4.1892484157202379,4.122313625220146,4.0554641222431922,3.9966921327939642,3.9217836290038939]
[]
[null,null,null,"Actual"]
[]
[null,null,null,null,"Actual load related capex",null,"£m 09/10 prices",null,null,null,null,null,null,null,null,null,null,null,null,null,null,null,null,null,null,null,null,null,null,null,null,null,null,{"$f":"AH9","v":13.933287395657004},26.524881852154888,11.834117196833995,0,0,0,0,0]
[null,null,null,null,"Actual non-load related capex - other",null,"£m 09/10 prices",null,null,null,null,null,null,null,null,null,null,null,null,null,null,null,null,null,null,null,null,null,null,null,null,null,null,16.654638024704017,17.398722776206178,9.9473892419120649,0,0,0,0,0]
[null,null,null,null,"Actual controllable opex",null,"£m 09/10 prices",null,null,null,null,null,null,null,null,null,null,null,null,null,null,null,null,null,null,null,null,null,null,null,null,null,null,87.006811527179622,96.341984135662571,84.226393206711649,0,0,0,0,0]
[null,null,null,null,"Actual repex",null,"£m 09/10 prices",null,null,null,null,null,null,null,null,null,null,null,null,null,null,null,null,null,null,null,null,null,null,null,null,null,null,69.659028690552006,73.415925192726704,81.687982743062463,0,0,0,0,0]
[]
[null,null,"Non-totex"]
[]
[null,null,null,null,"Non-controllable opex (Other)",null,"£m 09/10 prices",null,null,null,null,null,null,null,null,null,null,null,null,null,null,null,null,null,null,null,null,null,null,null,null,null,null,32.01491334082975,32.06765457542916,32.077089501117861,32.077089501117854,32.077089501117854,32.077089501117861,32.077089501117854,32.077089501117861]
[null,null,null,null,"Non-controllable opex (Exit Charges)",null,"£m 09/10 prices",null,null,null,null,null,null,null,null,null,null,null,null,null,null,null,null,null,null,null,null,null,null,null,null,null,null,{"$f":"AH22","v":31.332807008343138},{"$f":"AI22","v":31.302975853358898},31.296614159366875,31.296614159366875,31.296614159366875,31.296614159366875,31.296614159366875,31.296614159366875]
[null,null,null,null,"Non-controllable opex (Shrinkage)",null,"£m 09/10 prices",null,null,null,null,null,null,null,null,null,null,null,null,null,null,null,null,null,null,null,null,null,null,null,null,null,null,{"$f":"AH23","v":8.9519992421804755},8.3800000000000008,8.27,5.76,5.59,5.4,5.24,5.08]
[null,null,null,null,"Non-controllable opex",null,"£m 09/10 prices",null,null,null,null,null,null,null,null,null,null,null,null,null,null,null,null,null,null,null,null,null,null,null,null,null,null,{"$f":"SUM(AH158:AH160)","v":72.299719591353366},{"$f":"SUM(AI158:AI160)","v":71.750630428788057},71.643703660484732,69.133703660484727,68.963703660484725,68.773703660484742,68.613703660484731,68.453703660484734]
[]
[null,"Direct allowed revenue terms (DARTs)"]
[]
[null,null,null,null,{"$f":"E26","v":"Pension scheme administration and Pension Protection Fund Levy"},null,"£m 09/10 prices",null,null,null,null,null,null,null,null,null,null,null,null,null,null,null,null,null,null,null,null,null,null,null,null,null,null,{"$f":"AH26","v":0.08},8.0918317398799289E-2,8.0918317398799289E-2,8.0918317398799289E-2,8.0918317398799289E-2,8.0918317398799289E-2,8.0918317398799289E-2,8.0918317398799289E-2]
[null,null,null,null,{"$f":"E27","v":"Pension scheme deficit revenue allowances"},null,"£m 09/10 prices",null,null,null,null,null,null,null,null,null,null,null,null,null,null,null,null,null,null,null,null,null,null,null,null,null,null,{"$f":"AH27","v":3.3446542863388697},3.3446542863388697,2.6602727846717604,2.6602727846717604,2.6602727846717604,2.6602727846717604,2.6602727846717604,2.6602727846717604]
[]
[null,null,null,null,"Pension true-up from previous price controls",null,"£m 09/10 prices",null,0.53857136272917394,null,null,null,null,null,null,null,null,null,null,null,null,null,null,null,null,null,null,null,null,null,null,null,null,{"$f":"($I$168/8)","v":6.7321420341146743E-2},{"$f":"($I$168/8)*(1+$AI$39)","v":7.0090350359778106E-2},{"$f":"($I$168/8)*(1+$AI$39)*(1+$AJ$39)","v":7.2895716632928223E-2},{"$f":"($I$168/8)*(1+$AI$39)*(1+$AJ$39)*(1+$AK$39)","v":7.5732817924281798E-2},{"$f":"($I$168/8)*(1+$AI$39)*(1+$AJ$39)*(1+$AK$39)*(1+$AL$39)","v":7.8601577067253584E-2},{"$f":"($I$168/8)*(1+$AI$39)*(1+$AJ$39)*(1+$AK$39)*(1+$AL$39)*(1+$AM$39)","v":8.1579004806561148E-2},{"$f":"($I$168/8)*(1+$AI$39)*(1+$AJ$39)*(1+$AK$39)*(1+$AL$39)*(1+$AM$39)*(1+$AN$39)","v":8.4669217508633682E-2},{"$f":"($I$168/8)*(1+$AI$39)*(1+$AJ$39)*(1+$AK$39)*(1+$AL$39)*(1+$AM$39)*(1+$AN$39)*(1+$AO$39)","v":8.7876487467860712E-2}]
[]
[null,null,null,null,{"$f":"Input!E170","v":"Revenue adjustment from previous controls (Base)"},null,"£m 09/10 prices",null,-2.0486410172126446,null,null,null,null,null,null,null,null,null,null,null,null,null,null,null,null,null,null,null,null,null,null,null,null,{"$f":"($I$170/8)","v":-0.25608012715158057},{"$f":"($I$170/8)*(1+$AI$39)","v":-0.26661270278132504},{"$f":"($I$170/8)*(1+$AI$39)*(1+$AJ$39)","v":-0.27728387621014755},{"$f":"($I$170/8)*(1+$AI$39)*(1+$AJ$39)*(1+$AK$39)","v":-0.28807576467224649},{"$f":"($I$170/8)*(1+$AI$39)*(1+$AJ$39)*(1+$AK$39)*(1+$AL$39)","v":-0.29898807463803118},{"$f":"($I$170/8)*(1+$AI$39)*(1+$AJ$39)*(1+$AK$39)*(1+$AL$39)*(1+$AM$39)","v":-0.31031374290531977},{"$f":"($I$170/8)*(1+$AI$39)*(1+$AJ$39)*(1+$AK$39)*(1+$AL$39)*(1+$AM$39)*(1+$AN$39)","v":-0.32206842748657327},{"$f":"($I$170/8)*(1+$AI$39)*(1+$AJ$39)*(1+$AK$39)*(1+$AL$39)*(1+$AM$39)*(1+$AN$39)*(1+$AO$39)","v":-0.33426837951976462}]
[null,null,null,null,{"$f":"Input!E171","v":"Legacy price control allowed revenue adjustment"},null,"£m 09/10 prices",null,null,null,null,null,null,null,null,null,null,null,null,null,null,null,null,null,null,null,null,null,null,null,null,null,null,{"$f":"($AH$28/8)","v":0.3820857440004638},{"$f":"($AH$28/8)*(1+$AI$39)","v":0.39780093065120281},{"$f":"($AH$28/8)*(1+$AI$39)*(1+$AJ$39)","v":0.41372291290051721},{"$f":"($AH$28/8)*(1+$AI$39)*(1+$AJ$39)*(1+$AK$39)","v":0.42982500867060536},{"$f":"($AH$28/8)*(1+$AI$39)*(1+$AJ$39)*(1+$AK$39)*(1+$AL$39)","v":0.44610677999904785},{"$f":"($AH$28/8)*(1+$AI$39)*(1+$AJ$39)*(1+$AK$39)*(1+$AL$39)*(1+$AM$39)","v":0.46300530482541175},{"$f":"($AH$28/8)*(1+$AI$39)*(1+$AJ$39)*(1+$AK$39)*(1+$AL$39)*(1+$AM$39)*(1+$AN$39)","v":0.48054394577219828},{"$f":"($AH$28/8)*(1+$AI$39)*(1+$AJ$39)*(1+$AK$39)*(1+$AL$39)*(1+$AM$39)*(1+$AN$39)*(1+$AO$39)","v":0.49874695043804912}]
[null,null,null,null,"Revenue adjustment from previous controls",null,"£m 09/10 prices",null,null,null,null,null,null,null,null,null,null,null,null,null,null,null,null,null,null,null,null,null,null,null,null,null,null,{"$f":"AH170+AH171","v":0.12600561684888323},{"$f":"AI170+AI171","v":0.13118822786987777},0.13643903669036966,0.14174924399835886,0.14711870536101668,0.15269156192009198,0.15847551828562501,0.16447857091828449]
[]
[null,null,null,null,"Excluded services revenue",null,"£m 09/10 prices",null,null,null,null,null,null,null,null,null,null,null,null,null,null,null,null,null,null,null,null,null,null,null,null,null,null,3.037474746255779,2.8220650640857943,2.6811629899604048,2.6872782347791357,2.6870390721859572,2.6874589756401601,2.6938619177506737,2.6582539829168526]
[null,null,null,null,"Identified excluded services costs",null,"£m 09/10 prices",null,null,null,null,null,null,null,null,null,null,null,null,null,null,null,null,null,null,null,null,null,null,null,null,null,null,3.037474746255779,2.8220650640857943,2.6811629899604048,2.6872782347791357,2.6870390721859572,2.6874589756401601,2.6938619177506737,2.6582539829168526]
[null,null,null,null,"Excluded services",null,"£m 09/10 prices",null,null,null,null,null,null,null,null,null,null,null,null,null,null,null,null,null,null,null,null,null,null,null,null,null,null,{"$f":"SUM(AH174, -AH175)","v":0},{"$f":"SUM(AI174, -AI175)","v":0},0,0,0,0,0,0]
[]
[null,"RAV and assets"]
[]
[null,null,"Pre-vesting assets"]
[]
[null,null,null,null,"Pre-vesting RAV cost opening balance brought forward (before transfers)",null,"£m 09/10 prices",null,null,null,null,null,null,null,null,null,null,null,null,null,null,null,null,null,null,null,null,null,null,null,null,null,null,1450.4206850874621]
[null,null,null,null,"Pre-vesting RAV cumulative depreciation opening balance brought forward (before transfers)",null,"£m 09/10 prices",null,null,null,null,null,null,null,null,null,null,null,null,null,null,null,null,null,null,null,null,null,null,null,null,null,null,510.62723777519722]
[]
[null,null,null,null,"Pre-vesting asset life",null,"years",null,56]
[null,null,null,null,"Pre-vesting RAV disposals",null,"£m 09/10 prices",null,null,null,null,null,null,null,null,null,null,null,null,null,null,null,null,null,null,null,null,null,null,null,null,null,null,-8.7398579030928888E-2,-0.79586986988707598,-0.28581565294182582,-2.4662136827048728,0,0,0,0]
[null,null,null,null,"RAV adjustments from previous price controls (not modelled in PCFM)",null,"years",null,null,null,null,null,null,null,null,null,null,null,null,null,null,null,null,null,null,null,null,null,null,null,null,null,null,45,44,43,42,41,40,39,38]
[]
[null,null,"Post-vesting assets"]
[]
[null,null,null,null,"Gas distribution"]
[null,null,null,null,{"$f":"Input!E192","v":"GD post-vesting asset life"},null,"years",null,45]
[null,null,null,null,{"$f":"Input!E193","v":"GD smoothing profile for recovery of backlog depreciation"},null,"years",null,null,null,null,null,null,null,null,null,null,null,null,null,null,null,null,null,null,null,null,null,null,null,null,null,null,0.15,0.15,2.5000000000000001E-2,0,0.05,0.125,0.2,0.3]
[null,null,null,null,{"$f":"Input!E194","v":"GD start of smoothing period"},null,"year ending",null,"2014-03-31"]
[null,null,null,null,{"$f":"Input!E195","v":"Pre-RIIO net additions to RAV"},null,"£m 09/10 prices",null,null,">",null,null,null,null,null,null,null,null,null,null,null,null,51.732771816807173,48.939425606396419,44.134870124489922,51.852377340994799,52.599676322600821,103.25766927610474,82.130481942689144,99.139095984123642,123.77051614812271,131.10513135702598,96.868711601504856]
[null,null,null,null,"LRAV",null,"£m 09/10 prices",null,null,null,null,null,null,null,null,null,null,null,null,null,null,null,null,null,null,null,null,null,null,null,null,null,null,{"$f":"AH29","v":-13.156610953716498}]
[null,null,null,null,"RIIO post-vesting RAV additions",null,"£m 09/10 prices",null,null,null,null,null,null,null,null,null,null,null,null,null,null,null,null,null,null,null,null,null,null,null,null,null,null,13.870867062472461,0,0,0,0,0,0,0]
[null,null,null,null,"RIIO post-vesting RAV disposals",null,null,null,null,null,null,null,null,null,null,null,null,null,null,null,null,null,null,null,null,null,null,null,null,null,null,null,null,0,0,-6.4693828601189149E-2,-0.26731646013769161,-0.5,-2.1,-1.2,-3]
[null,null,null,null,{"$f":"Input!E199","v":"Pre-RIIO transfers to depreciation"},null,"£m 09/10 prices",null,null,">",null,null,null,null,null,null,null,null,null,null,null,0,0,0,0,0,0,3.8271610997468199,6.820829967628278E-2,0.97082738030111071,3.0489857565010974,4.5958737986091638,0]
[]
[null,null,"Fuel Poor"]
[]
[null,null,null,null,"Post-vesting asset life",null,"years",null,45]
[null,null,null,null,"Years additional customer discount applied",null,"years",null,5]
[]
[null,null,null,null,"NPV of future transportation revenue",null,"£m 09/10 prices",null,null,">",null,null,null,null,null,null,null,null,null,null,null,null,null,null,null,null,null,null,0,0,0,0,0]
[null,null,null,null,"Community based schemes actual capex spend",null,"£m 09/10 prices",null,null,">",null,null,null,null,null,null,null,null,null,null,null,null,null,null,null,null,null,null,0,0.16577232719431867,1.8274467384462214,0.79373652784932602,1.7773211114753171]
[]
[null,null,null,null,"One off schemes actual capex spend",null,"£m 09/10 prices",null,null,">",null,null,null,null,null,null,null,null,null,null,null,null,null,null,null,null,null,null,0,1.8526312572810479,1.3538405663283952,0.84259103913226618,0]
[]
[null,"Tax"]
[]
[null,null,"Tax policy"]
[]
[null,null,null,null,{"$f":"E24","v":"Tax liability allowance adjustments - gearing/interest costs"},null,"£m nominal",null,null,null,null,null,null,null,null,null,null,null,null,null,null,null,null,null,null,null,null,null,null,null,null,null,null,{"$f":"AH24","v":0},{"$f":"AI24","v":0},0,0,0,0,0,0]
[null,null,null,null,{"$f":"E25","v":"Tax liability allowance adjustments - driven by tax trigger events"},null,"£m 09/10 prices",null,null,null,null,null,null,null,null,null,null,null,null,null,null,null,null,null,null,null,null,null,null,null,null,null,null,{"$f":"AH25","v":0},0,-0.24205432729407406,-0.20940328919533613,-1.681412460177139,0,0,0]
[]
[null,null,null,null,"Corporation tax rate",null,"%",null,null,">",null,null,null,null,null,null,null,null,null,null,null,null,null,null,0.3,0.3,0.3,0.3,0.28000000000000003,0.28000000000000003,0.28000000000000003,0.26,0.24,0.23,0.21,0.21,0.21,0.21,0.21,0.21,0.21]
[]
[null,null,null,null,"General pool capital allowance rate",null,"%",null,null,">",null,null,null,null,null,null,null,null,null,null,null,0.25,0.25,0.25,0.25,0.25,0.25,0.25,0.2,0.2,0.2,0.2,0.18000000000000002,0.18000000000000002,0.18000000000000002,0.18000000000000002,0.18000000000000002,0.18000000000000002,0.18000000000000002,0.18000000000000002,0.18000000000000002]
[null,null,null,null,"Special Rates capital allowance rate",null,"%",null,null,">",null,null,null,null,null,null,null,null,null,null,null,0.06,0.06,0.06,0.06,0.06,0.06,0.06,0.1,0.1,0.1,0.1,0.08,0.08,0.08,0.08,0.08,0.08,0.08,0.08,0.08]
[null,null,null,null,"Deferred Revenue Expenditure capital allowance rate",null,"%",null,null,">",null,null,null,null,null,null,null,null,null,null,null,null,null,null,null,null,null,null,null,null,null,null,null,2.2200000000000001E-2,2.2200000000000001E-2,2.2200000000000001E-2,2.2200000000000001E-2,2.2200000000000001E-2,2.2200000000000001E-2,2.2200000000000001E-2,2.2200000000000001E-2]
[]
[null,null,"Capital allowances and tax losses"]
[]
[null,null,null,null,"General pool capital allowance opening balance brought forward",null,"£m nominal",null,null,null,null,null,null,null,null,null,null,null,null,null,null,null,null,null,null,null,null,null,null,null,null,null,null,74.804366178829994]
[]
[null,null,null,null,"Special Rate capital allowance opening balance brought forward",null,"£m nominal",null,null,null,null,null,null,null,null,null,null,null,null,null,null,null,null,null,null,null,null,null,null,null,null,null,null,152.03952377937102]
[]
[null,null,null,null,"Deferred revenue expenditure opening balance brought forward",null,"£m nominal",null,null,null,null,null,null,null,null,null,null,null,null,null,null,null,null,null,null,null,null,null,null,null,null,null,null,5.4495390492073055]
[]
[null,null,null,null,"Tax loss brought forward",null,"£m nominal",null,null,null,null,null,null,null,null,null,null,null,null,null,null,null,null,null,null,null,null,null,null,null,null,null,null,0]
[]
[null,null,"Tax pool allocation"]
[]
[null,null,null,"Allocation to \"General\" pool"]
[]
[null,null,null,null,"Load Related",null,"%",null,null,null,null,null,null,null,null,null,null,null,null,null,null,null,null,null,null,null,null,null,null,null,null,null,null,2.8999999999999998E-3,2.8999999999999998E-3,2.8999999999999998E-3,2.8999999999999998E-3,2.8999999999999998E-3,2.8999999999999998E-3,2.8999999999999998E-3,2.8999999999999998E-3]
[null,null,null,null,"Non-Load Related - other",null,"%",null,null,null,null,null,null,null,null,null,null,null,null,null,null,null,null,null,null,null,null,null,null,null,null,null,null,0.89756098390240724,0.89756098390240724,0.89756098390240724,0.89756098390240724,0.89756098390240724,0.89756098390240724,0.89756098390240724,0.89756098390240724]
[null,null,null,null,"Opex",null,"%",null,null,null,null,null,null,null,null,null,null,null,null,null,null,null,null,null,null,null,null,null,null,null,null,null,null,0,0,0,0,0,0,0,0]
[null,null,null,null,"Repex",null,"%",null,null,null,null,null,null,null,null,null,null,null,null,null,null,null,null,null,null,null,null,null,null,null,null,null,null,0,0,0,0,0,0,0,0]
[]
[null,null,null,"Allocation to \"Special Rate\" pool"]
[]
[null,null,null,null,"Load Related",null,"%",null,null,null,null,null,null,null,null,null,null,null,null,null,null,null,null,null,null,null,null,null,null,null,null,null,null,0.98870000000000002,0.98870000000000002,0.98870000000000002,0.98870000000000002,0.98870000000000002,0.98870000000000002,0.98870000000000002,0.98870000000000002]
[null,null,null,null,"Non-Load Related - other",null,"%",null,null,null,null,null,null,null,null,null,null,null,null,null,null,null,null,null,null,null,null,null,null,null,null,null,null,1.6271113794003381E-2,1.6271113794003381E-2,1.6271113794003381E-2,1.6271113794003381E-2,1.6271113794003381E-2,1.6271113794003381E-2,1.6271113794003381E-2,1.6271113794003381E-2]
[null,null,null,null,"Opex",null,"%",null,null,null,null,null,null,null,null,null,null,null,null,null,null,null,null,null,null,null,null,null,null,null,null,null,null,0,0,0,0,0,0,0,0]
[null,null,null,null,"Repex",null,"%",null,null,null,null,null,null,null,null,null,null,null,null,null,null,null,null,null,null,null,null,null,null,null,null,null,null,0,0,0,0,0,0,0,0]
[]
[null,null,null,"Allocation to \"Deferred Revenue\" pool"]
[]
[null,null,null,null,"Load Related",null,"%",null,null,null,null,null,null,null,null,null,null,null,null,null,null,null,null,null,null,null,null,null,null,null,null,null,null,0,0,0,0,0,0,0,0]
[null,null,null,null,"Non-Load Related - other",null,"%",null,null,null,null,null,null,null,null,null,null,null,null,null,null,null,null,null,null,null,null,null,null,null,null,null,null,0,0,0,0,0,0,0,0]
[null,null,null,null,"Opex",null,"%",null,null,null,null,null,null,null,null,null,null,null,null,null,null,null,null,null,null,null,null,null,null,null,null,null,null,0,0,0,0,0,0,0,0]
[null,null,null,null,"Repex",null,"%",null,null,null,null,null,null,null,null,null,null,null,null,null,null,null,null,null,null,null,null,null,null,null,null,null,null,0,0,1,1,1,1,1,1]
[]
[null,null,null,"Allocation to \"Revenue\" pool"]
[]
[null,null,null,null,"Load Related",null,"%",null,null,null,null,null,null,null,null,null,null,null,null,null,null,null,null,null,null,null,null,null,null,null,null,null,null,0,0,0,0,0,0,0,0]
[null,null,null,null,"Non-Load Related - other",null,"%",null,null,null,null,null,null,null,null,null,null,null,null,null,null,null,null,null,null,null,null,null,null,null,null,null,null,0,0,0,0,0,0,0,0]
[null,null,null,null,"Opex",null,"%",null,null,null,null,null,null,null,null,null,null,null,null,null,null,null,null,null,null,null,null,null,null,null,null,null,null,1,1,1,1,1,1,1,1]
[null,null,null,null,"Repex",null,"%",null,null,null,null,null,null,null,null,null,null,null,null,null,null,null,null,null,null,null,null,null,null,null,null,null,null,1,1,0,0,0,0,0,0]
[]
[null,null,null,"Allocation to \"Non Qualifying\" pool"]
[]
[null,null,null,null,"Load Related",null,"%",null,null,null,null,null,null,null,null,null,null,null,null,null,null,null,null,null,null,null,null,null,null,null,null,null,null,8.4000000000000012E-3,8.4000000000000012E-3,8.4000000000000012E-3,8.4000000000000012E-3,8.4000000000000012E-3,8.4000000000000012E-3,8.4000000000000012E-3,8.4000000000000012E-3]
[null,null,null,null,"Non-Load Related - other",null,"%",null,null,null,null,null,null,null,null,null,null,null,null,null,null,null,null,null,null,null,null,null,null,null,null,null,null,8.6167902303589283E-2,8.6167902303589283E-2,8.6167902303589283E-2,8.6167902303589283E-2,8.6167902303589283E-2,8.6167902303589283E-2,8.6167902303589283E-2,8.6167902303589283E-2]
[null,null,null,null,"Opex",null,"%",null,null,null,null,null,null,null,null,null,null,null,null,null,null,null,null,null,null,null,null,null,null,null,null,null,null,0,0,0,0,0,0,0,0]
[null,null,null,null,"Repex",null,"%",null,null,null,null,null,null,null,null,null,null,null,null,null,null,null,null,null,null,null,null,null,null,null,null,null,null,0,0,0,0,0,0,0,0]
[]
[null,null,null,"Allocation check"]
[null,null,null,"Note: All categories should equal 100%"]
[]
[null,null,null,null,"Load Related",null,"%",null,null,null,null,null,null,null,null,null,null,null,null,null,null,null,null,null,null,null,null,null,null,null,null,null,null,{"$f":"AH238+AH245+AH252+AH259+AH266","v":1},1,1,1,1,1,1,1]
[null,null,null,null,"Non-Load Related - other",null,"%",null,null,null,null,null,null,null,null,null,null,null,null,null,null,null,null,null,null,null,null,null,null,null,null,null,null,0.99999999999999989,0.99999999999999989,0.99999999999999989,0.99999999999999989,0.99999999999999989,0.99999999999999989,0.99999999999999989,0.99999999999999989]
[null,null,null,null,"Opex",null,"%",null,null,null,null,null,null,null,null,null,null,null,null,null,null,null,null,null,null,null,null,null,null,null,null,null,null,1,1,1,1,1,1,1,1]
[null,null,null,null,"Repex",null,"%",null,null,null,null,null,null,null,null,null,null,null,null,null,null,null,null,null,null,null,null,null,null,null,null,null,null,1,1,1,1,1,1,1,1]
[]
[null,null,null,"Tax Trigger Deadbands"]
[]
[null,null,null,null,"Tax Trigger Deadband",null,"£m 09/10 prices",null,null,null,null,null,null,null,null,null,null,null,null,null,null,null,null,null,null,null,null,null,null,null,null,null,null,1.2987885357440807,1.2426609844443655,1.252343585145447,1.2320487140770524,1.2376118216962129,1.2324329220647154,1.2316569094697196,1.22911128589156]
[]
[null,null,null,"SIU Costs"]
[]
[null,null,null,null,"SIU Costs",null,"£m 09/10 prices",null,null,null,null,null,null,null,null,null,null,null,null,null,null,null,null,null,null,null,null,null,null,null,null,null,null,0,0,0,0,0,0,0,0]
[]
[null,null,null,"Additional Income Workings"]
[]
[null,null,null,null,"Original allowed totex",null,null,null,null,null,null,null,null,null,null,null,null,null,null,null,null,null,null,null,null,null,null,null,null,null,null,null,null,207.50696022452283,195.79578529552975,191.75487423321314,194.14278940703485,196.98339910691925,194.36926677742821,193.10255834561138,188.53707348658833]
[null,null,null,null,"Total allowed totex",null,null,null,1562.1927068768478]
[]
[null,"End of sheet"]

{"sheet":"West Midlands","index":19,"n_rows":292,"n_cols":41,"rows_kept":292,"cut":false,"hidden":false,"merged":[]}
["Input"]
[null,"West Midlands"]
[null,null,null,null,"Parameter","Licence condition","Units","Term","Constant",null,null,null,null,null,null,null,null,null,null,null,null,null,null,null,null,null,null,null,null,null,null,null,null,"Annual values"]
[null,null,null,null,"PCFM year ending",{"$f":"Cover!C3","v":"GD1 PCFM for use in AIP 2018.xlsm"},null,null,{"$f":"UserInterface!$G$10","v":"2019-03-31"},null,"1991-03-31","1992-03-31","1993-03-31","1994-03-31","1995-03-31","1996-03-31","1997-03-31","1998-03-31","1999-03-31","2000-03-31","2001-03-31","2002-03-31","2003-03-31","2004-03-31","2005-03-31","2006-03-31","2007-03-31","2008-03-31","2009-03-31","2010-03-31","2011-03-31","2012-03-31","2013-03-31","2014-03-31","2015-03-31","2016-03-31","2017-03-31","2018-03-31","2019-03-31","2020-03-31","2021-03-31"]
[]
[null,"PCFM Variable Values Table"]
[]
[null,null,null,null,{"$f":"Input!E8","v":"Allowed percentage cost of debt"},{"$f":"Input!F8","v":"3C"},"annual real %",{"$f":"Input!H8","v":"CDE"},null,null,null,null,null,null,null,null,null,null,null,null,null,null,null,null,null,null,null,null,null,null,null,null,null,2.92E-2,2.7199999999999998E-2,2.5499999999999998E-2,2.3800000000000002E-2,2.2200000000000001E-2,2.2200000000000001E-2,2.2200000000000001E-2,2.2200000000000001E-2]
[null,null,null,null,{"$f":"Input!E9","v":"Actual load related capex"},{"$f":"Input!F9","v":"3B"},"£m 09/10 prices",{"$f":"Input!H9","v":"ALC"},null,null,null,null,null,null,null,null,null,null,null,null,null,null,null,null,null,null,null,null,null,null,null,null,null,10.71535342494372,10.085277848256611,8.2660110868748742,0,0,0,0,0]
[null,null,null,null,{"$f":"Input!E10","v":"Actual other capex"},{"$f":"Input!F10","v":"3B"},"£m 09/10 prices",{"$f":"Input!H10","v":"AOC"},null,null,null,null,null,null,null,null,null,null,null,null,null,null,null,null,null,null,null,null,null,null,null,null,null,9.477791152974369,9.4773994516945823,7.5024296101824985,0,0,0,0,0]
[null,null,null,null,{"$f":"Input!E11","v":"Actual controllable opex"},{"$f":"Input!F11","v":"3B"},"£m 09/10 prices",{"$f":"Input!H11","v":"ACO"},null,null,null,null,null,null,null,null,null,null,null,null,null,null,null,null,null,null,null,null,null,null,null,null,null,64.487137644210392,63.97160812259218,60.336736068251042,0,0,0,0,0]
[null,null,null,null,{"$f":"Input!E12","v":"Actual replacement expenditure"},{"$f":"Input!F12","v":"3B"},"£m 09/10 prices",{"$f":"Input!H12","v":"ARE"},null,null,null,null,null,null,null,null,null,null,null,null,null,null,null,null,null,null,null,null,null,null,null,null,null,51.882328692230153,44.658328302527465,67.302788973273422,0,0,0,0,0]
[null,null,null,null,{"$f":"Input!E13","v":"Allowed uncertain costs (Enhanced physical site security)"},{"$f":"Input!F13","v":"3F"},"£m 09/10 prices",{"$f":"Input!H13","v":"IAEEPS"},null,null,null,null,null,null,null,null,null,null,null,null,null,null,null,null,null,null,null,null,null,null,null,null,null,0,0,0,0,0,0,0,0]
[null,null,null,null,{"$f":"Input!E14","v":"Allowed uncertain costs (Specified street work costs)"},{"$f":"Input!F14","v":"3F"},"£m 09/10 prices",{"$f":"Input!H14","v":"IAESW"},null,null,null,null,null,null,null,null,null,null,null,null,null,null,null,null,null,null,null,null,null,null,null,null,null,0.50475502079725099,0.51860501087573585,0.51255919506005754,0.33948176015646286,0.32141480632945801,0.30375317831437121,0.28709974501375457,0.27111837730574118]
[null,null,null,null,{"$f":"Input!E15","v":"Allowed uncertain costs (Connection charging boundary change costs)"},{"$f":"Input!F15","v":"3F"},"£m 09/10 prices",{"$f":"Input!H15","v":"IAECCB"},null,null,null,null,null,null,null,null,null,null,null,null,null,null,null,null,null,null,null,null,null,null,null,null,null,0,0,0,0,0,0,0,0]
[null,null,null,null,{"$f":"Input!E16","v":"Allowed uncertain costs (Fuel poor network extension scheme)"},{"$f":"Input!F16","v":"3F"},"£m 09/10 prices",{"$f":"Input!H16","v":"IAEFP"},null,null,null,null,null,null,null,null,null,null,null,null,null,null,null,null,null,null,null,null,null,null,null,null,null,1.4305972818520352,1.4248748927246271,1.4390469862778474,1.4441262327150859,1.4383497277842257,1.3933281557304535,1.3877548431075317,1.3715407188722659]
[null,null,null,null,{"$f":"Input!E17","v":"Allowed uncertain costs (Central agent)"},{"$f":"Input!F17","v":"3F"},"£m 09/10 prices",{"$f":"Input!H17","v":"IAECA"},null,null,null,null,null,null,null,null,null,null,null,null,null,null,null,null,null,null,null,null,null,null,null,null,null,-4.4187749725921321E-7,1.0406071816777995E-2,0.10044785743221585,0.10191527064633377,-1.4898314984269678,-2.1382664231360238,-2.7743982836816126,-3.0843588450827557]
[null,null,null,null,{"$f":"Input!E18","v":"Allowed uncertain costs (Smart metering roll out costs)"},{"$f":"Input!F18","v":"3F"},"£m 09/10 prices",{"$f":"Input!H18","v":"IAESM"},null,null,null,null,null,null,null,null,null,null,null,null,null,null,null,null,null,null,null,null,null,null,null,null,null,0,0,0,0,0,0,0,0]
[null,null,null,null,{"$f":"Input!E19","v":"Allowed uncertain costs (Mains and services replacement expenditure)"},{"$f":"Input!F19","v":"3E"},"£m 09/10 prices",{"$f":"Input!H19","v":"RE"},null,null,null,null,null,null,null,null,null,null,null,null,null,null,null,null,null,null,null,null,null,null,null,null,null,0.76316720000000005,7.3494799999999999E-2,0.17529459999999999,1.8602502749999998,1.8602502749999998,1.8602502749999998,1.8602502749999998,1.8602502749999998]
[null,null,null,null,{"$f":"Input!E20","v":"Allowed uncertain Costs (Large load connection costs)"},{"$f":"Input!F20","v":"3F"},"£m 09/10 prices",{"$f":"Input!H20","v":"IAELLC"},null,null,null,null,null,null,null,null,null,null,null,null,null,null,null,null,null,null,null,null,null,null,null,null,null,0,0,0,0,0,0,0,0]
[null,null,null,null,{"$f":"Input!E21","v":"Allowed innovation roll-out mechanism"},{"$f":"Input!F21","v":"3D"},"£m 09/10 prices",{"$f":"Input!H21","v":"IRM"},null,null,null,null,null,null,null,null,null,null,null,null,null,null,null,null,null,null,null,null,null,null,null,null,null,0,0,0,0,0,0,0,0]
[null,null,null,null,{"$f":"Input!E22","v":"NTS Exit Capacity costs"},{"$f":"Input!F22","v":"1D"},"£m 09/10 prices",{"$f":"Input!H22","v":"AEx"},null,null,null,null,null,null,null,null,null,null,null,null,null,null,null,null,null,null,null,null,null,null,null,null,null,17.426915656863649,17.160020796373701,16.86409501556567,16.86409501556567,16.86409501556567,16.86409501556567,16.86409501556567,16.86409501556567]
[null,null,null,null,{"$f":"Input!E23","v":"Shrinkage costs"},{"$f":"Input!F23","v":"1F"},"£m 09/10 prices",{"$f":"Input!H23","v":"ALSC"},null,null,null,null,null,null,null,null,null,null,null,null,null,null,null,null,null,null,null,null,null,null,null,null,null,7.0067968843546495,6.79,6.79,5.01,4.88,4.7699999999999996,4.67,4.54]
[null,null,null,null,{"$f":"Input!E24","v":"Tax liability allowance adjustments - gearing/interest costs"},{"$f":"Input!F24","v":"3C"},"£m nominal",{"$f":"Input!H24","v":"TGIE"},null,null,null,null,null,null,null,null,null,null,null,null,null,null,null,null,null,null,null,null,null,null,null,null,null,0,0,0,0,0,0,0,0]
[null,null,null,null,{"$f":"Input!E25","v":"Tax liability allowance adjustments - driven by tax trigger events"},{"$f":"Input!F25","v":"3C"},"£m 09/10 prices",{"$f":"Input!H25","v":"TTE"},null,null,null,null,null,null,null,null,null,null,null,null,null,null,null,null,null,null,null,null,null,null,null,null,null,0,0,-0.35737055667749829,-0.26067162363899143,-1.420343467222061,0,0,0]
[null,null,null,null,{"$f":"Input!E26","v":"Pension scheme administration and Pension Protection Fund Levy"},{"$f":"Input!F26","v":"3C"},"£m 09/10 prices",{"$f":"Input!H26","v":"APFE"},null,null,null,null,null,null,null,null,null,null,null,null,null,null,null,null,null,null,null,null,null,null,null,null,null,8.1003140942072019E-2,8.1003140942072019E-2,8.1003140942072019E-2,8.1003140942072019E-2,8.1003140942072019E-2,8.1003140942072019E-2,8.1003140942072019E-2,8.1003140942072019E-2]
[null,null,null,null,{"$f":"Input!E27","v":"Pension scheme deficit revenue allowances"},{"$f":"Input!F27","v":"3C"},"£m 09/10 prices",{"$f":"Input!H27","v":"EDE"},null,null,null,null,null,null,null,null,null,null,null,null,null,null,null,null,null,null,null,null,null,null,null,null,null,2.39483517268211,2.39483517268211,1.917917490556178,1.917917490556178,1.917917490556178,1.917917490556178,1.917917490556178,1.917917490556178]
[null,null,null,null,{"$f":"Input!E28","v":"Legacy price control allowed revenue adjustment"},{"$f":"Input!F28","v":"3A"},"£m 09/10 prices",{"$f":"Input!H28","v":"LAR"},null,null,null,null,null,null,null,null,null,null,null,null,null,null,null,null,null,null,null,null,null,null,null,null,null,0.11566568060294893]
[null,null,null,null,{"$f":"Input!E29","v":"Legacy price control RAV additions adjustment"},{"$f":"Input!F29","v":"3A"},"£m 09/10 prices",{"$f":"Input!H29","v":"LRAV"},null,null,null,null,null,null,null,null,null,null,null,null,null,null,null,null,null,null,null,null,null,null,null,null,null,-4.9756815484836601]
[]
[null,"Policy"]
[]
[null,null,"Cost of capital"]
[]
[null,null,null,null,"Cost of debt",null,"annual real %",null,null,null,null,null,null,null,null,null,null,null,null,null,null,null,null,null,null,null,null,null,null,null,null,null,null,{"$f":"AH8","v":2.92E-2},2.7199999999999998E-2,2.5499999999999998E-2,2.3800000000000002E-2,2.2200000000000001E-2,2.2200000000000001E-2,2.2200000000000001E-2,2.2200000000000001E-2]
[null,null,null,null,"Cost of equity",null,"annual real %",null,null,null,null,null,null,null,null,null,null,null,null,null,null,null,null,null,null,null,null,null,null,null,null,null,null,6.7000000000000004E-2,6.7000000000000004E-2,6.7000000000000004E-2,6.7000000000000004E-2,6.7000000000000004E-2,6.7000000000000004E-2,6.7000000000000004E-2,6.7000000000000004E-2]
[null,null,null,null,"Notional gearing",null,"%",null,null,">",null,null,null,null,null,null,null,null,null,null,null,null,null,null,null,null,null,null,null,null,null,null,0.625,0.65,0.65,0.65,0.65,0.65,0.65,0.65,0.65]
[]
[null,null,null,null,"Vanilla WACC",null,"annual real %",null,null,null,null,null,null,null,null,null,null,null,null,null,null,null,null,null,null,null,null,null,null,null,null,null,null,{"$f":"(AH35 * AH37) + (AH36 * (1 - AH37))","v":4.2429999999999995E-2},4.113E-2,4.0024999999999998E-2,3.8919999999999996E-2,3.7879999999999997E-2,3.7879999999999997E-2,3.7879999999999997E-2,3.7879999999999997E-2]
[]
[null,null,null,null,"Closing gearing",null,"%",null,0.625]
[]
[null,null,null,null,"Forecast RPI (simple average year to March)",null,"index value",null,null,">",null,null,null,null,null,null,null,null,null,null,null,173.875,177.517,182.47499999999999,188.15,193.108,200.31700000000001,208.59200000000001,214.78299999999999,215.767,226.47499999999999,{"$f":"ROUND(AVERAGE(234.4,235.2,235.2,234.7,236.1,237.9,238,238.5,239.4,238,239.9,240.8),3)","v":237.34200000000001},{"$f":"ROUND(AF43*(1+2.8%),3)","v":243.988},{"$f":"ROUND(AG43*(1+2.8%),3)","v":250.82},257.84300000000002,265.06299999999999,272.48500000000001,280.11500000000001,287.95800000000003,296.02100000000002,304.31]
[null,null,null,null,"Cost of Debt Inflation",null,"index value",null,null,">",null,null,null,null,null,null,null,null,null,null,null,173.875,177.517,182.47499999999999,188.15,193.108,200.31700000000001,208.59200000000001,214.78299999999999,215.767,226.47499999999999,{"$f":"ROUND(AVERAGE(234.4,235.2,235.2,234.7,236.1,237.9,238,238.5,239.4,238,239.9,240.8),3)","v":237.34200000000001},{"$f":"ROUND(AF44*(1+2.8%),3)","v":243.988},250.82,257.84300000000002,265.06299999999999,272.48500000000001,280.11500000000001,287.95800000000003,296.02100000000002,304.31]
[null,null,"TIM and capitalisation"]
[]
[null,null,null,null,"Years from t until normal reporting of actual costs",null,"years",null,2]
[]
[null,null,null,null,{"$f":"Input!E49","v":"Capitalised share of totex (excluding repex)"},null,"%",null,null,null,null,null,null,null,null,null,null,null,null,null,null,null,null,null,null,null,null,null,null,null,null,null,null,0.24946223864843597,0.24946223864843597,0.24946223864843597,0.24946223864843597,0.24946223864843597,0.24946223864843597,0.24946223864843597,0.24946223864843597]
[null,null,null,null,{"$f":"Input!E50","v":"Capitalised share of repex"},null,"%",null,null,null,null,null,null,null,null,null,null,null,null,null,null,null,null,null,null,null,null,null,null,null,null,null,null,0.5,0.5714285714285714,0.64285714285714279,0.71428571428571419,0.78571428571428559,0.85714285714285698,0.92857142857142838,1]
[]
[null,null,null,null,"Incentive rate (slope)",null,"scalar",null,-1.666666666666667E-3]
[null,null,null,null,"Incentive rate (intercept)",null,"scalar",null,0.81666666666666665]
[null,null,null,null,"Additional income (intercept)",null,"scalar",null,14.583333333333332]
[]
[null,null,null,null,"Weight of Ofgem's view on price control totex",null,"%",null,0.75]
[null,null,null,null,"Weight of operator's view on price control totex",null,"%",null,0.25]
[]
[null,null,null,null,"GD TIM group ratio",null,"scalar",null,111.77479741299152]
[]
[null,null,null,null,"Ofgem's view of  licensee totex",null,"£m 09/10 prices",null,1234.5215212651738]
[null,null,null,null,"Operator's view of licensee totex",null,"£m 09/10 prices",null,1315.0977289395241]
[]
[null,null,null,null,"Ofgem's view of group price control totex",null,"£m 09/10 prices",null,6729.0571105813278]
[null,null,null,null,"Operator's view of group price control totex",null,"£m 09/10 prices",null,7521.3899531567795]
[]
[null,null,"Finance"]
[]
[null,null,null,null,"Minimum equity issuance threshold",null,"%",null,0.05]
[null,null,null,null,"Equity issuance costs",null,"%",null,0.05]
[null,null,null,null,"Assumed dividends as % of notional equity portion of RAV",null,"%",null,0.05]
[]
[null,null,null,null,"Equity issuance gearing target",null,"%",null,null,null,null,null,null,null,null,null,null,null,null,null,null,null,null,null,null,null,null,null,null,null,null,null,null,{"$f":"AH37","v":0.65},{"$f":"AI37","v":0.65},0.65,0.65,0.65,0.65,0.65,0.65]
[]
[null,null,null,null,"Index-linked debt as a percentage of net debt",null,"%",null,null,null,null,null,null,null,null,null,null,null,null,null,null,null,null,null,null,null,null,null,null,null,null,null,null,0.25,0.25,0.25,0.25,0.25,0.25,0.25,0.25]
[]
[null,"Expenditure"]
[]
[null,null,"Totex"]
[]
[null,null,null,"Non-variant allowances"]
[]
[null,null,null,null,"Non-variant allowed load related capex",null,"£m 09/10 prices",null,null,null,null,null,null,null,null,null,null,null,null,null,null,null,null,null,null,null,null,null,null,null,null,null,null,9.1964555866892237,10.448909595507233,11.012038025638558,10.381987715999223,11.997026045708083,12.47464168969311,10.948820818727214,10.323820710083091]
[null,null,null,null,"Non-variant allowed non-load related capex - other",null,"£m 09/10 prices",null,null,null,null,null,null,null,null,null,null,null,null,null,null,null,null,null,null,null,null,null,null,null,null,null,null,16.001980114099354,15.835051286388547,8.120488465590995,7.166302537834893,10.361600648979355,8.9333374261732601,9.1713028577020168,5.508584788874888]
[null,null,null,null,"Non-variant allowed controllable opex",null,"£m 09/10 prices",null,null,null,null,null,null,null,null,null,null,null,null,null,null,null,null,null,null,null,null,null,null,null,null,null,null,63.771473045556966,63.148458981869986,64.25431671721158,64.399062503443616,63.910327083918169,64.521144170339241,65.277512526689748,63.908454080581343]
[null,null,null,null,"Non-variant allowed repex",null,"£m 09/10 prices",null,null,null,null,null,null,null,null,null,null,null,null,null,null,null,null,null,null,null,null,null,null,null,null,null,null,68.619907765062081,68.80549896094746,69.064200292946865,68.812491923496566,69.039568237398697,69.247270076732647,69.465090107440432,69.652706828004042]
[]
[null,null,null,"Variant allowances"]
[]
[null,null,null,null,{"$f":"Input!E90","v":"Allowed uncertain costs (Enhanced physical site security)"},null,"£m 09/10 prices",null,null,null,null,null,null,null,null,null,null,null,null,null,null,null,null,null,null,null,null,null,null,null,null,null,null,{"$f":"AH13","v":0},{"$f":"AI13","v":0},0,0,0,0,0,0]
[null,null,null,null,{"$f":"Input!E91","v":"Allocation to load related capex"},null,"%",null,null,null,null,null,null,null,null,null,null,null,null,null,null,null,null,null,null,null,null,null,null,null,null,null,null,0,0,0,0,0,0,0,0]
[null,null,null,null,{"$f":"Input!E92","v":"Allocation to non-load related capex - other"},null,"%",null,null,null,null,null,null,null,null,null,null,null,null,null,null,null,null,null,null,null,null,null,null,null,null,null,null,1,1,1,1,1,1,1,1]
[null,null,null,null,{"$f":"Input!E93","v":"Allocation to controllable opex"},null,"%",null,null,null,null,null,null,null,null,null,null,null,null,null,null,null,null,null,null,null,null,null,null,null,null,null,null,0,0,0,0,0,0,0,0]
[null,null,null,null,{"$f":"Input!E94","v":"Allocation to repex"},null,"%",null,null,null,null,null,null,null,null,null,null,null,null,null,null,null,null,null,null,null,null,null,null,null,null,null,null,0,0,0,0,0,0,0,0]
[]
[null,null,null,null,{"$f":"Input!E96","v":"Allowed uncertain costs (Specified street work costs)"},null,"£m 09/10 prices",null,null,null,null,null,null,null,null,null,null,null,null,null,null,null,null,null,null,null,null,null,null,null,null,null,null,{"$f":"AH14","v":0.50475502079725099},0.51860501087573585,0.51255919506005754,0.33948176015646286,0.32141480632945801,0.30375317831437121,0.28709974501375457,0.27111837730574118]
[null,null,null,null,{"$f":"Input!E97","v":"Allocation to load related capex"},null,"%",null,null,null,null,null,null,null,null,null,null,null,null,null,null,null,null,null,null,null,null,null,null,null,null,null,null,0.05,0.05,0.05,0.05,0.05,0.05,0.05,0.05]
[null,null,null,null,{"$f":"Input!E98","v":"Allocation to non-load related capex - other"},null,"%",null,null,null,null,null,null,null,null,null,null,null,null,null,null,null,null,null,null,null,null,null,null,null,null,null,null,0,0,0,0,0,0,0,0]
[null,null,null,null,{"$f":"Input!E99","v":"Allocation to controllable opex"},null,"%",null,null,null,null,null,null,null,null,null,null,null,null,null,null,null,null,null,null,null,null,null,null,null,null,null,null,0.3,0.3,0.3,0.3,0.3,0.3,0.3,0.3]
[null,null,null,null,{"$f":"Input!E100","v":"Allocation to repex"},null,"%",null,null,null,null,null,null,null,null,null,null,null,null,null,null,null,null,null,null,null,null,null,null,null,null,null,null,0.65,0.65,0.65,0.65,0.65,0.65,0.65,0.65]
[]
[null,null,null,null,{"$f":"Input!E102","v":"Allowed uncertain costs (Connection charging boundary change costs)"},null,"£m 09/10 prices",null,null,null,null,null,null,null,null,null,null,null,null,null,null,null,null,null,null,null,null,null,null,null,null,null,null,{"$f":"AH15","v":0},{"$f":"AI15","v":0},0,0,0,0,0,0]
[null,null,null,null,{"$f":"Input!E103","v":"Allocation to load related capex"},null,"%",null,null,null,null,null,null,null,null,null,null,null,null,null,null,null,null,null,null,null,null,null,null,null,null,null,null,0.9,0.9,0.9,0.9,0.9,0.9,0.9,0.9]
[null,null,null,null,{"$f":"Input!E104","v":"Allocation to non-load related capex - other"},null,"%",null,null,null,null,null,null,null,null,null,null,null,null,null,null,null,null,null,null,null,null,null,null,null,null,null,null,0,0,0,0,0,0,0,0]
[null,null,null,null,{"$f":"Input!E105","v":"Allocation to controllable opex"},null,"%",null,null,null,null,null,null,null,null,null,null,null,null,null,null,null,null,null,null,null,null,null,null,null,null,null,null,0.1,0.1,0.1,0.1,0.1,0.1,0.1,0.1]
[null,null,null,null,{"$f":"Input!E106","v":"Allocation to repex"},null,"%",null,null,null,null,null,null,null,null,null,null,null,null,null,null,null,null,null,null,null,null,null,null,null,null,null,null,0,0,0,0,0,0,0,0]
[]
[null,null,null,null,{"$f":"Input!E108","v":"Allowed uncertain costs (Fuel poor network extension scheme)"},null,"£m 09/10 prices",null,null,null,null,null,null,null,null,null,null,null,null,null,null,null,null,null,null,null,null,null,null,null,null,null,null,{"$f":"AH16","v":1.4305972818520352},{"$f":"AI16","v":1.4248748927246271},1.4390469862778474,1.4441262327150859,1.4383497277842257,1.3933281557304535,1.3877548431075317,1.3715407188722659]
[null,null,null,null,{"$f":"Input!E109","v":"Allocation to load related capex"},null,"%",null,null,null,null,null,null,null,null,null,null,null,null,null,null,null,null,null,null,null,null,null,null,null,null,null,null,1,1,1,1,1,1,1,1]
[null,null,null,null,{"$f":"Input!E110","v":"Allocation to non-load related capex - other"},null,"%",null,null,null,null,null,null,null,null,null,null,null,null,null,null,null,null,null,null,null,null,null,null,null,null,null,null,0,0,0,0,0,0,0,0]
[null,null,null,null,{"$f":"Input!E111","v":"Allocation to controllable opex"},null,"%",null,null,null,null,null,null,null,null,null,null,null,null,null,null,null,null,null,null,null,null,null,null,null,null,null,null,0,0,0,0,0,0,0,0]
[null,null,null,null,{"$f":"Input!E112","v":"Allocation to repex"},null,"%",null,null,null,null,null,null,null,null,null,null,null,null,null,null,null,null,null,null,null,null,null,null,null,null,null,null,0,0,0,0,0,0,0,0]
[]
[null,null,null,null,{"$f":"Input!E114","v":"Allowed uncertain costs (Central agent)"},null,"£m 09/10 prices",null,null,null,null,null,null,null,null,null,null,null,null,null,null,null,null,null,null,null,null,null,null,null,null,null,null,{"$f":"AH17","v":-4.4187749725921321E-7},1.0406071816777995E-2,0.10044785743221585,0.10191527064633377,-1.4898314984269678,-2.1382664231360238,-2.7743982836816126,-3.0843588450827557]
[null,null,null,null,{"$f":"Input!E115","v":"Allocation to load related capex"},null,"%",null,null,null,null,null,null,null,null,null,null,null,null,null,null,null,null,null,null,null,null,null,null,null,null,null,null,0,0,0,0,0,0,0,0]
[null,null,null,null,{"$f":"Input!E116","v":"Allocation to non-load related capex - other"},null,"%",null,null,null,null,null,null,null,null,null,null,null,null,null,null,null,null,null,null,null,null,null,null,null,null,null,null,0.15,0.15,0.15,0.15,0.15,0.15,0.15,0.15]
[null,null,null,null,{"$f":"Input!E117","v":"Allocation to controllable opex"},null,"%",null,null,null,null,null,null,null,null,null,null,null,null,null,null,null,null,null,null,null,null,null,null,null,null,null,null,0.85,0.85,0.85,0.85,0.85,0.85,0.85,0.85]
[null,null,null,null,{"$f":"Input!E118","v":"Allocation to repex"},null,"%",null,null,null,null,null,null,null,null,null,null,null,null,null,null,null,null,null,null,null,null,null,null,null,null,null,null,0,0,0,0,0,0,0,0]
[]
[null,null,null,null,{"$f":"Input!E120","v":"Allowed uncertain costs (Smart metering roll out costs)"},null,"£m 09/10 prices",null,null,null,null,null,null,null,null,null,null,null,null,null,null,null,null,null,null,null,null,null,null,null,null,null,null,{"$f":"AH18","v":0},0,0,0,0,0,0,0]
[null,null,null,null,{"$f":"Input!E121","v":"Allocation to load related capex"},null,"%",null,null,null,null,null,null,null,null,null,null,null,null,null,null,null,null,null,null,null,null,null,null,null,null,null,null,0,0,0,0,0,0,0,0]
[null,null,null,null,{"$f":"Input!E122","v":"Allocation to non-load related capex - other"},null,"%",null,null,null,null,null,null,null,null,null,null,null,null,null,null,null,null,null,null,null,null,null,null,null,null,null,null,0,0,0,0,0,0,0,0]
[null,null,null,null,{"$f":"Input!E123","v":"Allocation to controllable opex"},null,"%",null,null,null,null,null,null,null,null,null,null,null,null,null,null,null,null,null,null,null,null,null,null,null,null,null,null,0.5,0.5,0.5,0.5,0.5,0.5,0.5,0.5]
[null,null,null,null,{"$f":"Input!E124","v":"Allocation to repex"},null,"%",null,null,null,null,null,null,null,null,null,null,null,null,null,null,null,null,null,null,null,null,null,null,null,null,null,null,0.5,0.5,0.5,0.5,0.5,0.5,0.5,0.5]
[]
[null,null,null,null,{"$f":"Input!E126","v":"Allowed uncertain costs (Mains and services replacement expenditure)"},null,"£m 09/10 prices",null,null,null,null,null,null,null,null,null,null,null,null,null,null,null,null,null,null,null,null,null,null,null,null,null,null,{"$f":"AH19","v":0.76316720000000005},{"$f":"AI19","v":7.3494799999999999E-2},0.17529459999999999,1.8602502749999998,1.8602502749999998,1.8602502749999998,1.8602502749999998,1.8602502749999998]
[null,null,null,null,{"$f":"Input!E127","v":"Allocation to load related capex"},null,"%",null,null,null,null,null,null,null,null,null,null,null,null,null,null,null,null,null,null,null,null,null,null,null,null,null,null,0,0,0,0,0,0,0,0]
[null,null,null,null,{"$f":"Input!E128","v":"Allocation to non-load related capex - other"},null,"%",null,null,null,null,null,null,null,null,null,null,null,null,null,null,null,null,null,null,null,null,null,null,null,null,null,null,0,0,0,0,0,0,0,0]
[null,null,null,null,{"$f":"Input!E129","v":"Allocation to controllable opex"},null,"%",null,null,null,null,null,null,null,null,null,null,null,null,null,null,null,null,null,null,null,null,null,null,null,null,null,null,0,0,0,0,0,0,0,0]
[null,null,null,null,{"$f":"Input!E130","v":"Allocation to repex"},null,"%",null,null,null,null,null,null,null,null,null,null,null,null,null,null,null,null,null,null,null,null,null,null,null,null,null,null,1,1,1,1,1,1,1,1]
[]
[null,null,null,null,{"$f":"Input!E132","v":"Allowed uncertain Costs (Large load connection costs)"},null,"£m 09/10 prices",null,null,null,null,null,null,null,null,null,null,null,null,null,null,null,null,null,null,null,null,null,null,null,null,null,null,{"$f":"AH20","v":0},{"$f":"AI20","v":0},{"$f":"AJ20","v":0},0,{"$f":"AL20","v":0},0,0,0]
[null,null,null,null,{"$f":"Input!E133","v":"Allocation to load related capex"},null,"%",null,null,null,null,null,null,null,null,null,null,null,null,null,null,null,null,null,null,null,null,null,null,null,null,null,null,1,1,1,1,1,1,1,1]
[null,null,null,null,{"$f":"Input!E134","v":"Allocation to non-load related capex - other"},null,"%",null,null,null,null,null,null,null,null,null,null,null,null,null,null,null,null,null,null,null,null,null,null,null,null,null,null,0,0,0,0,0,0,0,0]
[null,null,null,null,{"$f":"Input!E135","v":"Allocation to controllable opex"},null,"%",null,null,null,null,null,null,null,null,null,null,null,null,null,null,null,null,null,null,null,null,null,null,null,null,null,null,0,0,0,0,0,0,0,0]
[null,null,null,null,{"$f":"Input!E136","v":"Allocation to repex"},null,"%",null,null,null,null,null,null,null,null,null,null,null,null,null,null,null,null,null,null,null,null,null,null,null,null,null,null,0,0,0,0,0,0,0,0]
[]
[null,null,null,null,{"$f":"Input!E138","v":"Allowed innovation roll-out mechanism"},null,"£m 09/10 prices",null,null,null,null,null,null,null,null,null,null,null,null,null,null,null,null,null,null,null,null,null,null,null,null,null,null,{"$f":"AH21","v":0},{"$f":"AI21","v":0},0,0,0,0,0,0]
[null,null,null,null,{"$f":"Input!E139","v":"Allocation to load related capex"},null,"%",null,null,null,null,null,null,null,null,null,null,null,null,null,null,null,null,null,null,null,null,null,null,null,null,null,null,0.5,0.5,0.5,0.5,0.5,0.5,0.5,0.5]
[null,null,null,null,{"$f":"Input!E140","v":"Allocation to non-load related capex - other"},null,"%",null,null,null,null,null,null,null,null,null,null,null,null,null,null,null,null,null,null,null,null,null,null,null,null,null,null,0,0,0,0,0,0,0,0]
[null,null,null,null,{"$f":"Input!E141","v":"Allocation to controllable opex"},null,"%",null,null,null,null,null,null,null,null,null,null,null,null,null,null,null,null,null,null,null,null,null,null,null,null,null,null,0.5,0.5,0.5,0.5,0.5,0.5,0.5,0.5]
[null,null,null,null,{"$f":"Input!E142","v":"Allocation to repex"},null,"%",null,null,null,null,null,null,null,null,null,null,null,null,null,null,null,null,null,null,null,null,null,null,null,null,null,null,0,0,0,0,0,0,0,0]
[]
[null,null,null,null,"Variant allowed load related capex",null,"£m 09/10 prices",null,null,null,null,null,null,null,null,null,null,null,null,null,null,null,null,null,null,null,null,null,null,null,null,null,null,{"$f":"(AH$90*AH91) + (AH$96*AH97) + (AH$102*AH103) + (AH$108*AH109) + (AH$114*AH115) + (AH$120*AH121)      + (AH$126 * AH127) + (AH$132*AH133) + (AH$138*AH139)","v":1.4558350328918976},{"$f":"(AI$90*AI91) + (AI$96*AI97) + (AI$102*AI103) + (AI$108*AI109) + (AI$114*AI115) + (AI$120*AI121)      + (AI$126 * AI127) + (AI$132*AI133) + (AI$138*AI139)","v":1.4508051432684139},1.4646749460308504,1.461100320722909,1.4544204681006985,1.408515814646172,1.4021098303582193,1.3850966377375529]
[null,null,null,null,"Variant allowed non-load related capex - other",null,"£m 09/10 prices",null,null,null,null,null,null,null,null,null,null,null,null,null,null,null,null,null,null,null,null,null,null,null,null,null,null,{"$f":"(AH$90*AH92) + (AH$96*AH98) + (AH$102*AH104) + (AH$108*AH110) + (AH$114*AH116) + (AH$120*AH122)      + (AH$126 * AH128) + (AH$132*AH134) + (AH$138*AH140)","v":-6.6281624588881985E-8},1.5609107725166993E-3,1.5067178614832376E-2,1.5287290596950064E-2,-0.22347472476404517,-0.32073996347040357,-0.41615974255224186,-0.46265382676241334]
[null,null,null,null,"Variant allowed controllable opex",null,"£m 09/10 prices",null,null,null,null,null,null,null,null,null,null,null,null,null,null,null,null,null,null,null,null,null,null,null,null,null,null,{"$f":"(AH$90*AH93) + (AH$96*AH99) + (AH$102*AH105) + (AH$108*AH111) + (AH$114*AH117) + (AH$120*AH123)      + (AH$126 * AH129) + (AH$132*AH135) + (AH$138*AH141)","v":0.1514261306433026},0.16442666430698205,0.2391484373354007,0.18847250809632254,-1.1699323317640853,-1.7264005061713088,-2.2721086176252445,-2.5403695051286199]
[null,null,null,null,"Variant allowed repex",null,"£m 09/10 prices",null,null,null,null,null,null,null,null,null,null,null,null,null,null,null,null,null,null,null,null,null,null,null,null,null,null,{"$f":"(AH$90*AH94) + (AH$96*AH100) + (AH$102*AH106) + (AH$108*AH112) + (AH$114*AH118) + (AH$120*AH124)      + (AH$126 * AH130) + (AH$132*AH136) + (AH$138*AH142)","v":1.0912579635182131},0.4105880570692283,0.50845807678903743,2.0809134191017007,2.0691698991141476,2.0576898409043411,2.0468651092589405,2.0364772202487318]
[]
[null,null,null,"Actual"]
[]
[null,null,null,null,"Actual load related capex",null,"£m 09/10 prices",null,null,null,null,null,null,null,null,null,null,null,null,null,null,null,null,null,null,null,null,null,null,null,null,null,null,{"$f":"AH9","v":10.71535342494372},10.085277848256611,8.2660110868748742,0,0,0,0,0]
[null,null,null,null,"Actual non-load related capex - other",null,"£m 09/10 prices",null,null,null,null,null,null,null,null,null,null,null,null,null,null,null,null,null,null,null,null,null,null,null,null,null,null,9.477791152974369,9.4773994516945823,7.5024296101824985,0,0,0,0,0]
[null,null,null,null,"Actual controllable opex",null,"£m 09/10 prices",null,null,null,null,null,null,null,null,null,null,null,null,null,null,null,null,null,null,null,null,null,null,null,null,null,null,64.487137644210392,63.97160812259218,60.336736068251042,0,0,0,0,0]
[null,null,null,null,"Actual repex",null,"£m 09/10 prices",null,null,null,null,null,null,null,null,null,null,null,null,null,null,null,null,null,null,null,null,null,null,null,null,null,null,51.882328692230153,44.658328302527465,67.302788973273422,0,0,0,0,0]
[]
[null,null,"Non-totex"]
[]
[null,null,null,null,"Non-controllable opex (Other)",null,"£m 09/10 prices",null,null,null,null,null,null,null,null,null,null,null,null,null,null,null,null,null,null,null,null,null,null,null,null,null,null,25.231296154001043,25.269791196684526,25.276677608613632,25.276677608613639,25.276677608613642,25.276677608613635,25.276677608613642,25.276677608613639]
[null,null,null,null,"Non-controllable opex (Exit Charges)",null,"£m 09/10 prices",null,null,null,null,null,null,null,null,null,null,null,null,null,null,null,null,null,null,null,null,null,null,null,null,null,null,{"$f":"AH22","v":17.426915656863649},{"$f":"AI22","v":17.160020796373701},16.86409501556567,16.86409501556567,16.86409501556567,16.86409501556567,16.86409501556567,16.86409501556567]
[null,null,null,null,"Non-controllable opex (Shrinkage)",null,"£m 09/10 prices",null,null,null,null,null,null,null,null,null,null,null,null,null,null,null,null,null,null,null,null,null,null,null,null,null,null,{"$f":"AH23","v":7.0067968843546495},6.79,6.79,5.01,4.88,4.7699999999999996,4.67,4.54]
[null,null,null,null,"Non-controllable opex",null,"£m 09/10 prices",null,null,null,null,null,null,null,null,null,null,null,null,null,null,null,null,null,null,null,null,null,null,null,null,null,null,{"$f":"SUM(AH158:AH160)","v":49.665008695219342},{"$f":"SUM(AI158:AI160)","v":49.219811993058222},48.930772624179305,47.150772624179304,47.020772624179315,46.910772624179302,46.810772624179315,46.680772624179305]
[]
[null,"Direct allowed revenue terms (DARTs)"]
[]
[null,null,null,null,{"$f":"E26","v":"Pension scheme administration and Pension Protection Fund Levy"},null,"£m 09/10 prices",null,null,null,null,null,null,null,null,null,null,null,null,null,null,null,null,null,null,null,null,null,null,null,null,null,null,{"$f":"AH26","v":8.1003140942072019E-2},8.1003140942072019E-2,8.1003140942072019E-2,8.1003140942072019E-2,8.1003140942072019E-2,8.1003140942072019E-2,8.1003140942072019E-2,8.1003140942072019E-2]
[null,null,null,null,{"$f":"E27","v":"Pension scheme deficit revenue allowances"},null,"£m 09/10 prices",null,null,null,null,null,null,null,null,null,null,null,null,null,null,null,null,null,null,null,null,null,null,null,null,null,null,{"$f":"AH27","v":2.39483517268211},2.39483517268211,1.917917490556178,1.917917490556178,1.917917490556178,1.917917490556178,1.917917490556178,1.917917490556178]
[]
[null,null,null,null,"Pension true-up from previous price controls",null,"£m 09/10 prices",null,1.2453215018020463,null,null,null,null,null,null,null,null,null,null,null,null,null,null,null,null,null,null,null,null,null,null,null,null,{"$f":"($I$168/8)","v":0.15566518772525578},{"$f":"($I$168/8)*(1+$AI$39)","v":0.16206769689639552},{"$f":"($I$168/8)*(1+$AI$39)*(1+$AJ$39)","v":0.16855445646467376},{"$f":"($I$168/8)*(1+$AI$39)*(1+$AJ$39)*(1+$AK$39)","v":0.17511459591027886},{"$f":"($I$168/8)*(1+$AI$39)*(1+$AJ$39)*(1+$AK$39)*(1+$AL$39)","v":0.18174793680336021},{"$f":"($I$168/8)*(1+$AI$39)*(1+$AJ$39)*(1+$AK$39)*(1+$AL$39)*(1+$AM$39)","v":0.18863254864947149},{"$f":"($I$168/8)*(1+$AI$39)*(1+$AJ$39)*(1+$AK$39)*(1+$AL$39)*(1+$AM$39)*(1+$AN$39)","v":0.19577794959231345},{"$f":"($I$168/8)*(1+$AI$39)*(1+$AJ$39)*(1+$AK$39)*(1+$AL$39)*(1+$AM$39)*(1+$AN$39)*(1+$AO$39)","v":0.20319401832287026}]
[]
[null,null,null,null,{"$f":"Input!E170","v":"Revenue adjustment from previous controls (Base)"},null,"£m 09/10 prices",null,-6.4787144264393879,null,null,null,null,null,null,null,null,null,null,null,null,null,null,null,null,null,null,null,null,null,null,null,null,{"$f":"($I$170/8)","v":-0.80983930330492349},{"$f":"($I$170/8)*(1+$AI$39)","v":-0.84314799384985495},{"$f":"($I$170/8)*(1+$AI$39)*(1+$AJ$39)","v":-0.87689499230369539},{"$f":"($I$170/8)*(1+$AI$39)*(1+$AJ$39)*(1+$AK$39)","v":-0.91102374540415532},{"$f":"($I$170/8)*(1+$AI$39)*(1+$AJ$39)*(1+$AK$39)*(1+$AL$39)","v":-0.9455333248800647},{"$f":"($I$170/8)*(1+$AI$39)*(1+$AJ$39)*(1+$AK$39)*(1+$AL$39)*(1+$AM$39)","v":-0.98135012722652148},{"$f":"($I$170/8)*(1+$AI$39)*(1+$AJ$39)*(1+$AK$39)*(1+$AL$39)*(1+$AM$39)*(1+$AN$39)","v":-1.018523670045862},{"$f":"($I$170/8)*(1+$AI$39)*(1+$AJ$39)*(1+$AK$39)*(1+$AL$39)*(1+$AM$39)*(1+$AN$39)*(1+$AO$39)","v":-1.0571053466671991}]
[null,null,null,null,{"$f":"Input!E171","v":"Legacy price control allowed revenue adjustment"},null,"£m 09/10 prices",null,null,null,null,null,null,null,null,null,null,null,null,null,null,null,null,null,null,null,null,null,null,null,null,null,null,{"$f":"($AH$28/8)","v":1.4458210075368617E-2},{"$f":"($AH$28/8)*(1+$AI$39)","v":1.5052876255768526E-2},{"$f":"($AH$28/8)*(1+$AI$39)*(1+$AJ$39)","v":1.5655367627905661E-2},{"$f":"($AH$28/8)*(1+$AI$39)*(1+$AJ$39)*(1+$AK$39)","v":1.626467453598375E-2},{"$f":"($AH$28/8)*(1+$AI$39)*(1+$AJ$39)*(1+$AK$39)*(1+$AL$39)","v":1.6880780407406815E-2},{"$f":"($AH$28/8)*(1+$AI$39)*(1+$AJ$39)*(1+$AK$39)*(1+$AL$39)*(1+$AM$39)","v":1.7520224369239383E-2},{"$f":"($AH$28/8)*(1+$AI$39)*(1+$AJ$39)*(1+$AK$39)*(1+$AL$39)*(1+$AM$39)*(1+$AN$39)","v":1.8183890468346169E-2},{"$f":"($AH$28/8)*(1+$AI$39)*(1+$AJ$39)*(1+$AK$39)*(1+$AL$39)*(1+$AM$39)*(1+$AN$39)*(1+$AO$39)","v":1.8872696239287119E-2}]
[null,null,null,null,"Revenue adjustment from previous controls",null,"£m 09/10 prices",null,null,null,null,null,null,null,null,null,null,null,null,null,null,null,null,null,null,null,null,null,null,null,null,null,null,{"$f":"AH170+AH171","v":-0.79538109322955486},{"$f":"AI170+AI171","v":-0.82809511759408638},-0.86123962467578974,-0.89475907086817152,-0.92865254447265788,-0.96382990285728209,-1.0003397795775157,-1.038232650427912]
[]
[null,null,null,null,"Excluded services revenue",null,"£m 09/10 prices",null,null,null,null,null,null,null,null,null,null,null,null,null,null,null,null,null,null,null,null,null,null,null,null,null,null,2.1982439120801391,2.0440771432725371,1.9430413303499938,1.9480279538089307,1.9479784764224002,1.9484013647630749,1.9535941274534518,1.9281900259517664]
[null,null,null,null,"Identified excluded services costs",null,"£m 09/10 prices",null,null,null,null,null,null,null,null,null,null,null,null,null,null,null,null,null,null,null,null,null,null,null,null,null,null,2.1982439120801391,2.0440771432725371,1.9430413303499938,1.9480279538089307,1.9479784764224002,1.9484013647630749,1.9535941274534518,1.9281900259517664]
[null,null,null,null,"Excluded services",null,"£m 09/10 prices",null,null,null,null,null,null,null,null,null,null,null,null,null,null,null,null,null,null,null,null,null,null,null,null,null,null,{"$f":"SUM(AH174, -AH175)","v":0},{"$f":"SUM(AI174, -AI175)","v":0},0,0,0,0,0,0]
[]
[null,"RAV and assets"]
[]
[null,null,"Pre-vesting assets"]
[]
[null,null,null,null,"Pre-vesting RAV cost opening balance brought forward (before transfers)",null,"£m 09/10 prices",null,null,null,null,null,null,null,null,null,null,null,null,null,null,null,null,null,null,null,null,null,null,null,null,null,null,1147.4794329102713]
[null,null,null,null,"Pre-vesting RAV cumulative depreciation opening balance brought forward (before transfers)",null,"£m 09/10 prices",null,null,null,null,null,null,null,null,null,null,null,null,null,null,null,null,null,null,null,null,null,null,null,null,null,null,405.28579880350327]
[]
[null,null,null,null,"Pre-vesting asset life",null,"years",null,56]
[null,null,null,null,"Pre-vesting RAV disposals",null,"£m 09/10 prices",null,null,null,null,null,null,null,null,null,null,null,null,null,null,null,null,null,null,null,null,null,null,null,null,null,null,0.24511785383386953,2.7245988327310313E-2,0,0.17480980663965923,0,0,0,0]
[null,null,null,null,"RAV adjustments from previous price controls (not modelled in PCFM)",null,"years",null,null,null,null,null,null,null,null,null,null,null,null,null,null,null,null,null,null,null,null,null,null,null,null,null,null,45,44,43,42,41,40,39,38]
[]
[null,null,"Post-vesting assets"]
[]
[null,null,null,null,"Gas distribution"]
[null,null,null,null,{"$f":"Input!E192","v":"GD post-vesting asset life"},null,"years",null,45]
[null,null,null,null,{"$f":"Input!E193","v":"GD smoothing profile for recovery of backlog depreciation"},null,"years",null,null,null,null,null,null,null,null,null,null,null,null,null,null,null,null,null,null,null,null,null,null,null,null,null,null,0.15,0.15,2.5000000000000001E-2,0,0.05,0.125,0.2,0.3]
[null,null,null,null,{"$f":"Input!E194","v":"GD start of smoothing period"},null,"year ending",null,"2014-03-31"]
[null,null,null,null,{"$f":"Input!E195","v":"Pre-RIIO net additions to RAV"},null,"£m 09/10 prices",null,null,">",null,null,null,null,null,null,null,null,null,null,null,null,69.721921411852435,37.31910537108768,31.062009859767588,32.499112003873663,39.104417081904593,47.919760379619092,76.17920442370513,77.50613181146187,88.968127041156663,80.954656714151866,60.302298391724179]
[null,null,null,null,"LRAV",null,"£m 09/10 prices",null,null,null,null,null,null,null,null,null,null,null,null,null,null,null,null,null,null,null,null,null,null,null,null,null,null,{"$f":"AH29","v":-4.9756815484836601}]
[null,null,null,null,"RIIO post-vesting RAV additions",null,"£m 09/10 prices",null,null,null,null,null,null,null,null,null,null,null,null,null,null,null,null,null,null,null,null,null,null,null,null,null,null,0.3,0,0,0,0,0,0,0]
[null,null,null,null,"RIIO post-vesting RAV disposals",null,null,null,null,null,null,null,null,null,null,null,null,null,null,null,null,null,null,null,null,null,null,null,null,null,null,null,null,0,0,0,-9.3753398791617218E-2,-0.3,0.4,-0.2,0]
[null,null,null,null,{"$f":"Input!E199","v":"Pre-RIIO transfers to depreciation"},null,"£m 09/10 prices",null,null,">",null,null,null,null,null,null,null,null,null,null,null,0,0,0,0,0,0,-0.91271558939991948,1.4980548665304654,0.90429171839609113,2.009628683293033,1.8874810708695444,0]
[]
[null,null,"Fuel Poor"]
[]
[null,null,null,null,"Post-vesting asset life",null,"years",null,45]
[null,null,null,null,"Years additional customer discount applied",null,"years",null,5]
[]
[null,null,null,null,"NPV of future transportation revenue",null,"£m 09/10 prices",null,null,">",null,null,null,null,null,null,null,null,null,null,null,null,null,null,null,null,null,null,0,0,0,0,0]
[null,null,null,null,"Community based schemes actual capex spend",null,"£m 09/10 prices",null,null,">",null,null,null,null,null,null,null,null,null,null,null,null,null,null,null,null,null,null,0,0.23698943693858771,0.76175302340717177,0.47312816986301587,1.3997885508176682]
[]
[null,null,null,null,"One off schemes actual capex spend",null,"£m 09/10 prices",null,null,">",null,null,null,null,null,null,null,null,null,null,null,null,null,null,null,null,null,null,0,0.90506734297147973,0.82932176530114821,0.606328900758214,0]
[]
[null,"Tax"]
[]
[null,null,"Tax policy"]
[]
[null,null,null,null,{"$f":"E24","v":"Tax liability allowance adjustments - gearing/interest costs"},null,"£m nominal",null,null,null,null,null,null,null,null,null,null,null,null,null,null,null,null,null,null,null,null,null,null,null,null,null,null,{"$f":"AH24","v":0},{"$f":"AI24","v":0},0,0,0,0,0,0]
[null,null,null,null,{"$f":"E25","v":"Tax liability allowance adjustments - driven by tax trigger events"},null,"£m 09/10 prices",null,null,null,null,null,null,null,null,null,null,null,null,null,null,null,null,null,null,null,null,null,null,null,null,null,null,{"$f":"AH25","v":0},0,-0.35737055667749829,-0.26067162363899143,-1.420343467222061,0,0,0]
[]
[null,null,null,null,"Corporation tax rate",null,"%",null,null,">",null,null,null,null,null,null,null,null,null,null,null,null,null,null,0.3,0.3,0.3,0.3,0.28000000000000003,0.28000000000000003,0.28000000000000003,0.26,0.24,0.23,0.21,0.21,0.21,0.21,0.21,0.21,0.21]
[]
[null,null,null,null,"General pool capital allowance rate",null,"%",null,null,">",null,null,null,null,null,null,null,null,null,null,null,0.25,0.25,0.25,0.25,0.25,0.25,0.25,0.2,0.2,0.2,0.2,0.18000000000000002,0.18000000000000002,0.18000000000000002,0.18000000000000002,0.18000000000000002,0.18000000000000002,0.18000000000000002,0.18000000000000002,0.18000000000000002]
[null,null,null,null,"Special Rates capital allowance rate",null,"%",null,null,">",null,null,null,null,null,null,null,null,null,null,null,0.06,0.06,0.06,0.06,0.06,0.06,0.06,0.1,0.1,0.1,0.1,0.08,0.08,0.08,0.08,0.08,0.08,0.08,0.08,0.08]
[null,null,null,null,"Deferred Revenue Expenditure capital allowance rate",null,"%",null,null,">",null,null,null,null,null,null,null,null,null,null,null,null,null,null,null,null,null,null,null,null,null,null,null,2.2200000000000001E-2,2.2200000000000001E-2,2.2200000000000001E-2,2.2200000000000001E-2,2.2200000000000001E-2,2.2200000000000001E-2,2.2200000000000001E-2,2.2200000000000001E-2]
[]
[null,null,"Capital allowances and tax losses"]
[]
[null,null,null,null,"General pool capital allowance opening balance brought forward",null,"£m nominal",null,null,null,null,null,null,null,null,null,null,null,null,null,null,null,null,null,null,null,null,null,null,null,null,null,null,43.618524410445012]
[]
[null,null,null,null,"Special Rate capital allowance opening balance brought forward",null,"£m nominal",null,null,null,null,null,null,null,null,null,null,null,null,null,null,null,null,null,null,null,null,null,null,null,null,null,null,121.49445708634745]
[]
[null,null,null,null,"Deferred revenue expenditure opening balance brought forward",null,"£m nominal",null,null,null,null,null,null,null,null,null,null,null,null,null,null,null,null,null,null,null,null,null,null,null,null,null,null,3.874138958540454]
[]
[null,null,null,null,"Tax loss brought forward",null,"£m nominal",null,null,null,null,null,null,null,null,null,null,null,null,null,null,null,null,null,null,null,null,null,null,null,null,null,null,0]
[]
[null,null,"Tax pool allocation"]
[]
[null,null,null,"Allocation to \"General\" pool"]
[]
[null,null,null,null,"Load Related",null,"%",null,null,null,null,null,null,null,null,null,null,null,null,null,null,null,null,null,null,null,null,null,null,null,null,null,null,2.8999999999999998E-3,2.8999999999999998E-3,2.8999999999999998E-3,2.8999999999999998E-3,2.8999999999999998E-3,2.8999999999999998E-3,2.8999999999999998E-3,2.8999999999999998E-3]
[null,null,null,null,"Non-Load Related - other",null,"%",null,null,null,null,null,null,null,null,null,null,null,null,null,null,null,null,null,null,null,null,null,null,null,null,null,null,0.89756098390240724,0.89756098390240724,0.89756098390240724,0.89756098390240724,0.89756098390240724,0.89756098390240724,0.89756098390240724,0.89756098390240724]
[null,null,null,null,"Opex",null,"%",null,null,null,null,null,null,null,null,null,null,null,null,null,null,null,null,null,null,null,null,null,null,null,null,null,null,0,0,0,0,0,0,0,0]
[null,null,null,null,"Repex",null,"%",null,null,null,null,null,null,null,null,null,null,null,null,null,null,null,null,null,null,null,null,null,null,null,null,null,null,0,0,0,0,0,0,0,0]
[]
[null,null,null,"Allocation to \"Special Rate\" pool"]
[]
[null,null,null,null,"Load Related",null,"%",null,null,null,null,null,null,null,null,null,null,null,null,null,null,null,null,null,null,null,null,null,null,null,null,null,null,0.98870000000000002,0.98870000000000002,0.98870000000000002,0.98870000000000002,0.98870000000000002,0.98870000000000002,0.98870000000000002,0.98870000000000002]
[null,null,null,null,"Non-Load Related - other",null,"%",null,null,null,null,null,null,null,null,null,null,null,null,null,null,null,null,null,null,null,null,null,null,null,null,null,null,1.6271113794003381E-2,1.6271113794003381E-2,1.6271113794003381E-2,1.6271113794003381E-2,1.6271113794003381E-2,1.6271113794003381E-2,1.6271113794003381E-2,1.6271113794003381E-2]
[null,null,null,null,"Opex",null,"%",null,null,null,null,null,null,null,null,null,null,null,null,null,null,null,null,null,null,null,null,null,null,null,null,null,null,0,0,0,0,0,0,0,0]
[null,null,null,null,"Repex",null,"%",null,null,null,null,null,null,null,null,null,null,null,null,null,null,null,null,null,null,null,null,null,null,null,null,null,null,0,0,0,0,0,0,0,0]
[]
[null,null,null,"Allocation to \"Deferred Revenue\" pool"]
[]
[null,null,null,null,"Load Related",null,"%",null,null,null,null,null,null,null,null,null,null,null,null,null,null,null,null,null,null,null,null,null,null,null,null,null,null,0,0,0,0,0,0,0,0]
[null,null,null,null,"Non-Load Related - other",null,"%",null,null,null,null,null,null,null,null,null,null,null,null,null,null,null,null,null,null,null,null,null,null,null,null,null,null,0,0,0,0,0,0,0,0]
[null,null,null,null,"Opex",null,"%",null,null,null,null,null,null,null,null,null,null,null,null,null,null,null,null,null,null,null,null,null,null,null,null,null,null,0,0,0,0,0,0,0,0]
[null,null,null,null,"Repex",null,"%",null,null,null,null,null,null,null,null,null,null,null,null,null,null,null,null,null,null,null,null,null,null,null,null,null,null,0,0,1,1,1,1,1,1]
[]
[null,null,null,"Allocation to \"Revenue\" pool"]
[]
[null,null,null,null,"Load Related",null,"%",null,null,null,null,null,null,null,null,null,null,null,null,null,null,null,null,null,null,null,null,null,null,null,null,null,null,0,0,0,0,0,0,0,0]
[null,null,null,null,"Non-Load Related - other",null,"%",null,null,null,null,null,null,null,null,null,null,null,null,null,null,null,null,null,null,null,null,null,null,null,null,null,null,0,0,0,0,0,0,0,0]
[null,null,null,null,"Opex",null,"%",null,null,null,null,null,null,null,null,null,null,null,null,null,null,null,null,null,null,null,null,null,null,null,null,null,null,1,1,1,1,1,1,1,1]
[null,null,null,null,"Repex",null,"%",null,null,null,null,null,null,null,null,null,null,null,null,null,null,null,null,null,null,null,null,null,null,null,null,null,null,1,1,0,0,0,0,0,0]
[]
[null,null,null,"Allocation to \"Non Qualifying\" pool"]
[]
[null,null,null,null,"Load Related",null,"%",null,null,null,null,null,null,null,null,null,null,null,null,null,null,null,null,null,null,null,null,null,null,null,null,null,null,8.4000000000000012E-3,8.4000000000000012E-3,8.4000000000000012E-3,8.4000000000000012E-3,8.4000000000000012E-3,8.4000000000000012E-3,8.4000000000000012E-3,8.4000000000000012E-3]
[null,null,null,null,"Non-Load Related - other",null,"%",null,null,null,null,null,null,null,null,null,null,null,null,null,null,null,null,null,null,null,null,null,null,null,null,null,null,8.6167902303589283E-2,8.6167902303589283E-2,8.6167902303589283E-2,8.6167902303589283E-2,8.6167902303589283E-2,8.6167902303589283E-2,8.6167902303589283E-2,8.6167902303589283E-2]
[null,null,null,null,"Opex",null,"%",null,null,null,null,null,null,null,null,null,null,null,null,null,null,null,null,null,null,null,null,null,null,null,null,null,null,0,0,0,0,0,0,0,0]
[null,null,null,null,"Repex",null,"%",null,null,null,null,null,null,null,null,null,null,null,null,null,null,null,null,null,null,null,null,null,null,null,null,null,null,0,0,0,0,0,0,0,0]
[]
[null,null,null,"Allocation check"]
[null,null,null,"Note: All categories should equal 100%"]
[]
[null,null,null,null,"Load Related",null,"%",null,null,null,null,null,null,null,null,null,null,null,null,null,null,null,null,null,null,null,null,null,null,null,null,null,null,{"$f":"AH238+AH245+AH252+AH259+AH266","v":1},1,1,1,1,1,1,1]
[null,null,null,null,"Non-Load Related - other",null,"%",null,null,null,null,null,null,null,null,null,null,null,null,null,null,null,null,null,null,null,null,null,null,null,null,null,null,0.99999999999999989,0.99999999999999989,0.99999999999999989,0.99999999999999989,0.99999999999999989,0.99999999999999989,0.99999999999999989,0.99999999999999989]
[null,null,null,null,"Opex",null,"%",null,null,null,null,null,null,null,null,null,null,null,null,null,null,null,null,null,null,null,null,null,null,null,null,null,null,1,1,1,1,1,1,1,1]
[null,null,null,null,"Repex",null,"%",null,null,null,null,null,null,null,null,null,null,null,null,null,null,null,null,null,null,null,null,null,null,null,null,null,null,1,1,1,1,1,1,1,1]
[]
[null,null,null,"Tax Trigger Deadbands"]
[]
[null,null,null,null,"Tax Trigger Deadband",null,"£m 09/10 prices",null,null,null,null,null,null,null,null,null,null,null,null,null,null,null,null,null,null,null,null,null,null,null,null,null,null,0.93770121593731504,0.91920780322236972,0.91920484125283253,0.89344126487775832,0.90373329918096501,0.90476692902423284,0.9057263125972439,0.89837112315684287]
[]
[null,null,null,"SIU Costs"]
[]
[null,null,null,null,"SIU Costs",null,"£m 09/10 prices",null,null,null,null,null,null,null,null,null,null,null,null,null,null,null,null,null,null,null,null,null,null,null,null,null,null,0,0,0,0,0,0,0,0]
[]
[null,null,null,"Additional Income Workings"]
[]
[null,null,null,null,"Original allowed totex",null,null,null,null,null,null,null,null,null,null,null,null,null,null,null,null,null,null,null,null,null,null,null,null,null,null,null,null,157.58981651140761,158.23791882471323,152.451043501388,150.75984468077431,155.3085220160043,155.17639336293826,154.86272631055942,149.39356640754335]
[null,null,null,null,"Total allowed totex",null,null,null,1233.7798316153285]
[]
[null,"End of sheet"]

{"sheet":"Northern","index":20,"n_rows":292,"n_cols":41,"rows_kept":292,"cut":false,"hidden":false,"merged":[]}
["Input"]
[null,"Northern"]
[null,null,null,null,"Parameter","Licence condition","Units","Term","Constant",null,null,null,null,null,null,null,null,null,null,null,null,null,null,null,null,null,null,null,null,null,null,null,null,"Annual values"]
[null,null,null,null,"PCFM year ending",{"$f":"Cover!C3","v":"GD1 PCFM for use in AIP 2018.xlsm"},null,null,{"$f":"UserInterface!$G$10","v":"2019-03-31"},null,"1991-03-31","1992-03-31","1993-03-31","1994-03-31","1995-03-31","1996-03-31","1997-03-31","1998-03-31","1999-03-31","2000-03-31","2001-03-31","2002-03-31","2003-03-31","2004-03-31","2005-03-31","2006-03-31","2007-03-31","2008-03-31","2009-03-31","2010-03-31","2011-03-31","2012-03-31","2013-03-31","2014-03-31","2015-03-31","2016-03-31","2017-03-31","2018-03-31","2019-03-31","2020-03-31","2021-03-31"]
[]
[null,"PCFM Variable Values Table"]
[]
[null,null,null,null,{"$f":"Input!E8","v":"Allowed percentage cost of debt"},{"$f":"Input!F8","v":"3C"},"annual real %",{"$f":"Input!H8","v":"CDE"},null,null,null,null,null,null,null,null,null,null,null,null,null,null,null,null,null,null,null,null,null,null,null,null,null,2.92E-2,2.7199999999999998E-2,2.5499999999999998E-2,2.3800000000000002E-2,2.2200000000000001E-2,2.2200000000000001E-2,2.2200000000000001E-2,2.2200000000000001E-2]
[null,null,null,null,{"$f":"Input!E9","v":"Actual load related capex"},{"$f":"Input!F9","v":"3B"},"£m 09/10 prices",{"$f":"Input!H9","v":"ALC"},null,null,null,null,null,null,null,null,null,null,null,null,null,null,null,null,null,null,null,null,null,null,null,null,null,18.023420343552861,22.226774302890515,30.326243341423375,0,0,0,0,0]
[null,null,null,null,{"$f":"Input!E10","v":"Actual other capex"},{"$f":"Input!F10","v":"3B"},"£m 09/10 prices",{"$f":"Input!H10","v":"AOC"},null,null,null,null,null,null,null,null,null,null,null,null,null,null,null,null,null,null,null,null,null,null,null,null,null,17.096446871171342,19.855301900906628,21.792216854697163,0,0,0,0,0]
[null,null,null,null,{"$f":"Input!E11","v":"Actual controllable opex"},{"$f":"Input!F11","v":"3B"},"£m 09/10 prices",{"$f":"Input!H11","v":"ACO"},null,null,null,null,null,null,null,null,null,null,null,null,null,null,null,null,null,null,null,null,null,null,null,null,null,68.411685681479682,69.552822446983853,65.344084362605955,0,0,0,0,0]
[null,null,null,null,{"$f":"Input!E12","v":"Actual replacement expenditure"},{"$f":"Input!F12","v":"3B"},"£m 09/10 prices",{"$f":"Input!H12","v":"ARE"},null,null,null,null,null,null,null,null,null,null,null,null,null,null,null,null,null,null,null,null,null,null,null,null,null,75.653995514310623,79.429614099202482,71.565106038407393,0,0,0,0,0]
[null,null,null,null,{"$f":"Input!E13","v":"Allowed uncertain costs (Enhanced physical site security)"},{"$f":"Input!F13","v":"3F"},"£m 09/10 prices",{"$f":"Input!H13","v":"IAEEPS"},null,null,null,null,null,null,null,null,null,null,null,null,null,null,null,null,null,null,null,null,null,null,null,null,null,0,0,0,0,0,0,0,0]
[null,null,null,null,{"$f":"Input!E14","v":"Allowed uncertain costs (Specified street work costs)"},{"$f":"Input!F14","v":"3F"},"£m 09/10 prices",{"$f":"Input!H14","v":"IAESW"},null,null,null,null,null,null,null,null,null,null,null,null,null,null,null,null,null,null,null,null,null,null,null,null,null,0.68266994578252904,0.61995037043612844,0.57011825504688862,0.52584363122883437,0.48560318990403306,0.44946474077707921,0.41695358819064676,0.38772834209755658]
[null,null,null,null,{"$f":"Input!E15","v":"Allowed uncertain costs (Connection charging boundary change costs)"},{"$f":"Input!F15","v":"3F"},"£m 09/10 prices",{"$f":"Input!H15","v":"IAECCB"},null,null,null,null,null,null,null,null,null,null,null,null,null,null,null,null,null,null,null,null,null,null,null,null,null,0,0,0,0,0,0,0,0]
[null,null,null,null,{"$f":"Input!E16","v":"Allowed uncertain costs (Fuel poor network extension scheme)"},{"$f":"Input!F16","v":"3F"},"£m 09/10 prices",{"$f":"Input!H16","v":"IAEFP"},null,null,null,null,null,null,null,null,null,null,null,null,null,null,null,null,null,null,null,null,null,null,null,null,null,1.6147563,1.6406258650000003,1.6990264079875002,2.2442937588451235,2.2479801718576233,2.2790236498576233,2.2893714758576231,2.3152410408576234]
[null,null,null,null,{"$f":"Input!E17","v":"Allowed uncertain costs (Central agent)"},{"$f":"Input!F17","v":"3F"},"£m 09/10 prices",{"$f":"Input!H17","v":"IAECA"},null,null,null,null,null,null,null,null,null,null,null,null,null,null,null,null,null,null,null,null,null,null,null,null,null,-5.4311148289798439E-7,1.3449786066123792E-2,0.12982796462729862,0.13172458048309554,-1.7398080507292666,-2.5646060928952656,-3.3499554518706072,-3.7441815850867215]
[null,null,null,null,{"$f":"Input!E18","v":"Allowed uncertain costs (Smart metering roll out costs)"},{"$f":"Input!F18","v":"3F"},"£m 09/10 prices",{"$f":"Input!H18","v":"IAESM"},null,null,null,null,null,null,null,null,null,null,null,null,null,null,null,null,null,null,null,null,null,null,null,null,null,0,0,0,0,0,0,0,0]
[null,null,null,null,{"$f":"Input!E19","v":"Allowed uncertain costs (Mains and services replacement expenditure)"},{"$f":"Input!F19","v":"3E"},"£m 09/10 prices",{"$f":"Input!H19","v":"RE"},null,null,null,null,null,null,null,null,null,null,null,null,null,null,null,null,null,null,null,null,null,null,null,null,null,2.8017175999999999,2.558737499999999,1.6320085,3.0064104,3.2522217999999992,3.1336934999999997,2.9518329000000003,2.8162966000000003]
[null,null,null,null,{"$f":"Input!E20","v":"Allowed uncertain Costs (Large load connection costs)"},{"$f":"Input!F20","v":"3F"},"£m 09/10 prices",{"$f":"Input!H20","v":"IAELLC"},null,null,null,null,null,null,null,null,null,null,null,null,null,null,null,null,null,null,null,null,null,null,null,null,null,0,0,0,0,0,0,0,0]
[null,null,null,null,{"$f":"Input!E21","v":"Allowed innovation roll-out mechanism"},{"$f":"Input!F21","v":"3D"},"£m 09/10 prices",{"$f":"Input!H21","v":"IRM"},null,null,null,null,null,null,null,null,null,null,null,null,null,null,null,null,null,null,null,null,null,null,null,null,null,0,0,0,0,0,0,0,0]
[null,null,null,null,{"$f":"Input!E22","v":"NTS Exit Capacity costs"},{"$f":"Input!F22","v":"1D"},"£m 09/10 prices",{"$f":"Input!H22","v":"AEx"},null,null,null,null,null,null,null,null,null,null,null,null,null,null,null,null,null,null,null,null,null,null,null,null,null,8.8703170786488972,8.8769615109175479,8.7739005154378109,8.7739005154378109,8.7739005154378109,8.7739005154378109,8.7739005154378109,8.7739005154378109]
[null,null,null,null,{"$f":"Input!E23","v":"Shrinkage costs"},{"$f":"Input!F23","v":"1F"},"£m 09/10 prices",{"$f":"Input!H23","v":"ALSC"},null,null,null,null,null,null,null,null,null,null,null,null,null,null,null,null,null,null,null,null,null,null,null,null,null,9.9575223595027609,9.61,9.39,8.99,8.8699999999999992,8.77,8.5500000000000007,8.35]
[null,null,null,null,{"$f":"Input!E24","v":"Tax liability allowance adjustments - gearing/interest costs"},{"$f":"Input!F24","v":"3C"},"£m nominal",{"$f":"Input!H24","v":"TGIE"},null,null,null,null,null,null,null,null,null,null,null,null,null,null,null,null,null,null,null,null,null,null,null,null,null,0,0,0,0,0,0,0,0]
[null,null,null,null,{"$f":"Input!E25","v":"Tax liability allowance adjustments - driven by tax trigger events"},{"$f":"Input!F25","v":"3C"},"£m 09/10 prices",{"$f":"Input!H25","v":"TTE"},null,null,null,null,null,null,null,null,null,null,null,null,null,null,null,null,null,null,null,null,null,null,null,null,null,0,0,-0.49481430258187586,-0.20943401688150942,-1.3057807675598561,0,0,0]
[null,null,null,null,{"$f":"Input!E26","v":"Pension scheme administration and Pension Protection Fund Levy"},{"$f":"Input!F26","v":"3C"},"£m 09/10 prices",{"$f":"Input!H26","v":"APFE"},null,null,null,null,null,null,null,null,null,null,null,null,null,null,null,null,null,null,null,null,null,null,null,null,null,0.73,0.73,0.73,0.73,0.73,0.73,0.73,0.73]
[null,null,null,null,{"$f":"Input!E27","v":"Pension scheme deficit revenue allowances"},{"$f":"Input!F27","v":"3C"},"£m 09/10 prices",{"$f":"Input!H27","v":"EDE"},null,null,null,null,null,null,null,null,null,null,null,null,null,null,null,null,null,null,null,null,null,null,null,null,null,6.6728681374058123,6.6728681374058123,6.9925715321976964,6.9925715321976964,6.9925715321976964,6.9925715321976964,6.9925715321976964,6.9925715321976964]
[null,null,null,null,{"$f":"Input!E28","v":"Legacy price control allowed revenue adjustment"},{"$f":"Input!F28","v":"3A"},"£m 09/10 prices",{"$f":"Input!H28","v":"LAR"},null,null,null,null,null,null,null,null,null,null,null,null,null,null,null,null,null,null,null,null,null,null,null,null,null,17.398062412967949]
[null,null,null,null,{"$f":"Input!E29","v":"Legacy price control RAV additions adjustment"},{"$f":"Input!F29","v":"3A"},"£m 09/10 prices",{"$f":"Input!H29","v":"LRAV"},null,null,null,null,null,null,null,null,null,null,null,null,null,null,null,null,null,null,null,null,null,null,null,null,null,-14.073390704007844]
[]
[null,"Policy"]
[]
[null,null,"Cost of capital"]
[]
[null,null,null,null,"Cost of debt",null,"annual real %",null,null,null,null,null,null,null,null,null,null,null,null,null,null,null,null,null,null,null,null,null,null,null,null,null,null,{"$f":"AH8","v":2.92E-2},2.7199999999999998E-2,2.5499999999999998E-2,2.3800000000000002E-2,2.2200000000000001E-2,2.2200000000000001E-2,2.2200000000000001E-2,2.2200000000000001E-2]
[null,null,null,null,"Cost of equity",null,"annual real %",null,null,null,null,null,null,null,null,null,null,null,null,null,null,null,null,null,null,null,null,null,null,null,null,null,null,6.7000000000000004E-2,6.7000000000000004E-2,6.7000000000000004E-2,6.7000000000000004E-2,6.7000000000000004E-2,6.7000000000000004E-2,6.7000000000000004E-2,6.7000000000000004E-2]
[null,null,null,null,"Notional gearing",null,"%",null,null,">",null,null,null,null,null,null,null,null,null,null,null,null,null,null,null,null,null,null,null,null,null,null,0.625,0.65,0.65,0.65,0.65,0.65,0.65,0.65,0.65]
[]
[null,null,null,null,"Vanilla WACC",null,"annual real %",null,null,null,null,null,null,null,null,null,null,null,null,null,null,null,null,null,null,null,null,null,null,null,null,null,null,{"$f":"(AH35 * AH37) + (AH36 * (1 - AH37))","v":4.2429999999999995E-2},4.113E-2,4.0024999999999998E-2,3.8919999999999996E-2,3.7879999999999997E-2,3.7879999999999997E-2,3.7879999999999997E-2,3.7879999999999997E-2]
[]
[null,null,null,null,"Closing gearing",null,"%",null,0.625]
[]
[null,null,null,null,"Forecast RPI (simple average year to March)",null,"index value",null,null,">",null,null,null,null,null,null,null,null,null,null,null,173.875,177.517,182.47499999999999,188.15,193.108,200.31700000000001,208.59200000000001,214.78299999999999,215.767,226.47499999999999,{"$f":"ROUND(AVERAGE(234.4,235.2,235.2,234.7,236.1,237.9,238,238.5,239.4,238,239.9,240.8),3)","v":237.34200000000001},{"$f":"ROUND(AF43*(1+2.8%),3)","v":243.988},{"$f":"ROUND(AG43*(1+2.8%),3)","v":250.82},257.84300000000002,265.06299999999999,272.48500000000001,280.11500000000001,287.95800000000003,296.02100000000002,304.31]
[null,null,null,null,"Cost of Debt Inflation",null,"index value",null,null,">",null,null,null,null,null,null,null,null,null,null,null,173.875,177.517,182.47499999999999,188.15,193.108,200.31700000000001,208.59200000000001,214.78299999999999,215.767,226.47499999999999,{"$f":"ROUND(AVERAGE(234.4,235.2,235.2,234.7,236.1,237.9,238,238.5,239.4,238,239.9,240.8),3)","v":237.34200000000001},{"$f":"ROUND(AF44*(1+2.8%),3)","v":243.988},250.82,257.84300000000002,265.06299999999999,272.48500000000001,280.11500000000001,287.95800000000003,296.02100000000002,304.31]
[null,null,"TIM and capitalisation"]
[]
[null,null,null,null,"Years from t until normal reporting of actual costs",null,"years",null,2]
[]
[null,null,null,null,{"$f":"Input!E49","v":"Capitalised share of totex (excluding repex)"},null,"%",null,null,null,null,null,null,null,null,null,null,null,null,null,null,null,null,null,null,null,null,null,null,null,null,null,null,0.34984411379298247,0.34984411379298247,0.34984411379298247,0.34984411379298247,0.34984411379298247,0.34984411379298247,0.34984411379298247,0.34984411379298247]
[null,null,null,null,{"$f":"Input!E50","v":"Capitalised share of repex"},null,"%",null,null,null,null,null,null,null,null,null,null,null,null,null,null,null,null,null,null,null,null,null,null,null,null,null,null,0.5,0.5714285714285714,0.64285714285714279,0.71428571428571419,0.78571428571428559,0.85714285714285698,0.92857142857142838,1]
[]
[null,null,null,null,"Incentive rate (slope)",null,"scalar",null,-1.666666666666667E-3]
[null,null,null,null,"Incentive rate (intercept)",null,"scalar",null,0.81666666666666665]
[null,null,null,null,"Additional income (intercept)",null,"scalar",null,14.583333333333332]
[]
[null,null,null,null,"Weight of Ofgem's view on price control totex",null,"%",null,0.75]
[null,null,null,null,"Weight of operator's view on price control totex",null,"%",null,0.25]
[]
[null,null,null,null,"GD TIM group ratio",null,"scalar",null,106.11691597275677]
[]
[null,null,null,null,"Ofgem's view of  licensee totex",null,"£m 09/10 prices",null,1652.1430126093353]
[null,null,null,null,"Operator's view of licensee totex",null,"£m 09/10 prices",null,1753.2032124404204]
[]
[null,null,null,null,"Ofgem's view of group price control totex",null,"£m 09/10 prices",null,1652.1430126093353]
[null,null,null,null,"Operator's view of group price control totex",null,"£m 09/10 prices",null,1753.2032124404204]
[]
[null,null,"Finance"]
[]
[null,null,null,null,"Minimum equity issuance threshold",null,"%",null,0.05]
[null,null,null,null,"Equity issuance costs",null,"%",null,0.05]
[null,null,null,null,"Assumed dividends as % of notional equity portion of RAV",null,"%",null,0.05]
[]
[null,null,null,null,"Equity issuance gearing target",null,"%",null,null,null,null,null,null,null,null,null,null,null,null,null,null,null,null,null,null,null,null,null,null,null,null,null,null,{"$f":"AH37","v":0.65},{"$f":"AI37","v":0.65},0.65,0.65,0.65,0.65,0.65,0.65]
[]
[null,null,null,null,"Index-linked debt as a percentage of net debt",null,"%",null,null,null,null,null,null,null,null,null,null,null,null,null,null,null,null,null,null,null,null,null,null,null,null,null,null,0.25,0.25,0.25,0.25,0.25,0.25,0.25,0.25]
[]
[null,"Expenditure"]
[]
[null,null,"Totex"]
[]
[null,null,null,"Non-variant allowances"]
[]
[null,null,null,null,"Non-variant allowed load related capex",null,"£m 09/10 prices",null,null,null,null,null,null,null,null,null,null,null,null,null,null,null,null,null,null,null,null,null,null,null,null,null,null,20.802298651958601,21.548248092180287,28.422618423508951,25.479156083861227,23.074312191506138,23.266684923043599,20.722546952846777,21.188798246453008]
[null,null,null,null,"Non-variant allowed non-load related capex - other",null,"£m 09/10 prices",null,null,null,null,null,null,null,null,null,null,null,null,null,null,null,null,null,null,null,null,null,null,null,null,null,null,23.103565221739657,25.911880955713688,21.637197749576806,21.201257900271163,12.568944856206279,12.769257324296564,15.366324258843132,15.578422716951405]
[null,null,null,null,"Non-variant allowed controllable opex",null,"£m 09/10 prices",null,null,null,null,null,null,null,null,null,null,null,null,null,null,null,null,null,null,null,null,null,null,null,null,null,null,80.381650067280106,81.20788590451275,81.61657950064199,81.631456018541684,80.222976305108375,80.040120899544846,79.766967024661028,78.808315190057243]
[null,null,null,null,"Non-variant allowed repex",null,"£m 09/10 prices",null,null,null,null,null,null,null,null,null,null,null,null,null,null,null,null,null,null,null,null,null,null,null,null,null,null,79.182844197097765,81.130065665930232,81.619852833724821,82.443460066383807,82.629456902894248,82.610069934792364,83.717978658212019,83.651530869327061]
[]
[null,null,null,"Variant allowances"]
[]
[null,null,null,null,{"$f":"Input!E90","v":"Allowed uncertain costs (Enhanced physical site security)"},null,"£m 09/10 prices",null,null,null,null,null,null,null,null,null,null,null,null,null,null,null,null,null,null,null,null,null,null,null,null,null,null,{"$f":"AH13","v":0},{"$f":"AI13","v":0},0,0,0,0,0,0]
[null,null,null,null,{"$f":"Input!E91","v":"Allocation to load related capex"},null,"%",null,null,null,null,null,null,null,null,null,null,null,null,null,null,null,null,null,null,null,null,null,null,null,null,null,null,0,0,0,0,0,0,0,0]
[null,null,null,null,{"$f":"Input!E92","v":"Allocation to non-load related capex - other"},null,"%",null,null,null,null,null,null,null,null,null,null,null,null,null,null,null,null,null,null,null,null,null,null,null,null,null,null,1,1,1,1,1,1,1,1]
[null,null,null,null,{"$f":"Input!E93","v":"Allocation to controllable opex"},null,"%",null,null,null,null,null,null,null,null,null,null,null,null,null,null,null,null,null,null,null,null,null,null,null,null,null,null,0,0,0,0,0,0,0,0]
[null,null,null,null,{"$f":"Input!E94","v":"Allocation to repex"},null,"%",null,null,null,null,null,null,null,null,null,null,null,null,null,null,null,null,null,null,null,null,null,null,null,null,null,null,0,0,0,0,0,0,0,0]
[]
[null,null,null,null,{"$f":"Input!E96","v":"Allowed uncertain costs (Specified street work costs)"},null,"£m 09/10 prices",null,null,null,null,null,null,null,null,null,null,null,null,null,null,null,null,null,null,null,null,null,null,null,null,null,null,{"$f":"AH14","v":0.68266994578252904},0.61995037043612844,0.57011825504688862,0.52584363122883437,0.48560318990403306,0.44946474077707921,0.41695358819064676,0.38772834209755658]
[null,null,null,null,{"$f":"Input!E97","v":"Allocation to load related capex"},null,"%",null,null,null,null,null,null,null,null,null,null,null,null,null,null,null,null,null,null,null,null,null,null,null,null,null,null,0.05,0.05,0.05,0.05,0.05,0.05,0.05,0.05]
[null,null,null,null,{"$f":"Input!E98","v":"Allocation to non-load related capex - other"},null,"%",null,null,null,null,null,null,null,null,null,null,null,null,null,null,null,null,null,null,null,null,null,null,null,null,null,null,0,0,0,0,0,0,0,0]
[null,null,null,null,{"$f":"Input!E99","v":"Allocation to controllable opex"},null,"%",null,null,null,null,null,null,null,null,null,null,null,null,null,null,null,null,null,null,null,null,null,null,null,null,null,null,0.3,0.3,0.3,0.3,0.3,0.3,0.3,0.3]
[null,null,null,null,{"$f":"Input!E100","v":"Allocation to repex"},null,"%",null,null,null,null,null,null,null,null,null,null,null,null,null,null,null,null,null,null,null,null,null,null,null,null,null,null,0.65,0.65,0.65,0.65,0.65,0.65,0.65,0.65]
[]
[null,null,null,null,{"$f":"Input!E102","v":"Allowed uncertain costs (Connection charging boundary change costs)"},null,"£m 09/10 prices",null,null,null,null,null,null,null,null,null,null,null,null,null,null,null,null,null,null,null,null,null,null,null,null,null,null,{"$f":"AH15","v":0},{"$f":"AI15","v":0},0,0,0,0,0,0]
[null,null,null,null,{"$f":"Input!E103","v":"Allocation to load related capex"},null,"%",null,null,null,null,null,null,null,null,null,null,null,null,null,null,null,null,null,null,null,null,null,null,null,null,null,null,0.9,0.9,0.9,0.9,0.9,0.9,0.9,0.9]
[null,null,null,null,{"$f":"Input!E104","v":"Allocation to non-load related capex - other"},null,"%",null,null,null,null,null,null,null,null,null,null,null,null,null,null,null,null,null,null,null,null,null,null,null,null,null,null,0,0,0,0,0,0,0,0]
[null,null,null,null,{"$f":"Input!E105","v":"Allocation to controllable opex"},null,"%",null,null,null,null,null,null,null,null,null,null,null,null,null,null,null,null,null,null,null,null,null,null,null,null,null,null,0.1,0.1,0.1,0.1,0.1,0.1,0.1,0.1]
[null,null,null,null,{"$f":"Input!E106","v":"Allocation to repex"},null,"%",null,null,null,null,null,null,null,null,null,null,null,null,null,null,null,null,null,null,null,null,null,null,null,null,null,null,0,0,0,0,0,0,0,0]
[]
[null,null,null,null,{"$f":"Input!E108","v":"Allowed uncertain costs (Fuel poor network extension scheme)"},null,"£m 09/10 prices",null,null,null,null,null,null,null,null,null,null,null,null,null,null,null,null,null,null,null,null,null,null,null,null,null,null,{"$f":"AH16","v":1.6147563},{"$f":"AI16","v":1.6406258650000003},1.6990264079875002,2.2442937588451235,2.2479801718576233,2.2790236498576233,2.2893714758576231,2.3152410408576234]
[null,null,null,null,{"$f":"Input!E109","v":"Allocation to load related capex"},null,"%",null,null,null,null,null,null,null,null,null,null,null,null,null,null,null,null,null,null,null,null,null,null,null,null,null,null,1,1,1,1,1,1,1,1]
[null,null,null,null,{"$f":"Input!E110","v":"Allocation to non-load related capex - other"},null,"%",null,null,null,null,null,null,null,null,null,null,null,null,null,null,null,null,null,null,null,null,null,null,null,null,null,null,0,0,0,0,0,0,0,0]
[null,null,null,null,{"$f":"Input!E111","v":"Allocation to controllable opex"},null,"%",null,null,null,null,null,null,null,null,null,null,null,null,null,null,null,null,null,null,null,null,null,null,null,null,null,null,0,0,0,0,0,0,0,0]
[null,null,null,null,{"$f":"Input!E112","v":"Allocation to repex"},null,"%",null,null,null,null,null,null,null,null,null,null,null,null,null,null,null,null,null,null,null,null,null,null,null,null,null,null,0,0,0,0,0,0,0,0]
[]
[null,null,null,null,{"$f":"Input!E114","v":"Allowed uncertain costs (Central agent)"},null,"£m 09/10 prices",null,null,null,null,null,null,null,null,null,null,null,null,null,null,null,null,null,null,null,null,null,null,null,null,null,null,{"$f":"AH17","v":-5.4311148289798439E-7},1.3449786066123792E-2,0.12982796462729862,0.13172458048309554,-1.7398080507292666,-2.5646060928952656,-3.3499554518706072,-3.7441815850867215]
[null,null,null,null,{"$f":"Input!E115","v":"Allocation to load related capex"},null,"%",null,null,null,null,null,null,null,null,null,null,null,null,null,null,null,null,null,null,null,null,null,null,null,null,null,null,0,0,0,0,0,0,0,0]
[null,null,null,null,{"$f":"Input!E116","v":"Allocation to non-load related capex - other"},null,"%",null,null,null,null,null,null,null,null,null,null,null,null,null,null,null,null,null,null,null,null,null,null,null,null,null,null,0.15,0.15,0.15,0.15,0.15,0.15,0.15,0.15]
[null,null,null,null,{"$f":"Input!E117","v":"Allocation to controllable opex"},null,"%",null,null,null,null,null,null,null,null,null,null,null,null,null,null,null,null,null,null,null,null,null,null,null,null,null,null,0.85,0.85,0.85,0.85,0.85,0.85,0.85,0.85]
[null,null,null,null,{"$f":"Input!E118","v":"Allocation to repex"},null,"%",null,null,null,null,null,null,null,null,null,null,null,null,null,null,null,null,null,null,null,null,null,null,null,null,null,null,0,0,0,0,0,0,0,0]
[]
[null,null,null,null,{"$f":"Input!E120","v":"Allowed uncertain costs (Smart metering roll out costs)"},null,"£m 09/10 prices",null,null,null,null,null,null,null,null,null,null,null,null,null,null,null,null,null,null,null,null,null,null,null,null,null,null,{"$f":"AH18","v":0},0,0,0,0,0,0,0]
[null,null,null,null,{"$f":"Input!E121","v":"Allocation to load related capex"},null,"%",null,null,null,null,null,null,null,null,null,null,null,null,null,null,null,null,null,null,null,null,null,null,null,null,null,null,0,0,0,0,0,0,0,0]
[null,null,null,null,{"$f":"Input!E122","v":"Allocation to non-load related capex - other"},null,"%",null,null,null,null,null,null,null,null,null,null,null,null,null,null,null,null,null,null,null,null,null,null,null,null,null,null,0,0,0,0,0,0,0,0]
[null,null,null,null,{"$f":"Input!E123","v":"Allocation to controllable opex"},null,"%",null,null,null,null,null,null,null,null,null,null,null,null,null,null,null,null,null,null,null,null,null,null,null,null,null,null,0.5,0.5,0.5,0.5,0.5,0.5,0.5,0.5]
[null,null,null,null,{"$f":"Input!E124","v":"Allocation to repex"},null,"%",null,null,null,null,null,null,null,null,null,null,null,null,null,null,null,null,null,null,null,null,null,null,null,null,null,null,0.5,0.5,0.5,0.5,0.5,0.5,0.5,0.5]
[]
[null,null,null,null,{"$f":"Input!E126","v":"Allowed uncertain costs (Mains and services replacement expenditure)"},null,"£m 09/10 prices",null,null,null,null,null,null,null,null,null,null,null,null,null,null,null,null,null,null,null,null,null,null,null,null,null,null,{"$f":"AH19","v":2.8017175999999999},{"$f":"AI19","v":2.558737499999999},1.6320085,3.0064104,3.2522217999999992,3.1336934999999997,2.9518329000000003,2.8162966000000003]
[null,null,null,null,{"$f":"Input!E127","v":"Allocation to load related capex"},null,"%",null,null,null,null,null,null,null,null,null,null,null,null,null,null,null,null,null,null,null,null,null,null,null,null,null,null,0,0,0,0,0,0,0,0]
[null,null,null,null,{"$f":"Input!E128","v":"Allocation to non-load related capex - other"},null,"%",null,null,null,null,null,null,null,null,null,null,null,null,null,null,null,null,null,null,null,null,null,null,null,null,null,null,0,0,0,0,0,0,0,0]
[null,null,null,null,{"$f":"Input!E129","v":"Allocation to controllable opex"},null,"%",null,null,null,null,null,null,null,null,null,null,null,null,null,null,null,null,null,null,null,null,null,null,null,null,null,null,0,0,0,0,0,0,0,0]
[null,null,null,null,{"$f":"Input!E130","v":"Allocation to repex"},null,"%",null,null,null,null,null,null,null,null,null,null,null,null,null,null,null,null,null,null,null,null,null,null,null,null,null,null,1,1,1,1,1,1,1,1]
[]
[null,null,null,null,{"$f":"Input!E132","v":"Allowed uncertain Costs (Large load connection costs)"},null,"£m 09/10 prices",null,null,null,null,null,null,null,null,null,null,null,null,null,null,null,null,null,null,null,null,null,null,null,null,null,null,{"$f":"AH20","v":0},{"$f":"AI20","v":0},{"$f":"AJ20","v":0},0,{"$f":"AL20","v":0},0,0,0]
[null,null,null,null,{"$f":"Input!E133","v":"Allocation to load related capex"},null,"%",null,null,null,null,null,null,null,null,null,null,null,null,null,null,null,null,null,null,null,null,null,null,null,null,null,null,1,1,1,1,1,1,1,1]
[null,null,null,null,{"$f":"Input!E134","v":"Allocation to non-load related capex - other"},null,"%",null,null,null,null,null,null,null,null,null,null,null,null,null,null,null,null,null,null,null,null,null,null,null,null,null,null,0,0,0,0,0,0,0,0]
[null,null,null,null,{"$f":"Input!E135","v":"Allocation to controllable opex"},null,"%",null,null,null,null,null,null,null,null,null,null,null,null,null,null,null,null,null,null,null,null,null,null,null,null,null,null,0,0,0,0,0,0,0,0]
[null,null,null,null,{"$f":"Input!E136","v":"Allocation to repex"},null,"%",null,null,null,null,null,null,null,null,null,null,null,null,null,null,null,null,null,null,null,null,null,null,null,null,null,null,0,0,0,0,0,0,0,0]
[]
[null,null,null,null,{"$f":"Input!E138","v":"Allowed innovation roll-out mechanism"},null,"£m 09/10 prices",null,null,null,null,null,null,null,null,null,null,null,null,null,null,null,null,null,null,null,null,null,null,null,null,null,null,{"$f":"AH21","v":0},{"$f":"AI21","v":0},0,0,0,0,0,0]
[null,null,null,null,{"$f":"Input!E139","v":"Allocation to load related capex"},null,"%",null,null,null,null,null,null,null,null,null,null,null,null,null,null,null,null,null,null,null,null,null,null,null,null,null,null,0.5,0.5,0.5,0.5,0.5,0.5,0.5,0.5]
[null,null,null,null,{"$f":"Input!E140","v":"Allocation to non-load related capex - other"},null,"%",null,null,null,null,null,null,null,null,null,null,null,null,null,null,null,null,null,null,null,null,null,null,null,null,null,null,0,0,0,0,0,0,0,0]
[null,null,null,null,{"$f":"Input!E141","v":"Allocation to controllable opex"},null,"%",null,null,null,null,null,null,null,null,null,null,null,null,null,null,null,null,null,null,null,null,null,null,null,null,null,null,0.5,0.5,0.5,0.5,0.5,0.5,0.5,0.5]
[null,null,null,null,{"$f":"Input!E142","v":"Allocation to repex"},null,"%",null,null,null,null,null,null,null,null,null,null,null,null,null,null,null,null,null,null,null,null,null,null,null,null,null,null,0,0,0,0,0,0,0,0]
[]
[null,null,null,null,"Variant allowed load related capex",null,"£m 09/10 prices",null,null,null,null,null,null,null,null,null,null,null,null,null,null,null,null,null,null,null,null,null,null,null,null,null,null,{"$f":"(AH$90*AH91) + (AH$96*AH97) + (AH$102*AH103) + (AH$108*AH109) + (AH$114*AH115) + (AH$120*AH121)      + (AH$126 * AH127) + (AH$132*AH133) + (AH$138*AH139)","v":1.6488897972891265},{"$f":"(AI$90*AI91) + (AI$96*AI97) + (AI$102*AI103) + (AI$108*AI109) + (AI$114*AI115) + (AI$120*AI121)      + (AI$126 * AI127) + (AI$132*AI133) + (AI$138*AI139)","v":1.6716233835218066},1.7275323207398445,2.2705859404065651,2.2722603313528249,2.3014968868964774,2.3102191552671556,2.334627457962501]
[null,null,null,null,"Variant allowed non-load related capex - other",null,"£m 09/10 prices",null,null,null,null,null,null,null,null,null,null,null,null,null,null,null,null,null,null,null,null,null,null,null,null,null,null,{"$f":"(AH$90*AH92) + (AH$96*AH98) + (AH$102*AH104) + (AH$108*AH110) + (AH$114*AH116) + (AH$120*AH122)      + (AH$126 * AH128) + (AH$132*AH134) + (AH$138*AH140)","v":-8.1466722434697661E-8},2.0174679099185687E-3,1.9474194694094792E-2,1.975868707246433E-2,-0.26097120760938997,-0.38469091393428984,-0.50249331778059103,-0.56162723776300816]
[null,null,null,null,"Variant allowed controllable opex",null,"£m 09/10 prices",null,null,null,null,null,null,null,null,null,null,null,null,null,null,null,null,null,null,null,null,null,null,null,null,null,null,{"$f":"(AH$90*AH93) + (AH$96*AH99) + (AH$102*AH105) + (AH$108*AH111) + (AH$114*AH117) + (AH$120*AH123)      + (AH$126 * AH129) + (AH$132*AH135) + (AH$138*AH141)","v":0.20480052208999824},0.19741742928704373,0.28138924644727042,0.26971898277928152,-1.3331558861486668,-2.0450757567278517,-2.7223760576328222,-3.0662358446944462]
[null,null,null,null,"Variant allowed repex",null,"£m 09/10 prices",null,null,null,null,null,null,null,null,null,null,null,null,null,null,null,null,null,null,null,null,null,null,null,null,null,null,{"$f":"(AH$90*AH94) + (AH$96*AH100) + (AH$102*AH106) + (AH$108*AH112) + (AH$114*AH118) + (AH$120*AH124)      + (AH$126 * AH130) + (AH$132*AH136) + (AH$138*AH142)","v":3.2454530647586437},2.9617052407834823,2.0025853657804777,3.3482087602987423,3.5678638734376209,3.4258455815051012,3.2228527323239207,3.0683200223634119]
[]
[null,null,null,"Actual"]
[]
[null,null,null,null,"Actual load related capex",null,"£m 09/10 prices",null,null,null,null,null,null,null,null,null,null,null,null,null,null,null,null,null,null,null,null,null,null,null,null,null,null,{"$f":"AH9","v":18.023420343552861},22.226774302890515,30.326243341423375,0,0,0,0,0]
[null,null,null,null,"Actual non-load related capex - other",null,"£m 09/10 prices",null,null,null,null,null,null,null,null,null,null,null,null,null,null,null,null,null,null,null,null,null,null,null,null,null,null,17.096446871171342,19.855301900906628,21.792216854697163,0,0,0,0,0]
[null,null,null,null,"Actual controllable opex",null,"£m 09/10 prices",null,null,null,null,null,null,null,null,null,null,null,null,null,null,null,null,null,null,null,null,null,null,null,null,null,null,68.411685681479682,69.552822446983853,65.344084362605955,0,0,0,0,0]
[null,null,null,null,"Actual repex",null,"£m 09/10 prices",null,null,null,null,null,null,null,null,null,null,null,null,null,null,null,null,null,null,null,null,null,null,null,null,null,null,75.653995514310623,79.429614099202482,71.565106038407393,0,0,0,0,0]
[]
[null,null,"Non-totex"]
[]
[null,null,null,null,"Non-controllable opex (Other)",null,"£m 09/10 prices",null,null,null,null,null,null,null,null,null,null,null,null,null,null,null,null,null,null,null,null,null,null,null,null,null,null,35.285715723619077,35.285715723619077,35.285715723619077,35.285715723619077,35.285715723619077,35.285715723619077,35.285715723619077,35.285715723619077]
[null,null,null,null,"Non-controllable opex (Exit Charges)",null,"£m 09/10 prices",null,null,null,null,null,null,null,null,null,null,null,null,null,null,null,null,null,null,null,null,null,null,null,null,null,null,{"$f":"AH22","v":8.8703170786488972},{"$f":"AI22","v":8.8769615109175479},8.7739005154378109,8.7739005154378109,8.7739005154378109,8.7739005154378109,8.7739005154378109,8.7739005154378109]
[null,null,null,null,"Non-controllable opex (Shrinkage)",null,"£m 09/10 prices",null,null,null,null,null,null,null,null,null,null,null,null,null,null,null,null,null,null,null,null,null,null,null,null,null,null,{"$f":"AH23","v":9.9575223595027609},9.61,9.39,8.99,8.8699999999999992,8.77,8.5500000000000007,8.35]
[null,null,null,null,"Non-controllable opex",null,"£m 09/10 prices",null,null,null,null,null,null,null,null,null,null,null,null,null,null,null,null,null,null,null,null,null,null,null,null,null,null,{"$f":"SUM(AH158:AH160)","v":54.113555161770734},{"$f":"SUM(AI158:AI160)","v":53.772677234536623},53.449616239056887,53.049616239056888,52.929616239056884,52.82961623905689,52.609616239056891,52.409616239056888]
[]
[null,"Direct allowed revenue terms (DARTs)"]
[]
[null,null,null,null,{"$f":"E26","v":"Pension scheme administration and Pension Protection Fund Levy"},null,"£m 09/10 prices",null,null,null,null,null,null,null,null,null,null,null,null,null,null,null,null,null,null,null,null,null,null,null,null,null,null,{"$f":"AH26","v":0.73},0.73,0.73,0.73,0.73,0.73,0.73,0.73]
[null,null,null,null,{"$f":"E27","v":"Pension scheme deficit revenue allowances"},null,"£m 09/10 prices",null,null,null,null,null,null,null,null,null,null,null,null,null,null,null,null,null,null,null,null,null,null,null,null,null,null,{"$f":"AH27","v":6.6728681374058123},6.6728681374058123,6.9925715321976964,6.9925715321976964,6.9925715321976964,6.9925715321976964,6.9925715321976964,6.9925715321976964]
[]
[null,null,null,null,"Pension true-up from previous price controls",null,"£m 09/10 prices",null,3.0465349093686811E-3,null,null,null,null,null,null,null,null,null,null,null,null,null,null,null,null,null,null,null,null,null,null,null,null,{"$f":"($I$168/8)","v":3.8081686367108514E-4},{"$f":"($I$168/8)*(1+$AI$39)","v":3.9647986127387685E-4},{"$f":"($I$168/8)*(1+$AI$39)*(1+$AJ$39)","v":4.1234896772136375E-4},{"$f":"($I$168/8)*(1+$AI$39)*(1+$AJ$39)*(1+$AK$39)","v":4.2839758954507927E-4},{"$f":"($I$168/8)*(1+$AI$39)*(1+$AJ$39)*(1+$AK$39)*(1+$AL$39)","v":4.4462529023704683E-4},{"$f":"($I$168/8)*(1+$AI$39)*(1+$AJ$39)*(1+$AK$39)*(1+$AL$39)*(1+$AM$39)","v":4.6146769623122612E-4},{"$f":"($I$168/8)*(1+$AI$39)*(1+$AJ$39)*(1+$AK$39)*(1+$AL$39)*(1+$AM$39)*(1+$AN$39)","v":4.7894809256446492E-4},{"$f":"($I$168/8)*(1+$AI$39)*(1+$AJ$39)*(1+$AK$39)*(1+$AL$39)*(1+$AM$39)*(1+$AN$39)*(1+$AO$39)","v":4.9709064631080679E-4}]
[]
[null,null,null,null,{"$f":"Input!E170","v":"Revenue adjustment from previous controls (Base)"},null,"£m 09/10 prices",null,10.995597221625157,null,null,null,null,null,null,null,null,null,null,null,null,null,null,null,null,null,null,null,null,null,null,null,null,{"$f":"($I$170/8)","v":1.3744496527031447},{"$f":"($I$170/8)*(1+$AI$39)","v":1.4309807669188248},{"$f":"($I$170/8)*(1+$AI$39)*(1+$AJ$39)","v":1.4882557721147507},{"$f":"($I$170/8)*(1+$AI$39)*(1+$AJ$39)*(1+$AK$39)","v":1.5461786867654568},{"$f":"($I$170/8)*(1+$AI$39)*(1+$AJ$39)*(1+$AK$39)*(1+$AL$39)","v":1.6047479354201322},{"$f":"($I$170/8)*(1+$AI$39)*(1+$AJ$39)*(1+$AK$39)*(1+$AL$39)*(1+$AM$39)","v":1.6655357872138465},{"$f":"($I$170/8)*(1+$AI$39)*(1+$AJ$39)*(1+$AK$39)*(1+$AL$39)*(1+$AM$39)*(1+$AN$39)","v":1.7286262828335068},{"$f":"($I$170/8)*(1+$AI$39)*(1+$AJ$39)*(1+$AK$39)*(1+$AL$39)*(1+$AM$39)*(1+$AN$39)*(1+$AO$39)","v":1.7941066464272399}]
[null,null,null,null,{"$f":"Input!E171","v":"Legacy price control allowed revenue adjustment"},null,"£m 09/10 prices",null,null,null,null,null,null,null,null,null,null,null,null,null,null,null,null,null,null,null,null,null,null,null,null,null,null,{"$f":"($AH$28/8)","v":2.1747578016209936},{"$f":"($AH$28/8)*(1+$AI$39)","v":2.2642055900016649},{"$f":"($AH$28/8)*(1+$AI$39)*(1+$AJ$39)","v":2.3548304187414812},{"$f":"($AH$28/8)*(1+$AI$39)*(1+$AJ$39)*(1+$AK$39)","v":2.4464804186388998},{"$f":"($AH$28/8)*(1+$AI$39)*(1+$AJ$39)*(1+$AK$39)*(1+$AL$39)","v":2.5391530968969409},{"$f":"($AH$28/8)*(1+$AI$39)*(1+$AJ$39)*(1+$AK$39)*(1+$AL$39)*(1+$AM$39)","v":2.635336216207397},{"$f":"($AH$28/8)*(1+$AI$39)*(1+$AJ$39)*(1+$AK$39)*(1+$AL$39)*(1+$AM$39)*(1+$AN$39)","v":2.7351627520773332},{"$f":"($AH$28/8)*(1+$AI$39)*(1+$AJ$39)*(1+$AK$39)*(1+$AL$39)*(1+$AM$39)*(1+$AN$39)*(1+$AO$39)","v":2.8387707171260224}]
[null,null,null,null,"Revenue adjustment from previous controls",null,"£m 09/10 prices",null,null,null,null,null,null,null,null,null,null,null,null,null,null,null,null,null,null,null,null,null,null,null,null,null,null,{"$f":"AH170+AH171","v":3.5492074543241383},{"$f":"AI170+AI171","v":3.6951863569204897},3.8430861908562317,3.9926591054043565,4.1439010323170731,4.3008720034212438,4.4637890349108398,4.6328773635532627]
[]
[null,null,null,null,"Excluded services revenue",null,"£m 09/10 prices",null,null,null,null,null,null,null,null,null,null,null,null,null,null,null,null,null,null,null,null,null,null,null,null,null,null,0.22700000000000001,6.6000000000000003E-2,6.6000000000000003E-2,6.6000000000000003E-2,6.6000000000000003E-2,6.6000000000000003E-2,6.6000000000000003E-2,6.6000000000000003E-2]
[null,null,null,null,"Identified excluded services costs",null,"£m 09/10 prices",null,null,null,null,null,null,null,null,null,null,null,null,null,null,null,null,null,null,null,null,null,null,null,null,null,null,0.22700000000000001,6.6000000000000003E-2,6.6000000000000003E-2,6.6000000000000003E-2,6.6000000000000003E-2,6.6000000000000003E-2,6.6000000000000003E-2,6.6000000000000003E-2]
[null,null,null,null,"Excluded services",null,"£m 09/10 prices",null,null,null,null,null,null,null,null,null,null,null,null,null,null,null,null,null,null,null,null,null,null,null,null,null,null,{"$f":"SUM(AH174, -AH175)","v":0},{"$f":"SUM(AI174, -AI175)","v":0},0,0,0,0,0,0]
[]
[null,"RAV and assets"]
[]
[null,null,"Pre-vesting assets"]
[]
[null,null,null,null,"Pre-vesting RAV cost opening balance brought forward (before transfers)",null,"£m 09/10 prices",null,null,null,null,null,null,null,null,null,null,null,null,null,null,null,null,null,null,null,null,null,null,null,null,null,null,1370.1833992819629]
[null,null,null,null,"Pre-vesting RAV cumulative depreciation opening balance brought forward (before transfers)",null,"£m 09/10 prices",null,null,null,null,null,null,null,null,null,null,null,null,null,null,null,null,null,null,null,null,null,null,null,null,null,null,481.75812834548833]
[]
[null,null,null,null,"Pre-vesting asset life",null,"years",null,56]
[null,null,null,null,"Pre-vesting RAV disposals",null,"£m 09/10 prices",null,null,null,null,null,null,null,null,null,null,null,null,null,null,null,null,null,null,null,null,null,null,null,null,null,null,0.10045813681715965,0.2,0,0,0,0,0,0]
[null,null,null,null,"RAV adjustments from previous price controls (not modelled in PCFM)",null,"years",null,null,null,null,null,null,null,null,null,null,null,null,null,null,null,null,null,null,null,null,null,null,null,null,null,null,45,44,43,42,41,40,39,38]
[]
[null,null,"Post-vesting assets"]
[]
[null,null,null,null,"Gas distribution"]
[null,null,null,null,{"$f":"Input!E192","v":"GD post-vesting asset life"},null,"years",null,45]
[null,null,null,null,{"$f":"Input!E193","v":"GD smoothing profile for recovery of backlog depreciation"},null,"years",null,null,null,null,null,null,null,null,null,null,null,null,null,null,null,null,null,null,null,null,null,null,null,null,null,null,0.15,0.15,2.5000000000000001E-2,0,0.05,0.125,0.2,0.3]
[null,null,null,null,{"$f":"Input!E194","v":"GD start of smoothing period"},null,"year ending",null,"2014-03-31"]
[null,null,null,null,{"$f":"Input!E195","v":"Pre-RIIO net additions to RAV"},null,"£m 09/10 prices",null,null,">",null,null,null,null,null,null,null,null,null,null,null,null,82.012644737659755,50.727167181059301,51.621037968390745,49.548075709630119,54.982542040300011,70.769268125351715,77.139675862703257,67.452432104114393,85.439245465245619,96.076634389445132,80.851873113388493]
[null,null,null,null,"LRAV",null,"£m 09/10 prices",null,null,null,null,null,null,null,null,null,null,null,null,null,null,null,null,null,null,null,null,null,null,null,null,null,null,{"$f":"AH29","v":-14.073390704007844}]
[null,null,null,null,"RIIO post-vesting RAV additions",null,"£m 09/10 prices",null,null,null,null,null,null,null,null,null,null,null,null,null,null,null,null,null,null,null,null,null,null,null,null,null,null,0,0,0,0,0,0,0,0]
[null,null,null,null,"RIIO post-vesting RAV disposals",null,null,null,null,null,null,null,null,null,null,null,null,null,null,null,null,null,null,null,null,null,null,null,null,null,null,null,null,-0.10045813681715965,0,0,9.0909742059980952E-2,0,0,0,0]
[null,null,null,null,{"$f":"Input!E199","v":"Pre-RIIO transfers to depreciation"},null,"£m 09/10 prices",null,null,">",null,null,null,null,null,null,null,null,null,null,null,0,0,0,0,0,0,0.14597594334763797,1.3974640981522151,0.49521220489556284,1.5216893396136404,2.3612747393271123,0]
[]
[null,null,"Fuel Poor"]
[]
[null,null,null,null,"Post-vesting asset life",null,"years",null,45]
[null,null,null,null,"Years additional customer discount applied",null,"years",null,5]
[]
[null,null,null,null,"NPV of future transportation revenue",null,"£m 09/10 prices",null,null,">",null,null,null,null,null,null,null,null,null,null,null,null,null,null,null,null,null,null,0,1.1394660000000001,0.688473,1.2949999999999999,1.2949999999999999]
[null,null,null,null,"Community based schemes actual capex spend",null,"£m 09/10 prices",null,null,">",null,null,null,null,null,null,null,null,null,null,null,null,null,null,null,null,null,null,0,0.913296,0.47097899999999998,0.59404163670585053,0.95062500000000005]
[]
[null,null,null,null,"One off schemes actual capex spend",null,"£m 09/10 prices",null,null,">",null,null,null,null,null,null,null,null,null,null,null,null,null,null,null,null,null,null,0,0,0.38944000000000001,0.96817506193164149,0.76049999999999995]
[]
[null,"Tax"]
[]
[null,null,"Tax policy"]
[]
[null,null,null,null,{"$f":"E24","v":"Tax liability allowance adjustments - gearing/interest costs"},null,"£m nominal",null,null,null,null,null,null,null,null,null,null,null,null,null,null,null,null,null,null,null,null,null,null,null,null,null,null,{"$f":"AH24","v":0},{"$f":"AI24","v":0},0,0,0,0,0,0]
[null,null,null,null,{"$f":"E25","v":"Tax liability allowance adjustments - driven by tax trigger events"},null,"£m 09/10 prices",null,null,null,null,null,null,null,null,null,null,null,null,null,null,null,null,null,null,null,null,null,null,null,null,null,null,{"$f":"AH25","v":0},0,-0.49481430258187586,-0.20943401688150942,-1.3057807675598561,0,0,0]
[]
[null,null,null,null,"Corporation tax rate",null,"%",null,null,">",null,null,null,null,null,null,null,null,null,null,null,null,null,null,0.3,0.3,0.3,0.3,0.28000000000000003,0.28000000000000003,0.28000000000000003,0.26,0.24,0.23,0.21,0.21,0.21,0.21,0.21,0.21,0.21]
[]
[null,null,null,null,"General pool capital allowance rate",null,"%",null,null,">",null,null,null,null,null,null,null,null,null,null,null,0.25,0.25,0.25,0.25,0.25,0.25,0.25,0.2,0.2,0.2,0.2,0.18000000000000002,0.18000000000000002,0.18000000000000002,0.18000000000000002,0.18000000000000002,0.18000000000000002,0.18000000000000002,0.18000000000000002,0.18000000000000002]
[null,null,null,null,"Special Rates capital allowance rate",null,"%",null,null,">",null,null,null,null,null,null,null,null,null,null,null,0.06,0.06,0.06,0.06,0.06,0.06,0.06,0.1,0.1,0.1,0.1,0.08,0.08,0.08,0.08,0.08,0.08,0.08,0.08,0.08]
[null,null,null,null,"Deferred Revenue Expenditure capital allowance rate",null,"%",null,null,">",null,null,null,null,null,null,null,null,null,null,null,null,null,null,null,null,null,null,null,null,null,null,null,2.2200000000000001E-2,2.2200000000000001E-2,2.2200000000000001E-2,2.2200000000000001E-2,2.2200000000000001E-2,2.2200000000000001E-2,2.2200000000000001E-2,2.2200000000000001E-2]
[]
[null,null,"Capital allowances and tax losses"]
[]
[null,null,null,null,"General pool capital allowance opening balance brought forward",null,"£m nominal",null,null,null,null,null,null,null,null,null,null,null,null,null,null,null,null,null,null,null,null,null,null,null,null,null,null,50.266000000000005]
[]
[null,null,null,null,"Special Rate capital allowance opening balance brought forward",null,"£m nominal",null,null,null,null,null,null,null,null,null,null,null,null,null,null,null,null,null,null,null,null,null,null,null,null,null,null,195.13200000000001]
[]
[null,null,null,null,"Deferred revenue expenditure opening balance brought forward",null,"£m nominal",null,null,null,null,null,null,null,null,null,null,null,null,null,null,null,null,null,null,null,null,null,null,null,null,null,null,0]
[]
[null,null,null,null,"Tax loss brought forward",null,"£m nominal",null,null,null,null,null,null,null,null,null,null,null,null,null,null,null,null,null,null,null,null,null,null,null,null,null,null,0]
[]
[null,null,"Tax pool allocation"]
[]
[null,null,null,"Allocation to \"General\" pool"]
[]
[null,null,null,null,"Load Related",null,"%",null,null,null,null,null,null,null,null,null,null,null,null,null,null,null,null,null,null,null,null,null,null,null,null,null,null,2.8999999999999998E-3,2.8999999999999998E-3,2.8999999999999998E-3,2.8999999999999998E-3,2.8999999999999998E-3,2.8999999999999998E-3,2.8999999999999998E-3,2.8999999999999998E-3]
[null,null,null,null,"Non-Load Related - other",null,"%",null,null,null,null,null,null,null,null,null,null,null,null,null,null,null,null,null,null,null,null,null,null,null,null,null,null,0.89756098390240724,0.89756098390240724,0.89756098390240724,0.89756098390240724,0.89756098390240724,0.89756098390240724,0.89756098390240724,0.89756098390240724]
[null,null,null,null,"Opex",null,"%",null,null,null,null,null,null,null,null,null,null,null,null,null,null,null,null,null,null,null,null,null,null,null,null,null,null,0,0,0,0,0,0,0,0]
[null,null,null,null,"Repex",null,"%",null,null,null,null,null,null,null,null,null,null,null,null,null,null,null,null,null,null,null,null,null,null,null,null,null,null,0,0,0,0,0,0,0,0]
[]
[null,null,null,"Allocation to \"Special Rate\" pool"]
[]
[null,null,null,null,"Load Related",null,"%",null,null,null,null,null,null,null,null,null,null,null,null,null,null,null,null,null,null,null,null,null,null,null,null,null,null,0.98870000000000002,0.98870000000000002,0.98870000000000002,0.98870000000000002,0.98870000000000002,0.98870000000000002,0.98870000000000002,0.98870000000000002]
[null,null,null,null,"Non-Load Related - other",null,"%",null,null,null,null,null,null,null,null,null,null,null,null,null,null,null,null,null,null,null,null,null,null,null,null,null,null,1.6271113794003381E-2,1.6271113794003381E-2,1.6271113794003381E-2,1.6271113794003381E-2,1.6271113794003381E-2,1.6271113794003381E-2,1.6271113794003381E-2,1.6271113794003381E-2]
[null,null,null,null,"Opex",null,"%",null,null,null,null,null,null,null,null,null,null,null,null,null,null,null,null,null,null,null,null,null,null,null,null,null,null,0,0,0,0,0,0,0,0]
[null,null,null,null,"Repex",null,"%",null,null,null,null,null,null,null,null,null,null,null,null,null,null,null,null,null,null,null,null,null,null,null,null,null,null,0,0,0,0,0,0,0,0]
[]
[null,null,null,"Allocation to \"Deferred Revenue\" pool"]
[]
[null,null,null,null,"Load Related",null,"%",null,null,null,null,null,null,null,null,null,null,null,null,null,null,null,null,null,null,null,null,null,null,null,null,null,null,0,0,0,0,0,0,0,0]
[null,null,null,null,"Non-Load Related - other",null,"%",null,null,null,null,null,null,null,null,null,null,null,null,null,null,null,null,null,null,null,null,null,null,null,null,null,null,0,0,0,0,0,0,0,0]
[null,null,null,null,"Opex",null,"%",null,null,null,null,null,null,null,null,null,null,null,null,null,null,null,null,null,null,null,null,null,null,null,null,null,null,0,0,0,0,0,0,0,0]
[null,null,null,null,"Repex",null,"%",null,null,null,null,null,null,null,null,null,null,null,null,null,null,null,null,null,null,null,null,null,null,null,null,null,null,0,0,1,1,1,1,1,1]
[]
[null,null,null,"Allocation to \"Revenue\" pool"]
[]
[null,null,null,null,"Load Related",null,"%",null,null,null,null,null,null,null,null,null,null,null,null,null,null,null,null,null,null,null,null,null,null,null,null,null,null,0,0,0,0,0,0,0,0]
[null,null,null,null,"Non-Load Related - other",null,"%",null,null,null,null,null,null,null,null,null,null,null,null,null,null,null,null,null,null,null,null,null,null,null,null,null,null,0,0,0,0,0,0,0,0]
[null,null,null,null,"Opex",null,"%",null,null,null,null,null,null,null,null,null,null,null,null,null,null,null,null,null,null,null,null,null,null,null,null,null,null,1,1,1,1,1,1,1,1]
[null,null,null,null,"Repex",null,"%",null,null,null,null,null,null,null,null,null,null,null,null,null,null,null,null,null,null,null,null,null,null,null,null,null,null,1,1,0,0,0,0,0,0]
[]
[null,null,null,"Allocation to \"Non Qualifying\" pool"]
[]
[null,null,null,null,"Load Related",null,"%",null,null,null,null,null,null,null,null,null,null,null,null,null,null,null,null,null,null,null,null,null,null,null,null,null,null,8.4000000000000012E-3,8.4000000000000012E-3,8.4000000000000012E-3,8.4000000000000012E-3,8.4000000000000012E-3,8.4000000000000012E-3,8.4000000000000012E-3,8.4000000000000012E-3]
[null,null,null,null,"Non-Load Related - other",null,"%",null,null,null,null,null,null,null,null,null,null,null,null,null,null,null,null,null,null,null,null,null,null,null,null,null,null,8.6167902303589283E-2,8.6167902303589283E-2,8.6167902303589283E-2,8.6167902303589283E-2,8.6167902303589283E-2,8.6167902303589283E-2,8.6167902303589283E-2,8.6167902303589283E-2]
[null,null,null,null,"Opex",null,"%",null,null,null,null,null,null,null,null,null,null,null,null,null,null,null,null,null,null,null,null,null,null,null,null,null,null,0,0,0,0,0,0,0,0]
[null,null,null,null,"Repex",null,"%",null,null,null,null,null,null,null,null,null,null,null,null,null,null,null,null,null,null,null,null,null,null,null,null,null,null,0,0,0,0,0,0,0,0]
[]
[null,null,null,"Allocation check"]
[null,null,null,"Note: All categories should equal 100%"]
[]
[null,null,null,null,"Load Related",null,"%",null,null,null,null,null,null,null,null,null,null,null,null,null,null,null,null,null,null,null,null,null,null,null,null,null,null,{"$f":"AH238+AH245+AH252+AH259+AH266","v":1},1,1,1,1,1,1,1]
[null,null,null,null,"Non-Load Related - other",null,"%",null,null,null,null,null,null,null,null,null,null,null,null,null,null,null,null,null,null,null,null,null,null,null,null,null,null,0.99999999999999989,0.99999999999999989,0.99999999999999989,0.99999999999999989,0.99999999999999989,0.99999999999999989,0.99999999999999989,0.99999999999999989]
[null,null,null,null,"Opex",null,"%",null,null,null,null,null,null,null,null,null,null,null,null,null,null,null,null,null,null,null,null,null,null,null,null,null,null,1,1,1,1,1,1,1,1]
[null,null,null,null,"Repex",null,"%",null,null,null,null,null,null,null,null,null,null,null,null,null,null,null,null,null,null,null,null,null,null,null,null,null,null,1,1,1,1,1,1,1,1]
[]
[null,null,null,"Tax Trigger Deadbands"]
[]
[null,null,null,null,"Tax Trigger Deadband",null,"£m 09/10 prices",null,null,null,null,null,null,null,null,null,null,null,null,null,null,null,null,null,null,null,null,null,null,null,null,null,null,1.1236730845369962,1.1174975484313017,1.1512141959044764,1.1225830325021626,1.0916705316553208,1.1007067755464492,1.1095324017327328,1.1253574439425253]
[]
[null,null,null,"SIU Costs"]
[]
[null,null,null,null,"SIU Costs",null,"£m 09/10 prices",null,null,null,null,null,null,null,null,null,null,null,null,null,null,null,null,null,null,null,null,null,null,null,null,null,null,0,0,0,0,0,0,0,0]
[]
[null,null,null,"Additional Income Workings"]
[]
[null,null,null,null,"Original allowed totex",null,null,null,null,null,null,null,null,null,null,null,null,null,null,null,null,null,null,null,null,null,null,null,null,null,null,null,null,203.47035813807611,209.79808061833697,213.29624850745256,210.75533006905789,198.49569025571503,198.68613308167738,199.57381689456295,199.22706702278873]
[null,null,null,null,"Total allowed totex",null,null,null,1633.3027245876676]
[]
[null,"End of sheet"]

{"sheet":"Scotland","index":21,"n_rows":292,"n_cols":41,"rows_kept":292,"cut":false,"hidden":false,"merged":[]}
["Input"]
[null,"Scotland"]
[null,null,null,null,"Parameter","Licence condition","Units","Term","Constant",null,null,null,null,null,null,null,null,null,null,null,null,null,null,null,null,null,null,null,null,null,null,null,null,"Annual values"]
[null,null,null,null,"PCFM year ending",{"$f":"Cover!C3","v":"GD1 PCFM for use in AIP 2018.xlsm"},null,null,{"$f":"UserInterface!$G$10","v":"2019-03-31"},null,"1991-03-31","1992-03-31","1993-03-31","1994-03-31","1995-03-31","1996-03-31","1997-03-31","1998-03-31","1999-03-31","2000-03-31","2001-03-31","2002-03-31","2003-03-31","2004-03-31","2005-03-31","2006-03-31","2007-03-31","2008-03-31","2009-03-31","2010-03-31","2011-03-31","2012-03-31","2013-03-31","2014-03-31","2015-03-31","2016-03-31","2017-03-31","2018-03-31","2019-03-31","2020-03-31","2021-03-31"]
[]
[null,"PCFM Variable Values Table"]
[]
[null,null,null,null,{"$f":"Input!E8","v":"Allowed percentage cost of debt"},{"$f":"Input!F8","v":"3C"},"annual real %",{"$f":"Input!H8","v":"CDE"},null,null,null,null,null,null,null,null,null,null,null,null,null,null,null,null,null,null,null,null,null,null,null,null,null,2.92E-2,2.7199999999999998E-2,2.5499999999999998E-2,2.3800000000000002E-2,2.2200000000000001E-2,2.2200000000000001E-2,2.2200000000000001E-2,2.2200000000000001E-2]
[null,null,null,null,{"$f":"Input!E9","v":"Actual load related capex"},{"$f":"Input!F9","v":"3B"},"£m 09/10 prices",{"$f":"Input!H9","v":"ALC"},null,null,null,null,null,null,null,null,null,null,null,null,null,null,null,null,null,null,null,null,null,null,null,null,null,18.614444722604645,26.921745546304166,23.834770506191227,0,0,0,0,0]
[null,null,null,null,{"$f":"Input!E10","v":"Actual other capex"},{"$f":"Input!F10","v":"3B"},"£m 09/10 prices",{"$f":"Input!H10","v":"AOC"},null,null,null,null,null,null,null,null,null,null,null,null,null,null,null,null,null,null,null,null,null,null,null,null,null,6.9015817711623022,21.337038240461251,14.150319111292703,0,0,0,0,0]
[null,null,null,null,{"$f":"Input!E11","v":"Actual controllable opex"},{"$f":"Input!F11","v":"3B"},"£m 09/10 prices",{"$f":"Input!H11","v":"ACO"},null,null,null,null,null,null,null,null,null,null,null,null,null,null,null,null,null,null,null,null,null,null,null,null,null,55.083442742027984,51.694643283144345,52.866255837174734,0,0,0,0,0]
[null,null,null,null,{"$f":"Input!E12","v":"Actual replacement expenditure"},{"$f":"Input!F12","v":"3B"},"£m 09/10 prices",{"$f":"Input!H12","v":"ARE"},null,null,null,null,null,null,null,null,null,null,null,null,null,null,null,null,null,null,null,null,null,null,null,null,null,42.593884881288275,41.633898780361989,46.340423794197335,0,0,0,0,0]
[null,null,null,null,{"$f":"Input!E13","v":"Allowed uncertain costs (Enhanced physical site security)"},{"$f":"Input!F13","v":"3F"},"£m 09/10 prices",{"$f":"Input!H13","v":"IAEEPS"},null,null,null,null,null,null,null,null,null,null,null,null,null,null,null,null,null,null,null,null,null,null,null,null,null,0,0.65481617806853376,1.2757779142777421,9.1335720511001455,7.2163415542246589E-2,6.1472539165617464E-2,6.1472539165617464E-2,6.1472539165617464E-2]
[null,null,null,null,{"$f":"Input!E14","v":"Allowed uncertain costs (Specified street work costs)"},{"$f":"Input!F14","v":"3F"},"£m 09/10 prices",{"$f":"Input!H14","v":"IAESW"},null,null,null,null,null,null,null,null,null,null,null,null,null,null,null,null,null,null,null,null,null,null,null,null,null,0.39049999999999996,0.39049999999999996,0.39049999999999996,0.39049999999999996,0.39049999999999996,0.39049999999999996,0.39049999999999996,0.39049999999999996]
[null,null,null,null,{"$f":"Input!E15","v":"Allowed uncertain costs (Connection charging boundary change costs)"},{"$f":"Input!F15","v":"3F"},"£m 09/10 prices",{"$f":"Input!H15","v":"IAECCB"},null,null,null,null,null,null,null,null,null,null,null,null,null,null,null,null,null,null,null,null,null,null,null,null,null,0,0,0,0,0,0,0,0]
[null,null,null,null,{"$f":"Input!E16","v":"Allowed uncertain costs (Fuel poor network extension scheme)"},{"$f":"Input!F16","v":"3F"},"£m 09/10 prices",{"$f":"Input!H16","v":"IAEFP"},null,null,null,null,null,null,null,null,null,null,null,null,null,null,null,null,null,null,null,null,null,null,null,null,null,2.6536572004962595,2.4835057032945356,2.3139056776876732,3.6026042347340637,3.433734821184808,3.4296743073072138,3.425637055354978,3.2579687101101436]
[null,null,null,null,{"$f":"Input!E17","v":"Allowed uncertain costs (Central agent)"},{"$f":"Input!F17","v":"3F"},"£m 09/10 prices",{"$f":"Input!H17","v":"IAECA"},null,null,null,null,null,null,null,null,null,null,null,null,null,null,null,null,null,null,null,null,null,null,null,null,null,-3.8341585728574046E-7,9.2467159678957245E-3,8.9256716670744751E-2,9.0560641076074866E-2,-1.1883063810542374,-1.7752797178511248,-2.3352670301363943,-2.6195160530223132]
[null,null,null,null,{"$f":"Input!E18","v":"Allowed uncertain costs (Smart metering roll out costs)"},{"$f":"Input!F18","v":"3F"},"£m 09/10 prices",{"$f":"Input!H18","v":"IAESM"},null,null,null,null,null,null,null,null,null,null,null,null,null,null,null,null,null,null,null,null,null,null,null,null,null,0,0,0,0,0,0,0,0]
[null,null,null,null,{"$f":"Input!E19","v":"Allowed uncertain costs (Mains and services replacement expenditure)"},{"$f":"Input!F19","v":"3E"},"£m 09/10 prices",{"$f":"Input!H19","v":"RE"},null,null,null,null,null,null,null,null,null,null,null,null,null,null,null,null,null,null,null,null,null,null,null,null,null,2.1887999999999998E-2,0.236954,0.12893319999999997,0.30118400000000001,0.30118400000000001,0.30118400000000001,0.30118400000000001,0.30118400000000001]
[null,null,null,null,{"$f":"Input!E20","v":"Allowed uncertain Costs (Large load connection costs)"},{"$f":"Input!F20","v":"3F"},"£m 09/10 prices",{"$f":"Input!H20","v":"IAELLC"},null,null,null,null,null,null,null,null,null,null,null,null,null,null,null,null,null,null,null,null,null,null,null,null,null,0,0,0,0,0,0,0,0]
[null,null,null,null,{"$f":"Input!E21","v":"Allowed innovation roll-out mechanism"},{"$f":"Input!F21","v":"3D"},"£m 09/10 prices",{"$f":"Input!H21","v":"IRM"},null,null,null,null,null,null,null,null,null,null,null,null,null,null,null,null,null,null,null,null,null,null,null,null,null,0,0,0,0,0,0,0,0]
[null,null,null,null,{"$f":"Input!E22","v":"NTS Exit Capacity costs"},{"$f":"Input!F22","v":"1D"},"£m 09/10 prices",{"$f":"Input!H22","v":"AEx"},null,null,null,null,null,null,null,null,null,null,null,null,null,null,null,null,null,null,null,null,null,null,null,null,null,0.19072268415499974,0.19041152594377853,0.19041152516054516,0.19041152516054516,0.19041152516054516,0.19041152516054516,0.19041152516054516,0.19041152516054516]
[null,null,null,null,{"$f":"Input!E23","v":"Shrinkage costs"},{"$f":"Input!F23","v":"1F"},"£m 09/10 prices",{"$f":"Input!H23","v":"ALSC"},null,null,null,null,null,null,null,null,null,null,null,null,null,null,null,null,null,null,null,null,null,null,null,null,null,5.1756455068307297,4.8,4.7,4.5999999999999996,4.47,4.37,4.25,4.1399999999999997]
[null,null,null,null,{"$f":"Input!E24","v":"Tax liability allowance adjustments - gearing/interest costs"},{"$f":"Input!F24","v":"3C"},"£m nominal",{"$f":"Input!H24","v":"TGIE"},null,null,null,null,null,null,null,null,null,null,null,null,null,null,null,null,null,null,null,null,null,null,null,null,null,0,0,0,0,0,0,0,0]
[null,null,null,null,{"$f":"Input!E25","v":"Tax liability allowance adjustments - driven by tax trigger events"},{"$f":"Input!F25","v":"3C"},"£m 09/10 prices",{"$f":"Input!H25","v":"TTE"},null,null,null,null,null,null,null,null,null,null,null,null,null,null,null,null,null,null,null,null,null,null,null,null,null,0,0,-0.41447138463234268,-0.24244821918418324,-1.2077168209646842,0,0,0]
[null,null,null,null,{"$f":"Input!E26","v":"Pension scheme administration and Pension Protection Fund Levy"},{"$f":"Input!F26","v":"3C"},"£m 09/10 prices",{"$f":"Input!H26","v":"APFE"},null,null,null,null,null,null,null,null,null,null,null,null,null,null,null,null,null,null,null,null,null,null,null,null,null,0.54199999999999993,0.54199999999999993,0.54199999999999993,0.54199999999999993,0.54199999999999993,0.54199999999999993,0.54199999999999993,0.54199999999999993]
[null,null,null,null,{"$f":"Input!E27","v":"Pension scheme deficit revenue allowances"},{"$f":"Input!F27","v":"3C"},"£m 09/10 prices",{"$f":"Input!H27","v":"EDE"},null,null,null,null,null,null,null,null,null,null,null,null,null,null,null,null,null,null,null,null,null,null,null,null,null,6.822931531541121,6.822931531541121,5.9081704748268056,5.9081704748268056,5.9081704748268056,5.9081704748268056,5.9081704748268056,5.9081704748268056]
[null,null,null,null,{"$f":"Input!E28","v":"Legacy price control allowed revenue adjustment"},{"$f":"Input!F28","v":"3A"},"£m 09/10 prices",{"$f":"Input!H28","v":"LAR"},null,null,null,null,null,null,null,null,null,null,null,null,null,null,null,null,null,null,null,null,null,null,null,null,null,2.3560731218341511]
[null,null,null,null,{"$f":"Input!E29","v":"Legacy price control RAV additions adjustment"},{"$f":"Input!F29","v":"3A"},"£m 09/10 prices",{"$f":"Input!H29","v":"LRAV"},null,null,null,null,null,null,null,null,null,null,null,null,null,null,null,null,null,null,null,null,null,null,null,null,null,6.7525461017127864]
[]
[null,"Policy"]
[]
[null,null,"Cost of capital"]
[]
[null,null,null,null,"Cost of debt",null,"annual real %",null,null,null,null,null,null,null,null,null,null,null,null,null,null,null,null,null,null,null,null,null,null,null,null,null,null,{"$f":"AH8","v":2.92E-2},2.7199999999999998E-2,2.5499999999999998E-2,2.3800000000000002E-2,2.2200000000000001E-2,2.2200000000000001E-2,2.2200000000000001E-2,2.2200000000000001E-2]
[null,null,null,null,"Cost of equity",null,"annual real %",null,null,null,null,null,null,null,null,null,null,null,null,null,null,null,null,null,null,null,null,null,null,null,null,null,null,6.7000000000000004E-2,6.7000000000000004E-2,6.7000000000000004E-2,6.7000000000000004E-2,6.7000000000000004E-2,6.7000000000000004E-2,6.7000000000000004E-2,6.7000000000000004E-2]
[null,null,null,null,"Notional gearing",null,"%",null,null,">",null,null,null,null,null,null,null,null,null,null,null,null,null,null,null,null,null,null,null,null,null,null,0.625,0.65,0.65,0.65,0.65,0.65,0.65,0.65,0.65]
[]
[null,null,null,null,"Vanilla WACC",null,"annual real %",null,null,null,null,null,null,null,null,null,null,null,null,null,null,null,null,null,null,null,null,null,null,null,null,null,null,{"$f":"(AH35 * AH37) + (AH36 * (1 - AH37))","v":4.2429999999999995E-2},4.113E-2,4.0024999999999998E-2,3.8919999999999996E-2,3.7879999999999997E-2,3.7879999999999997E-2,3.7879999999999997E-2,3.7879999999999997E-2]
[]
[null,null,null,null,"Closing gearing",null,"%",null,0.625]
[]
[null,null,null,null,"Forecast RPI (simple average year to March)",null,"index value",null,null,">",null,null,null,null,null,null,null,null,null,null,null,173.875,177.517,182.47499999999999,188.15,193.108,200.31700000000001,208.59200000000001,214.78299999999999,215.767,226.47499999999999,{"$f":"ROUND(AVERAGE(234.4,235.2,235.2,234.7,236.1,237.9,238,238.5,239.4,238,239.9,240.8),3)","v":237.34200000000001},{"$f":"ROUND(AF43*(1+2.8%),3)","v":243.988},{"$f":"ROUND(AG43*(1+2.8%),3)","v":250.82},257.84300000000002,265.06299999999999,272.48500000000001,280.11500000000001,287.95800000000003,296.02100000000002,304.31]
[null,null,null,null,"Cost of Debt Inflation",null,"index value",null,null,">",null,null,null,null,null,null,null,null,null,null,null,173.875,177.517,182.47499999999999,188.15,193.108,200.31700000000001,208.59200000000001,214.78299999999999,215.767,226.47499999999999,{"$f":"ROUND(AVERAGE(234.4,235.2,235.2,234.7,236.1,237.9,238,238.5,239.4,238,239.9,240.8),3)","v":237.34200000000001},{"$f":"ROUND(AF44*(1+2.8%),3)","v":243.988},250.82,257.84300000000002,265.06299999999999,272.48500000000001,280.11500000000001,287.95800000000003,296.02100000000002,304.31]
[null,null,"TIM and capitalisation"]
[]
[null,null,null,null,"Years from t until normal reporting of actual costs",null,"years",null,2]
[]
[null,null,null,null,{"$f":"Input!E49","v":"Capitalised share of totex (excluding repex)"},null,"%",null,null,null,null,null,null,null,null,null,null,null,null,null,null,null,null,null,null,null,null,null,null,null,null,null,null,0.35129049661183626,0.35129049661183626,0.35129049661183626,0.35129049661183626,0.35129049661183626,0.35129049661183626,0.35129049661183626,0.35129049661183626]
[null,null,null,null,{"$f":"Input!E50","v":"Capitalised share of repex"},null,"%",null,null,null,null,null,null,null,null,null,null,null,null,null,null,null,null,null,null,null,null,null,null,null,null,null,null,0.5,0.5714285714285714,0.64285714285714279,0.71428571428571419,0.78571428571428559,0.85714285714285698,0.92857142857142838,1]
[]
[null,null,null,null,"Incentive rate (slope)",null,"scalar",null,-1.666666666666667E-3]
[null,null,null,null,"Incentive rate (intercept)",null,"scalar",null,0.81666666666666665]
[null,null,null,null,"Additional income (intercept)",null,"scalar",null,14.583333333333332]
[]
[null,null,null,null,"Weight of Ofgem's view on price control totex",null,"%",null,0.75]
[null,null,null,null,"Weight of operator's view on price control totex",null,"%",null,0.25]
[]
[null,null,null,null,"GD TIM group ratio",null,"scalar",null,107.61487551845596]
[]
[null,null,null,null,"Ofgem's view of  licensee totex",null,"£m 09/10 prices",null,1320.5997851994039]
[null,null,null,null,"Operator's view of licensee totex",null,"£m 09/10 prices",null,1420.1682052666154]
[]
[null,null,null,null,"Ofgem's view of group price control totex",null,"£m 09/10 prices",null,4013.9561311741991]
[null,null,null,null,"Operator's view of group price control totex",null,"£m 09/10 prices",null,4319.6138939285456]
[]
[null,null,"Finance"]
[]
[null,null,null,null,"Minimum equity issuance threshold",null,"%",null,0.05]
[null,null,null,null,"Equity issuance costs",null,"%",null,0.05]
[null,null,null,null,"Assumed dividends as % of notional equity portion of RAV",null,"%",null,0.05]
[]
[null,null,null,null,"Equity issuance gearing target",null,"%",null,null,null,null,null,null,null,null,null,null,null,null,null,null,null,null,null,null,null,null,null,null,null,null,null,null,{"$f":"AH37","v":0.65},{"$f":"AI37","v":0.65},0.65,0.65,0.65,0.65,0.65,0.65]
[]
[null,null,null,null,"Index-linked debt as a percentage of net debt",null,"%",null,null,null,null,null,null,null,null,null,null,null,null,null,null,null,null,null,null,null,null,null,null,null,null,null,null,0.25,0.25,0.25,0.25,0.25,0.25,0.25,0.25]
[]
[null,"Expenditure"]
[]
[null,null,"Totex"]
[]
[null,null,null,"Non-variant allowances"]
[]
[null,null,null,null,"Non-variant allowed load related capex",null,"£m 09/10 prices",null,null,null,null,null,null,null,null,null,null,null,null,null,null,null,null,null,null,null,null,null,null,null,null,null,null,26.389308329847353,28.189761184259201,25.335681196866673,28.548293339205458,25.545924524997908,24.860995808816142,23.470449579218823,23.313648826805725]
[null,null,null,null,"Non-variant allowed non-load related capex - other",null,"£m 09/10 prices",null,null,null,null,null,null,null,null,null,null,null,null,null,null,null,null,null,null,null,null,null,null,null,null,null,null,18.054714433278576,8.0658688191708485,5.5312402152439306,10.563285875956947,16.713132827291094,14.779702514605138,5.8806303542379093,5.2725195636278599]
[null,null,null,null,"Non-variant allowed controllable opex",null,"£m 09/10 prices",null,null,null,null,null,null,null,null,null,null,null,null,null,null,null,null,null,null,null,null,null,null,null,null,null,null,70.273488421655728,71.091366407482525,70.937771920065856,71.862394077855313,70.941467583647466,71.816454978966021,71.788190002972115,71.163849269018868]
[null,null,null,null,"Non-variant allowed repex",null,"£m 09/10 prices",null,null,null,null,null,null,null,null,null,null,null,null,null,null,null,null,null,null,null,null,null,null,null,null,null,null,56.988988956397478,57.163542877587759,57.340444449028176,57.640965535207293,57.774360476146406,57.981934297125882,51.386082139244891,51.551357878231798]
[]
[null,null,null,"Variant allowances"]
[]
[null,null,null,null,{"$f":"Input!E90","v":"Allowed uncertain costs (Enhanced physical site security)"},null,"£m 09/10 prices",null,null,null,null,null,null,null,null,null,null,null,null,null,null,null,null,null,null,null,null,null,null,null,null,null,null,{"$f":"AH13","v":0},{"$f":"AI13","v":0.65481617806853376},1.2757779142777421,9.1335720511001455,7.2163415542246589E-2,6.1472539165617464E-2,6.1472539165617464E-2,6.1472539165617464E-2]
[null,null,null,null,{"$f":"Input!E91","v":"Allocation to load related capex"},null,"%",null,null,null,null,null,null,null,null,null,null,null,null,null,null,null,null,null,null,null,null,null,null,null,null,null,null,0,0,0,0,0,0,0,0]
[null,null,null,null,{"$f":"Input!E92","v":"Allocation to non-load related capex - other"},null,"%",null,null,null,null,null,null,null,null,null,null,null,null,null,null,null,null,null,null,null,null,null,null,null,null,null,null,1,1,1,1,1,1,1,1]
[null,null,null,null,{"$f":"Input!E93","v":"Allocation to controllable opex"},null,"%",null,null,null,null,null,null,null,null,null,null,null,null,null,null,null,null,null,null,null,null,null,null,null,null,null,null,0,0,0,0,0,0,0,0]
[null,null,null,null,{"$f":"Input!E94","v":"Allocation to repex"},null,"%",null,null,null,null,null,null,null,null,null,null,null,null,null,null,null,null,null,null,null,null,null,null,null,null,null,null,0,0,0,0,0,0,0,0]
[]
[null,null,null,null,{"$f":"Input!E96","v":"Allowed uncertain costs (Specified street work costs)"},null,"£m 09/10 prices",null,null,null,null,null,null,null,null,null,null,null,null,null,null,null,null,null,null,null,null,null,null,null,null,null,null,{"$f":"AH14","v":0.39049999999999996},0.39049999999999996,0.39049999999999996,0.39049999999999996,0.39049999999999996,0.39049999999999996,0.39049999999999996,0.39049999999999996]
[null,null,null,null,{"$f":"Input!E97","v":"Allocation to load related capex"},null,"%",null,null,null,null,null,null,null,null,null,null,null,null,null,null,null,null,null,null,null,null,null,null,null,null,null,null,0.05,0.05,0.05,0.05,0.05,0.05,0.05,0.05]
[null,null,null,null,{"$f":"Input!E98","v":"Allocation to non-load related capex - other"},null,"%",null,null,null,null,null,null,null,null,null,null,null,null,null,null,null,null,null,null,null,null,null,null,null,null,null,null,0,0,0,0,0,0,0,0]
[null,null,null,null,{"$f":"Input!E99","v":"Allocation to controllable opex"},null,"%",null,null,null,null,null,null,null,null,null,null,null,null,null,null,null,null,null,null,null,null,null,null,null,null,null,null,0.3,0.3,0.3,0.3,0.3,0.3,0.3,0.3]
[null,null,null,null,{"$f":"Input!E100","v":"Allocation to repex"},null,"%",null,null,null,null,null,null,null,null,null,null,null,null,null,null,null,null,null,null,null,null,null,null,null,null,null,null,0.65,0.65,0.65,0.65,0.65,0.65,0.65,0.65]
[]
[null,null,null,null,{"$f":"Input!E102","v":"Allowed uncertain costs (Connection charging boundary change costs)"},null,"£m 09/10 prices",null,null,null,null,null,null,null,null,null,null,null,null,null,null,null,null,null,null,null,null,null,null,null,null,null,null,{"$f":"AH15","v":0},{"$f":"AI15","v":0},0,0,0,0,0,0]
[null,null,null,null,{"$f":"Input!E103","v":"Allocation to load related capex"},null,"%",null,null,null,null,null,null,null,null,null,null,null,null,null,null,null,null,null,null,null,null,null,null,null,null,null,null,0.9,0.9,0.9,0.9,0.9,0.9,0.9,0.9]
[null,null,null,null,{"$f":"Input!E104","v":"Allocation to non-load related capex - other"},null,"%",null,null,null,null,null,null,null,null,null,null,null,null,null,null,null,null,null,null,null,null,null,null,null,null,null,null,0,0,0,0,0,0,0,0]
[null,null,null,null,{"$f":"Input!E105","v":"Allocation to controllable opex"},null,"%",null,null,null,null,null,null,null,null,null,null,null,null,null,null,null,null,null,null,null,null,null,null,null,null,null,null,0.1,0.1,0.1,0.1,0.1,0.1,0.1,0.1]
[null,null,null,null,{"$f":"Input!E106","v":"Allocation to repex"},null,"%",null,null,null,null,null,null,null,null,null,null,null,null,null,null,null,null,null,null,null,null,null,null,null,null,null,null,0,0,0,0,0,0,0,0]
[]
[null,null,null,null,{"$f":"Input!E108","v":"Allowed uncertain costs (Fuel poor network extension scheme)"},null,"£m 09/10 prices",null,null,null,null,null,null,null,null,null,null,null,null,null,null,null,null,null,null,null,null,null,null,null,null,null,null,{"$f":"AH16","v":2.6536572004962595},{"$f":"AI16","v":2.4835057032945356},2.3139056776876732,3.6026042347340637,3.433734821184808,3.4296743073072138,3.425637055354978,3.2579687101101436]
[null,null,null,null,{"$f":"Input!E109","v":"Allocation to load related capex"},null,"%",null,null,null,null,null,null,null,null,null,null,null,null,null,null,null,null,null,null,null,null,null,null,null,null,null,null,1,1,1,1,1,1,1,1]
[null,null,null,null,{"$f":"Input!E110","v":"Allocation to non-load related capex - other"},null,"%",null,null,null,null,null,null,null,null,null,null,null,null,null,null,null,null,null,null,null,null,null,null,null,null,null,null,0,0,0,0,0,0,0,0]
[null,null,null,null,{"$f":"Input!E111","v":"Allocation to controllable opex"},null,"%",null,null,null,null,null,null,null,null,null,null,null,null,null,null,null,null,null,null,null,null,null,null,null,null,null,null,0,0,0,0,0,0,0,0]
[null,null,null,null,{"$f":"Input!E112","v":"Allocation to repex"},null,"%",null,null,null,null,null,null,null,null,null,null,null,null,null,null,null,null,null,null,null,null,null,null,null,null,null,null,0,0,0,0,0,0,0,0]
[]
[null,null,null,null,{"$f":"Input!E114","v":"Allowed uncertain costs (Central agent)"},null,"£m 09/10 prices",null,null,null,null,null,null,null,null,null,null,null,null,null,null,null,null,null,null,null,null,null,null,null,null,null,null,{"$f":"AH17","v":-3.8341585728574046E-7},9.2467159678957245E-3,8.9256716670744751E-2,9.0560641076074866E-2,-1.1883063810542374,-1.7752797178511248,-2.3352670301363943,-2.6195160530223132]
[null,null,null,null,{"$f":"Input!E115","v":"Allocation to load related capex"},null,"%",null,null,null,null,null,null,null,null,null,null,null,null,null,null,null,null,null,null,null,null,null,null,null,null,null,null,0,0,0,0,0,0,0,0]
[null,null,null,null,{"$f":"Input!E116","v":"Allocation to non-load related capex - other"},null,"%",null,null,null,null,null,null,null,null,null,null,null,null,null,null,null,null,null,null,null,null,null,null,null,null,null,null,0.15,0.15,0.15,0.15,0.15,0.15,0.15,0.15]
[null,null,null,null,{"$f":"Input!E117","v":"Allocation to controllable opex"},null,"%",null,null,null,null,null,null,null,null,null,null,null,null,null,null,null,null,null,null,null,null,null,null,null,null,null,null,0.85,0.85,0.85,0.85,0.85,0.85,0.85,0.85]
[null,null,null,null,{"$f":"Input!E118","v":"Allocation to repex"},null,"%",null,null,null,null,null,null,null,null,null,null,null,null,null,null,null,null,null,null,null,null,null,null,null,null,null,null,0,0,0,0,0,0,0,0]
[]
[null,null,null,null,{"$f":"Input!E120","v":"Allowed uncertain costs (Smart metering roll out costs)"},null,"£m 09/10 prices",null,null,null,null,null,null,null,null,null,null,null,null,null,null,null,null,null,null,null,null,null,null,null,null,null,null,{"$f":"AH18","v":0},0,0,0,0,0,0,0]
[null,null,null,null,{"$f":"Input!E121","v":"Allocation to load related capex"},null,"%",null,null,null,null,null,null,null,null,null,null,null,null,null,null,null,null,null,null,null,null,null,null,null,null,null,null,0,0,0,0,0,0,0,0]
[null,null,null,null,{"$f":"Input!E122","v":"Allocation to non-load related capex - other"},null,"%",null,null,null,null,null,null,null,null,null,null,null,null,null,null,null,null,null,null,null,null,null,null,null,null,null,null,0,0,0,0,0,0,0,0]
[null,null,null,null,{"$f":"Input!E123","v":"Allocation to controllable opex"},null,"%",null,null,null,null,null,null,null,null,null,null,null,null,null,null,null,null,null,null,null,null,null,null,null,null,null,null,0.5,0.5,0.5,0.5,0.5,0.5,0.5,0.5]
[null,null,null,null,{"$f":"Input!E124","v":"Allocation to repex"},null,"%",null,null,null,null,null,null,null,null,null,null,null,null,null,null,null,null,null,null,null,null,null,null,null,null,null,null,0.5,0.5,0.5,0.5,0.5,0.5,0.5,0.5]
[]
[null,null,null,null,{"$f":"Input!E126","v":"Allowed uncertain costs (Mains and services replacement expenditure)"},null,"£m 09/10 prices",null,null,null,null,null,null,null,null,null,null,null,null,null,null,null,null,null,null,null,null,null,null,null,null,null,null,{"$f":"AH19","v":2.1887999999999998E-2},{"$f":"AI19","v":0.236954},0.12893319999999997,0.30118400000000001,0.30118400000000001,0.30118400000000001,0.30118400000000001,0.30118400000000001]
[null,null,null,null,{"$f":"Input!E127","v":"Allocation to load related capex"},null,"%",null,null,null,null,null,null,null,null,null,null,null,null,null,null,null,null,null,null,null,null,null,null,null,null,null,null,0,0,0,0,0,0,0,0]
[null,null,null,null,{"$f":"Input!E128","v":"Allocation to non-load related capex - other"},null,"%",null,null,null,null,null,null,null,null,null,null,null,null,null,null,null,null,null,null,null,null,null,null,null,null,null,null,0,0,0,0,0,0,0,0]
[null,null,null,null,{"$f":"Input!E129","v":"Allocation to controllable opex"},null,"%",null,null,null,null,null,null,null,null,null,null,null,null,null,null,null,null,null,null,null,null,null,null,null,null,null,null,0,0,0,0,0,0,0,0]
[null,null,null,null,{"$f":"Input!E130","v":"Allocation to repex"},null,"%",null,null,null,null,null,null,null,null,null,null,null,null,null,null,null,null,null,null,null,null,null,null,null,null,null,null,1,1,1,1,1,1,1,1]
[]
[null,null,null,null,{"$f":"Input!E132","v":"Allowed uncertain Costs (Large load connection costs)"},null,"£m 09/10 prices",null,null,null,null,null,null,null,null,null,null,null,null,null,null,null,null,null,null,null,null,null,null,null,null,null,null,{"$f":"AH20","v":0},{"$f":"AI20","v":0},{"$f":"AJ20","v":0},0,{"$f":"AL20","v":0},0,0,0]
[null,null,null,null,{"$f":"Input!E133","v":"Allocation to load related capex"},null,"%",null,null,null,null,null,null,null,null,null,null,null,null,null,null,null,null,null,null,null,null,null,null,null,null,null,null,1,1,1,1,1,1,1,1]
[null,null,null,null,{"$f":"Input!E134","v":"Allocation to non-load related capex - other"},null,"%",null,null,null,null,null,null,null,null,null,null,null,null,null,null,null,null,null,null,null,null,null,null,null,null,null,null,0,0,0,0,0,0,0,0]
[null,null,null,null,{"$f":"Input!E135","v":"Allocation to controllable opex"},null,"%",null,null,null,null,null,null,null,null,null,null,null,null,null,null,null,null,null,null,null,null,null,null,null,null,null,null,0,0,0,0,0,0,0,0]
[null,null,null,null,{"$f":"Input!E136","v":"Allocation to repex"},null,"%",null,null,null,null,null,null,null,null,null,null,null,null,null,null,null,null,null,null,null,null,null,null,null,null,null,null,0,0,0,0,0,0,0,0]
[]
[null,null,null,null,{"$f":"Input!E138","v":"Allowed innovation roll-out mechanism"},null,"£m 09/10 prices",null,null,null,null,null,null,null,null,null,null,null,null,null,null,null,null,null,null,null,null,null,null,null,null,null,null,{"$f":"AH21","v":0},{"$f":"AI21","v":0},0,0,0,0,0,0]
[null,null,null,null,{"$f":"Input!E139","v":"Allocation to load related capex"},null,"%",null,null,null,null,null,null,null,null,null,null,null,null,null,null,null,null,null,null,null,null,null,null,null,null,null,null,0.5,0.5,0.5,0.5,0.5,0.5,0.5,0.5]
[null,null,null,null,{"$f":"Input!E140","v":"Allocation to non-load related capex - other"},null,"%",null,null,null,null,null,null,null,null,null,null,null,null,null,null,null,null,null,null,null,null,null,null,null,null,null,null,0,0,0,0,0,0,0,0]
[null,null,null,null,{"$f":"Input!E141","v":"Allocation to controllable opex"},null,"%",null,null,null,null,null,null,null,null,null,null,null,null,null,null,null,null,null,null,null,null,null,null,null,null,null,null,0.5,0.5,0.5,0.5,0.5,0.5,0.5,0.5]
[null,null,null,null,{"$f":"Input!E142","v":"Allocation to repex"},null,"%",null,null,null,null,null,null,null,null,null,null,null,null,null,null,null,null,null,null,null,null,null,null,null,null,null,null,0,0,0,0,0,0,0,0]
[]
[null,null,null,null,"Variant allowed load related capex",null,"£m 09/10 prices",null,null,null,null,null,null,null,null,null,null,null,null,null,null,null,null,null,null,null,null,null,null,null,null,null,null,{"$f":"(AH$90*AH91) + (AH$96*AH97) + (AH$102*AH103) + (AH$108*AH109) + (AH$114*AH115) + (AH$120*AH121)      + (AH$126 * AH127) + (AH$132*AH133) + (AH$138*AH139)","v":2.6731822004962593},{"$f":"(AI$90*AI91) + (AI$96*AI97) + (AI$102*AI103) + (AI$108*AI109) + (AI$114*AI115) + (AI$120*AI121)      + (AI$126 * AI127) + (AI$132*AI133) + (AI$138*AI139)","v":2.5030307032945354},2.333430677687673,3.6221292347340635,3.4532598211848078,3.4491993073072136,3.4451620553549778,3.2774937101101433]
[null,null,null,null,"Variant allowed non-load related capex - other",null,"£m 09/10 prices",null,null,null,null,null,null,null,null,null,null,null,null,null,null,null,null,null,null,null,null,null,null,null,null,null,null,{"$f":"(AH$90*AH92) + (AH$96*AH98) + (AH$102*AH104) + (AH$108*AH110) + (AH$114*AH116) + (AH$120*AH122)      + (AH$126 * AH128) + (AH$132*AH134) + (AH$138*AH140)","v":-5.7512378592861065E-8},0.65620318546371814,1.2891664217783538,9.1471561472615566,-0.10608254161588901,-0.20481941851205127,-0.28881751535484168,-0.33145486878772951]
[null,null,null,null,"Variant allowed controllable opex",null,"£m 09/10 prices",null,null,null,null,null,null,null,null,null,null,null,null,null,null,null,null,null,null,null,null,null,null,null,null,null,null,{"$f":"(AH$90*AH93) + (AH$96*AH99) + (AH$102*AH105) + (AH$108*AH111) + (AH$114*AH117) + (AH$120*AH123)      + (AH$126 * AH129) + (AH$132*AH135) + (AH$138*AH141)","v":0.11714967409652129},0.12500970857271135,0.19301820917013301,0.19412654491466361,-0.89291042389610176,-1.391837760173456,-1.8678269756159351,-2.1094386450689662]
[null,null,null,null,"Variant allowed repex",null,"£m 09/10 prices",null,null,null,null,null,null,null,null,null,null,null,null,null,null,null,null,null,null,null,null,null,null,null,null,null,null,{"$f":"(AH$90*AH94) + (AH$96*AH100) + (AH$102*AH106) + (AH$108*AH112) + (AH$114*AH118) + (AH$120*AH124)      + (AH$126 * AH130) + (AH$132*AH136) + (AH$138*AH142)","v":0.27571299999999999},0.49077899999999997,0.38275819999999994,0.55500899999999997,0.55500899999999997,0.55500899999999997,0.55500899999999997,0.55500899999999997]
[]
[null,null,null,"Actual"]
[]
[null,null,null,null,"Actual load related capex",null,"£m 09/10 prices",null,null,null,null,null,null,null,null,null,null,null,null,null,null,null,null,null,null,null,null,null,null,null,null,null,null,{"$f":"AH9","v":18.614444722604645},26.921745546304166,23.834770506191227,0,0,0,0,0]
[null,null,null,null,"Actual non-load related capex - other",null,"£m 09/10 prices",null,null,null,null,null,null,null,null,null,null,null,null,null,null,null,null,null,null,null,null,null,null,null,null,null,null,6.9015817711623022,21.337038240461251,14.150319111292703,0,0,0,0,0]
[null,null,null,null,"Actual controllable opex",null,"£m 09/10 prices",null,null,null,null,null,null,null,null,null,null,null,null,null,null,null,null,null,null,null,null,null,null,null,null,null,null,55.083442742027984,51.694643283144345,52.866255837174734,0,0,0,0,0]
[null,null,null,null,"Actual repex",null,"£m 09/10 prices",null,null,null,null,null,null,null,null,null,null,null,null,null,null,null,null,null,null,null,null,null,null,null,null,null,null,42.593884881288275,41.633898780361989,46.340423794197335,0,0,0,0,0]
[]
[null,null,"Non-totex"]
[]
[null,null,null,null,"Non-controllable opex (Other)",null,"£m 09/10 prices",null,null,null,null,null,null,null,null,null,null,null,null,null,null,null,null,null,null,null,null,null,null,null,null,null,null,25.769114199757798,25.771185423234073,25.771185423234066,25.771185423234073,25.771185423234073,25.771185423234066,25.771185423234066,25.771185423234066]
[null,null,null,null,"Non-controllable opex (Exit Charges)",null,"£m 09/10 prices",null,null,null,null,null,null,null,null,null,null,null,null,null,null,null,null,null,null,null,null,null,null,null,null,null,null,{"$f":"AH22","v":0.19072268415499974},{"$f":"AI22","v":0.19041152594377853},0.19041152516054516,0.19041152516054516,0.19041152516054516,0.19041152516054516,0.19041152516054516,0.19041152516054516]
[null,null,null,null,"Non-controllable opex (Shrinkage)",null,"£m 09/10 prices",null,null,null,null,null,null,null,null,null,null,null,null,null,null,null,null,null,null,null,null,null,null,null,null,null,null,{"$f":"AH23","v":5.1756455068307297},4.8,4.7,4.5999999999999996,4.47,4.37,4.25,4.1399999999999997]
[null,null,null,null,"Non-controllable opex",null,"£m 09/10 prices",null,null,null,null,null,null,null,null,null,null,null,null,null,null,null,null,null,null,null,null,null,null,null,null,null,null,{"$f":"SUM(AH158:AH160)","v":31.135482390743526},{"$f":"SUM(AI158:AI160)","v":30.761596949177854},30.66159694839461,30.561596948394616,30.431596948394617,30.331596948394612,30.211596948394611,30.101596948394612]
[]
[null,"Direct allowed revenue terms (DARTs)"]
[]
[null,null,null,null,{"$f":"E26","v":"Pension scheme administration and Pension Protection Fund Levy"},null,"£m 09/10 prices",null,null,null,null,null,null,null,null,null,null,null,null,null,null,null,null,null,null,null,null,null,null,null,null,null,null,{"$f":"AH26","v":0.54199999999999993},0.54199999999999993,0.54199999999999993,0.54199999999999993,0.54199999999999993,0.54199999999999993,0.54199999999999993,0.54199999999999993]
[null,null,null,null,{"$f":"E27","v":"Pension scheme deficit revenue allowances"},null,"£m 09/10 prices",null,null,null,null,null,null,null,null,null,null,null,null,null,null,null,null,null,null,null,null,null,null,null,null,null,null,{"$f":"AH27","v":6.822931531541121},6.822931531541121,5.9081704748268056,5.9081704748268056,5.9081704748268056,5.9081704748268056,5.9081704748268056,5.9081704748268056]
[]
[null,null,null,null,"Pension true-up from previous price controls",null,"£m 09/10 prices",null,27.666335947797492,null,null,null,null,null,null,null,null,null,null,null,null,null,null,null,null,null,null,null,null,null,null,null,null,{"$f":"($I$168/8)","v":3.4582919934746865},{"$f":"($I$168/8)*(1+$AI$39)","v":3.6005315431663001},{"$f":"($I$168/8)*(1+$AI$39)*(1+$AJ$39)","v":3.7446428181815312},{"$f":"($I$168/8)*(1+$AI$39)*(1+$AJ$39)*(1+$AK$39)","v":3.8903843166651568},{"$f":"($I$168/8)*(1+$AI$39)*(1+$AJ$39)*(1+$AK$39)*(1+$AL$39)","v":4.0377520745804327},{"$f":"($I$168/8)*(1+$AI$39)*(1+$AJ$39)*(1+$AK$39)*(1+$AL$39)*(1+$AM$39)","v":4.190702123165539},{"$f":"($I$168/8)*(1+$AI$39)*(1+$AJ$39)*(1+$AK$39)*(1+$AL$39)*(1+$AM$39)*(1+$AN$39)","v":4.3494459195910489},{"$f":"($I$168/8)*(1+$AI$39)*(1+$AJ$39)*(1+$AK$39)*(1+$AL$39)*(1+$AM$39)*(1+$AN$39)*(1+$AO$39)","v":4.5142029310251575}]
[]
[null,null,null,null,{"$f":"Input!E170","v":"Revenue adjustment from previous controls (Base)"},null,"£m 09/10 prices",null,3.7430357108658341,null,null,null,null,null,null,null,null,null,null,null,null,null,null,null,null,null,null,null,null,null,null,null,null,{"$f":"($I$170/8)","v":0.46787946385822926},{"$f":"($I$170/8)*(1+$AI$39)","v":0.48712334620671816},{"$f":"($I$170/8)*(1+$AI$39)*(1+$AJ$39)","v":0.50662045813864209},{"$f":"($I$170/8)*(1+$AI$39)*(1+$AJ$39)*(1+$AK$39)","v":0.52633812636939803},{"$f":"($I$170/8)*(1+$AI$39)*(1+$AJ$39)*(1+$AK$39)*(1+$AL$39)","v":0.54627581459627084},{"$f":"($I$170/8)*(1+$AI$39)*(1+$AJ$39)*(1+$AK$39)*(1+$AL$39)*(1+$AM$39)","v":0.56696874245317752},{"$f":"($I$170/8)*(1+$AI$39)*(1+$AJ$39)*(1+$AK$39)*(1+$AL$39)*(1+$AM$39)*(1+$AN$39)","v":0.58844551841730386},{"$f":"($I$170/8)*(1+$AI$39)*(1+$AJ$39)*(1+$AK$39)*(1+$AL$39)*(1+$AM$39)*(1+$AN$39)*(1+$AO$39)","v":0.61073583465495129}]
[null,null,null,null,{"$f":"Input!E171","v":"Legacy price control allowed revenue adjustment"},null,"£m 09/10 prices",null,null,null,null,null,null,null,null,null,null,null,null,null,null,null,null,null,null,null,null,null,null,null,null,null,null,{"$f":"($AH$28/8)","v":0.29450914022926888},{"$f":"($AH$28/8)*(1+$AI$39)","v":0.3066223011668987},{"$f":"($AH$28/8)*(1+$AI$39)*(1+$AJ$39)","v":0.3188948587711038},{"$f":"($AH$28/8)*(1+$AI$39)*(1+$AJ$39)*(1+$AK$39)","v":0.33130624667447517},{"$f":"($AH$28/8)*(1+$AI$39)*(1+$AJ$39)*(1+$AK$39)*(1+$AL$39)","v":0.34385612729850423},{"$f":"($AH$28/8)*(1+$AI$39)*(1+$AJ$39)*(1+$AK$39)*(1+$AL$39)*(1+$AM$39)","v":0.35688139740057157},{"$f":"($AH$28/8)*(1+$AI$39)*(1+$AJ$39)*(1+$AK$39)*(1+$AL$39)*(1+$AM$39)*(1+$AN$39)","v":0.37040006473410519},{"$f":"($AH$28/8)*(1+$AI$39)*(1+$AJ$39)*(1+$AK$39)*(1+$AL$39)*(1+$AM$39)*(1+$AN$39)*(1+$AO$39)","v":0.38443081918623306}]
[null,null,null,null,"Revenue adjustment from previous controls",null,"£m 09/10 prices",null,null,null,null,null,null,null,null,null,null,null,null,null,null,null,null,null,null,null,null,null,null,null,null,null,null,{"$f":"AH170+AH171","v":0.76238860408749809},{"$f":"AI170+AI171","v":0.79374564737361686},0.82551531690974589,0.8576443730438732,0.89013194189477507,0.92385013985374909,0.95884558315140911,0.9951666538411843]
[]
[null,null,null,null,"Excluded services revenue",null,"£m 09/10 prices",null,null,null,null,null,null,null,null,null,null,null,null,null,null,null,null,null,null,null,null,null,null,null,null,null,null,0.22040473872096467,0.27378484987623697,0.27405863472611319,0.27679922107337429,0.2801208117262548,0.28348226146696986,0.28660056634310654,0.28975317257288069]
[null,null,null,null,"Identified excluded services costs",null,"£m 09/10 prices",null,null,null,null,null,null,null,null,null,null,null,null,null,null,null,null,null,null,null,null,null,null,null,null,null,null,0.22040473872096467,0.27378484987623697,0.27405863472611319,0.27679922107337429,0.2801208117262548,0.28348226146696986,0.28660056634310654,0.28975317257288069]
[null,null,null,null,"Excluded services",null,"£m 09/10 prices",null,null,null,null,null,null,null,null,null,null,null,null,null,null,null,null,null,null,null,null,null,null,null,null,null,null,{"$f":"SUM(AH174, -AH175)","v":0},{"$f":"SUM(AI174, -AI175)","v":0},0,0,0,0,0,0]
[]
[null,"RAV and assets"]
[]
[null,null,"Pre-vesting assets"]
[]
[null,null,null,null,"Pre-vesting RAV cost opening balance brought forward (before transfers)",null,"£m 09/10 prices",null,null,null,null,null,null,null,null,null,null,null,null,null,null,null,null,null,null,null,null,null,null,null,null,null,null,855.30007046464732]
[null,null,null,null,"Pre-vesting RAV cumulative depreciation opening balance brought forward (before transfers)",null,"£m 09/10 prices",null,null,null,null,null,null,null,null,null,null,null,null,null,null,null,null,null,null,null,null,null,null,null,null,null,null,300.8110847524373]
[]
[null,null,null,null,"Pre-vesting asset life",null,"years",null,56]
[null,null,null,null,"Pre-vesting RAV disposals",null,"£m 09/10 prices",null,null,null,null,null,null,null,null,null,null,null,null,null,null,null,null,null,null,null,null,null,null,null,null,null,null,0.19933204881671265,0.2,0,0,0,0,0,0]
[null,null,null,null,"RAV adjustments from previous price controls (not modelled in PCFM)",null,"years",null,null,null,null,null,null,null,null,null,null,null,null,null,null,null,null,null,null,null,null,null,null,null,null,null,null,45,44,43,42,41,40,39,38]
[]
[null,null,"Post-vesting assets"]
[]
[null,null,null,null,"Gas distribution"]
[null,null,null,null,{"$f":"Input!E192","v":"GD post-vesting asset life"},null,"years",null,45]
[null,null,null,null,{"$f":"Input!E193","v":"GD smoothing profile for recovery of backlog depreciation"},null,"years",null,null,null,null,null,null,null,null,null,null,null,null,null,null,null,null,null,null,null,null,null,null,null,null,null,null,0.15,0.15,2.5000000000000001E-2,0,0.05,0.125,0.2,0.3]
[null,null,null,null,{"$f":"Input!E194","v":"GD start of smoothing period"},null,"year ending",null,"2014-03-31"]
[null,null,null,null,{"$f":"Input!E195","v":"Pre-RIIO net additions to RAV"},null,"£m 09/10 prices",null,null,">",null,null,null,null,null,null,null,null,null,null,null,null,56.202125753464379,48.380756364314259,35.028561478550863,40.968389661551619,30.358379698356362,81.564154923719627,88.073268927657267,115.94268196550212,120.78805311040225,108.39237966667838,67.762824843046431]
[null,null,null,null,"LRAV",null,"£m 09/10 prices",null,null,null,null,null,null,null,null,null,null,null,null,null,null,null,null,null,null,null,null,null,null,null,null,null,null,{"$f":"AH29","v":6.7525461017127864}]
[null,null,null,null,"RIIO post-vesting RAV additions",null,"£m 09/10 prices",null,null,null,null,null,null,null,null,null,null,null,null,null,null,null,null,null,null,null,null,null,null,null,null,null,null,0,0,0,0,0,0,0,0]
[null,null,null,null,"RIIO post-vesting RAV disposals",null,null,null,null,null,null,null,null,null,null,null,null,null,null,null,null,null,null,null,null,null,null,null,null,null,null,null,null,0,0,0,4.8863986357239753E-4,0,0,0,0]
[null,null,null,null,{"$f":"Input!E199","v":"Pre-RIIO transfers to depreciation"},null,"£m 09/10 prices",null,null,">",null,null,null,null,null,null,null,null,null,null,null,0,0,0,0,0,0,0.36254262498724477,-0.62673473107515654,3.6074735863488887,4.9827811904158352,4.0128936152870915,0]
[]
[null,null,"Fuel Poor"]
[]
[null,null,null,null,"Post-vesting asset life",null,"years",null,45]
[null,null,null,null,"Years additional customer discount applied",null,"years",null,5]
[]
[null,null,null,null,"NPV of future transportation revenue",null,"£m 09/10 prices",null,null,">",null,null,null,null,null,null,null,null,null,null,null,null,null,null,null,null,null,null,0,0,0,0,0]
[null,null,null,null,"Community based schemes actual capex spend",null,"£m 09/10 prices",null,null,">",null,null,null,null,null,null,null,null,null,null,null,null,null,null,null,null,null,null,0,0,0,0,0]
[]
[null,null,null,null,"One off schemes actual capex spend",null,"£m 09/10 prices",null,null,">",null,null,null,null,null,null,null,null,null,null,null,null,null,null,null,null,null,null,0,2.3689399575621728,3.9173231687067211,4.4237753221343041,3.2196132652122036]
[]
[null,"Tax"]
[]
[null,null,"Tax policy"]
[]
[null,null,null,null,{"$f":"E24","v":"Tax liability allowance adjustments - gearing/interest costs"},null,"£m nominal",null,null,null,null,null,null,null,null,null,null,null,null,null,null,null,null,null,null,null,null,null,null,null,null,null,null,{"$f":"AH24","v":0},{"$f":"AI24","v":0},0,0,0,0,0,0]
[null,null,null,null,{"$f":"E25","v":"Tax liability allowance adjustments - driven by tax trigger events"},null,"£m 09/10 prices",null,null,null,null,null,null,null,null,null,null,null,null,null,null,null,null,null,null,null,null,null,null,null,null,null,null,{"$f":"AH25","v":0},0,-0.41447138463234268,-0.24244821918418324,-1.2077168209646842,0,0,0]
[]
[null,null,null,null,"Corporation tax rate",null,"%",null,null,">",null,null,null,null,null,null,null,null,null,null,null,null,null,null,0.3,0.3,0.3,0.3,0.28000000000000003,0.28000000000000003,0.28000000000000003,0.26,0.24,0.23,0.21,0.21,0.21,0.21,0.21,0.21,0.21]
[]
[null,null,null,null,"General pool capital allowance rate",null,"%",null,null,">",null,null,null,null,null,null,null,null,null,null,null,0.25,0.25,0.25,0.25,0.25,0.25,0.25,0.2,0.2,0.2,0.2,0.18000000000000002,0.18000000000000002,0.18000000000000002,0.18000000000000002,0.18000000000000002,0.18000000000000002,0.18000000000000002,0.18000000000000002,0.18000000000000002]
[null,null,null,null,"Special Rates capital allowance rate",null,"%",null,null,">",null,null,null,null,null,null,null,null,null,null,null,0.06,0.06,0.06,0.06,0.06,0.06,0.06,0.1,0.1,0.1,0.1,0.08,0.08,0.08,0.08,0.08,0.08,0.08,0.08,0.08]
[null,null,null,null,"Deferred Revenue Expenditure capital allowance rate",null,"%",null,null,">",null,null,null,null,null,null,null,null,null,null,null,null,null,null,null,null,null,null,null,null,null,null,null,2.2200000000000001E-2,2.2200000000000001E-2,2.2200000000000001E-2,2.2200000000000001E-2,2.2200000000000001E-2,2.2200000000000001E-2,2.2200000000000001E-2,2.2200000000000001E-2]
[]
[null,null,"Capital allowances and tax losses"]
[]
[null,null,null,null,"General pool capital allowance opening balance brought forward",null,"£m nominal",null,null,null,null,null,null,null,null,null,null,null,null,null,null,null,null,null,null,null,null,null,null,null,null,null,null,32.476099999999995]
[]
[null,null,null,null,"Special Rate capital allowance opening balance brought forward",null,"£m nominal",null,null,null,null,null,null,null,null,null,null,null,null,null,null,null,null,null,null,null,null,null,null,null,null,null,null,262.52660000000003]
[]
[null,null,null,null,"Deferred revenue expenditure opening balance brought forward",null,"£m nominal",null,null,null,null,null,null,null,null,null,null,null,null,null,null,null,null,null,null,null,null,null,null,null,null,null,null,0]
[]
[null,null,null,null,"Tax loss brought forward",null,"£m nominal",null,null,null,null,null,null,null,null,null,null,null,null,null,null,null,null,null,null,null,null,null,null,null,null,null,null,93.865654141435954]
[]
[null,null,"Tax pool allocation"]
[]
[null,null,null,"Allocation to \"General\" pool"]
[]
[null,null,null,null,"Load Related",null,"%",null,null,null,null,null,null,null,null,null,null,null,null,null,null,null,null,null,null,null,null,null,null,null,null,null,null,2.8999999999999998E-3,2.8999999999999998E-3,2.8999999999999998E-3,2.8999999999999998E-3,2.8999999999999998E-3,2.8999999999999998E-3,2.8999999999999998E-3,2.8999999999999998E-3]
[null,null,null,null,"Non-Load Related - other",null,"%",null,null,null,null,null,null,null,null,null,null,null,null,null,null,null,null,null,null,null,null,null,null,null,null,null,null,0.89756098390240724,0.89756098390240724,0.89756098390240724,0.89756098390240724,0.89756098390240724,0.89756098390240724,0.89756098390240724,0.89756098390240724]
[null,null,null,null,"Opex",null,"%",null,null,null,null,null,null,null,null,null,null,null,null,null,null,null,null,null,null,null,null,null,null,null,null,null,null,0,0,0,0,0,0,0,0]
[null,null,null,null,"Repex",null,"%",null,null,null,null,null,null,null,null,null,null,null,null,null,null,null,null,null,null,null,null,null,null,null,null,null,null,0,0,0,0,0,0,0,0]
[]
[null,null,null,"Allocation to \"Special Rate\" pool"]
[]
[null,null,null,null,"Load Related",null,"%",null,null,null,null,null,null,null,null,null,null,null,null,null,null,null,null,null,null,null,null,null,null,null,null,null,null,0.98870000000000002,0.98870000000000002,0.98870000000000002,0.98870000000000002,0.98870000000000002,0.98870000000000002,0.98870000000000002,0.98870000000000002]
[null,null,null,null,"Non-Load Related - other",null,"%",null,null,null,null,null,null,null,null,null,null,null,null,null,null,null,null,null,null,null,null,null,null,null,null,null,null,1.6271113794003381E-2,1.6271113794003381E-2,1.6271113794003381E-2,1.6271113794003381E-2,1.6271113794003381E-2,1.6271113794003381E-2,1.6271113794003381E-2,1.6271113794003381E-2]
[null,null,null,null,"Opex",null,"%",null,null,null,null,null,null,null,null,null,null,null,null,null,null,null,null,null,null,null,null,null,null,null,null,null,null,0,0,0,0,0,0,0,0]
[null,null,null,null,"Repex",null,"%",null,null,null,null,null,null,null,null,null,null,null,null,null,null,null,null,null,null,null,null,null,null,null,null,null,null,0,0,0,0,0,0,0,0]
[]
[null,null,null,"Allocation to \"Deferred Revenue\" pool"]
[]
[null,null,null,null,"Load Related",null,"%",null,null,null,null,null,null,null,null,null,null,null,null,null,null,null,null,null,null,null,null,null,null,null,null,null,null,0,0,0,0,0,0,0,0]
[null,null,null,null,"Non-Load Related - other",null,"%",null,null,null,null,null,null,null,null,null,null,null,null,null,null,null,null,null,null,null,null,null,null,null,null,null,null,0,0,0,0,0,0,0,0]
[null,null,null,null,"Opex",null,"%",null,null,null,null,null,null,null,null,null,null,null,null,null,null,null,null,null,null,null,null,null,null,null,null,null,null,0,0,0,0,0,0,0,0]
[null,null,null,null,"Repex",null,"%",null,null,null,null,null,null,null,null,null,null,null,null,null,null,null,null,null,null,null,null,null,null,null,null,null,null,0,0,1,1,1,1,1,1]
[]
[null,null,null,"Allocation to \"Revenue\" pool"]
[]
[null,null,null,null,"Load Related",null,"%",null,null,null,null,null,null,null,null,null,null,null,null,null,null,null,null,null,null,null,null,null,null,null,null,null,null,0,0,0,0,0,0,0,0]
[null,null,null,null,"Non-Load Related - other",null,"%",null,null,null,null,null,null,null,null,null,null,null,null,null,null,null,null,null,null,null,null,null,null,null,null,null,null,0,0,0,0,0,0,0,0]
[null,null,null,null,"Opex",null,"%",null,null,null,null,null,null,null,null,null,null,null,null,null,null,null,null,null,null,null,null,null,null,null,null,null,null,1,1,1,1,1,1,1,1]
[null,null,null,null,"Repex",null,"%",null,null,null,null,null,null,null,null,null,null,null,null,null,null,null,null,null,null,null,null,null,null,null,null,null,null,1,1,0,0,0,0,0,0]
[]
[null,null,null,"Allocation to \"Non Qualifying\" pool"]
[]
[null,null,null,null,"Load Related",null,"%",null,null,null,null,null,null,null,null,null,null,null,null,null,null,null,null,null,null,null,null,null,null,null,null,null,null,8.4000000000000012E-3,8.4000000000000012E-3,8.4000000000000012E-3,8.4000000000000012E-3,8.4000000000000012E-3,8.4000000000000012E-3,8.4000000000000012E-3,8.4000000000000012E-3]
[null,null,null,null,"Non-Load Related - other",null,"%",null,null,null,null,null,null,null,null,null,null,null,null,null,null,null,null,null,null,null,null,null,null,null,null,null,null,8.6167902303589283E-2,8.6167902303589283E-2,8.6167902303589283E-2,8.6167902303589283E-2,8.6167902303589283E-2,8.6167902303589283E-2,8.6167902303589283E-2,8.6167902303589283E-2]
[null,null,null,null,"Opex",null,"%",null,null,null,null,null,null,null,null,null,null,null,null,null,null,null,null,null,null,null,null,null,null,null,null,null,null,0,0,0,0,0,0,0,0]
[null,null,null,null,"Repex",null,"%",null,null,null,null,null,null,null,null,null,null,null,null,null,null,null,null,null,null,null,null,null,null,null,null,null,null,0,0,0,0,0,0,0,0]
[]
[null,null,null,"Allocation check"]
[null,null,null,"Note: All categories should equal 100%"]
[]
[null,null,null,null,"Load Related",null,"%",null,null,null,null,null,null,null,null,null,null,null,null,null,null,null,null,null,null,null,null,null,null,null,null,null,null,{"$f":"AH238+AH245+AH252+AH259+AH266","v":1},1,1,1,1,1,1,1]
[null,null,null,null,"Non-Load Related - other",null,"%",null,null,null,null,null,null,null,null,null,null,null,null,null,null,null,null,null,null,null,null,null,null,null,null,null,null,0.99999999999999989,0.99999999999999989,0.99999999999999989,0.99999999999999989,0.99999999999999989,0.99999999999999989,0.99999999999999989,0.99999999999999989]
[null,null,null,null,"Opex",null,"%",null,null,null,null,null,null,null,null,null,null,null,null,null,null,null,null,null,null,null,null,null,null,null,null,null,null,1,1,1,1,1,1,1,1]
[null,null,null,null,"Repex",null,"%",null,null,null,null,null,null,null,null,null,null,null,null,null,null,null,null,null,null,null,null,null,null,null,null,null,null,1,1,1,1,1,1,1,1]
[]
[null,null,null,"Tax Trigger Deadbands"]
[]
[null,null,null,null,"Tax Trigger Deadband",null,"£m 09/10 prices",null,null,null,null,null,null,null,null,null,null,null,null,null,null,null,null,null,null,null,null,null,null,null,null,null,null,0.88428277539207756,0.86112837270313014,0.84102383707548445,0.88297663287429251,0.89466104974996341,0.90155767404145859,0.8868768210530461,0.90207646953253651]
[]
[null,null,null,"SIU Costs"]
[]
[null,null,null,null,"SIU Costs",null,"£m 09/10 prices",null,null,null,null,null,null,null,null,null,null,null,null,null,null,null,null,null,null,null,null,null,null,null,null,null,null,11.399919741726018,11.422302522862527,11.444870860956033,11.46762629430439,11.490570373958203,11.513704663826539,11.537030740783534,11.560550194775864]
[]
[null,null,null,"Additional Income Workings"]
[]
[null,null,null,null,"Original allowed totex",null,null,null,null,null,null,null,null,null,null,null,null,null,null,null,null,null,null,null,null,null,null,null,null,null,null,null,null,171.70650014117913,164.51053928850033,159.14513778120462,168.61493882822501,170.97488541208287,169.43908759951319,159.32824178311037,158.10426524512087]
[null,null,null,null,"Total allowed totex",null,null,null,1321.8235960789364]
[]
[null,"End of sheet"]

{"sheet":"Southern","index":22,"n_rows":292,"n_cols":41,"rows_kept":292,"cut":false,"hidden":false,"merged":[]}
["Input"]
[null,"Southern"]
[null,null,null,null,"Parameter","Licence condition","Units","Term","Constant",null,null,null,null,null,null,null,null,null,null,null,null,null,null,null,null,null,null,null,null,null,null,null,null,"Annual values"]
[null,null,null,null,"PCFM year ending",{"$f":"Cover!C3","v":"GD1 PCFM for use in AIP 2018.xlsm"},null,null,{"$f":"UserInterface!$G$10","v":"2019-03-31"},null,"1991-03-31","1992-03-31","1993-03-31","1994-03-31","1995-03-31","1996-03-31","1997-03-31","1998-03-31","1999-03-31","2000-03-31","2001-03-31","2002-03-31","2003-03-31","2004-03-31","2005-03-31","2006-03-31","2007-03-31","2008-03-31","2009-03-31","2010-03-31","2011-03-31","2012-03-31","2013-03-31","2014-03-31","2015-03-31","2016-03-31","2017-03-31","2018-03-31","2019-03-31","2020-03-31","2021-03-31"]
[]
[null,"PCFM Variable Values Table"]
[]
[null,null,null,null,{"$f":"Input!E8","v":"Allowed percentage cost of debt"},{"$f":"Input!F8","v":"3C"},"annual real %",{"$f":"Input!H8","v":"CDE"},null,null,null,null,null,null,null,null,null,null,null,null,null,null,null,null,null,null,null,null,null,null,null,null,null,2.92E-2,2.7199999999999998E-2,2.5499999999999998E-2,2.3800000000000002E-2,2.2200000000000001E-2,2.2200000000000001E-2,2.2200000000000001E-2,2.2200000000000001E-2]
[null,null,null,null,{"$f":"Input!E9","v":"Actual load related capex"},{"$f":"Input!F9","v":"3B"},"£m 09/10 prices",{"$f":"Input!H9","v":"ALC"},null,null,null,null,null,null,null,null,null,null,null,null,null,null,null,null,null,null,null,null,null,null,null,null,null,25.672822874513621,26.977280683629704,36.130661029383617,0,0,0,0,0]
[null,null,null,null,{"$f":"Input!E10","v":"Actual other capex"},{"$f":"Input!F10","v":"3B"},"£m 09/10 prices",{"$f":"Input!H10","v":"AOC"},null,null,null,null,null,null,null,null,null,null,null,null,null,null,null,null,null,null,null,null,null,null,null,null,null,16.19122740433713,30.307651018024444,23.593113934637632,0,0,0,0,0]
[null,null,null,null,{"$f":"Input!E11","v":"Actual controllable opex"},{"$f":"Input!F11","v":"3B"},"£m 09/10 prices",{"$f":"Input!H11","v":"ACO"},null,null,null,null,null,null,null,null,null,null,null,null,null,null,null,null,null,null,null,null,null,null,null,null,null,93.462237720216791,91.045211486309995,93.518218567630484,0,0,0,0,0]
[null,null,null,null,{"$f":"Input!E12","v":"Actual replacement expenditure"},{"$f":"Input!F12","v":"3B"},"£m 09/10 prices",{"$f":"Input!H12","v":"ARE"},null,null,null,null,null,null,null,null,null,null,null,null,null,null,null,null,null,null,null,null,null,null,null,null,null,132.42848890213799,132.46119185195886,125.94678228310627,0,0,0,0,0]
[null,null,null,null,{"$f":"Input!E13","v":"Allowed uncertain costs (Enhanced physical site security)"},{"$f":"Input!F13","v":"3F"},"£m 09/10 prices",{"$f":"Input!H13","v":"IAEEPS"},null,null,null,null,null,null,null,null,null,null,null,null,null,null,null,null,null,null,null,null,null,null,null,null,null,1.3101388569039427,2.5599952510669004,4.8812719496795243,4.2366514814359917,3.8789755358395164,4.3933858845625355,0.184866219072335,0.184866219072335]
[null,null,null,null,{"$f":"Input!E14","v":"Allowed uncertain costs (Specified street work costs)"},{"$f":"Input!F14","v":"3F"},"£m 09/10 prices",{"$f":"Input!H14","v":"IAESW"},null,null,null,null,null,null,null,null,null,null,null,null,null,null,null,null,null,null,null,null,null,null,null,null,null,7.7002461477061521,7.5790230454324519,7.4710557195644371,7.3709723266095368,7.2802145873801933,7.1972255359543666,7.1220291538623615,7.0518081470324212]
[null,null,null,null,{"$f":"Input!E15","v":"Allowed uncertain costs (Connection charging boundary change costs)"},{"$f":"Input!F15","v":"3F"},"£m 09/10 prices",{"$f":"Input!H15","v":"IAECCB"},null,null,null,null,null,null,null,null,null,null,null,null,null,null,null,null,null,null,null,null,null,null,null,null,null,0,0,0,0,0,0,0,0]
[null,null,null,null,{"$f":"Input!E16","v":"Allowed uncertain costs (Fuel poor network extension scheme)"},{"$f":"Input!F16","v":"3F"},"£m 09/10 prices",{"$f":"Input!H16","v":"IAEFP"},null,null,null,null,null,null,null,null,null,null,null,null,null,null,null,null,null,null,null,null,null,null,null,null,null,1.5873146292495859,1.8562838933978636,1.9282832521585289,2.2483220222611893,2.3046429983634034,2.3007313934290448,2.3870019094937418,2.3829428855296331]
[null,null,null,null,{"$f":"Input!E17","v":"Allowed uncertain costs (Central agent)"},{"$f":"Input!F17","v":"3F"},"£m 09/10 prices",{"$f":"Input!H17","v":"IAECA"},null,null,null,null,null,null,null,null,null,null,null,null,null,null,null,null,null,null,null,null,null,null,null,null,null,-8.5638193425552345E-7,2.1855929718469724E-2,0.21097046957925336,0.21405247140421224,-2.6075374445496067,-3.9280376469554019,-5.181692357990487,-5.8236461923471445]
[null,null,null,null,{"$f":"Input!E18","v":"Allowed uncertain costs (Smart metering roll out costs)"},{"$f":"Input!F18","v":"3F"},"£m 09/10 prices",{"$f":"Input!H18","v":"IAESM"},null,null,null,null,null,null,null,null,null,null,null,null,null,null,null,null,null,null,null,null,null,null,null,null,null,0,0,0,0,0,0,0,0]
[null,null,null,null,{"$f":"Input!E19","v":"Allowed uncertain costs (Mains and services replacement expenditure)"},{"$f":"Input!F19","v":"3E"},"£m 09/10 prices",{"$f":"Input!H19","v":"RE"},null,null,null,null,null,null,null,null,null,null,null,null,null,null,null,null,null,null,null,null,null,null,null,null,null,2.4255600000000002E-2,0.22293499999999997,0.44647999999999999,2.0841098374999998,2.0841098374999998,2.0841098374999998,2.0841098374999998,2.0841098374999998]
[null,null,null,null,{"$f":"Input!E20","v":"Allowed uncertain Costs (Large load connection costs)"},{"$f":"Input!F20","v":"3F"},"£m 09/10 prices",{"$f":"Input!H20","v":"IAELLC"},null,null,null,null,null,null,null,null,null,null,null,null,null,null,null,null,null,null,null,null,null,null,null,null,null,0,0,0,0,0,0,0,0]
[null,null,null,null,{"$f":"Input!E21","v":"Allowed innovation roll-out mechanism"},{"$f":"Input!F21","v":"3D"},"£m 09/10 prices",{"$f":"Input!H21","v":"IRM"},null,null,null,null,null,null,null,null,null,null,null,null,null,null,null,null,null,null,null,null,null,null,null,null,null,0,0,0,0,0,0,0,0]
[null,null,null,null,{"$f":"Input!E22","v":"NTS Exit Capacity costs"},{"$f":"Input!F22","v":"1D"},"£m 09/10 prices",{"$f":"Input!H22","v":"AEx"},null,null,null,null,null,null,null,null,null,null,null,null,null,null,null,null,null,null,null,null,null,null,null,null,null,45.04463248124469,46.729758312344238,46.729758312344238,46.729758312344238,46.729758312344238,46.729758312344238,46.729758312344238,46.729758312344238]
[null,null,null,null,{"$f":"Input!E23","v":"Shrinkage costs"},{"$f":"Input!F23","v":"1F"},"£m 09/10 prices",{"$f":"Input!H23","v":"ALSC"},null,null,null,null,null,null,null,null,null,null,null,null,null,null,null,null,null,null,null,null,null,null,null,null,null,13.306462915481955,13.1,13,12.68,12.48,12.28,12.06,11.56]
[null,null,null,null,{"$f":"Input!E24","v":"Tax liability allowance adjustments - gearing/interest costs"},{"$f":"Input!F24","v":"3C"},"£m nominal",{"$f":"Input!H24","v":"TGIE"},null,null,null,null,null,null,null,null,null,null,null,null,null,null,null,null,null,null,null,null,null,null,null,null,null,0,0.20850006819149455,0,0,0,0,0,0]
[null,null,null,null,{"$f":"Input!E25","v":"Tax liability allowance adjustments - driven by tax trigger events"},{"$f":"Input!F25","v":"3C"},"£m 09/10 prices",{"$f":"Input!H25","v":"TTE"},null,null,null,null,null,null,null,null,null,null,null,null,null,null,null,null,null,null,null,null,null,null,null,null,null,0,0,-0.96013619288979868,-0.53181786429011879,-3.0560120514272597,0,0,0]
[null,null,null,null,{"$f":"Input!E26","v":"Pension scheme administration and Pension Protection Fund Levy"},{"$f":"Input!F26","v":"3C"},"£m 09/10 prices",{"$f":"Input!H26","v":"APFE"},null,null,null,null,null,null,null,null,null,null,null,null,null,null,null,null,null,null,null,null,null,null,null,null,null,0.6885,0.6885,0.6885,0.6885,0.6885,0.6885,0.6885,0.6885]
[null,null,null,null,{"$f":"Input!E27","v":"Pension scheme deficit revenue allowances"},{"$f":"Input!F27","v":"3C"},"£m 09/10 prices",{"$f":"Input!H27","v":"EDE"},null,null,null,null,null,null,null,null,null,null,null,null,null,null,null,null,null,null,null,null,null,null,null,null,null,10.234397297311681,10.234397297311681,8.8982638338781488,8.8982638338781488,8.8982638338781488,8.8982638338781488,8.8982638338781488,8.8982638338781488]
[null,null,null,null,{"$f":"Input!E28","v":"Legacy price control allowed revenue adjustment"},{"$f":"Input!F28","v":"3A"},"£m 09/10 prices",{"$f":"Input!H28","v":"LAR"},null,null,null,null,null,null,null,null,null,null,null,null,null,null,null,null,null,null,null,null,null,null,null,null,null,3.4591948525339564]
[null,null,null,null,{"$f":"Input!E29","v":"Legacy price control RAV additions adjustment"},{"$f":"Input!F29","v":"3A"},"£m 09/10 prices",{"$f":"Input!H29","v":"LRAV"},null,null,null,null,null,null,null,null,null,null,null,null,null,null,null,null,null,null,null,null,null,null,null,null,null,-0.13080650403227295]
[]
[null,"Policy"]
[]
[null,null,"Cost of capital"]
[]
[null,null,null,null,"Cost of debt",null,"annual real %",null,null,null,null,null,null,null,null,null,null,null,null,null,null,null,null,null,null,null,null,null,null,null,null,null,null,{"$f":"AH8","v":2.92E-2},2.7199999999999998E-2,2.5499999999999998E-2,2.3800000000000002E-2,2.2200000000000001E-2,2.2200000000000001E-2,2.2200000000000001E-2,2.2200000000000001E-2]
[null,null,null,null,"Cost of equity",null,"annual real %",null,null,null,null,null,null,null,null,null,null,null,null,null,null,null,null,null,null,null,null,null,null,null,null,null,null,6.7000000000000004E-2,6.7000000000000004E-2,6.7000000000000004E-2,6.7000000000000004E-2,6.7000000000000004E-2,6.7000000000000004E-2,6.7000000000000004E-2,6.7000000000000004E-2]
[null,null,null,null,"Notional gearing",null,"%",null,null,">",null,null,null,null,null,null,null,null,null,null,null,null,null,null,null,null,null,null,null,null,null,null,0.625,0.65,0.65,0.65,0.65,0.65,0.65,0.65,0.65]
[]
[null,null,null,null,"Vanilla WACC",null,"annual real %",null,null,null,null,null,null,null,null,null,null,null,null,null,null,null,null,null,null,null,null,null,null,null,null,null,null,{"$f":"(AH35 * AH37) + (AH36 * (1 - AH37))","v":4.2429999999999995E-2},4.113E-2,4.0024999999999998E-2,3.8919999999999996E-2,3.7879999999999997E-2,3.7879999999999997E-2,3.7879999999999997E-2,3.7879999999999997E-2]
[]
[null,null,null,null,"Closing gearing",null,"%",null,0.625]
[]
[null,null,null,null,"Forecast RPI (simple average year to March)",null,"index value",null,null,">",null,null,null,null,null,null,null,null,null,null,null,173.875,177.517,182.47499999999999,188.15,193.108,200.31700000000001,208.59200000000001,214.78299999999999,215.767,226.47499999999999,{"$f":"ROUND(AVERAGE(234.4,235.2,235.2,234.7,236.1,237.9,238,238.5,239.4,238,239.9,240.8),3)","v":237.34200000000001},{"$f":"ROUND(AF43*(1+2.8%),3)","v":243.988},{"$f":"ROUND(AG43*(1+2.8%),3)","v":250.82},257.84300000000002,265.06299999999999,272.48500000000001,280.11500000000001,287.95800000000003,296.02100000000002,304.31]
[null,null,null,null,"Cost of Debt Inflation",null,"index value",null,null,">",null,null,null,null,null,null,null,null,null,null,null,173.875,177.517,182.47499999999999,188.15,193.108,200.31700000000001,208.59200000000001,214.78299999999999,215.767,226.47499999999999,{"$f":"ROUND(AVERAGE(234.4,235.2,235.2,234.7,236.1,237.9,238,238.5,239.4,238,239.9,240.8),3)","v":237.34200000000001},{"$f":"ROUND(AF44*(1+2.8%),3)","v":243.988},250.82,257.84300000000002,265.06299999999999,272.48500000000001,280.11500000000001,287.95800000000003,296.02100000000002,304.31]
[null,null,"TIM and capitalisation"]
[]
[null,null,null,null,"Years from t until normal reporting of actual costs",null,"years",null,2]
[]
[null,null,null,null,{"$f":"Input!E49","v":"Capitalised share of totex (excluding repex)"},null,"%",null,null,null,null,null,null,null,null,null,null,null,null,null,null,null,null,null,null,null,null,null,null,null,null,null,null,0.32230855902021693,0.32230855902021693,0.32230855902021693,0.32230855902021693,0.32230855902021693,0.32230855902021693,0.32230855902021693,0.32230855902021693]
[null,null,null,null,{"$f":"Input!E50","v":"Capitalised share of repex"},null,"%",null,null,null,null,null,null,null,null,null,null,null,null,null,null,null,null,null,null,null,null,null,null,null,null,null,null,0.5,0.5714285714285714,0.64285714285714279,0.71428571428571419,0.78571428571428559,0.85714285714285698,0.92857142857142838,1]
[]
[null,null,null,null,"Incentive rate (slope)",null,"scalar",null,-1.666666666666667E-3]
[null,null,null,null,"Incentive rate (intercept)",null,"scalar",null,0.81666666666666665]
[null,null,null,null,"Additional income (intercept)",null,"scalar",null,14.583333333333332]
[]
[null,null,null,null,"Weight of Ofgem's view on price control totex",null,"%",null,0.75]
[null,null,null,null,"Weight of operator's view on price control totex",null,"%",null,0.25]
[]
[null,null,null,null,"GD TIM group ratio",null,"scalar",null,107.61487551845596]
[]
[null,null,null,null,"Ofgem's view of  licensee totex",null,"£m 09/10 prices",null,2693.3563459747952]
[null,null,null,null,"Operator's view of licensee totex",null,"£m 09/10 prices",null,2899.4456886619305]
[]
[null,null,null,null,"Ofgem's view of group price control totex",null,"£m 09/10 prices",null,4013.9561311741991]
[null,null,null,null,"Operator's view of group price control totex",null,"£m 09/10 prices",null,4319.6138939285456]
[]
[null,null,"Finance"]
[]
[null,null,null,null,"Minimum equity issuance threshold",null,"%",null,0.05]
[null,null,null,null,"Equity issuance costs",null,"%",null,0.05]
[null,null,null,null,"Assumed dividends as % of notional equity portion of RAV",null,"%",null,0.05]
[]
[null,null,null,null,"Equity issuance gearing target",null,"%",null,null,null,null,null,null,null,null,null,null,null,null,null,null,null,null,null,null,null,null,null,null,null,null,null,null,{"$f":"AH37","v":0.65},{"$f":"AI37","v":0.65},0.65,0.65,0.65,0.65,0.65,0.65]
[]
[null,null,null,null,"Index-linked debt as a percentage of net debt",null,"%",null,null,null,null,null,null,null,null,null,null,null,null,null,null,null,null,null,null,null,null,null,null,null,null,null,null,0.25,0.25,0.25,0.25,0.25,0.25,0.25,0.25]
[]
[null,"Expenditure"]
[]
[null,null,"Totex"]
[]
[null,null,null,"Non-variant allowances"]
[]
[null,null,null,null,"Non-variant allowed load related capex",null,"£m 09/10 prices",null,null,null,null,null,null,null,null,null,null,null,null,null,null,null,null,null,null,null,null,null,null,null,null,null,null,30.945193190125718,34.737287558683661,37.470222897230208,38.293800126260749,38.850517864737071,41.565313971811428,38.67165642841951,37.768879101128377]
[null,null,null,null,"Non-variant allowed non-load related capex - other",null,"£m 09/10 prices",null,null,null,null,null,null,null,null,null,null,null,null,null,null,null,null,null,null,null,null,null,null,null,null,null,null,38.455843744146414,17.106509700016289,9.2570892302816414,15.568540229324945,23.082805300968985,19.68633589324654,11.324634824974073,9.2220492980794848]
[null,null,null,null,"Non-variant allowed controllable opex",null,"£m 09/10 prices",null,null,null,null,null,null,null,null,null,null,null,null,null,null,null,null,null,null,null,null,null,null,null,null,null,null,122.09747325343035,119.98744592405295,120.76848366078524,122.3578315961924,119.33765768687866,119.99821708198377,119.70042828652024,118.32976355254495]
[null,null,null,null,"Non-variant allowed repex",null,"£m 09/10 prices",null,null,null,null,null,null,null,null,null,null,null,null,null,null,null,null,null,null,null,null,null,null,null,null,null,null,156.38076266305822,154.83371631311647,155.0957873859729,155.88118180507195,156.05106295460232,156.58436247976849,143.58127558137963,143.95866487566369]
[]
[null,null,null,"Variant allowances"]
[]
[null,null,null,null,{"$f":"Input!E90","v":"Allowed uncertain costs (Enhanced physical site security)"},null,"£m 09/10 prices",null,null,null,null,null,null,null,null,null,null,null,null,null,null,null,null,null,null,null,null,null,null,null,null,null,null,{"$f":"AH13","v":1.3101388569039427},{"$f":"AI13","v":2.5599952510669004},4.8812719496795243,4.2366514814359917,3.8789755358395164,4.3933858845625355,0.184866219072335,0.184866219072335]
[null,null,null,null,{"$f":"Input!E91","v":"Allocation to load related capex"},null,"%",null,null,null,null,null,null,null,null,null,null,null,null,null,null,null,null,null,null,null,null,null,null,null,null,null,null,0,0,0,0,0,0,0,0]
[null,null,null,null,{"$f":"Input!E92","v":"Allocation to non-load related capex - other"},null,"%",null,null,null,null,null,null,null,null,null,null,null,null,null,null,null,null,null,null,null,null,null,null,null,null,null,null,1,1,1,1,1,1,1,1]
[null,null,null,null,{"$f":"Input!E93","v":"Allocation to controllable opex"},null,"%",null,null,null,null,null,null,null,null,null,null,null,null,null,null,null,null,null,null,null,null,null,null,null,null,null,null,0,0,0,0,0,0,0,0]
[null,null,null,null,{"$f":"Input!E94","v":"Allocation to repex"},null,"%",null,null,null,null,null,null,null,null,null,null,null,null,null,null,null,null,null,null,null,null,null,null,null,null,null,null,0,0,0,0,0,0,0,0]
[]
[null,null,null,null,{"$f":"Input!E96","v":"Allowed uncertain costs (Specified street work costs)"},null,"£m 09/10 prices",null,null,null,null,null,null,null,null,null,null,null,null,null,null,null,null,null,null,null,null,null,null,null,null,null,null,{"$f":"AH14","v":7.7002461477061521},7.5790230454324519,7.4710557195644371,7.3709723266095368,7.2802145873801933,7.1972255359543666,7.1220291538623615,7.0518081470324212]
[null,null,null,null,{"$f":"Input!E97","v":"Allocation to load related capex"},null,"%",null,null,null,null,null,null,null,null,null,null,null,null,null,null,null,null,null,null,null,null,null,null,null,null,null,null,0.05,0.05,0.05,0.05,0.05,0.05,0.05,0.05]
[null,null,null,null,{"$f":"Input!E98","v":"Allocation to non-load related capex - other"},null,"%",null,null,null,null,null,null,null,null,null,null,null,null,null,null,null,null,null,null,null,null,null,null,null,null,null,null,0,0,0,0,0,0,0,0]
[null,null,null,null,{"$f":"Input!E99","v":"Allocation to controllable opex"},null,"%",null,null,null,null,null,null,null,null,null,null,null,null,null,null,null,null,null,null,null,null,null,null,null,null,null,null,0.3,0.3,0.3,0.3,0.3,0.3,0.3,0.3]
[null,null,null,null,{"$f":"Input!E100","v":"Allocation to repex"},null,"%",null,null,null,null,null,null,null,null,null,null,null,null,null,null,null,null,null,null,null,null,null,null,null,null,null,null,0.65,0.65,0.65,0.65,0.65,0.65,0.65,0.65]
[]
[null,null,null,null,{"$f":"Input!E102","v":"Allowed uncertain costs (Connection charging boundary change costs)"},null,"£m 09/10 prices",null,null,null,null,null,null,null,null,null,null,null,null,null,null,null,null,null,null,null,null,null,null,null,null,null,null,{"$f":"AH15","v":0},{"$f":"AI15","v":0},0,0,0,0,0,0]
[null,null,null,null,{"$f":"Input!E103","v":"Allocation to load related capex"},null,"%",null,null,null,null,null,null,null,null,null,null,null,null,null,null,null,null,null,null,null,null,null,null,null,null,null,null,0.9,0.9,0.9,0.9,0.9,0.9,0.9,0.9]
[null,null,null,null,{"$f":"Input!E104","v":"Allocation to non-load related capex - other"},null,"%",null,null,null,null,null,null,null,null,null,null,null,null,null,null,null,null,null,null,null,null,null,null,null,null,null,null,0,0,0,0,0,0,0,0]
[null,null,null,null,{"$f":"Input!E105","v":"Allocation to controllable opex"},null,"%",null,null,null,null,null,null,null,null,null,null,null,null,null,null,null,null,null,null,null,null,null,null,null,null,null,null,0.1,0.1,0.1,0.1,0.1,0.1,0.1,0.1]
[null,null,null,null,{"$f":"Input!E106","v":"Allocation to repex"},null,"%",null,null,null,null,null,null,null,null,null,null,null,null,null,null,null,null,null,null,null,null,null,null,null,null,null,null,0,0,0,0,0,0,0,0]
[]
[null,null,null,null,{"$f":"Input!E108","v":"Allowed uncertain costs (Fuel poor network extension scheme)"},null,"£m 09/10 prices",null,null,null,null,null,null,null,null,null,null,null,null,null,null,null,null,null,null,null,null,null,null,null,null,null,null,{"$f":"AH16","v":1.5873146292495859},{"$f":"AI16","v":1.8562838933978636},1.9282832521585289,2.2483220222611893,2.3046429983634034,2.3007313934290448,2.3870019094937418,2.3829428855296331]
[null,null,null,null,{"$f":"Input!E109","v":"Allocation to load related capex"},null,"%",null,null,null,null,null,null,null,null,null,null,null,null,null,null,null,null,null,null,null,null,null,null,null,null,null,null,1,1,1,1,1,1,1,1]
[null,null,null,null,{"$f":"Input!E110","v":"Allocation to non-load related capex - other"},null,"%",null,null,null,null,null,null,null,null,null,null,null,null,null,null,null,null,null,null,null,null,null,null,null,null,null,null,0,0,0,0,0,0,0,0]
[null,null,null,null,{"$f":"Input!E111","v":"Allocation to controllable opex"},null,"%",null,null,null,null,null,null,null,null,null,null,null,null,null,null,null,null,null,null,null,null,null,null,null,null,null,null,0,0,0,0,0,0,0,0]
[null,null,null,null,{"$f":"Input!E112","v":"Allocation to repex"},null,"%",null,null,null,null,null,null,null,null,null,null,null,null,null,null,null,null,null,null,null,null,null,null,null,null,null,null,0,0,0,0,0,0,0,0]
[]
[null,null,null,null,{"$f":"Input!E114","v":"Allowed uncertain costs (Central agent)"},null,"£m 09/10 prices",null,null,null,null,null,null,null,null,null,null,null,null,null,null,null,null,null,null,null,null,null,null,null,null,null,null,{"$f":"AH17","v":-8.5638193425552345E-7},2.1855929718469724E-2,0.21097046957925336,0.21405247140421224,-2.6075374445496067,-3.9280376469554019,-5.181692357990487,-5.8236461923471445]
[null,null,null,null,{"$f":"Input!E115","v":"Allocation to load related capex"},null,"%",null,null,null,null,null,null,null,null,null,null,null,null,null,null,null,null,null,null,null,null,null,null,null,null,null,null,0,0,0,0,0,0,0,0]
[null,null,null,null,{"$f":"Input!E116","v":"Allocation to non-load related capex - other"},null,"%",null,null,null,null,null,null,null,null,null,null,null,null,null,null,null,null,null,null,null,null,null,null,null,null,null,null,0.15,0.15,0.15,0.15,0.15,0.15,0.15,0.15]
[null,null,null,null,{"$f":"Input!E117","v":"Allocation to controllable opex"},null,"%",null,null,null,null,null,null,null,null,null,null,null,null,null,null,null,null,null,null,null,null,null,null,null,null,null,null,0.85,0.85,0.85,0.85,0.85,0.85,0.85,0.85]
[null,null,null,null,{"$f":"Input!E118","v":"Allocation to repex"},null,"%",null,null,null,null,null,null,null,null,null,null,null,null,null,null,null,null,null,null,null,null,null,null,null,null,null,null,0,0,0,0,0,0,0,0]
[]
[null,null,null,null,{"$f":"Input!E120","v":"Allowed uncertain costs (Smart metering roll out costs)"},null,"£m 09/10 prices",null,null,null,null,null,null,null,null,null,null,null,null,null,null,null,null,null,null,null,null,null,null,null,null,null,null,{"$f":"AH18","v":0},0,0,0,0,0,0,0]
[null,null,null,null,{"$f":"Input!E121","v":"Allocation to load related capex"},null,"%",null,null,null,null,null,null,null,null,null,null,null,null,null,null,null,null,null,null,null,null,null,null,null,null,null,null,0,0,0,0,0,0,0,0]
[null,null,null,null,{"$f":"Input!E122","v":"Allocation to non-load related capex - other"},null,"%",null,null,null,null,null,null,null,null,null,null,null,null,null,null,null,null,null,null,null,null,null,null,null,null,null,null,0,0,0,0,0,0,0,0]
[null,null,null,null,{"$f":"Input!E123","v":"Allocation to controllable opex"},null,"%",null,null,null,null,null,null,null,null,null,null,null,null,null,null,null,null,null,null,null,null,null,null,null,null,null,null,0.5,0.5,0.5,0.5,0.5,0.5,0.5,0.5]
[null,null,null,null,{"$f":"Input!E124","v":"Allocation to repex"},null,"%",null,null,null,null,null,null,null,null,null,null,null,null,null,null,null,null,null,null,null,null,null,null,null,null,null,null,0.5,0.5,0.5,0.5,0.5,0.5,0.5,0.5]
[]
[null,null,null,null,{"$f":"Input!E126","v":"Allowed uncertain costs (Mains and services replacement expenditure)"},null,"£m 09/10 prices",null,null,null,null,null,null,null,null,null,null,null,null,null,null,null,null,null,null,null,null,null,null,null,null,null,null,{"$f":"AH19","v":2.4255600000000002E-2},{"$f":"AI19","v":0.22293499999999997},0.44647999999999999,2.0841098374999998,2.0841098374999998,2.0841098374999998,2.0841098374999998,2.0841098374999998]
[null,null,null,null,{"$f":"Input!E127","v":"Allocation to load related capex"},null,"%",null,null,null,null,null,null,null,null,null,null,null,null,null,null,null,null,null,null,null,null,null,null,null,null,null,null,0,0,0,0,0,0,0,0]
[null,null,null,null,{"$f":"Input!E128","v":"Allocation to non-load related capex - other"},null,"%",null,null,null,null,null,null,null,null,null,null,null,null,null,null,null,null,null,null,null,null,null,null,null,null,null,null,0,0,0,0,0,0,0,0]
[null,null,null,null,{"$f":"Input!E129","v":"Allocation to controllable opex"},null,"%",null,null,null,null,null,null,null,null,null,null,null,null,null,null,null,null,null,null,null,null,null,null,null,null,null,null,0,0,0,0,0,0,0,0]
[null,null,null,null,{"$f":"Input!E130","v":"Allocation to repex"},null,"%",null,null,null,null,null,null,null,null,null,null,null,null,null,null,null,null,null,null,null,null,null,null,null,null,null,null,1,1,1,1,1,1,1,1]
[]
[null,null,null,null,{"$f":"Input!E132","v":"Allowed uncertain Costs (Large load connection costs)"},null,"£m 09/10 prices",null,null,null,null,null,null,null,null,null,null,null,null,null,null,null,null,null,null,null,null,null,null,null,null,null,null,{"$f":"AH20","v":0},{"$f":"AI20","v":0},{"$f":"AJ20","v":0},0,{"$f":"AL20","v":0},0,0,0]
[null,null,null,null,{"$f":"Input!E133","v":"Allocation to load related capex"},null,"%",null,null,null,null,null,null,null,null,null,null,null,null,null,null,null,null,null,null,null,null,null,null,null,null,null,null,1,1,1,1,1,1,1,1]
[null,null,null,null,{"$f":"Input!E134","v":"Allocation to non-load related capex - other"},null,"%",null,null,null,null,null,null,null,null,null,null,null,null,null,null,null,null,null,null,null,null,null,null,null,null,null,null,0,0,0,0,0,0,0,0]
[null,null,null,null,{"$f":"Input!E135","v":"Allocation to controllable opex"},null,"%",null,null,null,null,null,null,null,null,null,null,null,null,null,null,null,null,null,null,null,null,null,null,null,null,null,null,0,0,0,0,0,0,0,0]
[null,null,null,null,{"$f":"Input!E136","v":"Allocation to repex"},null,"%",null,null,null,null,null,null,null,null,null,null,null,null,null,null,null,null,null,null,null,null,null,null,null,null,null,null,0,0,0,0,0,0,0,0]
[]
[null,null,null,null,{"$f":"Input!E138","v":"Allowed innovation roll-out mechanism"},null,"£m 09/10 prices",null,null,null,null,null,null,null,null,null,null,null,null,null,null,null,null,null,null,null,null,null,null,null,null,null,null,{"$f":"AH21","v":0},{"$f":"AI21","v":0},0,0,0,0,0,0]
[null,null,null,null,{"$f":"Input!E139","v":"Allocation to load related capex"},null,"%",null,null,null,null,null,null,null,null,null,null,null,null,null,null,null,null,null,null,null,null,null,null,null,null,null,null,0.5,0.5,0.5,0.5,0.5,0.5,0.5,0.5]
[null,null,null,null,{"$f":"Input!E140","v":"Allocation to non-load related capex - other"},null,"%",null,null,null,null,null,null,null,null,null,null,null,null,null,null,null,null,null,null,null,null,null,null,null,null,null,null,0,0,0,0,0,0,0,0]
[null,null,null,null,{"$f":"Input!E141","v":"Allocation to controllable opex"},null,"%",null,null,null,null,null,null,null,null,null,null,null,null,null,null,null,null,null,null,null,null,null,null,null,null,null,null,0.5,0.5,0.5,0.5,0.5,0.5,0.5,0.5]
[null,null,null,null,{"$f":"Input!E142","v":"Allocation to repex"},null,"%",null,null,null,null,null,null,null,null,null,null,null,null,null,null,null,null,null,null,null,null,null,null,null,null,null,null,0,0,0,0,0,0,0,0]
[]
[null,null,null,null,"Variant allowed load related capex",null,"£m 09/10 prices",null,null,null,null,null,null,null,null,null,null,null,null,null,null,null,null,null,null,null,null,null,null,null,null,null,null,{"$f":"(AH$90*AH91) + (AH$96*AH97) + (AH$102*AH103) + (AH$108*AH109) + (AH$114*AH115) + (AH$120*AH121)      + (AH$126 * AH127) + (AH$132*AH133) + (AH$138*AH139)","v":1.9723269366348934},{"$f":"(AI$90*AI91) + (AI$96*AI97) + (AI$102*AI103) + (AI$108*AI109) + (AI$114*AI115) + (AI$120*AI121)      + (AI$126 * AI127) + (AI$132*AI133) + (AI$138*AI139)","v":2.2352350456694863},2.3018360381367509,2.6168706385916662,2.6686537277324129,2.6605926702267633,2.7431033671868601,2.7355332928812541]
[null,null,null,null,"Variant allowed non-load related capex - other",null,"£m 09/10 prices",null,null,null,null,null,null,null,null,null,null,null,null,null,null,null,null,null,null,null,null,null,null,null,null,null,null,{"$f":"(AH$90*AH92) + (AH$96*AH98) + (AH$102*AH104) + (AH$108*AH110) + (AH$114*AH116) + (AH$120*AH122)      + (AH$126 * AH128) + (AH$132*AH134) + (AH$138*AH140)","v":1.3101387284466526},2.5632736405246708,4.9129175201164124,4.2687593521466232,3.4878449191570753,3.8041802375192253,-0.592387634626238,-0.68868070977973661]
[null,null,null,null,"Variant allowed controllable opex",null,"£m 09/10 prices",null,null,null,null,null,null,null,null,null,null,null,null,null,null,null,null,null,null,null,null,null,null,null,null,null,null,{"$f":"(AH$90*AH93) + (AH$96*AH99) + (AH$102*AH105) + (AH$108*AH111) + (AH$114*AH117) + (AH$120*AH123)      + (AH$126 * AH129) + (AH$132*AH135) + (AH$138*AH141)","v":2.3100731163872013},2.292284453890435,2.4206416150116965,2.3932362986764413,-3.2342451653107673E-2,-1.1796643391257819,-2.2678297581332054,-2.8345568193853463]
[null,null,null,null,"Variant allowed repex",null,"£m 09/10 prices",null,null,null,null,null,null,null,null,null,null,null,null,null,null,null,null,null,null,null,null,null,null,null,null,null,null,{"$f":"(AH$90*AH94) + (AH$96*AH100) + (AH$102*AH106) + (AH$108*AH112) + (AH$114*AH118) + (AH$120*AH124)      + (AH$126 * AH130) + (AH$132*AH136) + (AH$138*AH142)","v":5.0294155960089988},5.1492999795310936,5.3026662177168848,6.8752418497961987,6.8162493192971256,6.7623064358703386,6.7134287875105345,6.6677851330710736]
[]
[null,null,null,"Actual"]
[]
[null,null,null,null,"Actual load related capex",null,"£m 09/10 prices",null,null,null,null,null,null,null,null,null,null,null,null,null,null,null,null,null,null,null,null,null,null,null,null,null,null,{"$f":"AH9","v":25.672822874513621},26.977280683629704,36.130661029383617,0,0,0,0,0]
[null,null,null,null,"Actual non-load related capex - other",null,"£m 09/10 prices",null,null,null,null,null,null,null,null,null,null,null,null,null,null,null,null,null,null,null,null,null,null,null,null,null,null,16.19122740433713,30.307651018024444,23.593113934637632,0,0,0,0,0]
[null,null,null,null,"Actual controllable opex",null,"£m 09/10 prices",null,null,null,null,null,null,null,null,null,null,null,null,null,null,null,null,null,null,null,null,null,null,null,null,null,null,93.462237720216791,91.045211486309995,93.518218567630484,0,0,0,0,0]
[null,null,null,null,"Actual repex",null,"£m 09/10 prices",null,null,null,null,null,null,null,null,null,null,null,null,null,null,null,null,null,null,null,null,null,null,null,null,null,null,132.42848890213799,132.46119185195886,125.94678228310627,0,0,0,0,0]
[]
[null,null,"Non-totex"]
[]
[null,null,null,null,"Non-controllable opex (Other)",null,"£m 09/10 prices",null,null,null,null,null,null,null,null,null,null,null,null,null,null,null,null,null,null,null,null,null,null,null,null,null,null,60.261571707170376,60.261571707170368,60.261571707170368,60.261571707170376,60.261571707170354,60.261571707170376,60.261571707170361,60.261571707170361]
[null,null,null,null,"Non-controllable opex (Exit Charges)",null,"£m 09/10 prices",null,null,null,null,null,null,null,null,null,null,null,null,null,null,null,null,null,null,null,null,null,null,null,null,null,null,{"$f":"AH22","v":45.04463248124469},{"$f":"AI22","v":46.729758312344238},46.729758312344238,46.729758312344238,46.729758312344238,46.729758312344238,46.729758312344238,46.729758312344238]
[null,null,null,null,"Non-controllable opex (Shrinkage)",null,"£m 09/10 prices",null,null,null,null,null,null,null,null,null,null,null,null,null,null,null,null,null,null,null,null,null,null,null,null,null,null,{"$f":"AH23","v":13.306462915481955},13.1,13,12.68,12.48,12.28,12.06,11.56]
[null,null,null,null,"Non-controllable opex",null,"£m 09/10 prices",null,null,null,null,null,null,null,null,null,null,null,null,null,null,null,null,null,null,null,null,null,null,null,null,null,null,{"$f":"SUM(AH158:AH160)","v":118.61266710389702},{"$f":"SUM(AI158:AI160)","v":120.0913300195146},119.99133001951461,119.67133001951461,119.4713300195146,119.27133001951461,119.05133001951461,118.55133001951461]
[]
[null,"Direct allowed revenue terms (DARTs)"]
[]
[null,null,null,null,{"$f":"E26","v":"Pension scheme administration and Pension Protection Fund Levy"},null,"£m 09/10 prices",null,null,null,null,null,null,null,null,null,null,null,null,null,null,null,null,null,null,null,null,null,null,null,null,null,null,{"$f":"AH26","v":0.6885},0.6885,0.6885,0.6885,0.6885,0.6885,0.6885,0.6885]
[null,null,null,null,{"$f":"E27","v":"Pension scheme deficit revenue allowances"},null,"£m 09/10 prices",null,null,null,null,null,null,null,null,null,null,null,null,null,null,null,null,null,null,null,null,null,null,null,null,null,null,{"$f":"AH27","v":10.234397297311681},10.234397297311681,8.8982638338781488,8.8982638338781488,8.8982638338781488,8.8982638338781488,8.8982638338781488,8.8982638338781488]
[]
[null,null,null,null,"Pension true-up from previous price controls",null,"£m 09/10 prices",null,17.374429342131151,null,null,null,null,null,null,null,null,null,null,null,null,null,null,null,null,null,null,null,null,null,null,null,null,{"$f":"($I$168/8)","v":2.1718036677663939},{"$f":"($I$168/8)*(1+$AI$39)","v":2.2611299526216255},{"$f":"($I$168/8)*(1+$AI$39)*(1+$AJ$39)","v":2.351631678975306},{"$f":"($I$168/8)*(1+$AI$39)*(1+$AJ$39)*(1+$AK$39)","v":2.4431571839210249},{"$f":"($I$168/8)*(1+$AI$39)*(1+$AJ$39)*(1+$AK$39)*(1+$AL$39)","v":2.5357039780479531},{"$f":"($I$168/8)*(1+$AI$39)*(1+$AJ$39)*(1+$AK$39)*(1+$AL$39)*(1+$AM$39)","v":2.6317564447364092},{"$f":"($I$168/8)*(1+$AI$39)*(1+$AJ$39)*(1+$AK$39)*(1+$AL$39)*(1+$AM$39)*(1+$AN$39)","v":2.7314473788630242},{"$f":"($I$168/8)*(1+$AI$39)*(1+$AJ$39)*(1+$AK$39)*(1+$AL$39)*(1+$AM$39)*(1+$AN$39)*(1+$AO$39)","v":2.8349146055743555}]
[]
[null,null,null,null,{"$f":"Input!E170","v":"Revenue adjustment from previous controls (Base)"},null,"£m 09/10 prices",null,6.8212430254061136,null,null,null,null,null,null,null,null,null,null,null,null,null,null,null,null,null,null,null,null,null,null,null,null,{"$f":"($I$170/8)","v":0.8526553781757642},{"$f":"($I$170/8)*(1+$AI$39)","v":0.88772509388013332},{"$f":"($I$170/8)*(1+$AI$39)*(1+$AJ$39)","v":0.92325629076268567},{"$f":"($I$170/8)*(1+$AI$39)*(1+$AJ$39)*(1+$AK$39)","v":0.95918942559916942},{"$f":"($I$170/8)*(1+$AI$39)*(1+$AJ$39)*(1+$AK$39)*(1+$AL$39)","v":0.99552352104086583},{"$f":"($I$170/8)*(1+$AI$39)*(1+$AJ$39)*(1+$AK$39)*(1+$AL$39)*(1+$AM$39)","v":1.0332339520178937},{"$f":"($I$170/8)*(1+$AI$39)*(1+$AJ$39)*(1+$AK$39)*(1+$AL$39)*(1+$AM$39)*(1+$AN$39)","v":1.0723728541203315},{"$f":"($I$170/8)*(1+$AI$39)*(1+$AJ$39)*(1+$AK$39)*(1+$AL$39)*(1+$AM$39)*(1+$AN$39)*(1+$AO$39)","v":1.1129943378344096}]
[null,null,null,null,{"$f":"Input!E171","v":"Legacy price control allowed revenue adjustment"},null,"£m 09/10 prices",null,null,null,null,null,null,null,null,null,null,null,null,null,null,null,null,null,null,null,null,null,null,null,null,null,null,{"$f":"($AH$28/8)","v":0.43239935656674455},{"$f":"($AH$28/8)*(1+$AI$39)","v":0.4501839421023347},{"$f":"($AH$28/8)*(1+$AI$39)*(1+$AJ$39)","v":0.46820255438498065},{"$f":"($AH$28/8)*(1+$AI$39)*(1+$AJ$39)*(1+$AK$39)","v":0.48642499780164411},{"$f":"($AH$28/8)*(1+$AI$39)*(1+$AJ$39)*(1+$AK$39)*(1+$AL$39)","v":0.50485077671837031},{"$f":"($AH$28/8)*(1+$AI$39)*(1+$AJ$39)*(1+$AK$39)*(1+$AL$39)*(1+$AM$39)","v":0.52397452414046208},{"$f":"($AH$28/8)*(1+$AI$39)*(1+$AJ$39)*(1+$AK$39)*(1+$AL$39)*(1+$AM$39)*(1+$AN$39)","v":0.54382267911490279},{"$f":"($AH$28/8)*(1+$AI$39)*(1+$AJ$39)*(1+$AK$39)*(1+$AL$39)*(1+$AM$39)*(1+$AN$39)*(1+$AO$39)","v":0.56442268219977521}]
[null,null,null,null,"Revenue adjustment from previous controls",null,"£m 09/10 prices",null,null,null,null,null,null,null,null,null,null,null,null,null,null,null,null,null,null,null,null,null,null,null,null,null,null,{"$f":"AH170+AH171","v":1.2850547347425088},{"$f":"AI170+AI171","v":1.3379090359824679},1.3914588451476664,1.4456144234008135,1.5003742977592363,1.5572084761583558,1.6161955332352342,1.6774170200341847]
[]
[null,null,null,null,"Excluded services revenue",null,"£m 09/10 prices",null,null,null,null,null,null,null,null,null,null,null,null,null,null,null,null,null,null,null,null,null,null,null,null,null,null,0.22040473872096469,0.31813028330689508,0.46319769249483916,0.55554773243599764,0.56221430522522964,0.5689608768879324,0.57521944653369972,0.58154686044557036]
[null,null,null,null,"Identified excluded services costs",null,"£m 09/10 prices",null,null,null,null,null,null,null,null,null,null,null,null,null,null,null,null,null,null,null,null,null,null,null,null,null,null,0.22040473872096469,0.31813028330689508,0.46319769249483916,0.55554773243599764,0.56221430522522964,0.5689608768879324,0.57521944653369972,0.58154686044557036]
[null,null,null,null,"Excluded services",null,"£m 09/10 prices",null,null,null,null,null,null,null,null,null,null,null,null,null,null,null,null,null,null,null,null,null,null,null,null,null,null,{"$f":"SUM(AH174, -AH175)","v":0},{"$f":"SUM(AI174, -AI175)","v":0},0,0,0,0,0,0]
[]
[null,"RAV and assets"]
[]
[null,null,"Pre-vesting assets"]
[]
[null,null,null,null,"Pre-vesting RAV cost opening balance brought forward (before transfers)",null,"£m 09/10 prices",null,null,null,null,null,null,null,null,null,null,null,null,null,null,null,null,null,null,null,null,null,null,null,null,null,null,2285.6136961832772]
[null,null,null,null,"Pre-vesting RAV cumulative depreciation opening balance brought forward (before transfers)",null,"£m 09/10 prices",null,null,null,null,null,null,null,null,null,null,null,null,null,null,null,null,null,null,null,null,null,null,null,null,null,null,803.77764423851067]
[]
[null,null,null,null,"Pre-vesting asset life",null,"years",null,56]
[null,null,null,null,"Pre-vesting RAV disposals",null,"£m 09/10 prices",null,null,null,null,null,null,null,null,null,null,null,null,null,null,null,null,null,null,null,null,null,null,null,null,null,null,0.30137441045147889,0.2,0,0,0,0,0,0]
[null,null,null,null,"RAV adjustments from previous price controls (not modelled in PCFM)",null,"years",null,null,null,null,null,null,null,null,null,null,null,null,null,null,null,null,null,null,null,null,null,null,null,null,null,null,45,44,43,42,41,40,39,38]
[]
[null,null,"Post-vesting assets"]
[]
[null,null,null,null,"Gas distribution"]
[null,null,null,null,{"$f":"Input!E192","v":"GD post-vesting asset life"},null,"years",null,45]
[null,null,null,null,{"$f":"Input!E193","v":"GD smoothing profile for recovery of backlog depreciation"},null,"years",null,null,null,null,null,null,null,null,null,null,null,null,null,null,null,null,null,null,null,null,null,null,null,null,null,null,0.15,0.15,2.5000000000000001E-2,0,0.05,0.125,0.2,0.3]
[null,null,null,null,{"$f":"Input!E194","v":"GD start of smoothing period"},null,"year ending",null,"2014-03-31"]
[null,null,null,null,{"$f":"Input!E195","v":"Pre-RIIO net additions to RAV"},null,"£m 09/10 prices",null,null,">",null,null,null,null,null,null,null,null,null,null,null,null,78.995830830416139,77.319823104169686,82.347846282909046,73.574223470596948,82.985135314779228,197.45930314420676,203.40939056758543,179.53982297510674,190.73969639553752,217.78546747011956,145.91588488918524]
[null,null,null,null,"LRAV",null,"£m 09/10 prices",null,null,null,null,null,null,null,null,null,null,null,null,null,null,null,null,null,null,null,null,null,null,null,null,null,null,{"$f":"AH29","v":-0.13080650403227295}]
[null,null,null,null,"RIIO post-vesting RAV additions",null,"£m 09/10 prices",null,null,null,null,null,null,null,null,null,null,null,null,null,null,null,null,null,null,null,null,null,null,null,null,null,null,0,0,0,0,0,0,0,0]
[null,null,null,null,"RIIO post-vesting RAV disposals",null,null,null,null,null,null,null,null,null,null,null,null,null,null,null,null,null,null,null,null,null,null,null,null,null,null,null,null,0,0,-0.28581565294182582,0,0,0,0,0]
[null,null,null,null,{"$f":"Input!E199","v":"Pre-RIIO transfers to depreciation"},null,"£m 09/10 prices",null,null,">",null,null,null,null,null,null,null,null,null,null,null,0,0,0,0,0,0,3.2406235989719447,2.5632304815449327,0.98595846248812158,2.347846399121722,7.3042560630027475,0]
[]
[null,null,"Fuel Poor"]
[]
[null,null,null,null,"Post-vesting asset life",null,"years",null,45]
[null,null,null,null,"Years additional customer discount applied",null,"years",null,5]
[]
[null,null,null,null,"NPV of future transportation revenue",null,"£m 09/10 prices",null,null,">",null,null,null,null,null,null,null,null,null,null,null,null,null,null,null,null,null,null,0,0,0,0,0]
[null,null,null,null,"Community based schemes actual capex spend",null,"£m 09/10 prices",null,null,">",null,null,null,null,null,null,null,null,null,null,null,null,null,null,null,null,null,null,0,0,0,1.6981939816804461E-3,0]
[]
[null,null,null,null,"One off schemes actual capex spend",null,"£m 09/10 prices",null,null,">",null,null,null,null,null,null,null,null,null,null,null,null,null,null,null,null,null,null,0,0.59965702238120511,0.87072441847629145,0.67421028364975433,1.2558781993567205]
[]
[null,"Tax"]
[]
[null,null,"Tax policy"]
[]
[null,null,null,null,{"$f":"E24","v":"Tax liability allowance adjustments - gearing/interest costs"},null,"£m nominal",null,null,null,null,null,null,null,null,null,null,null,null,null,null,null,null,null,null,null,null,null,null,null,null,null,null,{"$f":"AH24","v":0},{"$f":"AI24","v":0.20850006819149455},0,0,0,0,0,0]
[null,null,null,null,{"$f":"E25","v":"Tax liability allowance adjustments - driven by tax trigger events"},null,"£m 09/10 prices",null,null,null,null,null,null,null,null,null,null,null,null,null,null,null,null,null,null,null,null,null,null,null,null,null,null,{"$f":"AH25","v":0},0,-0.96013619288979868,-0.53181786429011879,-3.0560120514272597,0,0,0]
[]
[null,null,null,null,"Corporation tax rate",null,"%",null,null,">",null,null,null,null,null,null,null,null,null,null,null,null,null,null,0.3,0.3,0.3,0.3,0.28000000000000003,0.28000000000000003,0.28000000000000003,0.26,0.24,0.23,0.21,0.21,0.21,0.21,0.21,0.21,0.21]
[]
[null,null,null,null,"General pool capital allowance rate",null,"%",null,null,">",null,null,null,null,null,null,null,null,null,null,null,0.25,0.25,0.25,0.25,0.25,0.25,0.25,0.2,0.2,0.2,0.2,0.18000000000000002,0.18000000000000002,0.18000000000000002,0.18000000000000002,0.18000000000000002,0.18000000000000002,0.18000000000000002,0.18000000000000002,0.18000000000000002]
[null,null,null,null,"Special Rates capital allowance rate",null,"%",null,null,">",null,null,null,null,null,null,null,null,null,null,null,0.06,0.06,0.06,0.06,0.06,0.06,0.06,0.1,0.1,0.1,0.1,0.08,0.08,0.08,0.08,0.08,0.08,0.08,0.08,0.08]
[null,null,null,null,"Deferred Revenue Expenditure capital allowance rate",null,"%",null,null,">",null,null,null,null,null,null,null,null,null,null,null,null,null,null,null,null,null,null,null,null,null,null,null,2.2200000000000001E-2,2.2200000000000001E-2,2.2200000000000001E-2,2.2200000000000001E-2,2.2200000000000001E-2,2.2200000000000001E-2,2.2200000000000001E-2,2.2200000000000001E-2]
[]
[null,null,"Capital allowances and tax losses"]
[]
[null,null,null,null,"General pool capital allowance opening balance brought forward",null,"£m nominal",null,null,null,null,null,null,null,null,null,null,null,null,null,null,null,null,null,null,null,null,null,null,null,null,null,null,69.425628000000017]
[]
[null,null,null,null,"Special Rate capital allowance opening balance brought forward",null,"£m nominal",null,null,null,null,null,null,null,null,null,null,null,null,null,null,null,null,null,null,null,null,null,null,null,null,null,null,420.71599999999995]
[]
[null,null,null,null,"Deferred revenue expenditure opening balance brought forward",null,"£m nominal",null,null,null,null,null,null,null,null,null,null,null,null,null,null,null,null,null,null,null,null,null,null,null,null,null,null,0]
[]
[null,null,null,null,"Tax loss brought forward",null,"£m nominal",null,null,null,null,null,null,null,null,null,null,null,null,null,null,null,null,null,null,null,null,null,null,null,null,null,null,106.04449947153985]
[]
[null,null,"Tax pool allocation"]
[]
[null,null,null,"Allocation to \"General\" pool"]
[]
[null,null,null,null,"Load Related",null,"%",null,null,null,null,null,null,null,null,null,null,null,null,null,null,null,null,null,null,null,null,null,null,null,null,null,null,2.8999999999999998E-3,2.8999999999999998E-3,2.8999999999999998E-3,2.8999999999999998E-3,2.8999999999999998E-3,2.8999999999999998E-3,2.8999999999999998E-3,2.8999999999999998E-3]
[null,null,null,null,"Non-Load Related - other",null,"%",null,null,null,null,null,null,null,null,null,null,null,null,null,null,null,null,null,null,null,null,null,null,null,null,null,null,0.89756098390240724,0.89756098390240724,0.89756098390240724,0.89756098390240724,0.89756098390240724,0.89756098390240724,0.89756098390240724,0.89756098390240724]
[null,null,null,null,"Opex",null,"%",null,null,null,null,null,null,null,null,null,null,null,null,null,null,null,null,null,null,null,null,null,null,null,null,null,null,0,0,0,0,0,0,0,0]
[null,null,null,null,"Repex",null,"%",null,null,null,null,null,null,null,null,null,null,null,null,null,null,null,null,null,null,null,null,null,null,null,null,null,null,0,0,0,0,0,0,0,0]
[]
[null,null,null,"Allocation to \"Special Rate\" pool"]
[]
[null,null,null,null,"Load Related",null,"%",null,null,null,null,null,null,null,null,null,null,null,null,null,null,null,null,null,null,null,null,null,null,null,null,null,null,0.98870000000000002,0.98870000000000002,0.98870000000000002,0.98870000000000002,0.98870000000000002,0.98870000000000002,0.98870000000000002,0.98870000000000002]
[null,null,null,null,"Non-Load Related - other",null,"%",null,null,null,null,null,null,null,null,null,null,null,null,null,null,null,null,null,null,null,null,null,null,null,null,null,null,1.6271113794003381E-2,1.6271113794003381E-2,1.6271113794003381E-2,1.6271113794003381E-2,1.6271113794003381E-2,1.6271113794003381E-2,1.6271113794003381E-2,1.6271113794003381E-2]
[null,null,null,null,"Opex",null,"%",null,null,null,null,null,null,null,null,null,null,null,null,null,null,null,null,null,null,null,null,null,null,null,null,null,null,0,0,0,0,0,0,0,0]
[null,null,null,null,"Repex",null,"%",null,null,null,null,null,null,null,null,null,null,null,null,null,null,null,null,null,null,null,null,null,null,null,null,null,null,0,0,0,0,0,0,0,0]
[]
[null,null,null,"Allocation to \"Deferred Revenue\" pool"]
[]
[null,null,null,null,"Load Related",null,"%",null,null,null,null,null,null,null,null,null,null,null,null,null,null,null,null,null,null,null,null,null,null,null,null,null,null,0,0,0,0,0,0,0,0]
[null,null,null,null,"Non-Load Related - other",null,"%",null,null,null,null,null,null,null,null,null,null,null,null,null,null,null,null,null,null,null,null,null,null,null,null,null,null,0,0,0,0,0,0,0,0]
[null,null,null,null,"Opex",null,"%",null,null,null,null,null,null,null,null,null,null,null,null,null,null,null,null,null,null,null,null,null,null,null,null,null,null,0,0,0,0,0,0,0,0]
[null,null,null,null,"Repex",null,"%",null,null,null,null,null,null,null,null,null,null,null,null,null,null,null,null,null,null,null,null,null,null,null,null,null,null,0,0,1,1,1,1,1,1]
[]
[null,null,null,"Allocation to \"Revenue\" pool"]
[]
[null,null,null,null,"Load Related",null,"%",null,null,null,null,null,null,null,null,null,null,null,null,null,null,null,null,null,null,null,null,null,null,null,null,null,null,0,0,0,0,0,0,0,0]
[null,null,null,null,"Non-Load Related - other",null,"%",null,null,null,null,null,null,null,null,null,null,null,null,null,null,null,null,null,null,null,null,null,null,null,null,null,null,0,0,0,0,0,0,0,0]
[null,null,null,null,"Opex",null,"%",null,null,null,null,null,null,null,null,null,null,null,null,null,null,null,null,null,null,null,null,null,null,null,null,null,null,1,1,1,1,1,1,1,1]
[null,null,null,null,"Repex",null,"%",null,null,null,null,null,null,null,null,null,null,null,null,null,null,null,null,null,null,null,null,null,null,null,null,null,null,1,1,0,0,0,0,0,0]
[]
[null,null,null,"Allocation to \"Non Qualifying\" pool"]
[]
[null,null,null,null,"Load Related",null,"%",null,null,null,null,null,null,null,null,null,null,null,null,null,null,null,null,null,null,null,null,null,null,null,null,null,null,8.4000000000000012E-3,8.4000000000000012E-3,8.4000000000000012E-3,8.4000000000000012E-3,8.4000000000000012E-3,8.4000000000000012E-3,8.4000000000000012E-3,8.4000000000000012E-3]
[null,null,null,null,"Non-Load Related - other",null,"%",null,null,null,null,null,null,null,null,null,null,null,null,null,null,null,null,null,null,null,null,null,null,null,null,null,null,8.6167902303589283E-2,8.6167902303589283E-2,8.6167902303589283E-2,8.6167902303589283E-2,8.6167902303589283E-2,8.6167902303589283E-2,8.6167902303589283E-2,8.6167902303589283E-2]
[null,null,null,null,"Opex",null,"%",null,null,null,null,null,null,null,null,null,null,null,null,null,null,null,null,null,null,null,null,null,null,null,null,null,null,0,0,0,0,0,0,0,0]
[null,null,null,null,"Repex",null,"%",null,null,null,null,null,null,null,null,null,null,null,null,null,null,null,null,null,null,null,null,null,null,null,null,null,null,0,0,0,0,0,0,0,0]
[]
[null,null,null,"Allocation check"]
[null,null,null,"Note: All categories should equal 100%"]
[]
[null,null,null,null,"Load Related",null,"%",null,null,null,null,null,null,null,null,null,null,null,null,null,null,null,null,null,null,null,null,null,null,null,null,null,null,{"$f":"AH238+AH245+AH252+AH259+AH266","v":1},1,1,1,1,1,1,1]
[null,null,null,null,"Non-Load Related - other",null,"%",null,null,null,null,null,null,null,null,null,null,null,null,null,null,null,null,null,null,null,null,null,null,null,null,null,null,0.99999999999999989,0.99999999999999989,0.99999999999999989,0.99999999999999989,0.99999999999999989,0.99999999999999989,0.99999999999999989,0.99999999999999989]
[null,null,null,null,"Opex",null,"%",null,null,null,null,null,null,null,null,null,null,null,null,null,null,null,null,null,null,null,null,null,null,null,null,null,null,1,1,1,1,1,1,1,1]
[null,null,null,null,"Repex",null,"%",null,null,null,null,null,null,null,null,null,null,null,null,null,null,null,null,null,null,null,null,null,null,null,null,null,null,1,1,1,1,1,1,1,1]
[]
[null,null,null,"Tax Trigger Deadbands"]
[]
[null,null,null,null,"Tax Trigger Deadband",null,"£m 09/10 prices",null,null,null,null,null,null,null,null,null,null,null,null,null,null,null,null,null,null,null,null,null,null,null,null,null,null,2.0582482142006566,1.9915604480938982,2.0274775456533054,2.0332886583840861,2.0460326563931726,2.0554435628492405,2.0351424127847837,2.0474719911564803]
[]
[null,null,null,"SIU Costs"]
[]
[null,null,null,null,"SIU Costs",null,"£m 09/10 prices",null,null,null,null,null,null,null,null,null,null,null,null,null,null,null,null,null,null,null,null,null,null,null,null,null,null,0,0,0,0,0,0,0,0]
[]
[null,null,null,"Additional Income Workings"]
[]
[null,null,null,null,"Original allowed totex",null,null,null,null,null,null,null,null,null,null,null,null,null,null,null,null,null,null,null,null,null,null,null,null,null,null,null,null,347.87927285076069,326.66495949586937,322.59158317427,332.10135375685002,337.32204380718701,337.83422942681023,326.83109729285695,322.83245899897997]
[null,null,null,null,"Total allowed totex",null,null,null,2654.0569988035841]
[]
[null,"End of sheet"]

{"sheet":"Wales & West","index":23,"n_rows":292,"n_cols":41,"rows_kept":292,"cut":false,"hidden":false,"merged":[]}
["Input"]
[null,"Wales & West"]
[null,null,null,null,"Parameter","Licence condition","Units","Term","Constant",null,null,null,null,null,null,null,null,null,null,null,null,null,null,null,null,null,null,null,null,null,null,null,null,"Annual values"]
[null,null,null,null,"PCFM year ending",{"$f":"Cover!C3","v":"GD1 PCFM for use in AIP 2018.xlsm"},null,null,{"$f":"UserInterface!$G$10","v":"2019-03-31"},null,"1991-03-31","1992-03-31","1993-03-31","1994-03-31","1995-03-31","1996-03-31","1997-03-31","1998-03-31","1999-03-31","2000-03-31","2001-03-31","2002-03-31","2003-03-31","2004-03-31","2005-03-31","2006-03-31","2007-03-31","2008-03-31","2009-03-31","2010-03-31","2011-03-31","2012-03-31","2013-03-31","2014-03-31","2015-03-31","2016-03-31","2017-03-31","2018-03-31","2019-03-31","2020-03-31","2021-03-31"]
[]
[null,"PCFM Variable Values Table"]
[]
[null,null,null,null,{"$f":"Input!E8","v":"Allowed percentage cost of debt"},{"$f":"Input!F8","v":"3C"},"annual real %",{"$f":"Input!H8","v":"CDE"},null,null,null,null,null,null,null,null,null,null,null,null,null,null,null,null,null,null,null,null,null,null,null,null,null,2.92E-2,2.7199999999999998E-2,2.5499999999999998E-2,2.3800000000000002E-2,2.2200000000000001E-2,2.2200000000000001E-2,2.2200000000000001E-2,2.2200000000000001E-2]
[null,null,null,null,{"$f":"Input!E9","v":"Actual load related capex"},{"$f":"Input!F9","v":"3B"},"£m 09/10 prices",{"$f":"Input!H9","v":"ALC"},null,null,null,null,null,null,null,null,null,null,null,null,null,null,null,null,null,null,null,null,null,null,null,null,null,22.621218736035921,19.010207555879408,24.112511847650442,0,0,0,0,0]
[null,null,null,null,{"$f":"Input!E10","v":"Actual other capex"},{"$f":"Input!F10","v":"3B"},"£m 09/10 prices",{"$f":"Input!H10","v":"AOC"},null,null,null,null,null,null,null,null,null,null,null,null,null,null,null,null,null,null,null,null,null,null,null,null,null,22.456545709286363,18.330471198159696,16.530378711334585,0,0,0,0,0]
[null,null,null,null,{"$f":"Input!E11","v":"Actual controllable opex"},{"$f":"Input!F11","v":"3B"},"£m 09/10 prices",{"$f":"Input!H11","v":"ACO"},null,null,null,null,null,null,null,null,null,null,null,null,null,null,null,null,null,null,null,null,null,null,null,null,null,78.704686375003234,74.468112613125186,69.019394190893223,0,0,0,0,0]
[null,null,null,null,{"$f":"Input!E12","v":"Actual replacement expenditure"},{"$f":"Input!F12","v":"3B"},"£m 09/10 prices",{"$f":"Input!H12","v":"ARE"},null,null,null,null,null,null,null,null,null,null,null,null,null,null,null,null,null,null,null,null,null,null,null,null,null,61.774122272679115,65.082425493547461,64.070374755525123,0,0,0,0,0]
[null,null,null,null,{"$f":"Input!E13","v":"Allowed uncertain costs (Enhanced physical site security)"},{"$f":"Input!F13","v":"3F"},"£m 09/10 prices",{"$f":"Input!H13","v":"IAEEPS"},null,null,null,null,null,null,null,null,null,null,null,null,null,null,null,null,null,null,null,null,null,null,null,null,null,0,0,0,0,0,0,0,0]
[null,null,null,null,{"$f":"Input!E14","v":"Allowed uncertain costs (Specified street work costs)"},{"$f":"Input!F14","v":"3F"},"£m 09/10 prices",{"$f":"Input!H14","v":"IAESW"},null,null,null,null,null,null,null,null,null,null,null,null,null,null,null,null,null,null,null,null,null,null,null,null,null,0.53381916960734976,0.50611974098091816,0.48326729592750239,0.46275426914764783,0.44870801175883501,0.4343188999258184,0.42266926342660399,0.41159312805973397]
[null,null,null,null,{"$f":"Input!E15","v":"Allowed uncertain costs (Connection charging boundary change costs)"},{"$f":"Input!F15","v":"3F"},"£m 09/10 prices",{"$f":"Input!H15","v":"IAECCB"},null,null,null,null,null,null,null,null,null,null,null,null,null,null,null,null,null,null,null,null,null,null,null,null,null,0,0,0,0,0,0,0,0]
[null,null,null,null,{"$f":"Input!E16","v":"Allowed uncertain costs (Fuel poor network extension scheme)"},{"$f":"Input!F16","v":"3F"},"£m 09/10 prices",{"$f":"Input!H16","v":"IAEFP"},null,null,null,null,null,null,null,null,null,null,null,null,null,null,null,null,null,null,null,null,null,null,null,null,null,1.3072428887455487,1.3072428887455487,1.294170459858093,1.6555575099891047,1.3802227897473429,1.3701638493971655,1.3602054984504894,1.3503467310132806]
[null,null,null,null,{"$f":"Input!E17","v":"Allowed uncertain costs (Central agent)"},{"$f":"Input!F17","v":"3F"},"£m 09/10 prices",{"$f":"Input!H17","v":"IAECA"},null,null,null,null,null,null,null,null,null,null,null,null,null,null,null,null,null,null,null,null,null,null,null,null,null,-5.3550690104486875E-7,1.3449793240360997E-2,0.12982797297031823,0.13172458977927182,-1.6840432354888204,-2.4977645499973686,-3.2778641280539098,-3.67166971192714]
[null,null,null,null,{"$f":"Input!E18","v":"Allowed uncertain costs (Smart metering roll out costs)"},{"$f":"Input!F18","v":"3F"},"£m 09/10 prices",{"$f":"Input!H18","v":"IAESM"},null,null,null,null,null,null,null,null,null,null,null,null,null,null,null,null,null,null,null,null,null,null,null,null,null,0,0,0,0,0,0,0,0]
[null,null,null,null,{"$f":"Input!E19","v":"Allowed uncertain costs (Mains and services replacement expenditure)"},{"$f":"Input!F19","v":"3E"},"£m 09/10 prices",{"$f":"Input!H19","v":"RE"},null,null,null,null,null,null,null,null,null,null,null,null,null,null,null,null,null,null,null,null,null,null,null,null,null,4.2428730000000003,0.96369719999999981,1.4404854000000002,1.0400331679968808,2.513021272402673,1.9887698791347888,1.1881304196983562,1.2802988707951404]
[null,null,null,null,{"$f":"Input!E20","v":"Allowed uncertain Costs (Large load connection costs)"},{"$f":"Input!F20","v":"3F"},"£m 09/10 prices",{"$f":"Input!H20","v":"IAELLC"},null,null,null,null,null,null,null,null,null,null,null,null,null,null,null,null,null,null,null,null,null,null,null,null,null,0,0,0,0,0,0,0,0]
[null,null,null,null,{"$f":"Input!E21","v":"Allowed innovation roll-out mechanism"},{"$f":"Input!F21","v":"3D"},"£m 09/10 prices",{"$f":"Input!H21","v":"IRM"},null,null,null,null,null,null,null,null,null,null,null,null,null,null,null,null,null,null,null,null,null,null,null,null,null,0,0,0,0,0,0,0,0]
[null,null,null,null,{"$f":"Input!E22","v":"NTS Exit Capacity costs"},{"$f":"Input!F22","v":"1D"},"£m 09/10 prices",{"$f":"Input!H22","v":"AEx"},null,null,null,null,null,null,null,null,null,null,null,null,null,null,null,null,null,null,null,null,null,null,null,null,null,23.042107713393051,23.058866329731906,23.059950670422467,23.059950670422467,23.059950670422467,31.89,23.059950670422467,23.059950670422467]
[null,null,null,null,{"$f":"Input!E23","v":"Shrinkage costs"},{"$f":"Input!F23","v":"1F"},"£m 09/10 prices",{"$f":"Input!H23","v":"ALSC"},null,null,null,null,null,null,null,null,null,null,null,null,null,null,null,null,null,null,null,null,null,null,null,null,null,8.8323159964623237,8.6199999999999992,8.6199999999999992,8.42,8.32,8.2200000000000006,8.02,7.82]
[null,null,null,null,{"$f":"Input!E24","v":"Tax liability allowance adjustments - gearing/interest costs"},{"$f":"Input!F24","v":"3C"},"£m nominal",{"$f":"Input!H24","v":"TGIE"},null,null,null,null,null,null,null,null,null,null,null,null,null,null,null,null,null,null,null,null,null,null,null,null,null,0,3.5024364903600143,3.6895024140744561,0,0,0,0,0]
[null,null,null,null,{"$f":"Input!E25","v":"Tax liability allowance adjustments - driven by tax trigger events"},{"$f":"Input!F25","v":"3C"},"£m 09/10 prices",{"$f":"Input!H25","v":"TTE"},null,null,null,null,null,null,null,null,null,null,null,null,null,null,null,null,null,null,null,null,null,null,null,null,null,0,0,-0.44697510104801097,-0.22885681975420269,-1.3956588044772502,0,0,0]
[null,null,null,null,{"$f":"Input!E26","v":"Pension scheme administration and Pension Protection Fund Levy"},{"$f":"Input!F26","v":"3C"},"£m 09/10 prices",{"$f":"Input!H26","v":"APFE"},null,null,null,null,null,null,null,null,null,null,null,null,null,null,null,null,null,null,null,null,null,null,null,null,null,0.85466978717181741,0.83509108225509976,0.83377160066030354,0.80846683006226672,0.80147920133565198,0.7867165826671354,0.77788553289578632,0.77039305375966771]
[null,null,null,null,{"$f":"Input!E27","v":"Pension scheme deficit revenue allowances"},{"$f":"Input!F27","v":"3C"},"£m 09/10 prices",{"$f":"Input!H27","v":"EDE"},null,null,null,null,null,null,null,null,null,null,null,null,null,null,null,null,null,null,null,null,null,null,null,null,null,6.9523975223239951,6.9523975223239951,7.237266309900142,7.237266309900142,7.237266309900142,7.237266309900142,7.237266309900142,7.237266309900142]
[null,null,null,null,{"$f":"Input!E28","v":"Legacy price control allowed revenue adjustment"},{"$f":"Input!F28","v":"3A"},"£m 09/10 prices",{"$f":"Input!H28","v":"LAR"},null,null,null,null,null,null,null,null,null,null,null,null,null,null,null,null,null,null,null,null,null,null,null,null,null,6.388161754744889]
[null,null,null,null,{"$f":"Input!E29","v":"Legacy price control RAV additions adjustment"},{"$f":"Input!F29","v":"3A"},"£m 09/10 prices",{"$f":"Input!H29","v":"LRAV"},null,null,null,null,null,null,null,null,null,null,null,null,null,null,null,null,null,null,null,null,null,null,null,null,null,2.2429100491660554]
[]
[null,"Policy"]
[]
[null,null,"Cost of capital"]
[]
[null,null,null,null,"Cost of debt",null,"annual real %",null,null,null,null,null,null,null,null,null,null,null,null,null,null,null,null,null,null,null,null,null,null,null,null,null,null,{"$f":"AH8","v":2.92E-2},2.7199999999999998E-2,2.5499999999999998E-2,2.3800000000000002E-2,2.2200000000000001E-2,2.2200000000000001E-2,2.2200000000000001E-2,2.2200000000000001E-2]
[null,null,null,null,"Cost of equity",null,"annual real %",null,null,null,null,null,null,null,null,null,null,null,null,null,null,null,null,null,null,null,null,null,null,null,null,null,null,6.7000000000000004E-2,6.7000000000000004E-2,6.7000000000000004E-2,6.7000000000000004E-2,6.7000000000000004E-2,6.7000000000000004E-2,6.7000000000000004E-2,6.7000000000000004E-2]
[null,null,null,null,"Notional gearing",null,"%",null,null,">",null,null,null,null,null,null,null,null,null,null,null,null,null,null,null,null,null,null,null,null,null,null,0.625,0.65,0.65,0.65,0.65,0.65,0.65,0.65,0.65]
[]
[null,null,null,null,"Vanilla WACC",null,"annual real %",null,null,null,null,null,null,null,null,null,null,null,null,null,null,null,null,null,null,null,null,null,null,null,null,null,null,{"$f":"(AH35 * AH37) + (AH36 * (1 - AH37))","v":4.2429999999999995E-2},4.113E-2,4.0024999999999998E-2,3.8919999999999996E-2,3.7879999999999997E-2,3.7879999999999997E-2,3.7879999999999997E-2,3.7879999999999997E-2]
[]
[null,null,null,null,"Closing gearing",null,"%",null,0.625]
[]
[null,null,null,null,"Forecast RPI (simple average year to March)",null,"index value",null,null,">",null,null,null,null,null,null,null,null,null,null,null,173.875,177.517,182.47499999999999,188.15,193.108,200.31700000000001,208.59200000000001,214.78299999999999,215.767,226.47499999999999,{"$f":"ROUND(AVERAGE(234.4,235.2,235.2,234.7,236.1,237.9,238,238.5,239.4,238,239.9,240.8),3)","v":237.34200000000001},{"$f":"ROUND(AF43*(1+2.8%),3)","v":243.988},{"$f":"ROUND(AG43*(1+2.8%),3)","v":250.82},257.84300000000002,265.06299999999999,272.48500000000001,280.11500000000001,287.95800000000003,296.02100000000002,304.31]
[null,null,null,null,"Cost of Debt Inflation",null,"index value",null,null,">",null,null,null,null,null,null,null,null,null,null,null,173.875,177.517,182.47499999999999,188.15,193.108,200.31700000000001,208.59200000000001,214.78299999999999,215.767,226.47499999999999,{"$f":"ROUND(AVERAGE(234.4,235.2,235.2,234.7,236.1,237.9,238,238.5,239.4,238,239.9,240.8),3)","v":237.34200000000001},{"$f":"ROUND(AF44*(1+2.8%),3)","v":243.988},250.82,257.84300000000002,265.06299999999999,272.48500000000001,280.11500000000001,287.95800000000003,296.02100000000002,304.31]
[null,null,"TIM and capitalisation"]
[]
[null,null,null,null,"Years from t until normal reporting of actual costs",null,"years",null,2]
[]
[null,null,null,null,{"$f":"Input!E49","v":"Capitalised share of totex (excluding repex)"},null,"%",null,null,null,null,null,null,null,null,null,null,null,null,null,null,null,null,null,null,null,null,null,null,null,null,null,null,0.35781904469402892,0.35781904469402892,0.35781904469402892,0.35781904469402892,0.35781904469402892,0.35781904469402892,0.35781904469402892,0.35781904469402892]
[null,null,null,null,{"$f":"Input!E50","v":"Capitalised share of repex"},null,"%",null,null,null,null,null,null,null,null,null,null,null,null,null,null,null,null,null,null,null,null,null,null,null,null,null,null,0.5,0.5714285714285714,0.64285714285714279,0.71428571428571419,0.78571428571428559,0.85714285714285698,0.92857142857142838,1]
[]
[null,null,null,null,"Incentive rate (slope)",null,"scalar",null,-1.666666666666667E-3]
[null,null,null,null,"Incentive rate (intercept)",null,"scalar",null,0.81666666666666665]
[null,null,null,null,"Additional income (intercept)",null,"scalar",null,14.583333333333332]
[]
[null,null,null,null,"Weight of Ofgem's view on price control totex",null,"%",null,0.75]
[null,null,null,null,"Weight of operator's view on price control totex",null,"%",null,0.25]
[]
[null,null,null,null,"GD TIM group ratio",null,"scalar",null,110.98528873869125]
[]
[null,null,null,null,"Ofgem's view of  licensee totex",null,"£m 09/10 prices",null,1637.4993198012207]
[null,null,null,null,"Operator's view of licensee totex",null,"£m 09/10 prices",null,1817.38334817549]
[]
[null,null,null,null,"Ofgem's view of group price control totex",null,"£m 09/10 prices",null,1637.4993198012207]
[null,null,null,null,"Operator's view of group price control totex",null,"£m 09/10 prices",null,1817.38334817549]
[]
[null,null,"Finance"]
[]
[null,null,null,null,"Minimum equity issuance threshold",null,"%",null,0.05]
[null,null,null,null,"Equity issuance costs",null,"%",null,0.05]
[null,null,null,null,"Assumed dividends as % of notional equity portion of RAV",null,"%",null,0.05]
[]
[null,null,null,null,"Equity issuance gearing target",null,"%",null,null,null,null,null,null,null,null,null,null,null,null,null,null,null,null,null,null,null,null,null,null,null,null,null,null,{"$f":"AH37","v":0.65},{"$f":"AI37","v":0.65},0.65,0.65,0.65,0.65,0.65,0.65]
[]
[null,null,null,null,"Index-linked debt as a percentage of net debt",null,"%",null,null,null,null,null,null,null,null,null,null,null,null,null,null,null,null,null,null,null,null,null,null,null,null,null,null,0.25,0.25,0.25,0.25,0.25,0.25,0.25,0.25]
[]
[null,"Expenditure"]
[]
[null,null,"Totex"]
[]
[null,null,null,"Non-variant allowances"]
[]
[null,null,null,null,"Non-variant allowed load related capex",null,"£m 09/10 prices",null,null,null,null,null,null,null,null,null,null,null,null,null,null,null,null,null,null,null,null,null,null,null,null,null,null,30.495941833265071,30.606208706653064,29.127185729811558,30.176986204530195,30.602426560164208,29.181523517705635,28.281795119925505,30.640456205774615]
[null,null,null,null,"Non-variant allowed non-load related capex - other",null,"£m 09/10 prices",null,null,null,null,null,null,null,null,null,null,null,null,null,null,null,null,null,null,null,null,null,null,null,null,null,null,22.443100930238138,21.27641564131039,16.041707144926932,13.162744946190951,12.05347038191664,11.947410368379975,15.629154583098408,15.096449426565403]
[null,null,null,null,"Non-variant allowed controllable opex",null,"£m 09/10 prices",null,null,null,null,null,null,null,null,null,null,null,null,null,null,null,null,null,null,null,null,null,null,null,null,null,null,83.446437961896635,82.571595071232622,85.627114854605082,85.163164021654964,84.056705198564558,85.216084988434801,85.386613118963425,83.713304266350605]
[null,null,null,null,"Non-variant allowed repex",null,"£m 09/10 prices",null,null,null,null,null,null,null,null,null,null,null,null,null,null,null,null,null,null,null,null,null,null,null,null,null,null,76.519470703441002,76.652106292811396,77.392830469823778,76.95151408847363,76.523712289686728,76.999542647853758,77.745640714979331,76.335922469977817]
[]
[null,null,null,"Variant allowances"]
[]
[null,null,null,null,{"$f":"Input!E90","v":"Allowed uncertain costs (Enhanced physical site security)"},null,"£m 09/10 prices",null,null,null,null,null,null,null,null,null,null,null,null,null,null,null,null,null,null,null,null,null,null,null,null,null,null,{"$f":"AH13","v":0},{"$f":"AI13","v":0},0,0,0,0,0,0]
[null,null,null,null,{"$f":"Input!E91","v":"Allocation to load related capex"},null,"%",null,null,null,null,null,null,null,null,null,null,null,null,null,null,null,null,null,null,null,null,null,null,null,null,null,null,0,0,0,0,0,0,0,0]
[null,null,null,null,{"$f":"Input!E92","v":"Allocation to non-load related capex - other"},null,"%",null,null,null,null,null,null,null,null,null,null,null,null,null,null,null,null,null,null,null,null,null,null,null,null,null,null,1,1,1,1,1,1,1,1]
[null,null,null,null,{"$f":"Input!E93","v":"Allocation to controllable opex"},null,"%",null,null,null,null,null,null,null,null,null,null,null,null,null,null,null,null,null,null,null,null,null,null,null,null,null,null,0,0,0,0,0,0,0,0]
[null,null,null,null,{"$f":"Input!E94","v":"Allocation to repex"},null,"%",null,null,null,null,null,null,null,null,null,null,null,null,null,null,null,null,null,null,null,null,null,null,null,null,null,null,0,0,0,0,0,0,0,0]
[]
[null,null,null,null,{"$f":"Input!E96","v":"Allowed uncertain costs (Specified street work costs)"},null,"£m 09/10 prices",null,null,null,null,null,null,null,null,null,null,null,null,null,null,null,null,null,null,null,null,null,null,null,null,null,null,{"$f":"AH14","v":0.53381916960734976},0.50611974098091816,0.48326729592750239,0.46275426914764783,0.44870801175883501,0.4343188999258184,0.42266926342660399,0.41159312805973397]
[null,null,null,null,{"$f":"Input!E97","v":"Allocation to load related capex"},null,"%",null,null,null,null,null,null,null,null,null,null,null,null,null,null,null,null,null,null,null,null,null,null,null,null,null,null,0.05,0.05,0.05,0.05,0.05,0.05,0.05,0.05]
[null,null,null,null,{"$f":"Input!E98","v":"Allocation to non-load related capex - other"},null,"%",null,null,null,null,null,null,null,null,null,null,null,null,null,null,null,null,null,null,null,null,null,null,null,null,null,null,0,0,0,0,0,0,0,0]
[null,null,null,null,{"$f":"Input!E99","v":"Allocation to controllable opex"},null,"%",null,null,null,null,null,null,null,null,null,null,null,null,null,null,null,null,null,null,null,null,null,null,null,null,null,null,0.3,0.3,0.3,0.3,0.3,0.3,0.3,0.3]
[null,null,null,null,{"$f":"Input!E100","v":"Allocation to repex"},null,"%",null,null,null,null,null,null,null,null,null,null,null,null,null,null,null,null,null,null,null,null,null,null,null,null,null,null,0.65,0.65,0.65,0.65,0.65,0.65,0.65,0.65]
[]
[null,null,null,null,{"$f":"Input!E102","v":"Allowed uncertain costs (Connection charging boundary change costs)"},null,"£m 09/10 prices",null,null,null,null,null,null,null,null,null,null,null,null,null,null,null,null,null,null,null,null,null,null,null,null,null,null,{"$f":"AH15","v":0},{"$f":"AI15","v":0},0,0,0,0,0,0]
[null,null,null,null,{"$f":"Input!E103","v":"Allocation to load related capex"},null,"%",null,null,null,null,null,null,null,null,null,null,null,null,null,null,null,null,null,null,null,null,null,null,null,null,null,null,0.9,0.9,0.9,0.9,0.9,0.9,0.9,0.9]
[null,null,null,null,{"$f":"Input!E104","v":"Allocation to non-load related capex - other"},null,"%",null,null,null,null,null,null,null,null,null,null,null,null,null,null,null,null,null,null,null,null,null,null,null,null,null,null,0,0,0,0,0,0,0,0]
[null,null,null,null,{"$f":"Input!E105","v":"Allocation to controllable opex"},null,"%",null,null,null,null,null,null,null,null,null,null,null,null,null,null,null,null,null,null,null,null,null,null,null,null,null,null,0.1,0.1,0.1,0.1,0.1,0.1,0.1,0.1]
[null,null,null,null,{"$f":"Input!E106","v":"Allocation to repex"},null,"%",null,null,null,null,null,null,null,null,null,null,null,null,null,null,null,null,null,null,null,null,null,null,null,null,null,null,0,0,0,0,0,0,0,0]
[]
[null,null,null,null,{"$f":"Input!E108","v":"Allowed uncertain costs (Fuel poor network extension scheme)"},null,"£m 09/10 prices",null,null,null,null,null,null,null,null,null,null,null,null,null,null,null,null,null,null,null,null,null,null,null,null,null,null,{"$f":"AH16","v":1.3072428887455487},{"$f":"AI16","v":1.3072428887455487},1.294170459858093,1.6555575099891047,1.3802227897473429,1.3701638493971655,1.3602054984504894,1.3503467310132806]
[null,null,null,null,{"$f":"Input!E109","v":"Allocation to load related capex"},null,"%",null,null,null,null,null,null,null,null,null,null,null,null,null,null,null,null,null,null,null,null,null,null,null,null,null,null,1,1,1,1,1,1,1,1]
[null,null,null,null,{"$f":"Input!E110","v":"Allocation to non-load related capex - other"},null,"%",null,null,null,null,null,null,null,null,null,null,null,null,null,null,null,null,null,null,null,null,null,null,null,null,null,null,0,0,0,0,0,0,0,0]
[null,null,null,null,{"$f":"Input!E111","v":"Allocation to controllable opex"},null,"%",null,null,null,null,null,null,null,null,null,null,null,null,null,null,null,null,null,null,null,null,null,null,null,null,null,null,0,0,0,0,0,0,0,0]
[null,null,null,null,{"$f":"Input!E112","v":"Allocation to repex"},null,"%",null,null,null,null,null,null,null,null,null,null,null,null,null,null,null,null,null,null,null,null,null,null,null,null,null,null,0,0,0,0,0,0,0,0]
[]
[null,null,null,null,{"$f":"Input!E114","v":"Allowed uncertain costs (Central agent)"},null,"£m 09/10 prices",null,null,null,null,null,null,null,null,null,null,null,null,null,null,null,null,null,null,null,null,null,null,null,null,null,null,{"$f":"AH17","v":-5.3550690104486875E-7},1.3449793240360997E-2,0.12982797297031823,0.13172458977927182,-1.6840432354888204,-2.4977645499973686,-3.2778641280539098,-3.67166971192714]
[null,null,null,null,{"$f":"Input!E115","v":"Allocation to load related capex"},null,"%",null,null,null,null,null,null,null,null,null,null,null,null,null,null,null,null,null,null,null,null,null,null,null,null,null,null,0,0,0,0,0,0,0,0]
[null,null,null,null,{"$f":"Input!E116","v":"Allocation to non-load related capex - other"},null,"%",null,null,null,null,null,null,null,null,null,null,null,null,null,null,null,null,null,null,null,null,null,null,null,null,null,null,0.15,0.15,0.15,0.15,0.15,0.15,0.15,0.15]
[null,null,null,null,{"$f":"Input!E117","v":"Allocation to controllable opex"},null,"%",null,null,null,null,null,null,null,null,null,null,null,null,null,null,null,null,null,null,null,null,null,null,null,null,null,null,0.85,0.85,0.85,0.85,0.85,0.85,0.85,0.85]
[null,null,null,null,{"$f":"Input!E118","v":"Allocation to repex"},null,"%",null,null,null,null,null,null,null,null,null,null,null,null,null,null,null,null,null,null,null,null,null,null,null,null,null,null,0,0,0,0,0,0,0,0]
[]
[null,null,null,null,{"$f":"Input!E120","v":"Allowed uncertain costs (Smart metering roll out costs)"},null,"£m 09/10 prices",null,null,null,null,null,null,null,null,null,null,null,null,null,null,null,null,null,null,null,null,null,null,null,null,null,null,{"$f":"AH18","v":0},0,0,0,0,0,0,0]
[null,null,null,null,{"$f":"Input!E121","v":"Allocation to load related capex"},null,"%",null,null,null,null,null,null,null,null,null,null,null,null,null,null,null,null,null,null,null,null,null,null,null,null,null,null,0,0,0,0,0,0,0,0]
[null,null,null,null,{"$f":"Input!E122","v":"Allocation to non-load related capex - other"},null,"%",null,null,null,null,null,null,null,null,null,null,null,null,null,null,null,null,null,null,null,null,null,null,null,null,null,null,0,0,0,0,0,0,0,0]
[null,null,null,null,{"$f":"Input!E123","v":"Allocation to controllable opex"},null,"%",null,null,null,null,null,null,null,null,null,null,null,null,null,null,null,null,null,null,null,null,null,null,null,null,null,null,0.5,0.5,0.5,0.5,0.5,0.5,0.5,0.5]
[null,null,null,null,{"$f":"Input!E124","v":"Allocation to repex"},null,"%",null,null,null,null,null,null,null,null,null,null,null,null,null,null,null,null,null,null,null,null,null,null,null,null,null,null,0.5,0.5,0.5,0.5,0.5,0.5,0.5,0.5]
[]
[null,null,null,null,{"$f":"Input!E126","v":"Allowed uncertain costs (Mains and services replacement expenditure)"},null,"£m 09/10 prices",null,null,null,null,null,null,null,null,null,null,null,null,null,null,null,null,null,null,null,null,null,null,null,null,null,null,{"$f":"AH19","v":4.2428730000000003},{"$f":"AI19","v":0.96369719999999981},1.4404854000000002,1.0400331679968808,2.513021272402673,1.9887698791347888,1.1881304196983562,1.2802988707951404]
[null,null,null,null,{"$f":"Input!E127","v":"Allocation to load related capex"},null,"%",null,null,null,null,null,null,null,null,null,null,null,null,null,null,null,null,null,null,null,null,null,null,null,null,null,null,0,0,0,0,0,0,0,0]
[null,null,null,null,{"$f":"Input!E128","v":"Allocation to non-load related capex - other"},null,"%",null,null,null,null,null,null,null,null,null,null,null,null,null,null,null,null,null,null,null,null,null,null,null,null,null,null,0,0,0,0,0,0,0,0]
[null,null,null,null,{"$f":"Input!E129","v":"Allocation to controllable opex"},null,"%",null,null,null,null,null,null,null,null,null,null,null,null,null,null,null,null,null,null,null,null,null,null,null,null,null,null,0,0,0,0,0,0,0,0]
[null,null,null,null,{"$f":"Input!E130","v":"Allocation to repex"},null,"%",null,null,null,null,null,null,null,null,null,null,null,null,null,null,null,null,null,null,null,null,null,null,null,null,null,null,1,1,1,1,1,1,1,1]
[]
[null,null,null,null,{"$f":"Input!E132","v":"Allowed uncertain Costs (Large load connection costs)"},null,"£m 09/10 prices",null,null,null,null,null,null,null,null,null,null,null,null,null,null,null,null,null,null,null,null,null,null,null,null,null,null,{"$f":"AH20","v":0},{"$f":"AI20","v":0},{"$f":"AJ20","v":0},0,{"$f":"AL20","v":0},0,0,0]
[null,null,null,null,{"$f":"Input!E133","v":"Allocation to load related capex"},null,"%",null,null,null,null,null,null,null,null,null,null,null,null,null,null,null,null,null,null,null,null,null,null,null,null,null,null,1,1,1,1,1,1,1,1]
[null,null,null,null,{"$f":"Input!E134","v":"Allocation to non-load related capex - other"},null,"%",null,null,null,null,null,null,null,null,null,null,null,null,null,null,null,null,null,null,null,null,null,null,null,null,null,null,0,0,0,0,0,0,0,0]
[null,null,null,null,{"$f":"Input!E135","v":"Allocation to controllable opex"},null,"%",null,null,null,null,null,null,null,null,null,null,null,null,null,null,null,null,null,null,null,null,null,null,null,null,null,null,0,0,0,0,0,0,0,0]
[null,null,null,null,{"$f":"Input!E136","v":"Allocation to repex"},null,"%",null,null,null,null,null,null,null,null,null,null,null,null,null,null,null,null,null,null,null,null,null,null,null,null,null,null,0,0,0,0,0,0,0,0]
[]
[null,null,null,null,{"$f":"Input!E138","v":"Allowed innovation roll-out mechanism"},null,"£m 09/10 prices",null,null,null,null,null,null,null,null,null,null,null,null,null,null,null,null,null,null,null,null,null,null,null,null,null,null,{"$f":"AH21","v":0},{"$f":"AI21","v":0},0,0,0,0,0,0]
[null,null,null,null,{"$f":"Input!E139","v":"Allocation to load related capex"},null,"%",null,null,null,null,null,null,null,null,null,null,null,null,null,null,null,null,null,null,null,null,null,null,null,null,null,null,0.5,0.5,0.5,0.5,0.5,0.5,0.5,0.5]
[null,null,null,null,{"$f":"Input!E140","v":"Allocation to non-load related capex - other"},null,"%",null,null,null,null,null,null,null,null,null,null,null,null,null,null,null,null,null,null,null,null,null,null,null,null,null,null,0,0,0,0,0,0,0,0]
[null,null,null,null,{"$f":"Input!E141","v":"Allocation to controllable opex"},null,"%",null,null,null,null,null,null,null,null,null,null,null,null,null,null,null,null,null,null,null,null,null,null,null,null,null,null,0.5,0.5,0.5,0.5,0.5,0.5,0.5,0.5]
[null,null,null,null,{"$f":"Input!E142","v":"Allocation to repex"},null,"%",null,null,null,null,null,null,null,null,null,null,null,null,null,null,null,null,null,null,null,null,null,null,null,null,null,null,0,0,0,0,0,0,0,0]
[]
[null,null,null,null,"Variant allowed load related capex",null,"£m 09/10 prices",null,null,null,null,null,null,null,null,null,null,null,null,null,null,null,null,null,null,null,null,null,null,null,null,null,null,{"$f":"(AH$90*AH91) + (AH$96*AH97) + (AH$102*AH103) + (AH$108*AH109) + (AH$114*AH115) + (AH$120*AH121)      + (AH$126 * AH127) + (AH$132*AH133) + (AH$138*AH139)","v":1.3339338472259161},{"$f":"(AI$90*AI91) + (AI$96*AI97) + (AI$102*AI103) + (AI$108*AI109) + (AI$114*AI115) + (AI$120*AI121)      + (AI$126 * AI127) + (AI$132*AI133) + (AI$138*AI139)","v":1.3325488757945947},1.318333824654468,1.6786952234464871,1.4026581903352846,1.3918797943934564,1.3813389616218197,1.3709263874162674]
[null,null,null,null,"Variant allowed non-load related capex - other",null,"£m 09/10 prices",null,null,null,null,null,null,null,null,null,null,null,null,null,null,null,null,null,null,null,null,null,null,null,null,null,null,{"$f":"(AH$90*AH92) + (AH$96*AH98) + (AH$102*AH104) + (AH$108*AH110) + (AH$114*AH116) + (AH$120*AH122)      + (AH$126 * AH128) + (AH$132*AH134) + (AH$138*AH140)","v":-8.0326035156730313E-8},2.0174689860541495E-3,1.9474195945547734E-2,1.9758688466890773E-2,-0.25260648532332303,-0.37466468249960527,-0.49167961920808645,-0.55075045678907097]
[null,null,null,null,"Variant allowed controllable opex",null,"£m 09/10 prices",null,null,null,null,null,null,null,null,null,null,null,null,null,null,null,null,null,null,null,null,null,null,null,null,null,null,{"$f":"(AH$90*AH93) + (AH$96*AH99) + (AH$102*AH105) + (AH$108*AH111) + (AH$114*AH117) + (AH$120*AH123)      + (AH$126 * AH129) + (AH$132*AH135) + (AH$138*AH141)","v":0.16014529570133904},0.1632682465485823,0.2553339658030212,0.25079218205667542,-1.2968243466378466,-1.9928041975200177,-2.6593837298178422,-2.997441316720149]
[null,null,null,null,"Variant allowed repex",null,"£m 09/10 prices",null,null,null,null,null,null,null,null,null,null,null,null,null,null,null,null,null,null,null,null,null,null,null,null,null,null,{"$f":"(AH$90*AH94) + (AH$96*AH100) + (AH$102*AH106) + (AH$108*AH112) + (AH$114*AH118) + (AH$120*AH124)      + (AH$126 * AH130) + (AH$132*AH136) + (AH$138*AH142)","v":4.5898554602447774},1.2926750316375966,1.7546091423528769,1.3408234429428521,2.8046814800459159,2.2710771640865706,1.4628654409256487,1.5478344040339675]
[]
[null,null,null,"Actual"]
[]
[null,null,null,null,"Actual load related capex",null,"£m 09/10 prices",null,null,null,null,null,null,null,null,null,null,null,null,null,null,null,null,null,null,null,null,null,null,null,null,null,null,{"$f":"AH9","v":22.621218736035921},19.010207555879408,24.112511847650442,0,0,0,0,0]
[null,null,null,null,"Actual non-load related capex - other",null,"£m 09/10 prices",null,null,null,null,null,null,null,null,null,null,null,null,null,null,null,null,null,null,null,null,null,null,null,null,null,null,22.456545709286363,18.330471198159696,16.530378711334585,0,0,0,0,0]
[null,null,null,null,"Actual controllable opex",null,"£m 09/10 prices",null,null,null,null,null,null,null,null,null,null,null,null,null,null,null,null,null,null,null,null,null,null,null,null,null,null,78.704686375003234,74.468112613125186,69.019394190893223,0,0,0,0,0]
[null,null,null,null,"Actual repex",null,"£m 09/10 prices",null,null,null,null,null,null,null,null,null,null,null,null,null,null,null,null,null,null,null,null,null,null,null,null,null,null,61.774122272679115,65.082425493547461,64.070374755525123,0,0,0,0,0]
[]
[null,null,"Non-totex"]
[]
[null,null,null,null,"Non-controllable opex (Other)",null,"£m 09/10 prices",null,null,null,null,null,null,null,null,null,null,null,null,null,null,null,null,null,null,null,null,null,null,null,null,null,null,27.454383555734989,27.454383555959836,27.454383556182446,27.454383556402821,27.454383556620993,27.454383556836984,27.454383557050814,27.45438355726251]
[null,null,null,null,"Non-controllable opex (Exit Charges)",null,"£m 09/10 prices",null,null,null,null,null,null,null,null,null,null,null,null,null,null,null,null,null,null,null,null,null,null,null,null,null,null,{"$f":"AH22","v":23.042107713393051},{"$f":"AI22","v":23.058866329731906},23.059950670422467,23.059950670422467,23.059950670422467,31.89,23.059950670422467,23.059950670422467]
[null,null,null,null,"Non-controllable opex (Shrinkage)",null,"£m 09/10 prices",null,null,null,null,null,null,null,null,null,null,null,null,null,null,null,null,null,null,null,null,null,null,null,null,null,null,{"$f":"AH23","v":8.8323159964623237},8.6199999999999992,8.6199999999999992,8.42,8.32,8.2200000000000006,8.02,7.82]
[null,null,null,null,"Non-controllable opex",null,"£m 09/10 prices",null,null,null,null,null,null,null,null,null,null,null,null,null,null,null,null,null,null,null,null,null,null,null,null,null,null,{"$f":"SUM(AH158:AH160)","v":59.32880726559037},{"$f":"SUM(AI158:AI160)","v":59.13324988569174},59.134334226604913,58.934334226825285,58.834334227043463,67.564383556836987,58.534334227473281,58.334334227684977]
[]
[null,"Direct allowed revenue terms (DARTs)"]
[]
[null,null,null,null,{"$f":"E26","v":"Pension scheme administration and Pension Protection Fund Levy"},null,"£m 09/10 prices",null,null,null,null,null,null,null,null,null,null,null,null,null,null,null,null,null,null,null,null,null,null,null,null,null,null,{"$f":"AH26","v":0.85466978717181741},0.83509108225509976,0.83377160066030354,0.80846683006226672,0.80147920133565198,0.7867165826671354,0.77788553289578632,0.77039305375966771]
[null,null,null,null,{"$f":"E27","v":"Pension scheme deficit revenue allowances"},null,"£m 09/10 prices",null,null,null,null,null,null,null,null,null,null,null,null,null,null,null,null,null,null,null,null,null,null,null,null,null,null,6.9523975223239951,6.9523975223239951,7.237266309900142,7.237266309900142,7.237266309900142,7.237266309900142,7.237266309900142,7.237266309900142]
[]
[null,null,null,null,"Pension true-up from previous price controls",null,"£m 09/10 prices",null,10.154005234458992,null,null,null,null,null,null,null,null,null,null,null,null,null,null,null,null,null,null,null,null,null,null,null,null,{"$f":"($I$168/8)","v":1.269250654307374},{"$f":"($I$168/8)*(1+$AI$39)","v":1.3214549337190362},{"$f":"($I$168/8)*(1+$AI$39)*(1+$AJ$39)","v":1.3743461674411406},{"$f":"($I$168/8)*(1+$AI$39)*(1+$AJ$39)*(1+$AK$39)","v":1.4278357202779499},{"$f":"($I$168/8)*(1+$AI$39)*(1+$AJ$39)*(1+$AK$39)*(1+$AL$39)","v":1.4819221373620786},{"$f":"($I$168/8)*(1+$AI$39)*(1+$AJ$39)*(1+$AK$39)*(1+$AL$39)*(1+$AM$39)","v":1.5380573479253539},{"$f":"($I$168/8)*(1+$AI$39)*(1+$AJ$39)*(1+$AK$39)*(1+$AL$39)*(1+$AM$39)*(1+$AN$39)","v":1.5963189602647661},{"$f":"($I$168/8)*(1+$AI$39)*(1+$AJ$39)*(1+$AK$39)*(1+$AL$39)*(1+$AM$39)*(1+$AN$39)*(1+$AO$39)","v":1.6567875224795952}]
[]
[null,null,null,null,{"$f":"Input!E170","v":"Revenue adjustment from previous controls (Base)"},null,"£m 09/10 prices",null,0.61097289828553381,null,null,null,null,null,null,null,null,null,null,null,null,null,null,null,null,null,null,null,null,null,null,null,null,{"$f":"($I$170/8)","v":7.6371612285691726E-2},{"$f":"($I$170/8)*(1+$AI$39)","v":7.9512776699002224E-2},{"$f":"($I$170/8)*(1+$AI$39)*(1+$AJ$39)","v":8.2695275586379791E-2},{"$f":"($I$170/8)*(1+$AI$39)*(1+$AJ$39)*(1+$AK$39)","v":8.5913775712201698E-2},{"$f":"($I$170/8)*(1+$AI$39)*(1+$AJ$39)*(1+$AK$39)*(1+$AL$39)","v":8.9168189536179887E-2},{"$f":"($I$170/8)*(1+$AI$39)*(1+$AJ$39)*(1+$AK$39)*(1+$AL$39)*(1+$AM$39)","v":9.2545880555810367E-2},{"$f":"($I$170/8)*(1+$AI$39)*(1+$AJ$39)*(1+$AK$39)*(1+$AL$39)*(1+$AM$39)*(1+$AN$39)","v":9.605151851126445E-2},{"$f":"($I$170/8)*(1+$AI$39)*(1+$AJ$39)*(1+$AK$39)*(1+$AL$39)*(1+$AM$39)*(1+$AN$39)*(1+$AO$39)","v":9.9689950032471136E-2}]
[null,null,null,null,{"$f":"Input!E171","v":"Legacy price control allowed revenue adjustment"},null,"£m 09/10 prices",null,null,null,null,null,null,null,null,null,null,null,null,null,null,null,null,null,null,null,null,null,null,null,null,null,null,{"$f":"($AH$28/8)","v":0.79852021934311113},{"$f":"($AH$28/8)*(1+$AI$39)","v":0.83136335596469324},{"$f":"($AH$28/8)*(1+$AI$39)*(1+$AJ$39)","v":0.86463867428718011},{"$f":"($AH$28/8)*(1+$AI$39)*(1+$AJ$39)*(1+$AK$39)","v":0.8982904114904372},{"$f":"($AH$28/8)*(1+$AI$39)*(1+$AJ$39)*(1+$AK$39)*(1+$AL$39)","v":0.93231765227769492},{"$f":"($AH$28/8)*(1+$AI$39)*(1+$AJ$39)*(1+$AK$39)*(1+$AL$39)*(1+$AM$39)","v":0.96763384494597393},{"$f":"($AH$28/8)*(1+$AI$39)*(1+$AJ$39)*(1+$AK$39)*(1+$AL$39)*(1+$AM$39)*(1+$AN$39)","v":1.0042878149925274},{"$f":"($AH$28/8)*(1+$AI$39)*(1+$AJ$39)*(1+$AK$39)*(1+$AL$39)*(1+$AM$39)*(1+$AN$39)*(1+$AO$39)","v":1.0423302374244443}]
[null,null,null,null,"Revenue adjustment from previous controls",null,"£m 09/10 prices",null,null,null,null,null,null,null,null,null,null,null,null,null,null,null,null,null,null,null,null,null,null,null,null,null,null,{"$f":"AH170+AH171","v":0.8748918316288028},{"$f":"AI170+AI171","v":0.91087613266369549},0.9473339498735599,0.98420418720263891,1.0214858418138748,1.0601797255017842,1.1003393335037919,1.1420201874569154]
[]
[null,null,null,null,"Excluded services revenue",null,"£m 09/10 prices",null,null,null,null,null,null,null,null,null,null,null,null,null,null,null,null,null,null,null,null,null,null,null,null,null,null,0.63767945792465786,0.47979443226613083,0.47499648794346949,0.37106040306403482,0.28635117911139452,0,0,0]
[null,null,null,null,"Identified excluded services costs",null,"£m 09/10 prices",null,null,null,null,null,null,null,null,null,null,null,null,null,null,null,null,null,null,null,null,null,null,null,null,null,null,0.63767945792465786,0.47979443226613083,0.47499648794346949,0.37106040306403482,0.28635117911139452,0,0,0]
[null,null,null,null,"Excluded services",null,"£m 09/10 prices",null,null,null,null,null,null,null,null,null,null,null,null,null,null,null,null,null,null,null,null,null,null,null,null,null,null,{"$f":"SUM(AH174, -AH175)","v":0},{"$f":"SUM(AI174, -AI175)","v":0},0,0,0,0,0,0]
[]
[null,"RAV and assets"]
[]
[null,null,"Pre-vesting assets"]
[]
[null,null,null,null,"Pre-vesting RAV cost opening balance brought forward (before transfers)",null,"£m 09/10 prices",null,null,null,null,null,null,null,null,null,null,null,null,null,null,null,null,null,null,null,null,null,null,null,null,null,null,1169.3087348131148]
[null,null,null,null,"Pre-vesting RAV cumulative depreciation opening balance brought forward (before transfers)",null,"£m 09/10 prices",null,null,null,null,null,null,null,null,null,null,null,null,null,null,null,null,null,null,null,null,null,null,null,null,null,null,411.1919675729157]
[]
[null,null,null,null,"Pre-vesting asset life",null,"years",null,56]
[null,null,null,null,"Pre-vesting RAV disposals",null,"£m 09/10 prices",null,null,null,null,null,null,null,null,null,null,null,null,null,null,null,null,null,null,null,null,null,null,null,null,null,null,0.41208336587015743,0.10054544000000001,0.18937003806751299,0.98431732300688457,0,0,0,0]
[null,null,null,null,"RAV adjustments from previous price controls (not modelled in PCFM)",null,"years",null,null,null,null,null,null,null,null,null,null,null,null,null,null,null,null,null,null,null,null,null,null,null,null,null,null,45,44,43,42,41,40,39,38]
[]
[null,null,"Post-vesting assets"]
[]
[null,null,null,null,"Gas distribution"]
[null,null,null,null,{"$f":"Input!E192","v":"GD post-vesting asset life"},null,"years",null,45]
[null,null,null,null,{"$f":"Input!E193","v":"GD smoothing profile for recovery of backlog depreciation"},null,"years",null,null,null,null,null,null,null,null,null,null,null,null,null,null,null,null,null,null,null,null,null,null,null,null,null,null,0.125,0.125,0.125,0.125,0.125,0.125,0.125,0.125]
[null,null,null,null,{"$f":"Input!E194","v":"GD start of smoothing period"},null,"year ending",null,"2014-03-31"]
[null,null,null,null,{"$f":"Input!E195","v":"Pre-RIIO net additions to RAV"},null,"£m 09/10 prices",null,null,">",null,null,null,null,null,null,null,null,null,null,null,null,75.643815377923232,52.90597722517969,41.341523914079168,40.090210448140127,42.228402379939915,124.73141570598267,114.87624865437442,112.6346821009857,117.38669885926656,124.16477585921285,100.29303285061489]
[null,null,null,null,"LRAV",null,"£m 09/10 prices",null,null,null,null,null,null,null,null,null,null,null,null,null,null,null,null,null,null,null,null,null,null,null,null,null,null,{"$f":"AH29","v":2.2429100491660554}]
[null,null,null,null,"RIIO post-vesting RAV additions",null,"£m 09/10 prices",null,null,null,null,null,null,null,null,null,null,null,null,null,null,null,null,null,null,null,null,null,null,null,null,null,null,0,0,0,0,0,0,0,0]
[null,null,null,null,"RIIO post-vesting RAV disposals",null,null,null,null,null,null,null,null,null,null,null,null,null,null,null,null,null,null,null,null,null,null,null,null,null,null,null,null,-3.0886687966971315E-2,-0.11524094000000001,-0.11565084809688043,-6.4023076754051125E-2,0,0,0,0]
[null,null,null,null,{"$f":"Input!E199","v":"Pre-RIIO transfers to depreciation"},null,"£m 09/10 prices",null,null,">",null,null,null,null,null,null,null,null,null,null,null,0,0,0,0,0,0,3.691559621868393,2.7170423317798993,1.4125494140179107,3.1758295727924875,3.1403207082200892,0]
[]
[null,null,"Fuel Poor"]
[]
[null,null,null,null,"Post-vesting asset life",null,"years",null,45]
[null,null,null,null,"Years additional customer discount applied",null,"years",null,5]
[]
[null,null,null,null,"NPV of future transportation revenue",null,"£m 09/10 prices",null,null,">",null,null,null,null,null,null,null,null,null,null,null,null,null,null,null,null,null,null,0,0,0,0,0]
[null,null,null,null,"Community based schemes actual capex spend",null,"£m 09/10 prices",null,null,">",null,null,null,null,null,null,null,null,null,null,null,null,null,null,null,null,null,null,0,0,0,0,0]
[]
[null,null,null,null,"One off schemes actual capex spend",null,"£m 09/10 prices",null,null,">",null,null,null,null,null,null,null,null,null,null,null,null,null,null,null,null,null,null,0,0.109,1.8360000000000001,1.881,2.4550000000000001]
[]
[null,"Tax"]
[]
[null,null,"Tax policy"]
[]
[null,null,null,null,{"$f":"E24","v":"Tax liability allowance adjustments - gearing/interest costs"},null,"£m nominal",null,null,null,null,null,null,null,null,null,null,null,null,null,null,null,null,null,null,null,null,null,null,null,null,null,null,{"$f":"AH24","v":0},{"$f":"AI24","v":3.5024364903600143},3.6895024140744561,0,0,0,0,0]
[null,null,null,null,{"$f":"E25","v":"Tax liability allowance adjustments - driven by tax trigger events"},null,"£m 09/10 prices",null,null,null,null,null,null,null,null,null,null,null,null,null,null,null,null,null,null,null,null,null,null,null,null,null,null,{"$f":"AH25","v":0},{"$f":"AI25","v":0},-0.44697510104801097,-0.22885681975420269,-1.3956588044772502,0,0,0]
[]
[null,null,null,null,"Corporation tax rate",null,"%",null,null,">",null,null,null,null,null,null,null,null,null,null,null,null,null,null,0.3,0.3,0.3,0.3,0.28000000000000003,0.28000000000000003,0.28000000000000003,0.26,0.24,0.23,0.21,0.21,0.21,0.21,0.21,0.21,0.21]
[]
[null,null,null,null,"General pool capital allowance rate",null,"%",null,null,">",null,null,null,null,null,null,null,null,null,null,null,0.25,0.25,0.25,0.25,0.25,0.25,0.25,0.2,0.2,0.2,0.2,0.18000000000000002,0.18000000000000002,0.18000000000000002,0.18000000000000002,0.18000000000000002,0.18000000000000002,0.18000000000000002,0.18000000000000002,0.18000000000000002]
[null,null,null,null,"Special Rates capital allowance rate",null,"%",null,null,">",null,null,null,null,null,null,null,null,null,null,null,0.06,0.06,0.06,0.06,0.06,0.06,0.06,0.1,0.1,0.1,0.1,0.08,0.08,0.08,0.08,0.08,0.08,0.08,0.08,0.08]
[null,null,null,null,"Deferred Revenue Expenditure capital allowance rate",null,"%",null,null,">",null,null,null,null,null,null,null,null,null,null,null,null,null,null,null,null,null,null,null,null,null,null,null,2.2200000000000001E-2,2.2200000000000001E-2,2.2200000000000001E-2,2.2200000000000001E-2,2.2200000000000001E-2,2.2200000000000001E-2,2.2200000000000001E-2,2.2200000000000001E-2]
[]
[null,null,"Capital allowances and tax losses"]
[]
[null,null,null,null,"General pool capital allowance opening balance brought forward",null,"£m nominal",null,null,null,null,null,null,null,null,null,null,null,null,null,null,null,null,null,null,null,null,null,null,null,null,null,null,87.001999999999995]
[]
[null,null,null,null,"Special Rate capital allowance opening balance brought forward",null,"£m nominal",null,null,null,null,null,null,null,null,null,null,null,null,null,null,null,null,null,null,null,null,null,null,null,null,null,null,286.488]
[]
[null,null,null,null,"Deferred revenue expenditure opening balance brought forward",null,"£m nominal",null,null,null,null,null,null,null,null,null,null,null,null,null,null,null,null,null,null,null,null,null,null,null,null,null,null,0]
[]
[null,null,null,null,"Tax loss brought forward",null,"£m nominal",null,null,null,null,null,null,null,null,null,null,null,null,null,null,null,null,null,null,null,null,null,null,null,null,null,null,212.24082504436225]
[]
[null,null,"Tax pool allocation"]
[]
[null,null,null,"Allocation to \"General\" pool"]
[]
[null,null,null,null,"Load Related",null,"%",null,null,null,null,null,null,null,null,null,null,null,null,null,null,null,null,null,null,null,null,null,null,null,null,null,null,2.8999999999999998E-3,2.8999999999999998E-3,2.8999999999999998E-3,2.8999999999999998E-3,2.8999999999999998E-3,2.8999999999999998E-3,2.8999999999999998E-3,2.8999999999999998E-3]
[null,null,null,null,"Non-Load Related - other",null,"%",null,null,null,null,null,null,null,null,null,null,null,null,null,null,null,null,null,null,null,null,null,null,null,null,null,null,0.89756098390240724,0.89756098390240724,0.89756098390240724,0.89756098390240724,0.89756098390240724,0.89756098390240724,0.89756098390240724,0.89756098390240724]
[null,null,null,null,"Opex",null,"%",null,null,null,null,null,null,null,null,null,null,null,null,null,null,null,null,null,null,null,null,null,null,null,null,null,null,0,0,0,0,0,0,0,0]
[null,null,null,null,"Repex",null,"%",null,null,null,null,null,null,null,null,null,null,null,null,null,null,null,null,null,null,null,null,null,null,null,null,null,null,0,0,0,0,0,0,0,0]
[]
[null,null,null,"Allocation to \"Special Rate\" pool"]
[]
[null,null,null,null,"Load Related",null,"%",null,null,null,null,null,null,null,null,null,null,null,null,null,null,null,null,null,null,null,null,null,null,null,null,null,null,0.98870000000000002,0.98870000000000002,0.98870000000000002,0.98870000000000002,0.98870000000000002,0.98870000000000002,0.98870000000000002,0.98870000000000002]
[null,null,null,null,"Non-Load Related - other",null,"%",null,null,null,null,null,null,null,null,null,null,null,null,null,null,null,null,null,null,null,null,null,null,null,null,null,null,1.6271113794003381E-2,1.6271113794003381E-2,1.6271113794003381E-2,1.6271113794003381E-2,1.6271113794003381E-2,1.6271113794003381E-2,1.6271113794003381E-2,1.6271113794003381E-2]
[null,null,null,null,"Opex",null,"%",null,null,null,null,null,null,null,null,null,null,null,null,null,null,null,null,null,null,null,null,null,null,null,null,null,null,0,0,0,0,0,0,0,0]
[null,null,null,null,"Repex",null,"%",null,null,null,null,null,null,null,null,null,null,null,null,null,null,null,null,null,null,null,null,null,null,null,null,null,null,0,0,0,0,0,0,0,0]
[]
[null,null,null,"Allocation to \"Deferred Revenue\" pool"]
[]
[null,null,null,null,"Load Related",null,"%",null,null,null,null,null,null,null,null,null,null,null,null,null,null,null,null,null,null,null,null,null,null,null,null,null,null,0,0,0,0,0,0,0,0]
[null,null,null,null,"Non-Load Related - other",null,"%",null,null,null,null,null,null,null,null,null,null,null,null,null,null,null,null,null,null,null,null,null,null,null,null,null,null,0,0,0,0,0,0,0,0]
[null,null,null,null,"Opex",null,"%",null,null,null,null,null,null,null,null,null,null,null,null,null,null,null,null,null,null,null,null,null,null,null,null,null,null,0,0,0,0,0,0,0,0]
[null,null,null,null,"Repex",null,"%",null,null,null,null,null,null,null,null,null,null,null,null,null,null,null,null,null,null,null,null,null,null,null,null,null,null,0,0,1,1,1,1,1,1]
[]
[null,null,null,"Allocation to \"Revenue\" pool"]
[]
[null,null,null,null,"Load Related",null,"%",null,null,null,null,null,null,null,null,null,null,null,null,null,null,null,null,null,null,null,null,null,null,null,null,null,null,0,0,0,0,0,0,0,0]
[null,null,null,null,"Non-Load Related - other",null,"%",null,null,null,null,null,null,null,null,null,null,null,null,null,null,null,null,null,null,null,null,null,null,null,null,null,null,0,0,0,0,0,0,0,0]
[null,null,null,null,"Opex",null,"%",null,null,null,null,null,null,null,null,null,null,null,null,null,null,null,null,null,null,null,null,null,null,null,null,null,null,1,1,1,1,1,1,1,1]
[null,null,null,null,"Repex",null,"%",null,null,null,null,null,null,null,null,null,null,null,null,null,null,null,null,null,null,null,null,null,null,null,null,null,null,1,1,0,0,0,0,0,0]
[]
[null,null,null,"Allocation to \"Non Qualifying\" pool"]
[]
[null,null,null,null,"Load Related",null,"%",null,null,null,null,null,null,null,null,null,null,null,null,null,null,null,null,null,null,null,null,null,null,null,null,null,null,8.4000000000000012E-3,8.4000000000000012E-3,8.4000000000000012E-3,8.4000000000000012E-3,8.4000000000000012E-3,8.4000000000000012E-3,8.4000000000000012E-3,8.4000000000000012E-3]
[null,null,null,null,"Non-Load Related - other",null,"%",null,null,null,null,null,null,null,null,null,null,null,null,null,null,null,null,null,null,null,null,null,null,null,null,null,null,8.6167902303589283E-2,8.6167902303589283E-2,8.6167902303589283E-2,8.6167902303589283E-2,8.6167902303589283E-2,8.6167902303589283E-2,8.6167902303589283E-2,8.6167902303589283E-2]
[null,null,null,null,"Opex",null,"%",null,null,null,null,null,null,null,null,null,null,null,null,null,null,null,null,null,null,null,null,null,null,null,null,null,null,0,0,0,0,0,0,0,0]
[null,null,null,null,"Repex",null,"%",null,null,null,null,null,null,null,null,null,null,null,null,null,null,null,null,null,null,null,null,null,null,null,null,null,null,0,0,0,0,0,0,0,0]
[]
[null,null,null,"Allocation check"]
[null,null,null,"Note: All categories should equal 100%"]
[]
[null,null,null,null,"Load Related",null,"%",null,null,null,null,null,null,null,null,null,null,null,null,null,null,null,null,null,null,null,null,null,null,null,null,null,null,{"$f":"AH238+AH245+AH252+AH259+AH266","v":1},1,1,1,1,1,1,1]
[null,null,null,null,"Non-Load Related - other",null,"%",null,null,null,null,null,null,null,null,null,null,null,null,null,null,null,null,null,null,null,null,null,null,null,null,null,null,0.99999999999999989,0.99999999999999989,0.99999999999999989,0.99999999999999989,0.99999999999999989,0.99999999999999989,0.99999999999999989,0.99999999999999989]
[null,null,null,null,"Opex",null,"%",null,null,null,null,null,null,null,null,null,null,null,null,null,null,null,null,null,null,null,null,null,null,null,null,null,null,1,1,1,1,1,1,1,1]
[null,null,null,null,"Repex",null,"%",null,null,null,null,null,null,null,null,null,null,null,null,null,null,null,null,null,null,null,null,null,null,null,null,null,null,1,1,1,1,1,1,1,1]
[]
[null,null,null,"Tax Trigger Deadbands"]
[]
[null,null,null,null,"Tax Trigger Deadband",null,"£m 09/10 prices",null,null,null,null,null,null,null,null,null,null,null,null,null,null,null,null,null,null,null,null,null,null,null,null,null,null,1.1505382797466641,1.1361345811943602,1.1193976033941275,1.1227450757495376,1.1600317196092877,1.1478173889001966,1.1459053525115468,1.1386472540479209]
[]
[null,null,null,"SIU Costs"]
[]
[null,null,null,null,"SIU Costs",null,"£m 09/10 prices",null,null,null,null,null,null,null,null,null,null,null,null,null,null,null,null,null,null,null,null,null,null,null,null,null,null,0.1,0.1,0.1,0.1,0.1,0.1,0.1,0.1]
[]
[null,null,null,"Additional Income Workings"]
[]
[null,null,null,null,"Original allowed totex",null,null,null,null,null,null,null,null,null,null,null,null,null,null,null,null,null,null,null,null,null,null,null,null,null,null,null,null,212.90495142884083,211.10632571200748,208.18883819916732,205.45440926084973,203.23631443033213,203.34456152237416,207.0432035369667,205.78613236866843]
[null,null,null,null,"Total allowed totex",null,null,null,1657.0647364592066]
[]
[null,"End of sheet"]