{"text_format":"1","workbook":"xlsx","n_sheets":26,"sheets":["Cover","UserInterface","TaxTrigger","MOD","Input","Totex","TIM","DARTs","Depn","SystemOperator","Return&RAV","TaxPools","Finance&Tax","NonCore","Revenue","LiveResults","LiveResults(SO)","SavedResults","SHE-Transmission PLC","SHE-Transmission PLC (Blank - )","SPTL","SPTL (Blank - not used)","NGET TO","NGET TO (Blank - not used)","NGET SO","NGET SO (Blank - not used)"],"not_rendered":{"charts":0,"images":0,"macros":1,"external_links":0,"defined_names":115,"comments":0,"pivot_tables":0},"unopened":[],"bounds":{"document_bytes":16777216,"sheet_cells":100000,"rows_first":2000,"rows_last":500,"rows_between":2000,"halvings":0,"cell_chars":16384,"cell_head_chars":4096},"cells_cut":0,"cells_raw":0,"read":"whole","date_system":"1900"}

{"sheet":"Cover","index":0,"n_rows":44,"n_cols":11,"rows_kept":44,"cut":false,"hidden":false,"merged":[[3,2,3,10]]}
["RIIO price control model"]
[null,"Electricity Transmission"]
[null,null,{"$f":"MID(CELL(\"filename\"),SEARCH(\"[\",CELL(\"filename\"))+1,SEARCH(\"]\",CELL(\"filename\"))-SEARCH(\"[\",CELL(\"filename\"))-1)","v":"ET1 PCFM November 2014 change control 18 (SO Data Centre).xlsm"}]
[null,null,"DISCLAIMER: This purpose of this model is used to calculate Base Revenue (PU) at Final Proposals and MOD terms in subsequent years for Licensees on the basis of Financial Handbook and Licence conditions of the relevant Network Operator"]
[null,"RIIO ET1 Price Control Financial Model for the Annual Iteration Process that will take place by 30 November 2013-14"]
[null,"Model key"]
[]
[null,null,null,null,"Sample",null,"Calculated value",null,"Sample",null,"Information and interface"]
[null,null,null,null,"Sample",null,"Import",null,"Sample",null,"FP fixed input value"]
[null,null,null,null,"Sample",null,"Export",null,"Sample",null,"Annual update input"]
[null,null,null,null,"Sample",null,"Named range",null,"Sample",null,"Input linked from annual update"]
[null,null,null,null,"Sample",null,"Formula change in cells to the right",null,"Sample",null,"Notes and instructions"]
[]
[]
[null,"Contents"]
[]
[null,null,null,null,"INTERFACE >",null,null,null,"COMPANY SPECIFIC INPUT SHEETS >"]
[null,null,null,null,"Cover",null,"Model key and content directory"]
[null,null,null,null,"UserInterface",null,"Model operation",null,"SHE-T PLC (Blank - not used)",null,"Inputs for SHE-Tranmission PLC TO"]
[null,null,null,null,"TaxTrigger",null,"Tax trigger calculations",null,"SPTL",null,"Inputs for SPTL TO"]
[null,null,null,null,"INPUT SELECTION >",null,null,null,"NGET TO",null,"Inputs for NGET TO"]
[null,null,null,null,"MOD Summary",null,null,null,"NGET SO",null,"Inputs for NGET SO"]
[null,null,null,null,"Input",null,"Inputs for selected licensee"]
[null,null,null,null,"CALCULATION >"]
[null,null,null,null,"Totex",null,"Totex allowance and actuals"]
[null,null,null,null,"TIM",null,"Totex Incentive Mechanism and capitalisation"]
[null,null,null,null,"DARTs",null,"Direct Allowance Revenue Terms"]
[null,null,null,null,"Depn",null,"Electricity transmission regulatory depreciation"]
[null,null,null,null,"SystemOperator",null,"System operator calculations"]
[null,null,null,null,"Return&RAV",null,"RAV and return calculations"]
[null,null,null,null,"TaxPools",null,"Tax pools and capital allowances"]
[null,null,null,null,"Finance&Tax",null,"Net debt, equity issuance, financing costs and tax"]
[null,null,null,null,"NonCore",null,"Calculations for non-core regulatory assets (TIRG)"]
[null,null,null,null,"Revenue",null,"Revenue and MOD"]
[null,null,null,null,"OUTPUT >"]
[null,null,null,null,"ResultsLive",null,"Results for selected company"]
[null,null,null,null,"ResultsLive(SO)",null,"Results for SO (for selected company)"]
[null,null,null,null,"SavedResults",null,"Saved results for all companies"]
[]
[]
[]
[]
[]
[null,"End of sheet"]

{"sheet":"UserInterface","index":1,"n_rows":70,"n_cols":7,"rows_kept":70,"cut":false,"hidden":false,"merged":[]}
["User Interface"]
[]
[null,"Model operation"]
[]
[null,null,"View"]
[]
[]
[null,null,null,null,"Select view"]
[]
[null,null,null,null,"Year t selected:",null,{"$f":"INDEX(E67:E68,E69)","v":"Base view"}]
[]
[]
[null,null,"PCFM year t"]
[null,null,"Instruction: Use the following drop-down list to identify year t in the model. Year t is identified here by its end date."]
[]
[null,null,null,null,"Year t selection:"]
[]
[null,null,null,null,"Year t selected:",null,{"$f":"EOMONTH(41364,G62*12)","v":"2016-03-31"}]
[]
[null,null,"Active company"]
[null,null,"Instruction: Use the following drop-down list to select the active company in the model."]
[]
[null,null,null,null,"Company selection:"]
[]
[null,null,null,null,"Selected company:",null,{"$f":"INDEX(E54:E56, E57)","v":"NGET TO"}]
[]
[null,null,"Model state"]
[null,null,"Instruction: Use the following drop-down list to set the model state and run it as either the \"Licence Model\" or the \"Tax Trigger Tool.\""]
[null,null,"Note: \"Tax Trigger Tool\" must be selected here for functionality on the \"TaxTrigger\" sheet to function."]
[null,null,"Selecting \"Licence Model\" ensures that the Tax Trigger Tool functionality is deactivated and does not affect the calculations in the model."]
[]
[null,null,null,null,"Model status selection:"]
[]
[null,null,null,null,"Selected model status:",null,{"$f":" INDEX(E61:E62,m_model_state)","v":"Licence Model"}]
[]
[null,null,"Run model for all licensees"]
[null,null,"Instruction: Click on the left button to save results for the selected company only. Click the right button to save results for all."]
[null,null,"Note: Annual iterations must have been completed for all prior years before running the model to generate MOD."]
[null,null,"The macros save results and values required for future years which cannot be recreated once inputs are revised."]
[null,null,"Running the macro saves the output from year t's iteration for use in future iterations."]
[null,null,"Results for the selected company can be found on the \"LiveResults\" sheet and also on the \"SavedResults\" sheet once saved by a macro."]
[]
[]
[]
[]
[]
[null,"User selection lists"]
[null,"Note: The lists below drive the drop-down lists above."]
[null,"Using the drop-down lists above returns an integer in the \"cell link\" positioned below their \"source list.\""]
[null,"The number returned in the cell link corresponds to the position of the selected item in the source list."]
[null,"The company selection output is set as a \"named range.\" This gives a stable anchor point for the \"RunForAll\" macro to change the company."]
[]
[null,null,null,null,{"$f":"\"Source for ''\"&C20&\"'' drop-down list\"","v":"Source for ''Active company'' drop-down list"},null,{"$f":"\"Source for ''\"&C13&\"'' drop-down list\"","v":"Source for ''PCFM year t'' drop-down list"}]
[null,null,null,null,"SHE-Transmission PLC",null,"2014-03-31"]
[null,null,null,null,"SPTL",null,"2015-03-31"]
[null,null,null,null,"NGET TO",null,"2016-03-31"]
[null,null,null,null,3,null,"2017-03-31"]
[null,null,null,null,"Adjacent named range: m_identity",null,"2018-03-31"]
[null,null,null,null,null,null,"2019-03-31"]
[null,null,null,null,{"$f":"\"Source for ''\"&C27&\"'' drop-down list\"","v":"Source for ''Model state'' drop-down list"},null,"2020-03-31"]
[null,null,null,null,"Licence Model",null,"2021-03-31"]
[null,null,null,null,"Tax Trigger Tool",null,3]
[null,null,null,null,1,null,"Adjacent named range: m_PCFM_year_t"]
[null,null,null,null,"Adjacent named range: m_model_state"]
[]
[null,null,null,null,{"$f":"\"Source for ''\"&C5&\"'' drop-down list\"","v":"Source for ''View'' drop-down list"}]
[null,null,null,null,"Base view"]
[null,null,null,null,"Best view"]
[null,null,null,null,1]
[null,"End of sheet"]

{"sheet":"TaxTrigger","index":2,"n_rows":188,"n_cols":41,"rows_kept":188,"cut":false,"hidden":false,"merged":[]}
["Tax Trigger"]
[null,{"$f":"UserInterface!G25","v":"NGET TO"}]
[null,null,null,null,"Parameter",null,"Units",null,"Constant",null,null,null,null,null,null,null,null,null,null,null,null,null,null,null,null,null,null,null,null,null,null,null,null,"Annual values"]
[null,null,null,null,"PCFM year ending",null,null,null,{"$f":"UserInterface!$G$18","v":"2016-03-31"},null,"1991-03-31","1992-03-31","1993-03-31","1994-03-31","1995-03-31","1996-03-31","1997-03-31","1998-03-31","1999-03-31","2000-03-31","2001-03-31","2002-03-31","2003-03-31","2004-03-31","2005-03-31","2006-03-31","2007-03-31","2008-03-31","2009-03-31","2010-03-31","2011-03-31","2012-03-31","2013-03-31","2014-03-31","2015-03-31","2016-03-31","2017-03-31","2018-03-31","2019-03-31","2020-03-31","2021-03-31"]
[]
[null,"Tax trigger calculation"]
[]
[null,null,"Test operation"]
[null,null,"Instruction: To run the model as the Tax Trigger Tool, the \"model state\" must be set to \"Tax Trigger Tool\" on the \"UserInterface\" sheet. The model state selected is shown below."]
[null,null,"Clicking the macro button below runs the \"TaxTrigger\" macro, performing the Tax Trigger adjustment calculation for the selected licensee for year t."]
[null,null,"The output generated by the macro can be replicated manually using the following steps:"]
[null,null,"1. Clear any values from previous tests in the \"Test state output\" section below (named range \"m_saved_original_results\")"]
[null,null,"2. Set testing state to \"Licence Model\""]
[null,null,"3. Copy the cells marked as the \"m_calculated_tax\" named range and paste them at the named range \"m_saved_original_test.\""]
[null,null,"4. Set testing state to \"Tax Trigger Calculation\""]
[null,null,"Note: The Tax Trigger Tool is disabled if the \"Model state\" below reads \"Licence Model.\""]
[]
[null,null,null,null,"Model state"]
[null,null,null,null,{"$f":"UserInterface!G34","v":"Licence Model"}]
[]
[]
[null,null,null,null,"State selection"]
[]
[]
[null,null,null,null,"State options"]
[null,null,null,null,"Licence Model"]
[null,null,null,null,"Tax Trigger Calculation"]
[null,null,null,null,1]
[null,null,null,null,"Adjacent named range: m_tax_trigger_state"]
[]
[null,null,null,null,"State selected"]
[null,null,null,null,{"$f":"IF(E19 = \"Licence Model\", \"Licence Model\", INDEX(E26:E27, E28))","v":"Licence Model"}]
[]
[null,null,null,null,"Run macro"]
[]
[]
[]
[]
[null,null,"Transmission operator"]
[]
[null,null,null,"Tax calculation"]
[]
[null,null,null,null,null,null,null,null,"Instruction"]
[null,null,null,null,"Profits attributable to corporation tax",null,null,null,null,null,null,null,null,null,null,null,null,null,null,null,null,null,null,null,null,null,null,null,null,null,null,null,null,{"$f":"'Finance&Tax'!AH199*Input!$AD$46/Input!AH$46","v":323.52916570420541},{"$f":"'Finance&Tax'!AI199*Input!$AD$46/Input!AI$46","v":291.85479353759911},{"$f":"'Finance&Tax'!AJ199*Input!$AD$46/Input!AJ$46","v":259.28042070107313},{"$f":"'Finance&Tax'!AK199*Input!$AD$46/Input!AK$46","v":279.15657263932269},{"$f":"'Finance&Tax'!AL199*Input!$AD$46/Input!AL$46","v":248.69898850586219},{"$f":"'Finance&Tax'!AM199*Input!$AD$46/Input!AM$46","v":260.05544707197987},{"$f":"'Finance&Tax'!AN199*Input!$AD$46/Input!AN$46","v":254.78867859935323},{"$f":"'Finance&Tax'!AO199*Input!$AD$46/Input!AO$46","v":256.66241796086541}]
[null,null,null,null,"Corporation tax rate",null,null,null,null,null,null,null,null,null,null,null,null,null,null,null,null,null,null,null,null,null,null,null,null,null,null,null,null,{"$f":"'Finance&Tax'!AH217","v":0.23},{"$f":"'Finance&Tax'!AI217","v":0.21},{"$f":"'Finance&Tax'!AJ217","v":0.21},{"$f":"'Finance&Tax'!AK217","v":0.21},{"$f":"'Finance&Tax'!AL217","v":0.21},{"$f":"'Finance&Tax'!AM217","v":0.21},{"$f":"'Finance&Tax'!AN217","v":0.21},{"$f":"'Finance&Tax'!AO217","v":0.21}]
[null,null,null,null,"Grossing-up factor for tax on tax charge ",null,null,null,null,null,null,null,null,null,null,null,null,null,null,null,null,null,null,null,null,null,null,null,null,null,null,null,null,{"$f":"'Finance&Tax'!AH220","v":1.2987012987012987},{"$f":"'Finance&Tax'!AI220","v":1.2658227848101264},{"$f":"'Finance&Tax'!AJ220","v":1.2658227848101264},{"$f":"'Finance&Tax'!AK220","v":1.2658227848101264},{"$f":"'Finance&Tax'!AL220","v":1.2658227848101264},{"$f":"'Finance&Tax'!AM220","v":1.2658227848101264},{"$f":"'Finance&Tax'!AN220","v":1.2658227848101264},{"$f":"'Finance&Tax'!AO220","v":1.2658227848101264}]
[null,null,null,null,"Corporation tax charge (tax allowance) before losses",null,null,null,null,null,null,null,null,null,null,null,null,null,null,null,null,null,null,null,null,null,null,null,null,null,null,null,null,{"$f":"AH45*AH44*AH46","v":96.638581963593822},{"$f":"AI45*AI44*AI46","v":77.581653978349124},68.922643477500444,74.206177537035131,66.109857704089933,69.12866314571616,67.728636083372365,68.226718698457887]
[]
[null,null,null,null,"Tax allowance (pre losses) before tax trigger",null,"£m 09/10 prices",null,null,null,null,null,null,null,null,null,null,null,null,null,null,null,null,null,null,null,null,null,null,null,null,null,null,{"$f":"AH47","v":96.638581963593822},{"$f":"AI47","v":77.581653978349124},68.922643477500444,74.206177537035131,66.109857704089933,69.12866314571616,67.728636083372365,68.226718698457887]
[null,null,null,null,"B event value",null,"£m 09/10 prices",null,null,null,null,null,null,null,null,null,null,null,null,null,null,null,null,null,null,null,null,null,null,null,null,null,null,{"$f":"AH161","v":0},{"$f":"AI161","v":0},0,0,0,0,0,0]
[null,null,null,null,"Threshold value adjustment",null,"£m 09/10 prices",null,null,null,null,null,null,null,null,null,null,null,null,null,null,null,null,null,null,null,null,null,null,null,null,null,null,{"$f":"AH106","v":-4.4960765320968576},{"$f":"AI106","v":-4.9308742400311196},{"$f":"AJ106","v":-5.2197545237258787},-5.5253695432128369,-5.5677774394135779,-5.8969222568250137,-5.779975933381202,-5.7361649378867847]
[null,null,null,null,"Tax allowance",null,"£m 09/10 prices",null,{"$f":"IF( m_tax_trigger_state = 1, \"Copy cells -->\",\"-\")","v":"Copy cells -->"},null,null,null,null,null,null,null,null,null,null,null,null,null,null,null,null,null,null,null,null,null,null,null,null,{"$f":"SUM(AH49:AH51)","v":92.142505431496971},72.650779738318008,63.702888953774561,68.680807993822299,60.542080264676358,63.231740888891146,61.948660149991163,62.490553760571103]
[null,null,null,null,null,null,null,null,null,null,null,null,null,null,null,null,null,null,null,null,null,null,null,null,null,null,null,null,null,null,null,null,null,"Adjacent named range: m_calculated_tax"]
[null,null,null,"Test state output"]
[null,null,null,"Note: The formula determines whether the recalculated tax is above or below the threshold and sets the adjustment accordingly"]
[]
[null,null,null,null,null,null,null,null,"Instruction"]
[null,null,null,null,"Value with original settings",null,"£m 09/10 prices",null,{"$f":"IF( m_tax_trigger_state = 1, \"Paste cells -->\",\"-\")","v":"Paste cells -->"},null,null,null,null,null,null,null,null,null,null,null,null,null,null,null,null,null,null,null,null,null,null,null,"m_tax_trigger_results",7.4879607070453407,4.8050858177208564,6.2496713494831369,4.9972581435371781,2.0053703055551964,1.1908693854066623,4.055343008116699,6.8159383874779165]
[null,null,null,null,null,null,null,null,null,null,null,null,null,null,null,null,null,null,null,null,null,null,null,null,null,null,null,null,null,null,null,null,null,"Adjacent named range: m_saved_original_test"]
[null,null,null,null,"Value with new settings and threshold adjustment",null,"text",null,null,null,null,null,null,null,null,null,null,null,null,null,null,null,null,null,null,null,null,null,null,null,null,null,null,{"$f":"AH52","v":92.142505431496971},{"$f":"AI52","v":72.650779738318008},63.702888953774561,68.680807993822299,60.542080264676358,63.231740888891146,61.948660149991163,62.490553760571103]
[]
[null,null,null,"Result and output"]
[null,null,null,"Note: Once the test is complete, the \"Tax Trigger adjustment\" below can be taken from below and inputted to the PCFM set to run as the Licence Model, rather than the Tax Trigger Tool."]
[]
[null,null,null,null,"TO tax trigger adjustment",null,"£m 09/10 prices",null,null,null,null,null,null,null,null,null,null,null,null,null,null,null,null,null,null,null,null,null,null,null,null,null,null,{"$f":"IF(AND(m_tax_trigger_state=2,m_model_state=2),IF(ABS((AH49+AH50)-AH58)> ABS(AH106), AH60 - AH58, 0),0)","v":0},0,0,0,0,0,0,0]
[]
[null,null,"System operator"]
[]
[null,null,null,"SO tax calculation"]
[null,null,null,null,null,null,null,null,"Instruction"]
[null,null,null,null,"Profits attributable to corporation tax",null,null,null,null,null,null,null,null,null,null,null,null,null,null,null,null,null,null,null,null,null,null,null,null,null,null,null,null,{"$f":"SystemOperator!AH328 * Input!$AD$46 / Input!AH$46","v":6.0986529292299352},{"$f":"SystemOperator!AI328 * Input!$AD$46 / Input!AI$46","v":4.57622022860693},{"$f":"SystemOperator!AJ328 * Input!$AD$46 / Input!AJ$46","v":1.7788085020506299},{"$f":"SystemOperator!AK328 * Input!$AD$46 / Input!AK$46","v":1.8572827419627196},{"$f":"SystemOperator!AL328 * Input!$AD$46 / Input!AL$46","v":5.0954981670982438},{"$f":"SystemOperator!AM328 * Input!$AD$46 / Input!AM$46","v":0.88789325026364196},{"$f":"SystemOperator!AN328 * Input!$AD$46 / Input!AN$46","v":5.0010194711020048},{"$f":"SystemOperator!AO328 * Input!$AD$46 / Input!AO$46","v":4.4906668310992037}]
[null,null,null,null,"Corporation tax rate",null,null,null,null,null,null,null,null,null,null,null,null,null,null,null,null,null,null,null,null,null,null,null,null,null,null,null,null,{"$f":"SystemOperator!AH349","v":0.23},{"$f":"SystemOperator!AI349","v":0.21},{"$f":"SystemOperator!AJ349","v":0.21},{"$f":"SystemOperator!AK349","v":0.21},{"$f":"SystemOperator!AL349","v":0.21},{"$f":"SystemOperator!AM349","v":0.21},{"$f":"SystemOperator!AN349","v":0.21},{"$f":"SystemOperator!AO349","v":0.21}]
[null,null,null,null,"Grossing-up factor for tax on tax charge ",null,null,null,null,null,null,null,null,null,null,null,null,null,null,null,null,null,null,null,null,null,null,null,null,null,null,null,null,{"$f":"SystemOperator!AH352","v":1.2987012987012987},{"$f":"SystemOperator!AI352","v":1.2658227848101264},{"$f":"SystemOperator!AJ352","v":1.2658227848101264},{"$f":"SystemOperator!AK352","v":1.2658227848101264},{"$f":"SystemOperator!AL352","v":1.2658227848101264},{"$f":"SystemOperator!AM352","v":1.2658227848101264},{"$f":"SystemOperator!AN352","v":1.2658227848101264},{"$f":"SystemOperator!AO352","v":1.2658227848101264}]
[null,null,null,null,"Corporation tax charge (tax allowance) before losses",null,null,null,null,null,null,null,null,null,null,null,null,null,null,null,null,null,null,null,null,null,null,null,null,null,null,null,null,{"$f":"AH72*AH71*AH73","v":1.8216755502894613},{"$f":"AI72*AI71*AI73","v":1.216463605072728},0.47284782965902816,0.49370807064831784,1.3544995127729507,0.23602225639919591,1.329384922698001,1.1937215626972566]
[]
[null,null,null,null,"Tax allowance (pre losses) before tax trigger",null,"£m 09/10 prices",null,null,null,null,null,null,null,null,null,null,null,null,null,null,null,null,null,null,null,null,null,null,null,null,null,null,{"$f":"AH74","v":1.8216755502894613},{"$f":"AI74","v":1.216463605072728},0.47284782965902816,0.49370807064831784,1.3544995127729507,0.23602225639919591,1.329384922698001,1.1937215626972566]
[null,null,null,null,"B event value",null,"£m 09/10 prices",null,null,null,null,null,null,null,null,null,null,null,null,null,null,null,null,null,null,null,null,null,null,null,null,null,null,{"$f":"AH168","v":0},{"$f":"AI168","v":0},0,0,0,0,0,0]
[null,null,null,null,"Threshold value adjustment",null,"£m 09/10 prices",null,null,null,null,null,null,null,null,null,null,null,null,null,null,null,null,null,null,null,null,null,null,null,null,null,null,{"$f":"AH112","v":-0.41312224620250881},{"$f":"AI112","v":-0.37562430291702936},-0.37894329087798889,-0.38670940010544497,-0.40633757055616232,-0.38967039518863461,-0.41313027310191663,-0.41812451649780763]
[null,null,null,null,"Tax allowance",null,"£m 09/10 prices",null,{"$f":"IF( m_tax_trigger_state = 1, \"Copy cells -->\",\"\")","v":"Copy cells -->"},null,null,null,null,null,null,null,null,null,null,null,null,null,null,null,null,null,null,null,null,null,null,null,null,{"$f":"SUM(AH76:AH78)","v":1.4085533040869525},0.84083930215569858,9.3904538781039271E-2,0.10699867054287288,0.9481619422167884,-0.1536481387894387,0.91625464959608438,0.77559704619944903]
[null,null,null,null,null,null,null,null,null,null,null,null,null,null,null,null,null,null,null,null,null,null,null,null,null,null,null,null,null,null,null,null,null,"Adjacent named range: m_SO_calculated_tax"]
[null,null,null,"Test state output"]
[null,null,null,"Note: The formula determines whether the recalculated tax is above or below the threshold and sets the adjustment accordingly"]
[]
[null,null,null,null,null,null,null,null,"Instruction"]
[null,null,null,null,"Value with original settings",null,"£m 09/10 prices",null,{"$f":"IF( m_tax_trigger_state = 1, \"Paste cells -->\",\"\")","v":"Paste cells -->"},null,null,null,null,null,null,null,null,null,null,null,null,null,null,null,null,null,null,null,null,null,null,null,"m_tax_trigger_results",0,0,0,0,0,0,0,0]
[null,null,null,null,null,null,null,null,null,null,null,null,null,null,null,null,null,null,null,null,null,null,null,null,null,null,null,null,null,null,null,null,null,"Adjacent named range: m_SO_saved_original_test"]
[null,null,null,null,"Value with new settings and threshold adjustment",null,"text",null,null,null,null,null,null,null,null,null,null,null,null,null,null,null,null,null,null,null,null,null,null,null,null,null,null,{"$f":"AH79","v":1.4085533040869525},{"$f":"AI79","v":0.84083930215569858},9.3904538781039271E-2,0.10699867054287288,0.9481619422167884,-0.1536481387894387,0.91625464959608438,0.77559704619944903]
[]
[null,null,null,"Result and output"]
[null,null,null,"Note: Once the test is complete, the \"Tax Trigger adjustment\" below can be taken from below and inputted to the PCFM set to run as the Licence Model, rather than the Tax Trigger Tool."]
[]
[null,null,null,null,"SO tax trigger adjustment",null,"£m 09/10 prices",null,null,null,null,null,null,null,null,null,null,null,null,null,null,null,null,null,null,null,null,null,null,null,null,null,null,{"$f":"IF(AND(m_tax_trigger_state=2,m_model_state=2),IF(ABS((AH76+AH77)-AH85)> ABS(AH112), AH87 - AH85, 0),0)","v":0},0,0,0,0,0,0,0]
[]
[null,"Tax trigger parameters"]
[null,"Instruction: Enter values in the yellow cells below for use in the Tax Trigger test."]
[null,"Note: Flags are used throughout to indicate whether the original or Tax Trigger value is being used. The live values below are exported for use throughout the model."]
[]
[null,null,"Active policy"]
[]
[null,null,null,null,"Tax trigger tax settings are used",null,"flag",null,null,null,null,null,null,null,null,null,null,null,null,null,null,null,null,null,null,null,null,null,null,null,null,null,null,{"$f":"IF(AND(AH$4 <= $I4, m_tax_trigger_state = 2, m_model_state=2), TRUE, FALSE)","v":false},false,false,false,false,false,false,false]
[]
[null,null,"TO threshold"]
[]
[null,null,null,null,"Threshold value",null,"£m 09/10 prices",null,null,null,null,null,null,null,null,null,null,null,null,null,null,null,null,null,null,null,null,null,null,null,null,null,null,{"$f":"CHOOSE(m_identity,AH174,AH175,AH176)","v":4.4960765320968576},4.9308742400311196,5.2197545237258787,5.5253695432128369,5.5677774394135779,5.8969222568250137,5.779975933381202,5.7361649378867847]
[]
[null,null,null,null,"Threshold value applied",null,"£m 09/10 prices",null,null,null,null,null,null,null,null,null,null,null,null,null,null,null,null,null,null,null,null,null,null,null,null,null,null,{"$f":"IF(OR((AH49+AH50)= AH58, AH58 = \"\"), 0, IF(AH58 < (AH49+AH50), -AH104, +AH104))","v":-4.4960765320968576},{"$f":"IF(OR((AI49+AI50)= AI58, AI58 = \"\"), 0, IF(AI58 < (AI49+AI50), -AI104, +AI104))","v":-4.9308742400311196},-5.2197545237258787,-5.5253695432128369,-5.5677774394135779,-5.8969222568250137,-5.779975933381202,-5.7361649378867847]
[]
[null,null,"SO threshold"]
[]
[null,null,null,null,"Threshold value",null,"£m 09/10 prices",null,null,null,null,null,null,null,null,null,null,null,null,null,null,null,null,null,null,null,null,null,null,null,null,null,null,{"$f":"CHOOSE(m_identity,0,0,AH180)","v":0.41312224620250881},0.37562430291702936,0.37894329087798889,0.38670940010544497,0.40633757055616232,0.38967039518863461,0.41313027310191663,0.41812451649780763]
[]
[null,null,null,null,"Threshold value applied",null,"£m 09/10 prices",null,null,null,null,null,null,null,null,null,null,null,null,null,null,null,null,null,null,null,null,null,null,null,null,null,null,{"$f":"IF(OR((AH76+AH77) = AH85, AH85 = \"\"), 0, IF(AH85 < (AH76+AH77), -AH110, +AH110))","v":-0.41312224620250881},{"$f":"IF(OR((AI76+AI77) = AI85, AI85 = \"\"), 0, IF(AI85 < (AI76+AI77), -AI110, +AI110))","v":-0.37562430291702936},-0.37894329087798889,-0.38670940010544497,-0.40633757055616232,-0.38967039518863461,-0.41313027310191663,-0.41812451649780763]
[]
[null,null,"Corporation tax rate"]
[]
[null,null,null,null,"Active",null,"text",null,null,null,null,null,null,null,null,null,null,null,null,null,null,null,null,null,null,null,null,null,null,null,null,null,null,{"$f":"AH$100 = FALSE()","v":true},true,true,true,true,true,true,true]
[null,null,null,null,"RIIO",null,"%",null,null,">",null,null,null,null,null,null,null,null,null,null,null,null,null,null,{"$f":"Input!Y301","v":0.3},{"$f":"Input!Z301","v":0.3},{"$f":"Input!AA301","v":0.3},{"$f":"Input!AB301","v":0.3},{"$f":"Input!AC301","v":0.28000000000000003},{"$f":"Input!AD301","v":0.28000000000000003},{"$f":"Input!AE301","v":0.28000000000000003},{"$f":"Input!AF301","v":0.26},{"$f":"Input!AG301","v":0.24},{"$f":"Input!AH301","v":0.23},{"$f":"Input!AI301","v":0.21},{"$f":"Input!AJ301","v":0.21},{"$f":"Input!AK301","v":0.21},{"$f":"Input!AL301","v":0.21},{"$f":"Input!AM301","v":0.21},{"$f":"Input!AN301","v":0.21},{"$f":"Input!AO301","v":0.21}]
[]
[null,null,null,null,"Active",null,"text",null,null,null,null,null,null,null,null,null,null,null,null,null,null,null,null,null,null,null,null,null,null,null,null,null,null,{"$f":"AH$100","v":false},false,false,false,false,false,false,false]
[null,null,null,null,"Tax trigger",null,"%",null,null,null,null,null,null,null,null,null,null,null,null,null,null,null,null,null,null,null,null,null,null,null,null,null,null,{"$f":"AH117","v":0.23},0.21,0.2,0.2,0.2,0.2,0.2,0.2]
[]
[null,null,null,null,"Applied",null,"%",null,null,">",null,null,null,null,null,null,null,null,null,null,null,null,null,null,{"$f":"Y117","v":0.3},{"$f":"Z117","v":0.3},{"$f":"AA117","v":0.3},0.3,0.28000000000000003,0.28000000000000003,0.28000000000000003,0.26,0.24,{"$f":"(AH116 * AH117) + (AH119 * AH120)","v":0.23},{"$f":"(AI116 * AI117) + (AI119 * AI120)","v":0.21},0.21,0.21,0.21,0.21,0.21,0.21]
[]
[null,null,"Capital allowance rate"]
[]
[null,null,null,"General pool"]
[]
[null,null,null,null,"Active",null,"text",null,null,null,null,null,null,null,null,null,null,null,null,null,null,null,null,null,null,null,null,null,null,null,null,null,null,{"$f":"AH$100 = FALSE()","v":true},true,true,true,true,true,true,true]
[null,null,null,null,"RIIO",null,"%",null,null,null,null,null,null,null,null,null,null,null,null,null,null,{"$f":"Input!V303","v":0.25},{"$f":"Input!W303","v":0.25},{"$f":"Input!X303","v":0.25},{"$f":"Input!Y303","v":0.25},{"$f":"Input!Z303","v":0.25},{"$f":"Input!AA303","v":0.25},{"$f":"Input!AB303","v":0.25},{"$f":"Input!AC303","v":0.2},{"$f":"Input!AD303","v":0.2},{"$f":"Input!AE303","v":0.2},{"$f":"Input!AF303","v":0.2},{"$f":"Input!AG303","v":0.18000000000000002},{"$f":"Input!AH303","v":0.18000000000000002},{"$f":"Input!AI303","v":0.18000000000000002},{"$f":"Input!AJ303","v":0.18000000000000002},{"$f":"Input!AK303","v":0.18000000000000002},{"$f":"Input!AL303","v":0.18000000000000002},{"$f":"Input!AM303","v":0.18000000000000002},{"$f":"Input!AN303","v":0.18000000000000002},{"$f":"Input!AO303","v":0.18000000000000002}]
[]
[null,null,null,null,"Active",null,"text",null,null,null,null,null,null,null,null,null,null,null,null,null,null,null,null,null,null,null,null,null,null,null,null,null,null,{"$f":"AH$100","v":false},false,false,false,false,false,false,false]
[null,null,null,null,"Tax trigger",null,"%",null,null,null,null,null,null,null,null,null,null,null,null,null,null,null,null,null,null,null,null,null,null,null,null,null,null,{"$f":"AH129","v":0.18000000000000002},{"$f":"AI129","v":0.18000000000000002},0.18000000000000002,0.18000000000000002,0.18000000000000002,0.18000000000000002,0.18000000000000002,0.18000000000000002]
[]
[null,null,null,null,"Applied",null,"%",null,null,null,null,null,null,null,null,null,null,null,null,null,null,{"$f":"V129","v":0.25},0.25,0.25,0.25,0.25,0.25,0.25,0.2,0.2,0.2,0.2,{"$f":"AG129","v":0.18000000000000002},{"$f":"(AH128 * AH129) + (AH131 * AH132)","v":0.18000000000000002},0.18000000000000002,0.18000000000000002,0.18000000000000002,0.18000000000000002,0.18000000000000002,0.18000000000000002,0.18000000000000002]
[]
[null,null,null,"Special Rate pool"]
[]
[null,null,null,null,"Active",null,"text",null,null,null,null,null,null,null,null,null,null,null,null,null,null,null,null,null,null,null,null,null,null,null,null,null,null,{"$f":"AH$100 = FALSE()","v":true},true,true,true,true,true,true,true]
[null,null,null,null,"RIIO",null,"%",null,null,">",null,null,null,null,null,null,null,null,null,null,null,{"$f":"Input!V304","v":0.06},{"$f":"Input!W304","v":0.06},{"$f":"Input!X304","v":0.06},{"$f":"Input!Y304","v":0.06},{"$f":"Input!Z304","v":0.06},{"$f":"Input!AA304","v":0.06},{"$f":"Input!AB304","v":0.06},{"$f":"Input!AC304","v":0.1},{"$f":"Input!AD304","v":0.1},{"$f":"Input!AE304","v":0.1},{"$f":"Input!AF304","v":0.1},{"$f":"Input!AG304","v":0.08},{"$f":"Input!AH304","v":0.08},{"$f":"Input!AI304","v":0.08},{"$f":"Input!AJ304","v":0.08},{"$f":"Input!AK304","v":0.08},{"$f":"Input!AL304","v":0.08},{"$f":"Input!AM304","v":0.08},{"$f":"Input!AN304","v":0.08},{"$f":"Input!AO304","v":0.08}]
[]
[null,null,null,null,"Active",null,"text",null,null,null,null,null,null,null,null,null,null,null,null,null,null,null,null,null,null,null,null,null,null,null,null,null,null,{"$f":"AH$100","v":false},false,false,false,false,false,false,false]
[null,null,null,null,"Tax trigger",null,"%",null,null,null,null,null,null,null,null,null,null,null,null,null,null,null,null,null,null,null,null,null,null,null,null,null,null,{"$f":"AH139","v":0.08},{"$f":"AI139","v":0.08},0.08,0.08,0.08,0.08,0.08,0.08]
[]
[null,null,null,null,"Applied",null,"%",null,null,">",null,null,null,null,null,null,null,null,null,null,null,{"$f":"V139","v":0.06},{"$f":"W139","v":0.06},{"$f":"X139","v":0.06},{"$f":"Y139","v":0.06},{"$f":"Z139","v":0.06},{"$f":"AA139","v":0.06},0.06,0.1,0.1,0.1,0.1,0.08,{"$f":"(AH138 * AH139) + (AH141 * AH142)","v":0.08},0.08,0.08,0.08,0.08,0.08,0.08,0.08]
[]
[null,null,null,"Deferred revenue writing down allowance rate"]
[]
[null,null,null,null,"Active",null,"text",null,null,null,null,null,null,null,null,null,null,null,null,null,null,null,null,null,null,null,null,null,null,null,null,null,null,{"$f":"AH$100 = FALSE()","v":true},true,true,true,true,true,true,true]
[null,null,null,null,"RIIO",null,"%",null,null,">",null,null,null,null,null,null,null,null,null,null,null,{"$f":"Input!V305","v":0},{"$f":"Input!W305","v":0},{"$f":"Input!X305","v":0},{"$f":"Input!Y305","v":0},{"$f":"Input!Z305","v":0},{"$f":"Input!AA305","v":0},{"$f":"Input!AB305","v":0},{"$f":"Input!AC305","v":0},{"$f":"Input!AD305","v":0},{"$f":"Input!AE305","v":0},{"$f":"Input!AF305","v":0},{"$f":"Input!AG305","v":0},{"$f":"Input!AH305","v":0.03},{"$f":"Input!AI305","v":0.03},{"$f":"Input!AJ305","v":0.03},{"$f":"Input!AK305","v":0.03},{"$f":"Input!AL305","v":0.03},{"$f":"Input!AM305","v":0.03},{"$f":"Input!AN305","v":0.03},{"$f":"Input!AO305","v":0.03}]
[]
[null,null,null,null,"Active",null,"text",null,null,null,null,null,null,null,null,null,null,null,null,null,null,null,null,null,null,null,null,null,null,null,null,null,null,{"$f":"AH$100","v":false},false,false,false,false,false,false,false]
[null,null,null,null,"Tax trigger",null,"%",null,null,null,null,null,null,null,null,null,null,null,null,null,null,null,null,null,null,null,null,null,null,null,null,null,null,{"$f":"AH149","v":0.03},{"$f":"AI149","v":0.03},0.03,0.03,0.03,0.03,0.03,0.03]
[]
[null,null,null,null,"Applied",null,"%",null,null,">",null,null,null,null,null,null,null,null,null,null,null,{"$f":"V149","v":0},0,0,0,0,0,0,0,0,0,0,{"$f":"AG149","v":0},{"$f":"(AH148 * AH149) + (AH151 * AH152)","v":0.03},0.03,0.03,0.03,0.03,0.03,0.03,0.03]
[]
[null,null,"TO B event value"]
[]
[null,null,null,null,"Active",null,"text",null,null,null,null,null,null,null,null,null,null,null,null,null,null,null,null,null,null,null,null,null,null,null,null,null,null,{"$f":"AH$100","v":false},false,false,false,false,false,false,false]
[null,null,null,null,"Tax trigger",null,"£m 09/10 prices",null,null,null,null,null,null,null,null,null,null,null,null,null,null,null,null,null,null,null,null,null,null,null,null,null,null,{"$f":"INDEX(AH186:AH188,MATCH($B$2,$E$186:$E$188,0),1)","v":0},{"$f":"INDEX(AI186:AI188,MATCH($B$2,$E$186:$E$188,0),1)","v":0},0,0,0,0,0,0]
[]
[null,null,null,null,"Applied",null,"£m 09/10 prices",null,null,null,null,null,null,null,null,null,null,null,null,null,null,null,null,null,null,null,null,null,null,null,null,null,null,{"$f":"AH158 * AH159","v":0},{"$f":"AI158 * AI159","v":0},0,0,0,0,0,0]
[]
[null,null,"SO B event value"]
[]
[null,null,null,null,"Active",null,"text",null,null,null,null,null,null,null,null,null,null,null,null,null,null,null,null,null,null,null,null,null,null,null,null,null,null,{"$f":"AH$100","v":false},false,false,false,false,false,false,false]
[null,null,null,null,"Tax trigger",null,"£m 09/10 prices",null,null,null,null,null,null,null,null,null,null,null,null,null,null,null,null,null,null,null,null,null,null,null,null,null,null,0,0,0,0,0,0,0,0]
[]
[null,null,null,null,"Applied",null,"£m 09/10 prices",null,null,null,null,null,null,null,null,null,null,null,null,null,null,null,null,null,null,null,null,null,null,null,null,null,null,{"$f":"AH165 * AH166","v":0},{"$f":"AI165 * AI166","v":0},0,0,0,0,0,0]
[]
[null,null,"Tax Trigger Deadbands"]
[]
[null,null,null,null,"TO"]
[]
[null,null,null,null,"SHE-Transmission PLC",null,null,null,null,null,null,null,null,null,null,null,null,null,null,null,null,null,null,null,null,null,null,null,null,null,null,null,null,{"$f":"'SHE-Transmission PLC'!AH370","v":0.53301284394067427},{"$f":"'SHE-Transmission PLC'!AI370","v":0.77005073153817072},{"$f":"'SHE-Transmission PLC'!AJ370","v":0.91811698903634509},{"$f":"'SHE-Transmission PLC'!AK370","v":0.98402739521523697},{"$f":"'SHE-Transmission PLC'!AL370","v":1.019281906400145},{"$f":"'SHE-Transmission PLC'!AM370","v":1.0702234046885168},{"$f":"'SHE-Transmission PLC'!AN370","v":1.1367784542223225},{"$f":"'SHE-Transmission PLC'!AO370","v":1.2276774950292959}]
[null,null,null,null,"SPTL",null,null,null,null,null,null,null,null,null,null,null,null,null,null,null,null,null,null,null,null,null,null,null,null,null,null,null,null,{"$f":"SPTL!AH370","v":0.74484340555439421},{"$f":"SPTL!AI370","v":0.7939215701994341},{"$f":"SPTL!AJ370","v":0.88700961397791545},{"$f":"SPTL!AK370","v":0.87250608023690179},{"$f":"SPTL!AL370","v":0.9092160731470198},{"$f":"SPTL!AM370","v":0.93946392035967863},{"$f":"SPTL!AN370","v":0.95782903535328134},{"$f":"SPTL!AO370","v":0.93462597019936156}]
[null,null,null,null,"NGET",null,null,null,null,null,null,null,null,null,null,null,null,null,null,null,null,null,null,null,null,null,null,null,null,null,null,null,null,{"$f":"'NGET TO'!AH370","v":4.4960765320968576},{"$f":"'NGET TO'!AI370","v":4.9308742400311196},{"$f":"'NGET TO'!AJ370","v":5.2197545237258787},{"$f":"'NGET TO'!AK370","v":5.5253695432128369},{"$f":"'NGET TO'!AL370","v":5.5677774394135779},{"$f":"'NGET TO'!AM370","v":5.8969222568250137},{"$f":"'NGET TO'!AN370","v":5.779975933381202},{"$f":"'NGET TO'!AO370","v":5.7361649378867847}]
[]
[null,null,null,null,"SO"]
[]
[null,null,null,null,"NGET",null,null,null,null,null,null,null,null,null,null,null,null,null,null,null,null,null,null,null,null,null,null,null,null,null,null,null,null,{"$f":"'NGET SO'!AH113","v":0.41312224620250881},{"$f":"'NGET SO'!AI113","v":0.37562430291702936},{"$f":"'NGET SO'!AJ113","v":0.37894329087798889},{"$f":"'NGET SO'!AK113","v":0.38670940010544497},{"$f":"'NGET SO'!AL113","v":0.40633757055616232},{"$f":"'NGET SO'!AM113","v":0.38967039518863461},{"$f":"'NGET SO'!AN113","v":0.41313027310191663},{"$f":"'NGET SO'!AO113","v":0.41812451649780763}]
[]
[null,null,"TO Type B event values for each Operator"]
[]
[null,null,null,null,"TO"]
[]
[null,null,null,null,"SHE-Transmission PLC",null,"£m 09/10 prices",null,null,null,null,null,null,null,null,null,null,null,null,null,null,null,null,null,null,null,null,null,null,null,null,null,null,0,0,0,0,0,0,0,0]
[null,null,null,null,"SPTL",null,"£m 09/10 prices",null,null,null,null,null,null,null,null,null,null,null,null,null,null,null,null,null,null,null,null,null,null,null,null,null,null,0,0,0,0,0,0,0,0]
[null,null,null,null,"NGET TO",null,"£m 09/10 prices",null,null,null,null,null,null,null,null,null,null,null,null,null,null,null,null,null,null,null,null,null,null,null,null,null,null,0,0,0,0,0,0,0,0]

{"sheet":"MOD","index":3,"n_rows":10,"n_cols":41,"rows_kept":10,"cut":false,"hidden":false,"merged":[]}
["MOD Summary"]
[null,{"$f":"UserInterface!G25","v":"NGET TO"}]
[null,null,null,null,"Parameter",null,"Units",null,"Constant",null,null,null,null,null,null,null,null,null,null,null,null,null,null,null,null,null,null,null,null,null,null,null,null,"Annual values"]
[null,null,null,null,"PCFM year ending",null,null,null,{"$f":"UserInterface!$G$18","v":"2016-03-31"},null,"1991-03-31","1992-03-31","1993-03-31","1994-03-31","1995-03-31","1996-03-31","1997-03-31","1998-03-31","1999-03-31","2000-03-31","2001-03-31","2002-03-31","2003-03-31","2004-03-31","2005-03-31","2006-03-31","2007-03-31","2008-03-31","2009-03-31","2010-03-31","2011-03-31","2012-03-31","2013-03-31","2014-03-31","2015-03-31","2016-03-31","2017-03-31","2018-03-31","2019-03-31","2020-03-31","2021-03-31"]
[null,null,null,null,"Note: Base revenue referred to in the PCFM is not the BRt terms quoted in the licence as this also includes the terms TRUE and RPIFt which relate to retail price index adjustments"]
[null,null,null,null,{"$f":"UserInterface!E18","v":"Year t selected:"},null,{"$f":"UserInterface!G18","v":"2016-03-31"}]
[]
[null,null,null,null,{"$f":"Revenue!E64","v":"Final Proposals base revenue"},null,null,null,null,null,null,null,null,null,null,null,null,null,null,null,null,null,null,null,null,null,null,null,null,null,null,null,null,{"$f":"Revenue!AH64","v":1342.2812908140818},{"$f":"Revenue!AI64","v":1443.8294617348479},{"$f":"Revenue!AJ64","v":1475.5925732296025},{"$f":"Revenue!AK64","v":1571.3868096928727},{"$f":"Revenue!AL64","v":1554.9421422395978},{"$f":"Revenue!AM64","v":1587.6274208238706},{"$f":"Revenue!AN64","v":1585.2281224827718},{"$f":"Revenue!AO64","v":1571.5841090397205}]
[null,null,null,null,{"$f":"Revenue!E65","v":"MOD"},null,null,null,null,null,null,null,null,null,null,null,null,null,null,null,null,null,null,null,null,null,null,null,null,null,null,null,null,{"$f":"Revenue!AH65","v":0},{"$f":"Revenue!AI65","v":-5.4472436134815325},{"$f":"Revenue!AJ65","v":-114.1797578962769},{"$f":"Revenue!AK65","v":0},{"$f":"Revenue!AL65","v":0},{"$f":"Revenue!AM65","v":0},{"$f":"Revenue!AN65","v":0},{"$f":"Revenue!AO65","v":0}]
[null,null,null,null,{"$f":"Revenue!E66","v":"Base revenue"},null,null,null,null,null,null,null,null,null,null,null,null,null,null,null,null,null,null,null,null,null,null,null,null,null,null,null,null,{"$f":"Revenue!AH66","v":1342.2812908140818},{"$f":"Revenue!AI66","v":1438.3822181213663},{"$f":"Revenue!AJ66","v":1361.4128153333256},{"$f":"Revenue!AK66","v":1571.3868096928727},{"$f":"Revenue!AL66","v":1554.9421422395978},{"$f":"Revenue!AM66","v":1587.6274208238706},{"$f":"Revenue!AN66","v":1585.2281224827718},{"$f":"Revenue!AO66","v":1571.5841090397205}]

{"sheet":"Input","index":4,"n_rows":377,"n_cols":41,"rows_kept":377,"cut":false,"hidden":false,"merged":[]}
["Input"]
[null,{"$f":"UserInterface!G25","v":"NGET TO"},null,null,null,null,"Price shock:"]
[null,null,null,null,"Parameter","Licence condition","Units","Term","Constant",null,null,null,null,null,null,null,null,null,null,null,null,null,null,null,null,null,null,null,null,null,null,null,null,"Annual values"]
[null,null,null,null,"PCFM year ending",{"$f":"Cover!C3","v":"ET1 PCFM November 2014 change control 18 (SO Data Centre).xlsm"},null,null,{"$f":"UserInterface!$G$18","v":"2016-03-31"},null,"1991-03-31","1992-03-31","1993-03-31","1994-03-31","1995-03-31","1996-03-31","1997-03-31","1998-03-31","1999-03-31","2000-03-31","2001-03-31","2002-03-31","2003-03-31","2004-03-31","2005-03-31","2006-03-31","2007-03-31","2008-03-31","2009-03-31","2010-03-31","2011-03-31","2012-03-31","2013-03-31","2014-03-31","2015-03-31","2016-03-31","2017-03-31","2018-03-31","2019-03-31","2020-03-31","2021-03-31"]
[]
[null,"PCFM Variable Values Table"]
[]
[null,null,null,null,"Allowed percentage cost of debt","6D","annual real %","CDE / SO CDE",null,null,null,null,null,null,null,null,null,null,null,null,null,null,null,null,null,null,null,null,null,null,null,null,null,{"$f":"IF(UserInterface!$E$69 = 1,CHOOSE(m_identity,'SHE-Transmission PLC'!AH8, SPTL!AH8, 'NGET TO'!AH8),CHOOSE(m_identity,'SHE-Transmission PLC (Blank - )'!AH8, 'SPTL (Blank - not used)'!AH8, 'NGET TO (Blank - not used)'!AH8))","v":2.92E-2},{"$f":"IF(UserInterface!$E$69 = 1,CHOOSE(m_identity,'SHE-Transmission PLC'!AI8, SPTL!AI8, 'NGET TO'!AI8),CHOOSE(m_identity,'SHE-Transmission PLC (Blank - )'!AI8, 'SPTL (Blank - not used)'!AI8, 'NGET TO (Blank - not used)'!AI8))","v":2.7199999999999998E-2},{"$f":"IF(UserInterface!$E$69 = 1,CHOOSE(m_identity,'SHE-Transmission PLC'!AJ8, SPTL!AJ8, 'NGET TO'!AJ8),CHOOSE(m_identity,'SHE-Transmission PLC (Blank - )'!AJ8, 'SPTL (Blank - not used)'!AJ8, 'NGET TO (Blank - not used)'!AJ8))","v":2.5499999999999998E-2},{"$f":"IF(UserInterface!$E$69 = 1,CHOOSE(m_identity,'SHE-Transmission PLC'!AK8, SPTL!AK8, 'NGET TO'!AK8),CHOOSE(m_identity,'SHE-Transmission PLC (Blank - )'!AK8, 'SPTL (Blank - not used)'!AK8, 'NGET TO (Blank - not used)'!AK8))","v":2.5499999999999998E-2},{"$f":"IF(UserInterface!$E$69 = 1,CHOOSE(m_identity,'SHE-Transmission PLC'!AL8, SPTL!AL8, 'NGET TO'!AL8),CHOOSE(m_identity,'SHE-Transmission PLC (Blank - )'!AL8, 'SPTL (Blank - not used)'!AL8, 'NGET TO (Blank - not used)'!AL8))","v":2.5499999999999998E-2},{"$f":"IF(UserInterface!$E$69 = 1,CHOOSE(m_identity,'SHE-Transmission PLC'!AM8, SPTL!AM8, 'NGET TO'!AM8),CHOOSE(m_identity,'SHE-Transmission PLC (Blank - )'!AM8, 'SPTL (Blank - not used)'!AM8, 'NGET TO (Blank - not used)'!AM8))","v":2.5499999999999998E-2},{"$f":"IF(UserInterface!$E$69 = 1,CHOOSE(m_identity,'SHE-Transmission PLC'!AN8, SPTL!AN8, 'NGET TO'!AN8),CHOOSE(m_identity,'SHE-Transmission PLC (Blank - )'!AN8, 'SPTL (Blank - not used)'!AN8, 'NGET TO (Blank - not used)'!AN8))","v":2.5499999999999998E-2},{"$f":"IF(UserInterface!$E$69 = 1,CHOOSE(m_identity,'SHE-Transmission PLC'!AO8, SPTL!AO8, 'NGET TO'!AO8),CHOOSE(m_identity,'SHE-Transmission PLC (Blank - )'!AO8, 'SPTL (Blank - not used)'!AO8, 'NGET TO (Blank - not used)'!AO8))","v":2.5499999999999998E-2}]
[null,null,null,null,"Actual load related capex expenditure","6C","£m 09/10 prices","ALC",null,null,null,null,null,null,null,null,null,null,null,null,null,null,null,null,null,null,null,null,null,null,null,null,null,{"$f":"IF(UserInterface!$E$69 = 1,CHOOSE(m_identity,'SHE-Transmission PLC'!AH9, SPTL!AH9, 'NGET TO'!AH9),CHOOSE(m_identity,'SHE-Transmission PLC (Blank - )'!AH9, 'SPTL (Blank - not used)'!AH9, 'NGET TO (Blank - not used)'!AH9))","v":576.4723599528071},{"$f":"IF(UserInterface!$E$69 = 1,CHOOSE(m_identity,'SHE-Transmission PLC'!AI9, SPTL!AI9, 'NGET TO'!AI9),CHOOSE(m_identity,'SHE-Transmission PLC (Blank - )'!AI9, 'SPTL (Blank - not used)'!AI9, 'NGET TO (Blank - not used)'!AI9))","v":0},{"$f":"IF(UserInterface!$E$69 = 1,CHOOSE(m_identity,'SHE-Transmission PLC'!AJ9, SPTL!AJ9, 'NGET TO'!AJ9),CHOOSE(m_identity,'SHE-Transmission PLC (Blank - )'!AJ9, 'SPTL (Blank - not used)'!AJ9, 'NGET TO (Blank - not used)'!AJ9))","v":0},{"$f":"IF(UserInterface!$E$69 = 1,CHOOSE(m_identity,'SHE-Transmission PLC'!AK9, SPTL!AK9, 'NGET TO'!AK9),CHOOSE(m_identity,'SHE-Transmission PLC (Blank - )'!AK9, 'SPTL (Blank - not used)'!AK9, 'NGET TO (Blank - not used)'!AK9))","v":0},{"$f":"IF(UserInterface!$E$69 = 1,CHOOSE(m_identity,'SHE-Transmission PLC'!AL9, SPTL!AL9, 'NGET TO'!AL9),CHOOSE(m_identity,'SHE-Transmission PLC (Blank - )'!AL9, 'SPTL (Blank - not used)'!AL9, 'NGET TO (Blank - not used)'!AL9))","v":0},{"$f":"IF(UserInterface!$E$69 = 1,CHOOSE(m_identity,'SHE-Transmission PLC'!AM9, SPTL!AM9, 'NGET TO'!AM9),CHOOSE(m_identity,'SHE-Transmission PLC (Blank - )'!AM9, 'SPTL (Blank - not used)'!AM9, 'NGET TO (Blank - not used)'!AM9))","v":0},{"$f":"IF(UserInterface!$E$69 = 1,CHOOSE(m_identity,'SHE-Transmission PLC'!AN9, SPTL!AN9, 'NGET TO'!AN9),CHOOSE(m_identity,'SHE-Transmission PLC (Blank - )'!AN9, 'SPTL (Blank - not used)'!AN9, 'NGET TO (Blank - not used)'!AN9))","v":0},{"$f":"IF(UserInterface!$E$69 = 1,CHOOSE(m_identity,'SHE-Transmission PLC'!AO9, SPTL!AO9, 'NGET TO'!AO9),CHOOSE(m_identity,'SHE-Transmission PLC (Blank - )'!AO9, 'SPTL (Blank - not used)'!AO9, 'NGET TO (Blank - not used)'!AO9))","v":0}]
[null,null,null,null,"Actual asset replacement capex expenditure","6C","£m 09/10 prices","ARC",null,null,null,null,null,null,null,null,null,null,null,null,null,null,null,null,null,null,null,null,null,null,null,null,null,{"$f":"IF(UserInterface!$E$69 = 1,CHOOSE(m_identity,'SHE-Transmission PLC'!AH10, SPTL!AH10, 'NGET TO'!AH10),CHOOSE(m_identity,'SHE-Transmission PLC (Blank - )'!AH10, 'SPTL (Blank - not used)'!AH10, 'NGET TO (Blank - not used)'!AH10))","v":217.14268787167353},{"$f":"IF(UserInterface!$E$69 = 1,CHOOSE(m_identity,'SHE-Transmission PLC'!AI10, SPTL!AI10, 'NGET TO'!AI10),CHOOSE(m_identity,'SHE-Transmission PLC (Blank - )'!AI10, 'SPTL (Blank - not used)'!AI10, 'NGET TO (Blank - not used)'!AI10))","v":0},{"$f":"IF(UserInterface!$E$69 = 1,CHOOSE(m_identity,'SHE-Transmission PLC'!AJ10, SPTL!AJ10, 'NGET TO'!AJ10),CHOOSE(m_identity,'SHE-Transmission PLC (Blank - )'!AJ10, 'SPTL (Blank - not used)'!AJ10, 'NGET TO (Blank - not used)'!AJ10))","v":0},{"$f":"IF(UserInterface!$E$69 = 1,CHOOSE(m_identity,'SHE-Transmission PLC'!AK10, SPTL!AK10, 'NGET TO'!AK10),CHOOSE(m_identity,'SHE-Transmission PLC (Blank - )'!AK10, 'SPTL (Blank - not used)'!AK10, 'NGET TO (Blank - not used)'!AK10))","v":0},{"$f":"IF(UserInterface!$E$69 = 1,CHOOSE(m_identity,'SHE-Transmission PLC'!AL10, SPTL!AL10, 'NGET TO'!AL10),CHOOSE(m_identity,'SHE-Transmission PLC (Blank - )'!AL10, 'SPTL (Blank - not used)'!AL10, 'NGET TO (Blank - not used)'!AL10))","v":0},{"$f":"IF(UserInterface!$E$69 = 1,CHOOSE(m_identity,'SHE-Transmission PLC'!AM10, SPTL!AM10, 'NGET TO'!AM10),CHOOSE(m_identity,'SHE-Transmission PLC (Blank - )'!AM10, 'SPTL (Blank - not used)'!AM10, 'NGET TO (Blank - not used)'!AM10))","v":0},{"$f":"IF(UserInterface!$E$69 = 1,CHOOSE(m_identity,'SHE-Transmission PLC'!AN10, SPTL!AN10, 'NGET TO'!AN10),CHOOSE(m_identity,'SHE-Transmission PLC (Blank - )'!AN10, 'SPTL (Blank - not used)'!AN10, 'NGET TO (Blank - not used)'!AN10))","v":0},{"$f":"IF(UserInterface!$E$69 = 1,CHOOSE(m_identity,'SHE-Transmission PLC'!AO10, SPTL!AO10, 'NGET TO'!AO10),CHOOSE(m_identity,'SHE-Transmission PLC (Blank - )'!AO10, 'SPTL (Blank - not used)'!AO10, 'NGET TO (Blank - not used)'!AO10))","v":0}]
[null,null,null,null,"Actual other capex expenditure","6C","£m 09/10 prices","AOC",null,null,null,null,null,null,null,null,null,null,null,null,null,null,null,null,null,null,null,null,null,null,null,null,null,{"$f":"IF(UserInterface!$E$69 = 1,CHOOSE(m_identity,'SHE-Transmission PLC'!AH11, SPTL!AH11, 'NGET TO'!AH11),CHOOSE(m_identity,'SHE-Transmission PLC (Blank - )'!AH11, 'SPTL (Blank - not used)'!AH11, 'NGET TO (Blank - not used)'!AH11))","v":174.99178290887571},{"$f":"IF(UserInterface!$E$69 = 1,CHOOSE(m_identity,'SHE-Transmission PLC'!AI11, SPTL!AI11, 'NGET TO'!AI11),CHOOSE(m_identity,'SHE-Transmission PLC (Blank - )'!AI11, 'SPTL (Blank - not used)'!AI11, 'NGET TO (Blank - not used)'!AI11))","v":0},{"$f":"IF(UserInterface!$E$69 = 1,CHOOSE(m_identity,'SHE-Transmission PLC'!AJ11, SPTL!AJ11, 'NGET TO'!AJ11),CHOOSE(m_identity,'SHE-Transmission PLC (Blank - )'!AJ11, 'SPTL (Blank - not used)'!AJ11, 'NGET TO (Blank - not used)'!AJ11))","v":0},{"$f":"IF(UserInterface!$E$69 = 1,CHOOSE(m_identity,'SHE-Transmission PLC'!AK11, SPTL!AK11, 'NGET TO'!AK11),CHOOSE(m_identity,'SHE-Transmission PLC (Blank - )'!AK11, 'SPTL (Blank - not used)'!AK11, 'NGET TO (Blank - not used)'!AK11))","v":0},{"$f":"IF(UserInterface!$E$69 = 1,CHOOSE(m_identity,'SHE-Transmission PLC'!AL11, SPTL!AL11, 'NGET TO'!AL11),CHOOSE(m_identity,'SHE-Transmission PLC (Blank - )'!AL11, 'SPTL (Blank - not used)'!AL11, 'NGET TO (Blank - not used)'!AL11))","v":0},{"$f":"IF(UserInterface!$E$69 = 1,CHOOSE(m_identity,'SHE-Transmission PLC'!AM11, SPTL!AM11, 'NGET TO'!AM11),CHOOSE(m_identity,'SHE-Transmission PLC (Blank - )'!AM11, 'SPTL (Blank - not used)'!AM11, 'NGET TO (Blank - not used)'!AM11))","v":0},{"$f":"IF(UserInterface!$E$69 = 1,CHOOSE(m_identity,'SHE-Transmission PLC'!AN11, SPTL!AN11, 'NGET TO'!AN11),CHOOSE(m_identity,'SHE-Transmission PLC (Blank - )'!AN11, 'SPTL (Blank - not used)'!AN11, 'NGET TO (Blank - not used)'!AN11))","v":0},{"$f":"IF(UserInterface!$E$69 = 1,CHOOSE(m_identity,'SHE-Transmission PLC'!AO11, SPTL!AO11, 'NGET TO'!AO11),CHOOSE(m_identity,'SHE-Transmission PLC (Blank - )'!AO11, 'SPTL (Blank - not used)'!AO11, 'NGET TO (Blank - not used)'!AO11))","v":0}]
[null,null,null,null,"Actual controllable opex","6C","£m 09/10 prices","ACO",null,null,null,null,null,null,null,null,null,null,null,null,null,null,null,null,null,null,null,null,null,null,null,null,null,{"$f":"IF(UserInterface!$E$69 = 1,CHOOSE(m_identity,'SHE-Transmission PLC'!AH12, SPTL!AH12, 'NGET TO'!AH12),CHOOSE(m_identity,'SHE-Transmission PLC (Blank - )'!AH12, 'SPTL (Blank - not used)'!AH12, 'NGET TO (Blank - not used)'!AH12))","v":165.28612902215741},{"$f":"IF(UserInterface!$E$69 = 1,CHOOSE(m_identity,'SHE-Transmission PLC'!AI12, SPTL!AI12, 'NGET TO'!AI12),CHOOSE(m_identity,'SHE-Transmission PLC (Blank - )'!AI12, 'SPTL (Blank - not used)'!AI12, 'NGET TO (Blank - not used)'!AI12))","v":0},{"$f":"IF(UserInterface!$E$69 = 1,CHOOSE(m_identity,'SHE-Transmission PLC'!AJ12, SPTL!AJ12, 'NGET TO'!AJ12),CHOOSE(m_identity,'SHE-Transmission PLC (Blank - )'!AJ12, 'SPTL (Blank - not used)'!AJ12, 'NGET TO (Blank - not used)'!AJ12))","v":0},{"$f":"IF(UserInterface!$E$69 = 1,CHOOSE(m_identity,'SHE-Transmission PLC'!AK12, SPTL!AK12, 'NGET TO'!AK12),CHOOSE(m_identity,'SHE-Transmission PLC (Blank - )'!AK12, 'SPTL (Blank - not used)'!AK12, 'NGET TO (Blank - not used)'!AK12))","v":0},{"$f":"IF(UserInterface!$E$69 = 1,CHOOSE(m_identity,'SHE-Transmission PLC'!AL12, SPTL!AL12, 'NGET TO'!AL12),CHOOSE(m_identity,'SHE-Transmission PLC (Blank - )'!AL12, 'SPTL (Blank - not used)'!AL12, 'NGET TO (Blank - not used)'!AL12))","v":0},{"$f":"IF(UserInterface!$E$69 = 1,CHOOSE(m_identity,'SHE-Transmission PLC'!AM12, SPTL!AM12, 'NGET TO'!AM12),CHOOSE(m_identity,'SHE-Transmission PLC (Blank - )'!AM12, 'SPTL (Blank - not used)'!AM12, 'NGET TO (Blank - not used)'!AM12))","v":0},{"$f":"IF(UserInterface!$E$69 = 1,CHOOSE(m_identity,'SHE-Transmission PLC'!AN12, SPTL!AN12, 'NGET TO'!AN12),CHOOSE(m_identity,'SHE-Transmission PLC (Blank - )'!AN12, 'SPTL (Blank - not used)'!AN12, 'NGET TO (Blank - not used)'!AN12))","v":0},{"$f":"IF(UserInterface!$E$69 = 1,CHOOSE(m_identity,'SHE-Transmission PLC'!AO12, SPTL!AO12, 'NGET TO'!AO12),CHOOSE(m_identity,'SHE-Transmission PLC (Blank - )'!AO12, 'SPTL (Blank - not used)'!AO12, 'NGET TO (Blank - not used)'!AO12))","v":0}]
[null,null,null,null,"Actual non-operational capex","6C","£m 09/10 prices","ANC",null,null,null,null,null,null,null,null,null,null,null,null,null,null,null,null,null,null,null,null,null,null,null,null,null,{"$f":"IF(UserInterface!$E$69 = 1,CHOOSE(m_identity,'SHE-Transmission PLC'!AH13, SPTL!AH13, 'NGET TO'!AH13),CHOOSE(m_identity,'SHE-Transmission PLC (Blank - )'!AH13, 'SPTL (Blank - not used)'!AH13, 'NGET TO (Blank - not used)'!AH13))","v":30.724403941398467},{"$f":"IF(UserInterface!$E$69 = 1,CHOOSE(m_identity,'SHE-Transmission PLC'!AI13, SPTL!AI13, 'NGET TO'!AI13),CHOOSE(m_identity,'SHE-Transmission PLC (Blank - )'!AI13, 'SPTL (Blank - not used)'!AI13, 'NGET TO (Blank - not used)'!AI13))","v":0},{"$f":"IF(UserInterface!$E$69 = 1,CHOOSE(m_identity,'SHE-Transmission PLC'!AJ13, SPTL!AJ13, 'NGET TO'!AJ13),CHOOSE(m_identity,'SHE-Transmission PLC (Blank - )'!AJ13, 'SPTL (Blank - not used)'!AJ13, 'NGET TO (Blank - not used)'!AJ13))","v":0},{"$f":"IF(UserInterface!$E$69 = 1,CHOOSE(m_identity,'SHE-Transmission PLC'!AK13, SPTL!AK13, 'NGET TO'!AK13),CHOOSE(m_identity,'SHE-Transmission PLC (Blank - )'!AK13, 'SPTL (Blank - not used)'!AK13, 'NGET TO (Blank - not used)'!AK13))","v":0},{"$f":"IF(UserInterface!$E$69 = 1,CHOOSE(m_identity,'SHE-Transmission PLC'!AL13, SPTL!AL13, 'NGET TO'!AL13),CHOOSE(m_identity,'SHE-Transmission PLC (Blank - )'!AL13, 'SPTL (Blank - not used)'!AL13, 'NGET TO (Blank - not used)'!AL13))","v":0},{"$f":"IF(UserInterface!$E$69 = 1,CHOOSE(m_identity,'SHE-Transmission PLC'!AM13, SPTL!AM13, 'NGET TO'!AM13),CHOOSE(m_identity,'SHE-Transmission PLC (Blank - )'!AM13, 'SPTL (Blank - not used)'!AM13, 'NGET TO (Blank - not used)'!AM13))","v":0},{"$f":"IF(UserInterface!$E$69 = 1,CHOOSE(m_identity,'SHE-Transmission PLC'!AN13, SPTL!AN13, 'NGET TO'!AN13),CHOOSE(m_identity,'SHE-Transmission PLC (Blank - )'!AN13, 'SPTL (Blank - not used)'!AN13, 'NGET TO (Blank - not used)'!AN13))","v":0},{"$f":"IF(UserInterface!$E$69 = 1,CHOOSE(m_identity,'SHE-Transmission PLC'!AO13, SPTL!AO13, 'NGET TO'!AO13),CHOOSE(m_identity,'SHE-Transmission PLC (Blank - )'!AO13, 'SPTL (Blank - not used)'!AO13, 'NGET TO (Blank - not used)'!AO13))","v":0}]
[null,null,null,null,"Uncertain costs - enhanced security","6H","£m 09/10 prices","IAEEPS",null,null,null,null,null,null,null,null,null,null,null,null,null,null,null,null,null,null,null,null,null,null,null,null,null,{"$f":"IF(UserInterface!$E$69 = 1,CHOOSE(m_identity,'SHE-Transmission PLC'!AH14, SPTL!AH14, 'NGET TO'!AH14),CHOOSE(m_identity,'SHE-Transmission PLC (Blank - )'!AH14, 'SPTL (Blank - not used)'!AH14, 'NGET TO (Blank - not used)'!AH14))","v":0},{"$f":"IF(UserInterface!$E$69 = 1,CHOOSE(m_identity,'SHE-Transmission PLC'!AI14, SPTL!AI14, 'NGET TO'!AI14),CHOOSE(m_identity,'SHE-Transmission PLC (Blank - )'!AI14, 'SPTL (Blank - not used)'!AI14, 'NGET TO (Blank - not used)'!AI14))","v":0},{"$f":"IF(UserInterface!$E$69 = 1,CHOOSE(m_identity,'SHE-Transmission PLC'!AJ14, SPTL!AJ14, 'NGET TO'!AJ14),CHOOSE(m_identity,'SHE-Transmission PLC (Blank - )'!AJ14, 'SPTL (Blank - not used)'!AJ14, 'NGET TO (Blank - not used)'!AJ14))","v":0},{"$f":"IF(UserInterface!$E$69 = 1,CHOOSE(m_identity,'SHE-Transmission PLC'!AK14, SPTL!AK14, 'NGET TO'!AK14),CHOOSE(m_identity,'SHE-Transmission PLC (Blank - )'!AK14, 'SPTL (Blank - not used)'!AK14, 'NGET TO (Blank - not used)'!AK14))","v":0},{"$f":"IF(UserInterface!$E$69 = 1,CHOOSE(m_identity,'SHE-Transmission PLC'!AL14, SPTL!AL14, 'NGET TO'!AL14),CHOOSE(m_identity,'SHE-Transmission PLC (Blank - )'!AL14, 'SPTL (Blank - not used)'!AL14, 'NGET TO (Blank - not used)'!AL14))","v":0},{"$f":"IF(UserInterface!$E$69 = 1,CHOOSE(m_identity,'SHE-Transmission PLC'!AM14, SPTL!AM14, 'NGET TO'!AM14),CHOOSE(m_identity,'SHE-Transmission PLC (Blank - )'!AM14, 'SPTL (Blank - not used)'!AM14, 'NGET TO (Blank - not used)'!AM14))","v":0},{"$f":"IF(UserInterface!$E$69 = 1,CHOOSE(m_identity,'SHE-Transmission PLC'!AN14, SPTL!AN14, 'NGET TO'!AN14),CHOOSE(m_identity,'SHE-Transmission PLC (Blank - )'!AN14, 'SPTL (Blank - not used)'!AN14, 'NGET TO (Blank - not used)'!AN14))","v":0},{"$f":"IF(UserInterface!$E$69 = 1,CHOOSE(m_identity,'SHE-Transmission PLC'!AO14, SPTL!AO14, 'NGET TO'!AO14),CHOOSE(m_identity,'SHE-Transmission PLC (Blank - )'!AO14, 'SPTL (Blank - not used)'!AO14, 'NGET TO (Blank - not used)'!AO14))","v":0}]
[null,null,null,null,"Uncertain costs – workforce renewal (SPTL only)","6H","£m 09/10 prices","IAEWR",null,null,null,null,null,null,null,null,null,null,null,null,null,null,null,null,null,null,null,null,null,null,null,null,null,{"$f":"IF(UserInterface!$E$69 = 1,CHOOSE(m_identity,'SHE-Transmission PLC'!AH15, SPTL!AH15, 'NGET TO'!AH15),CHOOSE(m_identity,'SHE-Transmission PLC (Blank - )'!AH15, 'SPTL (Blank - not used)'!AH15, 'NGET TO (Blank - not used)'!AH15))","v":0},{"$f":"IF(UserInterface!$E$69 = 1,CHOOSE(m_identity,'SHE-Transmission PLC'!AI15, SPTL!AI15, 'NGET TO'!AI15),CHOOSE(m_identity,'SHE-Transmission PLC (Blank - )'!AI15, 'SPTL (Blank - not used)'!AI15, 'NGET TO (Blank - not used)'!AI15))","v":0},{"$f":"IF(UserInterface!$E$69 = 1,CHOOSE(m_identity,'SHE-Transmission PLC'!AJ15, SPTL!AJ15, 'NGET TO'!AJ15),CHOOSE(m_identity,'SHE-Transmission PLC (Blank - )'!AJ15, 'SPTL (Blank - not used)'!AJ15, 'NGET TO (Blank - not used)'!AJ15))","v":0},{"$f":"IF(UserInterface!$E$69 = 1,CHOOSE(m_identity,'SHE-Transmission PLC'!AK15, SPTL!AK15, 'NGET TO'!AK15),CHOOSE(m_identity,'SHE-Transmission PLC (Blank - )'!AK15, 'SPTL (Blank - not used)'!AK15, 'NGET TO (Blank - not used)'!AK15))","v":0},{"$f":"IF(UserInterface!$E$69 = 1,CHOOSE(m_identity,'SHE-Transmission PLC'!AL15, SPTL!AL15, 'NGET TO'!AL15),CHOOSE(m_identity,'SHE-Transmission PLC (Blank - )'!AL15, 'SPTL (Blank - not used)'!AL15, 'NGET TO (Blank - not used)'!AL15))","v":0},{"$f":"IF(UserInterface!$E$69 = 1,CHOOSE(m_identity,'SHE-Transmission PLC'!AM15, SPTL!AM15, 'NGET TO'!AM15),CHOOSE(m_identity,'SHE-Transmission PLC (Blank - )'!AM15, 'SPTL (Blank - not used)'!AM15, 'NGET TO (Blank - not used)'!AM15))","v":0},{"$f":"IF(UserInterface!$E$69 = 1,CHOOSE(m_identity,'SHE-Transmission PLC'!AN15, SPTL!AN15, 'NGET TO'!AN15),CHOOSE(m_identity,'SHE-Transmission PLC (Blank - )'!AN15, 'SPTL (Blank - not used)'!AN15, 'NGET TO (Blank - not used)'!AN15))","v":0},{"$f":"IF(UserInterface!$E$69 = 1,CHOOSE(m_identity,'SHE-Transmission PLC'!AO15, SPTL!AO15, 'NGET TO'!AO15),CHOOSE(m_identity,'SHE-Transmission PLC (Blank - )'!AO15, 'SPTL (Blank - not used)'!AO15, 'NGET TO (Blank - not used)'!AO15))","v":0}]
[null,null,null,null,"Uncertain costs – BT 21st Century (SHETPLC only)","6H","£m 09/10 prices","IAEBT",null,null,null,null,null,null,null,null,null,null,null,null,null,null,null,null,null,null,null,null,null,null,null,null,null,{"$f":"IF(UserInterface!$E$69 = 1,CHOOSE(m_identity,'SHE-Transmission PLC'!AH16, SPTL!AH16, 'NGET TO'!AH16),CHOOSE(m_identity,'SHE-Transmission PLC (Blank - )'!AH16, 'SPTL (Blank - not used)'!AH16, 'NGET TO (Blank - not used)'!AH16))","v":0},{"$f":"IF(UserInterface!$E$69 = 1,CHOOSE(m_identity,'SHE-Transmission PLC'!AI16, SPTL!AI16, 'NGET TO'!AI16),CHOOSE(m_identity,'SHE-Transmission PLC (Blank - )'!AI16, 'SPTL (Blank - not used)'!AI16, 'NGET TO (Blank - not used)'!AI16))","v":0},{"$f":"IF(UserInterface!$E$69 = 1,CHOOSE(m_identity,'SHE-Transmission PLC'!AJ16, SPTL!AJ16, 'NGET TO'!AJ16),CHOOSE(m_identity,'SHE-Transmission PLC (Blank - )'!AJ16, 'SPTL (Blank - not used)'!AJ16, 'NGET TO (Blank - not used)'!AJ16))","v":0},{"$f":"IF(UserInterface!$E$69 = 1,CHOOSE(m_identity,'SHE-Transmission PLC'!AK16, SPTL!AK16, 'NGET TO'!AK16),CHOOSE(m_identity,'SHE-Transmission PLC (Blank - )'!AK16, 'SPTL (Blank - not used)'!AK16, 'NGET TO (Blank - not used)'!AK16))","v":0},{"$f":"IF(UserInterface!$E$69 = 1,CHOOSE(m_identity,'SHE-Transmission PLC'!AL16, SPTL!AL16, 'NGET TO'!AL16),CHOOSE(m_identity,'SHE-Transmission PLC (Blank - )'!AL16, 'SPTL (Blank - not used)'!AL16, 'NGET TO (Blank - not used)'!AL16))","v":0},{"$f":"IF(UserInterface!$E$69 = 1,CHOOSE(m_identity,'SHE-Transmission PLC'!AM16, SPTL!AM16, 'NGET TO'!AM16),CHOOSE(m_identity,'SHE-Transmission PLC (Blank - )'!AM16, 'SPTL (Blank - not used)'!AM16, 'NGET TO (Blank - not used)'!AM16))","v":0},{"$f":"IF(UserInterface!$E$69 = 1,CHOOSE(m_identity,'SHE-Transmission PLC'!AN16, SPTL!AN16, 'NGET TO'!AN16),CHOOSE(m_identity,'SHE-Transmission PLC (Blank - )'!AN16, 'SPTL (Blank - not used)'!AN16, 'NGET TO (Blank - not used)'!AN16))","v":0},{"$f":"IF(UserInterface!$E$69 = 1,CHOOSE(m_identity,'SHE-Transmission PLC'!AO16, SPTL!AO16, 'NGET TO'!AO16),CHOOSE(m_identity,'SHE-Transmission PLC (Blank - )'!AO16, 'SPTL (Blank - not used)'!AO16, 'NGET TO (Blank - not used)'!AO16))","v":0}]
[null,null,null,null,"Uncertain costs – compensation costs for landowners for wayleave (SHETPLC only)","6H","£m 09/10 prices","IAEWL",null,null,null,null,null,null,null,null,null,null,null,null,null,null,null,null,null,null,null,null,null,null,null,null,null,{"$f":"IF(UserInterface!$E$69 = 1,CHOOSE(m_identity,'SHE-Transmission PLC'!AH17, SPTL!AH17, 'NGET TO'!AH17),CHOOSE(m_identity,'SHE-Transmission PLC (Blank - )'!AH17, 'SPTL (Blank - not used)'!AH17, 'NGET TO (Blank - not used)'!AH17))","v":0},{"$f":"IF(UserInterface!$E$69 = 1,CHOOSE(m_identity,'SHE-Transmission PLC'!AI17, SPTL!AI17, 'NGET TO'!AI17),CHOOSE(m_identity,'SHE-Transmission PLC (Blank - )'!AI17, 'SPTL (Blank - not used)'!AI17, 'NGET TO (Blank - not used)'!AI17))","v":0},{"$f":"IF(UserInterface!$E$69 = 1,CHOOSE(m_identity,'SHE-Transmission PLC'!AJ17, SPTL!AJ17, 'NGET TO'!AJ17),CHOOSE(m_identity,'SHE-Transmission PLC (Blank - )'!AJ17, 'SPTL (Blank - not used)'!AJ17, 'NGET TO (Blank - not used)'!AJ17))","v":0},{"$f":"IF(UserInterface!$E$69 = 1,CHOOSE(m_identity,'SHE-Transmission PLC'!AK17, SPTL!AK17, 'NGET TO'!AK17),CHOOSE(m_identity,'SHE-Transmission PLC (Blank - )'!AK17, 'SPTL (Blank - not used)'!AK17, 'NGET TO (Blank - not used)'!AK17))","v":0},{"$f":"IF(UserInterface!$E$69 = 1,CHOOSE(m_identity,'SHE-Transmission PLC'!AL17, SPTL!AL17, 'NGET TO'!AL17),CHOOSE(m_identity,'SHE-Transmission PLC (Blank - )'!AL17, 'SPTL (Blank - not used)'!AL17, 'NGET TO (Blank - not used)'!AL17))","v":0},{"$f":"IF(UserInterface!$E$69 = 1,CHOOSE(m_identity,'SHE-Transmission PLC'!AM17, SPTL!AM17, 'NGET TO'!AM17),CHOOSE(m_identity,'SHE-Transmission PLC (Blank - )'!AM17, 'SPTL (Blank - not used)'!AM17, 'NGET TO (Blank - not used)'!AM17))","v":0},{"$f":"IF(UserInterface!$E$69 = 1,CHOOSE(m_identity,'SHE-Transmission PLC'!AN17, SPTL!AN17, 'NGET TO'!AN17),CHOOSE(m_identity,'SHE-Transmission PLC (Blank - )'!AN17, 'SPTL (Blank - not used)'!AN17, 'NGET TO (Blank - not used)'!AN17))","v":0},{"$f":"IF(UserInterface!$E$69 = 1,CHOOSE(m_identity,'SHE-Transmission PLC'!AO17, SPTL!AO17, 'NGET TO'!AO17),CHOOSE(m_identity,'SHE-Transmission PLC (Blank - )'!AO17, 'SPTL (Blank - not used)'!AO17, 'NGET TO (Blank - not used)'!AO17))","v":0}]
[null,null,null,null,"Baseline and strategic wider works outputs","6I","£m 09/10 prices","WWE",null,null,null,null,null,null,null,null,null,null,null,null,null,null,null,null,null,null,null,null,null,null,null,null,null,{"$f":"IF(UserInterface!$E$69 = 1,CHOOSE(m_identity,'SHE-Transmission PLC'!AH18, SPTL!AH18, 'NGET TO'!AH18),CHOOSE(m_identity,'SHE-Transmission PLC (Blank - )'!AH18, 'SPTL (Blank - not used)'!AH18, 'NGET TO (Blank - not used)'!AH18))","v":161.69999999999999},{"$f":"IF(UserInterface!$E$69 = 1,CHOOSE(m_identity,'SHE-Transmission PLC'!AI18, SPTL!AI18, 'NGET TO'!AI18),CHOOSE(m_identity,'SHE-Transmission PLC (Blank - )'!AI18, 'SPTL (Blank - not used)'!AI18, 'NGET TO (Blank - not used)'!AI18))","v":230.4},{"$f":"IF(UserInterface!$E$69 = 1,CHOOSE(m_identity,'SHE-Transmission PLC'!AJ18, SPTL!AJ18, 'NGET TO'!AJ18),CHOOSE(m_identity,'SHE-Transmission PLC (Blank - )'!AJ18, 'SPTL (Blank - not used)'!AJ18, 'NGET TO (Blank - not used)'!AJ18))","v":208.9},{"$f":"IF(UserInterface!$E$69 = 1,CHOOSE(m_identity,'SHE-Transmission PLC'!AK18, SPTL!AK18, 'NGET TO'!AK18),CHOOSE(m_identity,'SHE-Transmission PLC (Blank - )'!AK18, 'SPTL (Blank - not used)'!AK18, 'NGET TO (Blank - not used)'!AK18))","v":20.100000000000001},{"$f":"IF(UserInterface!$E$69 = 1,CHOOSE(m_identity,'SHE-Transmission PLC'!AL18, SPTL!AL18, 'NGET TO'!AL18),CHOOSE(m_identity,'SHE-Transmission PLC (Blank - )'!AL18, 'SPTL (Blank - not used)'!AL18, 'NGET TO (Blank - not used)'!AL18))","v":0},{"$f":"IF(UserInterface!$E$69 = 1,CHOOSE(m_identity,'SHE-Transmission PLC'!AM18, SPTL!AM18, 'NGET TO'!AM18),CHOOSE(m_identity,'SHE-Transmission PLC (Blank - )'!AM18, 'SPTL (Blank - not used)'!AM18, 'NGET TO (Blank - not used)'!AM18))","v":0},{"$f":"IF(UserInterface!$E$69 = 1,CHOOSE(m_identity,'SHE-Transmission PLC'!AN18, SPTL!AN18, 'NGET TO'!AN18),CHOOSE(m_identity,'SHE-Transmission PLC (Blank - )'!AN18, 'SPTL (Blank - not used)'!AN18, 'NGET TO (Blank - not used)'!AN18))","v":0},{"$f":"IF(UserInterface!$E$69 = 1,CHOOSE(m_identity,'SHE-Transmission PLC'!AO18, SPTL!AO18, 'NGET TO'!AO18),CHOOSE(m_identity,'SHE-Transmission PLC (Blank - )'!AO18, 'SPTL (Blank - not used)'!AO18, 'NGET TO (Blank - not used)'!AO18))","v":0}]
[null,null,null,null,"Network development and wider works volume driver (NGET only)","6J","£m 09/10 prices","WWI",null,null,null,null,null,null,null,null,null,null,null,null,null,null,null,null,null,null,null,null,null,null,null,null,null,{"$f":"IF(UserInterface!$E$69 = 1,CHOOSE(m_identity,'SHE-Transmission PLC'!AH19, SPTL!AH19, 'NGET TO'!AH19),CHOOSE(m_identity,'SHE-Transmission PLC (Blank - )'!AH19, 'SPTL (Blank - not used)'!AH19, 'NGET TO (Blank - not used)'!AH19))","v":397.10976000000005},{"$f":"IF(UserInterface!$E$69 = 1,CHOOSE(m_identity,'SHE-Transmission PLC'!AI19, SPTL!AI19, 'NGET TO'!AI19),CHOOSE(m_identity,'SHE-Transmission PLC (Blank - )'!AI19, 'SPTL (Blank - not used)'!AI19, 'NGET TO (Blank - not used)'!AI19))","v":303.28366650003596},{"$f":"IF(UserInterface!$E$69 = 1,CHOOSE(m_identity,'SHE-Transmission PLC'!AJ19, SPTL!AJ19, 'NGET TO'!AJ19),CHOOSE(m_identity,'SHE-Transmission PLC (Blank - )'!AJ19, 'SPTL (Blank - not used)'!AJ19, 'NGET TO (Blank - not used)'!AJ19))","v":264.33553004596803},{"$f":"IF(UserInterface!$E$69 = 1,CHOOSE(m_identity,'SHE-Transmission PLC'!AK19, SPTL!AK19, 'NGET TO'!AK19),CHOOSE(m_identity,'SHE-Transmission PLC (Blank - )'!AK19, 'SPTL (Blank - not used)'!AK19, 'NGET TO (Blank - not used)'!AK19))","v":283.1637443656266},{"$f":"IF(UserInterface!$E$69 = 1,CHOOSE(m_identity,'SHE-Transmission PLC'!AL19, SPTL!AL19, 'NGET TO'!AL19),CHOOSE(m_identity,'SHE-Transmission PLC (Blank - )'!AL19, 'SPTL (Blank - not used)'!AL19, 'NGET TO (Blank - not used)'!AL19))","v":133.19506189144005},{"$f":"IF(UserInterface!$E$69 = 1,CHOOSE(m_identity,'SHE-Transmission PLC'!AM19, SPTL!AM19, 'NGET TO'!AM19),CHOOSE(m_identity,'SHE-Transmission PLC (Blank - )'!AM19, 'SPTL (Blank - not used)'!AM19, 'NGET TO (Blank - not used)'!AM19))","v":70.252237682919812},{"$f":"IF(UserInterface!$E$69 = 1,CHOOSE(m_identity,'SHE-Transmission PLC'!AN19, SPTL!AN19, 'NGET TO'!AN19),CHOOSE(m_identity,'SHE-Transmission PLC (Blank - )'!AN19, 'SPTL (Blank - not used)'!AN19, 'NGET TO (Blank - not used)'!AN19))","v":27.324729352097304},{"$f":"IF(UserInterface!$E$69 = 1,CHOOSE(m_identity,'SHE-Transmission PLC'!AO19, SPTL!AO19, 'NGET TO'!AO19),CHOOSE(m_identity,'SHE-Transmission PLC (Blank - )'!AO19, 'SPTL (Blank - not used)'!AO19, 'NGET TO (Blank - not used)'!AO19))","v":8.5693141994208588}]
[null,null,null,null,"Enhancements to pre-existing infrastructure","6G","£m 09/10 prices","EPIE",null,null,null,null,null,null,null,null,null,null,null,null,null,null,null,null,null,null,null,null,null,null,null,null,null,{"$f":"IF(UserInterface!$E$69 = 1,CHOOSE(m_identity,'SHE-Transmission PLC'!AH20, SPTL!AH20, 'NGET TO'!AH20),CHOOSE(m_identity,'SHE-Transmission PLC (Blank - )'!AH20, 'SPTL (Blank - not used)'!AH20, 'NGET TO (Blank - not used)'!AH20))","v":0},{"$f":"IF(UserInterface!$E$69 = 1,CHOOSE(m_identity,'SHE-Transmission PLC'!AI20, SPTL!AI20, 'NGET TO'!AI20),CHOOSE(m_identity,'SHE-Transmission PLC (Blank - )'!AI20, 'SPTL (Blank - not used)'!AI20, 'NGET TO (Blank - not used)'!AI20))","v":0},{"$f":"IF(UserInterface!$E$69 = 1,CHOOSE(m_identity,'SHE-Transmission PLC'!AJ20, SPTL!AJ20, 'NGET TO'!AJ20),CHOOSE(m_identity,'SHE-Transmission PLC (Blank - )'!AJ20, 'SPTL (Blank - not used)'!AJ20, 'NGET TO (Blank - not used)'!AJ20))","v":0},{"$f":"IF(UserInterface!$E$69 = 1,CHOOSE(m_identity,'SHE-Transmission PLC'!AK20, SPTL!AK20, 'NGET TO'!AK20),CHOOSE(m_identity,'SHE-Transmission PLC (Blank - )'!AK20, 'SPTL (Blank - not used)'!AK20, 'NGET TO (Blank - not used)'!AK20))","v":0},{"$f":"IF(UserInterface!$E$69 = 1,CHOOSE(m_identity,'SHE-Transmission PLC'!AL20, SPTL!AL20, 'NGET TO'!AL20),CHOOSE(m_identity,'SHE-Transmission PLC (Blank - )'!AL20, 'SPTL (Blank - not used)'!AL20, 'NGET TO (Blank - not used)'!AL20))","v":0},{"$f":"IF(UserInterface!$E$69 = 1,CHOOSE(m_identity,'SHE-Transmission PLC'!AM20, SPTL!AM20, 'NGET TO'!AM20),CHOOSE(m_identity,'SHE-Transmission PLC (Blank - )'!AM20, 'SPTL (Blank - not used)'!AM20, 'NGET TO (Blank - not used)'!AM20))","v":0},{"$f":"IF(UserInterface!$E$69 = 1,CHOOSE(m_identity,'SHE-Transmission PLC'!AN20, SPTL!AN20, 'NGET TO'!AN20),CHOOSE(m_identity,'SHE-Transmission PLC (Blank - )'!AN20, 'SPTL (Blank - not used)'!AN20, 'NGET TO (Blank - not used)'!AN20))","v":0},{"$f":"IF(UserInterface!$E$69 = 1,CHOOSE(m_identity,'SHE-Transmission PLC'!AO20, SPTL!AO20, 'NGET TO'!AO20),CHOOSE(m_identity,'SHE-Transmission PLC (Blank - )'!AO20, 'SPTL (Blank - not used)'!AO20, 'NGET TO (Blank - not used)'!AO20))","v":0}]
[null,null,null,null,"Demand related infrastructure volume driver","6L","£m 09/10 prices","DRI",null,null,null,null,null,null,null,null,null,null,null,null,null,null,null,null,null,null,null,null,null,null,null,null,null,{"$f":"IF(UserInterface!$E$69 = 1,CHOOSE(m_identity,'SHE-Transmission PLC'!AH21, SPTL!AH21, 'NGET TO'!AH21),CHOOSE(m_identity,'SHE-Transmission PLC (Blank - )'!AH21, 'SPTL (Blank - not used)'!AH21, 'NGET TO (Blank - not used)'!AH21))","v":31.787715383222817},{"$f":"IF(UserInterface!$E$69 = 1,CHOOSE(m_identity,'SHE-Transmission PLC'!AI21, SPTL!AI21, 'NGET TO'!AI21),CHOOSE(m_identity,'SHE-Transmission PLC (Blank - )'!AI21, 'SPTL (Blank - not used)'!AI21, 'NGET TO (Blank - not used)'!AI21))","v":36.187416312851781},{"$f":"IF(UserInterface!$E$69 = 1,CHOOSE(m_identity,'SHE-Transmission PLC'!AJ21, SPTL!AJ21, 'NGET TO'!AJ21),CHOOSE(m_identity,'SHE-Transmission PLC (Blank - )'!AJ21, 'SPTL (Blank - not used)'!AJ21, 'NGET TO (Blank - not used)'!AJ21))","v":32.387791310196604},{"$f":"IF(UserInterface!$E$69 = 1,CHOOSE(m_identity,'SHE-Transmission PLC'!AK21, SPTL!AK21, 'NGET TO'!AK21),CHOOSE(m_identity,'SHE-Transmission PLC (Blank - )'!AK21, 'SPTL (Blank - not used)'!AK21, 'NGET TO (Blank - not used)'!AK21))","v":32.828105188428069},{"$f":"IF(UserInterface!$E$69 = 1,CHOOSE(m_identity,'SHE-Transmission PLC'!AL21, SPTL!AL21, 'NGET TO'!AL21),CHOOSE(m_identity,'SHE-Transmission PLC (Blank - )'!AL21, 'SPTL (Blank - not used)'!AL21, 'NGET TO (Blank - not used)'!AL21))","v":50.58957488491852},{"$f":"IF(UserInterface!$E$69 = 1,CHOOSE(m_identity,'SHE-Transmission PLC'!AM21, SPTL!AM21, 'NGET TO'!AM21),CHOOSE(m_identity,'SHE-Transmission PLC (Blank - )'!AM21, 'SPTL (Blank - not used)'!AM21, 'NGET TO (Blank - not used)'!AM21))","v":41.373058819084775},{"$f":"IF(UserInterface!$E$69 = 1,CHOOSE(m_identity,'SHE-Transmission PLC'!AN21, SPTL!AN21, 'NGET TO'!AN21),CHOOSE(m_identity,'SHE-Transmission PLC (Blank - )'!AN21, 'SPTL (Blank - not used)'!AN21, 'NGET TO (Blank - not used)'!AN21))","v":12.47368774024774},{"$f":"IF(UserInterface!$E$69 = 1,CHOOSE(m_identity,'SHE-Transmission PLC'!AO21, SPTL!AO21, 'NGET TO'!AO21),CHOOSE(m_identity,'SHE-Transmission PLC (Blank - )'!AO21, 'SPTL (Blank - not used)'!AO21, 'NGET TO (Blank - not used)'!AO21))","v":0.9330676836534848}]
[null,null,null,null,"Undergrounding volume driver","6K","£m 09/10 prices","UCE",null,null,null,null,null,null,null,null,null,null,null,null,null,null,null,null,null,null,null,null,null,null,null,null,null,{"$f":"IF(UserInterface!$E$69 = 1,CHOOSE(m_identity,'SHE-Transmission PLC'!AH22, SPTL!AH22, 'NGET TO'!AH22),CHOOSE(m_identity,'SHE-Transmission PLC (Blank - )'!AH22, 'SPTL (Blank - not used)'!AH22, 'NGET TO (Blank - not used)'!AH22))","v":0},{"$f":"IF(UserInterface!$E$69 = 1,CHOOSE(m_identity,'SHE-Transmission PLC'!AI22, SPTL!AI22, 'NGET TO'!AI22),CHOOSE(m_identity,'SHE-Transmission PLC (Blank - )'!AI22, 'SPTL (Blank - not used)'!AI22, 'NGET TO (Blank - not used)'!AI22))","v":0},{"$f":"IF(UserInterface!$E$69 = 1,CHOOSE(m_identity,'SHE-Transmission PLC'!AJ22, SPTL!AJ22, 'NGET TO'!AJ22),CHOOSE(m_identity,'SHE-Transmission PLC (Blank - )'!AJ22, 'SPTL (Blank - not used)'!AJ22, 'NGET TO (Blank - not used)'!AJ22))","v":0},{"$f":"IF(UserInterface!$E$69 = 1,CHOOSE(m_identity,'SHE-Transmission PLC'!AK22, SPTL!AK22, 'NGET TO'!AK22),CHOOSE(m_identity,'SHE-Transmission PLC (Blank - )'!AK22, 'SPTL (Blank - not used)'!AK22, 'NGET TO (Blank - not used)'!AK22))","v":0},{"$f":"IF(UserInterface!$E$69 = 1,CHOOSE(m_identity,'SHE-Transmission PLC'!AL22, SPTL!AL22, 'NGET TO'!AL22),CHOOSE(m_identity,'SHE-Transmission PLC (Blank - )'!AL22, 'SPTL (Blank - not used)'!AL22, 'NGET TO (Blank - not used)'!AL22))","v":0},{"$f":"IF(UserInterface!$E$69 = 1,CHOOSE(m_identity,'SHE-Transmission PLC'!AM22, SPTL!AM22, 'NGET TO'!AM22),CHOOSE(m_identity,'SHE-Transmission PLC (Blank - )'!AM22, 'SPTL (Blank - not used)'!AM22, 'NGET TO (Blank - not used)'!AM22))","v":0},{"$f":"IF(UserInterface!$E$69 = 1,CHOOSE(m_identity,'SHE-Transmission PLC'!AN22, SPTL!AN22, 'NGET TO'!AN22),CHOOSE(m_identity,'SHE-Transmission PLC (Blank - )'!AN22, 'SPTL (Blank - not used)'!AN22, 'NGET TO (Blank - not used)'!AN22))","v":0},{"$f":"IF(UserInterface!$E$69 = 1,CHOOSE(m_identity,'SHE-Transmission PLC'!AO22, SPTL!AO22, 'NGET TO'!AO22),CHOOSE(m_identity,'SHE-Transmission PLC (Blank - )'!AO22, 'SPTL (Blank - not used)'!AO22, 'NGET TO (Blank - not used)'!AO22))","v":0}]
[null,null,null,null,"Generation connections volume driver","6F","£m 09/10 prices","GCE",null,null,null,null,null,null,null,null,null,null,null,null,null,null,null,null,null,null,null,null,null,null,null,null,null,{"$f":"IF(UserInterface!$E$69 = 1,CHOOSE(m_identity,'SHE-Transmission PLC'!AH23, SPTL!AH23, 'NGET TO'!AH23),CHOOSE(m_identity,'SHE-Transmission PLC (Blank - )'!AH23, 'SPTL (Blank - not used)'!AH23, 'NGET TO (Blank - not used)'!AH23))","v":133.86004855000002},{"$f":"IF(UserInterface!$E$69 = 1,CHOOSE(m_identity,'SHE-Transmission PLC'!AI23, SPTL!AI23, 'NGET TO'!AI23),CHOOSE(m_identity,'SHE-Transmission PLC (Blank - )'!AI23, 'SPTL (Blank - not used)'!AI23, 'NGET TO (Blank - not used)'!AI23))","v":185.22825752485659},{"$f":"IF(UserInterface!$E$69 = 1,CHOOSE(m_identity,'SHE-Transmission PLC'!AJ23, SPTL!AJ23, 'NGET TO'!AJ23),CHOOSE(m_identity,'SHE-Transmission PLC (Blank - )'!AJ23, 'SPTL (Blank - not used)'!AJ23, 'NGET TO (Blank - not used)'!AJ23))","v":184.11220513019714},{"$f":"IF(UserInterface!$E$69 = 1,CHOOSE(m_identity,'SHE-Transmission PLC'!AK23, SPTL!AK23, 'NGET TO'!AK23),CHOOSE(m_identity,'SHE-Transmission PLC (Blank - )'!AK23, 'SPTL (Blank - not used)'!AK23, 'NGET TO (Blank - not used)'!AK23))","v":220.70970463254625},{"$f":"IF(UserInterface!$E$69 = 1,CHOOSE(m_identity,'SHE-Transmission PLC'!AL23, SPTL!AL23, 'NGET TO'!AL23),CHOOSE(m_identity,'SHE-Transmission PLC (Blank - )'!AL23, 'SPTL (Blank - not used)'!AL23, 'NGET TO (Blank - not used)'!AL23))","v":117.36407774335473},{"$f":"IF(UserInterface!$E$69 = 1,CHOOSE(m_identity,'SHE-Transmission PLC'!AM23, SPTL!AM23, 'NGET TO'!AM23),CHOOSE(m_identity,'SHE-Transmission PLC (Blank - )'!AM23, 'SPTL (Blank - not used)'!AM23, 'NGET TO (Blank - not used)'!AM23))","v":95.964578816260541},{"$f":"IF(UserInterface!$E$69 = 1,CHOOSE(m_identity,'SHE-Transmission PLC'!AN23, SPTL!AN23, 'NGET TO'!AN23),CHOOSE(m_identity,'SHE-Transmission PLC (Blank - )'!AN23, 'SPTL (Blank - not used)'!AN23, 'NGET TO (Blank - not used)'!AN23))","v":42.49354524228189},{"$f":"IF(UserInterface!$E$69 = 1,CHOOSE(m_identity,'SHE-Transmission PLC'!AO23, SPTL!AO23, 'NGET TO'!AO23),CHOOSE(m_identity,'SHE-Transmission PLC (Blank - )'!AO23, 'SPTL (Blank - not used)'!AO23, 'NGET TO (Blank - not used)'!AO23))","v":20.661511677719247}]
[null,null,null,null,"Innovation roll out mechanism","6E","£m 09/10 prices","IRM",null,null,null,null,null,null,null,null,null,null,null,null,null,null,null,null,null,null,null,null,null,null,null,null,null,{"$f":"IF(UserInterface!$E$69 = 1,CHOOSE(m_identity,'SHE-Transmission PLC'!AH24, SPTL!AH24, 'NGET TO'!AH24),CHOOSE(m_identity,'SHE-Transmission PLC (Blank - )'!AH24, 'SPTL (Blank - not used)'!AH24, 'NGET TO (Blank - not used)'!AH24))","v":0},{"$f":"IF(UserInterface!$E$69 = 1,CHOOSE(m_identity,'SHE-Transmission PLC'!AI24, SPTL!AI24, 'NGET TO'!AI24),CHOOSE(m_identity,'SHE-Transmission PLC (Blank - )'!AI24, 'SPTL (Blank - not used)'!AI24, 'NGET TO (Blank - not used)'!AI24))","v":0},{"$f":"IF(UserInterface!$E$69 = 1,CHOOSE(m_identity,'SHE-Transmission PLC'!AJ24, SPTL!AJ24, 'NGET TO'!AJ24),CHOOSE(m_identity,'SHE-Transmission PLC (Blank - )'!AJ24, 'SPTL (Blank - not used)'!AJ24, 'NGET TO (Blank - not used)'!AJ24))","v":0},{"$f":"IF(UserInterface!$E$69 = 1,CHOOSE(m_identity,'SHE-Transmission PLC'!AK24, SPTL!AK24, 'NGET TO'!AK24),CHOOSE(m_identity,'SHE-Transmission PLC (Blank - )'!AK24, 'SPTL (Blank - not used)'!AK24, 'NGET TO (Blank - not used)'!AK24))","v":0},{"$f":"IF(UserInterface!$E$69 = 1,CHOOSE(m_identity,'SHE-Transmission PLC'!AL24, SPTL!AL24, 'NGET TO'!AL24),CHOOSE(m_identity,'SHE-Transmission PLC (Blank - )'!AL24, 'SPTL (Blank - not used)'!AL24, 'NGET TO (Blank - not used)'!AL24))","v":0},{"$f":"IF(UserInterface!$E$69 = 1,CHOOSE(m_identity,'SHE-Transmission PLC'!AM24, SPTL!AM24, 'NGET TO'!AM24),CHOOSE(m_identity,'SHE-Transmission PLC (Blank - )'!AM24, 'SPTL (Blank - not used)'!AM24, 'NGET TO (Blank - not used)'!AM24))","v":0},{"$f":"IF(UserInterface!$E$69 = 1,CHOOSE(m_identity,'SHE-Transmission PLC'!AN24, SPTL!AN24, 'NGET TO'!AN24),CHOOSE(m_identity,'SHE-Transmission PLC (Blank - )'!AN24, 'SPTL (Blank - not used)'!AN24, 'NGET TO (Blank - not used)'!AN24))","v":0},{"$f":"IF(UserInterface!$E$69 = 1,CHOOSE(m_identity,'SHE-Transmission PLC'!AO24, SPTL!AO24, 'NGET TO'!AO24),CHOOSE(m_identity,'SHE-Transmission PLC (Blank - )'!AO24, 'SPTL (Blank - not used)'!AO24, 'NGET TO (Blank - not used)'!AO24))","v":0}]
[null,null,null,null,"Exceptional Sub Sea Cable Faults","6H","£m 09/10 prices","IAESSCM",null,null,null,null,null,null,null,null,null,null,null,null,null,null,null,null,null,null,null,null,null,null,null,null,null,{"$f":"IF(UserInterface!$E$69 = 1,CHOOSE(m_identity,'SHE-Transmission PLC'!AH25, SPTL!AH25, 'NGET TO'!AH25),CHOOSE(m_identity,'SHE-Transmission PLC (Blank - )'!AH25, 'SPTL (Blank - not used)'!AH25, 'NGET TO (Blank - not used)'!AH25))","v":0},{"$f":"IF(UserInterface!$E$69 = 1,CHOOSE(m_identity,'SHE-Transmission PLC'!AI25, SPTL!AI25, 'NGET TO'!AI25),CHOOSE(m_identity,'SHE-Transmission PLC (Blank - )'!AI25, 'SPTL (Blank - not used)'!AI25, 'NGET TO (Blank - not used)'!AI25))","v":0},{"$f":"IF(UserInterface!$E$69 = 1,CHOOSE(m_identity,'SHE-Transmission PLC'!AJ25, SPTL!AJ25, 'NGET TO'!AJ25),CHOOSE(m_identity,'SHE-Transmission PLC (Blank - )'!AJ25, 'SPTL (Blank - not used)'!AJ25, 'NGET TO (Blank - not used)'!AJ25))","v":0},{"$f":"IF(UserInterface!$E$69 = 1,CHOOSE(m_identity,'SHE-Transmission PLC'!AK25, SPTL!AK25, 'NGET TO'!AK25),CHOOSE(m_identity,'SHE-Transmission PLC (Blank - )'!AK25, 'SPTL (Blank - not used)'!AK25, 'NGET TO (Blank - not used)'!AK25))","v":0},{"$f":"IF(UserInterface!$E$69 = 1,CHOOSE(m_identity,'SHE-Transmission PLC'!AL25, SPTL!AL25, 'NGET TO'!AL25),CHOOSE(m_identity,'SHE-Transmission PLC (Blank - )'!AL25, 'SPTL (Blank - not used)'!AL25, 'NGET TO (Blank - not used)'!AL25))","v":0},{"$f":"IF(UserInterface!$E$69 = 1,CHOOSE(m_identity,'SHE-Transmission PLC'!AM25, SPTL!AM25, 'NGET TO'!AM25),CHOOSE(m_identity,'SHE-Transmission PLC (Blank - )'!AM25, 'SPTL (Blank - not used)'!AM25, 'NGET TO (Blank - not used)'!AM25))","v":0},{"$f":"IF(UserInterface!$E$69 = 1,CHOOSE(m_identity,'SHE-Transmission PLC'!AN25, SPTL!AN25, 'NGET TO'!AN25),CHOOSE(m_identity,'SHE-Transmission PLC (Blank - )'!AN25, 'SPTL (Blank - not used)'!AN25, 'NGET TO (Blank - not used)'!AN25))","v":0},{"$f":"IF(UserInterface!$E$69 = 1,CHOOSE(m_identity,'SHE-Transmission PLC'!AO25, SPTL!AO25, 'NGET TO'!AO25),CHOOSE(m_identity,'SHE-Transmission PLC (Blank - )'!AO25, 'SPTL (Blank - not used)'!AO25, 'NGET TO (Blank - not used)'!AO25))","v":0}]
[null,null,null,null,"Non-load Related Work Costs","6H","£m 09/10 prices","IAENLUM",null,null,null,null,null,null,null,null,null,null,null,null,null,null,null,null,null,null,null,null,null,null,null,null,null,{"$f":"IF(UserInterface!$E$69 = 1,CHOOSE(m_identity,'SHE-Transmission PLC'!AH26, SPTL!AH26, 'NGET TO'!AH26),CHOOSE(m_identity,'SHE-Transmission PLC (Blank - )'!AH26, 'SPTL (Blank - not used)'!AH26, 'NGET TO (Blank - not used)'!AH26))","v":0},{"$f":"IF(UserInterface!$E$69 = 1,CHOOSE(m_identity,'SHE-Transmission PLC'!AI26, SPTL!AI26, 'NGET TO'!AI26),CHOOSE(m_identity,'SHE-Transmission PLC (Blank - )'!AI26, 'SPTL (Blank - not used)'!AI26, 'NGET TO (Blank - not used)'!AI26))","v":0},{"$f":"IF(UserInterface!$E$69 = 1,CHOOSE(m_identity,'SHE-Transmission PLC'!AJ26, SPTL!AJ26, 'NGET TO'!AJ26),CHOOSE(m_identity,'SHE-Transmission PLC (Blank - )'!AJ26, 'SPTL (Blank - not used)'!AJ26, 'NGET TO (Blank - not used)'!AJ26))","v":0},{"$f":"IF(UserInterface!$E$69 = 1,CHOOSE(m_identity,'SHE-Transmission PLC'!AK26, SPTL!AK26, 'NGET TO'!AK26),CHOOSE(m_identity,'SHE-Transmission PLC (Blank - )'!AK26, 'SPTL (Blank - not used)'!AK26, 'NGET TO (Blank - not used)'!AK26))","v":0},{"$f":"IF(UserInterface!$E$69 = 1,CHOOSE(m_identity,'SHE-Transmission PLC'!AL26, SPTL!AL26, 'NGET TO'!AL26),CHOOSE(m_identity,'SHE-Transmission PLC (Blank - )'!AL26, 'SPTL (Blank - not used)'!AL26, 'NGET TO (Blank - not used)'!AL26))","v":0},{"$f":"IF(UserInterface!$E$69 = 1,CHOOSE(m_identity,'SHE-Transmission PLC'!AM26, SPTL!AM26, 'NGET TO'!AM26),CHOOSE(m_identity,'SHE-Transmission PLC (Blank - )'!AM26, 'SPTL (Blank - not used)'!AM26, 'NGET TO (Blank - not used)'!AM26))","v":0},{"$f":"IF(UserInterface!$E$69 = 1,CHOOSE(m_identity,'SHE-Transmission PLC'!AN26, SPTL!AN26, 'NGET TO'!AN26),CHOOSE(m_identity,'SHE-Transmission PLC (Blank - )'!AN26, 'SPTL (Blank - not used)'!AN26, 'NGET TO (Blank - not used)'!AN26))","v":0},{"$f":"IF(UserInterface!$E$69 = 1,CHOOSE(m_identity,'SHE-Transmission PLC'!AO26, SPTL!AO26, 'NGET TO'!AO26),CHOOSE(m_identity,'SHE-Transmission PLC (Blank - )'!AO26, 'SPTL (Blank - not used)'!AO26, 'NGET TO (Blank - not used)'!AO26))","v":0}]
[null,null,null,null,"Tax liability - gearing/interest costs","6D","£m nominal","TGIE",null,null,null,null,null,null,null,null,null,null,null,null,null,null,null,null,null,null,null,null,null,null,null,null,null,{"$f":"IF(UserInterface!$E$69 = 1,CHOOSE(m_identity,'SHE-Transmission PLC'!AH27, SPTL!AH27, 'NGET TO'!AH27),CHOOSE(m_identity,'SHE-Transmission PLC (Blank - )'!AH27, 'SPTL (Blank - not used)'!AH27, 'NGET TO (Blank - not used)'!AH27))","v":0},{"$f":"IF(UserInterface!$E$69 = 1,CHOOSE(m_identity,'SHE-Transmission PLC'!AI27, SPTL!AI27, 'NGET TO'!AI27),CHOOSE(m_identity,'SHE-Transmission PLC (Blank - )'!AI27, 'SPTL (Blank - not used)'!AI27, 'NGET TO (Blank - not used)'!AI27))","v":0},{"$f":"IF(UserInterface!$E$69 = 1,CHOOSE(m_identity,'SHE-Transmission PLC'!AJ27, SPTL!AJ27, 'NGET TO'!AJ27),CHOOSE(m_identity,'SHE-Transmission PLC (Blank - )'!AJ27, 'SPTL (Blank - not used)'!AJ27, 'NGET TO (Blank - not used)'!AJ27))","v":0},{"$f":"IF(UserInterface!$E$69 = 1,CHOOSE(m_identity,'SHE-Transmission PLC'!AK27, SPTL!AK27, 'NGET TO'!AK27),CHOOSE(m_identity,'SHE-Transmission PLC (Blank - )'!AK27, 'SPTL (Blank - not used)'!AK27, 'NGET TO (Blank - not used)'!AK27))","v":0},{"$f":"IF(UserInterface!$E$69 = 1,CHOOSE(m_identity,'SHE-Transmission PLC'!AL27, SPTL!AL27, 'NGET TO'!AL27),CHOOSE(m_identity,'SHE-Transmission PLC (Blank - )'!AL27, 'SPTL (Blank - not used)'!AL27, 'NGET TO (Blank - not used)'!AL27))","v":0},{"$f":"IF(UserInterface!$E$69 = 1,CHOOSE(m_identity,'SHE-Transmission PLC'!AM27, SPTL!AM27, 'NGET TO'!AM27),CHOOSE(m_identity,'SHE-Transmission PLC (Blank - )'!AM27, 'SPTL (Blank - not used)'!AM27, 'NGET TO (Blank - not used)'!AM27))","v":0},{"$f":"IF(UserInterface!$E$69 = 1,CHOOSE(m_identity,'SHE-Transmission PLC'!AN27, SPTL!AN27, 'NGET TO'!AN27),CHOOSE(m_identity,'SHE-Transmission PLC (Blank - )'!AN27, 'SPTL (Blank - not used)'!AN27, 'NGET TO (Blank - not used)'!AN27))","v":0},{"$f":"IF(UserInterface!$E$69 = 1,CHOOSE(m_identity,'SHE-Transmission PLC'!AO27, SPTL!AO27, 'NGET TO'!AO27),CHOOSE(m_identity,'SHE-Transmission PLC (Blank - )'!AO27, 'SPTL (Blank - not used)'!AO27, 'NGET TO (Blank - not used)'!AO27))","v":0}]
[null,null,null,null,"Tax liability - tax trigger events","6D","£m 09/10 prices","TTE",null,null,null,null,null,null,null,null,null,null,null,null,null,null,null,null,null,null,null,null,null,null,null,null,null,{"$f":"IF(UserInterface!$E$69 = 1,CHOOSE(m_identity,'SHE-Transmission PLC'!AH28, SPTL!AH28, 'NGET TO'!AH28),CHOOSE(m_identity,'SHE-Transmission PLC (Blank - )'!AH28, 'SPTL (Blank - not used)'!AH28, 'NGET TO (Blank - not used)'!AH28))","v":0},{"$f":"IF(UserInterface!$E$69 = 1,CHOOSE(m_identity,'SHE-Transmission PLC'!AI28, SPTL!AI28, 'NGET TO'!AI28),CHOOSE(m_identity,'SHE-Transmission PLC (Blank - )'!AI28, 'SPTL (Blank - not used)'!AI28, 'NGET TO (Blank - not used)'!AI28))","v":0},{"$f":"IF(UserInterface!$E$69 = 1,CHOOSE(m_identity,'SHE-Transmission PLC'!AJ28, SPTL!AJ28, 'NGET TO'!AJ28),CHOOSE(m_identity,'SHE-Transmission PLC (Blank - )'!AJ28, 'SPTL (Blank - not used)'!AJ28, 'NGET TO (Blank - not used)'!AJ28))","v":0},{"$f":"IF(UserInterface!$E$69 = 1,CHOOSE(m_identity,'SHE-Transmission PLC'!AK28, SPTL!AK28, 'NGET TO'!AK28),CHOOSE(m_identity,'SHE-Transmission PLC (Blank - )'!AK28, 'SPTL (Blank - not used)'!AK28, 'NGET TO (Blank - not used)'!AK28))","v":0},{"$f":"IF(UserInterface!$E$69 = 1,CHOOSE(m_identity,'SHE-Transmission PLC'!AL28, SPTL!AL28, 'NGET TO'!AL28),CHOOSE(m_identity,'SHE-Transmission PLC (Blank - )'!AL28, 'SPTL (Blank - not used)'!AL28, 'NGET TO (Blank - not used)'!AL28))","v":0},{"$f":"IF(UserInterface!$E$69 = 1,CHOOSE(m_identity,'SHE-Transmission PLC'!AM28, SPTL!AM28, 'NGET TO'!AM28),CHOOSE(m_identity,'SHE-Transmission PLC (Blank - )'!AM28, 'SPTL (Blank - not used)'!AM28, 'NGET TO (Blank - not used)'!AM28))","v":0},{"$f":"IF(UserInterface!$E$69 = 1,CHOOSE(m_identity,'SHE-Transmission PLC'!AN28, SPTL!AN28, 'NGET TO'!AN28),CHOOSE(m_identity,'SHE-Transmission PLC (Blank - )'!AN28, 'SPTL (Blank - not used)'!AN28, 'NGET TO (Blank - not used)'!AN28))","v":0},{"$f":"IF(UserInterface!$E$69 = 1,CHOOSE(m_identity,'SHE-Transmission PLC'!AO28, SPTL!AO28, 'NGET TO'!AO28),CHOOSE(m_identity,'SHE-Transmission PLC (Blank - )'!AO28, 'SPTL (Blank - not used)'!AO28, 'NGET TO (Blank - not used)'!AO28))","v":0}]
[null,null,null,null,"Pension scheme administration and Pension Protection Fund Levy","6D","£m 09/10 prices","APFE",null,null,null,null,null,null,null,null,null,null,null,null,null,null,null,null,null,null,null,null,null,null,null,null,null,{"$f":"IF(UserInterface!$E$69 = 1,CHOOSE(m_identity,'SHE-Transmission PLC'!AH29, SPTL!AH29, 'NGET TO'!AH29),CHOOSE(m_identity,'SHE-Transmission PLC (Blank - )'!AH29, 'SPTL (Blank - not used)'!AH29, 'NGET TO (Blank - not used)'!AH29))","v":1.5},{"$f":"IF(UserInterface!$E$69 = 1,CHOOSE(m_identity,'SHE-Transmission PLC'!AI29, SPTL!AI29, 'NGET TO'!AI29),CHOOSE(m_identity,'SHE-Transmission PLC (Blank - )'!AI29, 'SPTL (Blank - not used)'!AI29, 'NGET TO (Blank - not used)'!AI29))","v":1.3},{"$f":"IF(UserInterface!$E$69 = 1,CHOOSE(m_identity,'SHE-Transmission PLC'!AJ29, SPTL!AJ29, 'NGET TO'!AJ29),CHOOSE(m_identity,'SHE-Transmission PLC (Blank - )'!AJ29, 'SPTL (Blank - not used)'!AJ29, 'NGET TO (Blank - not used)'!AJ29))","v":1.3},{"$f":"IF(UserInterface!$E$69 = 1,CHOOSE(m_identity,'SHE-Transmission PLC'!AK29, SPTL!AK29, 'NGET TO'!AK29),CHOOSE(m_identity,'SHE-Transmission PLC (Blank - )'!AK29, 'SPTL (Blank - not used)'!AK29, 'NGET TO (Blank - not used)'!AK29))","v":1.5},{"$f":"IF(UserInterface!$E$69 = 1,CHOOSE(m_identity,'SHE-Transmission PLC'!AL29, SPTL!AL29, 'NGET TO'!AL29),CHOOSE(m_identity,'SHE-Transmission PLC (Blank - )'!AL29, 'SPTL (Blank - not used)'!AL29, 'NGET TO (Blank - not used)'!AL29))","v":1.3},{"$f":"IF(UserInterface!$E$69 = 1,CHOOSE(m_identity,'SHE-Transmission PLC'!AM29, SPTL!AM29, 'NGET TO'!AM29),CHOOSE(m_identity,'SHE-Transmission PLC (Blank - )'!AM29, 'SPTL (Blank - not used)'!AM29, 'NGET TO (Blank - not used)'!AM29))","v":1.3},{"$f":"IF(UserInterface!$E$69 = 1,CHOOSE(m_identity,'SHE-Transmission PLC'!AN29, SPTL!AN29, 'NGET TO'!AN29),CHOOSE(m_identity,'SHE-Transmission PLC (Blank - )'!AN29, 'SPTL (Blank - not used)'!AN29, 'NGET TO (Blank - not used)'!AN29))","v":1.5},{"$f":"IF(UserInterface!$E$69 = 1,CHOOSE(m_identity,'SHE-Transmission PLC'!AO29, SPTL!AO29, 'NGET TO'!AO29),CHOOSE(m_identity,'SHE-Transmission PLC (Blank - )'!AO29, 'SPTL (Blank - not used)'!AO29, 'NGET TO (Blank - not used)'!AO29))","v":1.3}]
[null,null,null,null,"Pension Scheme Established Deficit","6D","£m 09/10 prices","EDE",null,null,null,null,null,null,null,null,null,null,null,null,null,null,null,null,null,null,null,null,null,null,null,null,null,{"$f":"IF(UserInterface!$E$69 = 1,CHOOSE(m_identity,'SHE-Transmission PLC'!AH30, SPTL!AH30, 'NGET TO'!AH30),CHOOSE(m_identity,'SHE-Transmission PLC (Blank - )'!AH30, 'SPTL (Blank - not used)'!AH30, 'NGET TO (Blank - not used)'!AH30))","v":28.929052554944597},{"$f":"IF(UserInterface!$E$69 = 1,CHOOSE(m_identity,'SHE-Transmission PLC'!AI30, SPTL!AI30, 'NGET TO'!AI30),CHOOSE(m_identity,'SHE-Transmission PLC (Blank - )'!AI30, 'SPTL (Blank - not used)'!AI30, 'NGET TO (Blank - not used)'!AI30))","v":28.929052554944597},{"$f":"IF(UserInterface!$E$69 = 1,CHOOSE(m_identity,'SHE-Transmission PLC'!AJ30, SPTL!AJ30, 'NGET TO'!AJ30),CHOOSE(m_identity,'SHE-Transmission PLC (Blank - )'!AJ30, 'SPTL (Blank - not used)'!AJ30, 'NGET TO (Blank - not used)'!AJ30))","v":32.585753058109198},{"$f":"IF(UserInterface!$E$69 = 1,CHOOSE(m_identity,'SHE-Transmission PLC'!AK30, SPTL!AK30, 'NGET TO'!AK30),CHOOSE(m_identity,'SHE-Transmission PLC (Blank - )'!AK30, 'SPTL (Blank - not used)'!AK30, 'NGET TO (Blank - not used)'!AK30))","v":32.585753058109198},{"$f":"IF(UserInterface!$E$69 = 1,CHOOSE(m_identity,'SHE-Transmission PLC'!AL30, SPTL!AL30, 'NGET TO'!AL30),CHOOSE(m_identity,'SHE-Transmission PLC (Blank - )'!AL30, 'SPTL (Blank - not used)'!AL30, 'NGET TO (Blank - not used)'!AL30))","v":32.585753058109198},{"$f":"IF(UserInterface!$E$69 = 1,CHOOSE(m_identity,'SHE-Transmission PLC'!AM30, SPTL!AM30, 'NGET TO'!AM30),CHOOSE(m_identity,'SHE-Transmission PLC (Blank - )'!AM30, 'SPTL (Blank - not used)'!AM30, 'NGET TO (Blank - not used)'!AM30))","v":32.585753058109198},{"$f":"IF(UserInterface!$E$69 = 1,CHOOSE(m_identity,'SHE-Transmission PLC'!AN30, SPTL!AN30, 'NGET TO'!AN30),CHOOSE(m_identity,'SHE-Transmission PLC (Blank - )'!AN30, 'SPTL (Blank - not used)'!AN30, 'NGET TO (Blank - not used)'!AN30))","v":32.585753058109198},{"$f":"IF(UserInterface!$E$69 = 1,CHOOSE(m_identity,'SHE-Transmission PLC'!AO30, SPTL!AO30, 'NGET TO'!AO30),CHOOSE(m_identity,'SHE-Transmission PLC (Blank - )'!AO30, 'SPTL (Blank - not used)'!AO30, 'NGET TO (Blank - not used)'!AO30))","v":32.585753058109198}]
[null,null,null,null,"Legacy price control adjustments to allowed revenue","6A","£m 09/10 prices","LAR",null,null,null,null,null,null,null,null,null,null,null,null,null,null,null,null,null,null,null,null,null,null,null,null,null,{"$f":"IF(UserInterface!$E$69 = 1,CHOOSE(m_identity,'SHE-Transmission PLC'!AH31, SPTL!AH31, 'NGET TO'!AH31),CHOOSE(m_identity,'SHE-Transmission PLC (Blank - )'!AH31, 'SPTL (Blank - not used)'!AH31, 'NGET TO (Blank - not used)'!AH31))","v":98.594376304701441}]
[null,null,null,null,"Legacy price control adjustments to RAV","6A","£m 09/10 prices","LRAV",null,null,null,null,null,null,null,null,null,null,null,null,null,null,null,null,null,null,null,null,null,null,null,null,null,{"$f":"IF(UserInterface!$E$69 = 1,CHOOSE(m_identity,'SHE-Transmission PLC'!AH32, SPTL!AH32, 'NGET TO'!AH32),CHOOSE(m_identity,'SHE-Transmission PLC (Blank - )'!AH32, 'SPTL (Blank - not used)'!AH32, 'NGET TO (Blank - not used)'!AH32))","v":-162.17489418365281}]
[]
[null,"Policy"]
[]
[null,null,"Cost of capital"]
[]
[null,null,null,null,"Cost of debt",null,"annual real %",null,null,null,null,null,null,null,null,null,null,null,null,null,null,null,null,null,null,null,null,null,null,null,null,null,null,{"$f":"AH8","v":2.92E-2},2.7199999999999998E-2,2.5499999999999998E-2,2.5499999999999998E-2,2.5499999999999998E-2,2.5499999999999998E-2,2.5499999999999998E-2,2.5499999999999998E-2]
[null,null,null,null,"Cost of equity",null,"annual real %",null,null,null,null,null,null,null,null,null,null,null,null,null,null,null,null,null,null,null,null,null,null,null,null,null,null,{"$f":"IF(UserInterface!$E$69 = 1,CHOOSE(m_identity,'SHE-Transmission PLC'!AH39, SPTL!AH39, 'NGET TO'!AH39),CHOOSE(m_identity,'SHE-Transmission PLC (Blank - )'!AH39, 'SPTL (Blank - not used)'!AH39, 'NGET TO (Blank - not used)'!AH39))","v":7.0000000000000007E-2},{"$f":"IF(UserInterface!$E$69 = 1,CHOOSE(m_identity,'SHE-Transmission PLC'!AI39, SPTL!AI39, 'NGET TO'!AI39),CHOOSE(m_identity,'SHE-Transmission PLC (Blank - )'!AI39, 'SPTL (Blank - not used)'!AI39, 'NGET TO (Blank - not used)'!AI39))","v":7.0000000000000007E-2},{"$f":"IF(UserInterface!$E$69 = 1,CHOOSE(m_identity,'SHE-Transmission PLC'!AJ39, SPTL!AJ39, 'NGET TO'!AJ39),CHOOSE(m_identity,'SHE-Transmission PLC (Blank - )'!AJ39, 'SPTL (Blank - not used)'!AJ39, 'NGET TO (Blank - not used)'!AJ39))","v":7.0000000000000007E-2},{"$f":"IF(UserInterface!$E$69 = 1,CHOOSE(m_identity,'SHE-Transmission PLC'!AK39, SPTL!AK39, 'NGET TO'!AK39),CHOOSE(m_identity,'SHE-Transmission PLC (Blank - )'!AK39, 'SPTL (Blank - not used)'!AK39, 'NGET TO (Blank - not used)'!AK39))","v":7.0000000000000007E-2},{"$f":"IF(UserInterface!$E$69 = 1,CHOOSE(m_identity,'SHE-Transmission PLC'!AL39, SPTL!AL39, 'NGET TO'!AL39),CHOOSE(m_identity,'SHE-Transmission PLC (Blank - )'!AL39, 'SPTL (Blank - not used)'!AL39, 'NGET TO (Blank - not used)'!AL39))","v":7.0000000000000007E-2},{"$f":"IF(UserInterface!$E$69 = 1,CHOOSE(m_identity,'SHE-Transmission PLC'!AM39, SPTL!AM39, 'NGET TO'!AM39),CHOOSE(m_identity,'SHE-Transmission PLC (Blank - )'!AM39, 'SPTL (Blank - not used)'!AM39, 'NGET TO (Blank - not used)'!AM39))","v":7.0000000000000007E-2},{"$f":"IF(UserInterface!$E$69 = 1,CHOOSE(m_identity,'SHE-Transmission PLC'!AN39, SPTL!AN39, 'NGET TO'!AN39),CHOOSE(m_identity,'SHE-Transmission PLC (Blank - )'!AN39, 'SPTL (Blank - not used)'!AN39, 'NGET TO (Blank - not used)'!AN39))","v":7.0000000000000007E-2},{"$f":"IF(UserInterface!$E$69 = 1,CHOOSE(m_identity,'SHE-Transmission PLC'!AO39, SPTL!AO39, 'NGET TO'!AO39),CHOOSE(m_identity,'SHE-Transmission PLC (Blank - )'!AO39, 'SPTL (Blank - not used)'!AO39, 'NGET TO (Blank - not used)'!AO39))","v":7.0000000000000007E-2}]
[null,null,null,null,"Notional gearing",null,"%",null,null,">",null,null,null,null,null,null,null,null,null,null,null,null,null,null,null,null,null,null,null,null,null,null,{"$f":"IF(UserInterface!$E$69 = 1,CHOOSE(m_identity,'SHE-Transmission PLC'!AG40, SPTL!AG40, 'NGET TO'!AG40),CHOOSE(m_identity,'SHE-Transmission PLC (Blank - )'!AG40, 'SPTL (Blank - not used)'!AG40, 'NGET TO (Blank - not used)'!AG40))","v":0.6},{"$f":"IF(UserInterface!$E$69 = 1,CHOOSE(m_identity,'SHE-Transmission PLC'!AH40, SPTL!AH40, 'NGET TO'!AH40),CHOOSE(m_identity,'SHE-Transmission PLC (Blank - )'!AH40, 'SPTL (Blank - not used)'!AH40, 'NGET TO (Blank - not used)'!AH40))","v":0.6},{"$f":"IF(UserInterface!$E$69 = 1,CHOOSE(m_identity,'SHE-Transmission PLC'!AI40, SPTL!AI40, 'NGET TO'!AI40),CHOOSE(m_identity,'SHE-Transmission PLC (Blank - )'!AI40, 'SPTL (Blank - not used)'!AI40, 'NGET TO (Blank - not used)'!AI40))","v":0.6},{"$f":"IF(UserInterface!$E$69 = 1,CHOOSE(m_identity,'SHE-Transmission PLC'!AJ40, SPTL!AJ40, 'NGET TO'!AJ40),CHOOSE(m_identity,'SHE-Transmission PLC (Blank - )'!AJ40, 'SPTL (Blank - not used)'!AJ40, 'NGET TO (Blank - not used)'!AJ40))","v":0.6},{"$f":"IF(UserInterface!$E$69 = 1,CHOOSE(m_identity,'SHE-Transmission PLC'!AK40, SPTL!AK40, 'NGET TO'!AK40),CHOOSE(m_identity,'SHE-Transmission PLC (Blank - )'!AK40, 'SPTL (Blank - not used)'!AK40, 'NGET TO (Blank - not used)'!AK40))","v":0.6},{"$f":"IF(UserInterface!$E$69 = 1,CHOOSE(m_identity,'SHE-Transmission PLC'!AL40, SPTL!AL40, 'NGET TO'!AL40),CHOOSE(m_identity,'SHE-Transmission PLC (Blank - )'!AL40, 'SPTL (Blank - not used)'!AL40, 'NGET TO (Blank - not used)'!AL40))","v":0.6},{"$f":"IF(UserInterface!$E$69 = 1,CHOOSE(m_identity,'SHE-Transmission PLC'!AM40, SPTL!AM40, 'NGET TO'!AM40),CHOOSE(m_identity,'SHE-Transmission PLC (Blank - )'!AM40, 'SPTL (Blank - not used)'!AM40, 'NGET TO (Blank - not used)'!AM40))","v":0.6},{"$f":"IF(UserInterface!$E$69 = 1,CHOOSE(m_identity,'SHE-Transmission PLC'!AN40, SPTL!AN40, 'NGET TO'!AN40),CHOOSE(m_identity,'SHE-Transmission PLC (Blank - )'!AN40, 'SPTL (Blank - not used)'!AN40, 'NGET TO (Blank - not used)'!AN40))","v":0.6},{"$f":"IF(UserInterface!$E$69 = 1,CHOOSE(m_identity,'SHE-Transmission PLC'!AO40, SPTL!AO40, 'NGET TO'!AO40),CHOOSE(m_identity,'SHE-Transmission PLC (Blank - )'!AO40, 'SPTL (Blank - not used)'!AO40, 'NGET TO (Blank - not used)'!AO40))","v":0.6}]
[]
[null,null,null,null,"Vanilla WACC",null,"annual real %",null,null,null,null,null,null,null,null,null,null,null,null,null,null,null,null,null,null,null,null,null,null,null,null,null,null,{"$f":"(AH38 * AH40) + (AH39 * (1 - AH40))","v":4.5520000000000005E-2},4.4319999999999998E-2,4.3300000000000005E-2,4.3300000000000005E-2,4.3300000000000005E-2,4.3300000000000005E-2,4.3300000000000005E-2,4.3300000000000005E-2]
[]
[null,null,null,null,"Pre-RIIO closing notional gearing",null,"%",null,{"$f":"IF(UserInterface!$E$69 = 1,CHOOSE(m_identity,'SHE-Transmission PLC'!I44, SPTL!I44, 'NGET TO'!I44),CHOOSE(m_identity,'SHE-Transmission PLC (Blank - )'!I44, 'SPTL (Blank - not used)'!I44, 'NGET TO (Blank - not used)'!I44))","v":0.61135353243992929}]
[]
[null,null,null,null,"Forecast RPI (simple average year to March)",null,"index value",null,null,">",null,null,null,null,null,null,null,null,null,null,null,{"$f":"IF(UserInterface!$E$69 = 1,CHOOSE(m_identity,'SHE-Transmission PLC'!V46, SPTL!V46, 'NGET TO'!V46),CHOOSE(m_identity,'SHE-Transmission PLC (Blank - )'!V46, 'SPTL (Blank - not used)'!V46, 'NGET TO (Blank - not used)'!V46))","v":173.875},{"$f":"IF(UserInterface!$E$69 = 1,CHOOSE(m_identity,'SHE-Transmission PLC'!W46, SPTL!W46, 'NGET TO'!W46),CHOOSE(m_identity,'SHE-Transmission PLC (Blank - )'!W46, 'SPTL (Blank - not used)'!W46, 'NGET TO (Blank - not used)'!W46))","v":177.517},{"$f":"IF(UserInterface!$E$69 = 1,CHOOSE(m_identity,'SHE-Transmission PLC'!X46, SPTL!X46, 'NGET TO'!X46),CHOOSE(m_identity,'SHE-Transmission PLC (Blank - )'!X46, 'SPTL (Blank - not used)'!X46, 'NGET TO (Blank - not used)'!X46))","v":182.47499999999999},{"$f":"IF(UserInterface!$E$69 = 1,CHOOSE(m_identity,'SHE-Transmission PLC'!Y46, SPTL!Y46, 'NGET TO'!Y46),CHOOSE(m_identity,'SHE-Transmission PLC (Blank - )'!Y46, 'SPTL (Blank - not used)'!Y46, 'NGET TO (Blank - not used)'!Y46))","v":188.15},{"$f":"IF(UserInterface!$E$69 = 1,CHOOSE(m_identity,'SHE-Transmission PLC'!Z46, SPTL!Z46, 'NGET TO'!Z46),CHOOSE(m_identity,'SHE-Transmission PLC (Blank - )'!Z46, 'SPTL (Blank - not used)'!Z46, 'NGET TO (Blank - not used)'!Z46))","v":193.108},{"$f":"IF(UserInterface!$E$69 = 1,CHOOSE(m_identity,'SHE-Transmission PLC'!AA46, SPTL!AA46, 'NGET TO'!AA46),CHOOSE(m_identity,'SHE-Transmission PLC (Blank - )'!AA46, 'SPTL (Blank - not used)'!AA46, 'NGET TO (Blank - not used)'!AA46))","v":200.31700000000001},{"$f":"IF(UserInterface!$E$69 = 1,CHOOSE(m_identity,'SHE-Transmission PLC'!AB46, SPTL!AB46, 'NGET TO'!AB46),CHOOSE(m_identity,'SHE-Transmission PLC (Blank - )'!AB46, 'SPTL (Blank - not used)'!AB46, 'NGET TO (Blank - not used)'!AB46))","v":208.59200000000001},{"$f":"IF(UserInterface!$E$69 = 1,CHOOSE(m_identity,'SHE-Transmission PLC'!AC46, SPTL!AC46, 'NGET TO'!AC46),CHOOSE(m_identity,'SHE-Transmission PLC (Blank - )'!AC46, 'SPTL (Blank - not used)'!AC46, 'NGET TO (Blank - not used)'!AC46))","v":214.78299999999999},{"$f":"IF(UserInterface!$E$69 = 1,CHOOSE(m_identity,'SHE-Transmission PLC'!AD46, SPTL!AD46, 'NGET TO'!AD46),CHOOSE(m_identity,'SHE-Transmission PLC (Blank - )'!AD46, 'SPTL (Blank - not used)'!AD46, 'NGET TO (Blank - not used)'!AD46))","v":215.767},{"$f":"IF(UserInterface!$E$69 = 1,CHOOSE(m_identity,'SHE-Transmission PLC'!AE46, SPTL!AE46, 'NGET TO'!AE46),CHOOSE(m_identity,'SHE-Transmission PLC (Blank - )'!AE46, 'SPTL (Blank - not used)'!AE46, 'NGET TO (Blank - not used)'!AE46))","v":226.47499999999999},{"$f":"IF(UserInterface!$E$69 = 1,CHOOSE(m_identity,'SHE-Transmission PLC'!AF46, SPTL!AF46, 'NGET TO'!AF46),CHOOSE(m_identity,'SHE-Transmission PLC (Blank - )'!AF46, 'SPTL (Blank - not used)'!AF46, 'NGET TO (Blank - not used)'!AF46))","v":237.34200000000001},{"$f":"IF(UserInterface!$E$69 = 1,CHOOSE(m_identity,'SHE-Transmission PLC'!AG46, SPTL!AG46, 'NGET TO'!AG46),CHOOSE(m_identity,'SHE-Transmission PLC (Blank - )'!AG46, 'SPTL (Blank - not used)'!AG46, 'NGET TO (Blank - not used)'!AG46))","v":243.988},{"$f":"IF(UserInterface!$E$69 = 1,CHOOSE(m_identity,'SHE-Transmission PLC'!AH46, SPTL!AH46, 'NGET TO'!AH46),CHOOSE(m_identity,'SHE-Transmission PLC (Blank - )'!AH46, 'SPTL (Blank - not used)'!AH46, 'NGET TO (Blank - not used)'!AH46))","v":250.82},{"$f":"IF(UserInterface!$E$69 = 1,CHOOSE(m_identity,'SHE-Transmission PLC'!AI46, SPTL!AI46, 'NGET TO'!AI46),CHOOSE(m_identity,'SHE-Transmission PLC (Blank - )'!AI46, 'SPTL (Blank - not used)'!AI46, 'NGET TO (Blank - not used)'!AI46))","v":257.84300000000002},{"$f":"IF(UserInterface!$E$69 = 1,CHOOSE(m_identity,'SHE-Transmission PLC'!AJ46, SPTL!AJ46, 'NGET TO'!AJ46),CHOOSE(m_identity,'SHE-Transmission PLC (Blank - )'!AJ46, 'SPTL (Blank - not used)'!AJ46, 'NGET TO (Blank - not used)'!AJ46))","v":265.06299999999999},{"$f":"IF(UserInterface!$E$69 = 1,CHOOSE(m_identity,'SHE-Transmission PLC'!AK46, SPTL!AK46, 'NGET TO'!AK46),CHOOSE(m_identity,'SHE-Transmission PLC (Blank - )'!AK46, 'SPTL (Blank - not used)'!AK46, 'NGET TO (Blank - not used)'!AK46))","v":272.48500000000001},{"$f":"IF(UserInterface!$E$69 = 1,CHOOSE(m_identity,'SHE-Transmission PLC'!AL46, SPTL!AL46, 'NGET TO'!AL46),CHOOSE(m_identity,'SHE-Transmission PLC (Blank - )'!AL46, 'SPTL (Blank - not used)'!AL46, 'NGET TO (Blank - not used)'!AL46))","v":280.11500000000001},{"$f":"IF(UserInterface!$E$69 = 1,CHOOSE(m_identity,'SHE-Transmission PLC'!AM46, SPTL!AM46, 'NGET TO'!AM46),CHOOSE(m_identity,'SHE-Transmission PLC (Blank - )'!AM46, 'SPTL (Blank - not used)'!AM46, 'NGET TO (Blank - not used)'!AM46))","v":287.95800000000003},{"$f":"IF(UserInterface!$E$69 = 1,CHOOSE(m_identity,'SHE-Transmission PLC'!AN46, SPTL!AN46, 'NGET TO'!AN46),CHOOSE(m_identity,'SHE-Transmission PLC (Blank - )'!AN46, 'SPTL (Blank - not used)'!AN46, 'NGET TO (Blank - not used)'!AN46))","v":296.02100000000002},{"$f":"IF(UserInterface!$E$69 = 1,CHOOSE(m_identity,'SHE-Transmission PLC'!AO46, SPTL!AO46, 'NGET TO'!AO46),CHOOSE(m_identity,'SHE-Transmission PLC (Blank - )'!AO46, 'SPTL (Blank - not used)'!AO46, 'NGET TO (Blank - not used)'!AO46))","v":304.31}]
[null,null,null,null,"Cost of Debt Inflation",null,"index value",null,null,">",null,null,null,null,null,null,null,null,null,null,null,{"$f":"IF(UserInterface!$E$69 = 1,CHOOSE(m_identity,'SHE-Transmission PLC'!V47, SPTL!V47, 'NGET TO'!V47),CHOOSE(m_identity,'SHE-Transmission PLC (Blank - )'!V47, 'SPTL (Blank - not used)'!V47, 'NGET TO (Blank - not used)'!V47))","v":173.875},{"$f":"IF(UserInterface!$E$69 = 1,CHOOSE(m_identity,'SHE-Transmission PLC'!W47, SPTL!W47, 'NGET TO'!W47),CHOOSE(m_identity,'SHE-Transmission PLC (Blank - )'!W47, 'SPTL (Blank - not used)'!W47, 'NGET TO (Blank - not used)'!W47))","v":177.517},{"$f":"IF(UserInterface!$E$69 = 1,CHOOSE(m_identity,'SHE-Transmission PLC'!X47, SPTL!X47, 'NGET TO'!X47),CHOOSE(m_identity,'SHE-Transmission PLC (Blank - )'!X47, 'SPTL (Blank - not used)'!X47, 'NGET TO (Blank - not used)'!X47))","v":182.47499999999999},{"$f":"IF(UserInterface!$E$69 = 1,CHOOSE(m_identity,'SHE-Transmission PLC'!Y47, SPTL!Y47, 'NGET TO'!Y47),CHOOSE(m_identity,'SHE-Transmission PLC (Blank - )'!Y47, 'SPTL (Blank - not used)'!Y47, 'NGET TO (Blank - not used)'!Y47))","v":188.15},{"$f":"IF(UserInterface!$E$69 = 1,CHOOSE(m_identity,'SHE-Transmission PLC'!Z47, SPTL!Z47, 'NGET TO'!Z47),CHOOSE(m_identity,'SHE-Transmission PLC (Blank - )'!Z47, 'SPTL (Blank - not used)'!Z47, 'NGET TO (Blank - not used)'!Z47))","v":193.108},{"$f":"IF(UserInterface!$E$69 = 1,CHOOSE(m_identity,'SHE-Transmission PLC'!AA47, SPTL!AA47, 'NGET TO'!AA47),CHOOSE(m_identity,'SHE-Transmission PLC (Blank - )'!AA47, 'SPTL (Blank - not used)'!AA47, 'NGET TO (Blank - not used)'!AA47))","v":200.31700000000001},{"$f":"IF(UserInterface!$E$69 = 1,CHOOSE(m_identity,'SHE-Transmission PLC'!AB47, SPTL!AB47, 'NGET TO'!AB47),CHOOSE(m_identity,'SHE-Transmission PLC (Blank - )'!AB47, 'SPTL (Blank - not used)'!AB47, 'NGET TO (Blank - not used)'!AB47))","v":208.59200000000001},{"$f":"IF(UserInterface!$E$69 = 1,CHOOSE(m_identity,'SHE-Transmission PLC'!AC47, SPTL!AC47, 'NGET TO'!AC47),CHOOSE(m_identity,'SHE-Transmission PLC (Blank - )'!AC47, 'SPTL (Blank - not used)'!AC47, 'NGET TO (Blank - not used)'!AC47))","v":214.78299999999999},{"$f":"IF(UserInterface!$E$69 = 1,CHOOSE(m_identity,'SHE-Transmission PLC'!AD47, SPTL!AD47, 'NGET TO'!AD47),CHOOSE(m_identity,'SHE-Transmission PLC (Blank - )'!AD47, 'SPTL (Blank - not used)'!AD47, 'NGET TO (Blank - not used)'!AD47))","v":215.767},{"$f":"IF(UserInterface!$E$69 = 1,CHOOSE(m_identity,'SHE-Transmission PLC'!AE47, SPTL!AE47, 'NGET TO'!AE47),CHOOSE(m_identity,'SHE-Transmission PLC (Blank - )'!AE47, 'SPTL (Blank - not used)'!AE47, 'NGET TO (Blank - not used)'!AE47))","v":226.47499999999999},{"$f":"IF(UserInterface!$E$69 = 1,CHOOSE(m_identity,'SHE-Transmission PLC'!AF47, SPTL!AF47, 'NGET TO'!AF47),CHOOSE(m_identity,'SHE-Transmission PLC (Blank - )'!AF47, 'SPTL (Blank - not used)'!AF47, 'NGET TO (Blank - not used)'!AF47))","v":237.34200000000001},{"$f":"IF(UserInterface!$E$69 = 1,CHOOSE(m_identity,'SHE-Transmission PLC'!AG47, SPTL!AG47, 'NGET TO'!AG47),CHOOSE(m_identity,'SHE-Transmission PLC (Blank - )'!AG47, 'SPTL (Blank - not used)'!AG47, 'NGET TO (Blank - not used)'!AG47))","v":243.988},{"$f":"IF(UserInterface!$E$69 = 1,CHOOSE(m_identity,'SHE-Transmission PLC'!AH47, SPTL!AH47, 'NGET TO'!AH47),CHOOSE(m_identity,'SHE-Transmission PLC (Blank - )'!AH47, 'SPTL (Blank - not used)'!AH47, 'NGET TO (Blank - not used)'!AH47))","v":250.82},{"$f":"IF(UserInterface!$E$69 = 1,CHOOSE(m_identity,'SHE-Transmission PLC'!AI47, SPTL!AI47, 'NGET TO'!AI47),CHOOSE(m_identity,'SHE-Transmission PLC (Blank - )'!AI47, 'SPTL (Blank - not used)'!AI47, 'NGET TO (Blank - not used)'!AI47))","v":257.84300000000002},{"$f":"IF(UserInterface!$E$69 = 1,CHOOSE(m_identity,'SHE-Transmission PLC'!AJ47, SPTL!AJ47, 'NGET TO'!AJ47),CHOOSE(m_identity,'SHE-Transmission PLC (Blank - )'!AJ47, 'SPTL (Blank - not used)'!AJ47, 'NGET TO (Blank - not used)'!AJ47))","v":265.06299999999999},{"$f":"IF(UserInterface!$E$69 = 1,CHOOSE(m_identity,'SHE-Transmission PLC'!AK47, SPTL!AK47, 'NGET TO'!AK47),CHOOSE(m_identity,'SHE-Transmission PLC (Blank - )'!AK47, 'SPTL (Blank - not used)'!AK47, 'NGET TO (Blank - not used)'!AK47))","v":272.48500000000001},{"$f":"IF(UserInterface!$E$69 = 1,CHOOSE(m_identity,'SHE-Transmission PLC'!AL47, SPTL!AL47, 'NGET TO'!AL47),CHOOSE(m_identity,'SHE-Transmission PLC (Blank - )'!AL47, 'SPTL (Blank - not used)'!AL47, 'NGET TO (Blank - not used)'!AL47))","v":280.11500000000001},{"$f":"IF(UserInterface!$E$69 = 1,CHOOSE(m_identity,'SHE-Transmission PLC'!AM47, SPTL!AM47, 'NGET TO'!AM47),CHOOSE(m_identity,'SHE-Transmission PLC (Blank - )'!AM47, 'SPTL (Blank - not used)'!AM47, 'NGET TO (Blank - not used)'!AM47))","v":287.95800000000003},{"$f":"IF(UserInterface!$E$69 = 1,CHOOSE(m_identity,'SHE-Transmission PLC'!AN47, SPTL!AN47, 'NGET TO'!AN47),CHOOSE(m_identity,'SHE-Transmission PLC (Blank - )'!AN47, 'SPTL (Blank - not used)'!AN47, 'NGET TO (Blank - not used)'!AN47))","v":296.02100000000002},{"$f":"IF(UserInterface!$E$69 = 1,CHOOSE(m_identity,'SHE-Transmission PLC'!AO47, SPTL!AO47, 'NGET TO'!AO47),CHOOSE(m_identity,'SHE-Transmission PLC (Blank - )'!AO47, 'SPTL (Blank - not used)'!AO47, 'NGET TO (Blank - not used)'!AO47))","v":304.31}]
[null,null,"TIM and capitalisation"]
[]
[null,null,null,null,"Years from t until normal reporting of actual costs",null,"years",null,{"$f":"IF(UserInterface!$E$69 = 1,CHOOSE(m_identity,'SHE-Transmission PLC'!I50, SPTL!I50, 'NGET TO'!I50),CHOOSE(m_identity,'SHE-Transmission PLC (Blank - )'!I50, 'SPTL (Blank - not used)'!I50, 'NGET TO (Blank - not used)'!I50))","v":2}]
[]
[null,null,null,null,"Capitalised share of totex",null,"%",null,null,null,null,null,null,null,null,null,null,null,null,null,null,null,null,null,null,null,null,null,null,null,null,null,null,{"$f":"IF(UserInterface!$E$69 = 1,CHOOSE(m_identity,'SHE-Transmission PLC'!AH52, SPTL!AH52, 'NGET TO'!AH52),CHOOSE(m_identity,'SHE-Transmission PLC (Blank - )'!AH52, 'SPTL (Blank - not used)'!AH52, 'NGET TO (Blank - not used)'!AH52))","v":0.85},{"$f":"IF(UserInterface!$E$69 = 1,CHOOSE(m_identity,'SHE-Transmission PLC'!AI52, SPTL!AI52, 'NGET TO'!AI52),CHOOSE(m_identity,'SHE-Transmission PLC (Blank - )'!AI52, 'SPTL (Blank - not used)'!AI52, 'NGET TO (Blank - not used)'!AI52))","v":0.85},{"$f":"IF(UserInterface!$E$69 = 1,CHOOSE(m_identity,'SHE-Transmission PLC'!AJ52, SPTL!AJ52, 'NGET TO'!AJ52),CHOOSE(m_identity,'SHE-Transmission PLC (Blank - )'!AJ52, 'SPTL (Blank - not used)'!AJ52, 'NGET TO (Blank - not used)'!AJ52))","v":0.85},{"$f":"IF(UserInterface!$E$69 = 1,CHOOSE(m_identity,'SHE-Transmission PLC'!AK52, SPTL!AK52, 'NGET TO'!AK52),CHOOSE(m_identity,'SHE-Transmission PLC (Blank - )'!AK52, 'SPTL (Blank - not used)'!AK52, 'NGET TO (Blank - not used)'!AK52))","v":0.85},{"$f":"IF(UserInterface!$E$69 = 1,CHOOSE(m_identity,'SHE-Transmission PLC'!AL52, SPTL!AL52, 'NGET TO'!AL52),CHOOSE(m_identity,'SHE-Transmission PLC (Blank - )'!AL52, 'SPTL (Blank - not used)'!AL52, 'NGET TO (Blank - not used)'!AL52))","v":0.85},{"$f":"IF(UserInterface!$E$69 = 1,CHOOSE(m_identity,'SHE-Transmission PLC'!AM52, SPTL!AM52, 'NGET TO'!AM52),CHOOSE(m_identity,'SHE-Transmission PLC (Blank - )'!AM52, 'SPTL (Blank - not used)'!AM52, 'NGET TO (Blank - not used)'!AM52))","v":0.85},{"$f":"IF(UserInterface!$E$69 = 1,CHOOSE(m_identity,'SHE-Transmission PLC'!AN52, SPTL!AN52, 'NGET TO'!AN52),CHOOSE(m_identity,'SHE-Transmission PLC (Blank - )'!AN52, 'SPTL (Blank - not used)'!AN52, 'NGET TO (Blank - not used)'!AN52))","v":0.85},{"$f":"IF(UserInterface!$E$69 = 1,CHOOSE(m_identity,'SHE-Transmission PLC'!AO52, SPTL!AO52, 'NGET TO'!AO52),CHOOSE(m_identity,'SHE-Transmission PLC (Blank - )'!AO52, 'SPTL (Blank - not used)'!AO52, 'NGET TO (Blank - not used)'!AO52))","v":0.85}]
[null,null,null,null,"Capitalised share of wider works",null,"%",null,null,null,null,null,null,null,null,null,null,null,null,null,null,null,null,null,null,null,null,null,null,null,null,null,null,{"$f":"IF(UserInterface!$E$69 = 1,CHOOSE(m_identity,'SHE-Transmission PLC'!AH53, SPTL!AH53, 'NGET TO'!AH53),CHOOSE(m_identity,'SHE-Transmission PLC (Blank - )'!AH53, 'SPTL (Blank - not used)'!AH53, 'NGET TO (Blank - not used)'!AH53))","v":0.85},{"$f":"IF(UserInterface!$E$69 = 1,CHOOSE(m_identity,'SHE-Transmission PLC'!AI53, SPTL!AI53, 'NGET TO'!AI53),CHOOSE(m_identity,'SHE-Transmission PLC (Blank - )'!AI53, 'SPTL (Blank - not used)'!AI53, 'NGET TO (Blank - not used)'!AI53))","v":0.85},{"$f":"IF(UserInterface!$E$69 = 1,CHOOSE(m_identity,'SHE-Transmission PLC'!AJ53, SPTL!AJ53, 'NGET TO'!AJ53),CHOOSE(m_identity,'SHE-Transmission PLC (Blank - )'!AJ53, 'SPTL (Blank - not used)'!AJ53, 'NGET TO (Blank - not used)'!AJ53))","v":0.85},{"$f":"IF(UserInterface!$E$69 = 1,CHOOSE(m_identity,'SHE-Transmission PLC'!AK53, SPTL!AK53, 'NGET TO'!AK53),CHOOSE(m_identity,'SHE-Transmission PLC (Blank - )'!AK53, 'SPTL (Blank - not used)'!AK53, 'NGET TO (Blank - not used)'!AK53))","v":0.85},{"$f":"IF(UserInterface!$E$69 = 1,CHOOSE(m_identity,'SHE-Transmission PLC'!AL53, SPTL!AL53, 'NGET TO'!AL53),CHOOSE(m_identity,'SHE-Transmission PLC (Blank - )'!AL53, 'SPTL (Blank - not used)'!AL53, 'NGET TO (Blank - not used)'!AL53))","v":0.85},{"$f":"IF(UserInterface!$E$69 = 1,CHOOSE(m_identity,'SHE-Transmission PLC'!AM53, SPTL!AM53, 'NGET TO'!AM53),CHOOSE(m_identity,'SHE-Transmission PLC (Blank - )'!AM53, 'SPTL (Blank - not used)'!AM53, 'NGET TO (Blank - not used)'!AM53))","v":0.85},{"$f":"IF(UserInterface!$E$69 = 1,CHOOSE(m_identity,'SHE-Transmission PLC'!AN53, SPTL!AN53, 'NGET TO'!AN53),CHOOSE(m_identity,'SHE-Transmission PLC (Blank - )'!AN53, 'SPTL (Blank - not used)'!AN53, 'NGET TO (Blank - not used)'!AN53))","v":0.85},{"$f":"IF(UserInterface!$E$69 = 1,CHOOSE(m_identity,'SHE-Transmission PLC'!AO53, SPTL!AO53, 'NGET TO'!AO53),CHOOSE(m_identity,'SHE-Transmission PLC (Blank - )'!AO53, 'SPTL (Blank - not used)'!AO53, 'NGET TO (Blank - not used)'!AO53))","v":0.85}]
[]
[null,null,null,null,"Incentive rate (slope)",null,"scalar",null,{"$f":"IF(UserInterface!$E$69 = 1,CHOOSE(m_identity,'SHE-Transmission PLC'!I55, SPTL!I55, 'NGET TO'!I55),CHOOSE(m_identity,'SHE-Transmission PLC (Blank - )'!I55, 'SPTL (Blank - not used)'!I55, 'NGET TO (Blank - not used)'!I55))","v":-2.5000000000000001E-3}]
[null,null,null,null,"Incentive rate (intercept)",null,"scalar",null,{"$f":"IF(UserInterface!$E$69 = 1,CHOOSE(m_identity,'SHE-Transmission PLC'!I56, SPTL!I56, 'NGET TO'!I56),CHOOSE(m_identity,'SHE-Transmission PLC (Blank - )'!I56, 'SPTL (Blank - not used)'!I56, 'NGET TO (Blank - not used)'!I56))","v":0.75}]
[null,null,null,null,"Additional income (intercept)",null,"scalar",null,{"$f":"IF(UserInterface!$E$69 = 1,CHOOSE(m_identity,'SHE-Transmission PLC'!I57, SPTL!I57, 'NGET TO'!I57),CHOOSE(m_identity,'SHE-Transmission PLC (Blank - )'!I57, 'SPTL (Blank - not used)'!I57, 'NGET TO (Blank - not used)'!I57))","v":8.75}]
[null,null,null,null,"Additional Income (adjustment)",null,"£m 09/10 prices",null,null,null,null,null,null,null,null,null,null,null,null,null,null,null,null,null,null,null,null,null,null,null,null,null,null,{"$f":"IF(UserInterface!$E$69 = 1,CHOOSE(m_identity,'SHE-Transmission PLC'!AH58, SPTL!AH58, 'NGET TO'!AH58),CHOOSE(m_identity,'SHE-Transmission PLC (Blank - )'!AH58, 'SPTL (Blank - not used)'!AH58, 'NGET TO (Blank - not used)'!AH58))","v":2.112301095779221},{"$f":"IF(UserInterface!$E$69 = 1,CHOOSE(m_identity,'SHE-Transmission PLC'!AI58, SPTL!AI58, 'NGET TO'!AI58),CHOOSE(m_identity,'SHE-Transmission PLC (Blank - )'!AI58, 'SPTL (Blank - not used)'!AI58, 'NGET TO (Blank - not used)'!AI58))","v":2.0430759374999998},{"$f":"IF(UserInterface!$E$69 = 1,CHOOSE(m_identity,'SHE-Transmission PLC'!AJ58, SPTL!AJ58, 'NGET TO'!AJ58),CHOOSE(m_identity,'SHE-Transmission PLC (Blank - )'!AJ58, 'SPTL (Blank - not used)'!AJ58, 'NGET TO (Blank - not used)'!AJ58))","v":2.0009315624999999},{"$f":"IF(UserInterface!$E$69 = 1,CHOOSE(m_identity,'SHE-Transmission PLC'!AK58, SPTL!AK58, 'NGET TO'!AK58),CHOOSE(m_identity,'SHE-Transmission PLC (Blank - )'!AK58, 'SPTL (Blank - not used)'!AK58, 'NGET TO (Blank - not used)'!AK58))","v":1.9587871875},{"$f":"IF(UserInterface!$E$69 = 1,CHOOSE(m_identity,'SHE-Transmission PLC'!AL58, SPTL!AL58, 'NGET TO'!AL58),CHOOSE(m_identity,'SHE-Transmission PLC (Blank - )'!AL58, 'SPTL (Blank - not used)'!AL58, 'NGET TO (Blank - not used)'!AL58))","v":1.9166428125000003},{"$f":"IF(UserInterface!$E$69 = 1,CHOOSE(m_identity,'SHE-Transmission PLC'!AM58, SPTL!AM58, 'NGET TO'!AM58),CHOOSE(m_identity,'SHE-Transmission PLC (Blank - )'!AM58, 'SPTL (Blank - not used)'!AM58, 'NGET TO (Blank - not used)'!AM58))","v":1.8744984375},{"$f":"IF(UserInterface!$E$69 = 1,CHOOSE(m_identity,'SHE-Transmission PLC'!AN58, SPTL!AN58, 'NGET TO'!AN58),CHOOSE(m_identity,'SHE-Transmission PLC (Blank - )'!AN58, 'SPTL (Blank - not used)'!AN58, 'NGET TO (Blank - not used)'!AN58))","v":1.8323540625000001},{"$f":"IF(UserInterface!$E$69 = 1,CHOOSE(m_identity,'SHE-Transmission PLC'!AO58, SPTL!AO58, 'NGET TO'!AO58),CHOOSE(m_identity,'SHE-Transmission PLC (Blank - )'!AO58, 'SPTL (Blank - not used)'!AO58, 'NGET TO (Blank - not used)'!AO58))","v":1.7902096875000004}]
[null,null,null,null,"Weight of Ofgem's view on price control totex",null,"%",null,{"$f":"IF(UserInterface!$E$69 = 1,CHOOSE(m_identity,'SHE-Transmission PLC'!I59, SPTL!I59, 'NGET TO'!I59),CHOOSE(m_identity,'SHE-Transmission PLC (Blank - )'!I59, 'SPTL (Blank - not used)'!I59, 'NGET TO (Blank - not used)'!I59))","v":0.75}]
[null,null,null,null,"Weight of operator's view on price control totex",null,"%",null,{"$f":"IF(UserInterface!$E$69 = 1,CHOOSE(m_identity,'SHE-Transmission PLC'!I60, SPTL!I60, 'NGET TO'!I60),CHOOSE(m_identity,'SHE-Transmission PLC (Blank - )'!I60, 'SPTL (Blank - not used)'!I60, 'NGET TO (Blank - not used)'!I60))","v":0.25}]
[]
[null,null,null,null,"Ofgem's view of  licensee totex",null,"£m 09/10 prices",null,{"$f":"IF(UserInterface!$E$69 = 1,CHOOSE(m_identity,'SHE-Transmission PLC'!I62, SPTL!I62, 'NGET TO'!I62),CHOOSE(m_identity,'SHE-Transmission PLC (Blank - )'!I62, 'SPTL (Blank - not used)'!I62, 'NGET TO (Blank - not used)'!I62))","v":10961.973161856522}]
[null,null,null,null,"Operator's view of licensee totex",null,"£m 09/10 prices",null,{"$f":"IF(UserInterface!$E$69 = 1,CHOOSE(m_identity,'SHE-Transmission PLC'!I63, SPTL!I63, 'NGET TO'!I63),CHOOSE(m_identity,'SHE-Transmission PLC (Blank - )'!I63, 'SPTL (Blank - not used)'!I63, 'NGET TO (Blank - not used)'!I63))","v":12278.830249944474}]
[]
[null,null,null,null,"Ofgem's view of group price control totex",null,"£m 09/10 prices",null,{"$f":"IF(UserInterface!$E$69 = 1,CHOOSE(m_identity,'SHE-Transmission PLC'!I65, SPTL!I65, 'NGET TO'!I65),CHOOSE(m_identity,'SHE-Transmission PLC (Blank - )'!I65, 'SPTL (Blank - not used)'!I65, 'NGET TO (Blank - not used)'!I65))","v":11784.975392745635}]
[null,null,null,null,"Operator's view of group price control totex",null,"£m 09/10 prices",null,{"$f":"IF(UserInterface!$E$69 = 1,CHOOSE(m_identity,'SHE-Transmission PLC'!I66, SPTL!I66, 'NGET TO'!I66),CHOOSE(m_identity,'SHE-Transmission PLC (Blank - )'!I66, 'SPTL (Blank - not used)'!I66, 'NGET TO (Blank - not used)'!I66))","v":13249.135860126062}]
[]
[null,null,"Finance"]
[]
[null,null,null,null,"Minimum equity issuance threshold",null,"%",null,{"$f":"IF(UserInterface!$E$69 = 1,CHOOSE(m_identity,'SHE-Transmission PLC'!I70, SPTL!I70, 'NGET TO'!I70),CHOOSE(m_identity,'SHE-Transmission PLC (Blank - )'!I70, 'SPTL (Blank - not used)'!I70, 'NGET TO (Blank - not used)'!I70))","v":2.5000000000000001E-2}]
[null,null,null,null,"Equity issuance costs",null,"%",null,{"$f":"IF(UserInterface!$E$69 = 1,CHOOSE(m_identity,'SHE-Transmission PLC'!I71, SPTL!I71, 'NGET TO'!I71),CHOOSE(m_identity,'SHE-Transmission PLC (Blank - )'!I71, 'SPTL (Blank - not used)'!I71, 'NGET TO (Blank - not used)'!I71))","v":0.05}]
[null,null,null,null,"Assumed dividends as % of notional equity portion of RAV",null,"%",null,{"$f":"IF(UserInterface!$E$69 = 1,CHOOSE(m_identity,'SHE-Transmission PLC'!I72, SPTL!I72, 'NGET TO'!I72),CHOOSE(m_identity,'SHE-Transmission PLC (Blank - )'!I72, 'SPTL (Blank - not used)'!I72, 'NGET TO (Blank - not used)'!I72))","v":0.05}]
[]
[null,null,null,null,"Equity issuance gearing target",null,"%",null,null,null,null,null,null,null,null,null,null,null,null,null,null,null,null,null,null,null,null,null,null,null,null,null,null,{"$f":"IF(UserInterface!$E$69 = 1,CHOOSE(m_identity,'SHE-Transmission PLC'!AH74, SPTL!AH74, 'NGET TO'!AH74),CHOOSE(m_identity,'SHE-Transmission PLC (Blank - )'!AH74, 'SPTL (Blank - not used)'!AH74, 'NGET TO (Blank - not used)'!AH74))","v":0.6},{"$f":"IF(UserInterface!$E$69 = 1,CHOOSE(m_identity,'SHE-Transmission PLC'!AI74, SPTL!AI74, 'NGET TO'!AI74),CHOOSE(m_identity,'SHE-Transmission PLC (Blank - )'!AI74, 'SPTL (Blank - not used)'!AI74, 'NGET TO (Blank - not used)'!AI74))","v":0.6},{"$f":"IF(UserInterface!$E$69 = 1,CHOOSE(m_identity,'SHE-Transmission PLC'!AJ74, SPTL!AJ74, 'NGET TO'!AJ74),CHOOSE(m_identity,'SHE-Transmission PLC (Blank - )'!AJ74, 'SPTL (Blank - not used)'!AJ74, 'NGET TO (Blank - not used)'!AJ74))","v":0.6},{"$f":"IF(UserInterface!$E$69 = 1,CHOOSE(m_identity,'SHE-Transmission PLC'!AK74, SPTL!AK74, 'NGET TO'!AK74),CHOOSE(m_identity,'SHE-Transmission PLC (Blank - )'!AK74, 'SPTL (Blank - not used)'!AK74, 'NGET TO (Blank - not used)'!AK74))","v":0.6},{"$f":"IF(UserInterface!$E$69 = 1,CHOOSE(m_identity,'SHE-Transmission PLC'!AL74, SPTL!AL74, 'NGET TO'!AL74),CHOOSE(m_identity,'SHE-Transmission PLC (Blank - )'!AL74, 'SPTL (Blank - not used)'!AL74, 'NGET TO (Blank - not used)'!AL74))","v":0.6},{"$f":"IF(UserInterface!$E$69 = 1,CHOOSE(m_identity,'SHE-Transmission PLC'!AM74, SPTL!AM74, 'NGET TO'!AM74),CHOOSE(m_identity,'SHE-Transmission PLC (Blank - )'!AM74, 'SPTL (Blank - not used)'!AM74, 'NGET TO (Blank - not used)'!AM74))","v":0.6},{"$f":"IF(UserInterface!$E$69 = 1,CHOOSE(m_identity,'SHE-Transmission PLC'!AN74, SPTL!AN74, 'NGET TO'!AN74),CHOOSE(m_identity,'SHE-Transmission PLC (Blank - )'!AN74, 'SPTL (Blank - not used)'!AN74, 'NGET TO (Blank - not used)'!AN74))","v":0.6},{"$f":"IF(UserInterface!$E$69 = 1,CHOOSE(m_identity,'SHE-Transmission PLC'!AO74, SPTL!AO74, 'NGET TO'!AO74),CHOOSE(m_identity,'SHE-Transmission PLC (Blank - )'!AO74, 'SPTL (Blank - not used)'!AO74, 'NGET TO (Blank - not used)'!AO74))","v":0.6}]
[]
[null,null,null,null,"Index-linked debt as a percentage of net debt",null,"%",null,null,null,null,null,null,null,null,null,null,null,null,null,null,null,null,null,null,null,null,null,null,null,null,null,null,{"$f":"IF(UserInterface!$E$69 = 1,CHOOSE(m_identity,'SHE-Transmission PLC'!AH76, SPTL!AH76, 'NGET TO'!AH76),CHOOSE(m_identity,'SHE-Transmission PLC (Blank - )'!AH76, 'SPTL (Blank - not used)'!AH76, 'NGET TO (Blank - not used)'!AH76))","v":0.25},{"$f":"IF(UserInterface!$E$69 = 1,CHOOSE(m_identity,'SHE-Transmission PLC'!AI76, SPTL!AI76, 'NGET TO'!AI76),CHOOSE(m_identity,'SHE-Transmission PLC (Blank - )'!AI76, 'SPTL (Blank - not used)'!AI76, 'NGET TO (Blank - not used)'!AI76))","v":0.25},{"$f":"IF(UserInterface!$E$69 = 1,CHOOSE(m_identity,'SHE-Transmission PLC'!AJ76, SPTL!AJ76, 'NGET TO'!AJ76),CHOOSE(m_identity,'SHE-Transmission PLC (Blank - )'!AJ76, 'SPTL (Blank - not used)'!AJ76, 'NGET TO (Blank - not used)'!AJ76))","v":0.25},{"$f":"IF(UserInterface!$E$69 = 1,CHOOSE(m_identity,'SHE-Transmission PLC'!AK76, SPTL!AK76, 'NGET TO'!AK76),CHOOSE(m_identity,'SHE-Transmission PLC (Blank - )'!AK76, 'SPTL (Blank - not used)'!AK76, 'NGET TO (Blank - not used)'!AK76))","v":0.25},{"$f":"IF(UserInterface!$E$69 = 1,CHOOSE(m_identity,'SHE-Transmission PLC'!AL76, SPTL!AL76, 'NGET TO'!AL76),CHOOSE(m_identity,'SHE-Transmission PLC (Blank - )'!AL76, 'SPTL (Blank - not used)'!AL76, 'NGET TO (Blank - not used)'!AL76))","v":0.25},{"$f":"IF(UserInterface!$E$69 = 1,CHOOSE(m_identity,'SHE-Transmission PLC'!AM76, SPTL!AM76, 'NGET TO'!AM76),CHOOSE(m_identity,'SHE-Transmission PLC (Blank - )'!AM76, 'SPTL (Blank - not used)'!AM76, 'NGET TO (Blank - not used)'!AM76))","v":0.25},{"$f":"IF(UserInterface!$E$69 = 1,CHOOSE(m_identity,'SHE-Transmission PLC'!AN76, SPTL!AN76, 'NGET TO'!AN76),CHOOSE(m_identity,'SHE-Transmission PLC (Blank - )'!AN76, 'SPTL (Blank - not used)'!AN76, 'NGET TO (Blank - not used)'!AN76))","v":0.25},{"$f":"IF(UserInterface!$E$69 = 1,CHOOSE(m_identity,'SHE-Transmission PLC'!AO76, SPTL!AO76, 'NGET TO'!AO76),CHOOSE(m_identity,'SHE-Transmission PLC (Blank - )'!AO76, 'SPTL (Blank - not used)'!AO76, 'NGET TO (Blank - not used)'!AO76))","v":0.25}]
[]
[null,"Expenditure"]
[]
[null,null,"Totex"]
[]
[null,null,null,"Non-variant allowances"]
[]
[null,null,null,null,"Non-variant allowed load related capex expenditure",null,"£m 09/10 prices",null,null,null,null,null,null,null,null,null,null,null,null,null,null,null,null,null,null,null,null,null,null,null,null,null,null,{"$f":"IF(UserInterface!$E$69 = 1,CHOOSE(m_identity,'SHE-Transmission PLC'!AH84, SPTL!AH84, 'NGET TO'!AH84),CHOOSE(m_identity,'SHE-Transmission PLC (Blank - )'!AH84, 'SPTL (Blank - not used)'!AH84, 'NGET TO (Blank - not used)'!AH84))","v":241.91835100747039},{"$f":"IF(UserInterface!$E$69 = 1,CHOOSE(m_identity,'SHE-Transmission PLC'!AI84, SPTL!AI84, 'NGET TO'!AI84),CHOOSE(m_identity,'SHE-Transmission PLC (Blank - )'!AI84, 'SPTL (Blank - not used)'!AI84, 'NGET TO (Blank - not used)'!AI84))","v":206.22285805015076},{"$f":"IF(UserInterface!$E$69 = 1,CHOOSE(m_identity,'SHE-Transmission PLC'!AJ84, SPTL!AJ84, 'NGET TO'!AJ84),CHOOSE(m_identity,'SHE-Transmission PLC (Blank - )'!AJ84, 'SPTL (Blank - not used)'!AJ84, 'NGET TO (Blank - not used)'!AJ84))","v":183.4765697039528},{"$f":"IF(UserInterface!$E$69 = 1,CHOOSE(m_identity,'SHE-Transmission PLC'!AK84, SPTL!AK84, 'NGET TO'!AK84),CHOOSE(m_identity,'SHE-Transmission PLC (Blank - )'!AK84, 'SPTL (Blank - not used)'!AK84, 'NGET TO (Blank - not used)'!AK84))","v":187.40173539185469},{"$f":"IF(UserInterface!$E$69 = 1,CHOOSE(m_identity,'SHE-Transmission PLC'!AL84, SPTL!AL84, 'NGET TO'!AL84),CHOOSE(m_identity,'SHE-Transmission PLC (Blank - )'!AL84, 'SPTL (Blank - not used)'!AL84, 'NGET TO (Blank - not used)'!AL84))","v":142.92705896695065},{"$f":"IF(UserInterface!$E$69 = 1,CHOOSE(m_identity,'SHE-Transmission PLC'!AM84, SPTL!AM84, 'NGET TO'!AM84),CHOOSE(m_identity,'SHE-Transmission PLC (Blank - )'!AM84, 'SPTL (Blank - not used)'!AM84, 'NGET TO (Blank - not used)'!AM84))","v":124.46128971626086},{"$f":"IF(UserInterface!$E$69 = 1,CHOOSE(m_identity,'SHE-Transmission PLC'!AN84, SPTL!AN84, 'NGET TO'!AN84),CHOOSE(m_identity,'SHE-Transmission PLC (Blank - )'!AN84, 'SPTL (Blank - not used)'!AN84, 'NGET TO (Blank - not used)'!AN84))","v":44.072350609794569},{"$f":"IF(UserInterface!$E$69 = 1,CHOOSE(m_identity,'SHE-Transmission PLC'!AO84, SPTL!AO84, 'NGET TO'!AO84),CHOOSE(m_identity,'SHE-Transmission PLC (Blank - )'!AO84, 'SPTL (Blank - not used)'!AO84, 'NGET TO (Blank - not used)'!AO84))","v":28.383548641119383}]
[null,null,null,null,"Non-variant allowed asset replacement capex expenditure",null,"£m 09/10 prices",null,null,null,null,null,null,null,null,null,null,null,null,null,null,null,null,null,null,null,null,null,null,null,null,null,null,{"$f":"IF(UserInterface!$E$69 = 1,CHOOSE(m_identity,'SHE-Transmission PLC'!AH85, SPTL!AH85, 'NGET TO'!AH85),CHOOSE(m_identity,'SHE-Transmission PLC (Blank - )'!AH85, 'SPTL (Blank - not used)'!AH85, 'NGET TO (Blank - not used)'!AH85))","v":468.80843213925681},{"$f":"IF(UserInterface!$E$69 = 1,CHOOSE(m_identity,'SHE-Transmission PLC'!AI85, SPTL!AI85, 'NGET TO'!AI85),CHOOSE(m_identity,'SHE-Transmission PLC (Blank - )'!AI85, 'SPTL (Blank - not used)'!AI85, 'NGET TO (Blank - not used)'!AI85))","v":464.05399879326387},{"$f":"IF(UserInterface!$E$69 = 1,CHOOSE(m_identity,'SHE-Transmission PLC'!AJ85, SPTL!AJ85, 'NGET TO'!AJ85),CHOOSE(m_identity,'SHE-Transmission PLC (Blank - )'!AJ85, 'SPTL (Blank - not used)'!AJ85, 'NGET TO (Blank - not used)'!AJ85))","v":458.96940179907631},{"$f":"IF(UserInterface!$E$69 = 1,CHOOSE(m_identity,'SHE-Transmission PLC'!AK85, SPTL!AK85, 'NGET TO'!AK85),CHOOSE(m_identity,'SHE-Transmission PLC (Blank - )'!AK85, 'SPTL (Blank - not used)'!AK85, 'NGET TO (Blank - not used)'!AK85))","v":462.20515674748674},{"$f":"IF(UserInterface!$E$69 = 1,CHOOSE(m_identity,'SHE-Transmission PLC'!AL85, SPTL!AL85, 'NGET TO'!AL85),CHOOSE(m_identity,'SHE-Transmission PLC (Blank - )'!AL85, 'SPTL (Blank - not used)'!AL85, 'NGET TO (Blank - not used)'!AL85))","v":597.39616992865308},{"$f":"IF(UserInterface!$E$69 = 1,CHOOSE(m_identity,'SHE-Transmission PLC'!AM85, SPTL!AM85, 'NGET TO'!AM85),CHOOSE(m_identity,'SHE-Transmission PLC (Blank - )'!AM85, 'SPTL (Blank - not used)'!AM85, 'NGET TO (Blank - not used)'!AM85))","v":694.95362362794094},{"$f":"IF(UserInterface!$E$69 = 1,CHOOSE(m_identity,'SHE-Transmission PLC'!AN85, SPTL!AN85, 'NGET TO'!AN85),CHOOSE(m_identity,'SHE-Transmission PLC (Blank - )'!AN85, 'SPTL (Blank - not used)'!AN85, 'NGET TO (Blank - not used)'!AN85))","v":760.47133413278959},{"$f":"IF(UserInterface!$E$69 = 1,CHOOSE(m_identity,'SHE-Transmission PLC'!AO85, SPTL!AO85, 'NGET TO'!AO85),CHOOSE(m_identity,'SHE-Transmission PLC (Blank - )'!AO85, 'SPTL (Blank - not used)'!AO85, 'NGET TO (Blank - not used)'!AO85))","v":680.37534043694836}]
[null,null,null,null,"Non-variant allowed other capex expenditure",null,"£m 09/10 prices",null,null,null,null,null,null,null,null,null,null,null,null,null,null,null,null,null,null,null,null,null,null,null,null,null,null,{"$f":"IF(UserInterface!$E$69 = 1,CHOOSE(m_identity,'SHE-Transmission PLC'!AH86, SPTL!AH86, 'NGET TO'!AH86),CHOOSE(m_identity,'SHE-Transmission PLC (Blank - )'!AH86, 'SPTL (Blank - not used)'!AH86, 'NGET TO (Blank - not used)'!AH86))","v":8.8076800000000013},{"$f":"IF(UserInterface!$E$69 = 1,CHOOSE(m_identity,'SHE-Transmission PLC'!AI86, SPTL!AI86, 'NGET TO'!AI86),CHOOSE(m_identity,'SHE-Transmission PLC (Blank - )'!AI86, 'SPTL (Blank - not used)'!AI86, 'NGET TO (Blank - not used)'!AI86))","v":7.2568799999999998},{"$f":"IF(UserInterface!$E$69 = 1,CHOOSE(m_identity,'SHE-Transmission PLC'!AJ86, SPTL!AJ86, 'NGET TO'!AJ86),CHOOSE(m_identity,'SHE-Transmission PLC (Blank - )'!AJ86, 'SPTL (Blank - not used)'!AJ86, 'NGET TO (Blank - not used)'!AJ86))","v":5.9409999999999998},{"$f":"IF(UserInterface!$E$69 = 1,CHOOSE(m_identity,'SHE-Transmission PLC'!AK86, SPTL!AK86, 'NGET TO'!AK86),CHOOSE(m_identity,'SHE-Transmission PLC (Blank - )'!AK86, 'SPTL (Blank - not used)'!AK86, 'NGET TO (Blank - not used)'!AK86))","v":8.2522800000000007},{"$f":"IF(UserInterface!$E$69 = 1,CHOOSE(m_identity,'SHE-Transmission PLC'!AL86, SPTL!AL86, 'NGET TO'!AL86),CHOOSE(m_identity,'SHE-Transmission PLC (Blank - )'!AL86, 'SPTL (Blank - not used)'!AL86, 'NGET TO (Blank - not used)'!AL86))","v":7.9053199999999988},{"$f":"IF(UserInterface!$E$69 = 1,CHOOSE(m_identity,'SHE-Transmission PLC'!AM86, SPTL!AM86, 'NGET TO'!AM86),CHOOSE(m_identity,'SHE-Transmission PLC (Blank - )'!AM86, 'SPTL (Blank - not used)'!AM86, 'NGET TO (Blank - not used)'!AM86))","v":10.711639999999999},{"$f":"IF(UserInterface!$E$69 = 1,CHOOSE(m_identity,'SHE-Transmission PLC'!AN86, SPTL!AN86, 'NGET TO'!AN86),CHOOSE(m_identity,'SHE-Transmission PLC (Blank - )'!AN86, 'SPTL (Blank - not used)'!AN86, 'NGET TO (Blank - not used)'!AN86))","v":10.669640000000001},{"$f":"IF(UserInterface!$E$69 = 1,CHOOSE(m_identity,'SHE-Transmission PLC'!AO86, SPTL!AO86, 'NGET TO'!AO86),CHOOSE(m_identity,'SHE-Transmission PLC (Blank - )'!AO86, 'SPTL (Blank - not used)'!AO86, 'NGET TO (Blank - not used)'!AO86))","v":11.88064}]
[null,null,null,null,"Non-variant allowed controllable opex",null,"£m 09/10 prices",null,null,null,null,null,null,null,null,null,null,null,null,null,null,null,null,null,null,null,null,null,null,null,null,null,null,{"$f":"IF(UserInterface!$E$69 = 1,CHOOSE(m_identity,'SHE-Transmission PLC'!AH87, SPTL!AH87, 'NGET TO'!AH87),CHOOSE(m_identity,'SHE-Transmission PLC (Blank - )'!AH87, 'SPTL (Blank - not used)'!AH87, 'NGET TO (Blank - not used)'!AH87))","v":192.21282629439594},{"$f":"IF(UserInterface!$E$69 = 1,CHOOSE(m_identity,'SHE-Transmission PLC'!AI87, SPTL!AI87, 'NGET TO'!AI87),CHOOSE(m_identity,'SHE-Transmission PLC (Blank - )'!AI87, 'SPTL (Blank - not used)'!AI87, 'NGET TO (Blank - not used)'!AI87))","v":196.41204072355288},{"$f":"IF(UserInterface!$E$69 = 1,CHOOSE(m_identity,'SHE-Transmission PLC'!AJ87, SPTL!AJ87, 'NGET TO'!AJ87),CHOOSE(m_identity,'SHE-Transmission PLC (Blank - )'!AJ87, 'SPTL (Blank - not used)'!AJ87, 'NGET TO (Blank - not used)'!AJ87))","v":203.04710659109347},{"$f":"IF(UserInterface!$E$69 = 1,CHOOSE(m_identity,'SHE-Transmission PLC'!AK87, SPTL!AK87, 'NGET TO'!AK87),CHOOSE(m_identity,'SHE-Transmission PLC (Blank - )'!AK87, 'SPTL (Blank - not used)'!AK87, 'NGET TO (Blank - not used)'!AK87))","v":204.35171680440774},{"$f":"IF(UserInterface!$E$69 = 1,CHOOSE(m_identity,'SHE-Transmission PLC'!AL87, SPTL!AL87, 'NGET TO'!AL87),CHOOSE(m_identity,'SHE-Transmission PLC (Blank - )'!AL87, 'SPTL (Blank - not used)'!AL87, 'NGET TO (Blank - not used)'!AL87))","v":205.72203973741003},{"$f":"IF(UserInterface!$E$69 = 1,CHOOSE(m_identity,'SHE-Transmission PLC'!AM87, SPTL!AM87, 'NGET TO'!AM87),CHOOSE(m_identity,'SHE-Transmission PLC (Blank - )'!AM87, 'SPTL (Blank - not used)'!AM87, 'NGET TO (Blank - not used)'!AM87))","v":206.0644404839947},{"$f":"IF(UserInterface!$E$69 = 1,CHOOSE(m_identity,'SHE-Transmission PLC'!AN87, SPTL!AN87, 'NGET TO'!AN87),CHOOSE(m_identity,'SHE-Transmission PLC (Blank - )'!AN87, 'SPTL (Blank - not used)'!AN87, 'NGET TO (Blank - not used)'!AN87))","v":207.83890997781467},{"$f":"IF(UserInterface!$E$69 = 1,CHOOSE(m_identity,'SHE-Transmission PLC'!AO87, SPTL!AO87, 'NGET TO'!AO87),CHOOSE(m_identity,'SHE-Transmission PLC (Blank - )'!AO87, 'SPTL (Blank - not used)'!AO87, 'NGET TO (Blank - not used)'!AO87))","v":208.20405529640865}]
[null,null,null,null,"Non-variant allowed non-operational capex",null,"£m 09/10 prices",null,null,null,null,null,null,null,null,null,null,null,null,null,null,null,null,null,null,null,null,null,null,null,null,null,null,{"$f":"IF(UserInterface!$E$69 = 1,CHOOSE(m_identity,'SHE-Transmission PLC'!AH88, SPTL!AH88, 'NGET TO'!AH88),CHOOSE(m_identity,'SHE-Transmission PLC (Blank - )'!AH88, 'SPTL (Blank - not used)'!AH88, 'NGET TO (Blank - not used)'!AH88))","v":28.502252866756592},{"$f":"IF(UserInterface!$E$69 = 1,CHOOSE(m_identity,'SHE-Transmission PLC'!AI88, SPTL!AI88, 'NGET TO'!AI88),CHOOSE(m_identity,'SHE-Transmission PLC (Blank - )'!AI88, 'SPTL (Blank - not used)'!AI88, 'NGET TO (Blank - not used)'!AI88))","v":27.893219356255912},{"$f":"IF(UserInterface!$E$69 = 1,CHOOSE(m_identity,'SHE-Transmission PLC'!AJ88, SPTL!AJ88, 'NGET TO'!AJ88),CHOOSE(m_identity,'SHE-Transmission PLC (Blank - )'!AJ88, 'SPTL (Blank - not used)'!AJ88, 'NGET TO (Blank - not used)'!AJ88))","v":20.162895818884664},{"$f":"IF(UserInterface!$E$69 = 1,CHOOSE(m_identity,'SHE-Transmission PLC'!AK88, SPTL!AK88, 'NGET TO'!AK88),CHOOSE(m_identity,'SHE-Transmission PLC (Blank - )'!AK88, 'SPTL (Blank - not used)'!AK88, 'NGET TO (Blank - not used)'!AK88))","v":18.683994860020533},{"$f":"IF(UserInterface!$E$69 = 1,CHOOSE(m_identity,'SHE-Transmission PLC'!AL88, SPTL!AL88, 'NGET TO'!AL88),CHOOSE(m_identity,'SHE-Transmission PLC (Blank - )'!AL88, 'SPTL (Blank - not used)'!AL88, 'NGET TO (Blank - not used)'!AL88))","v":17.317434737643207},{"$f":"IF(UserInterface!$E$69 = 1,CHOOSE(m_identity,'SHE-Transmission PLC'!AM88, SPTL!AM88, 'NGET TO'!AM88),CHOOSE(m_identity,'SHE-Transmission PLC (Blank - )'!AM88, 'SPTL (Blank - not used)'!AM88, 'NGET TO (Blank - not used)'!AM88))","v":10.132273565113017},{"$f":"IF(UserInterface!$E$69 = 1,CHOOSE(m_identity,'SHE-Transmission PLC'!AN88, SPTL!AN88, 'NGET TO'!AN88),CHOOSE(m_identity,'SHE-Transmission PLC (Blank - )'!AN88, 'SPTL (Blank - not used)'!AN88, 'NGET TO (Blank - not used)'!AN88))","v":13.10983633518048},{"$f":"IF(UserInterface!$E$69 = 1,CHOOSE(m_identity,'SHE-Transmission PLC'!AO88, SPTL!AO88, 'NGET TO'!AO88),CHOOSE(m_identity,'SHE-Transmission PLC (Blank - )'!AO88, 'SPTL (Blank - not used)'!AO88, 'NGET TO (Blank - not used)'!AO88))","v":11.957035518704526}]
[]
[null,null,null,"Variant allowances"]
[]
[null,null,null,null,{"$f":"E14","v":"Uncertain costs - enhanced security"},null,"£m 09/10 prices",null,null,null,null,null,null,null,null,null,null,null,null,null,null,null,null,null,null,null,null,null,null,null,null,null,null,{"$f":"AH14","v":0},{"$f":"AI14","v":0},0,0,0,0,0,0]
[null,null,null,null,"Allocation to load related capex expenditure",null,"%",null,null,null,null,null,null,null,null,null,null,null,null,null,null,null,null,null,null,null,null,null,null,null,null,null,null,{"$f":"IF(UserInterface!$E$69 = 1,CHOOSE(m_identity,'SHE-Transmission PLC'!AH93, SPTL!AH93, 'NGET TO'!AH93),CHOOSE(m_identity,'SHE-Transmission PLC (Blank - )'!AH93, 'SPTL (Blank - not used)'!AH93, 'NGET TO (Blank - not used)'!AH93))","v":0},{"$f":"IF(UserInterface!$E$69 = 1,CHOOSE(m_identity,'SHE-Transmission PLC'!AI93, SPTL!AI93, 'NGET TO'!AI93),CHOOSE(m_identity,'SHE-Transmission PLC (Blank - )'!AI93, 'SPTL (Blank - not used)'!AI93, 'NGET TO (Blank - not used)'!AI93))","v":0},{"$f":"IF(UserInterface!$E$69 = 1,CHOOSE(m_identity,'SHE-Transmission PLC'!AJ93, SPTL!AJ93, 'NGET TO'!AJ93),CHOOSE(m_identity,'SHE-Transmission PLC (Blank - )'!AJ93, 'SPTL (Blank - not used)'!AJ93, 'NGET TO (Blank - not used)'!AJ93))","v":0},{"$f":"IF(UserInterface!$E$69 = 1,CHOOSE(m_identity,'SHE-Transmission PLC'!AK93, SPTL!AK93, 'NGET TO'!AK93),CHOOSE(m_identity,'SHE-Transmission PLC (Blank - )'!AK93, 'SPTL (Blank - not used)'!AK93, 'NGET TO (Blank - not used)'!AK93))","v":0},{"$f":"IF(UserInterface!$E$69 = 1,CHOOSE(m_identity,'SHE-Transmission PLC'!AL93, SPTL!AL93, 'NGET TO'!AL93),CHOOSE(m_identity,'SHE-Transmission PLC (Blank - )'!AL93, 'SPTL (Blank - not used)'!AL93, 'NGET TO (Blank - not used)'!AL93))","v":0},{"$f":"IF(UserInterface!$E$69 = 1,CHOOSE(m_identity,'SHE-Transmission PLC'!AM93, SPTL!AM93, 'NGET TO'!AM93),CHOOSE(m_identity,'SHE-Transmission PLC (Blank - )'!AM93, 'SPTL (Blank - not used)'!AM93, 'NGET TO (Blank - not used)'!AM93))","v":0},{"$f":"IF(UserInterface!$E$69 = 1,CHOOSE(m_identity,'SHE-Transmission PLC'!AN93, SPTL!AN93, 'NGET TO'!AN93),CHOOSE(m_identity,'SHE-Transmission PLC (Blank - )'!AN93, 'SPTL (Blank - not used)'!AN93, 'NGET TO (Blank - not used)'!AN93))","v":0},{"$f":"IF(UserInterface!$E$69 = 1,CHOOSE(m_identity,'SHE-Transmission PLC'!AO93, SPTL!AO93, 'NGET TO'!AO93),CHOOSE(m_identity,'SHE-Transmission PLC (Blank - )'!AO93, 'SPTL (Blank - not used)'!AO93, 'NGET TO (Blank - not used)'!AO93))","v":0}]
[null,null,null,null,"Allocation to asset replacement capex expenditure",null,"%",null,null,null,null,null,null,null,null,null,null,null,null,null,null,null,null,null,null,null,null,null,null,null,null,null,null,{"$f":"IF(UserInterface!$E$69 = 1,CHOOSE(m_identity,'SHE-Transmission PLC'!AH94, SPTL!AH94, 'NGET TO'!AH94),CHOOSE(m_identity,'SHE-Transmission PLC (Blank - )'!AH94, 'SPTL (Blank - not used)'!AH94, 'NGET TO (Blank - not used)'!AH94))","v":0},{"$f":"IF(UserInterface!$E$69 = 1,CHOOSE(m_identity,'SHE-Transmission PLC'!AI94, SPTL!AI94, 'NGET TO'!AI94),CHOOSE(m_identity,'SHE-Transmission PLC (Blank - )'!AI94, 'SPTL (Blank - not used)'!AI94, 'NGET TO (Blank - not used)'!AI94))","v":0},{"$f":"IF(UserInterface!$E$69 = 1,CHOOSE(m_identity,'SHE-Transmission PLC'!AJ94, SPTL!AJ94, 'NGET TO'!AJ94),CHOOSE(m_identity,'SHE-Transmission PLC (Blank - )'!AJ94, 'SPTL (Blank - not used)'!AJ94, 'NGET TO (Blank - not used)'!AJ94))","v":0},{"$f":"IF(UserInterface!$E$69 = 1,CHOOSE(m_identity,'SHE-Transmission PLC'!AK94, SPTL!AK94, 'NGET TO'!AK94),CHOOSE(m_identity,'SHE-Transmission PLC (Blank - )'!AK94, 'SPTL (Blank - not used)'!AK94, 'NGET TO (Blank - not used)'!AK94))","v":0},{"$f":"IF(UserInterface!$E$69 = 1,CHOOSE(m_identity,'SHE-Transmission PLC'!AL94, SPTL!AL94, 'NGET TO'!AL94),CHOOSE(m_identity,'SHE-Transmission PLC (Blank - )'!AL94, 'SPTL (Blank - not used)'!AL94, 'NGET TO (Blank - not used)'!AL94))","v":0},{"$f":"IF(UserInterface!$E$69 = 1,CHOOSE(m_identity,'SHE-Transmission PLC'!AM94, SPTL!AM94, 'NGET TO'!AM94),CHOOSE(m_identity,'SHE-Transmission PLC (Blank - )'!AM94, 'SPTL (Blank - not used)'!AM94, 'NGET TO (Blank - not used)'!AM94))","v":0},{"$f":"IF(UserInterface!$E$69 = 1,CHOOSE(m_identity,'SHE-Transmission PLC'!AN94, SPTL!AN94, 'NGET TO'!AN94),CHOOSE(m_identity,'SHE-Transmission PLC (Blank - )'!AN94, 'SPTL (Blank - not used)'!AN94, 'NGET TO (Blank - not used)'!AN94))","v":0},{"$f":"IF(UserInterface!$E$69 = 1,CHOOSE(m_identity,'SHE-Transmission PLC'!AO94, SPTL!AO94, 'NGET TO'!AO94),CHOOSE(m_identity,'SHE-Transmission PLC (Blank - )'!AO94, 'SPTL (Blank - not used)'!AO94, 'NGET TO (Blank - not used)'!AO94))","v":0}]
[null,null,null,null,"Allocation to other capex expenditure",null,"%",null,null,null,null,null,null,null,null,null,null,null,null,null,null,null,null,null,null,null,null,null,null,null,null,null,null,{"$f":"IF(UserInterface!$E$69 = 1,CHOOSE(m_identity,'SHE-Transmission PLC'!AH95, SPTL!AH95, 'NGET TO'!AH95),CHOOSE(m_identity,'SHE-Transmission PLC (Blank - )'!AH95, 'SPTL (Blank - not used)'!AH95, 'NGET TO (Blank - not used)'!AH95))","v":0.93796642505420025},{"$f":"IF(UserInterface!$E$69 = 1,CHOOSE(m_identity,'SHE-Transmission PLC'!AI95, SPTL!AI95, 'NGET TO'!AI95),CHOOSE(m_identity,'SHE-Transmission PLC (Blank - )'!AI95, 'SPTL (Blank - not used)'!AI95, 'NGET TO (Blank - not used)'!AI95))","v":0.87522948607442352},{"$f":"IF(UserInterface!$E$69 = 1,CHOOSE(m_identity,'SHE-Transmission PLC'!AJ95, SPTL!AJ95, 'NGET TO'!AJ95),CHOOSE(m_identity,'SHE-Transmission PLC (Blank - )'!AJ95, 'SPTL (Blank - not used)'!AJ95, 'NGET TO (Blank - not used)'!AJ95))","v":0.48875840454230463},{"$f":"IF(UserInterface!$E$69 = 1,CHOOSE(m_identity,'SHE-Transmission PLC'!AK95, SPTL!AK95, 'NGET TO'!AK95),CHOOSE(m_identity,'SHE-Transmission PLC (Blank - )'!AK95, 'SPTL (Blank - not used)'!AK95, 'NGET TO (Blank - not used)'!AK95))","v":0.62965160441781109},{"$f":"IF(UserInterface!$E$69 = 1,CHOOSE(m_identity,'SHE-Transmission PLC'!AL95, SPTL!AL95, 'NGET TO'!AL95),CHOOSE(m_identity,'SHE-Transmission PLC (Blank - )'!AL95, 'SPTL (Blank - not used)'!AL95, 'NGET TO (Blank - not used)'!AL95))","v":0.25797691305801901},{"$f":"IF(UserInterface!$E$69 = 1,CHOOSE(m_identity,'SHE-Transmission PLC'!AM95, SPTL!AM95, 'NGET TO'!AM95),CHOOSE(m_identity,'SHE-Transmission PLC (Blank - )'!AM95, 'SPTL (Blank - not used)'!AM95, 'NGET TO (Blank - not used)'!AM95))","v":0.25821327848662673},{"$f":"IF(UserInterface!$E$69 = 1,CHOOSE(m_identity,'SHE-Transmission PLC'!AN95, SPTL!AN95, 'NGET TO'!AN95),CHOOSE(m_identity,'SHE-Transmission PLC (Blank - )'!AN95, 'SPTL (Blank - not used)'!AN95, 'NGET TO (Blank - not used)'!AN95))","v":0.25817001505351456},{"$f":"IF(UserInterface!$E$69 = 1,CHOOSE(m_identity,'SHE-Transmission PLC'!AO95, SPTL!AO95, 'NGET TO'!AO95),CHOOSE(m_identity,'SHE-Transmission PLC (Blank - )'!AO95, 'SPTL (Blank - not used)'!AO95, 'NGET TO (Blank - not used)'!AO95))","v":0.25811540847402803}]
[null,null,null,null,"Allocation to controllable opex",null,"%",null,null,null,null,null,null,null,null,null,null,null,null,null,null,null,null,null,null,null,null,null,null,null,null,null,null,{"$f":"IF(UserInterface!$E$69 = 1,CHOOSE(m_identity,'SHE-Transmission PLC'!AH96, SPTL!AH96, 'NGET TO'!AH96),CHOOSE(m_identity,'SHE-Transmission PLC (Blank - )'!AH96, 'SPTL (Blank - not used)'!AH96, 'NGET TO (Blank - not used)'!AH96))","v":6.2033574945799752E-2},{"$f":"IF(UserInterface!$E$69 = 1,CHOOSE(m_identity,'SHE-Transmission PLC'!AI96, SPTL!AI96, 'NGET TO'!AI96),CHOOSE(m_identity,'SHE-Transmission PLC (Blank - )'!AI96, 'SPTL (Blank - not used)'!AI96, 'NGET TO (Blank - not used)'!AI96))","v":0.12477051392557648},{"$f":"IF(UserInterface!$E$69 = 1,CHOOSE(m_identity,'SHE-Transmission PLC'!AJ96, SPTL!AJ96, 'NGET TO'!AJ96),CHOOSE(m_identity,'SHE-Transmission PLC (Blank - )'!AJ96, 'SPTL (Blank - not used)'!AJ96, 'NGET TO (Blank - not used)'!AJ96))","v":0.51124159545769543},{"$f":"IF(UserInterface!$E$69 = 1,CHOOSE(m_identity,'SHE-Transmission PLC'!AK96, SPTL!AK96, 'NGET TO'!AK96),CHOOSE(m_identity,'SHE-Transmission PLC (Blank - )'!AK96, 'SPTL (Blank - not used)'!AK96, 'NGET TO (Blank - not used)'!AK96))","v":0.37034839558218891},{"$f":"IF(UserInterface!$E$69 = 1,CHOOSE(m_identity,'SHE-Transmission PLC'!AL96, SPTL!AL96, 'NGET TO'!AL96),CHOOSE(m_identity,'SHE-Transmission PLC (Blank - )'!AL96, 'SPTL (Blank - not used)'!AL96, 'NGET TO (Blank - not used)'!AL96))","v":0.74202308694198105},{"$f":"IF(UserInterface!$E$69 = 1,CHOOSE(m_identity,'SHE-Transmission PLC'!AM96, SPTL!AM96, 'NGET TO'!AM96),CHOOSE(m_identity,'SHE-Transmission PLC (Blank - )'!AM96, 'SPTL (Blank - not used)'!AM96, 'NGET TO (Blank - not used)'!AM96))","v":0.74178672151337333},{"$f":"IF(UserInterface!$E$69 = 1,CHOOSE(m_identity,'SHE-Transmission PLC'!AN96, SPTL!AN96, 'NGET TO'!AN96),CHOOSE(m_identity,'SHE-Transmission PLC (Blank - )'!AN96, 'SPTL (Blank - not used)'!AN96, 'NGET TO (Blank - not used)'!AN96))","v":0.74182998494648544},{"$f":"IF(UserInterface!$E$69 = 1,CHOOSE(m_identity,'SHE-Transmission PLC'!AO96, SPTL!AO96, 'NGET TO'!AO96),CHOOSE(m_identity,'SHE-Transmission PLC (Blank - )'!AO96, 'SPTL (Blank - not used)'!AO96, 'NGET TO (Blank - not used)'!AO96))","v":0.74188459152597197}]
[null,null,null,null,"Allocation to non-operational capex",null,"%",null,null,null,null,null,null,null,null,null,null,null,null,null,null,null,null,null,null,null,null,null,null,null,null,null,null,{"$f":"IF(UserInterface!$E$69 = 1,CHOOSE(m_identity,'SHE-Transmission PLC'!AH97, SPTL!AH97, 'NGET TO'!AH97),CHOOSE(m_identity,'SHE-Transmission PLC (Blank - )'!AH97, 'SPTL (Blank - not used)'!AH97, 'NGET TO (Blank - not used)'!AH97))","v":0},{"$f":"IF(UserInterface!$E$69 = 1,CHOOSE(m_identity,'SHE-Transmission PLC'!AI97, SPTL!AI97, 'NGET TO'!AI97),CHOOSE(m_identity,'SHE-Transmission PLC (Blank - )'!AI97, 'SPTL (Blank - not used)'!AI97, 'NGET TO (Blank - not used)'!AI97))","v":0},{"$f":"IF(UserInterface!$E$69 = 1,CHOOSE(m_identity,'SHE-Transmission PLC'!AJ97, SPTL!AJ97, 'NGET TO'!AJ97),CHOOSE(m_identity,'SHE-Transmission PLC (Blank - )'!AJ97, 'SPTL (Blank - not used)'!AJ97, 'NGET TO (Blank - not used)'!AJ97))","v":0},{"$f":"IF(UserInterface!$E$69 = 1,CHOOSE(m_identity,'SHE-Transmission PLC'!AK97, SPTL!AK97, 'NGET TO'!AK97),CHOOSE(m_identity,'SHE-Transmission PLC (Blank - )'!AK97, 'SPTL (Blank - not used)'!AK97, 'NGET TO (Blank - not used)'!AK97))","v":0},{"$f":"IF(UserInterface!$E$69 = 1,CHOOSE(m_identity,'SHE-Transmission PLC'!AL97, SPTL!AL97, 'NGET TO'!AL97),CHOOSE(m_identity,'SHE-Transmission PLC (Blank - )'!AL97, 'SPTL (Blank - not used)'!AL97, 'NGET TO (Blank - not used)'!AL97))","v":0},{"$f":"IF(UserInterface!$E$69 = 1,CHOOSE(m_identity,'SHE-Transmission PLC'!AM97, SPTL!AM97, 'NGET TO'!AM97),CHOOSE(m_identity,'SHE-Transmission PLC (Blank - )'!AM97, 'SPTL (Blank - not used)'!AM97, 'NGET TO (Blank - not used)'!AM97))","v":0},{"$f":"IF(UserInterface!$E$69 = 1,CHOOSE(m_identity,'SHE-Transmission PLC'!AN97, SPTL!AN97, 'NGET TO'!AN97),CHOOSE(m_identity,'SHE-Transmission PLC (Blank - )'!AN97, 'SPTL (Blank - not used)'!AN97, 'NGET TO (Blank - not used)'!AN97))","v":0},{"$f":"IF(UserInterface!$E$69 = 1,CHOOSE(m_identity,'SHE-Transmission PLC'!AO97, SPTL!AO97, 'NGET TO'!AO97),CHOOSE(m_identity,'SHE-Transmission PLC (Blank - )'!AO97, 'SPTL (Blank - not used)'!AO97, 'NGET TO (Blank - not used)'!AO97))","v":0}]
[]
[null,null,null,null,{"$f":"E15","v":"Uncertain costs – workforce renewal (SPTL only)"},null,"£m 09/10 prices",null,null,null,null,null,null,null,null,null,null,null,null,null,null,null,null,null,null,null,null,null,null,null,null,null,null,{"$f":"AH15","v":0},{"$f":"AI15","v":0},{"$f":"AJ15","v":0},0,0,0,0,0]
[null,null,null,null,"Allocation to load related capex expenditure",null,"%",null,null,null,null,null,null,null,null,null,null,null,null,null,null,null,null,null,null,null,null,null,null,null,null,null,null,{"$f":"IF(UserInterface!$E$69 = 1,CHOOSE(m_identity,'SHE-Transmission PLC'!AH100, SPTL!AH100, 'NGET TO'!AH100),CHOOSE(m_identity,'SHE-Transmission PLC (Blank - )'!AH100, 'SPTL (Blank - not used)'!AH100, 'NGET TO (Blank - not used)'!AH100))","v":0},{"$f":"IF(UserInterface!$E$69 = 1,CHOOSE(m_identity,'SHE-Transmission PLC'!AI100, SPTL!AI100, 'NGET TO'!AI100),CHOOSE(m_identity,'SHE-Transmission PLC (Blank - )'!AI100, 'SPTL (Blank - not used)'!AI100, 'NGET TO (Blank - not used)'!AI100))","v":0},{"$f":"IF(UserInterface!$E$69 = 1,CHOOSE(m_identity,'SHE-Transmission PLC'!AJ100, SPTL!AJ100, 'NGET TO'!AJ100),CHOOSE(m_identity,'SHE-Transmission PLC (Blank - )'!AJ100, 'SPTL (Blank - not used)'!AJ100, 'NGET TO (Blank - not used)'!AJ100))","v":0},{"$f":"IF(UserInterface!$E$69 = 1,CHOOSE(m_identity,'SHE-Transmission PLC'!AK100, SPTL!AK100, 'NGET TO'!AK100),CHOOSE(m_identity,'SHE-Transmission PLC (Blank - )'!AK100, 'SPTL (Blank - not used)'!AK100, 'NGET TO (Blank - not used)'!AK100))","v":0},{"$f":"IF(UserInterface!$E$69 = 1,CHOOSE(m_identity,'SHE-Transmission PLC'!AL100, SPTL!AL100, 'NGET TO'!AL100),CHOOSE(m_identity,'SHE-Transmission PLC (Blank - )'!AL100, 'SPTL (Blank - not used)'!AL100, 'NGET TO (Blank - not used)'!AL100))","v":0},{"$f":"IF(UserInterface!$E$69 = 1,CHOOSE(m_identity,'SHE-Transmission PLC'!AM100, SPTL!AM100, 'NGET TO'!AM100),CHOOSE(m_identity,'SHE-Transmission PLC (Blank - )'!AM100, 'SPTL (Blank - not used)'!AM100, 'NGET TO (Blank - not used)'!AM100))","v":0},{"$f":"IF(UserInterface!$E$69 = 1,CHOOSE(m_identity,'SHE-Transmission PLC'!AN100, SPTL!AN100, 'NGET TO'!AN100),CHOOSE(m_identity,'SHE-Transmission PLC (Blank - )'!AN100, 'SPTL (Blank - not used)'!AN100, 'NGET TO (Blank - not used)'!AN100))","v":0},{"$f":"IF(UserInterface!$E$69 = 1,CHOOSE(m_identity,'SHE-Transmission PLC'!AO100, SPTL!AO100, 'NGET TO'!AO100),CHOOSE(m_identity,'SHE-Transmission PLC (Blank - )'!AO100, 'SPTL (Blank - not used)'!AO100, 'NGET TO (Blank - not used)'!AO100))","v":0}]
[null,null,null,null,"Allocation to asset replacement capex expenditure",null,"%",null,null,null,null,null,null,null,null,null,null,null,null,null,null,null,null,null,null,null,null,null,null,null,null,null,null,{"$f":"IF(UserInterface!$E$69 = 1,CHOOSE(m_identity,'SHE-Transmission PLC'!AH101, SPTL!AH101, 'NGET TO'!AH101),CHOOSE(m_identity,'SHE-Transmission PLC (Blank - )'!AH101, 'SPTL (Blank - not used)'!AH101, 'NGET TO (Blank - not used)'!AH101))","v":0},{"$f":"IF(UserInterface!$E$69 = 1,CHOOSE(m_identity,'SHE-Transmission PLC'!AI101, SPTL!AI101, 'NGET TO'!AI101),CHOOSE(m_identity,'SHE-Transmission PLC (Blank - )'!AI101, 'SPTL (Blank - not used)'!AI101, 'NGET TO (Blank - not used)'!AI101))","v":0},{"$f":"IF(UserInterface!$E$69 = 1,CHOOSE(m_identity,'SHE-Transmission PLC'!AJ101, SPTL!AJ101, 'NGET TO'!AJ101),CHOOSE(m_identity,'SHE-Transmission PLC (Blank - )'!AJ101, 'SPTL (Blank - not used)'!AJ101, 'NGET TO (Blank - not used)'!AJ101))","v":0},{"$f":"IF(UserInterface!$E$69 = 1,CHOOSE(m_identity,'SHE-Transmission PLC'!AK101, SPTL!AK101, 'NGET TO'!AK101),CHOOSE(m_identity,'SHE-Transmission PLC (Blank - )'!AK101, 'SPTL (Blank - not used)'!AK101, 'NGET TO (Blank - not used)'!AK101))","v":0},{"$f":"IF(UserInterface!$E$69 = 1,CHOOSE(m_identity,'SHE-Transmission PLC'!AL101, SPTL!AL101, 'NGET TO'!AL101),CHOOSE(m_identity,'SHE-Transmission PLC (Blank - )'!AL101, 'SPTL (Blank - not used)'!AL101, 'NGET TO (Blank - not used)'!AL101))","v":0},{"$f":"IF(UserInterface!$E$69 = 1,CHOOSE(m_identity,'SHE-Transmission PLC'!AM101, SPTL!AM101, 'NGET TO'!AM101),CHOOSE(m_identity,'SHE-Transmission PLC (Blank - )'!AM101, 'SPTL (Blank - not used)'!AM101, 'NGET TO (Blank - not used)'!AM101))","v":0},{"$f":"IF(UserInterface!$E$69 = 1,CHOOSE(m_identity,'SHE-Transmission PLC'!AN101, SPTL!AN101, 'NGET TO'!AN101),CHOOSE(m_identity,'SHE-Transmission PLC (Blank - )'!AN101, 'SPTL (Blank - not used)'!AN101, 'NGET TO (Blank - not used)'!AN101))","v":0},{"$f":"IF(UserInterface!$E$69 = 1,CHOOSE(m_identity,'SHE-Transmission PLC'!AO101, SPTL!AO101, 'NGET TO'!AO101),CHOOSE(m_identity,'SHE-Transmission PLC (Blank - )'!AO101, 'SPTL (Blank - not used)'!AO101, 'NGET TO (Blank - not used)'!AO101))","v":0}]
[null,null,null,null,"Allocation to other capex expenditure",null,"%",null,null,null,null,null,null,null,null,null,null,null,null,null,null,null,null,null,null,null,null,null,null,null,null,null,null,{"$f":"IF(UserInterface!$E$69 = 1,CHOOSE(m_identity,'SHE-Transmission PLC'!AH102, SPTL!AH102, 'NGET TO'!AH102),CHOOSE(m_identity,'SHE-Transmission PLC (Blank - )'!AH102, 'SPTL (Blank - not used)'!AH102, 'NGET TO (Blank - not used)'!AH102))","v":1},{"$f":"IF(UserInterface!$E$69 = 1,CHOOSE(m_identity,'SHE-Transmission PLC'!AI102, SPTL!AI102, 'NGET TO'!AI102),CHOOSE(m_identity,'SHE-Transmission PLC (Blank - )'!AI102, 'SPTL (Blank - not used)'!AI102, 'NGET TO (Blank - not used)'!AI102))","v":1},{"$f":"IF(UserInterface!$E$69 = 1,CHOOSE(m_identity,'SHE-Transmission PLC'!AJ102, SPTL!AJ102, 'NGET TO'!AJ102),CHOOSE(m_identity,'SHE-Transmission PLC (Blank - )'!AJ102, 'SPTL (Blank - not used)'!AJ102, 'NGET TO (Blank - not used)'!AJ102))","v":1},{"$f":"IF(UserInterface!$E$69 = 1,CHOOSE(m_identity,'SHE-Transmission PLC'!AK102, SPTL!AK102, 'NGET TO'!AK102),CHOOSE(m_identity,'SHE-Transmission PLC (Blank - )'!AK102, 'SPTL (Blank - not used)'!AK102, 'NGET TO (Blank - not used)'!AK102))","v":1},{"$f":"IF(UserInterface!$E$69 = 1,CHOOSE(m_identity,'SHE-Transmission PLC'!AL102, SPTL!AL102, 'NGET TO'!AL102),CHOOSE(m_identity,'SHE-Transmission PLC (Blank - )'!AL102, 'SPTL (Blank - not used)'!AL102, 'NGET TO (Blank - not used)'!AL102))","v":1},{"$f":"IF(UserInterface!$E$69 = 1,CHOOSE(m_identity,'SHE-Transmission PLC'!AM102, SPTL!AM102, 'NGET TO'!AM102),CHOOSE(m_identity,'SHE-Transmission PLC (Blank - )'!AM102, 'SPTL (Blank - not used)'!AM102, 'NGET TO (Blank - not used)'!AM102))","v":1},{"$f":"IF(UserInterface!$E$69 = 1,CHOOSE(m_identity,'SHE-Transmission PLC'!AN102, SPTL!AN102, 'NGET TO'!AN102),CHOOSE(m_identity,'SHE-Transmission PLC (Blank - )'!AN102, 'SPTL (Blank - not used)'!AN102, 'NGET TO (Blank - not used)'!AN102))","v":1},{"$f":"IF(UserInterface!$E$69 = 1,CHOOSE(m_identity,'SHE-Transmission PLC'!AO102, SPTL!AO102, 'NGET TO'!AO102),CHOOSE(m_identity,'SHE-Transmission PLC (Blank - )'!AO102, 'SPTL (Blank - not used)'!AO102, 'NGET TO (Blank - not used)'!AO102))","v":1}]
[null,null,null,null,"Allocation to controllable opex",null,"%",null,null,null,null,null,null,null,null,null,null,null,null,null,null,null,null,null,null,null,null,null,null,null,null,null,null,{"$f":"IF(UserInterface!$E$69 = 1,CHOOSE(m_identity,'SHE-Transmission PLC'!AH103, SPTL!AH103, 'NGET TO'!AH103),CHOOSE(m_identity,'SHE-Transmission PLC (Blank - )'!AH103, 'SPTL (Blank - not used)'!AH103, 'NGET TO (Blank - not used)'!AH103))","v":0},{"$f":"IF(UserInterface!$E$69 = 1,CHOOSE(m_identity,'SHE-Transmission PLC'!AI103, SPTL!AI103, 'NGET TO'!AI103),CHOOSE(m_identity,'SHE-Transmission PLC (Blank - )'!AI103, 'SPTL (Blank - not used)'!AI103, 'NGET TO (Blank - not used)'!AI103))","v":0},{"$f":"IF(UserInterface!$E$69 = 1,CHOOSE(m_identity,'SHE-Transmission PLC'!AJ103, SPTL!AJ103, 'NGET TO'!AJ103),CHOOSE(m_identity,'SHE-Transmission PLC (Blank - )'!AJ103, 'SPTL (Blank - not used)'!AJ103, 'NGET TO (Blank - not used)'!AJ103))","v":0},{"$f":"IF(UserInterface!$E$69 = 1,CHOOSE(m_identity,'SHE-Transmission PLC'!AK103, SPTL!AK103, 'NGET TO'!AK103),CHOOSE(m_identity,'SHE-Transmission PLC (Blank - )'!AK103, 'SPTL (Blank - not used)'!AK103, 'NGET TO (Blank - not used)'!AK103))","v":0},{"$f":"IF(UserInterface!$E$69 = 1,CHOOSE(m_identity,'SHE-Transmission PLC'!AL103, SPTL!AL103, 'NGET TO'!AL103),CHOOSE(m_identity,'SHE-Transmission PLC (Blank - )'!AL103, 'SPTL (Blank - not used)'!AL103, 'NGET TO (Blank - not used)'!AL103))","v":0},{"$f":"IF(UserInterface!$E$69 = 1,CHOOSE(m_identity,'SHE-Transmission PLC'!AM103, SPTL!AM103, 'NGET TO'!AM103),CHOOSE(m_identity,'SHE-Transmission PLC (Blank - )'!AM103, 'SPTL (Blank - not used)'!AM103, 'NGET TO (Blank - not used)'!AM103))","v":0},{"$f":"IF(UserInterface!$E$69 = 1,CHOOSE(m_identity,'SHE-Transmission PLC'!AN103, SPTL!AN103, 'NGET TO'!AN103),CHOOSE(m_identity,'SHE-Transmission PLC (Blank - )'!AN103, 'SPTL (Blank - not used)'!AN103, 'NGET TO (Blank - not used)'!AN103))","v":0},{"$f":"IF(UserInterface!$E$69 = 1,CHOOSE(m_identity,'SHE-Transmission PLC'!AO103, SPTL!AO103, 'NGET TO'!AO103),CHOOSE(m_identity,'SHE-Transmission PLC (Blank - )'!AO103, 'SPTL (Blank - not used)'!AO103, 'NGET TO (Blank - not used)'!AO103))","v":0}]
[null,null,null,null,"Allocation to non-operational capex",null,"%",null,null,null,null,null,null,null,null,null,null,null,null,null,null,null,null,null,null,null,null,null,null,null,null,null,null,{"$f":"IF(UserInterface!$E$69 = 1,CHOOSE(m_identity,'SHE-Transmission PLC'!AH104, SPTL!AH104, 'NGET TO'!AH104),CHOOSE(m_identity,'SHE-Transmission PLC (Blank - )'!AH104, 'SPTL (Blank - not used)'!AH104, 'NGET TO (Blank - not used)'!AH104))","v":0},{"$f":"IF(UserInterface!$E$69 = 1,CHOOSE(m_identity,'SHE-Transmission PLC'!AI104, SPTL!AI104, 'NGET TO'!AI104),CHOOSE(m_identity,'SHE-Transmission PLC (Blank - )'!AI104, 'SPTL (Blank - not used)'!AI104, 'NGET TO (Blank - not used)'!AI104))","v":0},{"$f":"IF(UserInterface!$E$69 = 1,CHOOSE(m_identity,'SHE-Transmission PLC'!AJ104, SPTL!AJ104, 'NGET TO'!AJ104),CHOOSE(m_identity,'SHE-Transmission PLC (Blank - )'!AJ104, 'SPTL (Blank - not used)'!AJ104, 'NGET TO (Blank - not used)'!AJ104))","v":0},{"$f":"IF(UserInterface!$E$69 = 1,CHOOSE(m_identity,'SHE-Transmission PLC'!AK104, SPTL!AK104, 'NGET TO'!AK104),CHOOSE(m_identity,'SHE-Transmission PLC (Blank - )'!AK104, 'SPTL (Blank - not used)'!AK104, 'NGET TO (Blank - not used)'!AK104))","v":0},{"$f":"IF(UserInterface!$E$69 = 1,CHOOSE(m_identity,'SHE-Transmission PLC'!AL104, SPTL!AL104, 'NGET TO'!AL104),CHOOSE(m_identity,'SHE-Transmission PLC (Blank - )'!AL104, 'SPTL (Blank - not used)'!AL104, 'NGET TO (Blank - not used)'!AL104))","v":0},{"$f":"IF(UserInterface!$E$69 = 1,CHOOSE(m_identity,'SHE-Transmission PLC'!AM104, SPTL!AM104, 'NGET TO'!AM104),CHOOSE(m_identity,'SHE-Transmission PLC (Blank - )'!AM104, 'SPTL (Blank - not used)'!AM104, 'NGET TO (Blank - not used)'!AM104))","v":0},{"$f":"IF(UserInterface!$E$69 = 1,CHOOSE(m_identity,'SHE-Transmission PLC'!AN104, SPTL!AN104, 'NGET TO'!AN104),CHOOSE(m_identity,'SHE-Transmission PLC (Blank - )'!AN104, 'SPTL (Blank - not used)'!AN104, 'NGET TO (Blank - not used)'!AN104))","v":0},{"$f":"IF(UserInterface!$E$69 = 1,CHOOSE(m_identity,'SHE-Transmission PLC'!AO104, SPTL!AO104, 'NGET TO'!AO104),CHOOSE(m_identity,'SHE-Transmission PLC (Blank - )'!AO104, 'SPTL (Blank - not used)'!AO104, 'NGET TO (Blank - not used)'!AO104))","v":0}]
[]
[null,null,null,null,{"$f":"E16","v":"Uncertain costs – BT 21st Century (SHETPLC only)"},null,"£m 09/10 prices",null,null,null,null,null,null,null,null,null,null,null,null,null,null,null,null,null,null,null,null,null,null,null,null,null,null,{"$f":"AH16","v":0},{"$f":"AI16","v":0},0,0,0,0,0,0]
[null,null,null,null,"Allocation to load related capex expenditure",null,"%",null,null,null,null,null,null,null,null,null,null,null,null,null,null,null,null,null,null,null,null,null,null,null,null,null,null,{"$f":"IF(UserInterface!$E$69 = 1,CHOOSE(m_identity,'SHE-Transmission PLC'!AH107, SPTL!AH107, 'NGET TO'!AH107),CHOOSE(m_identity,'SHE-Transmission PLC (Blank - )'!AH107, 'SPTL (Blank - not used)'!AH107, 'NGET TO (Blank - not used)'!AH107))","v":0},{"$f":"IF(UserInterface!$E$69 = 1,CHOOSE(m_identity,'SHE-Transmission PLC'!AI107, SPTL!AI107, 'NGET TO'!AI107),CHOOSE(m_identity,'SHE-Transmission PLC (Blank - )'!AI107, 'SPTL (Blank - not used)'!AI107, 'NGET TO (Blank - not used)'!AI107))","v":0},{"$f":"IF(UserInterface!$E$69 = 1,CHOOSE(m_identity,'SHE-Transmission PLC'!AJ107, SPTL!AJ107, 'NGET TO'!AJ107),CHOOSE(m_identity,'SHE-Transmission PLC (Blank - )'!AJ107, 'SPTL (Blank - not used)'!AJ107, 'NGET TO (Blank - not used)'!AJ107))","v":0},{"$f":"IF(UserInterface!$E$69 = 1,CHOOSE(m_identity,'SHE-Transmission PLC'!AK107, SPTL!AK107, 'NGET TO'!AK107),CHOOSE(m_identity,'SHE-Transmission PLC (Blank - )'!AK107, 'SPTL (Blank - not used)'!AK107, 'NGET TO (Blank - not used)'!AK107))","v":0},{"$f":"IF(UserInterface!$E$69 = 1,CHOOSE(m_identity,'SHE-Transmission PLC'!AL107, SPTL!AL107, 'NGET TO'!AL107),CHOOSE(m_identity,'SHE-Transmission PLC (Blank - )'!AL107, 'SPTL (Blank - not used)'!AL107, 'NGET TO (Blank - not used)'!AL107))","v":0},{"$f":"IF(UserInterface!$E$69 = 1,CHOOSE(m_identity,'SHE-Transmission PLC'!AM107, SPTL!AM107, 'NGET TO'!AM107),CHOOSE(m_identity,'SHE-Transmission PLC (Blank - )'!AM107, 'SPTL (Blank - not used)'!AM107, 'NGET TO (Blank - not used)'!AM107))","v":0},{"$f":"IF(UserInterface!$E$69 = 1,CHOOSE(m_identity,'SHE-Transmission PLC'!AN107, SPTL!AN107, 'NGET TO'!AN107),CHOOSE(m_identity,'SHE-Transmission PLC (Blank - )'!AN107, 'SPTL (Blank - not used)'!AN107, 'NGET TO (Blank - not used)'!AN107))","v":0},{"$f":"IF(UserInterface!$E$69 = 1,CHOOSE(m_identity,'SHE-Transmission PLC'!AO107, SPTL!AO107, 'NGET TO'!AO107),CHOOSE(m_identity,'SHE-Transmission PLC (Blank - )'!AO107, 'SPTL (Blank - not used)'!AO107, 'NGET TO (Blank - not used)'!AO107))","v":0}]
[null,null,null,null,"Allocation to asset replacement capex expenditure",null,"%",null,null,null,null,null,null,null,null,null,null,null,null,null,null,null,null,null,null,null,null,null,null,null,null,null,null,{"$f":"IF(UserInterface!$E$69 = 1,CHOOSE(m_identity,'SHE-Transmission PLC'!AH108, SPTL!AH108, 'NGET TO'!AH108),CHOOSE(m_identity,'SHE-Transmission PLC (Blank - )'!AH108, 'SPTL (Blank - not used)'!AH108, 'NGET TO (Blank - not used)'!AH108))","v":0},{"$f":"IF(UserInterface!$E$69 = 1,CHOOSE(m_identity,'SHE-Transmission PLC'!AI108, SPTL!AI108, 'NGET TO'!AI108),CHOOSE(m_identity,'SHE-Transmission PLC (Blank - )'!AI108, 'SPTL (Blank - not used)'!AI108, 'NGET TO (Blank - not used)'!AI108))","v":0},{"$f":"IF(UserInterface!$E$69 = 1,CHOOSE(m_identity,'SHE-Transmission PLC'!AJ108, SPTL!AJ108, 'NGET TO'!AJ108),CHOOSE(m_identity,'SHE-Transmission PLC (Blank - )'!AJ108, 'SPTL (Blank - not used)'!AJ108, 'NGET TO (Blank - not used)'!AJ108))","v":0},{"$f":"IF(UserInterface!$E$69 = 1,CHOOSE(m_identity,'SHE-Transmission PLC'!AK108, SPTL!AK108, 'NGET TO'!AK108),CHOOSE(m_identity,'SHE-Transmission PLC (Blank - )'!AK108, 'SPTL (Blank - not used)'!AK108, 'NGET TO (Blank - not used)'!AK108))","v":0},{"$f":"IF(UserInterface!$E$69 = 1,CHOOSE(m_identity,'SHE-Transmission PLC'!AL108, SPTL!AL108, 'NGET TO'!AL108),CHOOSE(m_identity,'SHE-Transmission PLC (Blank - )'!AL108, 'SPTL (Blank - not used)'!AL108, 'NGET TO (Blank - not used)'!AL108))","v":0},{"$f":"IF(UserInterface!$E$69 = 1,CHOOSE(m_identity,'SHE-Transmission PLC'!AM108, SPTL!AM108, 'NGET TO'!AM108),CHOOSE(m_identity,'SHE-Transmission PLC (Blank - )'!AM108, 'SPTL (Blank - not used)'!AM108, 'NGET TO (Blank - not used)'!AM108))","v":0},{"$f":"IF(UserInterface!$E$69 = 1,CHOOSE(m_identity,'SHE-Transmission PLC'!AN108, SPTL!AN108, 'NGET TO'!AN108),CHOOSE(m_identity,'SHE-Transmission PLC (Blank - )'!AN108, 'SPTL (Blank - not used)'!AN108, 'NGET TO (Blank - not used)'!AN108))","v":0},{"$f":"IF(UserInterface!$E$69 = 1,CHOOSE(m_identity,'SHE-Transmission PLC'!AO108, SPTL!AO108, 'NGET TO'!AO108),CHOOSE(m_identity,'SHE-Transmission PLC (Blank - )'!AO108, 'SPTL (Blank - not used)'!AO108, 'NGET TO (Blank - not used)'!AO108))","v":0}]
[null,null,null,null,"Allocation to other capex expenditure",null,"%",null,null,null,null,null,null,null,null,null,null,null,null,null,null,null,null,null,null,null,null,null,null,null,null,null,null,{"$f":"IF(UserInterface!$E$69 = 1,CHOOSE(m_identity,'SHE-Transmission PLC'!AH109, SPTL!AH109, 'NGET TO'!AH109),CHOOSE(m_identity,'SHE-Transmission PLC (Blank - )'!AH109, 'SPTL (Blank - not used)'!AH109, 'NGET TO (Blank - not used)'!AH109))","v":1},{"$f":"IF(UserInterface!$E$69 = 1,CHOOSE(m_identity,'SHE-Transmission PLC'!AI109, SPTL!AI109, 'NGET TO'!AI109),CHOOSE(m_identity,'SHE-Transmission PLC (Blank - )'!AI109, 'SPTL (Blank - not used)'!AI109, 'NGET TO (Blank - not used)'!AI109))","v":1},{"$f":"IF(UserInterface!$E$69 = 1,CHOOSE(m_identity,'SHE-Transmission PLC'!AJ109, SPTL!AJ109, 'NGET TO'!AJ109),CHOOSE(m_identity,'SHE-Transmission PLC (Blank - )'!AJ109, 'SPTL (Blank - not used)'!AJ109, 'NGET TO (Blank - not used)'!AJ109))","v":1},{"$f":"IF(UserInterface!$E$69 = 1,CHOOSE(m_identity,'SHE-Transmission PLC'!AK109, SPTL!AK109, 'NGET TO'!AK109),CHOOSE(m_identity,'SHE-Transmission PLC (Blank - )'!AK109, 'SPTL (Blank - not used)'!AK109, 'NGET TO (Blank - not used)'!AK109))","v":1},{"$f":"IF(UserInterface!$E$69 = 1,CHOOSE(m_identity,'SHE-Transmission PLC'!AL109, SPTL!AL109, 'NGET TO'!AL109),CHOOSE(m_identity,'SHE-Transmission PLC (Blank - )'!AL109, 'SPTL (Blank - not used)'!AL109, 'NGET TO (Blank - not used)'!AL109))","v":1},{"$f":"IF(UserInterface!$E$69 = 1,CHOOSE(m_identity,'SHE-Transmission PLC'!AM109, SPTL!AM109, 'NGET TO'!AM109),CHOOSE(m_identity,'SHE-Transmission PLC (Blank - )'!AM109, 'SPTL (Blank - not used)'!AM109, 'NGET TO (Blank - not used)'!AM109))","v":1},{"$f":"IF(UserInterface!$E$69 = 1,CHOOSE(m_identity,'SHE-Transmission PLC'!AN109, SPTL!AN109, 'NGET TO'!AN109),CHOOSE(m_identity,'SHE-Transmission PLC (Blank - )'!AN109, 'SPTL (Blank - not used)'!AN109, 'NGET TO (Blank - not used)'!AN109))","v":1},{"$f":"IF(UserInterface!$E$69 = 1,CHOOSE(m_identity,'SHE-Transmission PLC'!AO109, SPTL!AO109, 'NGET TO'!AO109),CHOOSE(m_identity,'SHE-Transmission PLC (Blank - )'!AO109, 'SPTL (Blank - not used)'!AO109, 'NGET TO (Blank - not used)'!AO109))","v":1}]
[null,null,null,null,"Allocation to controllable opex",null,"%",null,null,null,null,null,null,null,null,null,null,null,null,null,null,null,null,null,null,null,null,null,null,null,null,null,null,{"$f":"IF(UserInterface!$E$69 = 1,CHOOSE(m_identity,'SHE-Transmission PLC'!AH110, SPTL!AH110, 'NGET TO'!AH110),CHOOSE(m_identity,'SHE-Transmission PLC (Blank - )'!AH110, 'SPTL (Blank - not used)'!AH110, 'NGET TO (Blank - not used)'!AH110))","v":0},{"$f":"IF(UserInterface!$E$69 = 1,CHOOSE(m_identity,'SHE-Transmission PLC'!AI110, SPTL!AI110, 'NGET TO'!AI110),CHOOSE(m_identity,'SHE-Transmission PLC (Blank - )'!AI110, 'SPTL (Blank - not used)'!AI110, 'NGET TO (Blank - not used)'!AI110))","v":0},{"$f":"IF(UserInterface!$E$69 = 1,CHOOSE(m_identity,'SHE-Transmission PLC'!AJ110, SPTL!AJ110, 'NGET TO'!AJ110),CHOOSE(m_identity,'SHE-Transmission PLC (Blank - )'!AJ110, 'SPTL (Blank - not used)'!AJ110, 'NGET TO (Blank - not used)'!AJ110))","v":0},{"$f":"IF(UserInterface!$E$69 = 1,CHOOSE(m_identity,'SHE-Transmission PLC'!AK110, SPTL!AK110, 'NGET TO'!AK110),CHOOSE(m_identity,'SHE-Transmission PLC (Blank - )'!AK110, 'SPTL (Blank - not used)'!AK110, 'NGET TO (Blank - not used)'!AK110))","v":0},{"$f":"IF(UserInterface!$E$69 = 1,CHOOSE(m_identity,'SHE-Transmission PLC'!AL110, SPTL!AL110, 'NGET TO'!AL110),CHOOSE(m_identity,'SHE-Transmission PLC (Blank - )'!AL110, 'SPTL (Blank - not used)'!AL110, 'NGET TO (Blank - not used)'!AL110))","v":0},{"$f":"IF(UserInterface!$E$69 = 1,CHOOSE(m_identity,'SHE-Transmission PLC'!AM110, SPTL!AM110, 'NGET TO'!AM110),CHOOSE(m_identity,'SHE-Transmission PLC (Blank - )'!AM110, 'SPTL (Blank - not used)'!AM110, 'NGET TO (Blank - not used)'!AM110))","v":0},{"$f":"IF(UserInterface!$E$69 = 1,CHOOSE(m_identity,'SHE-Transmission PLC'!AN110, SPTL!AN110, 'NGET TO'!AN110),CHOOSE(m_identity,'SHE-Transmission PLC (Blank - )'!AN110, 'SPTL (Blank - not used)'!AN110, 'NGET TO (Blank - not used)'!AN110))","v":0},{"$f":"IF(UserInterface!$E$69 = 1,CHOOSE(m_identity,'SHE-Transmission PLC'!AO110, SPTL!AO110, 'NGET TO'!AO110),CHOOSE(m_identity,'SHE-Transmission PLC (Blank - )'!AO110, 'SPTL (Blank - not used)'!AO110, 'NGET TO (Blank - not used)'!AO110))","v":0}]
[null,null,null,null,"Allocation to non-operational capex",null,"%",null,null,null,null,null,null,null,null,null,null,null,null,null,null,null,null,null,null,null,null,null,null,null,null,null,null,{"$f":"IF(UserInterface!$E$69 = 1,CHOOSE(m_identity,'SHE-Transmission PLC'!AH111, SPTL!AH111, 'NGET TO'!AH111),CHOOSE(m_identity,'SHE-Transmission PLC (Blank - )'!AH111, 'SPTL (Blank - not used)'!AH111, 'NGET TO (Blank - not used)'!AH111))","v":0},{"$f":"IF(UserInterface!$E$69 = 1,CHOOSE(m_identity,'SHE-Transmission PLC'!AI111, SPTL!AI111, 'NGET TO'!AI111),CHOOSE(m_identity,'SHE-Transmission PLC (Blank - )'!AI111, 'SPTL (Blank - not used)'!AI111, 'NGET TO (Blank - not used)'!AI111))","v":0},{"$f":"IF(UserInterface!$E$69 = 1,CHOOSE(m_identity,'SHE-Transmission PLC'!AJ111, SPTL!AJ111, 'NGET TO'!AJ111),CHOOSE(m_identity,'SHE-Transmission PLC (Blank - )'!AJ111, 'SPTL (Blank - not used)'!AJ111, 'NGET TO (Blank - not used)'!AJ111))","v":0},{"$f":"IF(UserInterface!$E$69 = 1,CHOOSE(m_identity,'SHE-Transmission PLC'!AK111, SPTL!AK111, 'NGET TO'!AK111),CHOOSE(m_identity,'SHE-Transmission PLC (Blank - )'!AK111, 'SPTL (Blank - not used)'!AK111, 'NGET TO (Blank - not used)'!AK111))","v":0},{"$f":"IF(UserInterface!$E$69 = 1,CHOOSE(m_identity,'SHE-Transmission PLC'!AL111, SPTL!AL111, 'NGET TO'!AL111),CHOOSE(m_identity,'SHE-Transmission PLC (Blank - )'!AL111, 'SPTL (Blank - not used)'!AL111, 'NGET TO (Blank - not used)'!AL111))","v":0},{"$f":"IF(UserInterface!$E$69 = 1,CHOOSE(m_identity,'SHE-Transmission PLC'!AM111, SPTL!AM111, 'NGET TO'!AM111),CHOOSE(m_identity,'SHE-Transmission PLC (Blank - )'!AM111, 'SPTL (Blank - not used)'!AM111, 'NGET TO (Blank - not used)'!AM111))","v":0},{"$f":"IF(UserInterface!$E$69 = 1,CHOOSE(m_identity,'SHE-Transmission PLC'!AN111, SPTL!AN111, 'NGET TO'!AN111),CHOOSE(m_identity,'SHE-Transmission PLC (Blank - )'!AN111, 'SPTL (Blank - not used)'!AN111, 'NGET TO (Blank - not used)'!AN111))","v":0},{"$f":"IF(UserInterface!$E$69 = 1,CHOOSE(m_identity,'SHE-Transmission PLC'!AO111, SPTL!AO111, 'NGET TO'!AO111),CHOOSE(m_identity,'SHE-Transmission PLC (Blank - )'!AO111, 'SPTL (Blank - not used)'!AO111, 'NGET TO (Blank - not used)'!AO111))","v":0}]
[]
[null,null,null,null,{"$f":"E17","v":"Uncertain costs – compensation costs for landowners for wayleave (SHETPLC only)"},null,"£m 09/10 prices",null,null,null,null,null,null,null,null,null,null,null,null,null,null,null,null,null,null,null,null,null,null,null,null,null,null,{"$f":"AH17","v":0},{"$f":"AI17","v":0},0,0,0,0,0,0]
[null,null,null,null,"Allocation to load related capex expenditure",null,"%",null,null,null,null,null,null,null,null,null,null,null,null,null,null,null,null,null,null,null,null,null,null,null,null,null,null,{"$f":"IF(UserInterface!$E$69 = 1,CHOOSE(m_identity,'SHE-Transmission PLC'!AH114, SPTL!AH114, 'NGET TO'!AH114),CHOOSE(m_identity,'SHE-Transmission PLC (Blank - )'!AH114, 'SPTL (Blank - not used)'!AH114, 'NGET TO (Blank - not used)'!AH114))","v":0},{"$f":"IF(UserInterface!$E$69 = 1,CHOOSE(m_identity,'SHE-Transmission PLC'!AI114, SPTL!AI114, 'NGET TO'!AI114),CHOOSE(m_identity,'SHE-Transmission PLC (Blank - )'!AI114, 'SPTL (Blank - not used)'!AI114, 'NGET TO (Blank - not used)'!AI114))","v":0},{"$f":"IF(UserInterface!$E$69 = 1,CHOOSE(m_identity,'SHE-Transmission PLC'!AJ114, SPTL!AJ114, 'NGET TO'!AJ114),CHOOSE(m_identity,'SHE-Transmission PLC (Blank - )'!AJ114, 'SPTL (Blank - not used)'!AJ114, 'NGET TO (Blank - not used)'!AJ114))","v":0},{"$f":"IF(UserInterface!$E$69 = 1,CHOOSE(m_identity,'SHE-Transmission PLC'!AK114, SPTL!AK114, 'NGET TO'!AK114),CHOOSE(m_identity,'SHE-Transmission PLC (Blank - )'!AK114, 'SPTL (Blank - not used)'!AK114, 'NGET TO (Blank - not used)'!AK114))","v":0},{"$f":"IF(UserInterface!$E$69 = 1,CHOOSE(m_identity,'SHE-Transmission PLC'!AL114, SPTL!AL114, 'NGET TO'!AL114),CHOOSE(m_identity,'SHE-Transmission PLC (Blank - )'!AL114, 'SPTL (Blank - not used)'!AL114, 'NGET TO (Blank - not used)'!AL114))","v":0},{"$f":"IF(UserInterface!$E$69 = 1,CHOOSE(m_identity,'SHE-Transmission PLC'!AM114, SPTL!AM114, 'NGET TO'!AM114),CHOOSE(m_identity,'SHE-Transmission PLC (Blank - )'!AM114, 'SPTL (Blank - not used)'!AM114, 'NGET TO (Blank - not used)'!AM114))","v":0},{"$f":"IF(UserInterface!$E$69 = 1,CHOOSE(m_identity,'SHE-Transmission PLC'!AN114, SPTL!AN114, 'NGET TO'!AN114),CHOOSE(m_identity,'SHE-Transmission PLC (Blank - )'!AN114, 'SPTL (Blank - not used)'!AN114, 'NGET TO (Blank - not used)'!AN114))","v":0},{"$f":"IF(UserInterface!$E$69 = 1,CHOOSE(m_identity,'SHE-Transmission PLC'!AO114, SPTL!AO114, 'NGET TO'!AO114),CHOOSE(m_identity,'SHE-Transmission PLC (Blank - )'!AO114, 'SPTL (Blank - not used)'!AO114, 'NGET TO (Blank - not used)'!AO114))","v":0}]
[null,null,null,null,"Allocation to asset replacement capex expenditure",null,"%",null,null,null,null,null,null,null,null,null,null,null,null,null,null,null,null,null,null,null,null,null,null,null,null,null,null,{"$f":"IF(UserInterface!$E$69 = 1,CHOOSE(m_identity,'SHE-Transmission PLC'!AH115, SPTL!AH115, 'NGET TO'!AH115),CHOOSE(m_identity,'SHE-Transmission PLC (Blank - )'!AH115, 'SPTL (Blank - not used)'!AH115, 'NGET TO (Blank - not used)'!AH115))","v":0},{"$f":"IF(UserInterface!$E$69 = 1,CHOOSE(m_identity,'SHE-Transmission PLC'!AI115, SPTL!AI115, 'NGET TO'!AI115),CHOOSE(m_identity,'SHE-Transmission PLC (Blank - )'!AI115, 'SPTL (Blank - not used)'!AI115, 'NGET TO (Blank - not used)'!AI115))","v":0},{"$f":"IF(UserInterface!$E$69 = 1,CHOOSE(m_identity,'SHE-Transmission PLC'!AJ115, SPTL!AJ115, 'NGET TO'!AJ115),CHOOSE(m_identity,'SHE-Transmission PLC (Blank - )'!AJ115, 'SPTL (Blank - not used)'!AJ115, 'NGET TO (Blank - not used)'!AJ115))","v":0},{"$f":"IF(UserInterface!$E$69 = 1,CHOOSE(m_identity,'SHE-Transmission PLC'!AK115, SPTL!AK115, 'NGET TO'!AK115),CHOOSE(m_identity,'SHE-Transmission PLC (Blank - )'!AK115, 'SPTL (Blank - not used)'!AK115, 'NGET TO (Blank - not used)'!AK115))","v":0},{"$f":"IF(UserInterface!$E$69 = 1,CHOOSE(m_identity,'SHE-Transmission PLC'!AL115, SPTL!AL115, 'NGET TO'!AL115),CHOOSE(m_identity,'SHE-Transmission PLC (Blank - )'!AL115, 'SPTL (Blank - not used)'!AL115, 'NGET TO (Blank - not used)'!AL115))","v":0},{"$f":"IF(UserInterface!$E$69 = 1,CHOOSE(m_identity,'SHE-Transmission PLC'!AM115, SPTL!AM115, 'NGET TO'!AM115),CHOOSE(m_identity,'SHE-Transmission PLC (Blank - )'!AM115, 'SPTL (Blank - not used)'!AM115, 'NGET TO (Blank - not used)'!AM115))","v":0},{"$f":"IF(UserInterface!$E$69 = 1,CHOOSE(m_identity,'SHE-Transmission PLC'!AN115, SPTL!AN115, 'NGET TO'!AN115),CHOOSE(m_identity,'SHE-Transmission PLC (Blank - )'!AN115, 'SPTL (Blank - not used)'!AN115, 'NGET TO (Blank - not used)'!AN115))","v":0},{"$f":"IF(UserInterface!$E$69 = 1,CHOOSE(m_identity,'SHE-Transmission PLC'!AO115, SPTL!AO115, 'NGET TO'!AO115),CHOOSE(m_identity,'SHE-Transmission PLC (Blank - )'!AO115, 'SPTL (Blank - not used)'!AO115, 'NGET TO (Blank - not used)'!AO115))","v":0}]
[null,null,null,null,"Allocation to other capex expenditure",null,"%",null,null,null,null,null,null,null,null,null,null,null,null,null,null,null,null,null,null,null,null,null,null,null,null,null,null,{"$f":"IF(UserInterface!$E$69 = 1,CHOOSE(m_identity,'SHE-Transmission PLC'!AH116, SPTL!AH116, 'NGET TO'!AH116),CHOOSE(m_identity,'SHE-Transmission PLC (Blank - )'!AH116, 'SPTL (Blank - not used)'!AH116, 'NGET TO (Blank - not used)'!AH116))","v":1},{"$f":"IF(UserInterface!$E$69 = 1,CHOOSE(m_identity,'SHE-Transmission PLC'!AI116, SPTL!AI116, 'NGET TO'!AI116),CHOOSE(m_identity,'SHE-Transmission PLC (Blank - )'!AI116, 'SPTL (Blank - not used)'!AI116, 'NGET TO (Blank - not used)'!AI116))","v":1},{"$f":"IF(UserInterface!$E$69 = 1,CHOOSE(m_identity,'SHE-Transmission PLC'!AJ116, SPTL!AJ116, 'NGET TO'!AJ116),CHOOSE(m_identity,'SHE-Transmission PLC (Blank - )'!AJ116, 'SPTL (Blank - not used)'!AJ116, 'NGET TO (Blank - not used)'!AJ116))","v":1},{"$f":"IF(UserInterface!$E$69 = 1,CHOOSE(m_identity,'SHE-Transmission PLC'!AK116, SPTL!AK116, 'NGET TO'!AK116),CHOOSE(m_identity,'SHE-Transmission PLC (Blank - )'!AK116, 'SPTL (Blank - not used)'!AK116, 'NGET TO (Blank - not used)'!AK116))","v":1},{"$f":"IF(UserInterface!$E$69 = 1,CHOOSE(m_identity,'SHE-Transmission PLC'!AL116, SPTL!AL116, 'NGET TO'!AL116),CHOOSE(m_identity,'SHE-Transmission PLC (Blank - )'!AL116, 'SPTL (Blank - not used)'!AL116, 'NGET TO (Blank - not used)'!AL116))","v":1},{"$f":"IF(UserInterface!$E$69 = 1,CHOOSE(m_identity,'SHE-Transmission PLC'!AM116, SPTL!AM116, 'NGET TO'!AM116),CHOOSE(m_identity,'SHE-Transmission PLC (Blank - )'!AM116, 'SPTL (Blank - not used)'!AM116, 'NGET TO (Blank - not used)'!AM116))","v":1},{"$f":"IF(UserInterface!$E$69 = 1,CHOOSE(m_identity,'SHE-Transmission PLC'!AN116, SPTL!AN116, 'NGET TO'!AN116),CHOOSE(m_identity,'SHE-Transmission PLC (Blank - )'!AN116, 'SPTL (Blank - not used)'!AN116, 'NGET TO (Blank - not used)'!AN116))","v":1},{"$f":"IF(UserInterface!$E$69 = 1,CHOOSE(m_identity,'SHE-Transmission PLC'!AO116, SPTL!AO116, 'NGET TO'!AO116),CHOOSE(m_identity,'SHE-Transmission PLC (Blank - )'!AO116, 'SPTL (Blank - not used)'!AO116, 'NGET TO (Blank - not used)'!AO116))","v":1}]
[null,null,null,null,"Allocation to controllable opex",null,"%",null,null,null,null,null,null,null,null,null,null,null,null,null,null,null,null,null,null,null,null,null,null,null,null,null,null,{"$f":"IF(UserInterface!$E$69 = 1,CHOOSE(m_identity,'SHE-Transmission PLC'!AH117, SPTL!AH117, 'NGET TO'!AH117),CHOOSE(m_identity,'SHE-Transmission PLC (Blank - )'!AH117, 'SPTL (Blank - not used)'!AH117, 'NGET TO (Blank - not used)'!AH117))","v":0},{"$f":"IF(UserInterface!$E$69 = 1,CHOOSE(m_identity,'SHE-Transmission PLC'!AI117, SPTL!AI117, 'NGET TO'!AI117),CHOOSE(m_identity,'SHE-Transmission PLC (Blank - )'!AI117, 'SPTL (Blank - not used)'!AI117, 'NGET TO (Blank - not used)'!AI117))","v":0},{"$f":"IF(UserInterface!$E$69 = 1,CHOOSE(m_identity,'SHE-Transmission PLC'!AJ117, SPTL!AJ117, 'NGET TO'!AJ117),CHOOSE(m_identity,'SHE-Transmission PLC (Blank - )'!AJ117, 'SPTL (Blank - not used)'!AJ117, 'NGET TO (Blank - not used)'!AJ117))","v":0},{"$f":"IF(UserInterface!$E$69 = 1,CHOOSE(m_identity,'SHE-Transmission PLC'!AK117, SPTL!AK117, 'NGET TO'!AK117),CHOOSE(m_identity,'SHE-Transmission PLC (Blank - )'!AK117, 'SPTL (Blank - not used)'!AK117, 'NGET TO (Blank - not used)'!AK117))","v":0},{"$f":"IF(UserInterface!$E$69 = 1,CHOOSE(m_identity,'SHE-Transmission PLC'!AL117, SPTL!AL117, 'NGET TO'!AL117),CHOOSE(m_identity,'SHE-Transmission PLC (Blank - )'!AL117, 'SPTL (Blank - not used)'!AL117, 'NGET TO (Blank - not used)'!AL117))","v":0},{"$f":"IF(UserInterface!$E$69 = 1,CHOOSE(m_identity,'SHE-Transmission PLC'!AM117, SPTL!AM117, 'NGET TO'!AM117),CHOOSE(m_identity,'SHE-Transmission PLC (Blank - )'!AM117, 'SPTL (Blank - not used)'!AM117, 'NGET TO (Blank - not used)'!AM117))","v":0},{"$f":"IF(UserInterface!$E$69 = 1,CHOOSE(m_identity,'SHE-Transmission PLC'!AN117, SPTL!AN117, 'NGET TO'!AN117),CHOOSE(m_identity,'SHE-Transmission PLC (Blank - )'!AN117, 'SPTL (Blank - not used)'!AN117, 'NGET TO (Blank - not used)'!AN117))","v":0},{"$f":"IF(UserInterface!$E$69 = 1,CHOOSE(m_identity,'SHE-Transmission PLC'!AO117, SPTL!AO117, 'NGET TO'!AO117),CHOOSE(m_identity,'SHE-Transmission PLC (Blank - )'!AO117, 'SPTL (Blank - not used)'!AO117, 'NGET TO (Blank - not used)'!AO117))","v":0}]
[null,null,null,null,"Allocation to non-operational capex",null,"%",null,null,null,null,null,null,null,null,null,null,null,null,null,null,null,null,null,null,null,null,null,null,null,null,null,null,{"$f":"IF(UserInterface!$E$69 = 1,CHOOSE(m_identity,'SHE-Transmission PLC'!AH118, SPTL!AH118, 'NGET TO'!AH118),CHOOSE(m_identity,'SHE-Transmission PLC (Blank - )'!AH118, 'SPTL (Blank - not used)'!AH118, 'NGET TO (Blank - not used)'!AH118))","v":0},{"$f":"IF(UserInterface!$E$69 = 1,CHOOSE(m_identity,'SHE-Transmission PLC'!AI118, SPTL!AI118, 'NGET TO'!AI118),CHOOSE(m_identity,'SHE-Transmission PLC (Blank - )'!AI118, 'SPTL (Blank - not used)'!AI118, 'NGET TO (Blank - not used)'!AI118))","v":0},{"$f":"IF(UserInterface!$E$69 = 1,CHOOSE(m_identity,'SHE-Transmission PLC'!AJ118, SPTL!AJ118, 'NGET TO'!AJ118),CHOOSE(m_identity,'SHE-Transmission PLC (Blank - )'!AJ118, 'SPTL (Blank - not used)'!AJ118, 'NGET TO (Blank - not used)'!AJ118))","v":0},{"$f":"IF(UserInterface!$E$69 = 1,CHOOSE(m_identity,'SHE-Transmission PLC'!AK118, SPTL!AK118, 'NGET TO'!AK118),CHOOSE(m_identity,'SHE-Transmission PLC (Blank - )'!AK118, 'SPTL (Blank - not used)'!AK118, 'NGET TO (Blank - not used)'!AK118))","v":0},{"$f":"IF(UserInterface!$E$69 = 1,CHOOSE(m_identity,'SHE-Transmission PLC'!AL118, SPTL!AL118, 'NGET TO'!AL118),CHOOSE(m_identity,'SHE-Transmission PLC (Blank - )'!AL118, 'SPTL (Blank - not used)'!AL118, 'NGET TO (Blank - not used)'!AL118))","v":0},{"$f":"IF(UserInterface!$E$69 = 1,CHOOSE(m_identity,'SHE-Transmission PLC'!AM118, SPTL!AM118, 'NGET TO'!AM118),CHOOSE(m_identity,'SHE-Transmission PLC (Blank - )'!AM118, 'SPTL (Blank - not used)'!AM118, 'NGET TO (Blank - not used)'!AM118))","v":0},{"$f":"IF(UserInterface!$E$69 = 1,CHOOSE(m_identity,'SHE-Transmission PLC'!AN118, SPTL!AN118, 'NGET TO'!AN118),CHOOSE(m_identity,'SHE-Transmission PLC (Blank - )'!AN118, 'SPTL (Blank - not used)'!AN118, 'NGET TO (Blank - not used)'!AN118))","v":0},{"$f":"IF(UserInterface!$E$69 = 1,CHOOSE(m_identity,'SHE-Transmission PLC'!AO118, SPTL!AO118, 'NGET TO'!AO118),CHOOSE(m_identity,'SHE-Transmission PLC (Blank - )'!AO118, 'SPTL (Blank - not used)'!AO118, 'NGET TO (Blank - not used)'!AO118))","v":0}]
[]
[null,null,null,null,{"$f":"E18","v":"Baseline and strategic wider works outputs"},null,"£m 09/10 prices",null,null,null,null,null,null,null,null,null,null,null,null,null,null,null,null,null,null,null,null,null,null,null,null,null,null,{"$f":"AH18","v":161.69999999999999},{"$f":"AI18","v":230.4},208.9,20.100000000000001,0,0,0,0]
[null,null,null,null,"Allocation to load related capex expenditure",null,"%",null,null,null,null,null,null,null,null,null,null,null,null,null,null,null,null,null,null,null,null,null,null,null,null,null,null,{"$f":"IF(UserInterface!$E$69 = 1,CHOOSE(m_identity,'SHE-Transmission PLC'!AH121, SPTL!AH121, 'NGET TO'!AH121),CHOOSE(m_identity,'SHE-Transmission PLC (Blank - )'!AH121, 'SPTL (Blank - not used)'!AH121, 'NGET TO (Blank - not used)'!AH121))","v":1},{"$f":"IF(UserInterface!$E$69 = 1,CHOOSE(m_identity,'SHE-Transmission PLC'!AI121, SPTL!AI121, 'NGET TO'!AI121),CHOOSE(m_identity,'SHE-Transmission PLC (Blank - )'!AI121, 'SPTL (Blank - not used)'!AI121, 'NGET TO (Blank - not used)'!AI121))","v":1},{"$f":"IF(UserInterface!$E$69 = 1,CHOOSE(m_identity,'SHE-Transmission PLC'!AJ121, SPTL!AJ121, 'NGET TO'!AJ121),CHOOSE(m_identity,'SHE-Transmission PLC (Blank - )'!AJ121, 'SPTL (Blank - not used)'!AJ121, 'NGET TO (Blank - not used)'!AJ121))","v":1},{"$f":"IF(UserInterface!$E$69 = 1,CHOOSE(m_identity,'SHE-Transmission PLC'!AK121, SPTL!AK121, 'NGET TO'!AK121),CHOOSE(m_identity,'SHE-Transmission PLC (Blank - )'!AK121, 'SPTL (Blank - not used)'!AK121, 'NGET TO (Blank - not used)'!AK121))","v":1},{"$f":"IF(UserInterface!$E$69 = 1,CHOOSE(m_identity,'SHE-Transmission PLC'!AL121, SPTL!AL121, 'NGET TO'!AL121),CHOOSE(m_identity,'SHE-Transmission PLC (Blank - )'!AL121, 'SPTL (Blank - not used)'!AL121, 'NGET TO (Blank - not used)'!AL121))","v":1},{"$f":"IF(UserInterface!$E$69 = 1,CHOOSE(m_identity,'SHE-Transmission PLC'!AM121, SPTL!AM121, 'NGET TO'!AM121),CHOOSE(m_identity,'SHE-Transmission PLC (Blank - )'!AM121, 'SPTL (Blank - not used)'!AM121, 'NGET TO (Blank - not used)'!AM121))","v":1},{"$f":"IF(UserInterface!$E$69 = 1,CHOOSE(m_identity,'SHE-Transmission PLC'!AN121, SPTL!AN121, 'NGET TO'!AN121),CHOOSE(m_identity,'SHE-Transmission PLC (Blank - )'!AN121, 'SPTL (Blank - not used)'!AN121, 'NGET TO (Blank - not used)'!AN121))","v":1},{"$f":"IF(UserInterface!$E$69 = 1,CHOOSE(m_identity,'SHE-Transmission PLC'!AO121, SPTL!AO121, 'NGET TO'!AO121),CHOOSE(m_identity,'SHE-Transmission PLC (Blank - )'!AO121, 'SPTL (Blank - not used)'!AO121, 'NGET TO (Blank - not used)'!AO121))","v":1}]
[null,null,null,null,"Allocation to asset replacement capex expenditure",null,"%",null,null,null,null,null,null,null,null,null,null,null,null,null,null,null,null,null,null,null,null,null,null,null,null,null,null,{"$f":"IF(UserInterface!$E$69 = 1,CHOOSE(m_identity,'SHE-Transmission PLC'!AH122, SPTL!AH122, 'NGET TO'!AH122),CHOOSE(m_identity,'SHE-Transmission PLC (Blank - )'!AH122, 'SPTL (Blank - not used)'!AH122, 'NGET TO (Blank - not used)'!AH122))","v":0},{"$f":"IF(UserInterface!$E$69 = 1,CHOOSE(m_identity,'SHE-Transmission PLC'!AI122, SPTL!AI122, 'NGET TO'!AI122),CHOOSE(m_identity,'SHE-Transmission PLC (Blank - )'!AI122, 'SPTL (Blank - not used)'!AI122, 'NGET TO (Blank - not used)'!AI122))","v":0},{"$f":"IF(UserInterface!$E$69 = 1,CHOOSE(m_identity,'SHE-Transmission PLC'!AJ122, SPTL!AJ122, 'NGET TO'!AJ122),CHOOSE(m_identity,'SHE-Transmission PLC (Blank - )'!AJ122, 'SPTL (Blank - not used)'!AJ122, 'NGET TO (Blank - not used)'!AJ122))","v":0},{"$f":"IF(UserInterface!$E$69 = 1,CHOOSE(m_identity,'SHE-Transmission PLC'!AK122, SPTL!AK122, 'NGET TO'!AK122),CHOOSE(m_identity,'SHE-Transmission PLC (Blank - )'!AK122, 'SPTL (Blank - not used)'!AK122, 'NGET TO (Blank - not used)'!AK122))","v":0},{"$f":"IF(UserInterface!$E$69 = 1,CHOOSE(m_identity,'SHE-Transmission PLC'!AL122, SPTL!AL122, 'NGET TO'!AL122),CHOOSE(m_identity,'SHE-Transmission PLC (Blank - )'!AL122, 'SPTL (Blank - not used)'!AL122, 'NGET TO (Blank - not used)'!AL122))","v":0},{"$f":"IF(UserInterface!$E$69 = 1,CHOOSE(m_identity,'SHE-Transmission PLC'!AM122, SPTL!AM122, 'NGET TO'!AM122),CHOOSE(m_identity,'SHE-Transmission PLC (Blank - )'!AM122, 'SPTL (Blank - not used)'!AM122, 'NGET TO (Blank - not used)'!AM122))","v":0},{"$f":"IF(UserInterface!$E$69 = 1,CHOOSE(m_identity,'SHE-Transmission PLC'!AN122, SPTL!AN122, 'NGET TO'!AN122),CHOOSE(m_identity,'SHE-Transmission PLC (Blank - )'!AN122, 'SPTL (Blank - not used)'!AN122, 'NGET TO (Blank - not used)'!AN122))","v":0},{"$f":"IF(UserInterface!$E$69 = 1,CHOOSE(m_identity,'SHE-Transmission PLC'!AO122, SPTL!AO122, 'NGET TO'!AO122),CHOOSE(m_identity,'SHE-Transmission PLC (Blank - )'!AO122, 'SPTL (Blank - not used)'!AO122, 'NGET TO (Blank - not used)'!AO122))","v":0}]
[null,null,null,null,"Allocation to other capex expenditure",null,"%",null,null,null,null,null,null,null,null,null,null,null,null,null,null,null,null,null,null,null,null,null,null,null,null,null,null,{"$f":"IF(UserInterface!$E$69 = 1,CHOOSE(m_identity,'SHE-Transmission PLC'!AH123, SPTL!AH123, 'NGET TO'!AH123),CHOOSE(m_identity,'SHE-Transmission PLC (Blank - )'!AH123, 'SPTL (Blank - not used)'!AH123, 'NGET TO (Blank - not used)'!AH123))","v":0},{"$f":"IF(UserInterface!$E$69 = 1,CHOOSE(m_identity,'SHE-Transmission PLC'!AI123, SPTL!AI123, 'NGET TO'!AI123),CHOOSE(m_identity,'SHE-Transmission PLC (Blank - )'!AI123, 'SPTL (Blank - not used)'!AI123, 'NGET TO (Blank - not used)'!AI123))","v":0},{"$f":"IF(UserInterface!$E$69 = 1,CHOOSE(m_identity,'SHE-Transmission PLC'!AJ123, SPTL!AJ123, 'NGET TO'!AJ123),CHOOSE(m_identity,'SHE-Transmission PLC (Blank - )'!AJ123, 'SPTL (Blank - not used)'!AJ123, 'NGET TO (Blank - not used)'!AJ123))","v":0},{"$f":"IF(UserInterface!$E$69 = 1,CHOOSE(m_identity,'SHE-Transmission PLC'!AK123, SPTL!AK123, 'NGET TO'!AK123),CHOOSE(m_identity,'SHE-Transmission PLC (Blank - )'!AK123, 'SPTL (Blank - not used)'!AK123, 'NGET TO (Blank - not used)'!AK123))","v":0},{"$f":"IF(UserInterface!$E$69 = 1,CHOOSE(m_identity,'SHE-Transmission PLC'!AL123, SPTL!AL123, 'NGET TO'!AL123),CHOOSE(m_identity,'SHE-Transmission PLC (Blank - )'!AL123, 'SPTL (Blank - not used)'!AL123, 'NGET TO (Blank - not used)'!AL123))","v":0},{"$f":"IF(UserInterface!$E$69 = 1,CHOOSE(m_identity,'SHE-Transmission PLC'!AM123, SPTL!AM123, 'NGET TO'!AM123),CHOOSE(m_identity,'SHE-Transmission PLC (Blank - )'!AM123, 'SPTL (Blank - not used)'!AM123, 'NGET TO (Blank - not used)'!AM123))","v":0},{"$f":"IF(UserInterface!$E$69 = 1,CHOOSE(m_identity,'SHE-Transmission PLC'!AN123, SPTL!AN123, 'NGET TO'!AN123),CHOOSE(m_identity,'SHE-Transmission PLC (Blank - )'!AN123, 'SPTL (Blank - not used)'!AN123, 'NGET TO (Blank - not used)'!AN123))","v":0},{"$f":"IF(UserInterface!$E$69 = 1,CHOOSE(m_identity,'SHE-Transmission PLC'!AO123, SPTL!AO123, 'NGET TO'!AO123),CHOOSE(m_identity,'SHE-Transmission PLC (Blank - )'!AO123, 'SPTL (Blank - not used)'!AO123, 'NGET TO (Blank - not used)'!AO123))","v":0}]
[null,null,null,null,"Allocation to controllable opex",null,"%",null,null,null,null,null,null,null,null,null,null,null,null,null,null,null,null,null,null,null,null,null,null,null,null,null,null,{"$f":"IF(UserInterface!$E$69 = 1,CHOOSE(m_identity,'SHE-Transmission PLC'!AH124, SPTL!AH124, 'NGET TO'!AH124),CHOOSE(m_identity,'SHE-Transmission PLC (Blank - )'!AH124, 'SPTL (Blank - not used)'!AH124, 'NGET TO (Blank - not used)'!AH124))","v":0},{"$f":"IF(UserInterface!$E$69 = 1,CHOOSE(m_identity,'SHE-Transmission PLC'!AI124, SPTL!AI124, 'NGET TO'!AI124),CHOOSE(m_identity,'SHE-Transmission PLC (Blank - )'!AI124, 'SPTL (Blank - not used)'!AI124, 'NGET TO (Blank - not used)'!AI124))","v":0},{"$f":"IF(UserInterface!$E$69 = 1,CHOOSE(m_identity,'SHE-Transmission PLC'!AJ124, SPTL!AJ124, 'NGET TO'!AJ124),CHOOSE(m_identity,'SHE-Transmission PLC (Blank - )'!AJ124, 'SPTL (Blank - not used)'!AJ124, 'NGET TO (Blank - not used)'!AJ124))","v":0},{"$f":"IF(UserInterface!$E$69 = 1,CHOOSE(m_identity,'SHE-Transmission PLC'!AK124, SPTL!AK124, 'NGET TO'!AK124),CHOOSE(m_identity,'SHE-Transmission PLC (Blank - )'!AK124, 'SPTL (Blank - not used)'!AK124, 'NGET TO (Blank - not used)'!AK124))","v":0},{"$f":"IF(UserInterface!$E$69 = 1,CHOOSE(m_identity,'SHE-Transmission PLC'!AL124, SPTL!AL124, 'NGET TO'!AL124),CHOOSE(m_identity,'SHE-Transmission PLC (Blank - )'!AL124, 'SPTL (Blank - not used)'!AL124, 'NGET TO (Blank - not used)'!AL124))","v":0},{"$f":"IF(UserInterface!$E$69 = 1,CHOOSE(m_identity,'SHE-Transmission PLC'!AM124, SPTL!AM124, 'NGET TO'!AM124),CHOOSE(m_identity,'SHE-Transmission PLC (Blank - )'!AM124, 'SPTL (Blank - not used)'!AM124, 'NGET TO (Blank - not used)'!AM124))","v":0},{"$f":"IF(UserInterface!$E$69 = 1,CHOOSE(m_identity,'SHE-Transmission PLC'!AN124, SPTL!AN124, 'NGET TO'!AN124),CHOOSE(m_identity,'SHE-Transmission PLC (Blank - )'!AN124, 'SPTL (Blank - not used)'!AN124, 'NGET TO (Blank - not used)'!AN124))","v":0},{"$f":"IF(UserInterface!$E$69 = 1,CHOOSE(m_identity,'SHE-Transmission PLC'!AO124, SPTL!AO124, 'NGET TO'!AO124),CHOOSE(m_identity,'SHE-Transmission PLC (Blank - )'!AO124, 'SPTL (Blank - not used)'!AO124, 'NGET TO (Blank - not used)'!AO124))","v":0}]
[null,null,null,null,"Allocation to non-operational capex",null,"%",null,null,null,null,null,null,null,null,null,null,null,null,null,null,null,null,null,null,null,null,null,null,null,null,null,null,{"$f":"IF(UserInterface!$E$69 = 1,CHOOSE(m_identity,'SHE-Transmission PLC'!AH125, SPTL!AH125, 'NGET TO'!AH125),CHOOSE(m_identity,'SHE-Transmission PLC (Blank - )'!AH125, 'SPTL (Blank - not used)'!AH125, 'NGET TO (Blank - not used)'!AH125))","v":0},{"$f":"IF(UserInterface!$E$69 = 1,CHOOSE(m_identity,'SHE-Transmission PLC'!AI125, SPTL!AI125, 'NGET TO'!AI125),CHOOSE(m_identity,'SHE-Transmission PLC (Blank - )'!AI125, 'SPTL (Blank - not used)'!AI125, 'NGET TO (Blank - not used)'!AI125))","v":0},{"$f":"IF(UserInterface!$E$69 = 1,CHOOSE(m_identity,'SHE-Transmission PLC'!AJ125, SPTL!AJ125, 'NGET TO'!AJ125),CHOOSE(m_identity,'SHE-Transmission PLC (Blank - )'!AJ125, 'SPTL (Blank - not used)'!AJ125, 'NGET TO (Blank - not used)'!AJ125))","v":0},{"$f":"IF(UserInterface!$E$69 = 1,CHOOSE(m_identity,'SHE-Transmission PLC'!AK125, SPTL!AK125, 'NGET TO'!AK125),CHOOSE(m_identity,'SHE-Transmission PLC (Blank - )'!AK125, 'SPTL (Blank - not used)'!AK125, 'NGET TO (Blank - not used)'!AK125))","v":0},{"$f":"IF(UserInterface!$E$69 = 1,CHOOSE(m_identity,'SHE-Transmission PLC'!AL125, SPTL!AL125, 'NGET TO'!AL125),CHOOSE(m_identity,'SHE-Transmission PLC (Blank - )'!AL125, 'SPTL (Blank - not used)'!AL125, 'NGET TO (Blank - not used)'!AL125))","v":0},{"$f":"IF(UserInterface!$E$69 = 1,CHOOSE(m_identity,'SHE-Transmission PLC'!AM125, SPTL!AM125, 'NGET TO'!AM125),CHOOSE(m_identity,'SHE-Transmission PLC (Blank - )'!AM125, 'SPTL (Blank - not used)'!AM125, 'NGET TO (Blank - not used)'!AM125))","v":0},{"$f":"IF(UserInterface!$E$69 = 1,CHOOSE(m_identity,'SHE-Transmission PLC'!AN125, SPTL!AN125, 'NGET TO'!AN125),CHOOSE(m_identity,'SHE-Transmission PLC (Blank - )'!AN125, 'SPTL (Blank - not used)'!AN125, 'NGET TO (Blank - not used)'!AN125))","v":0},{"$f":"IF(UserInterface!$E$69 = 1,CHOOSE(m_identity,'SHE-Transmission PLC'!AO125, SPTL!AO125, 'NGET TO'!AO125),CHOOSE(m_identity,'SHE-Transmission PLC (Blank - )'!AO125, 'SPTL (Blank - not used)'!AO125, 'NGET TO (Blank - not used)'!AO125))","v":0}]
[]
[null,null,null,null,{"$f":"E19","v":"Network development and wider works volume driver (NGET only)"},null,"£m 09/10 prices",null,null,null,null,null,null,null,null,null,null,null,null,null,null,null,null,null,null,null,null,null,null,null,null,null,null,{"$f":"AH19","v":397.10976000000005},303.28366650003596,264.33553004596803,283.1637443656266,133.19506189144005,70.252237682919812,27.324729352097304,8.5693141994208588]
[null,null,null,null,"Allocation to load related capex expenditure",null,"%",null,null,null,null,null,null,null,null,null,null,null,null,null,null,null,null,null,null,null,null,null,null,null,null,null,null,{"$f":"IF(UserInterface!$E$69 = 1,CHOOSE(m_identity,'SHE-Transmission PLC'!AH128, SPTL!AH128, 'NGET TO'!AH128),CHOOSE(m_identity,'SHE-Transmission PLC (Blank - )'!AH128, 'SPTL (Blank - not used)'!AH128, 'NGET TO (Blank - not used)'!AH128))","v":1},{"$f":"IF(UserInterface!$E$69 = 1,CHOOSE(m_identity,'SHE-Transmission PLC'!AI128, SPTL!AI128, 'NGET TO'!AI128),CHOOSE(m_identity,'SHE-Transmission PLC (Blank - )'!AI128, 'SPTL (Blank - not used)'!AI128, 'NGET TO (Blank - not used)'!AI128))","v":1},{"$f":"IF(UserInterface!$E$69 = 1,CHOOSE(m_identity,'SHE-Transmission PLC'!AJ128, SPTL!AJ128, 'NGET TO'!AJ128),CHOOSE(m_identity,'SHE-Transmission PLC (Blank - )'!AJ128, 'SPTL (Blank - not used)'!AJ128, 'NGET TO (Blank - not used)'!AJ128))","v":1},{"$f":"IF(UserInterface!$E$69 = 1,CHOOSE(m_identity,'SHE-Transmission PLC'!AK128, SPTL!AK128, 'NGET TO'!AK128),CHOOSE(m_identity,'SHE-Transmission PLC (Blank - )'!AK128, 'SPTL (Blank - not used)'!AK128, 'NGET TO (Blank - not used)'!AK128))","v":1},{"$f":"IF(UserInterface!$E$69 = 1,CHOOSE(m_identity,'SHE-Transmission PLC'!AL128, SPTL!AL128, 'NGET TO'!AL128),CHOOSE(m_identity,'SHE-Transmission PLC (Blank - )'!AL128, 'SPTL (Blank - not used)'!AL128, 'NGET TO (Blank - not used)'!AL128))","v":1},{"$f":"IF(UserInterface!$E$69 = 1,CHOOSE(m_identity,'SHE-Transmission PLC'!AM128, SPTL!AM128, 'NGET TO'!AM128),CHOOSE(m_identity,'SHE-Transmission PLC (Blank - )'!AM128, 'SPTL (Blank - not used)'!AM128, 'NGET TO (Blank - not used)'!AM128))","v":1},{"$f":"IF(UserInterface!$E$69 = 1,CHOOSE(m_identity,'SHE-Transmission PLC'!AN128, SPTL!AN128, 'NGET TO'!AN128),CHOOSE(m_identity,'SHE-Transmission PLC (Blank - )'!AN128, 'SPTL (Blank - not used)'!AN128, 'NGET TO (Blank - not used)'!AN128))","v":1},{"$f":"IF(UserInterface!$E$69 = 1,CHOOSE(m_identity,'SHE-Transmission PLC'!AO128, SPTL!AO128, 'NGET TO'!AO128),CHOOSE(m_identity,'SHE-Transmission PLC (Blank - )'!AO128, 'SPTL (Blank - not used)'!AO128, 'NGET TO (Blank - not used)'!AO128))","v":1}]
[null,null,null,null,"Allocation to asset replacement capex expenditure",null,"%",null,null,null,null,null,null,null,null,null,null,null,null,null,null,null,null,null,null,null,null,null,null,null,null,null,null,{"$f":"IF(UserInterface!$E$69 = 1,CHOOSE(m_identity,'SHE-Transmission PLC'!AH129, SPTL!AH129, 'NGET TO'!AH129),CHOOSE(m_identity,'SHE-Transmission PLC (Blank - )'!AH129, 'SPTL (Blank - not used)'!AH129, 'NGET TO (Blank - not used)'!AH129))","v":0},{"$f":"IF(UserInterface!$E$69 = 1,CHOOSE(m_identity,'SHE-Transmission PLC'!AI129, SPTL!AI129, 'NGET TO'!AI129),CHOOSE(m_identity,'SHE-Transmission PLC (Blank - )'!AI129, 'SPTL (Blank - not used)'!AI129, 'NGET TO (Blank - not used)'!AI129))","v":0},{"$f":"IF(UserInterface!$E$69 = 1,CHOOSE(m_identity,'SHE-Transmission PLC'!AJ129, SPTL!AJ129, 'NGET TO'!AJ129),CHOOSE(m_identity,'SHE-Transmission PLC (Blank - )'!AJ129, 'SPTL (Blank - not used)'!AJ129, 'NGET TO (Blank - not used)'!AJ129))","v":0},{"$f":"IF(UserInterface!$E$69 = 1,CHOOSE(m_identity,'SHE-Transmission PLC'!AK129, SPTL!AK129, 'NGET TO'!AK129),CHOOSE(m_identity,'SHE-Transmission PLC (Blank - )'!AK129, 'SPTL (Blank - not used)'!AK129, 'NGET TO (Blank - not used)'!AK129))","v":0},{"$f":"IF(UserInterface!$E$69 = 1,CHOOSE(m_identity,'SHE-Transmission PLC'!AL129, SPTL!AL129, 'NGET TO'!AL129),CHOOSE(m_identity,'SHE-Transmission PLC (Blank - )'!AL129, 'SPTL (Blank - not used)'!AL129, 'NGET TO (Blank - not used)'!AL129))","v":0},{"$f":"IF(UserInterface!$E$69 = 1,CHOOSE(m_identity,'SHE-Transmission PLC'!AM129, SPTL!AM129, 'NGET TO'!AM129),CHOOSE(m_identity,'SHE-Transmission PLC (Blank - )'!AM129, 'SPTL (Blank - not used)'!AM129, 'NGET TO (Blank - not used)'!AM129))","v":0},{"$f":"IF(UserInterface!$E$69 = 1,CHOOSE(m_identity,'SHE-Transmission PLC'!AN129, SPTL!AN129, 'NGET TO'!AN129),CHOOSE(m_identity,'SHE-Transmission PLC (Blank - )'!AN129, 'SPTL (Blank - not used)'!AN129, 'NGET TO (Blank - not used)'!AN129))","v":0},{"$f":"IF(UserInterface!$E$69 = 1,CHOOSE(m_identity,'SHE-Transmission PLC'!AO129, SPTL!AO129, 'NGET TO'!AO129),CHOOSE(m_identity,'SHE-Transmission PLC (Blank - )'!AO129, 'SPTL (Blank - not used)'!AO129, 'NGET TO (Blank - not used)'!AO129))","v":0}]
[null,null,null,null,"Allocation to other capex expenditure",null,"%",null,null,null,null,null,null,null,null,null,null,null,null,null,null,null,null,null,null,null,null,null,null,null,null,null,null,{"$f":"IF(UserInterface!$E$69 = 1,CHOOSE(m_identity,'SHE-Transmission PLC'!AH130, SPTL!AH130, 'NGET TO'!AH130),CHOOSE(m_identity,'SHE-Transmission PLC (Blank - )'!AH130, 'SPTL (Blank - not used)'!AH130, 'NGET TO (Blank - not used)'!AH130))","v":0},{"$f":"IF(UserInterface!$E$69 = 1,CHOOSE(m_identity,'SHE-Transmission PLC'!AI130, SPTL!AI130, 'NGET TO'!AI130),CHOOSE(m_identity,'SHE-Transmission PLC (Blank - )'!AI130, 'SPTL (Blank - not used)'!AI130, 'NGET TO (Blank - not used)'!AI130))","v":0},{"$f":"IF(UserInterface!$E$69 = 1,CHOOSE(m_identity,'SHE-Transmission PLC'!AJ130, SPTL!AJ130, 'NGET TO'!AJ130),CHOOSE(m_identity,'SHE-Transmission PLC (Blank - )'!AJ130, 'SPTL (Blank - not used)'!AJ130, 'NGET TO (Blank - not used)'!AJ130))","v":0},{"$f":"IF(UserInterface!$E$69 = 1,CHOOSE(m_identity,'SHE-Transmission PLC'!AK130, SPTL!AK130, 'NGET TO'!AK130),CHOOSE(m_identity,'SHE-Transmission PLC (Blank - )'!AK130, 'SPTL (Blank - not used)'!AK130, 'NGET TO (Blank - not used)'!AK130))","v":0},{"$f":"IF(UserInterface!$E$69 = 1,CHOOSE(m_identity,'SHE-Transmission PLC'!AL130, SPTL!AL130, 'NGET TO'!AL130),CHOOSE(m_identity,'SHE-Transmission PLC (Blank - )'!AL130, 'SPTL (Blank - not used)'!AL130, 'NGET TO (Blank - not used)'!AL130))","v":0},{"$f":"IF(UserInterface!$E$69 = 1,CHOOSE(m_identity,'SHE-Transmission PLC'!AM130, SPTL!AM130, 'NGET TO'!AM130),CHOOSE(m_identity,'SHE-Transmission PLC (Blank - )'!AM130, 'SPTL (Blank - not used)'!AM130, 'NGET TO (Blank - not used)'!AM130))","v":0},{"$f":"IF(UserInterface!$E$69 = 1,CHOOSE(m_identity,'SHE-Transmission PLC'!AN130, SPTL!AN130, 'NGET TO'!AN130),CHOOSE(m_identity,'SHE-Transmission PLC (Blank - )'!AN130, 'SPTL (Blank - not used)'!AN130, 'NGET TO (Blank - not used)'!AN130))","v":0},{"$f":"IF(UserInterface!$E$69 = 1,CHOOSE(m_identity,'SHE-Transmission PLC'!AO130, SPTL!AO130, 'NGET TO'!AO130),CHOOSE(m_identity,'SHE-Transmission PLC (Blank - )'!AO130, 'SPTL (Blank - not used)'!AO130, 'NGET TO (Blank - not used)'!AO130))","v":0}]
[null,null,null,null,"Allocation to controllable opex",null,"%",null,null,null,null,null,null,null,null,null,null,null,null,null,null,null,null,null,null,null,null,null,null,null,null,null,null,{"$f":"IF(UserInterface!$E$69 = 1,CHOOSE(m_identity,'SHE-Transmission PLC'!AH131, SPTL!AH131, 'NGET TO'!AH131),CHOOSE(m_identity,'SHE-Transmission PLC (Blank - )'!AH131, 'SPTL (Blank - not used)'!AH131, 'NGET TO (Blank - not used)'!AH131))","v":0},{"$f":"IF(UserInterface!$E$69 = 1,CHOOSE(m_identity,'SHE-Transmission PLC'!AI131, SPTL!AI131, 'NGET TO'!AI131),CHOOSE(m_identity,'SHE-Transmission PLC (Blank - )'!AI131, 'SPTL (Blank - not used)'!AI131, 'NGET TO (Blank - not used)'!AI131))","v":0},{"$f":"IF(UserInterface!$E$69 = 1,CHOOSE(m_identity,'SHE-Transmission PLC'!AJ131, SPTL!AJ131, 'NGET TO'!AJ131),CHOOSE(m_identity,'SHE-Transmission PLC (Blank - )'!AJ131, 'SPTL (Blank - not used)'!AJ131, 'NGET TO (Blank - not used)'!AJ131))","v":0},{"$f":"IF(UserInterface!$E$69 = 1,CHOOSE(m_identity,'SHE-Transmission PLC'!AK131, SPTL!AK131, 'NGET TO'!AK131),CHOOSE(m_identity,'SHE-Transmission PLC (Blank - )'!AK131, 'SPTL (Blank - not used)'!AK131, 'NGET TO (Blank - not used)'!AK131))","v":0},{"$f":"IF(UserInterface!$E$69 = 1,CHOOSE(m_identity,'SHE-Transmission PLC'!AL131, SPTL!AL131, 'NGET TO'!AL131),CHOOSE(m_identity,'SHE-Transmission PLC (Blank - )'!AL131, 'SPTL (Blank - not used)'!AL131, 'NGET TO (Blank - not used)'!AL131))","v":0},{"$f":"IF(UserInterface!$E$69 = 1,CHOOSE(m_identity,'SHE-Transmission PLC'!AM131, SPTL!AM131, 'NGET TO'!AM131),CHOOSE(m_identity,'SHE-Transmission PLC (Blank - )'!AM131, 'SPTL (Blank - not used)'!AM131, 'NGET TO (Blank - not used)'!AM131))","v":0},{"$f":"IF(UserInterface!$E$69 = 1,CHOOSE(m_identity,'SHE-Transmission PLC'!AN131, SPTL!AN131, 'NGET TO'!AN131),CHOOSE(m_identity,'SHE-Transmission PLC (Blank - )'!AN131, 'SPTL (Blank - not used)'!AN131, 'NGET TO (Blank - not used)'!AN131))","v":0},{"$f":"IF(UserInterface!$E$69 = 1,CHOOSE(m_identity,'SHE-Transmission PLC'!AO131, SPTL!AO131, 'NGET TO'!AO131),CHOOSE(m_identity,'SHE-Transmission PLC (Blank - )'!AO131, 'SPTL (Blank - not used)'!AO131, 'NGET TO (Blank - not used)'!AO131))","v":0}]
[null,null,null,null,"Allocation to non-operational capex",null,"%",null,null,null,null,null,null,null,null,null,null,null,null,null,null,null,null,null,null,null,null,null,null,null,null,null,null,{"$f":"IF(UserInterface!$E$69 = 1,CHOOSE(m_identity,'SHE-Transmission PLC'!AH132, SPTL!AH132, 'NGET TO'!AH132),CHOOSE(m_identity,'SHE-Transmission PLC (Blank - )'!AH132, 'SPTL (Blank - not used)'!AH132, 'NGET TO (Blank - not used)'!AH132))","v":0},{"$f":"IF(UserInterface!$E$69 = 1,CHOOSE(m_identity,'SHE-Transmission PLC'!AI132, SPTL!AI132, 'NGET TO'!AI132),CHOOSE(m_identity,'SHE-Transmission PLC (Blank - )'!AI132, 'SPTL (Blank - not used)'!AI132, 'NGET TO (Blank - not used)'!AI132))","v":0},{"$f":"IF(UserInterface!$E$69 = 1,CHOOSE(m_identity,'SHE-Transmission PLC'!AJ132, SPTL!AJ132, 'NGET TO'!AJ132),CHOOSE(m_identity,'SHE-Transmission PLC (Blank - )'!AJ132, 'SPTL (Blank - not used)'!AJ132, 'NGET TO (Blank - not used)'!AJ132))","v":0},{"$f":"IF(UserInterface!$E$69 = 1,CHOOSE(m_identity,'SHE-Transmission PLC'!AK132, SPTL!AK132, 'NGET TO'!AK132),CHOOSE(m_identity,'SHE-Transmission PLC (Blank - )'!AK132, 'SPTL (Blank - not used)'!AK132, 'NGET TO (Blank - not used)'!AK132))","v":0},{"$f":"IF(UserInterface!$E$69 = 1,CHOOSE(m_identity,'SHE-Transmission PLC'!AL132, SPTL!AL132, 'NGET TO'!AL132),CHOOSE(m_identity,'SHE-Transmission PLC (Blank - )'!AL132, 'SPTL (Blank - not used)'!AL132, 'NGET TO (Blank - not used)'!AL132))","v":0},{"$f":"IF(UserInterface!$E$69 = 1,CHOOSE(m_identity,'SHE-Transmission PLC'!AM132, SPTL!AM132, 'NGET TO'!AM132),CHOOSE(m_identity,'SHE-Transmission PLC (Blank - )'!AM132, 'SPTL (Blank - not used)'!AM132, 'NGET TO (Blank - not used)'!AM132))","v":0},{"$f":"IF(UserInterface!$E$69 = 1,CHOOSE(m_identity,'SHE-Transmission PLC'!AN132, SPTL!AN132, 'NGET TO'!AN132),CHOOSE(m_identity,'SHE-Transmission PLC (Blank - )'!AN132, 'SPTL (Blank - not used)'!AN132, 'NGET TO (Blank - not used)'!AN132))","v":0},{"$f":"IF(UserInterface!$E$69 = 1,CHOOSE(m_identity,'SHE-Transmission PLC'!AO132, SPTL!AO132, 'NGET TO'!AO132),CHOOSE(m_identity,'SHE-Transmission PLC (Blank - )'!AO132, 'SPTL (Blank - not used)'!AO132, 'NGET TO (Blank - not used)'!AO132))","v":0}]
[]
[null,null,null,null,{"$f":"E20","v":"Enhancements to pre-existing infrastructure"},null,"£m 09/10 prices",null,null,null,null,null,null,null,null,null,null,null,null,null,null,null,null,null,null,null,null,null,null,null,null,null,null,{"$f":"AH20","v":0},0,0,0,0,0,0,0]
[null,null,null,null,"Allocation to load related capex expenditure",null,"%",null,null,null,null,null,null,null,null,null,null,null,null,null,null,null,null,null,null,null,null,null,null,null,null,null,null,{"$f":"IF(UserInterface!$E$69 = 1,CHOOSE(m_identity,'SHE-Transmission PLC'!AH135, SPTL!AH135, 'NGET TO'!AH135),CHOOSE(m_identity,'SHE-Transmission PLC (Blank - )'!AH135, 'SPTL (Blank - not used)'!AH135, 'NGET TO (Blank - not used)'!AH135))","v":0},{"$f":"IF(UserInterface!$E$69 = 1,CHOOSE(m_identity,'SHE-Transmission PLC'!AI135, SPTL!AI135, 'NGET TO'!AI135),CHOOSE(m_identity,'SHE-Transmission PLC (Blank - )'!AI135, 'SPTL (Blank - not used)'!AI135, 'NGET TO (Blank - not used)'!AI135))","v":0},{"$f":"IF(UserInterface!$E$69 = 1,CHOOSE(m_identity,'SHE-Transmission PLC'!AJ135, SPTL!AJ135, 'NGET TO'!AJ135),CHOOSE(m_identity,'SHE-Transmission PLC (Blank - )'!AJ135, 'SPTL (Blank - not used)'!AJ135, 'NGET TO (Blank - not used)'!AJ135))","v":0},{"$f":"IF(UserInterface!$E$69 = 1,CHOOSE(m_identity,'SHE-Transmission PLC'!AK135, SPTL!AK135, 'NGET TO'!AK135),CHOOSE(m_identity,'SHE-Transmission PLC (Blank - )'!AK135, 'SPTL (Blank - not used)'!AK135, 'NGET TO (Blank - not used)'!AK135))","v":0},{"$f":"IF(UserInterface!$E$69 = 1,CHOOSE(m_identity,'SHE-Transmission PLC'!AL135, SPTL!AL135, 'NGET TO'!AL135),CHOOSE(m_identity,'SHE-Transmission PLC (Blank - )'!AL135, 'SPTL (Blank - not used)'!AL135, 'NGET TO (Blank - not used)'!AL135))","v":0},{"$f":"IF(UserInterface!$E$69 = 1,CHOOSE(m_identity,'SHE-Transmission PLC'!AM135, SPTL!AM135, 'NGET TO'!AM135),CHOOSE(m_identity,'SHE-Transmission PLC (Blank - )'!AM135, 'SPTL (Blank - not used)'!AM135, 'NGET TO (Blank - not used)'!AM135))","v":0},{"$f":"IF(UserInterface!$E$69 = 1,CHOOSE(m_identity,'SHE-Transmission PLC'!AN135, SPTL!AN135, 'NGET TO'!AN135),CHOOSE(m_identity,'SHE-Transmission PLC (Blank - )'!AN135, 'SPTL (Blank - not used)'!AN135, 'NGET TO (Blank - not used)'!AN135))","v":0},{"$f":"IF(UserInterface!$E$69 = 1,CHOOSE(m_identity,'SHE-Transmission PLC'!AO135, SPTL!AO135, 'NGET TO'!AO135),CHOOSE(m_identity,'SHE-Transmission PLC (Blank - )'!AO135, 'SPTL (Blank - not used)'!AO135, 'NGET TO (Blank - not used)'!AO135))","v":0}]
[null,null,null,null,"Allocation to asset replacement capex expenditure",null,"%",null,null,null,null,null,null,null,null,null,null,null,null,null,null,null,null,null,null,null,null,null,null,null,null,null,null,{"$f":"IF(UserInterface!$E$69 = 1,CHOOSE(m_identity,'SHE-Transmission PLC'!AH136, SPTL!AH136, 'NGET TO'!AH136),CHOOSE(m_identity,'SHE-Transmission PLC (Blank - )'!AH136, 'SPTL (Blank - not used)'!AH136, 'NGET TO (Blank - not used)'!AH136))","v":0},{"$f":"IF(UserInterface!$E$69 = 1,CHOOSE(m_identity,'SHE-Transmission PLC'!AI136, SPTL!AI136, 'NGET TO'!AI136),CHOOSE(m_identity,'SHE-Transmission PLC (Blank - )'!AI136, 'SPTL (Blank - not used)'!AI136, 'NGET TO (Blank - not used)'!AI136))","v":0},{"$f":"IF(UserInterface!$E$69 = 1,CHOOSE(m_identity,'SHE-Transmission PLC'!AJ136, SPTL!AJ136, 'NGET TO'!AJ136),CHOOSE(m_identity,'SHE-Transmission PLC (Blank - )'!AJ136, 'SPTL (Blank - not used)'!AJ136, 'NGET TO (Blank - not used)'!AJ136))","v":0},{"$f":"IF(UserInterface!$E$69 = 1,CHOOSE(m_identity,'SHE-Transmission PLC'!AK136, SPTL!AK136, 'NGET TO'!AK136),CHOOSE(m_identity,'SHE-Transmission PLC (Blank - )'!AK136, 'SPTL (Blank - not used)'!AK136, 'NGET TO (Blank - not used)'!AK136))","v":0},{"$f":"IF(UserInterface!$E$69 = 1,CHOOSE(m_identity,'SHE-Transmission PLC'!AL136, SPTL!AL136, 'NGET TO'!AL136),CHOOSE(m_identity,'SHE-Transmission PLC (Blank - )'!AL136, 'SPTL (Blank - not used)'!AL136, 'NGET TO (Blank - not used)'!AL136))","v":0},{"$f":"IF(UserInterface!$E$69 = 1,CHOOSE(m_identity,'SHE-Transmission PLC'!AM136, SPTL!AM136, 'NGET TO'!AM136),CHOOSE(m_identity,'SHE-Transmission PLC (Blank - )'!AM136, 'SPTL (Blank - not used)'!AM136, 'NGET TO (Blank - not used)'!AM136))","v":0},{"$f":"IF(UserInterface!$E$69 = 1,CHOOSE(m_identity,'SHE-Transmission PLC'!AN136, SPTL!AN136, 'NGET TO'!AN136),CHOOSE(m_identity,'SHE-Transmission PLC (Blank - )'!AN136, 'SPTL (Blank - not used)'!AN136, 'NGET TO (Blank - not used)'!AN136))","v":0},{"$f":"IF(UserInterface!$E$69 = 1,CHOOSE(m_identity,'SHE-Transmission PLC'!AO136, SPTL!AO136, 'NGET TO'!AO136),CHOOSE(m_identity,'SHE-Transmission PLC (Blank - )'!AO136, 'SPTL (Blank - not used)'!AO136, 'NGET TO (Blank - not used)'!AO136))","v":0}]
[null,null,null,null,"Allocation to other capex expenditure",null,"%",null,null,null,null,null,null,null,null,null,null,null,null,null,null,null,null,null,null,null,null,null,null,null,null,null,null,{"$f":"IF(UserInterface!$E$69 = 1,CHOOSE(m_identity,'SHE-Transmission PLC'!AH137, SPTL!AH137, 'NGET TO'!AH137),CHOOSE(m_identity,'SHE-Transmission PLC (Blank - )'!AH137, 'SPTL (Blank - not used)'!AH137, 'NGET TO (Blank - not used)'!AH137))","v":1},{"$f":"IF(UserInterface!$E$69 = 1,CHOOSE(m_identity,'SHE-Transmission PLC'!AI137, SPTL!AI137, 'NGET TO'!AI137),CHOOSE(m_identity,'SHE-Transmission PLC (Blank - )'!AI137, 'SPTL (Blank - not used)'!AI137, 'NGET TO (Blank - not used)'!AI137))","v":1},{"$f":"IF(UserInterface!$E$69 = 1,CHOOSE(m_identity,'SHE-Transmission PLC'!AJ137, SPTL!AJ137, 'NGET TO'!AJ137),CHOOSE(m_identity,'SHE-Transmission PLC (Blank - )'!AJ137, 'SPTL (Blank - not used)'!AJ137, 'NGET TO (Blank - not used)'!AJ137))","v":1},{"$f":"IF(UserInterface!$E$69 = 1,CHOOSE(m_identity,'SHE-Transmission PLC'!AK137, SPTL!AK137, 'NGET TO'!AK137),CHOOSE(m_identity,'SHE-Transmission PLC (Blank - )'!AK137, 'SPTL (Blank - not used)'!AK137, 'NGET TO (Blank - not used)'!AK137))","v":1},{"$f":"IF(UserInterface!$E$69 = 1,CHOOSE(m_identity,'SHE-Transmission PLC'!AL137, SPTL!AL137, 'NGET TO'!AL137),CHOOSE(m_identity,'SHE-Transmission PLC (Blank - )'!AL137, 'SPTL (Blank - not used)'!AL137, 'NGET TO (Blank - not used)'!AL137))","v":1},{"$f":"IF(UserInterface!$E$69 = 1,CHOOSE(m_identity,'SHE-Transmission PLC'!AM137, SPTL!AM137, 'NGET TO'!AM137),CHOOSE(m_identity,'SHE-Transmission PLC (Blank - )'!AM137, 'SPTL (Blank - not used)'!AM137, 'NGET TO (Blank - not used)'!AM137))","v":1},{"$f":"IF(UserInterface!$E$69 = 1,CHOOSE(m_identity,'SHE-Transmission PLC'!AN137, SPTL!AN137, 'NGET TO'!AN137),CHOOSE(m_identity,'SHE-Transmission PLC (Blank - )'!AN137, 'SPTL (Blank - not used)'!AN137, 'NGET TO (Blank - not used)'!AN137))","v":1},{"$f":"IF(UserInterface!$E$69 = 1,CHOOSE(m_identity,'SHE-Transmission PLC'!AO137, SPTL!AO137, 'NGET TO'!AO137),CHOOSE(m_identity,'SHE-Transmission PLC (Blank - )'!AO137, 'SPTL (Blank - not used)'!AO137, 'NGET TO (Blank - not used)'!AO137))","v":1}]
[null,null,null,null,"Allocation to controllable opex",null,"%",null,null,null,null,null,null,null,null,null,null,null,null,null,null,null,null,null,null,null,null,null,null,null,null,null,null,{"$f":"IF(UserInterface!$E$69 = 1,CHOOSE(m_identity,'SHE-Transmission PLC'!AH138, SPTL!AH138, 'NGET TO'!AH138),CHOOSE(m_identity,'SHE-Transmission PLC (Blank - )'!AH138, 'SPTL (Blank - not used)'!AH138, 'NGET TO (Blank - not used)'!AH138))","v":0},{"$f":"IF(UserInterface!$E$69 = 1,CHOOSE(m_identity,'SHE-Transmission PLC'!AI138, SPTL!AI138, 'NGET TO'!AI138),CHOOSE(m_identity,'SHE-Transmission PLC (Blank - )'!AI138, 'SPTL (Blank - not used)'!AI138, 'NGET TO (Blank - not used)'!AI138))","v":0},{"$f":"IF(UserInterface!$E$69 = 1,CHOOSE(m_identity,'SHE-Transmission PLC'!AJ138, SPTL!AJ138, 'NGET TO'!AJ138),CHOOSE(m_identity,'SHE-Transmission PLC (Blank - )'!AJ138, 'SPTL (Blank - not used)'!AJ138, 'NGET TO (Blank - not used)'!AJ138))","v":0},{"$f":"IF(UserInterface!$E$69 = 1,CHOOSE(m_identity,'SHE-Transmission PLC'!AK138, SPTL!AK138, 'NGET TO'!AK138),CHOOSE(m_identity,'SHE-Transmission PLC (Blank - )'!AK138, 'SPTL (Blank - not used)'!AK138, 'NGET TO (Blank - not used)'!AK138))","v":0},{"$f":"IF(UserInterface!$E$69 = 1,CHOOSE(m_identity,'SHE-Transmission PLC'!AL138, SPTL!AL138, 'NGET TO'!AL138),CHOOSE(m_identity,'SHE-Transmission PLC (Blank - )'!AL138, 'SPTL (Blank - not used)'!AL138, 'NGET TO (Blank - not used)'!AL138))","v":0},{"$f":"IF(UserInterface!$E$69 = 1,CHOOSE(m_identity,'SHE-Transmission PLC'!AM138, SPTL!AM138, 'NGET TO'!AM138),CHOOSE(m_identity,'SHE-Transmission PLC (Blank - )'!AM138, 'SPTL (Blank - not used)'!AM138, 'NGET TO (Blank - not used)'!AM138))","v":0},{"$f":"IF(UserInterface!$E$69 = 1,CHOOSE(m_identity,'SHE-Transmission PLC'!AN138, SPTL!AN138, 'NGET TO'!AN138),CHOOSE(m_identity,'SHE-Transmission PLC (Blank - )'!AN138, 'SPTL (Blank - not used)'!AN138, 'NGET TO (Blank - not used)'!AN138))","v":0},{"$f":"IF(UserInterface!$E$69 = 1,CHOOSE(m_identity,'SHE-Transmission PLC'!AO138, SPTL!AO138, 'NGET TO'!AO138),CHOOSE(m_identity,'SHE-Transmission PLC (Blank - )'!AO138, 'SPTL (Blank - not used)'!AO138, 'NGET TO (Blank - not used)'!AO138))","v":0}]
[null,null,null,null,"Allocation to non-operational capex",null,"%",null,null,null,null,null,null,null,null,null,null,null,null,null,null,null,null,null,null,null,null,null,null,null,null,null,null,{"$f":"IF(UserInterface!$E$69 = 1,CHOOSE(m_identity,'SHE-Transmission PLC'!AH139, SPTL!AH139, 'NGET TO'!AH139),CHOOSE(m_identity,'SHE-Transmission PLC (Blank - )'!AH139, 'SPTL (Blank - not used)'!AH139, 'NGET TO (Blank - not used)'!AH139))","v":0},{"$f":"IF(UserInterface!$E$69 = 1,CHOOSE(m_identity,'SHE-Transmission PLC'!AI139, SPTL!AI139, 'NGET TO'!AI139),CHOOSE(m_identity,'SHE-Transmission PLC (Blank - )'!AI139, 'SPTL (Blank - not used)'!AI139, 'NGET TO (Blank - not used)'!AI139))","v":0},{"$f":"IF(UserInterface!$E$69 = 1,CHOOSE(m_identity,'SHE-Transmission PLC'!AJ139, SPTL!AJ139, 'NGET TO'!AJ139),CHOOSE(m_identity,'SHE-Transmission PLC (Blank - )'!AJ139, 'SPTL (Blank - not used)'!AJ139, 'NGET TO (Blank - not used)'!AJ139))","v":0},{"$f":"IF(UserInterface!$E$69 = 1,CHOOSE(m_identity,'SHE-Transmission PLC'!AK139, SPTL!AK139, 'NGET TO'!AK139),CHOOSE(m_identity,'SHE-Transmission PLC (Blank - )'!AK139, 'SPTL (Blank - not used)'!AK139, 'NGET TO (Blank - not used)'!AK139))","v":0},{"$f":"IF(UserInterface!$E$69 = 1,CHOOSE(m_identity,'SHE-Transmission PLC'!AL139, SPTL!AL139, 'NGET TO'!AL139),CHOOSE(m_identity,'SHE-Transmission PLC (Blank - )'!AL139, 'SPTL (Blank - not used)'!AL139, 'NGET TO (Blank - not used)'!AL139))","v":0},{"$f":"IF(UserInterface!$E$69 = 1,CHOOSE(m_identity,'SHE-Transmission PLC'!AM139, SPTL!AM139, 'NGET TO'!AM139),CHOOSE(m_identity,'SHE-Transmission PLC (Blank - )'!AM139, 'SPTL (Blank - not used)'!AM139, 'NGET TO (Blank - not used)'!AM139))","v":0},{"$f":"IF(UserInterface!$E$69 = 1,CHOOSE(m_identity,'SHE-Transmission PLC'!AN139, SPTL!AN139, 'NGET TO'!AN139),CHOOSE(m_identity,'SHE-Transmission PLC (Blank - )'!AN139, 'SPTL (Blank - not used)'!AN139, 'NGET TO (Blank - not used)'!AN139))","v":0},{"$f":"IF(UserInterface!$E$69 = 1,CHOOSE(m_identity,'SHE-Transmission PLC'!AO139, SPTL!AO139, 'NGET TO'!AO139),CHOOSE(m_identity,'SHE-Transmission PLC (Blank - )'!AO139, 'SPTL (Blank - not used)'!AO139, 'NGET TO (Blank - not used)'!AO139))","v":0}]
[]
[null,null,null,null,{"$f":"E21","v":"Demand related infrastructure volume driver"},null,"£m 09/10 prices",null,null,null,null,null,null,null,null,null,null,null,null,null,null,null,null,null,null,null,null,null,null,null,null,null,null,{"$f":"AH21","v":31.787715383222817},{"$f":"AI21","v":36.187416312851781},32.387791310196604,32.828105188428069,50.58957488491852,41.373058819084775,12.47368774024774,0.9330676836534848]
[null,null,null,null,"Allocation to load related capex expenditure",null,"%",null,null,null,null,null,null,null,null,null,null,null,null,null,null,null,null,null,null,null,null,null,null,null,null,null,null,{"$f":"IF(UserInterface!$E$69 = 1,CHOOSE(m_identity,'SHE-Transmission PLC'!AH142, SPTL!AH142, 'NGET TO'!AH142),CHOOSE(m_identity,'SHE-Transmission PLC (Blank - )'!AH142, 'SPTL (Blank - not used)'!AH142, 'NGET TO (Blank - not used)'!AH142))","v":1},{"$f":"IF(UserInterface!$E$69 = 1,CHOOSE(m_identity,'SHE-Transmission PLC'!AI142, SPTL!AI142, 'NGET TO'!AI142),CHOOSE(m_identity,'SHE-Transmission PLC (Blank - )'!AI142, 'SPTL (Blank - not used)'!AI142, 'NGET TO (Blank - not used)'!AI142))","v":1},{"$f":"IF(UserInterface!$E$69 = 1,CHOOSE(m_identity,'SHE-Transmission PLC'!AJ142, SPTL!AJ142, 'NGET TO'!AJ142),CHOOSE(m_identity,'SHE-Transmission PLC (Blank - )'!AJ142, 'SPTL (Blank - not used)'!AJ142, 'NGET TO (Blank - not used)'!AJ142))","v":1},{"$f":"IF(UserInterface!$E$69 = 1,CHOOSE(m_identity,'SHE-Transmission PLC'!AK142, SPTL!AK142, 'NGET TO'!AK142),CHOOSE(m_identity,'SHE-Transmission PLC (Blank - )'!AK142, 'SPTL (Blank - not used)'!AK142, 'NGET TO (Blank - not used)'!AK142))","v":1},{"$f":"IF(UserInterface!$E$69 = 1,CHOOSE(m_identity,'SHE-Transmission PLC'!AL142, SPTL!AL142, 'NGET TO'!AL142),CHOOSE(m_identity,'SHE-Transmission PLC (Blank - )'!AL142, 'SPTL (Blank - not used)'!AL142, 'NGET TO (Blank - not used)'!AL142))","v":1},{"$f":"IF(UserInterface!$E$69 = 1,CHOOSE(m_identity,'SHE-Transmission PLC'!AM142, SPTL!AM142, 'NGET TO'!AM142),CHOOSE(m_identity,'SHE-Transmission PLC (Blank - )'!AM142, 'SPTL (Blank - not used)'!AM142, 'NGET TO (Blank - not used)'!AM142))","v":1},{"$f":"IF(UserInterface!$E$69 = 1,CHOOSE(m_identity,'SHE-Transmission PLC'!AN142, SPTL!AN142, 'NGET TO'!AN142),CHOOSE(m_identity,'SHE-Transmission PLC (Blank - )'!AN142, 'SPTL (Blank - not used)'!AN142, 'NGET TO (Blank - not used)'!AN142))","v":1},{"$f":"IF(UserInterface!$E$69 = 1,CHOOSE(m_identity,'SHE-Transmission PLC'!AO142, SPTL!AO142, 'NGET TO'!AO142),CHOOSE(m_identity,'SHE-Transmission PLC (Blank - )'!AO142, 'SPTL (Blank - not used)'!AO142, 'NGET TO (Blank - not used)'!AO142))","v":1}]
[null,null,null,null,"Allocation to asset replacement capex expenditure",null,"%",null,null,null,null,null,null,null,null,null,null,null,null,null,null,null,null,null,null,null,null,null,null,null,null,null,null,{"$f":"IF(UserInterface!$E$69 = 1,CHOOSE(m_identity,'SHE-Transmission PLC'!AH143, SPTL!AH143, 'NGET TO'!AH143),CHOOSE(m_identity,'SHE-Transmission PLC (Blank - )'!AH143, 'SPTL (Blank - not used)'!AH143, 'NGET TO (Blank - not used)'!AH143))","v":0},{"$f":"IF(UserInterface!$E$69 = 1,CHOOSE(m_identity,'SHE-Transmission PLC'!AI143, SPTL!AI143, 'NGET TO'!AI143),CHOOSE(m_identity,'SHE-Transmission PLC (Blank - )'!AI143, 'SPTL (Blank - not used)'!AI143, 'NGET TO (Blank - not used)'!AI143))","v":0},{"$f":"IF(UserInterface!$E$69 = 1,CHOOSE(m_identity,'SHE-Transmission PLC'!AJ143, SPTL!AJ143, 'NGET TO'!AJ143),CHOOSE(m_identity,'SHE-Transmission PLC (Blank - )'!AJ143, 'SPTL (Blank - not used)'!AJ143, 'NGET TO (Blank - not used)'!AJ143))","v":0},{"$f":"IF(UserInterface!$E$69 = 1,CHOOSE(m_identity,'SHE-Transmission PLC'!AK143, SPTL!AK143, 'NGET TO'!AK143),CHOOSE(m_identity,'SHE-Transmission PLC (Blank - )'!AK143, 'SPTL (Blank - not used)'!AK143, 'NGET TO (Blank - not used)'!AK143))","v":0},{"$f":"IF(UserInterface!$E$69 = 1,CHOOSE(m_identity,'SHE-Transmission PLC'!AL143, SPTL!AL143, 'NGET TO'!AL143),CHOOSE(m_identity,'SHE-Transmission PLC (Blank - )'!AL143, 'SPTL (Blank - not used)'!AL143, 'NGET TO (Blank - not used)'!AL143))","v":0},{"$f":"IF(UserInterface!$E$69 = 1,CHOOSE(m_identity,'SHE-Transmission PLC'!AM143, SPTL!AM143, 'NGET TO'!AM143),CHOOSE(m_identity,'SHE-Transmission PLC (Blank - )'!AM143, 'SPTL (Blank - not used)'!AM143, 'NGET TO (Blank - not used)'!AM143))","v":0},{"$f":"IF(UserInterface!$E$69 = 1,CHOOSE(m_identity,'SHE-Transmission PLC'!AN143, SPTL!AN143, 'NGET TO'!AN143),CHOOSE(m_identity,'SHE-Transmission PLC (Blank - )'!AN143, 'SPTL (Blank - not used)'!AN143, 'NGET TO (Blank - not used)'!AN143))","v":0},{"$f":"IF(UserInterface!$E$69 = 1,CHOOSE(m_identity,'SHE-Transmission PLC'!AO143, SPTL!AO143, 'NGET TO'!AO143),CHOOSE(m_identity,'SHE-Transmission PLC (Blank - )'!AO143, 'SPTL (Blank - not used)'!AO143, 'NGET TO (Blank - not used)'!AO143))","v":0}]
[null,null,null,null,"Allocation to other capex expenditure",null,"%",null,null,null,null,null,null,null,null,null,null,null,null,null,null,null,null,null,null,null,null,null,null,null,null,null,null,{"$f":"IF(UserInterface!$E$69 = 1,CHOOSE(m_identity,'SHE-Transmission PLC'!AH144, SPTL!AH144, 'NGET TO'!AH144),CHOOSE(m_identity,'SHE-Transmission PLC (Blank - )'!AH144, 'SPTL (Blank - not used)'!AH144, 'NGET TO (Blank - not used)'!AH144))","v":0},{"$f":"IF(UserInterface!$E$69 = 1,CHOOSE(m_identity,'SHE-Transmission PLC'!AI144, SPTL!AI144, 'NGET TO'!AI144),CHOOSE(m_identity,'SHE-Transmission PLC (Blank - )'!AI144, 'SPTL (Blank - not used)'!AI144, 'NGET TO (Blank - not used)'!AI144))","v":0},{"$f":"IF(UserInterface!$E$69 = 1,CHOOSE(m_identity,'SHE-Transmission PLC'!AJ144, SPTL!AJ144, 'NGET TO'!AJ144),CHOOSE(m_identity,'SHE-Transmission PLC (Blank - )'!AJ144, 'SPTL (Blank - not used)'!AJ144, 'NGET TO (Blank - not used)'!AJ144))","v":0},{"$f":"IF(UserInterface!$E$69 = 1,CHOOSE(m_identity,'SHE-Transmission PLC'!AK144, SPTL!AK144, 'NGET TO'!AK144),CHOOSE(m_identity,'SHE-Transmission PLC (Blank - )'!AK144, 'SPTL (Blank - not used)'!AK144, 'NGET TO (Blank - not used)'!AK144))","v":0},{"$f":"IF(UserInterface!$E$69 = 1,CHOOSE(m_identity,'SHE-Transmission PLC'!AL144, SPTL!AL144, 'NGET TO'!AL144),CHOOSE(m_identity,'SHE-Transmission PLC (Blank - )'!AL144, 'SPTL (Blank - not used)'!AL144, 'NGET TO (Blank - not used)'!AL144))","v":0},{"$f":"IF(UserInterface!$E$69 = 1,CHOOSE(m_identity,'SHE-Transmission PLC'!AM144, SPTL!AM144, 'NGET TO'!AM144),CHOOSE(m_identity,'SHE-Transmission PLC (Blank - )'!AM144, 'SPTL (Blank - not used)'!AM144, 'NGET TO (Blank - not used)'!AM144))","v":0},{"$f":"IF(UserInterface!$E$69 = 1,CHOOSE(m_identity,'SHE-Transmission PLC'!AN144, SPTL!AN144, 'NGET TO'!AN144),CHOOSE(m_identity,'SHE-Transmission PLC (Blank - )'!AN144, 'SPTL (Blank - not used)'!AN144, 'NGET TO (Blank - not used)'!AN144))","v":0},{"$f":"IF(UserInterface!$E$69 = 1,CHOOSE(m_identity,'SHE-Transmission PLC'!AO144, SPTL!AO144, 'NGET TO'!AO144),CHOOSE(m_identity,'SHE-Transmission PLC (Blank - )'!AO144, 'SPTL (Blank - not used)'!AO144, 'NGET TO (Blank - not used)'!AO144))","v":0}]
[null,null,null,null,"Allocation to controllable opex",null,"%",null,null,null,null,null,null,null,null,null,null,null,null,null,null,null,null,null,null,null,null,null,null,null,null,null,null,{"$f":"IF(UserInterface!$E$69 = 1,CHOOSE(m_identity,'SHE-Transmission PLC'!AH145, SPTL!AH145, 'NGET TO'!AH145),CHOOSE(m_identity,'SHE-Transmission PLC (Blank - )'!AH145, 'SPTL (Blank - not used)'!AH145, 'NGET TO (Blank - not used)'!AH145))","v":0},{"$f":"IF(UserInterface!$E$69 = 1,CHOOSE(m_identity,'SHE-Transmission PLC'!AI145, SPTL!AI145, 'NGET TO'!AI145),CHOOSE(m_identity,'SHE-Transmission PLC (Blank - )'!AI145, 'SPTL (Blank - not used)'!AI145, 'NGET TO (Blank - not used)'!AI145))","v":0},{"$f":"IF(UserInterface!$E$69 = 1,CHOOSE(m_identity,'SHE-Transmission PLC'!AJ145, SPTL!AJ145, 'NGET TO'!AJ145),CHOOSE(m_identity,'SHE-Transmission PLC (Blank - )'!AJ145, 'SPTL (Blank - not used)'!AJ145, 'NGET TO (Blank - not used)'!AJ145))","v":0},{"$f":"IF(UserInterface!$E$69 = 1,CHOOSE(m_identity,'SHE-Transmission PLC'!AK145, SPTL!AK145, 'NGET TO'!AK145),CHOOSE(m_identity,'SHE-Transmission PLC (Blank - )'!AK145, 'SPTL (Blank - not used)'!AK145, 'NGET TO (Blank - not used)'!AK145))","v":0},{"$f":"IF(UserInterface!$E$69 = 1,CHOOSE(m_identity,'SHE-Transmission PLC'!AL145, SPTL!AL145, 'NGET TO'!AL145),CHOOSE(m_identity,'SHE-Transmission PLC (Blank - )'!AL145, 'SPTL (Blank - not used)'!AL145, 'NGET TO (Blank - not used)'!AL145))","v":0},{"$f":"IF(UserInterface!$E$69 = 1,CHOOSE(m_identity,'SHE-Transmission PLC'!AM145, SPTL!AM145, 'NGET TO'!AM145),CHOOSE(m_identity,'SHE-Transmission PLC (Blank - )'!AM145, 'SPTL (Blank - not used)'!AM145, 'NGET TO (Blank - not used)'!AM145))","v":0},{"$f":"IF(UserInterface!$E$69 = 1,CHOOSE(m_identity,'SHE-Transmission PLC'!AN145, SPTL!AN145, 'NGET TO'!AN145),CHOOSE(m_identity,'SHE-Transmission PLC (Blank - )'!AN145, 'SPTL (Blank - not used)'!AN145, 'NGET TO (Blank - not used)'!AN145))","v":0},{"$f":"IF(UserInterface!$E$69 = 1,CHOOSE(m_identity,'SHE-Transmission PLC'!AO145, SPTL!AO145, 'NGET TO'!AO145),CHOOSE(m_identity,'SHE-Transmission PLC (Blank - )'!AO145, 'SPTL (Blank - not used)'!AO145, 'NGET TO (Blank - not used)'!AO145))","v":0}]
[null,null,null,null,"Allocation to non-operational capex",null,"%",null,null,null,null,null,null,null,null,null,null,null,null,null,null,null,null,null,null,null,null,null,null,null,null,null,null,{"$f":"IF(UserInterface!$E$69 = 1,CHOOSE(m_identity,'SHE-Transmission PLC'!AH146, SPTL!AH146, 'NGET TO'!AH146),CHOOSE(m_identity,'SHE-Transmission PLC (Blank - )'!AH146, 'SPTL (Blank - not used)'!AH146, 'NGET TO (Blank - not used)'!AH146))","v":0},{"$f":"IF(UserInterface!$E$69 = 1,CHOOSE(m_identity,'SHE-Transmission PLC'!AI146, SPTL!AI146, 'NGET TO'!AI146),CHOOSE(m_identity,'SHE-Transmission PLC (Blank - )'!AI146, 'SPTL (Blank - not used)'!AI146, 'NGET TO (Blank - not used)'!AI146))","v":0},{"$f":"IF(UserInterface!$E$69 = 1,CHOOSE(m_identity,'SHE-Transmission PLC'!AJ146, SPTL!AJ146, 'NGET TO'!AJ146),CHOOSE(m_identity,'SHE-Transmission PLC (Blank - )'!AJ146, 'SPTL (Blank - not used)'!AJ146, 'NGET TO (Blank - not used)'!AJ146))","v":0},{"$f":"IF(UserInterface!$E$69 = 1,CHOOSE(m_identity,'SHE-Transmission PLC'!AK146, SPTL!AK146, 'NGET TO'!AK146),CHOOSE(m_identity,'SHE-Transmission PLC (Blank - )'!AK146, 'SPTL (Blank - not used)'!AK146, 'NGET TO (Blank - not used)'!AK146))","v":0},{"$f":"IF(UserInterface!$E$69 = 1,CHOOSE(m_identity,'SHE-Transmission PLC'!AL146, SPTL!AL146, 'NGET TO'!AL146),CHOOSE(m_identity,'SHE-Transmission PLC (Blank - )'!AL146, 'SPTL (Blank - not used)'!AL146, 'NGET TO (Blank - not used)'!AL146))","v":0},{"$f":"IF(UserInterface!$E$69 = 1,CHOOSE(m_identity,'SHE-Transmission PLC'!AM146, SPTL!AM146, 'NGET TO'!AM146),CHOOSE(m_identity,'SHE-Transmission PLC (Blank - )'!AM146, 'SPTL (Blank - not used)'!AM146, 'NGET TO (Blank - not used)'!AM146))","v":0},{"$f":"IF(UserInterface!$E$69 = 1,CHOOSE(m_identity,'SHE-Transmission PLC'!AN146, SPTL!AN146, 'NGET TO'!AN146),CHOOSE(m_identity,'SHE-Transmission PLC (Blank - )'!AN146, 'SPTL (Blank - not used)'!AN146, 'NGET TO (Blank - not used)'!AN146))","v":0},{"$f":"IF(UserInterface!$E$69 = 1,CHOOSE(m_identity,'SHE-Transmission PLC'!AO146, SPTL!AO146, 'NGET TO'!AO146),CHOOSE(m_identity,'SHE-Transmission PLC (Blank - )'!AO146, 'SPTL (Blank - not used)'!AO146, 'NGET TO (Blank - not used)'!AO146))","v":0}]
[]
[null,null,null,null,{"$f":"E22","v":"Undergrounding volume driver"},null,"£m 09/10 prices",null,null,null,null,null,null,null,null,null,null,null,null,null,null,null,null,null,null,null,null,null,null,null,null,null,null,{"$f":"AH22","v":0},{"$f":"AI22","v":0},0,0,0,0,0,0]
[null,null,null,null,"Allocation to load related capex expenditure",null,"%",null,null,null,null,null,null,null,null,null,null,null,null,null,null,null,null,null,null,null,null,null,null,null,null,null,null,{"$f":"IF(UserInterface!$E$69 = 1,CHOOSE(m_identity,'SHE-Transmission PLC'!AH149, SPTL!AH149, 'NGET TO'!AH149),CHOOSE(m_identity,'SHE-Transmission PLC (Blank - )'!AH149, 'SPTL (Blank - not used)'!AH149, 'NGET TO (Blank - not used)'!AH149))","v":1},{"$f":"IF(UserInterface!$E$69 = 1,CHOOSE(m_identity,'SHE-Transmission PLC'!AI149, SPTL!AI149, 'NGET TO'!AI149),CHOOSE(m_identity,'SHE-Transmission PLC (Blank - )'!AI149, 'SPTL (Blank - not used)'!AI149, 'NGET TO (Blank - not used)'!AI149))","v":1},{"$f":"IF(UserInterface!$E$69 = 1,CHOOSE(m_identity,'SHE-Transmission PLC'!AJ149, SPTL!AJ149, 'NGET TO'!AJ149),CHOOSE(m_identity,'SHE-Transmission PLC (Blank - )'!AJ149, 'SPTL (Blank - not used)'!AJ149, 'NGET TO (Blank - not used)'!AJ149))","v":1},{"$f":"IF(UserInterface!$E$69 = 1,CHOOSE(m_identity,'SHE-Transmission PLC'!AK149, SPTL!AK149, 'NGET TO'!AK149),CHOOSE(m_identity,'SHE-Transmission PLC (Blank - )'!AK149, 'SPTL (Blank - not used)'!AK149, 'NGET TO (Blank - not used)'!AK149))","v":1},{"$f":"IF(UserInterface!$E$69 = 1,CHOOSE(m_identity,'SHE-Transmission PLC'!AL149, SPTL!AL149, 'NGET TO'!AL149),CHOOSE(m_identity,'SHE-Transmission PLC (Blank - )'!AL149, 'SPTL (Blank - not used)'!AL149, 'NGET TO (Blank - not used)'!AL149))","v":1},{"$f":"IF(UserInterface!$E$69 = 1,CHOOSE(m_identity,'SHE-Transmission PLC'!AM149, SPTL!AM149, 'NGET TO'!AM149),CHOOSE(m_identity,'SHE-Transmission PLC (Blank - )'!AM149, 'SPTL (Blank - not used)'!AM149, 'NGET TO (Blank - not used)'!AM149))","v":1},{"$f":"IF(UserInterface!$E$69 = 1,CHOOSE(m_identity,'SHE-Transmission PLC'!AN149, SPTL!AN149, 'NGET TO'!AN149),CHOOSE(m_identity,'SHE-Transmission PLC (Blank - )'!AN149, 'SPTL (Blank - not used)'!AN149, 'NGET TO (Blank - not used)'!AN149))","v":1},{"$f":"IF(UserInterface!$E$69 = 1,CHOOSE(m_identity,'SHE-Transmission PLC'!AO149, SPTL!AO149, 'NGET TO'!AO149),CHOOSE(m_identity,'SHE-Transmission PLC (Blank - )'!AO149, 'SPTL (Blank - not used)'!AO149, 'NGET TO (Blank - not used)'!AO149))","v":1}]
[null,null,null,null,"Allocation to asset replacement capex expenditure",null,"%",null,null,null,null,null,null,null,null,null,null,null,null,null,null,null,null,null,null,null,null,null,null,null,null,null,null,{"$f":"IF(UserInterface!$E$69 = 1,CHOOSE(m_identity,'SHE-Transmission PLC'!AH150, SPTL!AH150, 'NGET TO'!AH150),CHOOSE(m_identity,'SHE-Transmission PLC (Blank - )'!AH150, 'SPTL (Blank - not used)'!AH150, 'NGET TO (Blank - not used)'!AH150))","v":0},{"$f":"IF(UserInterface!$E$69 = 1,CHOOSE(m_identity,'SHE-Transmission PLC'!AI150, SPTL!AI150, 'NGET TO'!AI150),CHOOSE(m_identity,'SHE-Transmission PLC (Blank - )'!AI150, 'SPTL (Blank - not used)'!AI150, 'NGET TO (Blank - not used)'!AI150))","v":0},{"$f":"IF(UserInterface!$E$69 = 1,CHOOSE(m_identity,'SHE-Transmission PLC'!AJ150, SPTL!AJ150, 'NGET TO'!AJ150),CHOOSE(m_identity,'SHE-Transmission PLC (Blank - )'!AJ150, 'SPTL (Blank - not used)'!AJ150, 'NGET TO (Blank - not used)'!AJ150))","v":0},{"$f":"IF(UserInterface!$E$69 = 1,CHOOSE(m_identity,'SHE-Transmission PLC'!AK150, SPTL!AK150, 'NGET TO'!AK150),CHOOSE(m_identity,'SHE-Transmission PLC (Blank - )'!AK150, 'SPTL (Blank - not used)'!AK150, 'NGET TO (Blank - not used)'!AK150))","v":0},{"$f":"IF(UserInterface!$E$69 = 1,CHOOSE(m_identity,'SHE-Transmission PLC'!AL150, SPTL!AL150, 'NGET TO'!AL150),CHOOSE(m_identity,'SHE-Transmission PLC (Blank - )'!AL150, 'SPTL (Blank - not used)'!AL150, 'NGET TO (Blank - not used)'!AL150))","v":0},{"$f":"IF(UserInterface!$E$69 = 1,CHOOSE(m_identity,'SHE-Transmission PLC'!AM150, SPTL!AM150, 'NGET TO'!AM150),CHOOSE(m_identity,'SHE-Transmission PLC (Blank - )'!AM150, 'SPTL (Blank - not used)'!AM150, 'NGET TO (Blank - not used)'!AM150))","v":0},{"$f":"IF(UserInterface!$E$69 = 1,CHOOSE(m_identity,'SHE-Transmission PLC'!AN150, SPTL!AN150, 'NGET TO'!AN150),CHOOSE(m_identity,'SHE-Transmission PLC (Blank - )'!AN150, 'SPTL (Blank - not used)'!AN150, 'NGET TO (Blank - not used)'!AN150))","v":0},{"$f":"IF(UserInterface!$E$69 = 1,CHOOSE(m_identity,'SHE-Transmission PLC'!AO150, SPTL!AO150, 'NGET TO'!AO150),CHOOSE(m_identity,'SHE-Transmission PLC (Blank - )'!AO150, 'SPTL (Blank - not used)'!AO150, 'NGET TO (Blank - not used)'!AO150))","v":0}]
[null,null,null,null,"Allocation to other capex expenditure",null,"%",null,null,null,null,null,null,null,null,null,null,null,null,null,null,null,null,null,null,null,null,null,null,null,null,null,null,{"$f":"IF(UserInterface!$E$69 = 1,CHOOSE(m_identity,'SHE-Transmission PLC'!AH151, SPTL!AH151, 'NGET TO'!AH151),CHOOSE(m_identity,'SHE-Transmission PLC (Blank - )'!AH151, 'SPTL (Blank - not used)'!AH151, 'NGET TO (Blank - not used)'!AH151))","v":0},{"$f":"IF(UserInterface!$E$69 = 1,CHOOSE(m_identity,'SHE-Transmission PLC'!AI151, SPTL!AI151, 'NGET TO'!AI151),CHOOSE(m_identity,'SHE-Transmission PLC (Blank - )'!AI151, 'SPTL (Blank - not used)'!AI151, 'NGET TO (Blank - not used)'!AI151))","v":0},{"$f":"IF(UserInterface!$E$69 = 1,CHOOSE(m_identity,'SHE-Transmission PLC'!AJ151, SPTL!AJ151, 'NGET TO'!AJ151),CHOOSE(m_identity,'SHE-Transmission PLC (Blank - )'!AJ151, 'SPTL (Blank - not used)'!AJ151, 'NGET TO (Blank - not used)'!AJ151))","v":0},{"$f":"IF(UserInterface!$E$69 = 1,CHOOSE(m_identity,'SHE-Transmission PLC'!AK151, SPTL!AK151, 'NGET TO'!AK151),CHOOSE(m_identity,'SHE-Transmission PLC (Blank - )'!AK151, 'SPTL (Blank - not used)'!AK151, 'NGET TO (Blank - not used)'!AK151))","v":0},{"$f":"IF(UserInterface!$E$69 = 1,CHOOSE(m_identity,'SHE-Transmission PLC'!AL151, SPTL!AL151, 'NGET TO'!AL151),CHOOSE(m_identity,'SHE-Transmission PLC (Blank - )'!AL151, 'SPTL (Blank - not used)'!AL151, 'NGET TO (Blank - not used)'!AL151))","v":0},{"$f":"IF(UserInterface!$E$69 = 1,CHOOSE(m_identity,'SHE-Transmission PLC'!AM151, SPTL!AM151, 'NGET TO'!AM151),CHOOSE(m_identity,'SHE-Transmission PLC (Blank - )'!AM151, 'SPTL (Blank - not used)'!AM151, 'NGET TO (Blank - not used)'!AM151))","v":0},{"$f":"IF(UserInterface!$E$69 = 1,CHOOSE(m_identity,'SHE-Transmission PLC'!AN151, SPTL!AN151, 'NGET TO'!AN151),CHOOSE(m_identity,'SHE-Transmission PLC (Blank - )'!AN151, 'SPTL (Blank - not used)'!AN151, 'NGET TO (Blank - not used)'!AN151))","v":0},{"$f":"IF(UserInterface!$E$69 = 1,CHOOSE(m_identity,'SHE-Transmission PLC'!AO151, SPTL!AO151, 'NGET TO'!AO151),CHOOSE(m_identity,'SHE-Transmission PLC (Blank - )'!AO151, 'SPTL (Blank - not used)'!AO151, 'NGET TO (Blank - not used)'!AO151))","v":0}]
[null,null,null,null,"Allocation to controllable opex",null,"%",null,null,null,null,null,null,null,null,null,null,null,null,null,null,null,null,null,null,null,null,null,null,null,null,null,null,{"$f":"IF(UserInterface!$E$69 = 1,CHOOSE(m_identity,'SHE-Transmission PLC'!AH152, SPTL!AH152, 'NGET TO'!AH152),CHOOSE(m_identity,'SHE-Transmission PLC (Blank - )'!AH152, 'SPTL (Blank - not used)'!AH152, 'NGET TO (Blank - not used)'!AH152))","v":0},{"$f":"IF(UserInterface!$E$69 = 1,CHOOSE(m_identity,'SHE-Transmission PLC'!AI152, SPTL!AI152, 'NGET TO'!AI152),CHOOSE(m_identity,'SHE-Transmission PLC (Blank - )'!AI152, 'SPTL (Blank - not used)'!AI152, 'NGET TO (Blank - not used)'!AI152))","v":0},{"$f":"IF(UserInterface!$E$69 = 1,CHOOSE(m_identity,'SHE-Transmission PLC'!AJ152, SPTL!AJ152, 'NGET TO'!AJ152),CHOOSE(m_identity,'SHE-Transmission PLC (Blank - )'!AJ152, 'SPTL (Blank - not used)'!AJ152, 'NGET TO (Blank - not used)'!AJ152))","v":0},{"$f":"IF(UserInterface!$E$69 = 1,CHOOSE(m_identity,'SHE-Transmission PLC'!AK152, SPTL!AK152, 'NGET TO'!AK152),CHOOSE(m_identity,'SHE-Transmission PLC (Blank - )'!AK152, 'SPTL (Blank - not used)'!AK152, 'NGET TO (Blank - not used)'!AK152))","v":0},{"$f":"IF(UserInterface!$E$69 = 1,CHOOSE(m_identity,'SHE-Transmission PLC'!AL152, SPTL!AL152, 'NGET TO'!AL152),CHOOSE(m_identity,'SHE-Transmission PLC (Blank - )'!AL152, 'SPTL (Blank - not used)'!AL152, 'NGET TO (Blank - not used)'!AL152))","v":0},{"$f":"IF(UserInterface!$E$69 = 1,CHOOSE(m_identity,'SHE-Transmission PLC'!AM152, SPTL!AM152, 'NGET TO'!AM152),CHOOSE(m_identity,'SHE-Transmission PLC (Blank - )'!AM152, 'SPTL (Blank - not used)'!AM152, 'NGET TO (Blank - not used)'!AM152))","v":0},{"$f":"IF(UserInterface!$E$69 = 1,CHOOSE(m_identity,'SHE-Transmission PLC'!AN152, SPTL!AN152, 'NGET TO'!AN152),CHOOSE(m_identity,'SHE-Transmission PLC (Blank - )'!AN152, 'SPTL (Blank - not used)'!AN152, 'NGET TO (Blank - not used)'!AN152))","v":0},{"$f":"IF(UserInterface!$E$69 = 1,CHOOSE(m_identity,'SHE-Transmission PLC'!AO152, SPTL!AO152, 'NGET TO'!AO152),CHOOSE(m_identity,'SHE-Transmission PLC (Blank - )'!AO152, 'SPTL (Blank - not used)'!AO152, 'NGET TO (Blank - not used)'!AO152))","v":0}]
[null,null,null,null,"Allocation to non-operational capex",null,"%",null,null,null,null,null,null,null,null,null,null,null,null,null,null,null,null,null,null,null,null,null,null,null,null,null,null,{"$f":"IF(UserInterface!$E$69 = 1,CHOOSE(m_identity,'SHE-Transmission PLC'!AH153, SPTL!AH153, 'NGET TO'!AH153),CHOOSE(m_identity,'SHE-Transmission PLC (Blank - )'!AH153, 'SPTL (Blank - not used)'!AH153, 'NGET TO (Blank - not used)'!AH153))","v":0},{"$f":"IF(UserInterface!$E$69 = 1,CHOOSE(m_identity,'SHE-Transmission PLC'!AI153, SPTL!AI153, 'NGET TO'!AI153),CHOOSE(m_identity,'SHE-Transmission PLC (Blank - )'!AI153, 'SPTL (Blank - not used)'!AI153, 'NGET TO (Blank - not used)'!AI153))","v":0},{"$f":"IF(UserInterface!$E$69 = 1,CHOOSE(m_identity,'SHE-Transmission PLC'!AJ153, SPTL!AJ153, 'NGET TO'!AJ153),CHOOSE(m_identity,'SHE-Transmission PLC (Blank - )'!AJ153, 'SPTL (Blank - not used)'!AJ153, 'NGET TO (Blank - not used)'!AJ153))","v":0},{"$f":"IF(UserInterface!$E$69 = 1,CHOOSE(m_identity,'SHE-Transmission PLC'!AK153, SPTL!AK153, 'NGET TO'!AK153),CHOOSE(m_identity,'SHE-Transmission PLC (Blank - )'!AK153, 'SPTL (Blank - not used)'!AK153, 'NGET TO (Blank - not used)'!AK153))","v":0},{"$f":"IF(UserInterface!$E$69 = 1,CHOOSE(m_identity,'SHE-Transmission PLC'!AL153, SPTL!AL153, 'NGET TO'!AL153),CHOOSE(m_identity,'SHE-Transmission PLC (Blank - )'!AL153, 'SPTL (Blank - not used)'!AL153, 'NGET TO (Blank - not used)'!AL153))","v":0},{"$f":"IF(UserInterface!$E$69 = 1,CHOOSE(m_identity,'SHE-Transmission PLC'!AM153, SPTL!AM153, 'NGET TO'!AM153),CHOOSE(m_identity,'SHE-Transmission PLC (Blank - )'!AM153, 'SPTL (Blank - not used)'!AM153, 'NGET TO (Blank - not used)'!AM153))","v":0},{"$f":"IF(UserInterface!$E$69 = 1,CHOOSE(m_identity,'SHE-Transmission PLC'!AN153, SPTL!AN153, 'NGET TO'!AN153),CHOOSE(m_identity,'SHE-Transmission PLC (Blank - )'!AN153, 'SPTL (Blank - not used)'!AN153, 'NGET TO (Blank - not used)'!AN153))","v":0},{"$f":"IF(UserInterface!$E$69 = 1,CHOOSE(m_identity,'SHE-Transmission PLC'!AO153, SPTL!AO153, 'NGET TO'!AO153),CHOOSE(m_identity,'SHE-Transmission PLC (Blank - )'!AO153, 'SPTL (Blank - not used)'!AO153, 'NGET TO (Blank - not used)'!AO153))","v":0}]
[]
[null,null,null,null,{"$f":"E23","v":"Generation connections volume driver"},null,"£m 09/10 prices",null,null,null,null,null,null,null,null,null,null,null,null,null,null,null,null,null,null,null,null,null,null,null,null,null,null,{"$f":"AH23","v":133.86004855000002},{"$f":"AI23","v":185.22825752485659},{"$f":"AJ23","v":184.11220513019714},220.70970463254625,{"$f":"AL23","v":117.36407774335473},95.964578816260541,42.49354524228189,20.661511677719247]
[null,null,null,null,"Allocation to load related capex expenditure",null,"%",null,null,null,null,null,null,null,null,null,null,null,null,null,null,null,null,null,null,null,null,null,null,null,null,null,null,{"$f":"IF(UserInterface!$E$69 = 1,CHOOSE(m_identity,'SHE-Transmission PLC'!AH156, SPTL!AH156, 'NGET TO'!AH156),CHOOSE(m_identity,'SHE-Transmission PLC (Blank - )'!AH156, 'SPTL (Blank - not used)'!AH156, 'NGET TO (Blank - not used)'!AH156))","v":1},{"$f":"IF(UserInterface!$E$69 = 1,CHOOSE(m_identity,'SHE-Transmission PLC'!AI156, SPTL!AI156, 'NGET TO'!AI156),CHOOSE(m_identity,'SHE-Transmission PLC (Blank - )'!AI156, 'SPTL (Blank - not used)'!AI156, 'NGET TO (Blank - not used)'!AI156))","v":1},{"$f":"IF(UserInterface!$E$69 = 1,CHOOSE(m_identity,'SHE-Transmission PLC'!AJ156, SPTL!AJ156, 'NGET TO'!AJ156),CHOOSE(m_identity,'SHE-Transmission PLC (Blank - )'!AJ156, 'SPTL (Blank - not used)'!AJ156, 'NGET TO (Blank - not used)'!AJ156))","v":1},{"$f":"IF(UserInterface!$E$69 = 1,CHOOSE(m_identity,'SHE-Transmission PLC'!AK156, SPTL!AK156, 'NGET TO'!AK156),CHOOSE(m_identity,'SHE-Transmission PLC (Blank - )'!AK156, 'SPTL (Blank - not used)'!AK156, 'NGET TO (Blank - not used)'!AK156))","v":1},{"$f":"IF(UserInterface!$E$69 = 1,CHOOSE(m_identity,'SHE-Transmission PLC'!AL156, SPTL!AL156, 'NGET TO'!AL156),CHOOSE(m_identity,'SHE-Transmission PLC (Blank - )'!AL156, 'SPTL (Blank - not used)'!AL156, 'NGET TO (Blank - not used)'!AL156))","v":1},{"$f":"IF(UserInterface!$E$69 = 1,CHOOSE(m_identity,'SHE-Transmission PLC'!AM156, SPTL!AM156, 'NGET TO'!AM156),CHOOSE(m_identity,'SHE-Transmission PLC (Blank - )'!AM156, 'SPTL (Blank - not used)'!AM156, 'NGET TO (Blank - not used)'!AM156))","v":1},{"$f":"IF(UserInterface!$E$69 = 1,CHOOSE(m_identity,'SHE-Transmission PLC'!AN156, SPTL!AN156, 'NGET TO'!AN156),CHOOSE(m_identity,'SHE-Transmission PLC (Blank - )'!AN156, 'SPTL (Blank - not used)'!AN156, 'NGET TO (Blank - not used)'!AN156))","v":1},{"$f":"IF(UserInterface!$E$69 = 1,CHOOSE(m_identity,'SHE-Transmission PLC'!AO156, SPTL!AO156, 'NGET TO'!AO156),CHOOSE(m_identity,'SHE-Transmission PLC (Blank - )'!AO156, 'SPTL (Blank - not used)'!AO156, 'NGET TO (Blank - not used)'!AO156))","v":1}]
[null,null,null,null,"Allocation to asset replacement capex expenditure",null,"%",null,null,null,null,null,null,null,null,null,null,null,null,null,null,null,null,null,null,null,null,null,null,null,null,null,null,{"$f":"IF(UserInterface!$E$69 = 1,CHOOSE(m_identity,'SHE-Transmission PLC'!AH157, SPTL!AH157, 'NGET TO'!AH157),CHOOSE(m_identity,'SHE-Transmission PLC (Blank - )'!AH157, 'SPTL (Blank - not used)'!AH157, 'NGET TO (Blank - not used)'!AH157))","v":0},{"$f":"IF(UserInterface!$E$69 = 1,CHOOSE(m_identity,'SHE-Transmission PLC'!AI157, SPTL!AI157, 'NGET TO'!AI157),CHOOSE(m_identity,'SHE-Transmission PLC (Blank - )'!AI157, 'SPTL (Blank - not used)'!AI157, 'NGET TO (Blank - not used)'!AI157))","v":0},{"$f":"IF(UserInterface!$E$69 = 1,CHOOSE(m_identity,'SHE-Transmission PLC'!AJ157, SPTL!AJ157, 'NGET TO'!AJ157),CHOOSE(m_identity,'SHE-Transmission PLC (Blank - )'!AJ157, 'SPTL (Blank - not used)'!AJ157, 'NGET TO (Blank - not used)'!AJ157))","v":0},{"$f":"IF(UserInterface!$E$69 = 1,CHOOSE(m_identity,'SHE-Transmission PLC'!AK157, SPTL!AK157, 'NGET TO'!AK157),CHOOSE(m_identity,'SHE-Transmission PLC (Blank - )'!AK157, 'SPTL (Blank - not used)'!AK157, 'NGET TO (Blank - not used)'!AK157))","v":0},{"$f":"IF(UserInterface!$E$69 = 1,CHOOSE(m_identity,'SHE-Transmission PLC'!AL157, SPTL!AL157, 'NGET TO'!AL157),CHOOSE(m_identity,'SHE-Transmission PLC (Blank - )'!AL157, 'SPTL (Blank - not used)'!AL157, 'NGET TO (Blank - not used)'!AL157))","v":0},{"$f":"IF(UserInterface!$E$69 = 1,CHOOSE(m_identity,'SHE-Transmission PLC'!AM157, SPTL!AM157, 'NGET TO'!AM157),CHOOSE(m_identity,'SHE-Transmission PLC (Blank - )'!AM157, 'SPTL (Blank - not used)'!AM157, 'NGET TO (Blank - not used)'!AM157))","v":0},{"$f":"IF(UserInterface!$E$69 = 1,CHOOSE(m_identity,'SHE-Transmission PLC'!AN157, SPTL!AN157, 'NGET TO'!AN157),CHOOSE(m_identity,'SHE-Transmission PLC (Blank - )'!AN157, 'SPTL (Blank - not used)'!AN157, 'NGET TO (Blank - not used)'!AN157))","v":0},{"$f":"IF(UserInterface!$E$69 = 1,CHOOSE(m_identity,'SHE-Transmission PLC'!AO157, SPTL!AO157, 'NGET TO'!AO157),CHOOSE(m_identity,'SHE-Transmission PLC (Blank - )'!AO157, 'SPTL (Blank - not used)'!AO157, 'NGET TO (Blank - not used)'!AO157))","v":0}]
[null,null,null,null,"Allocation to other capex expenditure",null,"%",null,null,null,null,null,null,null,null,null,null,null,null,null,null,null,null,null,null,null,null,null,null,null,null,null,null,{"$f":"IF(UserInterface!$E$69 = 1,CHOOSE(m_identity,'SHE-Transmission PLC'!AH158, SPTL!AH158, 'NGET TO'!AH158),CHOOSE(m_identity,'SHE-Transmission PLC (Blank - )'!AH158, 'SPTL (Blank - not used)'!AH158, 'NGET TO (Blank - not used)'!AH158))","v":0},{"$f":"IF(UserInterface!$E$69 = 1,CHOOSE(m_identity,'SHE-Transmission PLC'!AI158, SPTL!AI158, 'NGET TO'!AI158),CHOOSE(m_identity,'SHE-Transmission PLC (Blank - )'!AI158, 'SPTL (Blank - not used)'!AI158, 'NGET TO (Blank - not used)'!AI158))","v":0},{"$f":"IF(UserInterface!$E$69 = 1,CHOOSE(m_identity,'SHE-Transmission PLC'!AJ158, SPTL!AJ158, 'NGET TO'!AJ158),CHOOSE(m_identity,'SHE-Transmission PLC (Blank - )'!AJ158, 'SPTL (Blank - not used)'!AJ158, 'NGET TO (Blank - not used)'!AJ158))","v":0},{"$f":"IF(UserInterface!$E$69 = 1,CHOOSE(m_identity,'SHE-Transmission PLC'!AK158, SPTL!AK158, 'NGET TO'!AK158),CHOOSE(m_identity,'SHE-Transmission PLC (Blank - )'!AK158, 'SPTL (Blank - not used)'!AK158, 'NGET TO (Blank - not used)'!AK158))","v":0},{"$f":"IF(UserInterface!$E$69 = 1,CHOOSE(m_identity,'SHE-Transmission PLC'!AL158, SPTL!AL158, 'NGET TO'!AL158),CHOOSE(m_identity,'SHE-Transmission PLC (Blank - )'!AL158, 'SPTL (Blank - not used)'!AL158, 'NGET TO (Blank - not used)'!AL158))","v":0},{"$f":"IF(UserInterface!$E$69 = 1,CHOOSE(m_identity,'SHE-Transmission PLC'!AM158, SPTL!AM158, 'NGET TO'!AM158),CHOOSE(m_identity,'SHE-Transmission PLC (Blank - )'!AM158, 'SPTL (Blank - not used)'!AM158, 'NGET TO (Blank - not used)'!AM158))","v":0},{"$f":"IF(UserInterface!$E$69 = 1,CHOOSE(m_identity,'SHE-Transmission PLC'!AN158, SPTL!AN158, 'NGET TO'!AN158),CHOOSE(m_identity,'SHE-Transmission PLC (Blank - )'!AN158, 'SPTL (Blank - not used)'!AN158, 'NGET TO (Blank - not used)'!AN158))","v":0},{"$f":"IF(UserInterface!$E$69 = 1,CHOOSE(m_identity,'SHE-Transmission PLC'!AO158, SPTL!AO158, 'NGET TO'!AO158),CHOOSE(m_identity,'SHE-Transmission PLC (Blank - )'!AO158, 'SPTL (Blank - not used)'!AO158, 'NGET TO (Blank - not used)'!AO158))","v":0}]
[null,null,null,null,"Allocation to controllable opex",null,"%",null,null,null,null,null,null,null,null,null,null,null,null,null,null,null,null,null,null,null,null,null,null,null,null,null,null,{"$f":"IF(UserInterface!$E$69 = 1,CHOOSE(m_identity,'SHE-Transmission PLC'!AH159, SPTL!AH159, 'NGET TO'!AH159),CHOOSE(m_identity,'SHE-Transmission PLC (Blank - )'!AH159, 'SPTL (Blank - not used)'!AH159, 'NGET TO (Blank - not used)'!AH159))","v":0},{"$f":"IF(UserInterface!$E$69 = 1,CHOOSE(m_identity,'SHE-Transmission PLC'!AI159, SPTL!AI159, 'NGET TO'!AI159),CHOOSE(m_identity,'SHE-Transmission PLC (Blank - )'!AI159, 'SPTL (Blank - not used)'!AI159, 'NGET TO (Blank - not used)'!AI159))","v":0},{"$f":"IF(UserInterface!$E$69 = 1,CHOOSE(m_identity,'SHE-Transmission PLC'!AJ159, SPTL!AJ159, 'NGET TO'!AJ159),CHOOSE(m_identity,'SHE-Transmission PLC (Blank - )'!AJ159, 'SPTL (Blank - not used)'!AJ159, 'NGET TO (Blank - not used)'!AJ159))","v":0},{"$f":"IF(UserInterface!$E$69 = 1,CHOOSE(m_identity,'SHE-Transmission PLC'!AK159, SPTL!AK159, 'NGET TO'!AK159),CHOOSE(m_identity,'SHE-Transmission PLC (Blank - )'!AK159, 'SPTL (Blank - not used)'!AK159, 'NGET TO (Blank - not used)'!AK159))","v":0},{"$f":"IF(UserInterface!$E$69 = 1,CHOOSE(m_identity,'SHE-Transmission PLC'!AL159, SPTL!AL159, 'NGET TO'!AL159),CHOOSE(m_identity,'SHE-Transmission PLC (Blank - )'!AL159, 'SPTL (Blank - not used)'!AL159, 'NGET TO (Blank - not used)'!AL159))","v":0},{"$f":"IF(UserInterface!$E$69 = 1,CHOOSE(m_identity,'SHE-Transmission PLC'!AM159, SPTL!AM159, 'NGET TO'!AM159),CHOOSE(m_identity,'SHE-Transmission PLC (Blank - )'!AM159, 'SPTL (Blank - not used)'!AM159, 'NGET TO (Blank - not used)'!AM159))","v":0},{"$f":"IF(UserInterface!$E$69 = 1,CHOOSE(m_identity,'SHE-Transmission PLC'!AN159, SPTL!AN159, 'NGET TO'!AN159),CHOOSE(m_identity,'SHE-Transmission PLC (Blank - )'!AN159, 'SPTL (Blank - not used)'!AN159, 'NGET TO (Blank - not used)'!AN159))","v":0},{"$f":"IF(UserInterface!$E$69 = 1,CHOOSE(m_identity,'SHE-Transmission PLC'!AO159, SPTL!AO159, 'NGET TO'!AO159),CHOOSE(m_identity,'SHE-Transmission PLC (Blank - )'!AO159, 'SPTL (Blank - not used)'!AO159, 'NGET TO (Blank - not used)'!AO159))","v":0}]
[null,null,null,null,"Allocation to non-operational capex",null,"%",null,null,null,null,null,null,null,null,null,null,null,null,null,null,null,null,null,null,null,null,null,null,null,null,null,null,{"$f":"IF(UserInterface!$E$69 = 1,CHOOSE(m_identity,'SHE-Transmission PLC'!AH160, SPTL!AH160, 'NGET TO'!AH160),CHOOSE(m_identity,'SHE-Transmission PLC (Blank - )'!AH160, 'SPTL (Blank - not used)'!AH160, 'NGET TO (Blank - not used)'!AH160))","v":0},{"$f":"IF(UserInterface!$E$69 = 1,CHOOSE(m_identity,'SHE-Transmission PLC'!AI160, SPTL!AI160, 'NGET TO'!AI160),CHOOSE(m_identity,'SHE-Transmission PLC (Blank - )'!AI160, 'SPTL (Blank - not used)'!AI160, 'NGET TO (Blank - not used)'!AI160))","v":0},{"$f":"IF(UserInterface!$E$69 = 1,CHOOSE(m_identity,'SHE-Transmission PLC'!AJ160, SPTL!AJ160, 'NGET TO'!AJ160),CHOOSE(m_identity,'SHE-Transmission PLC (Blank - )'!AJ160, 'SPTL (Blank - not used)'!AJ160, 'NGET TO (Blank - not used)'!AJ160))","v":0},{"$f":"IF(UserInterface!$E$69 = 1,CHOOSE(m_identity,'SHE-Transmission PLC'!AK160, SPTL!AK160, 'NGET TO'!AK160),CHOOSE(m_identity,'SHE-Transmission PLC (Blank - )'!AK160, 'SPTL (Blank - not used)'!AK160, 'NGET TO (Blank - not used)'!AK160))","v":0},{"$f":"IF(UserInterface!$E$69 = 1,CHOOSE(m_identity,'SHE-Transmission PLC'!AL160, SPTL!AL160, 'NGET TO'!AL160),CHOOSE(m_identity,'SHE-Transmission PLC (Blank - )'!AL160, 'SPTL (Blank - not used)'!AL160, 'NGET TO (Blank - not used)'!AL160))","v":0},{"$f":"IF(UserInterface!$E$69 = 1,CHOOSE(m_identity,'SHE-Transmission PLC'!AM160, SPTL!AM160, 'NGET TO'!AM160),CHOOSE(m_identity,'SHE-Transmission PLC (Blank - )'!AM160, 'SPTL (Blank - not used)'!AM160, 'NGET TO (Blank - not used)'!AM160))","v":0},{"$f":"IF(UserInterface!$E$69 = 1,CHOOSE(m_identity,'SHE-Transmission PLC'!AN160, SPTL!AN160, 'NGET TO'!AN160),CHOOSE(m_identity,'SHE-Transmission PLC (Blank - )'!AN160, 'SPTL (Blank - not used)'!AN160, 'NGET TO (Blank - not used)'!AN160))","v":0},{"$f":"IF(UserInterface!$E$69 = 1,CHOOSE(m_identity,'SHE-Transmission PLC'!AO160, SPTL!AO160, 'NGET TO'!AO160),CHOOSE(m_identity,'SHE-Transmission PLC (Blank - )'!AO160, 'SPTL (Blank - not used)'!AO160, 'NGET TO (Blank - not used)'!AO160))","v":0}]
[]
[null,null,null,null,{"$f":"E24","v":"Innovation roll out mechanism"},null,"£m 09/10 prices",null,null,null,null,null,null,null,null,null,null,null,null,null,null,null,null,null,null,null,null,null,null,null,null,null,null,{"$f":"AH24","v":0},{"$f":"AI24","v":0},0,0,0,0,0,0]
[null,null,null,null,"Allocation to load related capex expenditure",null,"%",null,null,null,null,null,null,null,null,null,null,null,null,null,null,null,null,null,null,null,null,null,null,null,null,null,null,{"$f":"IF(UserInterface!$E$69 = 1,CHOOSE(m_identity,'SHE-Transmission PLC'!AH163, SPTL!AH163, 'NGET TO'!AH163),CHOOSE(m_identity,'SHE-Transmission PLC (Blank - )'!AH163, 'SPTL (Blank - not used)'!AH163, 'NGET TO (Blank - not used)'!AH163))","v":0.3},{"$f":"IF(UserInterface!$E$69 = 1,CHOOSE(m_identity,'SHE-Transmission PLC'!AI163, SPTL!AI163, 'NGET TO'!AI163),CHOOSE(m_identity,'SHE-Transmission PLC (Blank - )'!AI163, 'SPTL (Blank - not used)'!AI163, 'NGET TO (Blank - not used)'!AI163))","v":0.3},{"$f":"IF(UserInterface!$E$69 = 1,CHOOSE(m_identity,'SHE-Transmission PLC'!AJ163, SPTL!AJ163, 'NGET TO'!AJ163),CHOOSE(m_identity,'SHE-Transmission PLC (Blank - )'!AJ163, 'SPTL (Blank - not used)'!AJ163, 'NGET TO (Blank - not used)'!AJ163))","v":0.3},{"$f":"IF(UserInterface!$E$69 = 1,CHOOSE(m_identity,'SHE-Transmission PLC'!AK163, SPTL!AK163, 'NGET TO'!AK163),CHOOSE(m_identity,'SHE-Transmission PLC (Blank - )'!AK163, 'SPTL (Blank - not used)'!AK163, 'NGET TO (Blank - not used)'!AK163))","v":0.3},{"$f":"IF(UserInterface!$E$69 = 1,CHOOSE(m_identity,'SHE-Transmission PLC'!AL163, SPTL!AL163, 'NGET TO'!AL163),CHOOSE(m_identity,'SHE-Transmission PLC (Blank - )'!AL163, 'SPTL (Blank - not used)'!AL163, 'NGET TO (Blank - not used)'!AL163))","v":0.3},{"$f":"IF(UserInterface!$E$69 = 1,CHOOSE(m_identity,'SHE-Transmission PLC'!AM163, SPTL!AM163, 'NGET TO'!AM163),CHOOSE(m_identity,'SHE-Transmission PLC (Blank - )'!AM163, 'SPTL (Blank - not used)'!AM163, 'NGET TO (Blank - not used)'!AM163))","v":0.3},{"$f":"IF(UserInterface!$E$69 = 1,CHOOSE(m_identity,'SHE-Transmission PLC'!AN163, SPTL!AN163, 'NGET TO'!AN163),CHOOSE(m_identity,'SHE-Transmission PLC (Blank - )'!AN163, 'SPTL (Blank - not used)'!AN163, 'NGET TO (Blank - not used)'!AN163))","v":0.3},{"$f":"IF(UserInterface!$E$69 = 1,CHOOSE(m_identity,'SHE-Transmission PLC'!AO163, SPTL!AO163, 'NGET TO'!AO163),CHOOSE(m_identity,'SHE-Transmission PLC (Blank - )'!AO163, 'SPTL (Blank - not used)'!AO163, 'NGET TO (Blank - not used)'!AO163))","v":0.3}]
[null,null,null,null,"Allocation to asset replacement capex expenditure",null,"%",null,null,null,null,null,null,null,null,null,null,null,null,null,null,null,null,null,null,null,null,null,null,null,null,null,null,{"$f":"IF(UserInterface!$E$69 = 1,CHOOSE(m_identity,'SHE-Transmission PLC'!AH164, SPTL!AH164, 'NGET TO'!AH164),CHOOSE(m_identity,'SHE-Transmission PLC (Blank - )'!AH164, 'SPTL (Blank - not used)'!AH164, 'NGET TO (Blank - not used)'!AH164))","v":0.1},{"$f":"IF(UserInterface!$E$69 = 1,CHOOSE(m_identity,'SHE-Transmission PLC'!AI164, SPTL!AI164, 'NGET TO'!AI164),CHOOSE(m_identity,'SHE-Transmission PLC (Blank - )'!AI164, 'SPTL (Blank - not used)'!AI164, 'NGET TO (Blank - not used)'!AI164))","v":0.1},{"$f":"IF(UserInterface!$E$69 = 1,CHOOSE(m_identity,'SHE-Transmission PLC'!AJ164, SPTL!AJ164, 'NGET TO'!AJ164),CHOOSE(m_identity,'SHE-Transmission PLC (Blank - )'!AJ164, 'SPTL (Blank - not used)'!AJ164, 'NGET TO (Blank - not used)'!AJ164))","v":0.1},{"$f":"IF(UserInterface!$E$69 = 1,CHOOSE(m_identity,'SHE-Transmission PLC'!AK164, SPTL!AK164, 'NGET TO'!AK164),CHOOSE(m_identity,'SHE-Transmission PLC (Blank - )'!AK164, 'SPTL (Blank - not used)'!AK164, 'NGET TO (Blank - not used)'!AK164))","v":0.1},{"$f":"IF(UserInterface!$E$69 = 1,CHOOSE(m_identity,'SHE-Transmission PLC'!AL164, SPTL!AL164, 'NGET TO'!AL164),CHOOSE(m_identity,'SHE-Transmission PLC (Blank - )'!AL164, 'SPTL (Blank - not used)'!AL164, 'NGET TO (Blank - not used)'!AL164))","v":0.1},{"$f":"IF(UserInterface!$E$69 = 1,CHOOSE(m_identity,'SHE-Transmission PLC'!AM164, SPTL!AM164, 'NGET TO'!AM164),CHOOSE(m_identity,'SHE-Transmission PLC (Blank - )'!AM164, 'SPTL (Blank - not used)'!AM164, 'NGET TO (Blank - not used)'!AM164))","v":0.1},{"$f":"IF(UserInterface!$E$69 = 1,CHOOSE(m_identity,'SHE-Transmission PLC'!AN164, SPTL!AN164, 'NGET TO'!AN164),CHOOSE(m_identity,'SHE-Transmission PLC (Blank - )'!AN164, 'SPTL (Blank - not used)'!AN164, 'NGET TO (Blank - not used)'!AN164))","v":0.1},{"$f":"IF(UserInterface!$E$69 = 1,CHOOSE(m_identity,'SHE-Transmission PLC'!AO164, SPTL!AO164, 'NGET TO'!AO164),CHOOSE(m_identity,'SHE-Transmission PLC (Blank - )'!AO164, 'SPTL (Blank - not used)'!AO164, 'NGET TO (Blank - not used)'!AO164))","v":0.1}]
[null,null,null,null,"Allocation to other capex expenditure",null,"%",null,null,null,null,null,null,null,null,null,null,null,null,null,null,null,null,null,null,null,null,null,null,null,null,null,null,{"$f":"IF(UserInterface!$E$69 = 1,CHOOSE(m_identity,'SHE-Transmission PLC'!AH165, SPTL!AH165, 'NGET TO'!AH165),CHOOSE(m_identity,'SHE-Transmission PLC (Blank - )'!AH165, 'SPTL (Blank - not used)'!AH165, 'NGET TO (Blank - not used)'!AH165))","v":0.5},{"$f":"IF(UserInterface!$E$69 = 1,CHOOSE(m_identity,'SHE-Transmission PLC'!AI165, SPTL!AI165, 'NGET TO'!AI165),CHOOSE(m_identity,'SHE-Transmission PLC (Blank - )'!AI165, 'SPTL (Blank - not used)'!AI165, 'NGET TO (Blank - not used)'!AI165))","v":0.5},{"$f":"IF(UserInterface!$E$69 = 1,CHOOSE(m_identity,'SHE-Transmission PLC'!AJ165, SPTL!AJ165, 'NGET TO'!AJ165),CHOOSE(m_identity,'SHE-Transmission PLC (Blank - )'!AJ165, 'SPTL (Blank - not used)'!AJ165, 'NGET TO (Blank - not used)'!AJ165))","v":0.5},{"$f":"IF(UserInterface!$E$69 = 1,CHOOSE(m_identity,'SHE-Transmission PLC'!AK165, SPTL!AK165, 'NGET TO'!AK165),CHOOSE(m_identity,'SHE-Transmission PLC (Blank - )'!AK165, 'SPTL (Blank - not used)'!AK165, 'NGET TO (Blank - not used)'!AK165))","v":0.5},{"$f":"IF(UserInterface!$E$69 = 1,CHOOSE(m_identity,'SHE-Transmission PLC'!AL165, SPTL!AL165, 'NGET TO'!AL165),CHOOSE(m_identity,'SHE-Transmission PLC (Blank - )'!AL165, 'SPTL (Blank - not used)'!AL165, 'NGET TO (Blank - not used)'!AL165))","v":0.5},{"$f":"IF(UserInterface!$E$69 = 1,CHOOSE(m_identity,'SHE-Transmission PLC'!AM165, SPTL!AM165, 'NGET TO'!AM165),CHOOSE(m_identity,'SHE-Transmission PLC (Blank - )'!AM165, 'SPTL (Blank - not used)'!AM165, 'NGET TO (Blank - not used)'!AM165))","v":0.5},{"$f":"IF(UserInterface!$E$69 = 1,CHOOSE(m_identity,'SHE-Transmission PLC'!AN165, SPTL!AN165, 'NGET TO'!AN165),CHOOSE(m_identity,'SHE-Transmission PLC (Blank - )'!AN165, 'SPTL (Blank - not used)'!AN165, 'NGET TO (Blank - not used)'!AN165))","v":0.5},{"$f":"IF(UserInterface!$E$69 = 1,CHOOSE(m_identity,'SHE-Transmission PLC'!AO165, SPTL!AO165, 'NGET TO'!AO165),CHOOSE(m_identity,'SHE-Transmission PLC (Blank - )'!AO165, 'SPTL (Blank - not used)'!AO165, 'NGET TO (Blank - not used)'!AO165))","v":0.5}]
[null,null,null,null,"Allocation to controllable opex",null,"%",null,null,null,null,null,null,null,null,null,null,null,null,null,null,null,null,null,null,null,null,null,null,null,null,null,null,{"$f":"IF(UserInterface!$E$69 = 1,CHOOSE(m_identity,'SHE-Transmission PLC'!AH166, SPTL!AH166, 'NGET TO'!AH166),CHOOSE(m_identity,'SHE-Transmission PLC (Blank - )'!AH166, 'SPTL (Blank - not used)'!AH166, 'NGET TO (Blank - not used)'!AH166))","v":0.1},{"$f":"IF(UserInterface!$E$69 = 1,CHOOSE(m_identity,'SHE-Transmission PLC'!AI166, SPTL!AI166, 'NGET TO'!AI166),CHOOSE(m_identity,'SHE-Transmission PLC (Blank - )'!AI166, 'SPTL (Blank - not used)'!AI166, 'NGET TO (Blank - not used)'!AI166))","v":0.1},{"$f":"IF(UserInterface!$E$69 = 1,CHOOSE(m_identity,'SHE-Transmission PLC'!AJ166, SPTL!AJ166, 'NGET TO'!AJ166),CHOOSE(m_identity,'SHE-Transmission PLC (Blank - )'!AJ166, 'SPTL (Blank - not used)'!AJ166, 'NGET TO (Blank - not used)'!AJ166))","v":0.1},{"$f":"IF(UserInterface!$E$69 = 1,CHOOSE(m_identity,'SHE-Transmission PLC'!AK166, SPTL!AK166, 'NGET TO'!AK166),CHOOSE(m_identity,'SHE-Transmission PLC (Blank - )'!AK166, 'SPTL (Blank - not used)'!AK166, 'NGET TO (Blank - not used)'!AK166))","v":0.1},{"$f":"IF(UserInterface!$E$69 = 1,CHOOSE(m_identity,'SHE-Transmission PLC'!AL166, SPTL!AL166, 'NGET TO'!AL166),CHOOSE(m_identity,'SHE-Transmission PLC (Blank - )'!AL166, 'SPTL (Blank - not used)'!AL166, 'NGET TO (Blank - not used)'!AL166))","v":0.1},{"$f":"IF(UserInterface!$E$69 = 1,CHOOSE(m_identity,'SHE-Transmission PLC'!AM166, SPTL!AM166, 'NGET TO'!AM166),CHOOSE(m_identity,'SHE-Transmission PLC (Blank - )'!AM166, 'SPTL (Blank - not used)'!AM166, 'NGET TO (Blank - not used)'!AM166))","v":0.1},{"$f":"IF(UserInterface!$E$69 = 1,CHOOSE(m_identity,'SHE-Transmission PLC'!AN166, SPTL!AN166, 'NGET TO'!AN166),CHOOSE(m_identity,'SHE-Transmission PLC (Blank - )'!AN166, 'SPTL (Blank - not used)'!AN166, 'NGET TO (Blank - not used)'!AN166))","v":0.1},{"$f":"IF(UserInterface!$E$69 = 1,CHOOSE(m_identity,'SHE-Transmission PLC'!AO166, SPTL!AO166, 'NGET TO'!AO166),CHOOSE(m_identity,'SHE-Transmission PLC (Blank - )'!AO166, 'SPTL (Blank - not used)'!AO166, 'NGET TO (Blank - not used)'!AO166))","v":0.1}]
[null,null,null,null,"Allocation to non-operational capex",null,"%",null,null,null,null,null,null,null,null,null,null,null,null,null,null,null,null,null,null,null,null,null,null,null,null,null,null,{"$f":"IF(UserInterface!$E$69 = 1,CHOOSE(m_identity,'SHE-Transmission PLC'!AH167, SPTL!AH167, 'NGET TO'!AH167),CHOOSE(m_identity,'SHE-Transmission PLC (Blank - )'!AH167, 'SPTL (Blank - not used)'!AH167, 'NGET TO (Blank - not used)'!AH167))","v":0},{"$f":"IF(UserInterface!$E$69 = 1,CHOOSE(m_identity,'SHE-Transmission PLC'!AI167, SPTL!AI167, 'NGET TO'!AI167),CHOOSE(m_identity,'SHE-Transmission PLC (Blank - )'!AI167, 'SPTL (Blank - not used)'!AI167, 'NGET TO (Blank - not used)'!AI167))","v":0},{"$f":"IF(UserInterface!$E$69 = 1,CHOOSE(m_identity,'SHE-Transmission PLC'!AJ167, SPTL!AJ167, 'NGET TO'!AJ167),CHOOSE(m_identity,'SHE-Transmission PLC (Blank - )'!AJ167, 'SPTL (Blank - not used)'!AJ167, 'NGET TO (Blank - not used)'!AJ167))","v":0},{"$f":"IF(UserInterface!$E$69 = 1,CHOOSE(m_identity,'SHE-Transmission PLC'!AK167, SPTL!AK167, 'NGET TO'!AK167),CHOOSE(m_identity,'SHE-Transmission PLC (Blank - )'!AK167, 'SPTL (Blank - not used)'!AK167, 'NGET TO (Blank - not used)'!AK167))","v":0},{"$f":"IF(UserInterface!$E$69 = 1,CHOOSE(m_identity,'SHE-Transmission PLC'!AL167, SPTL!AL167, 'NGET TO'!AL167),CHOOSE(m_identity,'SHE-Transmission PLC (Blank - )'!AL167, 'SPTL (Blank - not used)'!AL167, 'NGET TO (Blank - not used)'!AL167))","v":0},{"$f":"IF(UserInterface!$E$69 = 1,CHOOSE(m_identity,'SHE-Transmission PLC'!AM167, SPTL!AM167, 'NGET TO'!AM167),CHOOSE(m_identity,'SHE-Transmission PLC (Blank - )'!AM167, 'SPTL (Blank - not used)'!AM167, 'NGET TO (Blank - not used)'!AM167))","v":0},{"$f":"IF(UserInterface!$E$69 = 1,CHOOSE(m_identity,'SHE-Transmission PLC'!AN167, SPTL!AN167, 'NGET TO'!AN167),CHOOSE(m_identity,'SHE-Transmission PLC (Blank - )'!AN167, 'SPTL (Blank - not used)'!AN167, 'NGET TO (Blank - not used)'!AN167))","v":0},{"$f":"IF(UserInterface!$E$69 = 1,CHOOSE(m_identity,'SHE-Transmission PLC'!AO167, SPTL!AO167, 'NGET TO'!AO167),CHOOSE(m_identity,'SHE-Transmission PLC (Blank - )'!AO167, 'SPTL (Blank - not used)'!AO167, 'NGET TO (Blank - not used)'!AO167))","v":0}]
[]
[null,null,null,null,{"$f":"E25","v":"Exceptional Sub Sea Cable Faults"},null,"£m 09/10 prices",null,null,null,null,null,null,null,null,null,null,null,null,null,null,null,null,null,null,null,null,null,null,null,null,null,null,{"$f":"AH25","v":0},{"$f":"AI25","v":0},0,0,0,0,0,0]
[null,null,null,null,"Allocation to load related capex expenditure",null,"%",null,null,null,null,null,null,null,null,null,null,null,null,null,null,null,null,null,null,null,null,null,null,null,null,null,null,{"$f":"IF(UserInterface!$E$69 = 1,CHOOSE(m_identity,'SHE-Transmission PLC'!AH170, SPTL!AH170, 'NGET TO'!AH170),CHOOSE(m_identity,'SHE-Transmission PLC (Blank - )'!AH170, 'SPTL (Blank - not used)'!AH170, 'NGET TO (Blank - not used)'!AH170))","v":0},{"$f":"IF(UserInterface!$E$69 = 1,CHOOSE(m_identity,'SHE-Transmission PLC'!AI170, SPTL!AI170, 'NGET TO'!AI170),CHOOSE(m_identity,'SHE-Transmission PLC (Blank - )'!AI170, 'SPTL (Blank - not used)'!AI170, 'NGET TO (Blank - not used)'!AI170))","v":0},{"$f":"IF(UserInterface!$E$69 = 1,CHOOSE(m_identity,'SHE-Transmission PLC'!AJ170, SPTL!AJ170, 'NGET TO'!AJ170),CHOOSE(m_identity,'SHE-Transmission PLC (Blank - )'!AJ170, 'SPTL (Blank - not used)'!AJ170, 'NGET TO (Blank - not used)'!AJ170))","v":0},{"$f":"IF(UserInterface!$E$69 = 1,CHOOSE(m_identity,'SHE-Transmission PLC'!AK170, SPTL!AK170, 'NGET TO'!AK170),CHOOSE(m_identity,'SHE-Transmission PLC (Blank - )'!AK170, 'SPTL (Blank - not used)'!AK170, 'NGET TO (Blank - not used)'!AK170))","v":0},{"$f":"IF(UserInterface!$E$69 = 1,CHOOSE(m_identity,'SHE-Transmission PLC'!AL170, SPTL!AL170, 'NGET TO'!AL170),CHOOSE(m_identity,'SHE-Transmission PLC (Blank - )'!AL170, 'SPTL (Blank - not used)'!AL170, 'NGET TO (Blank - not used)'!AL170))","v":0},{"$f":"IF(UserInterface!$E$69 = 1,CHOOSE(m_identity,'SHE-Transmission PLC'!AM170, SPTL!AM170, 'NGET TO'!AM170),CHOOSE(m_identity,'SHE-Transmission PLC (Blank - )'!AM170, 'SPTL (Blank - not used)'!AM170, 'NGET TO (Blank - not used)'!AM170))","v":0},{"$f":"IF(UserInterface!$E$69 = 1,CHOOSE(m_identity,'SHE-Transmission PLC'!AN170, SPTL!AN170, 'NGET TO'!AN170),CHOOSE(m_identity,'SHE-Transmission PLC (Blank - )'!AN170, 'SPTL (Blank - not used)'!AN170, 'NGET TO (Blank - not used)'!AN170))","v":0},{"$f":"IF(UserInterface!$E$69 = 1,CHOOSE(m_identity,'SHE-Transmission PLC'!AO170, SPTL!AO170, 'NGET TO'!AO170),CHOOSE(m_identity,'SHE-Transmission PLC (Blank - )'!AO170, 'SPTL (Blank - not used)'!AO170, 'NGET TO (Blank - not used)'!AO170))","v":0}]
[null,null,null,null,"Allocation to asset replacement capex expenditure",null,"%",null,null,null,null,null,null,null,null,null,null,null,null,null,null,null,null,null,null,null,null,null,null,null,null,null,null,{"$f":"IF(UserInterface!$E$69 = 1,CHOOSE(m_identity,'SHE-Transmission PLC'!AH171, SPTL!AH171, 'NGET TO'!AH171),CHOOSE(m_identity,'SHE-Transmission PLC (Blank - )'!AH171, 'SPTL (Blank - not used)'!AH171, 'NGET TO (Blank - not used)'!AH171))","v":0},{"$f":"IF(UserInterface!$E$69 = 1,CHOOSE(m_identity,'SHE-Transmission PLC'!AI171, SPTL!AI171, 'NGET TO'!AI171),CHOOSE(m_identity,'SHE-Transmission PLC (Blank - )'!AI171, 'SPTL (Blank - not used)'!AI171, 'NGET TO (Blank - not used)'!AI171))","v":0},{"$f":"IF(UserInterface!$E$69 = 1,CHOOSE(m_identity,'SHE-Transmission PLC'!AJ171, SPTL!AJ171, 'NGET TO'!AJ171),CHOOSE(m_identity,'SHE-Transmission PLC (Blank - )'!AJ171, 'SPTL (Blank - not used)'!AJ171, 'NGET TO (Blank - not used)'!AJ171))","v":0},{"$f":"IF(UserInterface!$E$69 = 1,CHOOSE(m_identity,'SHE-Transmission PLC'!AK171, SPTL!AK171, 'NGET TO'!AK171),CHOOSE(m_identity,'SHE-Transmission PLC (Blank - )'!AK171, 'SPTL (Blank - not used)'!AK171, 'NGET TO (Blank - not used)'!AK171))","v":0},{"$f":"IF(UserInterface!$E$69 = 1,CHOOSE(m_identity,'SHE-Transmission PLC'!AL171, SPTL!AL171, 'NGET TO'!AL171),CHOOSE(m_identity,'SHE-Transmission PLC (Blank - )'!AL171, 'SPTL (Blank - not used)'!AL171, 'NGET TO (Blank - not used)'!AL171))","v":0},{"$f":"IF(UserInterface!$E$69 = 1,CHOOSE(m_identity,'SHE-Transmission PLC'!AM171, SPTL!AM171, 'NGET TO'!AM171),CHOOSE(m_identity,'SHE-Transmission PLC (Blank - )'!AM171, 'SPTL (Blank - not used)'!AM171, 'NGET TO (Blank - not used)'!AM171))","v":0},{"$f":"IF(UserInterface!$E$69 = 1,CHOOSE(m_identity,'SHE-Transmission PLC'!AN171, SPTL!AN171, 'NGET TO'!AN171),CHOOSE(m_identity,'SHE-Transmission PLC (Blank - )'!AN171, 'SPTL (Blank - not used)'!AN171, 'NGET TO (Blank - not used)'!AN171))","v":0},{"$f":"IF(UserInterface!$E$69 = 1,CHOOSE(m_identity,'SHE-Transmission PLC'!AO171, SPTL!AO171, 'NGET TO'!AO171),CHOOSE(m_identity,'SHE-Transmission PLC (Blank - )'!AO171, 'SPTL (Blank - not used)'!AO171, 'NGET TO (Blank - not used)'!AO171))","v":0}]
[null,null,null,null,"Allocation to other capex expenditure",null,"%",null,null,null,null,null,null,null,null,null,null,null,null,null,null,null,null,null,null,null,null,null,null,null,null,null,null,{"$f":"IF(UserInterface!$E$69 = 1,CHOOSE(m_identity,'SHE-Transmission PLC'!AH172, SPTL!AH172, 'NGET TO'!AH172),CHOOSE(m_identity,'SHE-Transmission PLC (Blank - )'!AH172, 'SPTL (Blank - not used)'!AH172, 'NGET TO (Blank - not used)'!AH172))","v":1},{"$f":"IF(UserInterface!$E$69 = 1,CHOOSE(m_identity,'SHE-Transmission PLC'!AI172, SPTL!AI172, 'NGET TO'!AI172),CHOOSE(m_identity,'SHE-Transmission PLC (Blank - )'!AI172, 'SPTL (Blank - not used)'!AI172, 'NGET TO (Blank - not used)'!AI172))","v":1},{"$f":"IF(UserInterface!$E$69 = 1,CHOOSE(m_identity,'SHE-Transmission PLC'!AJ172, SPTL!AJ172, 'NGET TO'!AJ172),CHOOSE(m_identity,'SHE-Transmission PLC (Blank - )'!AJ172, 'SPTL (Blank - not used)'!AJ172, 'NGET TO (Blank - not used)'!AJ172))","v":1},{"$f":"IF(UserInterface!$E$69 = 1,CHOOSE(m_identity,'SHE-Transmission PLC'!AK172, SPTL!AK172, 'NGET TO'!AK172),CHOOSE(m_identity,'SHE-Transmission PLC (Blank - )'!AK172, 'SPTL (Blank - not used)'!AK172, 'NGET TO (Blank - not used)'!AK172))","v":1},{"$f":"IF(UserInterface!$E$69 = 1,CHOOSE(m_identity,'SHE-Transmission PLC'!AL172, SPTL!AL172, 'NGET TO'!AL172),CHOOSE(m_identity,'SHE-Transmission PLC (Blank - )'!AL172, 'SPTL (Blank - not used)'!AL172, 'NGET TO (Blank - not used)'!AL172))","v":1},{"$f":"IF(UserInterface!$E$69 = 1,CHOOSE(m_identity,'SHE-Transmission PLC'!AM172, SPTL!AM172, 'NGET TO'!AM172),CHOOSE(m_identity,'SHE-Transmission PLC (Blank - )'!AM172, 'SPTL (Blank - not used)'!AM172, 'NGET TO (Blank - not used)'!AM172))","v":1},{"$f":"IF(UserInterface!$E$69 = 1,CHOOSE(m_identity,'SHE-Transmission PLC'!AN172, SPTL!AN172, 'NGET TO'!AN172),CHOOSE(m_identity,'SHE-Transmission PLC (Blank - )'!AN172, 'SPTL (Blank - not used)'!AN172, 'NGET TO (Blank - not used)'!AN172))","v":1},{"$f":"IF(UserInterface!$E$69 = 1,CHOOSE(m_identity,'SHE-Transmission PLC'!AO172, SPTL!AO172, 'NGET TO'!AO172),CHOOSE(m_identity,'SHE-Transmission PLC (Blank - )'!AO172, 'SPTL (Blank - not used)'!AO172, 'NGET TO (Blank - not used)'!AO172))","v":1}]
[null,null,null,null,"Allocation to controllable opex",null,"%",null,null,null,null,null,null,null,null,null,null,null,null,null,null,null,null,null,null,null,null,null,null,null,null,null,null,{"$f":"IF(UserInterface!$E$69 = 1,CHOOSE(m_identity,'SHE-Transmission PLC'!AH173, SPTL!AH173, 'NGET TO'!AH173),CHOOSE(m_identity,'SHE-Transmission PLC (Blank - )'!AH173, 'SPTL (Blank - not used)'!AH173, 'NGET TO (Blank - not used)'!AH173))","v":0},{"$f":"IF(UserInterface!$E$69 = 1,CHOOSE(m_identity,'SHE-Transmission PLC'!AI173, SPTL!AI173, 'NGET TO'!AI173),CHOOSE(m_identity,'SHE-Transmission PLC (Blank - )'!AI173, 'SPTL (Blank - not used)'!AI173, 'NGET TO (Blank - not used)'!AI173))","v":0},{"$f":"IF(UserInterface!$E$69 = 1,CHOOSE(m_identity,'SHE-Transmission PLC'!AJ173, SPTL!AJ173, 'NGET TO'!AJ173),CHOOSE(m_identity,'SHE-Transmission PLC (Blank - )'!AJ173, 'SPTL (Blank - not used)'!AJ173, 'NGET TO (Blank - not used)'!AJ173))","v":0},{"$f":"IF(UserInterface!$E$69 = 1,CHOOSE(m_identity,'SHE-Transmission PLC'!AK173, SPTL!AK173, 'NGET TO'!AK173),CHOOSE(m_identity,'SHE-Transmission PLC (Blank - )'!AK173, 'SPTL (Blank - not used)'!AK173, 'NGET TO (Blank - not used)'!AK173))","v":0},{"$f":"IF(UserInterface!$E$69 = 1,CHOOSE(m_identity,'SHE-Transmission PLC'!AL173, SPTL!AL173, 'NGET TO'!AL173),CHOOSE(m_identity,'SHE-Transmission PLC (Blank - )'!AL173, 'SPTL (Blank - not used)'!AL173, 'NGET TO (Blank - not used)'!AL173))","v":0},{"$f":"IF(UserInterface!$E$69 = 1,CHOOSE(m_identity,'SHE-Transmission PLC'!AM173, SPTL!AM173, 'NGET TO'!AM173),CHOOSE(m_identity,'SHE-Transmission PLC (Blank - )'!AM173, 'SPTL (Blank - not used)'!AM173, 'NGET TO (Blank - not used)'!AM173))","v":0},{"$f":"IF(UserInterface!$E$69 = 1,CHOOSE(m_identity,'SHE-Transmission PLC'!AN173, SPTL!AN173, 'NGET TO'!AN173),CHOOSE(m_identity,'SHE-Transmission PLC (Blank - )'!AN173, 'SPTL (Blank - not used)'!AN173, 'NGET TO (Blank - not used)'!AN173))","v":0},{"$f":"IF(UserInterface!$E$69 = 1,CHOOSE(m_identity,'SHE-Transmission PLC'!AO173, SPTL!AO173, 'NGET TO'!AO173),CHOOSE(m_identity,'SHE-Transmission PLC (Blank - )'!AO173, 'SPTL (Blank - not used)'!AO173, 'NGET TO (Blank - not used)'!AO173))","v":0}]
[null,null,null,null,"Allocation to non-operational capex",null,"%",null,null,null,null,null,null,null,null,null,null,null,null,null,null,null,null,null,null,null,null,null,null,null,null,null,null,{"$f":"IF(UserInterface!$E$69 = 1,CHOOSE(m_identity,'SHE-Transmission PLC'!AH174, SPTL!AH174, 'NGET TO'!AH174),CHOOSE(m_identity,'SHE-Transmission PLC (Blank - )'!AH174, 'SPTL (Blank - not used)'!AH174, 'NGET TO (Blank - not used)'!AH174))","v":0},{"$f":"IF(UserInterface!$E$69 = 1,CHOOSE(m_identity,'SHE-Transmission PLC'!AI174, SPTL!AI174, 'NGET TO'!AI174),CHOOSE(m_identity,'SHE-Transmission PLC (Blank - )'!AI174, 'SPTL (Blank - not used)'!AI174, 'NGET TO (Blank - not used)'!AI174))","v":0},{"$f":"IF(UserInterface!$E$69 = 1,CHOOSE(m_identity,'SHE-Transmission PLC'!AJ174, SPTL!AJ174, 'NGET TO'!AJ174),CHOOSE(m_identity,'SHE-Transmission PLC (Blank - )'!AJ174, 'SPTL (Blank - not used)'!AJ174, 'NGET TO (Blank - not used)'!AJ174))","v":0},{"$f":"IF(UserInterface!$E$69 = 1,CHOOSE(m_identity,'SHE-Transmission PLC'!AK174, SPTL!AK174, 'NGET TO'!AK174),CHOOSE(m_identity,'SHE-Transmission PLC (Blank - )'!AK174, 'SPTL (Blank - not used)'!AK174, 'NGET TO (Blank - not used)'!AK174))","v":0},{"$f":"IF(UserInterface!$E$69 = 1,CHOOSE(m_identity,'SHE-Transmission PLC'!AL174, SPTL!AL174, 'NGET TO'!AL174),CHOOSE(m_identity,'SHE-Transmission PLC (Blank - )'!AL174, 'SPTL (Blank - not used)'!AL174, 'NGET TO (Blank - not used)'!AL174))","v":0},{"$f":"IF(UserInterface!$E$69 = 1,CHOOSE(m_identity,'SHE-Transmission PLC'!AM174, SPTL!AM174, 'NGET TO'!AM174),CHOOSE(m_identity,'SHE-Transmission PLC (Blank - )'!AM174, 'SPTL (Blank - not used)'!AM174, 'NGET TO (Blank - not used)'!AM174))","v":0},{"$f":"IF(UserInterface!$E$69 = 1,CHOOSE(m_identity,'SHE-Transmission PLC'!AN174, SPTL!AN174, 'NGET TO'!AN174),CHOOSE(m_identity,'SHE-Transmission PLC (Blank - )'!AN174, 'SPTL (Blank - not used)'!AN174, 'NGET TO (Blank - not used)'!AN174))","v":0},{"$f":"IF(UserInterface!$E$69 = 1,CHOOSE(m_identity,'SHE-Transmission PLC'!AO174, SPTL!AO174, 'NGET TO'!AO174),CHOOSE(m_identity,'SHE-Transmission PLC (Blank - )'!AO174, 'SPTL (Blank - not used)'!AO174, 'NGET TO (Blank - not used)'!AO174))","v":0}]
[]
[null,null,null,null,{"$f":"E26","v":"Non-load Related Work Costs"},null,"£m 09/10 prices",null,null,null,null,null,null,null,null,null,null,null,null,null,null,null,null,null,null,null,null,null,null,null,null,null,null,{"$f":"AH26","v":0},{"$f":"AI26","v":0},0,0,0,0,0,0]
[null,null,null,null,"Allocation to load related capex expenditure",null,"%",null,null,null,null,null,null,null,null,null,null,null,null,null,null,null,null,null,null,null,null,null,null,null,null,null,null,{"$f":"IF(UserInterface!$E$69 = 1,CHOOSE(m_identity,'SHE-Transmission PLC'!AH177, SPTL!AH177, 'NGET TO'!AH177),CHOOSE(m_identity,'SHE-Transmission PLC (Blank - )'!AH177, 'SPTL (Blank - not used)'!AH177, 'NGET TO (Blank - not used)'!AH177))","v":0},{"$f":"IF(UserInterface!$E$69 = 1,CHOOSE(m_identity,'SHE-Transmission PLC'!AI177, SPTL!AI177, 'NGET TO'!AI177),CHOOSE(m_identity,'SHE-Transmission PLC (Blank - )'!AI177, 'SPTL (Blank - not used)'!AI177, 'NGET TO (Blank - not used)'!AI177))","v":0},{"$f":"IF(UserInterface!$E$69 = 1,CHOOSE(m_identity,'SHE-Transmission PLC'!AJ177, SPTL!AJ177, 'NGET TO'!AJ177),CHOOSE(m_identity,'SHE-Transmission PLC (Blank - )'!AJ177, 'SPTL (Blank - not used)'!AJ177, 'NGET TO (Blank - not used)'!AJ177))","v":0},{"$f":"IF(UserInterface!$E$69 = 1,CHOOSE(m_identity,'SHE-Transmission PLC'!AK177, SPTL!AK177, 'NGET TO'!AK177),CHOOSE(m_identity,'SHE-Transmission PLC (Blank - )'!AK177, 'SPTL (Blank - not used)'!AK177, 'NGET TO (Blank - not used)'!AK177))","v":0},{"$f":"IF(UserInterface!$E$69 = 1,CHOOSE(m_identity,'SHE-Transmission PLC'!AL177, SPTL!AL177, 'NGET TO'!AL177),CHOOSE(m_identity,'SHE-Transmission PLC (Blank - )'!AL177, 'SPTL (Blank - not used)'!AL177, 'NGET TO (Blank - not used)'!AL177))","v":0},{"$f":"IF(UserInterface!$E$69 = 1,CHOOSE(m_identity,'SHE-Transmission PLC'!AM177, SPTL!AM177, 'NGET TO'!AM177),CHOOSE(m_identity,'SHE-Transmission PLC (Blank - )'!AM177, 'SPTL (Blank - not used)'!AM177, 'NGET TO (Blank - not used)'!AM177))","v":0},{"$f":"IF(UserInterface!$E$69 = 1,CHOOSE(m_identity,'SHE-Transmission PLC'!AN177, SPTL!AN177, 'NGET TO'!AN177),CHOOSE(m_identity,'SHE-Transmission PLC (Blank - )'!AN177, 'SPTL (Blank - not used)'!AN177, 'NGET TO (Blank - not used)'!AN177))","v":0},{"$f":"IF(UserInterface!$E$69 = 1,CHOOSE(m_identity,'SHE-Transmission PLC'!AO177, SPTL!AO177, 'NGET TO'!AO177),CHOOSE(m_identity,'SHE-Transmission PLC (Blank - )'!AO177, 'SPTL (Blank - not used)'!AO177, 'NGET TO (Blank - not used)'!AO177))","v":0}]
[null,null,null,null,"Allocation to asset replacement capex expenditure",null,"%",null,null,null,null,null,null,null,null,null,null,null,null,null,null,null,null,null,null,null,null,null,null,null,null,null,null,{"$f":"IF(UserInterface!$E$69 = 1,CHOOSE(m_identity,'SHE-Transmission PLC'!AH178, SPTL!AH178, 'NGET TO'!AH178),CHOOSE(m_identity,'SHE-Transmission PLC (Blank - )'!AH178, 'SPTL (Blank - not used)'!AH178, 'NGET TO (Blank - not used)'!AH178))","v":0},{"$f":"IF(UserInterface!$E$69 = 1,CHOOSE(m_identity,'SHE-Transmission PLC'!AI178, SPTL!AI178, 'NGET TO'!AI178),CHOOSE(m_identity,'SHE-Transmission PLC (Blank - )'!AI178, 'SPTL (Blank - not used)'!AI178, 'NGET TO (Blank - not used)'!AI178))","v":0},{"$f":"IF(UserInterface!$E$69 = 1,CHOOSE(m_identity,'SHE-Transmission PLC'!AJ178, SPTL!AJ178, 'NGET TO'!AJ178),CHOOSE(m_identity,'SHE-Transmission PLC (Blank - )'!AJ178, 'SPTL (Blank - not used)'!AJ178, 'NGET TO (Blank - not used)'!AJ178))","v":0},{"$f":"IF(UserInterface!$E$69 = 1,CHOOSE(m_identity,'SHE-Transmission PLC'!AK178, SPTL!AK178, 'NGET TO'!AK178),CHOOSE(m_identity,'SHE-Transmission PLC (Blank - )'!AK178, 'SPTL (Blank - not used)'!AK178, 'NGET TO (Blank - not used)'!AK178))","v":0},{"$f":"IF(UserInterface!$E$69 = 1,CHOOSE(m_identity,'SHE-Transmission PLC'!AL178, SPTL!AL178, 'NGET TO'!AL178),CHOOSE(m_identity,'SHE-Transmission PLC (Blank - )'!AL178, 'SPTL (Blank - not used)'!AL178, 'NGET TO (Blank - not used)'!AL178))","v":0},{"$f":"IF(UserInterface!$E$69 = 1,CHOOSE(m_identity,'SHE-Transmission PLC'!AM178, SPTL!AM178, 'NGET TO'!AM178),CHOOSE(m_identity,'SHE-Transmission PLC (Blank - )'!AM178, 'SPTL (Blank - not used)'!AM178, 'NGET TO (Blank - not used)'!AM178))","v":0},{"$f":"IF(UserInterface!$E$69 = 1,CHOOSE(m_identity,'SHE-Transmission PLC'!AN178, SPTL!AN178, 'NGET TO'!AN178),CHOOSE(m_identity,'SHE-Transmission PLC (Blank - )'!AN178, 'SPTL (Blank - not used)'!AN178, 'NGET TO (Blank - not used)'!AN178))","v":0},{"$f":"IF(UserInterface!$E$69 = 1,CHOOSE(m_identity,'SHE-Transmission PLC'!AO178, SPTL!AO178, 'NGET TO'!AO178),CHOOSE(m_identity,'SHE-Transmission PLC (Blank - )'!AO178, 'SPTL (Blank - not used)'!AO178, 'NGET TO (Blank - not used)'!AO178))","v":0}]
[null,null,null,null,"Allocation to other capex expenditure",null,"%",null,null,null,null,null,null,null,null,null,null,null,null,null,null,null,null,null,null,null,null,null,null,null,null,null,null,{"$f":"IF(UserInterface!$E$69 = 1,CHOOSE(m_identity,'SHE-Transmission PLC'!AH179, SPTL!AH179, 'NGET TO'!AH179),CHOOSE(m_identity,'SHE-Transmission PLC (Blank - )'!AH179, 'SPTL (Blank - not used)'!AH179, 'NGET TO (Blank - not used)'!AH179))","v":1},{"$f":"IF(UserInterface!$E$69 = 1,CHOOSE(m_identity,'SHE-Transmission PLC'!AI179, SPTL!AI179, 'NGET TO'!AI179),CHOOSE(m_identity,'SHE-Transmission PLC (Blank - )'!AI179, 'SPTL (Blank - not used)'!AI179, 'NGET TO (Blank - not used)'!AI179))","v":1},{"$f":"IF(UserInterface!$E$69 = 1,CHOOSE(m_identity,'SHE-Transmission PLC'!AJ179, SPTL!AJ179, 'NGET TO'!AJ179),CHOOSE(m_identity,'SHE-Transmission PLC (Blank - )'!AJ179, 'SPTL (Blank - not used)'!AJ179, 'NGET TO (Blank - not used)'!AJ179))","v":1},{"$f":"IF(UserInterface!$E$69 = 1,CHOOSE(m_identity,'SHE-Transmission PLC'!AK179, SPTL!AK179, 'NGET TO'!AK179),CHOOSE(m_identity,'SHE-Transmission PLC (Blank - )'!AK179, 'SPTL (Blank - not used)'!AK179, 'NGET TO (Blank - not used)'!AK179))","v":1},{"$f":"IF(UserInterface!$E$69 = 1,CHOOSE(m_identity,'SHE-Transmission PLC'!AL179, SPTL!AL179, 'NGET TO'!AL179),CHOOSE(m_identity,'SHE-Transmission PLC (Blank - )'!AL179, 'SPTL (Blank - not used)'!AL179, 'NGET TO (Blank - not used)'!AL179))","v":1},{"$f":"IF(UserInterface!$E$69 = 1,CHOOSE(m_identity,'SHE-Transmission PLC'!AM179, SPTL!AM179, 'NGET TO'!AM179),CHOOSE(m_identity,'SHE-Transmission PLC (Blank - )'!AM179, 'SPTL (Blank - not used)'!AM179, 'NGET TO (Blank - not used)'!AM179))","v":1},{"$f":"IF(UserInterface!$E$69 = 1,CHOOSE(m_identity,'SHE-Transmission PLC'!AN179, SPTL!AN179, 'NGET TO'!AN179),CHOOSE(m_identity,'SHE-Transmission PLC (Blank - )'!AN179, 'SPTL (Blank - not used)'!AN179, 'NGET TO (Blank - not used)'!AN179))","v":1},{"$f":"IF(UserInterface!$E$69 = 1,CHOOSE(m_identity,'SHE-Transmission PLC'!AO179, SPTL!AO179, 'NGET TO'!AO179),CHOOSE(m_identity,'SHE-Transmission PLC (Blank - )'!AO179, 'SPTL (Blank - not used)'!AO179, 'NGET TO (Blank - not used)'!AO179))","v":1}]
[null,null,null,null,"Allocation to controllable opex",null,"%",null,null,null,null,null,null,null,null,null,null,null,null,null,null,null,null,null,null,null,null,null,null,null,null,null,null,{"$f":"IF(UserInterface!$E$69 = 1,CHOOSE(m_identity,'SHE-Transmission PLC'!AH180, SPTL!AH180, 'NGET TO'!AH180),CHOOSE(m_identity,'SHE-Transmission PLC (Blank - )'!AH180, 'SPTL (Blank - not used)'!AH180, 'NGET TO (Blank - not used)'!AH180))","v":0},{"$f":"IF(UserInterface!$E$69 = 1,CHOOSE(m_identity,'SHE-Transmission PLC'!AI180, SPTL!AI180, 'NGET TO'!AI180),CHOOSE(m_identity,'SHE-Transmission PLC (Blank - )'!AI180, 'SPTL (Blank - not used)'!AI180, 'NGET TO (Blank - not used)'!AI180))","v":0},{"$f":"IF(UserInterface!$E$69 = 1,CHOOSE(m_identity,'SHE-Transmission PLC'!AJ180, SPTL!AJ180, 'NGET TO'!AJ180),CHOOSE(m_identity,'SHE-Transmission PLC (Blank - )'!AJ180, 'SPTL (Blank - not used)'!AJ180, 'NGET TO (Blank - not used)'!AJ180))","v":0},{"$f":"IF(UserInterface!$E$69 = 1,CHOOSE(m_identity,'SHE-Transmission PLC'!AK180, SPTL!AK180, 'NGET TO'!AK180),CHOOSE(m_identity,'SHE-Transmission PLC (Blank - )'!AK180, 'SPTL (Blank - not used)'!AK180, 'NGET TO (Blank - not used)'!AK180))","v":0},{"$f":"IF(UserInterface!$E$69 = 1,CHOOSE(m_identity,'SHE-Transmission PLC'!AL180, SPTL!AL180, 'NGET TO'!AL180),CHOOSE(m_identity,'SHE-Transmission PLC (Blank - )'!AL180, 'SPTL (Blank - not used)'!AL180, 'NGET TO (Blank - not used)'!AL180))","v":0},{"$f":"IF(UserInterface!$E$69 = 1,CHOOSE(m_identity,'SHE-Transmission PLC'!AM180, SPTL!AM180, 'NGET TO'!AM180),CHOOSE(m_identity,'SHE-Transmission PLC (Blank - )'!AM180, 'SPTL (Blank - not used)'!AM180, 'NGET TO (Blank - not used)'!AM180))","v":0},{"$f":"IF(UserInterface!$E$69 = 1,CHOOSE(m_identity,'SHE-Transmission PLC'!AN180, SPTL!AN180, 'NGET TO'!AN180),CHOOSE(m_identity,'SHE-Transmission PLC (Blank - )'!AN180, 'SPTL (Blank - not used)'!AN180, 'NGET TO (Blank - not used)'!AN180))","v":0},{"$f":"IF(UserInterface!$E$69 = 1,CHOOSE(m_identity,'SHE-Transmission PLC'!AO180, SPTL!AO180, 'NGET TO'!AO180),CHOOSE(m_identity,'SHE-Transmission PLC (Blank - )'!AO180, 'SPTL (Blank - not used)'!AO180, 'NGET TO (Blank - not used)'!AO180))","v":0}]
[null,null,null,null,"Allocation to non-operational capex",null,"%",null,null,null,null,null,null,null,null,null,null,null,null,null,null,null,null,null,null,null,null,null,null,null,null,null,null,{"$f":"IF(UserInterface!$E$69 = 1,CHOOSE(m_identity,'SHE-Transmission PLC'!AH181, SPTL!AH181, 'NGET TO'!AH181),CHOOSE(m_identity,'SHE-Transmission PLC (Blank - )'!AH181, 'SPTL (Blank - not used)'!AH181, 'NGET TO (Blank - not used)'!AH181))","v":0},{"$f":"IF(UserInterface!$E$69 = 1,CHOOSE(m_identity,'SHE-Transmission PLC'!AI181, SPTL!AI181, 'NGET TO'!AI181),CHOOSE(m_identity,'SHE-Transmission PLC (Blank - )'!AI181, 'SPTL (Blank - not used)'!AI181, 'NGET TO (Blank - not used)'!AI181))","v":0},{"$f":"IF(UserInterface!$E$69 = 1,CHOOSE(m_identity,'SHE-Transmission PLC'!AJ181, SPTL!AJ181, 'NGET TO'!AJ181),CHOOSE(m_identity,'SHE-Transmission PLC (Blank - )'!AJ181, 'SPTL (Blank - not used)'!AJ181, 'NGET TO (Blank - not used)'!AJ181))","v":0},{"$f":"IF(UserInterface!$E$69 = 1,CHOOSE(m_identity,'SHE-Transmission PLC'!AK181, SPTL!AK181, 'NGET TO'!AK181),CHOOSE(m_identity,'SHE-Transmission PLC (Blank - )'!AK181, 'SPTL (Blank - not used)'!AK181, 'NGET TO (Blank - not used)'!AK181))","v":0},{"$f":"IF(UserInterface!$E$69 = 1,CHOOSE(m_identity,'SHE-Transmission PLC'!AL181, SPTL!AL181, 'NGET TO'!AL181),CHOOSE(m_identity,'SHE-Transmission PLC (Blank - )'!AL181, 'SPTL (Blank - not used)'!AL181, 'NGET TO (Blank - not used)'!AL181))","v":0},{"$f":"IF(UserInterface!$E$69 = 1,CHOOSE(m_identity,'SHE-Transmission PLC'!AM181, SPTL!AM181, 'NGET TO'!AM181),CHOOSE(m_identity,'SHE-Transmission PLC (Blank - )'!AM181, 'SPTL (Blank - not used)'!AM181, 'NGET TO (Blank - not used)'!AM181))","v":0},{"$f":"IF(UserInterface!$E$69 = 1,CHOOSE(m_identity,'SHE-Transmission PLC'!AN181, SPTL!AN181, 'NGET TO'!AN181),CHOOSE(m_identity,'SHE-Transmission PLC (Blank - )'!AN181, 'SPTL (Blank - not used)'!AN181, 'NGET TO (Blank - not used)'!AN181))","v":0},{"$f":"IF(UserInterface!$E$69 = 1,CHOOSE(m_identity,'SHE-Transmission PLC'!AO181, SPTL!AO181, 'NGET TO'!AO181),CHOOSE(m_identity,'SHE-Transmission PLC (Blank - )'!AO181, 'SPTL (Blank - not used)'!AO181, 'NGET TO (Blank - not used)'!AO181))","v":0}]
[]
[null,null,null,null,"Variant allowed load related capex expenditure",null,"£m 09/10 prices",null,null,null,null,null,null,null,null,null,null,null,null,null,null,null,null,null,null,null,null,null,null,null,null,null,null,{"$f":"(AH$92*AH93)     + (AH$99*AH100) + (AH$106*AH107) + (AH$113*AH114) + (AH$120*AH121) + (AH$127*AH128) + (AH$134*AH135) + (AH$141*AH142) + (AH$148*AH149) + (AH$155*AH156) + (AH$162*AH163) + (AH$169*AH170) + (AH$176*AH177)","v":724.45752393322289},{"$f":"(AI$92*AI93)     + (AI$99*AI100) + (AI$106*AI107) + (AI$113*AI114) + (AI$120*AI121) + (AI$127*AI128) + (AI$134*AI135) + (AI$141*AI142) + (AI$148*AI149) + (AI$155*AI156) + (AI$162*AI163) + (AI$169*AI170) + (AI$176*AI177)","v":755.09934033774448},689.73552648636178,556.80155418660092,301.14871451971328,207.58987531826511,82.29196233462693,30.163893560793589]
[null,null,null,null,"Variant allowed asset replacement capex expenditure",null,"£m 09/10 prices",null,null,null,null,null,null,null,null,null,null,null,null,null,null,null,null,null,null,null,null,null,null,null,null,null,null,{"$f":"(AH$92*AH94)     + (AH$99*AH101) + (AH$106*AH108) + (AH$113*AH115) + (AH$120*AH122) + (AH$127*AH129) + (AH$134*AH136) + (AH$141*AH143) + (AH$148*AH150) + (AH$155*AH157) + (AH$162*AH164) + (AH$169*AH171) + (AH$176*AH178)","v":0},0,0,0,0,0,0,0]
[null,null,null,null,"Variant allowed other capex expenditure",null,"£m 09/10 prices",null,null,null,null,null,null,null,null,null,null,null,null,null,null,null,null,null,null,null,null,null,null,null,null,null,null,{"$f":"(AH$92*AH95)     + (AH$99*AH102) + (AH$106*AH109) + (AH$113*AH116) + (AH$120*AH123) + (AH$127*AH130) + (AH$134*AH137) + (AH$141*AH144) + (AH$148*AH151) + (AH$155*AH158) + (AH$162*AH165) + (AH$169*AH172) + (AH$176*AH179)","v":0},0,0,0,0,0,0,0]
[null,null,null,null,"Variant allowed controllable opex",null,"£m 09/10 prices",null,null,null,null,null,null,null,null,null,null,null,null,null,null,null,null,null,null,null,null,null,null,null,null,null,null,{"$f":"(AH$92*AH96)     + (AH$99*AH103) + (AH$106*AH110) + (AH$113*AH117) + (AH$120*AH124) + (AH$127*AH131) + (AH$134*AH138) + (AH$141*AH145) + (AH$148*AH152) + (AH$155*AH159) + (AH$162*AH166) + (AH$169*AH173) + (AH$176*AH180)","v":0},0,0,0,0,0,0,0]
[null,null,null,null,"Variant allowed non-operational capex",null,"£m 09/10 prices",null,null,null,null,null,null,null,null,null,null,null,null,null,null,null,null,null,null,null,null,null,null,null,null,null,null,{"$f":"(AH$92*AH97)     + (AH$99*AH104) + (AH$106*AH111) + (AH$113*AH118) + (AH$120*AH125) + (AH$127*AH132) + (AH$134*AH139) + (AH$141*AH146) + (AH$148*AH153) + (AH$155*AH160) + (AH$162*AH167) + (AH$169*AH174) + (AH$176*AH181)","v":0},0,0,0,0,0,0,0]
[]
[null,null,null,"Actual"]
[]
[null,null,null,null,"Actual load related capex expenditure",null,"£m 09/10 prices",null,null,null,null,null,null,null,null,null,null,null,null,null,null,null,null,null,null,null,null,null,null,null,null,null,null,{"$f":"AH9","v":576.4723599528071},0,0,0,0,0,0,0]
[null,null,null,null,"Actual asset replacement capex expenditure",null,"£m 09/10 prices",null,null,null,null,null,null,null,null,null,null,null,null,null,null,null,null,null,null,null,null,null,null,null,null,null,null,{"$f":"AH10","v":217.14268787167353},0,0,0,0,0,0,0]
[null,null,null,null,"Actual other capex expenditure",null,"£m 09/10 prices",null,null,null,null,null,null,null,null,null,null,null,null,null,null,null,null,null,null,null,null,null,null,null,null,null,null,{"$f":"AH11","v":174.99178290887571},0,0,0,0,0,0,0]
[null,null,null,null,"Actual controllable opex",null,"£m 09/10 prices",null,null,null,null,null,null,null,null,null,null,null,null,null,null,null,null,null,null,null,null,null,null,null,null,null,null,165.28612902215741,0,0,0,0,0,0,0]
[null,null,null,null,"Actual non-operational capex",null,"£m 09/10 prices",null,null,null,null,null,null,null,null,null,null,null,null,null,null,null,null,null,null,null,null,null,null,null,null,null,null,{"$f":"AH13","v":30.724403941398467},0,0,0,0,0,0,0]
[]
[null,null,"Non-totex"]
[]
[null,null,null,null,"Non-controllable opex",null,"£m 09/10 prices",null,null,null,null,null,null,null,null,null,null,null,null,null,null,null,null,null,null,null,null,null,null,null,null,null,null,{"$f":"IF(UserInterface!$E$69 = 1,CHOOSE(m_identity,'SHE-Transmission PLC'!AH199, SPTL!AH199, 'NGET TO'!AH199),CHOOSE(m_identity,'SHE-Transmission PLC (Blank - )'!AH199, 'SPTL (Blank - not used)'!AH199, 'NGET TO (Blank - not used)'!AH199))","v":94.24723304227993},{"$f":"IF(UserInterface!$E$69 = 1,CHOOSE(m_identity,'SHE-Transmission PLC'!AI199, SPTL!AI199, 'NGET TO'!AI199),CHOOSE(m_identity,'SHE-Transmission PLC (Blank - )'!AI199, 'SPTL (Blank - not used)'!AI199, 'NGET TO (Blank - not used)'!AI199))","v":87.678224204681584},{"$f":"IF(UserInterface!$E$69 = 1,CHOOSE(m_identity,'SHE-Transmission PLC'!AJ199, SPTL!AJ199, 'NGET TO'!AJ199),CHOOSE(m_identity,'SHE-Transmission PLC (Blank - )'!AJ199, 'SPTL (Blank - not used)'!AJ199, 'NGET TO (Blank - not used)'!AJ199))","v":87.676243763178761},{"$f":"IF(UserInterface!$E$69 = 1,CHOOSE(m_identity,'SHE-Transmission PLC'!AK199, SPTL!AK199, 'NGET TO'!AK199),CHOOSE(m_identity,'SHE-Transmission PLC (Blank - )'!AK199, 'SPTL (Blank - not used)'!AK199, 'NGET TO (Blank - not used)'!AK199))","v":87.677481779017953},{"$f":"IF(UserInterface!$E$69 = 1,CHOOSE(m_identity,'SHE-Transmission PLC'!AL199, SPTL!AL199, 'NGET TO'!AL199),CHOOSE(m_identity,'SHE-Transmission PLC (Blank - )'!AL199, 'SPTL (Blank - not used)'!AL199, 'NGET TO (Blank - not used)'!AL199))","v":87.676244486345595},{"$f":"IF(UserInterface!$E$69 = 1,CHOOSE(m_identity,'SHE-Transmission PLC'!AM199, SPTL!AM199, 'NGET TO'!AM199),CHOOSE(m_identity,'SHE-Transmission PLC (Blank - )'!AM199, 'SPTL (Blank - not used)'!AM199, 'NGET TO (Blank - not used)'!AM199))","v":87.676244488148086},{"$f":"IF(UserInterface!$E$69 = 1,CHOOSE(m_identity,'SHE-Transmission PLC'!AN199, SPTL!AN199, 'NGET TO'!AN199),CHOOSE(m_identity,'SHE-Transmission PLC (Blank - )'!AN199, 'SPTL (Blank - not used)'!AN199, 'NGET TO (Blank - not used)'!AN199))","v":87.676244492723825},{"$f":"IF(UserInterface!$E$69 = 1,CHOOSE(m_identity,'SHE-Transmission PLC'!AO199, SPTL!AO199, 'NGET TO'!AO199),CHOOSE(m_identity,'SHE-Transmission PLC (Blank - )'!AO199, 'SPTL (Blank - not used)'!AO199, 'NGET TO (Blank - not used)'!AO199))","v":87.676244462267519}]
[]
[null,"Direct allowed revenue terms (DARTs)"]
[]
[null,null,null,null,{"$f":"E29","v":"Pension scheme administration and Pension Protection Fund Levy"},null,"£m 09/10 prices",null,null,null,null,null,null,null,null,null,null,null,null,null,null,null,null,null,null,null,null,null,null,null,null,null,null,{"$f":"AH29","v":1.5},1.3,1.3,1.5,1.3,1.3,1.5,1.3]
[null,null,null,null,{"$f":"E30","v":"Pension Scheme Established Deficit"},null,"£m 09/10 prices",null,null,null,null,null,null,null,null,null,null,null,null,null,null,null,null,null,null,null,null,null,null,null,null,null,null,{"$f":"AH30","v":28.929052554944597},28.929052554944597,32.585753058109198,32.585753058109198,32.585753058109198,32.585753058109198,32.585753058109198,32.585753058109198]
[]
[null,null,null,null,"Pension true-up from previous price controls",null,"£m 09/10 prices",null,null,null,null,null,null,null,null,null,null,null,null,null,null,null,null,null,null,null,null,null,null,null,null,null,null,{"$f":"IF(UserInterface!$E$69 = 1,CHOOSE(m_identity,'SHE-Transmission PLC'!AH206, SPTL!AH206, 'NGET TO'!AH206),CHOOSE(m_identity,'SHE-Transmission PLC (Blank - )'!AH206, 'SPTL (Blank - not used)'!AH206, 'NGET TO (Blank - not used)'!AH206))","v":1.6281727480620216},{"$f":"IF(UserInterface!$E$69 = 1,CHOOSE(m_identity,'SHE-Transmission PLC'!AI206, SPTL!AI206, 'NGET TO'!AI206),CHOOSE(m_identity,'SHE-Transmission PLC (Blank - )'!AI206, 'SPTL (Blank - not used)'!AI206, 'NGET TO (Blank - not used)'!AI206))","v":1.7003333642561302},{"$f":"IF(UserInterface!$E$69 = 1,CHOOSE(m_identity,'SHE-Transmission PLC'!AJ206, SPTL!AJ206, 'NGET TO'!AJ206),CHOOSE(m_identity,'SHE-Transmission PLC (Blank - )'!AJ206, 'SPTL (Blank - not used)'!AJ206, 'NGET TO (Blank - not used)'!AJ206))","v":1.7739577989284205},{"$f":"IF(UserInterface!$E$69 = 1,CHOOSE(m_identity,'SHE-Transmission PLC'!AK206, SPTL!AK206, 'NGET TO'!AK206),CHOOSE(m_identity,'SHE-Transmission PLC (Blank - )'!AK206, 'SPTL (Blank - not used)'!AK206, 'NGET TO (Blank - not used)'!AK206))","v":1.8507701716220211},{"$f":"IF(UserInterface!$E$69 = 1,CHOOSE(m_identity,'SHE-Transmission PLC'!AL206, SPTL!AL206, 'NGET TO'!AL206),CHOOSE(m_identity,'SHE-Transmission PLC (Blank - )'!AL206, 'SPTL (Blank - not used)'!AL206, 'NGET TO (Blank - not used)'!AL206))","v":1.9309085200532543},{"$f":"IF(UserInterface!$E$69 = 1,CHOOSE(m_identity,'SHE-Transmission PLC'!AM206, SPTL!AM206, 'NGET TO'!AM206),CHOOSE(m_identity,'SHE-Transmission PLC (Blank - )'!AM206, 'SPTL (Blank - not used)'!AM206, 'NGET TO (Blank - not used)'!AM206))","v":2.0145168589715601},{"$f":"IF(UserInterface!$E$69 = 1,CHOOSE(m_identity,'SHE-Transmission PLC'!AN206, SPTL!AN206, 'NGET TO'!AN206),CHOOSE(m_identity,'SHE-Transmission PLC (Blank - )'!AN206, 'SPTL (Blank - not used)'!AN206, 'NGET TO (Blank - not used)'!AN206))","v":2.1017454389650285},{"$f":"IF(UserInterface!$E$69 = 1,CHOOSE(m_identity,'SHE-Transmission PLC'!AO206, SPTL!AO206, 'NGET TO'!AO206),CHOOSE(m_identity,'SHE-Transmission PLC (Blank - )'!AO206, 'SPTL (Blank - not used)'!AO206, 'NGET TO (Blank - not used)'!AO206))","v":2.1927510164722142}]
[null,null,null,null,"NGET TO Capital Expenditure Incentive and Safety Net",null,"£m 09/10 prices",null,null,null,null,null,null,null,null,null,null,null,null,null,null,null,null,null,null,null,null,null,null,null,null,null,null,{"$f":"IF(UserInterface!$E$69 = 1,CHOOSE(m_identity,'SHE-Transmission PLC'!AH207, SPTL!AH207, 'NGET TO'!AH207),CHOOSE(m_identity,'SHE-Transmission PLC (Blank - )'!AH207, 'SPTL (Blank - not used)'!AH207, 'NGET TO (Blank - not used)'!AH207))","v":19.092223163426969},{"$f":"IF(UserInterface!$E$69 = 1,CHOOSE(m_identity,'SHE-Transmission PLC'!AI207, SPTL!AI207, 'NGET TO'!AI207),CHOOSE(m_identity,'SHE-Transmission PLC (Blank - )'!AI207, 'SPTL (Blank - not used)'!AI207, 'NGET TO (Blank - not used)'!AI207))","v":19.938390494030049},{"$f":"IF(UserInterface!$E$69 = 1,CHOOSE(m_identity,'SHE-Transmission PLC'!AJ207, SPTL!AJ207, 'NGET TO'!AJ207),CHOOSE(m_identity,'SHE-Transmission PLC (Blank - )'!AJ207, 'SPTL (Blank - not used)'!AJ207, 'NGET TO (Blank - not used)'!AJ207))","v":20.801722802421548},{"$f":"IF(UserInterface!$E$69 = 1,CHOOSE(m_identity,'SHE-Transmission PLC'!AK207, SPTL!AK207, 'NGET TO'!AK207),CHOOSE(m_identity,'SHE-Transmission PLC (Blank - )'!AK207, 'SPTL (Blank - not used)'!AK207, 'NGET TO (Blank - not used)'!AK207))","v":21.702437399766399},{"$f":"IF(UserInterface!$E$69 = 1,CHOOSE(m_identity,'SHE-Transmission PLC'!AL207, SPTL!AL207, 'NGET TO'!AL207),CHOOSE(m_identity,'SHE-Transmission PLC (Blank - )'!AL207, 'SPTL (Blank - not used)'!AL207, 'NGET TO (Blank - not used)'!AL207))","v":22.642152939176281},{"$f":"IF(UserInterface!$E$69 = 1,CHOOSE(m_identity,'SHE-Transmission PLC'!AM207, SPTL!AM207, 'NGET TO'!AM207),CHOOSE(m_identity,'SHE-Transmission PLC (Blank - )'!AM207, 'SPTL (Blank - not used)'!AM207, 'NGET TO (Blank - not used)'!AM207))","v":23.622558161442612},{"$f":"IF(UserInterface!$E$69 = 1,CHOOSE(m_identity,'SHE-Transmission PLC'!AN207, SPTL!AN207, 'NGET TO'!AN207),CHOOSE(m_identity,'SHE-Transmission PLC (Blank - )'!AN207, 'SPTL (Blank - not used)'!AN207, 'NGET TO (Blank - not used)'!AN207))","v":24.645414929833073},{"$f":"IF(UserInterface!$E$69 = 1,CHOOSE(m_identity,'SHE-Transmission PLC'!AO207, SPTL!AO207, 'NGET TO'!AO207),CHOOSE(m_identity,'SHE-Transmission PLC (Blank - )'!AO207, 'SPTL (Blank - not used)'!AO207, 'NGET TO (Blank - not used)'!AO207))","v":25.712561396294841}]
[]
[null,null,null,null,"Revenue adjustment from previous controls (Base)",null,"£m 09/10 prices",null,null,null,null,null,null,null,null,null,null,null,null,null,null,null,null,null,null,null,null,null,null,null,null,null,null,{"$f":"IF(UserInterface!$E$69 = 1,CHOOSE(m_identity,'SHE-Transmission PLC'!AH209, SPTL!AH209, 'NGET TO'!AH209),CHOOSE(m_identity,'SHE-Transmission PLC (Blank - )'!AH209, 'SPTL (Blank - not used)'!AH209, 'NGET TO (Blank - not used)'!AH209))","v":6.8340997921364668},{"$f":"IF(UserInterface!$E$69 = 1,CHOOSE(m_identity,'SHE-Transmission PLC'!AI209, SPTL!AI209, 'NGET TO'!AI209),CHOOSE(m_identity,'SHE-Transmission PLC (Blank - )'!AI209, 'SPTL (Blank - not used)'!AI209, 'NGET TO (Blank - not used)'!AI209))","v":7.1369870949239544},{"$f":"IF(UserInterface!$E$69 = 1,CHOOSE(m_identity,'SHE-Transmission PLC'!AJ209, SPTL!AJ209, 'NGET TO'!AJ209),CHOOSE(m_identity,'SHE-Transmission PLC (Blank - )'!AJ209, 'SPTL (Blank - not used)'!AJ209, 'NGET TO (Blank - not used)'!AJ209))","v":7.4460186361341609},{"$f":"IF(UserInterface!$E$69 = 1,CHOOSE(m_identity,'SHE-Transmission PLC'!AK209, SPTL!AK209, 'NGET TO'!AK209),CHOOSE(m_identity,'SHE-Transmission PLC (Blank - )'!AK209, 'SPTL (Blank - not used)'!AK209, 'NGET TO (Blank - not used)'!AK209))","v":7.7684312430787692},{"$f":"IF(UserInterface!$E$69 = 1,CHOOSE(m_identity,'SHE-Transmission PLC'!AL209, SPTL!AL209, 'NGET TO'!AL209),CHOOSE(m_identity,'SHE-Transmission PLC (Blank - )'!AL209, 'SPTL (Blank - not used)'!AL209, 'NGET TO (Blank - not used)'!AL209))","v":8.1048043159040795},{"$f":"IF(UserInterface!$E$69 = 1,CHOOSE(m_identity,'SHE-Transmission PLC'!AM209, SPTL!AM209, 'NGET TO'!AM209),CHOOSE(m_identity,'SHE-Transmission PLC (Blank - )'!AM209, 'SPTL (Blank - not used)'!AM209, 'NGET TO (Blank - not used)'!AM209))","v":8.4557423427827256},{"$f":"IF(UserInterface!$E$69 = 1,CHOOSE(m_identity,'SHE-Transmission PLC'!AN209, SPTL!AN209, 'NGET TO'!AN209),CHOOSE(m_identity,'SHE-Transmission PLC (Blank - )'!AN209, 'SPTL (Blank - not used)'!AN209, 'NGET TO (Blank - not used)'!AN209))","v":8.8218759862252174},{"$f":"IF(UserInterface!$E$69 = 1,CHOOSE(m_identity,'SHE-Transmission PLC'!AO209, SPTL!AO209, 'NGET TO'!AO209),CHOOSE(m_identity,'SHE-Transmission PLC (Blank - )'!AO209, 'SPTL (Blank - not used)'!AO209, 'NGET TO (Blank - not used)'!AO209))","v":9.2038632164287684}]
[null,null,null,null,{"$f":"E31","v":"Legacy price control adjustments to allowed revenue"},null,"£m 09/10 prices",null,null,null,null,null,null,null,null,null,null,null,null,null,null,null,null,null,null,null,null,null,null,null,null,null,null,{"$f":"IF(OR(m_identity=1,m_identity=2),AH31,$AH$31/8)","v":12.32429703808768},{"$f":"IF(OR(m_identity=1,m_identity=2),AI31,$AH$31/8*(1+$AI$42))","v":12.870509882815725},{"$f":"IF(OR(m_identity=1,m_identity=2),AJ31,$AH$31/8*(1+$AI$42)*(1+$AJ$42))","v":13.427802960741644},{"$f":"IF(OR(m_identity=1,m_identity=2),AK31,$AH$31/8*(1+$AI$42)*(1+$AJ$42)*(1+$AK$42))","v":14.009226828941756},{"$f":"IF(OR(m_identity=1,m_identity=2),AL31,$AH$31/8*(1+$AI$42)*(1+$AJ$42)*(1+$AK$42)*(1+$AL$42))","v":14.615826350634933},{"$f":"IF(OR(m_identity=1,m_identity=2),AM31,$AH$31/8*(1+$AI$42)*(1+$AJ$42)*(1+$AK$42)*(1+$AL$42)*(1+$AM$42))","v":15.248691631617424},{"$f":"IF(OR(m_identity=1,m_identity=2),AN31,$AH$31/8*(1+$AI$42)*(1+$AJ$42)*(1+$AK$42)*(1+$AL$42)*(1+$AM$42)*(1+$AN$42))","v":15.908959979266458},{"$f":"IF(OR(m_identity=1,m_identity=2),AO31,$AH$31/8*(1+$AI$42)*(1+$AJ$42)*(1+$AK$42)*(1+$AL$42)*(1+$AM$42)*(1+$AN$42)*(1+$AO$42))","v":16.597817946368693}]
[null,null,null,null,"Revenue adjustment from previous controls",null,"£m 09/10 prices",null,null,null,null,null,null,null,null,null,null,null,null,null,null,null,null,null,null,null,null,null,null,null,null,null,null,{"$f":"AH209+AH210","v":19.158396830224149},{"$f":"AI209+AI210","v":20.007496977739677},20.873821596875807,21.777658072020525,22.720630666539012,23.70443397440015,24.730835965491675,25.801681162797461]
[]
[null,null,null,null,"Excluded services revenue",null,"£m 09/10 prices",null,null,null,null,null,null,null,null,null,null,null,null,null,null,null,null,null,null,null,null,null,null,null,null,null,null,{"$f":"IF(UserInterface!$E$69 = 1,CHOOSE(m_identity,'SHE-Transmission PLC'!AH213, SPTL!AH213, 'NGET TO'!AH213),CHOOSE(m_identity,'SHE-Transmission PLC (Blank - )'!AH213, 'SPTL (Blank - not used)'!AH213, 'NGET TO (Blank - not used)'!AH213))","v":123},{"$f":"IF(UserInterface!$E$69 = 1,CHOOSE(m_identity,'SHE-Transmission PLC'!AI213, SPTL!AI213, 'NGET TO'!AI213),CHOOSE(m_identity,'SHE-Transmission PLC (Blank - )'!AI213, 'SPTL (Blank - not used)'!AI213, 'NGET TO (Blank - not used)'!AI213))","v":122.8},{"$f":"IF(UserInterface!$E$69 = 1,CHOOSE(m_identity,'SHE-Transmission PLC'!AJ213, SPTL!AJ213, 'NGET TO'!AJ213),CHOOSE(m_identity,'SHE-Transmission PLC (Blank - )'!AJ213, 'SPTL (Blank - not used)'!AJ213, 'NGET TO (Blank - not used)'!AJ213))","v":129.80000000000001},{"$f":"IF(UserInterface!$E$69 = 1,CHOOSE(m_identity,'SHE-Transmission PLC'!AK213, SPTL!AK213, 'NGET TO'!AK213),CHOOSE(m_identity,'SHE-Transmission PLC (Blank - )'!AK213, 'SPTL (Blank - not used)'!AK213, 'NGET TO (Blank - not used)'!AK213))","v":125.6},{"$f":"IF(UserInterface!$E$69 = 1,CHOOSE(m_identity,'SHE-Transmission PLC'!AL213, SPTL!AL213, 'NGET TO'!AL213),CHOOSE(m_identity,'SHE-Transmission PLC (Blank - )'!AL213, 'SPTL (Blank - not used)'!AL213, 'NGET TO (Blank - not used)'!AL213))","v":127.3},{"$f":"IF(UserInterface!$E$69 = 1,CHOOSE(m_identity,'SHE-Transmission PLC'!AM213, SPTL!AM213, 'NGET TO'!AM213),CHOOSE(m_identity,'SHE-Transmission PLC (Blank - )'!AM213, 'SPTL (Blank - not used)'!AM213, 'NGET TO (Blank - not used)'!AM213))","v":128.6},{"$f":"IF(UserInterface!$E$69 = 1,CHOOSE(m_identity,'SHE-Transmission PLC'!AN213, SPTL!AN213, 'NGET TO'!AN213),CHOOSE(m_identity,'SHE-Transmission PLC (Blank - )'!AN213, 'SPTL (Blank - not used)'!AN213, 'NGET TO (Blank - not used)'!AN213))","v":130.19999999999999},{"$f":"IF(UserInterface!$E$69 = 1,CHOOSE(m_identity,'SHE-Transmission PLC'!AO213, SPTL!AO213, 'NGET TO'!AO213),CHOOSE(m_identity,'SHE-Transmission PLC (Blank - )'!AO213, 'SPTL (Blank - not used)'!AO213, 'NGET TO (Blank - not used)'!AO213))","v":131.69999999999999}]
[null,null,null,null,"Identified excluded services costs",null,"£m 09/10 prices",null,null,null,null,null,null,null,null,null,null,null,null,null,null,null,null,null,null,null,null,null,null,null,null,null,null,{"$f":"IF(UserInterface!$E$69 = 1,CHOOSE(m_identity,'SHE-Transmission PLC'!AH214, SPTL!AH214, 'NGET TO'!AH214),CHOOSE(m_identity,'SHE-Transmission PLC (Blank - )'!AH214, 'SPTL (Blank - not used)'!AH214, 'NGET TO (Blank - not used)'!AH214))","v":7.367},{"$f":"IF(UserInterface!$E$69 = 1,CHOOSE(m_identity,'SHE-Transmission PLC'!AI214, SPTL!AI214, 'NGET TO'!AI214),CHOOSE(m_identity,'SHE-Transmission PLC (Blank - )'!AI214, 'SPTL (Blank - not used)'!AI214, 'NGET TO (Blank - not used)'!AI214))","v":6.234},{"$f":"IF(UserInterface!$E$69 = 1,CHOOSE(m_identity,'SHE-Transmission PLC'!AJ214, SPTL!AJ214, 'NGET TO'!AJ214),CHOOSE(m_identity,'SHE-Transmission PLC (Blank - )'!AJ214, 'SPTL (Blank - not used)'!AJ214, 'NGET TO (Blank - not used)'!AJ214))","v":5.5780000000000003},{"$f":"IF(UserInterface!$E$69 = 1,CHOOSE(m_identity,'SHE-Transmission PLC'!AK214, SPTL!AK214, 'NGET TO'!AK214),CHOOSE(m_identity,'SHE-Transmission PLC (Blank - )'!AK214, 'SPTL (Blank - not used)'!AK214, 'NGET TO (Blank - not used)'!AK214))","v":3.3689999999999998},{"$f":"IF(UserInterface!$E$69 = 1,CHOOSE(m_identity,'SHE-Transmission PLC'!AL214, SPTL!AL214, 'NGET TO'!AL214),CHOOSE(m_identity,'SHE-Transmission PLC (Blank - )'!AL214, 'SPTL (Blank - not used)'!AL214, 'NGET TO (Blank - not used)'!AL214))","v":3.3680000000000003},{"$f":"IF(UserInterface!$E$69 = 1,CHOOSE(m_identity,'SHE-Transmission PLC'!AM214, SPTL!AM214, 'NGET TO'!AM214),CHOOSE(m_identity,'SHE-Transmission PLC (Blank - )'!AM214, 'SPTL (Blank - not used)'!AM214, 'NGET TO (Blank - not used)'!AM214))","v":3.1619999999999999},{"$f":"IF(UserInterface!$E$69 = 1,CHOOSE(m_identity,'SHE-Transmission PLC'!AN214, SPTL!AN214, 'NGET TO'!AN214),CHOOSE(m_identity,'SHE-Transmission PLC (Blank - )'!AN214, 'SPTL (Blank - not used)'!AN214, 'NGET TO (Blank - not used)'!AN214))","v":3.0940000000000003},{"$f":"IF(UserInterface!$E$69 = 1,CHOOSE(m_identity,'SHE-Transmission PLC'!AO214, SPTL!AO214, 'NGET TO'!AO214),CHOOSE(m_identity,'SHE-Transmission PLC (Blank - )'!AO214, 'SPTL (Blank - not used)'!AO214, 'NGET TO (Blank - not used)'!AO214))","v":3.0270000000000001}]
[null,null,null,null,"Excluded services",null,"£m 09/10 prices",null,null,null,null,null,null,null,null,null,null,null,null,null,null,null,null,null,null,null,null,null,null,null,null,null,null,{"$f":"SUM(AH213, -AH214)","v":115.633},{"$f":"SUM(AI213, -AI214)","v":116.566},124.22200000000001,122.23099999999999,123.932,125.43799999999999,127.10599999999999,128.673]
[]
[null,"RAV and assets"]
[]
[null,null,"Pre-vesting assets"]
[]
[null,null,null,null,"Pre-vesting RAV cost opening balance brought forward (before transfers)",null,"£m 09/10 prices",null,null,null,null,null,null,null,null,null,null,null,null,null,null,null,null,null,null,null,null,null,null,null,null,null,null,{"$f":"IF(UserInterface!$E$69 = 1,CHOOSE(m_identity,'SHE-Transmission PLC'!AH221, SPTL!AH221, 'NGET TO'!AH221),CHOOSE(m_identity,'SHE-Transmission PLC (Blank - )'!AH221, 'SPTL (Blank - not used)'!AH221, 'NGET TO (Blank - not used)'!AH221))","v":0}]
[null,null,null,null,"Pre-vesting RAV cumulative depreciation opening balance brought forward (before transfers)",null,"£m 09/10 prices",null,null,null,null,null,null,null,null,null,null,null,null,null,null,null,null,null,null,null,null,null,null,null,null,null,null,{"$f":"IF(UserInterface!$E$69 = 1,CHOOSE(m_identity,'SHE-Transmission PLC'!AH222, SPTL!AH222, 'NGET TO'!AH222),CHOOSE(m_identity,'SHE-Transmission PLC (Blank - )'!AH222, 'SPTL (Blank - not used)'!AH222, 'NGET TO (Blank - not used)'!AH222))","v":0}]
[]
[null,null,null,null,"Pre-vesting asset life",null,"years",null,{"$f":"IF(UserInterface!$E$69 = 1,CHOOSE(m_identity,'SHE-Transmission PLC'!I224, SPTL!I224, 'NGET TO'!I224),CHOOSE(m_identity,'SHE-Transmission PLC (Blank - )'!I224, 'SPTL (Blank - not used)'!I224, 'NGET TO (Blank - not used)'!I224))","v":20}]
[]
[null,null,null,null,"Years of pre-vesting depreciation remaining",null,"years",null,null,null,null,null,null,null,null,null,null,null,null,null,null,null,null,null,null,null,null,null,null,null,null,null,null,{"$f":"IF(UserInterface!$E$69 = 1,CHOOSE(m_identity,'SHE-Transmission PLC'!AH226, SPTL!AH226, 'NGET TO'!AH226),CHOOSE(m_identity,'SHE-Transmission PLC (Blank - )'!AH226, 'SPTL (Blank - not used)'!AH226, 'NGET TO (Blank - not used)'!AH226))","v":45},{"$f":"IF(UserInterface!$E$69 = 1,CHOOSE(m_identity,'SHE-Transmission PLC'!AI226, SPTL!AI226, 'NGET TO'!AI226),CHOOSE(m_identity,'SHE-Transmission PLC (Blank - )'!AI226, 'SPTL (Blank - not used)'!AI226, 'NGET TO (Blank - not used)'!AI226))","v":44},{"$f":"IF(UserInterface!$E$69 = 1,CHOOSE(m_identity,'SHE-Transmission PLC'!AJ226, SPTL!AJ226, 'NGET TO'!AJ226),CHOOSE(m_identity,'SHE-Transmission PLC (Blank - )'!AJ226, 'SPTL (Blank - not used)'!AJ226, 'NGET TO (Blank - not used)'!AJ226))","v":43},{"$f":"IF(UserInterface!$E$69 = 1,CHOOSE(m_identity,'SHE-Transmission PLC'!AK226, SPTL!AK226, 'NGET TO'!AK226),CHOOSE(m_identity,'SHE-Transmission PLC (Blank - )'!AK226, 'SPTL (Blank - not used)'!AK226, 'NGET TO (Blank - not used)'!AK226))","v":42},{"$f":"IF(UserInterface!$E$69 = 1,CHOOSE(m_identity,'SHE-Transmission PLC'!AL226, SPTL!AL226, 'NGET TO'!AL226),CHOOSE(m_identity,'SHE-Transmission PLC (Blank - )'!AL226, 'SPTL (Blank - not used)'!AL226, 'NGET TO (Blank - not used)'!AL226))","v":41},{"$f":"IF(UserInterface!$E$69 = 1,CHOOSE(m_identity,'SHE-Transmission PLC'!AM226, SPTL!AM226, 'NGET TO'!AM226),CHOOSE(m_identity,'SHE-Transmission PLC (Blank - )'!AM226, 'SPTL (Blank - not used)'!AM226, 'NGET TO (Blank - not used)'!AM226))","v":40},{"$f":"IF(UserInterface!$E$69 = 1,CHOOSE(m_identity,'SHE-Transmission PLC'!AN226, SPTL!AN226, 'NGET TO'!AN226),CHOOSE(m_identity,'SHE-Transmission PLC (Blank - )'!AN226, 'SPTL (Blank - not used)'!AN226, 'NGET TO (Blank - not used)'!AN226))","v":39},{"$f":"IF(UserInterface!$E$69 = 1,CHOOSE(m_identity,'SHE-Transmission PLC'!AO226, SPTL!AO226, 'NGET TO'!AO226),CHOOSE(m_identity,'SHE-Transmission PLC (Blank - )'!AO226, 'SPTL (Blank - not used)'!AO226, 'NGET TO (Blank - not used)'!AO226))","v":38}]
[]
[null,null,"Post-vesting assets"]
[]
[null,null,null,null,"Transmission"]
[null,null,null,null,"Post-vesting asset life",null,"years",null,null,">",{"$f":"IF(UserInterface!$E$69 = 1,CHOOSE(m_identity,'SHE-Transmission PLC'!K231, SPTL!K231, 'NGET TO'!K231),CHOOSE(m_identity,'SHE-Transmission PLC (Blank - )'!K231, 'SPTL (Blank - not used)'!K231, 'NGET TO (Blank - not used)'!K231))","v":40},{"$f":"IF(UserInterface!$E$69 = 1,CHOOSE(m_identity,'SHE-Transmission PLC'!L231, SPTL!L231, 'NGET TO'!L231),CHOOSE(m_identity,'SHE-Transmission PLC (Blank - )'!L231, 'SPTL (Blank - not used)'!L231, 'NGET TO (Blank - not used)'!L231))","v":40},{"$f":"IF(UserInterface!$E$69 = 1,CHOOSE(m_identity,'SHE-Transmission PLC'!M231, SPTL!M231, 'NGET TO'!M231),CHOOSE(m_identity,'SHE-Transmission PLC (Blank - )'!M231, 'SPTL (Blank - not used)'!M231, 'NGET TO (Blank - not used)'!M231))","v":40},{"$f":"IF(UserInterface!$E$69 = 1,CHOOSE(m_identity,'SHE-Transmission PLC'!N231, SPTL!N231, 'NGET TO'!N231),CHOOSE(m_identity,'SHE-Transmission PLC (Blank - )'!N231, 'SPTL (Blank - not used)'!N231, 'NGET TO (Blank - not used)'!N231))","v":40},{"$f":"IF(UserInterface!$E$69 = 1,CHOOSE(m_identity,'SHE-Transmission PLC'!O231, SPTL!O231, 'NGET TO'!O231),CHOOSE(m_identity,'SHE-Transmission PLC (Blank - )'!O231, 'SPTL (Blank - not used)'!O231, 'NGET TO (Blank - not used)'!O231))","v":40},{"$f":"IF(UserInterface!$E$69 = 1,CHOOSE(m_identity,'SHE-Transmission PLC'!P231, SPTL!P231, 'NGET TO'!P231),CHOOSE(m_identity,'SHE-Transmission PLC (Blank - )'!P231, 'SPTL (Blank - not used)'!P231, 'NGET TO (Blank - not used)'!P231))","v":40},{"$f":"IF(UserInterface!$E$69 = 1,CHOOSE(m_identity,'SHE-Transmission PLC'!Q231, SPTL!Q231, 'NGET TO'!Q231),CHOOSE(m_identity,'SHE-Transmission PLC (Blank - )'!Q231, 'SPTL (Blank - not used)'!Q231, 'NGET TO (Blank - not used)'!Q231))","v":40},{"$f":"IF(UserInterface!$E$69 = 1,CHOOSE(m_identity,'SHE-Transmission PLC'!R231, SPTL!R231, 'NGET TO'!R231),CHOOSE(m_identity,'SHE-Transmission PLC (Blank - )'!R231, 'SPTL (Blank - not used)'!R231, 'NGET TO (Blank - not used)'!R231))","v":40},{"$f":"IF(UserInterface!$E$69 = 1,CHOOSE(m_identity,'SHE-Transmission PLC'!S231, SPTL!S231, 'NGET TO'!S231),CHOOSE(m_identity,'SHE-Transmission PLC (Blank - )'!S231, 'SPTL (Blank - not used)'!S231, 'NGET TO (Blank - not used)'!S231))","v":40},{"$f":"IF(UserInterface!$E$69 = 1,CHOOSE(m_identity,'SHE-Transmission PLC'!T231, SPTL!T231, 'NGET TO'!T231),CHOOSE(m_identity,'SHE-Transmission PLC (Blank - )'!T231, 'SPTL (Blank - not used)'!T231, 'NGET TO (Blank - not used)'!T231))","v":40},{"$f":"IF(UserInterface!$E$69 = 1,CHOOSE(m_identity,'SHE-Transmission PLC'!U231, SPTL!U231, 'NGET TO'!U231),CHOOSE(m_identity,'SHE-Transmission PLC (Blank - )'!U231, 'SPTL (Blank - not used)'!U231, 'NGET TO (Blank - not used)'!U231))","v":40},{"$f":"IF(UserInterface!$E$69 = 1,CHOOSE(m_identity,'SHE-Transmission PLC'!V231, SPTL!V231, 'NGET TO'!V231),CHOOSE(m_identity,'SHE-Transmission PLC (Blank - )'!V231, 'SPTL (Blank - not used)'!V231, 'NGET TO (Blank - not used)'!V231))","v":40},{"$f":"IF(UserInterface!$E$69 = 1,CHOOSE(m_identity,'SHE-Transmission PLC'!W231, SPTL!W231, 'NGET TO'!W231),CHOOSE(m_identity,'SHE-Transmission PLC (Blank - )'!W231, 'SPTL (Blank - not used)'!W231, 'NGET TO (Blank - not used)'!W231))","v":40},{"$f":"IF(UserInterface!$E$69 = 1,CHOOSE(m_identity,'SHE-Transmission PLC'!X231, SPTL!X231, 'NGET TO'!X231),CHOOSE(m_identity,'SHE-Transmission PLC (Blank - )'!X231, 'SPTL (Blank - not used)'!X231, 'NGET TO (Blank - not used)'!X231))","v":40},{"$f":"IF(UserInterface!$E$69 = 1,CHOOSE(m_identity,'SHE-Transmission PLC'!Y231, SPTL!Y231, 'NGET TO'!Y231),CHOOSE(m_identity,'SHE-Transmission PLC (Blank - )'!Y231, 'SPTL (Blank - not used)'!Y231, 'NGET TO (Blank - not used)'!Y231))","v":40},{"$f":"IF(UserInterface!$E$69 = 1,CHOOSE(m_identity,'SHE-Transmission PLC'!Z231, SPTL!Z231, 'NGET TO'!Z231),CHOOSE(m_identity,'SHE-Transmission PLC (Blank - )'!Z231, 'SPTL (Blank - not used)'!Z231, 'NGET TO (Blank - not used)'!Z231))","v":40},{"$f":"IF(UserInterface!$E$69 = 1,CHOOSE(m_identity,'SHE-Transmission PLC'!AA231, SPTL!AA231, 'NGET TO'!AA231),CHOOSE(m_identity,'SHE-Transmission PLC (Blank - )'!AA231, 'SPTL (Blank - not used)'!AA231, 'NGET TO (Blank - not used)'!AA231))","v":40},{"$f":"IF(UserInterface!$E$69 = 1,CHOOSE(m_identity,'SHE-Transmission PLC'!AB231, SPTL!AB231, 'NGET TO'!AB231),CHOOSE(m_identity,'SHE-Transmission PLC (Blank - )'!AB231, 'SPTL (Blank - not used)'!AB231, 'NGET TO (Blank - not used)'!AB231))","v":40},{"$f":"IF(UserInterface!$E$69 = 1,CHOOSE(m_identity,'SHE-Transmission PLC'!AC231, SPTL!AC231, 'NGET TO'!AC231),CHOOSE(m_identity,'SHE-Transmission PLC (Blank - )'!AC231, 'SPTL (Blank - not used)'!AC231, 'NGET TO (Blank - not used)'!AC231))","v":40},{"$f":"IF(UserInterface!$E$69 = 1,CHOOSE(m_identity,'SHE-Transmission PLC'!AD231, SPTL!AD231, 'NGET TO'!AD231),CHOOSE(m_identity,'SHE-Transmission PLC (Blank - )'!AD231, 'SPTL (Blank - not used)'!AD231, 'NGET TO (Blank - not used)'!AD231))","v":40},{"$f":"IF(UserInterface!$E$69 = 1,CHOOSE(m_identity,'SHE-Transmission PLC'!AE231, SPTL!AE231, 'NGET TO'!AE231),CHOOSE(m_identity,'SHE-Transmission PLC (Blank - )'!AE231, 'SPTL (Blank - not used)'!AE231, 'NGET TO (Blank - not used)'!AE231))","v":40},{"$f":"IF(UserInterface!$E$69 = 1,CHOOSE(m_identity,'SHE-Transmission PLC'!AF231, SPTL!AF231, 'NGET TO'!AF231),CHOOSE(m_identity,'SHE-Transmission PLC (Blank - )'!AF231, 'SPTL (Blank - not used)'!AF231, 'NGET TO (Blank - not used)'!AF231))","v":40},{"$f":"IF(UserInterface!$E$69 = 1,CHOOSE(m_identity,'SHE-Transmission PLC'!AG231, SPTL!AG231, 'NGET TO'!AG231),CHOOSE(m_identity,'SHE-Transmission PLC (Blank - )'!AG231, 'SPTL (Blank - not used)'!AG231, 'NGET TO (Blank - not used)'!AG231))","v":40},{"$f":"IF(UserInterface!$E$69 = 1,CHOOSE(m_identity,'SHE-Transmission PLC'!AH231, SPTL!AH231, 'NGET TO'!AH231),CHOOSE(m_identity,'SHE-Transmission PLC (Blank - )'!AH231, 'SPTL (Blank - not used)'!AH231, 'NGET TO (Blank - not used)'!AH231))","v":23.125},{"$f":"IF(UserInterface!$E$69 = 1,CHOOSE(m_identity,'SHE-Transmission PLC'!AI231, SPTL!AI231, 'NGET TO'!AI231),CHOOSE(m_identity,'SHE-Transmission PLC (Blank - )'!AI231, 'SPTL (Blank - not used)'!AI231, 'NGET TO (Blank - not used)'!AI231))","v":26.25},{"$f":"IF(UserInterface!$E$69 = 1,CHOOSE(m_identity,'SHE-Transmission PLC'!AJ231, SPTL!AJ231, 'NGET TO'!AJ231),CHOOSE(m_identity,'SHE-Transmission PLC (Blank - )'!AJ231, 'SPTL (Blank - not used)'!AJ231, 'NGET TO (Blank - not used)'!AJ231))","v":29.375},{"$f":"IF(UserInterface!$E$69 = 1,CHOOSE(m_identity,'SHE-Transmission PLC'!AK231, SPTL!AK231, 'NGET TO'!AK231),CHOOSE(m_identity,'SHE-Transmission PLC (Blank - )'!AK231, 'SPTL (Blank - not used)'!AK231, 'NGET TO (Blank - not used)'!AK231))","v":32.5},{"$f":"IF(UserInterface!$E$69 = 1,CHOOSE(m_identity,'SHE-Transmission PLC'!AL231, SPTL!AL231, 'NGET TO'!AL231),CHOOSE(m_identity,'SHE-Transmission PLC (Blank - )'!AL231, 'SPTL (Blank - not used)'!AL231, 'NGET TO (Blank - not used)'!AL231))","v":35.625},{"$f":"IF(UserInterface!$E$69 = 1,CHOOSE(m_identity,'SHE-Transmission PLC'!AM231, SPTL!AM231, 'NGET TO'!AM231),CHOOSE(m_identity,'SHE-Transmission PLC (Blank - )'!AM231, 'SPTL (Blank - not used)'!AM231, 'NGET TO (Blank - not used)'!AM231))","v":38.75},{"$f":"IF(UserInterface!$E$69 = 1,CHOOSE(m_identity,'SHE-Transmission PLC'!AN231, SPTL!AN231, 'NGET TO'!AN231),CHOOSE(m_identity,'SHE-Transmission PLC (Blank - )'!AN231, 'SPTL (Blank - not used)'!AN231, 'NGET TO (Blank - not used)'!AN231))","v":41.875},{"$f":"IF(UserInterface!$E$69 = 1,CHOOSE(m_identity,'SHE-Transmission PLC'!AO231, SPTL!AO231, 'NGET TO'!AO231),CHOOSE(m_identity,'SHE-Transmission PLC (Blank - )'!AO231, 'SPTL (Blank - not used)'!AO231, 'NGET TO (Blank - not used)'!AO231))","v":45}]
[null,null,null,null,"Accelerated post-vesting asset life",null,"years",null,null,">",{"$f":"IF(UserInterface!$E$69 = 1,CHOOSE(m_identity,'SHE-Transmission PLC'!K232, SPTL!K232, 'NGET TO'!K232),CHOOSE(m_identity,'SHE-Transmission PLC (Blank - )'!K232, 'SPTL (Blank - not used)'!K232, 'NGET TO (Blank - not used)'!K232))","v":20},{"$f":"IF(UserInterface!$E$69 = 1,CHOOSE(m_identity,'SHE-Transmission PLC'!L232, SPTL!L232, 'NGET TO'!L232),CHOOSE(m_identity,'SHE-Transmission PLC (Blank - )'!L232, 'SPTL (Blank - not used)'!L232, 'NGET TO (Blank - not used)'!L232))","v":20},{"$f":"IF(UserInterface!$E$69 = 1,CHOOSE(m_identity,'SHE-Transmission PLC'!M232, SPTL!M232, 'NGET TO'!M232),CHOOSE(m_identity,'SHE-Transmission PLC (Blank - )'!M232, 'SPTL (Blank - not used)'!M232, 'NGET TO (Blank - not used)'!M232))","v":20},{"$f":"IF(UserInterface!$E$69 = 1,CHOOSE(m_identity,'SHE-Transmission PLC'!N232, SPTL!N232, 'NGET TO'!N232),CHOOSE(m_identity,'SHE-Transmission PLC (Blank - )'!N232, 'SPTL (Blank - not used)'!N232, 'NGET TO (Blank - not used)'!N232))","v":20},{"$f":"IF(UserInterface!$E$69 = 1,CHOOSE(m_identity,'SHE-Transmission PLC'!O232, SPTL!O232, 'NGET TO'!O232),CHOOSE(m_identity,'SHE-Transmission PLC (Blank - )'!O232, 'SPTL (Blank - not used)'!O232, 'NGET TO (Blank - not used)'!O232))","v":20},{"$f":"IF(UserInterface!$E$69 = 1,CHOOSE(m_identity,'SHE-Transmission PLC'!P232, SPTL!P232, 'NGET TO'!P232),CHOOSE(m_identity,'SHE-Transmission PLC (Blank - )'!P232, 'SPTL (Blank - not used)'!P232, 'NGET TO (Blank - not used)'!P232))","v":20},{"$f":"IF(UserInterface!$E$69 = 1,CHOOSE(m_identity,'SHE-Transmission PLC'!Q232, SPTL!Q232, 'NGET TO'!Q232),CHOOSE(m_identity,'SHE-Transmission PLC (Blank - )'!Q232, 'SPTL (Blank - not used)'!Q232, 'NGET TO (Blank - not used)'!Q232))","v":20},{"$f":"IF(UserInterface!$E$69 = 1,CHOOSE(m_identity,'SHE-Transmission PLC'!R232, SPTL!R232, 'NGET TO'!R232),CHOOSE(m_identity,'SHE-Transmission PLC (Blank - )'!R232, 'SPTL (Blank - not used)'!R232, 'NGET TO (Blank - not used)'!R232))","v":20},{"$f":"IF(UserInterface!$E$69 = 1,CHOOSE(m_identity,'SHE-Transmission PLC'!S232, SPTL!S232, 'NGET TO'!S232),CHOOSE(m_identity,'SHE-Transmission PLC (Blank - )'!S232, 'SPTL (Blank - not used)'!S232, 'NGET TO (Blank - not used)'!S232))","v":20},{"$f":"IF(UserInterface!$E$69 = 1,CHOOSE(m_identity,'SHE-Transmission PLC'!T232, SPTL!T232, 'NGET TO'!T232),CHOOSE(m_identity,'SHE-Transmission PLC (Blank - )'!T232, 'SPTL (Blank - not used)'!T232, 'NGET TO (Blank - not used)'!T232))","v":20},{"$f":"IF(UserInterface!$E$69 = 1,CHOOSE(m_identity,'SHE-Transmission PLC'!U232, SPTL!U232, 'NGET TO'!U232),CHOOSE(m_identity,'SHE-Transmission PLC (Blank - )'!U232, 'SPTL (Blank - not used)'!U232, 'NGET TO (Blank - not used)'!U232))","v":20},{"$f":"IF(UserInterface!$E$69 = 1,CHOOSE(m_identity,'SHE-Transmission PLC'!V232, SPTL!V232, 'NGET TO'!V232),CHOOSE(m_identity,'SHE-Transmission PLC (Blank - )'!V232, 'SPTL (Blank - not used)'!V232, 'NGET TO (Blank - not used)'!V232))","v":20},{"$f":"IF(UserInterface!$E$69 = 1,CHOOSE(m_identity,'SHE-Transmission PLC'!W232, SPTL!W232, 'NGET TO'!W232),CHOOSE(m_identity,'SHE-Transmission PLC (Blank - )'!W232, 'SPTL (Blank - not used)'!W232, 'NGET TO (Blank - not used)'!W232))","v":20},{"$f":"IF(UserInterface!$E$69 = 1,CHOOSE(m_identity,'SHE-Transmission PLC'!X232, SPTL!X232, 'NGET TO'!X232),CHOOSE(m_identity,'SHE-Transmission PLC (Blank - )'!X232, 'SPTL (Blank - not used)'!X232, 'NGET TO (Blank - not used)'!X232))","v":20},{"$f":"IF(UserInterface!$E$69 = 1,CHOOSE(m_identity,'SHE-Transmission PLC'!Y232, SPTL!Y232, 'NGET TO'!Y232),CHOOSE(m_identity,'SHE-Transmission PLC (Blank - )'!Y232, 'SPTL (Blank - not used)'!Y232, 'NGET TO (Blank - not used)'!Y232))","v":20},{"$f":"IF(UserInterface!$E$69 = 1,CHOOSE(m_identity,'SHE-Transmission PLC'!Z232, SPTL!Z232, 'NGET TO'!Z232),CHOOSE(m_identity,'SHE-Transmission PLC (Blank - )'!Z232, 'SPTL (Blank - not used)'!Z232, 'NGET TO (Blank - not used)'!Z232))","v":20},{"$f":"IF(UserInterface!$E$69 = 1,CHOOSE(m_identity,'SHE-Transmission PLC'!AA232, SPTL!AA232, 'NGET TO'!AA232),CHOOSE(m_identity,'SHE-Transmission PLC (Blank - )'!AA232, 'SPTL (Blank - not used)'!AA232, 'NGET TO (Blank - not used)'!AA232))","v":20},{"$f":"IF(UserInterface!$E$69 = 1,CHOOSE(m_identity,'SHE-Transmission PLC'!AB232, SPTL!AB232, 'NGET TO'!AB232),CHOOSE(m_identity,'SHE-Transmission PLC (Blank - )'!AB232, 'SPTL (Blank - not used)'!AB232, 'NGET TO (Blank - not used)'!AB232))","v":20},{"$f":"IF(UserInterface!$E$69 = 1,CHOOSE(m_identity,'SHE-Transmission PLC'!AC232, SPTL!AC232, 'NGET TO'!AC232),CHOOSE(m_identity,'SHE-Transmission PLC (Blank - )'!AC232, 'SPTL (Blank - not used)'!AC232, 'NGET TO (Blank - not used)'!AC232))","v":20},{"$f":"IF(UserInterface!$E$69 = 1,CHOOSE(m_identity,'SHE-Transmission PLC'!AD232, SPTL!AD232, 'NGET TO'!AD232),CHOOSE(m_identity,'SHE-Transmission PLC (Blank - )'!AD232, 'SPTL (Blank - not used)'!AD232, 'NGET TO (Blank - not used)'!AD232))","v":20},{"$f":"IF(UserInterface!$E$69 = 1,CHOOSE(m_identity,'SHE-Transmission PLC'!AE232, SPTL!AE232, 'NGET TO'!AE232),CHOOSE(m_identity,'SHE-Transmission PLC (Blank - )'!AE232, 'SPTL (Blank - not used)'!AE232, 'NGET TO (Blank - not used)'!AE232))","v":20},{"$f":"IF(UserInterface!$E$69 = 1,CHOOSE(m_identity,'SHE-Transmission PLC'!AF232, SPTL!AF232, 'NGET TO'!AF232),CHOOSE(m_identity,'SHE-Transmission PLC (Blank - )'!AF232, 'SPTL (Blank - not used)'!AF232, 'NGET TO (Blank - not used)'!AF232))","v":20},{"$f":"IF(UserInterface!$E$69 = 1,CHOOSE(m_identity,'SHE-Transmission PLC'!AG232, SPTL!AG232, 'NGET TO'!AG232),CHOOSE(m_identity,'SHE-Transmission PLC (Blank - )'!AG232, 'SPTL (Blank - not used)'!AG232, 'NGET TO (Blank - not used)'!AG232))","v":20},{"$f":"IF(UserInterface!$E$69 = 1,CHOOSE(m_identity,'SHE-Transmission PLC'!AH232, SPTL!AH232, 'NGET TO'!AH232),CHOOSE(m_identity,'SHE-Transmission PLC (Blank - )'!AH232, 'SPTL (Blank - not used)'!AH232, 'NGET TO (Blank - not used)'!AH232))","v":23.125},{"$f":"IF(UserInterface!$E$69 = 1,CHOOSE(m_identity,'SHE-Transmission PLC'!AI232, SPTL!AI232, 'NGET TO'!AI232),CHOOSE(m_identity,'SHE-Transmission PLC (Blank - )'!AI232, 'SPTL (Blank - not used)'!AI232, 'NGET TO (Blank - not used)'!AI232))","v":26.25},{"$f":"IF(UserInterface!$E$69 = 1,CHOOSE(m_identity,'SHE-Transmission PLC'!AJ232, SPTL!AJ232, 'NGET TO'!AJ232),CHOOSE(m_identity,'SHE-Transmission PLC (Blank - )'!AJ232, 'SPTL (Blank - not used)'!AJ232, 'NGET TO (Blank - not used)'!AJ232))","v":29.375},{"$f":"IF(UserInterface!$E$69 = 1,CHOOSE(m_identity,'SHE-Transmission PLC'!AK232, SPTL!AK232, 'NGET TO'!AK232),CHOOSE(m_identity,'SHE-Transmission PLC (Blank - )'!AK232, 'SPTL (Blank - not used)'!AK232, 'NGET TO (Blank - not used)'!AK232))","v":32.5},{"$f":"IF(UserInterface!$E$69 = 1,CHOOSE(m_identity,'SHE-Transmission PLC'!AL232, SPTL!AL232, 'NGET TO'!AL232),CHOOSE(m_identity,'SHE-Transmission PLC (Blank - )'!AL232, 'SPTL (Blank - not used)'!AL232, 'NGET TO (Blank - not used)'!AL232))","v":35.625},{"$f":"IF(UserInterface!$E$69 = 1,CHOOSE(m_identity,'SHE-Transmission PLC'!AM232, SPTL!AM232, 'NGET TO'!AM232),CHOOSE(m_identity,'SHE-Transmission PLC (Blank - )'!AM232, 'SPTL (Blank - not used)'!AM232, 'NGET TO (Blank - not used)'!AM232))","v":38.75},{"$f":"IF(UserInterface!$E$69 = 1,CHOOSE(m_identity,'SHE-Transmission PLC'!AN232, SPTL!AN232, 'NGET TO'!AN232),CHOOSE(m_identity,'SHE-Transmission PLC (Blank - )'!AN232, 'SPTL (Blank - not used)'!AN232, 'NGET TO (Blank - not used)'!AN232))","v":41.875},{"$f":"IF(UserInterface!$E$69 = 1,CHOOSE(m_identity,'SHE-Transmission PLC'!AO232, SPTL!AO232, 'NGET TO'!AO232),CHOOSE(m_identity,'SHE-Transmission PLC (Blank - )'!AO232, 'SPTL (Blank - not used)'!AO232, 'NGET TO (Blank - not used)'!AO232))","v":45}]
[null,null,null,null,"Smoothing period following full depreciation of pre-vesting assets",null,"years",null,{"$f":"IF(UserInterface!$E$69 = 1,CHOOSE(m_identity,'SHE-Transmission PLC'!I233, SPTL!I233, 'NGET TO'!I233),CHOOSE(m_identity,'SHE-Transmission PLC (Blank - )'!I233, 'SPTL (Blank - not used)'!I233, 'NGET TO (Blank - not used)'!I233))","v":50}]
[null,null,null,null,"Start of smoothing period",null,"year ending",null,{"$f":"IF(UserInterface!$E$69 = 1,CHOOSE(m_identity,'SHE-Transmission PLC'!I234, SPTL!I234, 'NGET TO'!I234),CHOOSE(m_identity,'SHE-Transmission PLC (Blank - )'!I234, 'SPTL (Blank - not used)'!I234, 'NGET TO (Blank - not used)'!I234))","v":"1991-03-31"}]
[null,null,null,null,"Pre-RIIO net additions to RAV",null,"£m 09/10 prices",null,null,">",{"$f":"IF(UserInterface!$E$69 = 1,CHOOSE(m_identity,'SHE-Transmission PLC'!K235, SPTL!K235, 'NGET TO'!K235),CHOOSE(m_identity,'SHE-Transmission PLC (Blank - )'!K235, 'SPTL (Blank - not used)'!K235, 'NGET TO (Blank - not used)'!K235))","v":379.44363316244619},{"$f":"IF(UserInterface!$E$69 = 1,CHOOSE(m_identity,'SHE-Transmission PLC'!L235, SPTL!L235, 'NGET TO'!L235),CHOOSE(m_identity,'SHE-Transmission PLC (Blank - )'!L235, 'SPTL (Blank - not used)'!L235, 'NGET TO (Blank - not used)'!L235))","v":470.09452478062036},{"$f":"IF(UserInterface!$E$69 = 1,CHOOSE(m_identity,'SHE-Transmission PLC'!M235, SPTL!M235, 'NGET TO'!M235),CHOOSE(m_identity,'SHE-Transmission PLC (Blank - )'!M235, 'SPTL (Blank - not used)'!M235, 'NGET TO (Blank - not used)'!M235))","v":554.81084513454573},{"$f":"IF(UserInterface!$E$69 = 1,CHOOSE(m_identity,'SHE-Transmission PLC'!N235, SPTL!N235, 'NGET TO'!N235),CHOOSE(m_identity,'SHE-Transmission PLC (Blank - )'!N235, 'SPTL (Blank - not used)'!N235, 'NGET TO (Blank - not used)'!N235))","v":399.56790123456784},{"$f":"IF(UserInterface!$E$69 = 1,CHOOSE(m_identity,'SHE-Transmission PLC'!O235, SPTL!O235, 'NGET TO'!O235),CHOOSE(m_identity,'SHE-Transmission PLC (Blank - )'!O235, 'SPTL (Blank - not used)'!O235, 'NGET TO (Blank - not used)'!O235))","v":260.22632725604859},{"$f":"IF(UserInterface!$E$69 = 1,CHOOSE(m_identity,'SHE-Transmission PLC'!P235, SPTL!P235, 'NGET TO'!P235),CHOOSE(m_identity,'SHE-Transmission PLC (Blank - )'!P235, 'SPTL (Blank - not used)'!P235, 'NGET TO (Blank - not used)'!P235))","v":263.05996002664887},{"$f":"IF(UserInterface!$E$69 = 1,CHOOSE(m_identity,'SHE-Transmission PLC'!Q235, SPTL!Q235, 'NGET TO'!Q235),CHOOSE(m_identity,'SHE-Transmission PLC (Blank - )'!Q235, 'SPTL (Blank - not used)'!Q235, 'NGET TO (Blank - not used)'!Q235))","v":254.79277813923224},{"$f":"IF(UserInterface!$E$69 = 1,CHOOSE(m_identity,'SHE-Transmission PLC'!R235, SPTL!R235, 'NGET TO'!R235),CHOOSE(m_identity,'SHE-Transmission PLC (Blank - )'!R235, 'SPTL (Blank - not used)'!R235, 'NGET TO (Blank - not used)'!R235))","v":225.41366498740547},{"$f":"IF(UserInterface!$E$69 = 1,CHOOSE(m_identity,'SHE-Transmission PLC'!S235, SPTL!S235, 'NGET TO'!S235),CHOOSE(m_identity,'SHE-Transmission PLC (Blank - )'!S235, 'SPTL (Blank - not used)'!S235, 'NGET TO (Blank - not used)'!S235))","v":390.5666463166462},{"$f":"IF(UserInterface!$E$69 = 1,CHOOSE(m_identity,'SHE-Transmission PLC'!T235, SPTL!T235, 'NGET TO'!T235),CHOOSE(m_identity,'SHE-Transmission PLC (Blank - )'!T235, 'SPTL (Blank - not used)'!T235, 'NGET TO (Blank - not used)'!T235))","v":346.96432742658243},{"$f":"IF(UserInterface!$E$69 = 1,CHOOSE(m_identity,'SHE-Transmission PLC'!U235, SPTL!U235, 'NGET TO'!U235),CHOOSE(m_identity,'SHE-Transmission PLC (Blank - )'!U235, 'SPTL (Blank - not used)'!U235, 'NGET TO (Blank - not used)'!U235))","v":294.61484247298233},{"$f":"IF(UserInterface!$E$69 = 1,CHOOSE(m_identity,'SHE-Transmission PLC'!V235, SPTL!V235, 'NGET TO'!V235),CHOOSE(m_identity,'SHE-Transmission PLC (Blank - )'!V235, 'SPTL (Blank - not used)'!V235, 'NGET TO (Blank - not used)'!V235))","v":407.70883134746407},{"$f":"IF(UserInterface!$E$69 = 1,CHOOSE(m_identity,'SHE-Transmission PLC'!W235, SPTL!W235, 'NGET TO'!W235),CHOOSE(m_identity,'SHE-Transmission PLC (Blank - )'!W235, 'SPTL (Blank - not used)'!W235, 'NGET TO (Blank - not used)'!W235))","v":378.11716061760876},{"$f":"IF(UserInterface!$E$69 = 1,CHOOSE(m_identity,'SHE-Transmission PLC'!X235, SPTL!X235, 'NGET TO'!X235),CHOOSE(m_identity,'SHE-Transmission PLC (Blank - )'!X235, 'SPTL (Blank - not used)'!X235, 'NGET TO (Blank - not used)'!X235))","v":321.33438328493975},{"$f":"IF(UserInterface!$E$69 = 1,CHOOSE(m_identity,'SHE-Transmission PLC'!Y235, SPTL!Y235, 'NGET TO'!Y235),CHOOSE(m_identity,'SHE-Transmission PLC (Blank - )'!Y235, 'SPTL (Blank - not used)'!Y235, 'NGET TO (Blank - not used)'!Y235))","v":422.59647639294877},{"$f":"IF(UserInterface!$E$69 = 1,CHOOSE(m_identity,'SHE-Transmission PLC'!Z235, SPTL!Z235, 'NGET TO'!Z235),CHOOSE(m_identity,'SHE-Transmission PLC (Blank - )'!Z235, 'SPTL (Blank - not used)'!Z235, 'NGET TO (Blank - not used)'!Z235))","v":580.37086035691379},{"$f":"IF(UserInterface!$E$69 = 1,CHOOSE(m_identity,'SHE-Transmission PLC'!AA235, SPTL!AA235, 'NGET TO'!AA235),CHOOSE(m_identity,'SHE-Transmission PLC (Blank - )'!AA235, 'SPTL (Blank - not used)'!AA235, 'NGET TO (Blank - not used)'!AA235))","v":556.6596888260251},{"$f":"IF(UserInterface!$E$69 = 1,CHOOSE(m_identity,'SHE-Transmission PLC'!AB235, SPTL!AB235, 'NGET TO'!AB235),CHOOSE(m_identity,'SHE-Transmission PLC (Blank - )'!AB235, 'SPTL (Blank - not used)'!AB235, 'NGET TO (Blank - not used)'!AB235))","v":696.07018609532179},{"$f":"IF(UserInterface!$E$69 = 1,CHOOSE(m_identity,'SHE-Transmission PLC'!AC235, SPTL!AC235, 'NGET TO'!AC235),CHOOSE(m_identity,'SHE-Transmission PLC (Blank - )'!AC235, 'SPTL (Blank - not used)'!AC235, 'NGET TO (Blank - not used)'!AC235))","v":665.03634688976456},{"$f":"IF(UserInterface!$E$69 = 1,CHOOSE(m_identity,'SHE-Transmission PLC'!AD235, SPTL!AD235, 'NGET TO'!AD235),CHOOSE(m_identity,'SHE-Transmission PLC (Blank - )'!AD235, 'SPTL (Blank - not used)'!AD235, 'NGET TO (Blank - not used)'!AD235))","v":812.1919300000003},{"$f":"IF(UserInterface!$E$69 = 1,CHOOSE(m_identity,'SHE-Transmission PLC'!AE235, SPTL!AE235, 'NGET TO'!AE235),CHOOSE(m_identity,'SHE-Transmission PLC (Blank - )'!AE235, 'SPTL (Blank - not used)'!AE235, 'NGET TO (Blank - not used)'!AE235))","v":656.72036516023195},{"$f":"IF(UserInterface!$E$69 = 1,CHOOSE(m_identity,'SHE-Transmission PLC'!AF235, SPTL!AF235, 'NGET TO'!AF235),CHOOSE(m_identity,'SHE-Transmission PLC (Blank - )'!AF235, 'SPTL (Blank - not used)'!AF235, 'NGET TO (Blank - not used)'!AF235))","v":927.74885273201085},{"$f":"IF(UserInterface!$E$69 = 1,CHOOSE(m_identity,'SHE-Transmission PLC'!AG235, SPTL!AG235, 'NGET TO'!AG235),CHOOSE(m_identity,'SHE-Transmission PLC (Blank - )'!AG235, 'SPTL (Blank - not used)'!AG235, 'NGET TO (Blank - not used)'!AG235))","v":902.96161798967933}]
[null,null,null,null,"LRAV",null,"£m 09/10 prices",null,null,null,null,null,null,null,null,null,null,null,null,null,null,null,null,null,null,null,null,null,null,null,null,null,null,{"$f":"AH32","v":-162.17489418365281}]
[null,null,null,null,"RIIO post-vesting RAV additions",null,"£m 09/10 prices",null,null,null,null,null,null,null,null,null,null,null,null,null,null,null,null,null,null,null,null,null,null,null,null,null,null,{"$f":"IF(UserInterface!$E$69 = 1,CHOOSE(m_identity,'SHE-Transmission PLC'!AH237, SPTL!AH237, 'NGET TO'!AH237),CHOOSE(m_identity,'SHE-Transmission PLC (Blank - )'!AH237, 'SPTL (Blank - not used)'!AH237, 'NGET TO (Blank - not used)'!AH237))","v":0},{"$f":"IF(UserInterface!$E$69 = 1,CHOOSE(m_identity,'SHE-Transmission PLC'!AI237, SPTL!AI237, 'NGET TO'!AI237),CHOOSE(m_identity,'SHE-Transmission PLC (Blank - )'!AI237, 'SPTL (Blank - not used)'!AI237, 'NGET TO (Blank - not used)'!AI237))","v":0},{"$f":"IF(UserInterface!$E$69 = 1,CHOOSE(m_identity,'SHE-Transmission PLC'!AJ237, SPTL!AJ237, 'NGET TO'!AJ237),CHOOSE(m_identity,'SHE-Transmission PLC (Blank - )'!AJ237, 'SPTL (Blank - not used)'!AJ237, 'NGET TO (Blank - not used)'!AJ237))","v":0},{"$f":"IF(UserInterface!$E$69 = 1,CHOOSE(m_identity,'SHE-Transmission PLC'!AK237, SPTL!AK237, 'NGET TO'!AK237),CHOOSE(m_identity,'SHE-Transmission PLC (Blank - )'!AK237, 'SPTL (Blank - not used)'!AK237, 'NGET TO (Blank - not used)'!AK237))","v":0},{"$f":"IF(UserInterface!$E$69 = 1,CHOOSE(m_identity,'SHE-Transmission PLC'!AL237, SPTL!AL237, 'NGET TO'!AL237),CHOOSE(m_identity,'SHE-Transmission PLC (Blank - )'!AL237, 'SPTL (Blank - not used)'!AL237, 'NGET TO (Blank - not used)'!AL237))","v":0},{"$f":"IF(UserInterface!$E$69 = 1,CHOOSE(m_identity,'SHE-Transmission PLC'!AM237, SPTL!AM237, 'NGET TO'!AM237),CHOOSE(m_identity,'SHE-Transmission PLC (Blank - )'!AM237, 'SPTL (Blank - not used)'!AM237, 'NGET TO (Blank - not used)'!AM237))","v":0},{"$f":"IF(UserInterface!$E$69 = 1,CHOOSE(m_identity,'SHE-Transmission PLC'!AN237, SPTL!AN237, 'NGET TO'!AN237),CHOOSE(m_identity,'SHE-Transmission PLC (Blank - )'!AN237, 'SPTL (Blank - not used)'!AN237, 'NGET TO (Blank - not used)'!AN237))","v":0},{"$f":"IF(UserInterface!$E$69 = 1,CHOOSE(m_identity,'SHE-Transmission PLC'!AO237, SPTL!AO237, 'NGET TO'!AO237),CHOOSE(m_identity,'SHE-Transmission PLC (Blank - )'!AO237, 'SPTL (Blank - not used)'!AO237, 'NGET TO (Blank - not used)'!AO237))","v":0}]
[null,null,null,null,"RIIO post-vesting RAV disposals",null,"£m 09/10 prices",null,null,null,null,null,null,null,null,null,null,null,null,null,null,null,null,null,null,null,null,null,null,null,null,null,null,{"$f":"IF(UserInterface!$E$69 = 1,CHOOSE(m_identity,'SHE-Transmission PLC'!AH238, SPTL!AH238, 'NGET TO'!AH238),CHOOSE(m_identity,'SHE-Transmission PLC (Blank - )'!AH238, 'SPTL (Blank - not used)'!AH238, 'NGET TO (Blank - not used)'!AH238))","v":0},{"$f":"IF(UserInterface!$E$69 = 1,CHOOSE(m_identity,'SHE-Transmission PLC'!AI238, SPTL!AI238, 'NGET TO'!AI238),CHOOSE(m_identity,'SHE-Transmission PLC (Blank - )'!AI238, 'SPTL (Blank - not used)'!AI238, 'NGET TO (Blank - not used)'!AI238))","v":0},{"$f":"IF(UserInterface!$E$69 = 1,CHOOSE(m_identity,'SHE-Transmission PLC'!AJ238, SPTL!AJ238, 'NGET TO'!AJ238),CHOOSE(m_identity,'SHE-Transmission PLC (Blank - )'!AJ238, 'SPTL (Blank - not used)'!AJ238, 'NGET TO (Blank - not used)'!AJ238))","v":0},{"$f":"IF(UserInterface!$E$69 = 1,CHOOSE(m_identity,'SHE-Transmission PLC'!AK238, SPTL!AK238, 'NGET TO'!AK238),CHOOSE(m_identity,'SHE-Transmission PLC (Blank - )'!AK238, 'SPTL (Blank - not used)'!AK238, 'NGET TO (Blank - not used)'!AK238))","v":0},{"$f":"IF(UserInterface!$E$69 = 1,CHOOSE(m_identity,'SHE-Transmission PLC'!AL238, SPTL!AL238, 'NGET TO'!AL238),CHOOSE(m_identity,'SHE-Transmission PLC (Blank - )'!AL238, 'SPTL (Blank - not used)'!AL238, 'NGET TO (Blank - not used)'!AL238))","v":0},{"$f":"IF(UserInterface!$E$69 = 1,CHOOSE(m_identity,'SHE-Transmission PLC'!AM238, SPTL!AM238, 'NGET TO'!AM238),CHOOSE(m_identity,'SHE-Transmission PLC (Blank - )'!AM238, 'SPTL (Blank - not used)'!AM238, 'NGET TO (Blank - not used)'!AM238))","v":0},{"$f":"IF(UserInterface!$E$69 = 1,CHOOSE(m_identity,'SHE-Transmission PLC'!AN238, SPTL!AN238, 'NGET TO'!AN238),CHOOSE(m_identity,'SHE-Transmission PLC (Blank - )'!AN238, 'SPTL (Blank - not used)'!AN238, 'NGET TO (Blank - not used)'!AN238))","v":0},{"$f":"IF(UserInterface!$E$69 = 1,CHOOSE(m_identity,'SHE-Transmission PLC'!AO238, SPTL!AO238, 'NGET TO'!AO238),CHOOSE(m_identity,'SHE-Transmission PLC (Blank - )'!AO238, 'SPTL (Blank - not used)'!AO238, 'NGET TO (Blank - not used)'!AO238))","v":0}]
[null,null,null,null,"Pre-RIIO transfers to depreciation",null,"£m 09/10 prices",null,null,">",{"$f":"IF(UserInterface!$E$69 = 1,CHOOSE(m_identity,'SHE-Transmission PLC'!K239, SPTL!K239, 'NGET TO'!K239),CHOOSE(m_identity,'SHE-Transmission PLC (Blank - )'!K239, 'SPTL (Blank - not used)'!K239, 'NGET TO (Blank - not used)'!K239))","v":0},{"$f":"IF(UserInterface!$E$69 = 1,CHOOSE(m_identity,'SHE-Transmission PLC'!L239, SPTL!L239, 'NGET TO'!L239),CHOOSE(m_identity,'SHE-Transmission PLC (Blank - )'!L239, 'SPTL (Blank - not used)'!L239, 'NGET TO (Blank - not used)'!L239))","v":0},{"$f":"IF(UserInterface!$E$69 = 1,CHOOSE(m_identity,'SHE-Transmission PLC'!M239, SPTL!M239, 'NGET TO'!M239),CHOOSE(m_identity,'SHE-Transmission PLC (Blank - )'!M239, 'SPTL (Blank - not used)'!M239, 'NGET TO (Blank - not used)'!M239))","v":0},{"$f":"IF(UserInterface!$E$69 = 1,CHOOSE(m_identity,'SHE-Transmission PLC'!N239, SPTL!N239, 'NGET TO'!N239),CHOOSE(m_identity,'SHE-Transmission PLC (Blank - )'!N239, 'SPTL (Blank - not used)'!N239, 'NGET TO (Blank - not used)'!N239))","v":0},{"$f":"IF(UserInterface!$E$69 = 1,CHOOSE(m_identity,'SHE-Transmission PLC'!O239, SPTL!O239, 'NGET TO'!O239),CHOOSE(m_identity,'SHE-Transmission PLC (Blank - )'!O239, 'SPTL (Blank - not used)'!O239, 'NGET TO (Blank - not used)'!O239))","v":0},{"$f":"IF(UserInterface!$E$69 = 1,CHOOSE(m_identity,'SHE-Transmission PLC'!P239, SPTL!P239, 'NGET TO'!P239),CHOOSE(m_identity,'SHE-Transmission PLC (Blank - )'!P239, 'SPTL (Blank - not used)'!P239, 'NGET TO (Blank - not used)'!P239))","v":0},{"$f":"IF(UserInterface!$E$69 = 1,CHOOSE(m_identity,'SHE-Transmission PLC'!Q239, SPTL!Q239, 'NGET TO'!Q239),CHOOSE(m_identity,'SHE-Transmission PLC (Blank - )'!Q239, 'SPTL (Blank - not used)'!Q239, 'NGET TO (Blank - not used)'!Q239))","v":0},{"$f":"IF(UserInterface!$E$69 = 1,CHOOSE(m_identity,'SHE-Transmission PLC'!R239, SPTL!R239, 'NGET TO'!R239),CHOOSE(m_identity,'SHE-Transmission PLC (Blank - )'!R239, 'SPTL (Blank - not used)'!R239, 'NGET TO (Blank - not used)'!R239))","v":0},{"$f":"IF(UserInterface!$E$69 = 1,CHOOSE(m_identity,'SHE-Transmission PLC'!S239, SPTL!S239, 'NGET TO'!S239),CHOOSE(m_identity,'SHE-Transmission PLC (Blank - )'!S239, 'SPTL (Blank - not used)'!S239, 'NGET TO (Blank - not used)'!S239))","v":0},{"$f":"IF(UserInterface!$E$69 = 1,CHOOSE(m_identity,'SHE-Transmission PLC'!T239, SPTL!T239, 'NGET TO'!T239),CHOOSE(m_identity,'SHE-Transmission PLC (Blank - )'!T239, 'SPTL (Blank - not used)'!T239, 'NGET TO (Blank - not used)'!T239))","v":0},{"$f":"IF(UserInterface!$E$69 = 1,CHOOSE(m_identity,'SHE-Transmission PLC'!U239, SPTL!U239, 'NGET TO'!U239),CHOOSE(m_identity,'SHE-Transmission PLC (Blank - )'!U239, 'SPTL (Blank - not used)'!U239, 'NGET TO (Blank - not used)'!U239))","v":0},{"$f":"IF(UserInterface!$E$69 = 1,CHOOSE(m_identity,'SHE-Transmission PLC'!V239, SPTL!V239, 'NGET TO'!V239),CHOOSE(m_identity,'SHE-Transmission PLC (Blank - )'!V239, 'SPTL (Blank - not used)'!V239, 'NGET TO (Blank - not used)'!V239))","v":0},{"$f":"IF(UserInterface!$E$69 = 1,CHOOSE(m_identity,'SHE-Transmission PLC'!W239, SPTL!W239, 'NGET TO'!W239),CHOOSE(m_identity,'SHE-Transmission PLC (Blank - )'!W239, 'SPTL (Blank - not used)'!W239, 'NGET TO (Blank - not used)'!W239))","v":0},{"$f":"IF(UserInterface!$E$69 = 1,CHOOSE(m_identity,'SHE-Transmission PLC'!X239, SPTL!X239, 'NGET TO'!X239),CHOOSE(m_identity,'SHE-Transmission PLC (Blank - )'!X239, 'SPTL (Blank - not used)'!X239, 'NGET TO (Blank - not used)'!X239))","v":-40.436923865811004},{"$f":"IF(UserInterface!$E$69 = 1,CHOOSE(m_identity,'SHE-Transmission PLC'!Y239, SPTL!Y239, 'NGET TO'!Y239),CHOOSE(m_identity,'SHE-Transmission PLC (Blank - )'!Y239, 'SPTL (Blank - not used)'!Y239, 'NGET TO (Blank - not used)'!Y239))","v":0},{"$f":"IF(UserInterface!$E$69 = 1,CHOOSE(m_identity,'SHE-Transmission PLC'!Z239, SPTL!Z239, 'NGET TO'!Z239),CHOOSE(m_identity,'SHE-Transmission PLC (Blank - )'!Z239, 'SPTL (Blank - not used)'!Z239, 'NGET TO (Blank - not used)'!Z239))","v":0},{"$f":"IF(UserInterface!$E$69 = 1,CHOOSE(m_identity,'SHE-Transmission PLC'!AA239, SPTL!AA239, 'NGET TO'!AA239),CHOOSE(m_identity,'SHE-Transmission PLC (Blank - )'!AA239, 'SPTL (Blank - not used)'!AA239, 'NGET TO (Blank - not used)'!AA239))","v":0},{"$f":"IF(UserInterface!$E$69 = 1,CHOOSE(m_identity,'SHE-Transmission PLC'!AB239, SPTL!AB239, 'NGET TO'!AB239),CHOOSE(m_identity,'SHE-Transmission PLC (Blank - )'!AB239, 'SPTL (Blank - not used)'!AB239, 'NGET TO (Blank - not used)'!AB239))","v":0},{"$f":"IF(UserInterface!$E$69 = 1,CHOOSE(m_identity,'SHE-Transmission PLC'!AC239, SPTL!AC239, 'NGET TO'!AC239),CHOOSE(m_identity,'SHE-Transmission PLC (Blank - )'!AC239, 'SPTL (Blank - not used)'!AC239, 'NGET TO (Blank - not used)'!AC239))","v":0},{"$f":"IF(UserInterface!$E$69 = 1,CHOOSE(m_identity,'SHE-Transmission PLC'!AD239, SPTL!AD239, 'NGET TO'!AD239),CHOOSE(m_identity,'SHE-Transmission PLC (Blank - )'!AD239, 'SPTL (Blank - not used)'!AD239, 'NGET TO (Blank - not used)'!AD239))","v":0},{"$f":"IF(UserInterface!$E$69 = 1,CHOOSE(m_identity,'SHE-Transmission PLC'!AE239, SPTL!AE239, 'NGET TO'!AE239),CHOOSE(m_identity,'SHE-Transmission PLC (Blank - )'!AE239, 'SPTL (Blank - not used)'!AE239, 'NGET TO (Blank - not used)'!AE239))","v":0},{"$f":"IF(UserInterface!$E$69 = 1,CHOOSE(m_identity,'SHE-Transmission PLC'!AF239, SPTL!AF239, 'NGET TO'!AF239),CHOOSE(m_identity,'SHE-Transmission PLC (Blank - )'!AF239, 'SPTL (Blank - not used)'!AF239, 'NGET TO (Blank - not used)'!AF239))","v":0},{"$f":"IF(UserInterface!$E$69 = 1,CHOOSE(m_identity,'SHE-Transmission PLC'!AG239, SPTL!AG239, 'NGET TO'!AG239),CHOOSE(m_identity,'SHE-Transmission PLC (Blank - )'!AG239, 'SPTL (Blank - not used)'!AG239, 'NGET TO (Blank - not used)'!AG239))","v":0}]
[]
[null,null,"Project assets (except TIRG)"]
[]
[null,null,null,null,"PLUGS asset life",null,"years",null,null,">",null,null,null,null,null,null,null,null,null,null,null,null,null,null,null,{"$f":"IF(UserInterface!$E$69 = 1,CHOOSE(m_identity,'SHE-Transmission PLC'!Z243, SPTL!Z243, 'NGET TO'!Z243),CHOOSE(m_identity,'SHE-Transmission PLC (Blank - )'!Z243, 'SPTL (Blank - not used)'!Z243, 'NGET TO (Blank - not used)'!Z243))","v":30},{"$f":"IF(UserInterface!$E$69 = 1,CHOOSE(m_identity,'SHE-Transmission PLC'!AA243, SPTL!AA243, 'NGET TO'!AA243),CHOOSE(m_identity,'SHE-Transmission PLC (Blank - )'!AA243, 'SPTL (Blank - not used)'!AA243, 'NGET TO (Blank - not used)'!AA243))","v":30},{"$f":"IF(UserInterface!$E$69 = 1,CHOOSE(m_identity,'SHE-Transmission PLC'!AB243, SPTL!AB243, 'NGET TO'!AB243),CHOOSE(m_identity,'SHE-Transmission PLC (Blank - )'!AB243, 'SPTL (Blank - not used)'!AB243, 'NGET TO (Blank - not used)'!AB243))","v":30},{"$f":"IF(UserInterface!$E$69 = 1,CHOOSE(m_identity,'SHE-Transmission PLC'!AC243, SPTL!AC243, 'NGET TO'!AC243),CHOOSE(m_identity,'SHE-Transmission PLC (Blank - )'!AC243, 'SPTL (Blank - not used)'!AC243, 'NGET TO (Blank - not used)'!AC243))","v":30},{"$f":"IF(UserInterface!$E$69 = 1,CHOOSE(m_identity,'SHE-Transmission PLC'!AD243, SPTL!AD243, 'NGET TO'!AD243),CHOOSE(m_identity,'SHE-Transmission PLC (Blank - )'!AD243, 'SPTL (Blank - not used)'!AD243, 'NGET TO (Blank - not used)'!AD243))","v":30},{"$f":"IF(UserInterface!$E$69 = 1,CHOOSE(m_identity,'SHE-Transmission PLC'!AE243, SPTL!AE243, 'NGET TO'!AE243),CHOOSE(m_identity,'SHE-Transmission PLC (Blank - )'!AE243, 'SPTL (Blank - not used)'!AE243, 'NGET TO (Blank - not used)'!AE243))","v":30},{"$f":"IF(UserInterface!$E$69 = 1,CHOOSE(m_identity,'SHE-Transmission PLC'!AF243, SPTL!AF243, 'NGET TO'!AF243),CHOOSE(m_identity,'SHE-Transmission PLC (Blank - )'!AF243, 'SPTL (Blank - not used)'!AF243, 'NGET TO (Blank - not used)'!AF243))","v":30},{"$f":"IF(UserInterface!$E$69 = 1,CHOOSE(m_identity,'SHE-Transmission PLC'!AG243, SPTL!AG243, 'NGET TO'!AG243),CHOOSE(m_identity,'SHE-Transmission PLC (Blank - )'!AG243, 'SPTL (Blank - not used)'!AG243, 'NGET TO (Blank - not used)'!AG243))","v":18},{"$f":"IF(UserInterface!$E$69 = 1,CHOOSE(m_identity,'SHE-Transmission PLC'!AH243, SPTL!AH243, 'NGET TO'!AH243),CHOOSE(m_identity,'SHE-Transmission PLC (Blank - )'!AH243, 'SPTL (Blank - not used)'!AH243, 'NGET TO (Blank - not used)'!AH243))","v":18},{"$f":"IF(UserInterface!$E$69 = 1,CHOOSE(m_identity,'SHE-Transmission PLC'!AI243, SPTL!AI243, 'NGET TO'!AI243),CHOOSE(m_identity,'SHE-Transmission PLC (Blank - )'!AI243, 'SPTL (Blank - not used)'!AI243, 'NGET TO (Blank - not used)'!AI243))","v":18},{"$f":"IF(UserInterface!$E$69 = 1,CHOOSE(m_identity,'SHE-Transmission PLC'!AJ243, SPTL!AJ243, 'NGET TO'!AJ243),CHOOSE(m_identity,'SHE-Transmission PLC (Blank - )'!AJ243, 'SPTL (Blank - not used)'!AJ243, 'NGET TO (Blank - not used)'!AJ243))","v":18},{"$f":"IF(UserInterface!$E$69 = 1,CHOOSE(m_identity,'SHE-Transmission PLC'!AK243, SPTL!AK243, 'NGET TO'!AK243),CHOOSE(m_identity,'SHE-Transmission PLC (Blank - )'!AK243, 'SPTL (Blank - not used)'!AK243, 'NGET TO (Blank - not used)'!AK243))","v":18},{"$f":"IF(UserInterface!$E$69 = 1,CHOOSE(m_identity,'SHE-Transmission PLC'!AL243, SPTL!AL243, 'NGET TO'!AL243),CHOOSE(m_identity,'SHE-Transmission PLC (Blank - )'!AL243, 'SPTL (Blank - not used)'!AL243, 'NGET TO (Blank - not used)'!AL243))","v":18},{"$f":"IF(UserInterface!$E$69 = 1,CHOOSE(m_identity,'SHE-Transmission PLC'!AM243, SPTL!AM243, 'NGET TO'!AM243),CHOOSE(m_identity,'SHE-Transmission PLC (Blank - )'!AM243, 'SPTL (Blank - not used)'!AM243, 'NGET TO (Blank - not used)'!AM243))","v":18},{"$f":"IF(UserInterface!$E$69 = 1,CHOOSE(m_identity,'SHE-Transmission PLC'!AN243, SPTL!AN243, 'NGET TO'!AN243),CHOOSE(m_identity,'SHE-Transmission PLC (Blank - )'!AN243, 'SPTL (Blank - not used)'!AN243, 'NGET TO (Blank - not used)'!AN243))","v":18},{"$f":"IF(UserInterface!$E$69 = 1,CHOOSE(m_identity,'SHE-Transmission PLC'!AO243, SPTL!AO243, 'NGET TO'!AO243),CHOOSE(m_identity,'SHE-Transmission PLC (Blank - )'!AO243, 'SPTL (Blank - not used)'!AO243, 'NGET TO (Blank - not used)'!AO243))","v":18}]
[null,null,null,null,"PLUGS net additions (after disposals)",null,"£m 09/10 prices",null,null,">",null,null,null,null,null,null,null,null,null,null,null,null,null,null,null,{"$f":"IF(UserInterface!$E$69 = 1,CHOOSE(m_identity,'SHE-Transmission PLC'!Z244, SPTL!Z244, 'NGET TO'!Z244),CHOOSE(m_identity,'SHE-Transmission PLC (Blank - )'!Z244, 'SPTL (Blank - not used)'!Z244, 'NGET TO (Blank - not used)'!Z244))","v":0},{"$f":"IF(UserInterface!$E$69 = 1,CHOOSE(m_identity,'SHE-Transmission PLC'!AA244, SPTL!AA244, 'NGET TO'!AA244),CHOOSE(m_identity,'SHE-Transmission PLC (Blank - )'!AA244, 'SPTL (Blank - not used)'!AA244, 'NGET TO (Blank - not used)'!AA244))","v":0},{"$f":"IF(UserInterface!$E$69 = 1,CHOOSE(m_identity,'SHE-Transmission PLC'!AB244, SPTL!AB244, 'NGET TO'!AB244),CHOOSE(m_identity,'SHE-Transmission PLC (Blank - )'!AB244, 'SPTL (Blank - not used)'!AB244, 'NGET TO (Blank - not used)'!AB244))","v":0},{"$f":"IF(UserInterface!$E$69 = 1,CHOOSE(m_identity,'SHE-Transmission PLC'!AC244, SPTL!AC244, 'NGET TO'!AC244),CHOOSE(m_identity,'SHE-Transmission PLC (Blank - )'!AC244, 'SPTL (Blank - not used)'!AC244, 'NGET TO (Blank - not used)'!AC244))","v":0},{"$f":"IF(UserInterface!$E$69 = 1,CHOOSE(m_identity,'SHE-Transmission PLC'!AD244, SPTL!AD244, 'NGET TO'!AD244),CHOOSE(m_identity,'SHE-Transmission PLC (Blank - )'!AD244, 'SPTL (Blank - not used)'!AD244, 'NGET TO (Blank - not used)'!AD244))","v":0},{"$f":"IF(UserInterface!$E$69 = 1,CHOOSE(m_identity,'SHE-Transmission PLC'!AE244, SPTL!AE244, 'NGET TO'!AE244),CHOOSE(m_identity,'SHE-Transmission PLC (Blank - )'!AE244, 'SPTL (Blank - not used)'!AE244, 'NGET TO (Blank - not used)'!AE244))","v":0},{"$f":"IF(UserInterface!$E$69 = 1,CHOOSE(m_identity,'SHE-Transmission PLC'!AF244, SPTL!AF244, 'NGET TO'!AF244),CHOOSE(m_identity,'SHE-Transmission PLC (Blank - )'!AF244, 'SPTL (Blank - not used)'!AF244, 'NGET TO (Blank - not used)'!AF244))","v":0},{"$f":"IF(UserInterface!$E$69 = 1,CHOOSE(m_identity,'SHE-Transmission PLC'!AG244, SPTL!AG244, 'NGET TO'!AG244),CHOOSE(m_identity,'SHE-Transmission PLC (Blank - )'!AG244, 'SPTL (Blank - not used)'!AG244, 'NGET TO (Blank - not used)'!AG244))","v":0}]
[]
[null,null,null,null,"TOI accelerated post-vesting asset life",null,"years",null,{"$f":"IF(UserInterface!$E$69 = 1,CHOOSE(m_identity,'SHE-Transmission PLC'!I246, SPTL!I246, 'NGET TO'!I246),CHOOSE(m_identity,'SHE-Transmission PLC (Blank - )'!I246, 'SPTL (Blank - not used)'!I246, 'NGET TO (Blank - not used)'!I246))","v":20}]
[null,null,null,null,"TOI net additions (after disposals)",null,"£m 09/10 prices",null,null,">",null,null,null,null,null,null,null,null,null,null,null,null,null,null,null,null,null,null,{"$f":"IF(UserInterface!$E$69 = 1,CHOOSE(m_identity,'SHE-Transmission PLC'!AC247, SPTL!AC247, 'NGET TO'!AC247),CHOOSE(m_identity,'SHE-Transmission PLC (Blank - )'!AC247, 'SPTL (Blank - not used)'!AC247, 'NGET TO (Blank - not used)'!AC247))","v":0.77653899278342486},{"$f":"IF(UserInterface!$E$69 = 1,CHOOSE(m_identity,'SHE-Transmission PLC'!AD247, SPTL!AD247, 'NGET TO'!AD247),CHOOSE(m_identity,'SHE-Transmission PLC (Blank - )'!AD247, 'SPTL (Blank - not used)'!AD247, 'NGET TO (Blank - not used)'!AD247))","v":12.29},{"$f":"IF(UserInterface!$E$69 = 1,CHOOSE(m_identity,'SHE-Transmission PLC'!AE247, SPTL!AE247, 'NGET TO'!AE247),CHOOSE(m_identity,'SHE-Transmission PLC (Blank - )'!AE247, 'SPTL (Blank - not used)'!AE247, 'NGET TO (Blank - not used)'!AE247))","v":108.40943564989333},{"$f":"IF(UserInterface!$E$69 = 1,CHOOSE(m_identity,'SHE-Transmission PLC'!AF247, SPTL!AF247, 'NGET TO'!AF247),CHOOSE(m_identity,'SHE-Transmission PLC (Blank - )'!AF247, 'SPTL (Blank - not used)'!AF247, 'NGET TO (Blank - not used)'!AF247))","v":100.28161328605032},{"$f":"IF(UserInterface!$E$69 = 1,CHOOSE(m_identity,'SHE-Transmission PLC'!AG247, SPTL!AG247, 'NGET TO'!AG247),CHOOSE(m_identity,'SHE-Transmission PLC (Blank - )'!AG247, 'SPTL (Blank - not used)'!AG247, 'NGET TO (Blank - not used)'!AG247))","v":313.17}]
[null,null,null,null,"TOI deemed depreciation",null,"£m 09/10 prices",null,null,">",null,null,null,null,null,null,null,null,null,null,null,null,null,null,null,null,null,null,null,{"$f":"IF(UserInterface!$E$69 = 1,CHOOSE(m_identity,'SHE-Transmission PLC'!AD248, SPTL!AD248, 'NGET TO'!AD248),CHOOSE(m_identity,'SHE-Transmission PLC (Blank - )'!AD248, 'SPTL (Blank - not used)'!AD248, 'NGET TO (Blank - not used)'!AD248))","v":0},{"$f":"IF(UserInterface!$E$69 = 1,CHOOSE(m_identity,'SHE-Transmission PLC'!AE248, SPTL!AE248, 'NGET TO'!AE248),CHOOSE(m_identity,'SHE-Transmission PLC (Blank - )'!AE248, 'SPTL (Blank - not used)'!AE248, 'NGET TO (Blank - not used)'!AE248))","v":0.10057144878939689},{"$f":"IF(UserInterface!$E$69 = 1,CHOOSE(m_identity,'SHE-Transmission PLC'!AF248, SPTL!AF248, 'NGET TO'!AF248),CHOOSE(m_identity,'SHE-Transmission PLC (Blank - )'!AF248, 'SPTL (Blank - not used)'!AF248, 'NGET TO (Blank - not used)'!AF248))","v":3.7837175310597444}]
[]
[null,null,null,null,"England-Scotland interconnector asset life applied",null,"years",null,null,">",null,null,null,null,null,null,null,null,null,null,null,null,null,null,null,{"$f":"IF(UserInterface!$E$69 = 1,CHOOSE(m_identity,'SHE-Transmission PLC'!Z250, SPTL!Z250, 'NGET TO'!Z250),CHOOSE(m_identity,'SHE-Transmission PLC (Blank - )'!Z250, 'SPTL (Blank - not used)'!Z250, 'NGET TO (Blank - not used)'!Z250))","v":29},{"$f":"IF(UserInterface!$E$69 = 1,CHOOSE(m_identity,'SHE-Transmission PLC'!AA250, SPTL!AA250, 'NGET TO'!AA250),CHOOSE(m_identity,'SHE-Transmission PLC (Blank - )'!AA250, 'SPTL (Blank - not used)'!AA250, 'NGET TO (Blank - not used)'!AA250))","v":29},{"$f":"IF(UserInterface!$E$69 = 1,CHOOSE(m_identity,'SHE-Transmission PLC'!AB250, SPTL!AB250, 'NGET TO'!AB250),CHOOSE(m_identity,'SHE-Transmission PLC (Blank - )'!AB250, 'SPTL (Blank - not used)'!AB250, 'NGET TO (Blank - not used)'!AB250))","v":29},{"$f":"IF(UserInterface!$E$69 = 1,CHOOSE(m_identity,'SHE-Transmission PLC'!AC250, SPTL!AC250, 'NGET TO'!AC250),CHOOSE(m_identity,'SHE-Transmission PLC (Blank - )'!AC250, 'SPTL (Blank - not used)'!AC250, 'NGET TO (Blank - not used)'!AC250))","v":29},{"$f":"IF(UserInterface!$E$69 = 1,CHOOSE(m_identity,'SHE-Transmission PLC'!AD250, SPTL!AD250, 'NGET TO'!AD250),CHOOSE(m_identity,'SHE-Transmission PLC (Blank - )'!AD250, 'SPTL (Blank - not used)'!AD250, 'NGET TO (Blank - not used)'!AD250))","v":29},{"$f":"IF(UserInterface!$E$69 = 1,CHOOSE(m_identity,'SHE-Transmission PLC'!AE250, SPTL!AE250, 'NGET TO'!AE250),CHOOSE(m_identity,'SHE-Transmission PLC (Blank - )'!AE250, 'SPTL (Blank - not used)'!AE250, 'NGET TO (Blank - not used)'!AE250))","v":17.5},{"$f":"IF(UserInterface!$E$69 = 1,CHOOSE(m_identity,'SHE-Transmission PLC'!AF250, SPTL!AF250, 'NGET TO'!AF250),CHOOSE(m_identity,'SHE-Transmission PLC (Blank - )'!AF250, 'SPTL (Blank - not used)'!AF250, 'NGET TO (Blank - not used)'!AF250))","v":17.5},{"$f":"IF(UserInterface!$E$69 = 1,CHOOSE(m_identity,'SHE-Transmission PLC'!AG250, SPTL!AG250, 'NGET TO'!AG250),CHOOSE(m_identity,'SHE-Transmission PLC (Blank - )'!AG250, 'SPTL (Blank - not used)'!AG250, 'NGET TO (Blank - not used)'!AG250))","v":17.5},{"$f":"IF(UserInterface!$E$69 = 1,CHOOSE(m_identity,'SHE-Transmission PLC'!AH250, SPTL!AH250, 'NGET TO'!AH250),CHOOSE(m_identity,'SHE-Transmission PLC (Blank - )'!AH250, 'SPTL (Blank - not used)'!AH250, 'NGET TO (Blank - not used)'!AH250))","v":17.5},{"$f":"IF(UserInterface!$E$69 = 1,CHOOSE(m_identity,'SHE-Transmission PLC'!AI250, SPTL!AI250, 'NGET TO'!AI250),CHOOSE(m_identity,'SHE-Transmission PLC (Blank - )'!AI250, 'SPTL (Blank - not used)'!AI250, 'NGET TO (Blank - not used)'!AI250))","v":17.5},{"$f":"IF(UserInterface!$E$69 = 1,CHOOSE(m_identity,'SHE-Transmission PLC'!AJ250, SPTL!AJ250, 'NGET TO'!AJ250),CHOOSE(m_identity,'SHE-Transmission PLC (Blank - )'!AJ250, 'SPTL (Blank - not used)'!AJ250, 'NGET TO (Blank - not used)'!AJ250))","v":17.5},{"$f":"IF(UserInterface!$E$69 = 1,CHOOSE(m_identity,'SHE-Transmission PLC'!AK250, SPTL!AK250, 'NGET TO'!AK250),CHOOSE(m_identity,'SHE-Transmission PLC (Blank - )'!AK250, 'SPTL (Blank - not used)'!AK250, 'NGET TO (Blank - not used)'!AK250))","v":17.5},{"$f":"IF(UserInterface!$E$69 = 1,CHOOSE(m_identity,'SHE-Transmission PLC'!AL250, SPTL!AL250, 'NGET TO'!AL250),CHOOSE(m_identity,'SHE-Transmission PLC (Blank - )'!AL250, 'SPTL (Blank - not used)'!AL250, 'NGET TO (Blank - not used)'!AL250))","v":17.5},{"$f":"IF(UserInterface!$E$69 = 1,CHOOSE(m_identity,'SHE-Transmission PLC'!AM250, SPTL!AM250, 'NGET TO'!AM250),CHOOSE(m_identity,'SHE-Transmission PLC (Blank - )'!AM250, 'SPTL (Blank - not used)'!AM250, 'NGET TO (Blank - not used)'!AM250))","v":17.5},{"$f":"IF(UserInterface!$E$69 = 1,CHOOSE(m_identity,'SHE-Transmission PLC'!AN250, SPTL!AN250, 'NGET TO'!AN250),CHOOSE(m_identity,'SHE-Transmission PLC (Blank - )'!AN250, 'SPTL (Blank - not used)'!AN250, 'NGET TO (Blank - not used)'!AN250))","v":17.5},{"$f":"IF(UserInterface!$E$69 = 1,CHOOSE(m_identity,'SHE-Transmission PLC'!AO250, SPTL!AO250, 'NGET TO'!AO250),CHOOSE(m_identity,'SHE-Transmission PLC (Blank - )'!AO250, 'SPTL (Blank - not used)'!AO250, 'NGET TO (Blank - not used)'!AO250))","v":17.5}]
[null,null,null,null,"England-Scotland Interconnector net additions (after disposals)",null,"£m 09/10 prices",null,null,">",null,null,null,null,null,null,null,null,null,null,null,null,null,null,null,{"$f":"IF(UserInterface!$E$69 = 1,CHOOSE(m_identity,'SHE-Transmission PLC'!Z251, SPTL!Z251, 'NGET TO'!Z251),CHOOSE(m_identity,'SHE-Transmission PLC (Blank - )'!Z251, 'SPTL (Blank - not used)'!Z251, 'NGET TO (Blank - not used)'!Z251))","v":105.7331207370006},{"$f":"IF(UserInterface!$E$69 = 1,CHOOSE(m_identity,'SHE-Transmission PLC'!AA251, SPTL!AA251, 'NGET TO'!AA251),CHOOSE(m_identity,'SHE-Transmission PLC (Blank - )'!AA251, 'SPTL (Blank - not used)'!AA251, 'NGET TO (Blank - not used)'!AA251))","v":0},{"$f":"IF(UserInterface!$E$69 = 1,CHOOSE(m_identity,'SHE-Transmission PLC'!AB251, SPTL!AB251, 'NGET TO'!AB251),CHOOSE(m_identity,'SHE-Transmission PLC (Blank - )'!AB251, 'SPTL (Blank - not used)'!AB251, 'NGET TO (Blank - not used)'!AB251))","v":0},{"$f":"IF(UserInterface!$E$69 = 1,CHOOSE(m_identity,'SHE-Transmission PLC'!AC251, SPTL!AC251, 'NGET TO'!AC251),CHOOSE(m_identity,'SHE-Transmission PLC (Blank - )'!AC251, 'SPTL (Blank - not used)'!AC251, 'NGET TO (Blank - not used)'!AC251))","v":0},{"$f":"IF(UserInterface!$E$69 = 1,CHOOSE(m_identity,'SHE-Transmission PLC'!AD251, SPTL!AD251, 'NGET TO'!AD251),CHOOSE(m_identity,'SHE-Transmission PLC (Blank - )'!AD251, 'SPTL (Blank - not used)'!AD251, 'NGET TO (Blank - not used)'!AD251))","v":0},{"$f":"IF(UserInterface!$E$69 = 1,CHOOSE(m_identity,'SHE-Transmission PLC'!AE251, SPTL!AE251, 'NGET TO'!AE251),CHOOSE(m_identity,'SHE-Transmission PLC (Blank - )'!AE251, 'SPTL (Blank - not used)'!AE251, 'NGET TO (Blank - not used)'!AE251))","v":0},{"$f":"IF(UserInterface!$E$69 = 1,CHOOSE(m_identity,'SHE-Transmission PLC'!AF251, SPTL!AF251, 'NGET TO'!AF251),CHOOSE(m_identity,'SHE-Transmission PLC (Blank - )'!AF251, 'SPTL (Blank - not used)'!AF251, 'NGET TO (Blank - not used)'!AF251))","v":0},{"$f":"IF(UserInterface!$E$69 = 1,CHOOSE(m_identity,'SHE-Transmission PLC'!AG251, SPTL!AG251, 'NGET TO'!AG251),CHOOSE(m_identity,'SHE-Transmission PLC (Blank - )'!AG251, 'SPTL (Blank - not used)'!AG251, 'NGET TO (Blank - not used)'!AG251))","v":0}]
[]
[null,null,null,null,"Logged-up items and security costs asset life",null,"years",null,{"$f":"IF(UserInterface!$E$69 = 1,CHOOSE(m_identity,'SHE-Transmission PLC'!I253, SPTL!I253, 'NGET TO'!I253),CHOOSE(m_identity,'SHE-Transmission PLC (Blank - )'!I253, 'SPTL (Blank - not used)'!I253, 'NGET TO (Blank - not used)'!I253))","v":20},">"]
[]
[null,null,null,null,"Logged-up items net additions (after disposals)",null,"£m 09/10 prices",null,null,">",null,null,null,null,null,null,null,null,null,null,null,null,null,null,{"$f":"IF(UserInterface!$E$69 = 1,CHOOSE(m_identity,'SHE-Transmission PLC'!Y255, SPTL!Y255, 'NGET TO'!Y255),CHOOSE(m_identity,'SHE-Transmission PLC (Blank - )'!Y255, 'SPTL (Blank - not used)'!Y255, 'NGET TO (Blank - not used)'!Y255))","v":0},{"$f":"IF(UserInterface!$E$69 = 1,CHOOSE(m_identity,'SHE-Transmission PLC'!Z255, SPTL!Z255, 'NGET TO'!Z255),CHOOSE(m_identity,'SHE-Transmission PLC (Blank - )'!Z255, 'SPTL (Blank - not used)'!Z255, 'NGET TO (Blank - not used)'!Z255))","v":0},{"$f":"IF(UserInterface!$E$69 = 1,CHOOSE(m_identity,'SHE-Transmission PLC'!AA255, SPTL!AA255, 'NGET TO'!AA255),CHOOSE(m_identity,'SHE-Transmission PLC (Blank - )'!AA255, 'SPTL (Blank - not used)'!AA255, 'NGET TO (Blank - not used)'!AA255))","v":0},{"$f":"IF(UserInterface!$E$69 = 1,CHOOSE(m_identity,'SHE-Transmission PLC'!AB255, SPTL!AB255, 'NGET TO'!AB255),CHOOSE(m_identity,'SHE-Transmission PLC (Blank - )'!AB255, 'SPTL (Blank - not used)'!AB255, 'NGET TO (Blank - not used)'!AB255))","v":0.87096256641764169},{"$f":"IF(UserInterface!$E$69 = 1,CHOOSE(m_identity,'SHE-Transmission PLC'!AC255, SPTL!AC255, 'NGET TO'!AC255),CHOOSE(m_identity,'SHE-Transmission PLC (Blank - )'!AC255, 'SPTL (Blank - not used)'!AC255, 'NGET TO (Blank - not used)'!AC255))","v":19.678683479475431},{"$f":"IF(UserInterface!$E$69 = 1,CHOOSE(m_identity,'SHE-Transmission PLC'!AD255, SPTL!AD255, 'NGET TO'!AD255),CHOOSE(m_identity,'SHE-Transmission PLC (Blank - )'!AD255, 'SPTL (Blank - not used)'!AD255, 'NGET TO (Blank - not used)'!AD255))","v":17.951000000000001},{"$f":"IF(UserInterface!$E$69 = 1,CHOOSE(m_identity,'SHE-Transmission PLC'!AE255, SPTL!AE255, 'NGET TO'!AE255),CHOOSE(m_identity,'SHE-Transmission PLC (Blank - )'!AE255, 'SPTL (Blank - not used)'!AE255, 'NGET TO (Blank - not used)'!AE255))","v":0.96129182764837884},{"$f":"IF(UserInterface!$E$69 = 1,CHOOSE(m_identity,'SHE-Transmission PLC'!AF255, SPTL!AF255, 'NGET TO'!AF255),CHOOSE(m_identity,'SHE-Transmission PLC (Blank - )'!AF255, 'SPTL (Blank - not used)'!AF255, 'NGET TO (Blank - not used)'!AF255))","v":29.344751518556222},{"$f":"IF(UserInterface!$E$69 = 1,CHOOSE(m_identity,'SHE-Transmission PLC'!AG255, SPTL!AG255, 'NGET TO'!AG255),CHOOSE(m_identity,'SHE-Transmission PLC (Blank - )'!AG255, 'SPTL (Blank - not used)'!AG255, 'NGET TO (Blank - not used)'!AG255))","v":2.5}]
[]
[null,null,null,null,"Security costs net additions (after disposals)",null,"£m 09/10 prices",null,null,">",null,null,null,null,null,null,null,null,null,null,null,null,null,null,{"$f":"IF(UserInterface!$E$69 = 1,CHOOSE(m_identity,'SHE-Transmission PLC'!Y257, SPTL!Y257, 'NGET TO'!Y257),CHOOSE(m_identity,'SHE-Transmission PLC (Blank - )'!Y257, 'SPTL (Blank - not used)'!Y257, 'NGET TO (Blank - not used)'!Y257))","v":0},{"$f":"IF(UserInterface!$E$69 = 1,CHOOSE(m_identity,'SHE-Transmission PLC'!Z257, SPTL!Z257, 'NGET TO'!Z257),CHOOSE(m_identity,'SHE-Transmission PLC (Blank - )'!Z257, 'SPTL (Blank - not used)'!Z257, 'NGET TO (Blank - not used)'!Z257))","v":0},{"$f":"IF(UserInterface!$E$69 = 1,CHOOSE(m_identity,'SHE-Transmission PLC'!AA257, SPTL!AA257, 'NGET TO'!AA257),CHOOSE(m_identity,'SHE-Transmission PLC (Blank - )'!AA257, 'SPTL (Blank - not used)'!AA257, 'NGET TO (Blank - not used)'!AA257))","v":4.3085115234212479},{"$f":"IF(UserInterface!$E$69 = 1,CHOOSE(m_identity,'SHE-Transmission PLC'!AB257, SPTL!AB257, 'NGET TO'!AB257),CHOOSE(m_identity,'SHE-Transmission PLC (Blank - )'!AB257, 'SPTL (Blank - not used)'!AB257, 'NGET TO (Blank - not used)'!AB257))","v":3.5634988614118481},{"$f":"IF(UserInterface!$E$69 = 1,CHOOSE(m_identity,'SHE-Transmission PLC'!AC257, SPTL!AC257, 'NGET TO'!AC257),CHOOSE(m_identity,'SHE-Transmission PLC (Blank - )'!AC257, 'SPTL (Blank - not used)'!AC257, 'NGET TO (Blank - not used)'!AC257))","v":5.3132144021106509},{"$f":"IF(UserInterface!$E$69 = 1,CHOOSE(m_identity,'SHE-Transmission PLC'!AD257, SPTL!AD257, 'NGET TO'!AD257),CHOOSE(m_identity,'SHE-Transmission PLC (Blank - )'!AD257, 'SPTL (Blank - not used)'!AD257, 'NGET TO (Blank - not used)'!AD257))","v":11.356999999999999},{"$f":"IF(UserInterface!$E$69 = 1,CHOOSE(m_identity,'SHE-Transmission PLC'!AE257, SPTL!AE257, 'NGET TO'!AE257),CHOOSE(m_identity,'SHE-Transmission PLC (Blank - )'!AE257, 'SPTL (Blank - not used)'!AE257, 'NGET TO (Blank - not used)'!AE257))","v":30.172559149280637},{"$f":"IF(UserInterface!$E$69 = 1,CHOOSE(m_identity,'SHE-Transmission PLC'!AF257, SPTL!AF257, 'NGET TO'!AF257),CHOOSE(m_identity,'SHE-Transmission PLC (Blank - )'!AF257, 'SPTL (Blank - not used)'!AF257, 'NGET TO (Blank - not used)'!AF257))","v":31.455675432744627},{"$f":"IF(UserInterface!$E$69 = 1,CHOOSE(m_identity,'SHE-Transmission PLC'!AG257, SPTL!AG257, 'NGET TO'!AG257),CHOOSE(m_identity,'SHE-Transmission PLC (Blank - )'!AG257, 'SPTL (Blank - not used)'!AG257, 'NGET TO (Blank - not used)'!AG257))","v":0}]
[]
[null,null,"TIRG"]
[]
[null,null,null,null,"TIRG asset life before transfer to RAV",null,"years",null,{"$f":"IF(UserInterface!$E$69 = 1,CHOOSE(m_identity,'SHE-Transmission PLC'!I261, SPTL!I261, 'NGET TO'!I261),CHOOSE(m_identity,'SHE-Transmission PLC (Blank - )'!I261, 'SPTL (Blank - not used)'!I261, 'NGET TO (Blank - not used)'!I261))","v":20}]
[null,null,null,null,"Years from TIRG commissioning to RAV transfer",null,"years",null,{"$f":"IF(UserInterface!$E$69 = 1,CHOOSE(m_identity,'SHE-Transmission PLC'!I262, SPTL!I262, 'NGET TO'!I262),CHOOSE(m_identity,'SHE-Transmission PLC (Blank - )'!I262, 'SPTL (Blank - not used)'!I262, 'NGET TO (Blank - not used)'!I262))","v":5}]
[]
[null,null,null,null,"Pre-RIIO TIRG allocation to \"General\" pool",null,"%",null,null,">",null,null,null,null,null,null,null,null,null,null,null,null,null,null,{"$f":"IF(UserInterface!$E$69 = 1,CHOOSE(m_identity,'SHE-Transmission PLC'!Y264, SPTL!Y264, 'NGET TO'!Y264),CHOOSE(m_identity,'SHE-Transmission PLC (Blank - )'!Y264, 'SPTL (Blank - not used)'!Y264, 'NGET TO (Blank - not used)'!Y264))","v":0},{"$f":"IF(UserInterface!$E$69 = 1,CHOOSE(m_identity,'SHE-Transmission PLC'!Z264, SPTL!Z264, 'NGET TO'!Z264),CHOOSE(m_identity,'SHE-Transmission PLC (Blank - )'!Z264, 'SPTL (Blank - not used)'!Z264, 'NGET TO (Blank - not used)'!Z264))","v":0},{"$f":"IF(UserInterface!$E$69 = 1,CHOOSE(m_identity,'SHE-Transmission PLC'!AA264, SPTL!AA264, 'NGET TO'!AA264),CHOOSE(m_identity,'SHE-Transmission PLC (Blank - )'!AA264, 'SPTL (Blank - not used)'!AA264, 'NGET TO (Blank - not used)'!AA264))","v":0},{"$f":"IF(UserInterface!$E$69 = 1,CHOOSE(m_identity,'SHE-Transmission PLC'!AB264, SPTL!AB264, 'NGET TO'!AB264),CHOOSE(m_identity,'SHE-Transmission PLC (Blank - )'!AB264, 'SPTL (Blank - not used)'!AB264, 'NGET TO (Blank - not used)'!AB264))","v":0},{"$f":"IF(UserInterface!$E$69 = 1,CHOOSE(m_identity,'SHE-Transmission PLC'!AC264, SPTL!AC264, 'NGET TO'!AC264),CHOOSE(m_identity,'SHE-Transmission PLC (Blank - )'!AC264, 'SPTL (Blank - not used)'!AC264, 'NGET TO (Blank - not used)'!AC264))","v":0},{"$f":"IF(UserInterface!$E$69 = 1,CHOOSE(m_identity,'SHE-Transmission PLC'!AD264, SPTL!AD264, 'NGET TO'!AD264),CHOOSE(m_identity,'SHE-Transmission PLC (Blank - )'!AD264, 'SPTL (Blank - not used)'!AD264, 'NGET TO (Blank - not used)'!AD264))","v":2.3474178403755867E-2},{"$f":"IF(UserInterface!$E$69 = 1,CHOOSE(m_identity,'SHE-Transmission PLC'!AE264, SPTL!AE264, 'NGET TO'!AE264),CHOOSE(m_identity,'SHE-Transmission PLC (Blank - )'!AE264, 'SPTL (Blank - not used)'!AE264, 'NGET TO (Blank - not used)'!AE264))","v":0.14960575204025078},{"$f":"IF(UserInterface!$E$69 = 1,CHOOSE(m_identity,'SHE-Transmission PLC'!AF264, SPTL!AF264, 'NGET TO'!AF264),CHOOSE(m_identity,'SHE-Transmission PLC (Blank - )'!AF264, 'SPTL (Blank - not used)'!AF264, 'NGET TO (Blank - not used)'!AF264))","v":2.3630029135963296E-2},{"$f":"IF(UserInterface!$E$69 = 1,CHOOSE(m_identity,'SHE-Transmission PLC'!AG264, SPTL!AG264, 'NGET TO'!AG264),CHOOSE(m_identity,'SHE-Transmission PLC (Blank - )'!AG264, 'SPTL (Blank - not used)'!AG264, 'NGET TO (Blank - not used)'!AG264))","v":2.3630029135963296E-2}]
[null,null,null,null,"Pre-RIIO TIRG allocation to \"Special Rate\" pool",null,"%",null,null,">",null,null,null,null,null,null,null,null,null,null,null,null,null,null,{"$f":"IF(UserInterface!$E$69 = 1,CHOOSE(m_identity,'SHE-Transmission PLC'!Y265, SPTL!Y265, 'NGET TO'!Y265),CHOOSE(m_identity,'SHE-Transmission PLC (Blank - )'!Y265, 'SPTL (Blank - not used)'!Y265, 'NGET TO (Blank - not used)'!Y265))","v":0},{"$f":"IF(UserInterface!$E$69 = 1,CHOOSE(m_identity,'SHE-Transmission PLC'!Z265, SPTL!Z265, 'NGET TO'!Z265),CHOOSE(m_identity,'SHE-Transmission PLC (Blank - )'!Z265, 'SPTL (Blank - not used)'!Z265, 'NGET TO (Blank - not used)'!Z265))","v":0},{"$f":"IF(UserInterface!$E$69 = 1,CHOOSE(m_identity,'SHE-Transmission PLC'!AA265, SPTL!AA265, 'NGET TO'!AA265),CHOOSE(m_identity,'SHE-Transmission PLC (Blank - )'!AA265, 'SPTL (Blank - not used)'!AA265, 'NGET TO (Blank - not used)'!AA265))","v":0},{"$f":"IF(UserInterface!$E$69 = 1,CHOOSE(m_identity,'SHE-Transmission PLC'!AB265, SPTL!AB265, 'NGET TO'!AB265),CHOOSE(m_identity,'SHE-Transmission PLC (Blank - )'!AB265, 'SPTL (Blank - not used)'!AB265, 'NGET TO (Blank - not used)'!AB265))","v":0},{"$f":"IF(UserInterface!$E$69 = 1,CHOOSE(m_identity,'SHE-Transmission PLC'!AC265, SPTL!AC265, 'NGET TO'!AC265),CHOOSE(m_identity,'SHE-Transmission PLC (Blank - )'!AC265, 'SPTL (Blank - not used)'!AC265, 'NGET TO (Blank - not used)'!AC265))","v":1},{"$f":"IF(UserInterface!$E$69 = 1,CHOOSE(m_identity,'SHE-Transmission PLC'!AD265, SPTL!AD265, 'NGET TO'!AD265),CHOOSE(m_identity,'SHE-Transmission PLC (Blank - )'!AD265, 'SPTL (Blank - not used)'!AD265, 'NGET TO (Blank - not used)'!AD265))","v":0.97652582159624413},{"$f":"IF(UserInterface!$E$69 = 1,CHOOSE(m_identity,'SHE-Transmission PLC'!AE265, SPTL!AE265, 'NGET TO'!AE265),CHOOSE(m_identity,'SHE-Transmission PLC (Blank - )'!AE265, 'SPTL (Blank - not used)'!AE265, 'NGET TO (Blank - not used)'!AE265))","v":0.85039424795974927},{"$f":"IF(UserInterface!$E$69 = 1,CHOOSE(m_identity,'SHE-Transmission PLC'!AF265, SPTL!AF265, 'NGET TO'!AF265),CHOOSE(m_identity,'SHE-Transmission PLC (Blank - )'!AF265, 'SPTL (Blank - not used)'!AF265, 'NGET TO (Blank - not used)'!AF265))","v":0.97636997086403665},{"$f":"IF(UserInterface!$E$69 = 1,CHOOSE(m_identity,'SHE-Transmission PLC'!AG265, SPTL!AG265, 'NGET TO'!AG265),CHOOSE(m_identity,'SHE-Transmission PLC (Blank - )'!AG265, 'SPTL (Blank - not used)'!AG265, 'NGET TO (Blank - not used)'!AG265))","v":0.97636997086403665}]
[]
[null,null,null,null,"TIRG commissioned in 2010 net additions (after disposals)",null,"£m 09/10 prices",null,null,">",null,null,null,null,null,null,null,null,null,null,null,null,null,null,{"$f":"IF(UserInterface!$E$69 = 1,CHOOSE(m_identity,'SHE-Transmission PLC'!Y267, SPTL!Y267, 'NGET TO'!Y267),CHOOSE(m_identity,'SHE-Transmission PLC (Blank - )'!Y267, 'SPTL (Blank - not used)'!Y267, 'NGET TO (Blank - not used)'!Y267))","v":0},{"$f":"IF(UserInterface!$E$69 = 1,CHOOSE(m_identity,'SHE-Transmission PLC'!Z267, SPTL!Z267, 'NGET TO'!Z267),CHOOSE(m_identity,'SHE-Transmission PLC (Blank - )'!Z267, 'SPTL (Blank - not used)'!Z267, 'NGET TO (Blank - not used)'!Z267))","v":0},{"$f":"IF(UserInterface!$E$69 = 1,CHOOSE(m_identity,'SHE-Transmission PLC'!AA267, SPTL!AA267, 'NGET TO'!AA267),CHOOSE(m_identity,'SHE-Transmission PLC (Blank - )'!AA267, 'SPTL (Blank - not used)'!AA267, 'NGET TO (Blank - not used)'!AA267))","v":0},{"$f":"IF(UserInterface!$E$69 = 1,CHOOSE(m_identity,'SHE-Transmission PLC'!AB267, SPTL!AB267, 'NGET TO'!AB267),CHOOSE(m_identity,'SHE-Transmission PLC (Blank - )'!AB267, 'SPTL (Blank - not used)'!AB267, 'NGET TO (Blank - not used)'!AB267))","v":0},{"$f":"IF(UserInterface!$E$69 = 1,CHOOSE(m_identity,'SHE-Transmission PLC'!AC267, SPTL!AC267, 'NGET TO'!AC267),CHOOSE(m_identity,'SHE-Transmission PLC (Blank - )'!AC267, 'SPTL (Blank - not used)'!AC267, 'NGET TO (Blank - not used)'!AC267))","v":0},{"$f":"IF(UserInterface!$E$69 = 1,CHOOSE(m_identity,'SHE-Transmission PLC'!AD267, SPTL!AD267, 'NGET TO'!AD267),CHOOSE(m_identity,'SHE-Transmission PLC (Blank - )'!AD267, 'SPTL (Blank - not used)'!AD267, 'NGET TO (Blank - not used)'!AD267))","v":0},{"$f":"IF(UserInterface!$E$69 = 1,CHOOSE(m_identity,'SHE-Transmission PLC'!AE267, SPTL!AE267, 'NGET TO'!AE267),CHOOSE(m_identity,'SHE-Transmission PLC (Blank - )'!AE267, 'SPTL (Blank - not used)'!AE267, 'NGET TO (Blank - not used)'!AE267))","v":0},{"$f":"IF(UserInterface!$E$69 = 1,CHOOSE(m_identity,'SHE-Transmission PLC'!AF267, SPTL!AF267, 'NGET TO'!AF267),CHOOSE(m_identity,'SHE-Transmission PLC (Blank - )'!AF267, 'SPTL (Blank - not used)'!AF267, 'NGET TO (Blank - not used)'!AF267))","v":0}]
[null,null,null,null,"TIRG commissioned in 2011 net additions (after disposals)",null,"£m 09/10 prices",null,null,">",null,null,null,null,null,null,null,null,null,null,null,null,null,null,{"$f":"IF(UserInterface!$E$69 = 1,CHOOSE(m_identity,'SHE-Transmission PLC'!Y268, SPTL!Y268, 'NGET TO'!Y268),CHOOSE(m_identity,'SHE-Transmission PLC (Blank - )'!Y268, 'SPTL (Blank - not used)'!Y268, 'NGET TO (Blank - not used)'!Y268))","v":0},{"$f":"IF(UserInterface!$E$69 = 1,CHOOSE(m_identity,'SHE-Transmission PLC'!Z268, SPTL!Z268, 'NGET TO'!Z268),CHOOSE(m_identity,'SHE-Transmission PLC (Blank - )'!Z268, 'SPTL (Blank - not used)'!Z268, 'NGET TO (Blank - not used)'!Z268))","v":0},{"$f":"IF(UserInterface!$E$69 = 1,CHOOSE(m_identity,'SHE-Transmission PLC'!AA268, SPTL!AA268, 'NGET TO'!AA268),CHOOSE(m_identity,'SHE-Transmission PLC (Blank - )'!AA268, 'SPTL (Blank - not used)'!AA268, 'NGET TO (Blank - not used)'!AA268))","v":1.2925534570263746},{"$f":"IF(UserInterface!$E$69 = 1,CHOOSE(m_identity,'SHE-Transmission PLC'!AB268, SPTL!AB268, 'NGET TO'!AB268),CHOOSE(m_identity,'SHE-Transmission PLC (Blank - )'!AB268, 'SPTL (Blank - not used)'!AB268, 'NGET TO (Blank - not used)'!AB268))","v":14.984279972833683},{"$f":"IF(UserInterface!$E$69 = 1,CHOOSE(m_identity,'SHE-Transmission PLC'!AC268, SPTL!AC268, 'NGET TO'!AC268),CHOOSE(m_identity,'SHE-Transmission PLC (Blank - )'!AC268, 'SPTL (Blank - not used)'!AC268, 'NGET TO (Blank - not used)'!AC268))","v":25.276193528361905},{"$f":"IF(UserInterface!$E$69 = 1,CHOOSE(m_identity,'SHE-Transmission PLC'!AD268, SPTL!AD268, 'NGET TO'!AD268),CHOOSE(m_identity,'SHE-Transmission PLC (Blank - )'!AD268, 'SPTL (Blank - not used)'!AD268, 'NGET TO (Blank - not used)'!AD268))","v":42.616},{"$f":"IF(UserInterface!$E$69 = 1,CHOOSE(m_identity,'SHE-Transmission PLC'!AE268, SPTL!AE268, 'NGET TO'!AE268),CHOOSE(m_identity,'SHE-Transmission PLC (Blank - )'!AE268, 'SPTL (Blank - not used)'!AE268, 'NGET TO (Blank - not used)'!AE268))","v":29.784803179158846},{"$f":"IF(UserInterface!$E$69 = 1,CHOOSE(m_identity,'SHE-Transmission PLC'!AF268, SPTL!AF268, 'NGET TO'!AF268),CHOOSE(m_identity,'SHE-Transmission PLC (Blank - )'!AF268, 'SPTL (Blank - not used)'!AF268, 'NGET TO (Blank - not used)'!AF268))","v":8.2064212632983367}]
[null,null,null,null,"TIRG commissioned in 2012 net additions (after disposals)",null,"£m 09/10 prices",null,null,">",null,null,null,null,null,null,null,null,null,null,null,null,null,null,{"$f":"IF(UserInterface!$E$69 = 1,CHOOSE(m_identity,'SHE-Transmission PLC'!Y269, SPTL!Y269, 'NGET TO'!Y269),CHOOSE(m_identity,'SHE-Transmission PLC (Blank - )'!Y269, 'SPTL (Blank - not used)'!Y269, 'NGET TO (Blank - not used)'!Y269))","v":0},{"$f":"IF(UserInterface!$E$69 = 1,CHOOSE(m_identity,'SHE-Transmission PLC'!Z269, SPTL!Z269, 'NGET TO'!Z269),CHOOSE(m_identity,'SHE-Transmission PLC (Blank - )'!Z269, 'SPTL (Blank - not used)'!Z269, 'NGET TO (Blank - not used)'!Z269))","v":0},{"$f":"IF(UserInterface!$E$69 = 1,CHOOSE(m_identity,'SHE-Transmission PLC'!AA269, SPTL!AA269, 'NGET TO'!AA269),CHOOSE(m_identity,'SHE-Transmission PLC (Blank - )'!AA269, 'SPTL (Blank - not used)'!AA269, 'NGET TO (Blank - not used)'!AA269))","v":0},{"$f":"IF(UserInterface!$E$69 = 1,CHOOSE(m_identity,'SHE-Transmission PLC'!AB269, SPTL!AB269, 'NGET TO'!AB269),CHOOSE(m_identity,'SHE-Transmission PLC (Blank - )'!AB269, 'SPTL (Blank - not used)'!AB269, 'NGET TO (Blank - not used)'!AB269))","v":0},{"$f":"IF(UserInterface!$E$69 = 1,CHOOSE(m_identity,'SHE-Transmission PLC'!AC269, SPTL!AC269, 'NGET TO'!AC269),CHOOSE(m_identity,'SHE-Transmission PLC (Blank - )'!AC269, 'SPTL (Blank - not used)'!AC269, 'NGET TO (Blank - not used)'!AC269))","v":0},{"$f":"IF(UserInterface!$E$69 = 1,CHOOSE(m_identity,'SHE-Transmission PLC'!AD269, SPTL!AD269, 'NGET TO'!AD269),CHOOSE(m_identity,'SHE-Transmission PLC (Blank - )'!AD269, 'SPTL (Blank - not used)'!AD269, 'NGET TO (Blank - not used)'!AD269))","v":0},{"$f":"IF(UserInterface!$E$69 = 1,CHOOSE(m_identity,'SHE-Transmission PLC'!AE269, SPTL!AE269, 'NGET TO'!AE269),CHOOSE(m_identity,'SHE-Transmission PLC (Blank - )'!AE269, 'SPTL (Blank - not used)'!AE269, 'NGET TO (Blank - not used)'!AE269))","v":0},{"$f":"IF(UserInterface!$E$69 = 1,CHOOSE(m_identity,'SHE-Transmission PLC'!AF269, SPTL!AF269, 'NGET TO'!AF269),CHOOSE(m_identity,'SHE-Transmission PLC (Blank - )'!AF269, 'SPTL (Blank - not used)'!AF269, 'NGET TO (Blank - not used)'!AF269))","v":0},{"$f":"IF(UserInterface!$E$69 = 1,CHOOSE(m_identity,'SHE-Transmission PLC'!AG269, SPTL!AG269, 'NGET TO'!AG269),CHOOSE(m_identity,'SHE-Transmission PLC (Blank - )'!AG269, 'SPTL (Blank - not used)'!AG269, 'NGET TO (Blank - not used)'!AG269))","v":0}]
[null,null,null,null,"TIRG commissioned in 2013 net additions (after disposals)",null,"£m 09/10 prices",null,null,">",null,null,null,null,null,null,null,null,null,null,null,null,null,null,{"$f":"IF(UserInterface!$E$69 = 1,CHOOSE(m_identity,'SHE-Transmission PLC'!Y270, SPTL!Y270, 'NGET TO'!Y270),CHOOSE(m_identity,'SHE-Transmission PLC (Blank - )'!Y270, 'SPTL (Blank - not used)'!Y270, 'NGET TO (Blank - not used)'!Y270))","v":0},{"$f":"IF(UserInterface!$E$69 = 1,CHOOSE(m_identity,'SHE-Transmission PLC'!Z270, SPTL!Z270, 'NGET TO'!Z270),CHOOSE(m_identity,'SHE-Transmission PLC (Blank - )'!Z270, 'SPTL (Blank - not used)'!Z270, 'NGET TO (Blank - not used)'!Z270))","v":0},{"$f":"IF(UserInterface!$E$69 = 1,CHOOSE(m_identity,'SHE-Transmission PLC'!AA270, SPTL!AA270, 'NGET TO'!AA270),CHOOSE(m_identity,'SHE-Transmission PLC (Blank - )'!AA270, 'SPTL (Blank - not used)'!AA270, 'NGET TO (Blank - not used)'!AA270))","v":0},{"$f":"IF(UserInterface!$E$69 = 1,CHOOSE(m_identity,'SHE-Transmission PLC'!AB270, SPTL!AB270, 'NGET TO'!AB270),CHOOSE(m_identity,'SHE-Transmission PLC (Blank - )'!AB270, 'SPTL (Blank - not used)'!AB270, 'NGET TO (Blank - not used)'!AB270))","v":0},{"$f":"IF(UserInterface!$E$69 = 1,CHOOSE(m_identity,'SHE-Transmission PLC'!AC270, SPTL!AC270, 'NGET TO'!AC270),CHOOSE(m_identity,'SHE-Transmission PLC (Blank - )'!AC270, 'SPTL (Blank - not used)'!AC270, 'NGET TO (Blank - not used)'!AC270))","v":0},{"$f":"IF(UserInterface!$E$69 = 1,CHOOSE(m_identity,'SHE-Transmission PLC'!AD270, SPTL!AD270, 'NGET TO'!AD270),CHOOSE(m_identity,'SHE-Transmission PLC (Blank - )'!AD270, 'SPTL (Blank - not used)'!AD270, 'NGET TO (Blank - not used)'!AD270))","v":0},{"$f":"IF(UserInterface!$E$69 = 1,CHOOSE(m_identity,'SHE-Transmission PLC'!AE270, SPTL!AE270, 'NGET TO'!AE270),CHOOSE(m_identity,'SHE-Transmission PLC (Blank - )'!AE270, 'SPTL (Blank - not used)'!AE270, 'NGET TO (Blank - not used)'!AE270))","v":0},{"$f":"IF(UserInterface!$E$69 = 1,CHOOSE(m_identity,'SHE-Transmission PLC'!AF270, SPTL!AF270, 'NGET TO'!AF270),CHOOSE(m_identity,'SHE-Transmission PLC (Blank - )'!AF270, 'SPTL (Blank - not used)'!AF270, 'NGET TO (Blank - not used)'!AF270))","v":0},{"$f":"IF(UserInterface!$E$69 = 1,CHOOSE(m_identity,'SHE-Transmission PLC'!AG270, SPTL!AG270, 'NGET TO'!AG270),CHOOSE(m_identity,'SHE-Transmission PLC (Blank - )'!AG270, 'SPTL (Blank - not used)'!AG270, 'NGET TO (Blank - not used)'!AG270))","v":0},{"$f":"IF(UserInterface!$E$69 = 1,CHOOSE(m_identity,'SHE-Transmission PLC'!AH270, SPTL!AH270, 'NGET TO'!AH270),CHOOSE(m_identity,'SHE-Transmission PLC (Blank - )'!AH270, 'SPTL (Blank - not used)'!AH270, 'NGET TO (Blank - not used)'!AH270))","v":0}]
[null,null,null,null,"TIRG commissioned in 2014 net additions (after disposals)",null,"£m 09/10 prices",null,null,">",null,null,null,null,null,null,null,null,null,null,null,null,null,null,{"$f":"IF(UserInterface!$E$69 = 1,CHOOSE(m_identity,'SHE-Transmission PLC'!Y271, SPTL!Y271, 'NGET TO'!Y271),CHOOSE(m_identity,'SHE-Transmission PLC (Blank - )'!Y271, 'SPTL (Blank - not used)'!Y271, 'NGET TO (Blank - not used)'!Y271))","v":0},{"$f":"IF(UserInterface!$E$69 = 1,CHOOSE(m_identity,'SHE-Transmission PLC'!Z271, SPTL!Z271, 'NGET TO'!Z271),CHOOSE(m_identity,'SHE-Transmission PLC (Blank - )'!Z271, 'SPTL (Blank - not used)'!Z271, 'NGET TO (Blank - not used)'!Z271))","v":0},{"$f":"IF(UserInterface!$E$69 = 1,CHOOSE(m_identity,'SHE-Transmission PLC'!AA271, SPTL!AA271, 'NGET TO'!AA271),CHOOSE(m_identity,'SHE-Transmission PLC (Blank - )'!AA271, 'SPTL (Blank - not used)'!AA271, 'NGET TO (Blank - not used)'!AA271))","v":0},{"$f":"IF(UserInterface!$E$69 = 1,CHOOSE(m_identity,'SHE-Transmission PLC'!AB271, SPTL!AB271, 'NGET TO'!AB271),CHOOSE(m_identity,'SHE-Transmission PLC (Blank - )'!AB271, 'SPTL (Blank - not used)'!AB271, 'NGET TO (Blank - not used)'!AB271))","v":0},{"$f":"IF(UserInterface!$E$69 = 1,CHOOSE(m_identity,'SHE-Transmission PLC'!AC271, SPTL!AC271, 'NGET TO'!AC271),CHOOSE(m_identity,'SHE-Transmission PLC (Blank - )'!AC271, 'SPTL (Blank - not used)'!AC271, 'NGET TO (Blank - not used)'!AC271))","v":0},{"$f":"IF(UserInterface!$E$69 = 1,CHOOSE(m_identity,'SHE-Transmission PLC'!AD271, SPTL!AD271, 'NGET TO'!AD271),CHOOSE(m_identity,'SHE-Transmission PLC (Blank - )'!AD271, 'SPTL (Blank - not used)'!AD271, 'NGET TO (Blank - not used)'!AD271))","v":0},{"$f":"IF(UserInterface!$E$69 = 1,CHOOSE(m_identity,'SHE-Transmission PLC'!AE271, SPTL!AE271, 'NGET TO'!AE271),CHOOSE(m_identity,'SHE-Transmission PLC (Blank - )'!AE271, 'SPTL (Blank - not used)'!AE271, 'NGET TO (Blank - not used)'!AE271))","v":0},{"$f":"IF(UserInterface!$E$69 = 1,CHOOSE(m_identity,'SHE-Transmission PLC'!AF271, SPTL!AF271, 'NGET TO'!AF271),CHOOSE(m_identity,'SHE-Transmission PLC (Blank - )'!AF271, 'SPTL (Blank - not used)'!AF271, 'NGET TO (Blank - not used)'!AF271))","v":0},{"$f":"IF(UserInterface!$E$69 = 1,CHOOSE(m_identity,'SHE-Transmission PLC'!AG271, SPTL!AG271, 'NGET TO'!AG271),CHOOSE(m_identity,'SHE-Transmission PLC (Blank - )'!AG271, 'SPTL (Blank - not used)'!AG271, 'NGET TO (Blank - not used)'!AG271))","v":0},{"$f":"IF(UserInterface!$E$69 = 1,CHOOSE(m_identity,'SHE-Transmission PLC'!AH271, SPTL!AH271, 'NGET TO'!AH271),CHOOSE(m_identity,'SHE-Transmission PLC (Blank - )'!AH271, 'SPTL (Blank - not used)'!AH271, 'NGET TO (Blank - not used)'!AH271))","v":0},{"$f":"IF(UserInterface!$E$69 = 1,CHOOSE(m_identity,'SHE-Transmission PLC'!AI271, SPTL!AI271, 'NGET TO'!AI271),CHOOSE(m_identity,'SHE-Transmission PLC (Blank - )'!AI271, 'SPTL (Blank - not used)'!AI271, 'NGET TO (Blank - not used)'!AI271))","v":0}]
[null,null,null,null,"TIRG commissioned in 2015 net additions (after disposals)",null,"£m 09/10 prices",null,null,">",null,null,null,null,null,null,null,null,null,null,null,null,null,null,{"$f":"IF(UserInterface!$E$69 = 1,CHOOSE(m_identity,'SHE-Transmission PLC'!Y272, SPTL!Y272, 'NGET TO'!Y272),CHOOSE(m_identity,'SHE-Transmission PLC (Blank - )'!Y272, 'SPTL (Blank - not used)'!Y272, 'NGET TO (Blank - not used)'!Y272))","v":0},{"$f":"IF(UserInterface!$E$69 = 1,CHOOSE(m_identity,'SHE-Transmission PLC'!Z272, SPTL!Z272, 'NGET TO'!Z272),CHOOSE(m_identity,'SHE-Transmission PLC (Blank - )'!Z272, 'SPTL (Blank - not used)'!Z272, 'NGET TO (Blank - not used)'!Z272))","v":0},{"$f":"IF(UserInterface!$E$69 = 1,CHOOSE(m_identity,'SHE-Transmission PLC'!AA272, SPTL!AA272, 'NGET TO'!AA272),CHOOSE(m_identity,'SHE-Transmission PLC (Blank - )'!AA272, 'SPTL (Blank - not used)'!AA272, 'NGET TO (Blank - not used)'!AA272))","v":0},{"$f":"IF(UserInterface!$E$69 = 1,CHOOSE(m_identity,'SHE-Transmission PLC'!AB272, SPTL!AB272, 'NGET TO'!AB272),CHOOSE(m_identity,'SHE-Transmission PLC (Blank - )'!AB272, 'SPTL (Blank - not used)'!AB272, 'NGET TO (Blank - not used)'!AB272))","v":0},{"$f":"IF(UserInterface!$E$69 = 1,CHOOSE(m_identity,'SHE-Transmission PLC'!AC272, SPTL!AC272, 'NGET TO'!AC272),CHOOSE(m_identity,'SHE-Transmission PLC (Blank - )'!AC272, 'SPTL (Blank - not used)'!AC272, 'NGET TO (Blank - not used)'!AC272))","v":0},{"$f":"IF(UserInterface!$E$69 = 1,CHOOSE(m_identity,'SHE-Transmission PLC'!AD272, SPTL!AD272, 'NGET TO'!AD272),CHOOSE(m_identity,'SHE-Transmission PLC (Blank - )'!AD272, 'SPTL (Blank - not used)'!AD272, 'NGET TO (Blank - not used)'!AD272))","v":0},{"$f":"IF(UserInterface!$E$69 = 1,CHOOSE(m_identity,'SHE-Transmission PLC'!AE272, SPTL!AE272, 'NGET TO'!AE272),CHOOSE(m_identity,'SHE-Transmission PLC (Blank - )'!AE272, 'SPTL (Blank - not used)'!AE272, 'NGET TO (Blank - not used)'!AE272))","v":0},{"$f":"IF(UserInterface!$E$69 = 1,CHOOSE(m_identity,'SHE-Transmission PLC'!AF272, SPTL!AF272, 'NGET TO'!AF272),CHOOSE(m_identity,'SHE-Transmission PLC (Blank - )'!AF272, 'SPTL (Blank - not used)'!AF272, 'NGET TO (Blank - not used)'!AF272))","v":0},{"$f":"IF(UserInterface!$E$69 = 1,CHOOSE(m_identity,'SHE-Transmission PLC'!AG272, SPTL!AG272, 'NGET TO'!AG272),CHOOSE(m_identity,'SHE-Transmission PLC (Blank - )'!AG272, 'SPTL (Blank - not used)'!AG272, 'NGET TO (Blank - not used)'!AG272))","v":0},{"$f":"IF(UserInterface!$E$69 = 1,CHOOSE(m_identity,'SHE-Transmission PLC'!AH272, SPTL!AH272, 'NGET TO'!AH272),CHOOSE(m_identity,'SHE-Transmission PLC (Blank - )'!AH272, 'SPTL (Blank - not used)'!AH272, 'NGET TO (Blank - not used)'!AH272))","v":0},{"$f":"IF(UserInterface!$E$69 = 1,CHOOSE(m_identity,'SHE-Transmission PLC'!AI272, SPTL!AI272, 'NGET TO'!AI272),CHOOSE(m_identity,'SHE-Transmission PLC (Blank - )'!AI272, 'SPTL (Blank - not used)'!AI272, 'NGET TO (Blank - not used)'!AI272))","v":0},{"$f":"IF(UserInterface!$E$69 = 1,CHOOSE(m_identity,'SHE-Transmission PLC'!AJ272, SPTL!AJ272, 'NGET TO'!AJ272),CHOOSE(m_identity,'SHE-Transmission PLC (Blank - )'!AJ272, 'SPTL (Blank - not used)'!AJ272, 'NGET TO (Blank - not used)'!AJ272))","v":0}]
[null,null,null,null,"TIRG commissioned in 2016 net additions (after disposals)",null,"£m 09/10 prices",null,null,">",null,null,null,null,null,null,null,null,null,null,null,null,null,null,{"$f":"IF(UserInterface!$E$69 = 1,CHOOSE(m_identity,'SHE-Transmission PLC'!Y273, SPTL!Y273, 'NGET TO'!Y273),CHOOSE(m_identity,'SHE-Transmission PLC (Blank - )'!Y273, 'SPTL (Blank - not used)'!Y273, 'NGET TO (Blank - not used)'!Y273))","v":0},{"$f":"IF(UserInterface!$E$69 = 1,CHOOSE(m_identity,'SHE-Transmission PLC'!Z273, SPTL!Z273, 'NGET TO'!Z273),CHOOSE(m_identity,'SHE-Transmission PLC (Blank - )'!Z273, 'SPTL (Blank - not used)'!Z273, 'NGET TO (Blank - not used)'!Z273))","v":0},{"$f":"IF(UserInterface!$E$69 = 1,CHOOSE(m_identity,'SHE-Transmission PLC'!AA273, SPTL!AA273, 'NGET TO'!AA273),CHOOSE(m_identity,'SHE-Transmission PLC (Blank - )'!AA273, 'SPTL (Blank - not used)'!AA273, 'NGET TO (Blank - not used)'!AA273))","v":0},{"$f":"IF(UserInterface!$E$69 = 1,CHOOSE(m_identity,'SHE-Transmission PLC'!AB273, SPTL!AB273, 'NGET TO'!AB273),CHOOSE(m_identity,'SHE-Transmission PLC (Blank - )'!AB273, 'SPTL (Blank - not used)'!AB273, 'NGET TO (Blank - not used)'!AB273))","v":0},{"$f":"IF(UserInterface!$E$69 = 1,CHOOSE(m_identity,'SHE-Transmission PLC'!AC273, SPTL!AC273, 'NGET TO'!AC273),CHOOSE(m_identity,'SHE-Transmission PLC (Blank - )'!AC273, 'SPTL (Blank - not used)'!AC273, 'NGET TO (Blank - not used)'!AC273))","v":0},{"$f":"IF(UserInterface!$E$69 = 1,CHOOSE(m_identity,'SHE-Transmission PLC'!AD273, SPTL!AD273, 'NGET TO'!AD273),CHOOSE(m_identity,'SHE-Transmission PLC (Blank - )'!AD273, 'SPTL (Blank - not used)'!AD273, 'NGET TO (Blank - not used)'!AD273))","v":0},{"$f":"IF(UserInterface!$E$69 = 1,CHOOSE(m_identity,'SHE-Transmission PLC'!AE273, SPTL!AE273, 'NGET TO'!AE273),CHOOSE(m_identity,'SHE-Transmission PLC (Blank - )'!AE273, 'SPTL (Blank - not used)'!AE273, 'NGET TO (Blank - not used)'!AE273))","v":0},{"$f":"IF(UserInterface!$E$69 = 1,CHOOSE(m_identity,'SHE-Transmission PLC'!AF273, SPTL!AF273, 'NGET TO'!AF273),CHOOSE(m_identity,'SHE-Transmission PLC (Blank - )'!AF273, 'SPTL (Blank - not used)'!AF273, 'NGET TO (Blank - not used)'!AF273))","v":0},{"$f":"IF(UserInterface!$E$69 = 1,CHOOSE(m_identity,'SHE-Transmission PLC'!AG273, SPTL!AG273, 'NGET TO'!AG273),CHOOSE(m_identity,'SHE-Transmission PLC (Blank - )'!AG273, 'SPTL (Blank - not used)'!AG273, 'NGET TO (Blank - not used)'!AG273))","v":0},{"$f":"IF(UserInterface!$E$69 = 1,CHOOSE(m_identity,'SHE-Transmission PLC'!AH273, SPTL!AH273, 'NGET TO'!AH273),CHOOSE(m_identity,'SHE-Transmission PLC (Blank - )'!AH273, 'SPTL (Blank - not used)'!AH273, 'NGET TO (Blank - not used)'!AH273))","v":0},{"$f":"IF(UserInterface!$E$69 = 1,CHOOSE(m_identity,'SHE-Transmission PLC'!AI273, SPTL!AI273, 'NGET TO'!AI273),CHOOSE(m_identity,'SHE-Transmission PLC (Blank - )'!AI273, 'SPTL (Blank - not used)'!AI273, 'NGET TO (Blank - not used)'!AI273))","v":0},{"$f":"IF(UserInterface!$E$69 = 1,CHOOSE(m_identity,'SHE-Transmission PLC'!AJ273, SPTL!AJ273, 'NGET TO'!AJ273),CHOOSE(m_identity,'SHE-Transmission PLC (Blank - )'!AJ273, 'SPTL (Blank - not used)'!AJ273, 'NGET TO (Blank - not used)'!AJ273))","v":0},{"$f":"IF(UserInterface!$E$69 = 1,CHOOSE(m_identity,'SHE-Transmission PLC'!AK273, SPTL!AK273, 'NGET TO'!AK273),CHOOSE(m_identity,'SHE-Transmission PLC (Blank - )'!AK273, 'SPTL (Blank - not used)'!AK273, 'NGET TO (Blank - not used)'!AK273))","v":0}]
[null,null,null,null,"TIRG commissioned in 2017 net additions (after disposals)",null,"£m 09/10 prices",null,null,">",null,null,null,null,null,null,null,null,null,null,null,null,null,null,{"$f":"IF(UserInterface!$E$69 = 1,CHOOSE(m_identity,'SHE-Transmission PLC'!Y274, SPTL!Y274, 'NGET TO'!Y274),CHOOSE(m_identity,'SHE-Transmission PLC (Blank - )'!Y274, 'SPTL (Blank - not used)'!Y274, 'NGET TO (Blank - not used)'!Y274))","v":0},{"$f":"IF(UserInterface!$E$69 = 1,CHOOSE(m_identity,'SHE-Transmission PLC'!Z274, SPTL!Z274, 'NGET TO'!Z274),CHOOSE(m_identity,'SHE-Transmission PLC (Blank - )'!Z274, 'SPTL (Blank - not used)'!Z274, 'NGET TO (Blank - not used)'!Z274))","v":0},{"$f":"IF(UserInterface!$E$69 = 1,CHOOSE(m_identity,'SHE-Transmission PLC'!AA274, SPTL!AA274, 'NGET TO'!AA274),CHOOSE(m_identity,'SHE-Transmission PLC (Blank - )'!AA274, 'SPTL (Blank - not used)'!AA274, 'NGET TO (Blank - not used)'!AA274))","v":0},{"$f":"IF(UserInterface!$E$69 = 1,CHOOSE(m_identity,'SHE-Transmission PLC'!AB274, SPTL!AB274, 'NGET TO'!AB274),CHOOSE(m_identity,'SHE-Transmission PLC (Blank - )'!AB274, 'SPTL (Blank - not used)'!AB274, 'NGET TO (Blank - not used)'!AB274))","v":0},{"$f":"IF(UserInterface!$E$69 = 1,CHOOSE(m_identity,'SHE-Transmission PLC'!AC274, SPTL!AC274, 'NGET TO'!AC274),CHOOSE(m_identity,'SHE-Transmission PLC (Blank - )'!AC274, 'SPTL (Blank - not used)'!AC274, 'NGET TO (Blank - not used)'!AC274))","v":0},{"$f":"IF(UserInterface!$E$69 = 1,CHOOSE(m_identity,'SHE-Transmission PLC'!AD274, SPTL!AD274, 'NGET TO'!AD274),CHOOSE(m_identity,'SHE-Transmission PLC (Blank - )'!AD274, 'SPTL (Blank - not used)'!AD274, 'NGET TO (Blank - not used)'!AD274))","v":0},{"$f":"IF(UserInterface!$E$69 = 1,CHOOSE(m_identity,'SHE-Transmission PLC'!AE274, SPTL!AE274, 'NGET TO'!AE274),CHOOSE(m_identity,'SHE-Transmission PLC (Blank - )'!AE274, 'SPTL (Blank - not used)'!AE274, 'NGET TO (Blank - not used)'!AE274))","v":0},{"$f":"IF(UserInterface!$E$69 = 1,CHOOSE(m_identity,'SHE-Transmission PLC'!AF274, SPTL!AF274, 'NGET TO'!AF274),CHOOSE(m_identity,'SHE-Transmission PLC (Blank - )'!AF274, 'SPTL (Blank - not used)'!AF274, 'NGET TO (Blank - not used)'!AF274))","v":0},{"$f":"IF(UserInterface!$E$69 = 1,CHOOSE(m_identity,'SHE-Transmission PLC'!AG274, SPTL!AG274, 'NGET TO'!AG274),CHOOSE(m_identity,'SHE-Transmission PLC (Blank - )'!AG274, 'SPTL (Blank - not used)'!AG274, 'NGET TO (Blank - not used)'!AG274))","v":0},{"$f":"IF(UserInterface!$E$69 = 1,CHOOSE(m_identity,'SHE-Transmission PLC'!AH274, SPTL!AH274, 'NGET TO'!AH274),CHOOSE(m_identity,'SHE-Transmission PLC (Blank - )'!AH274, 'SPTL (Blank - not used)'!AH274, 'NGET TO (Blank - not used)'!AH274))","v":0},{"$f":"IF(UserInterface!$E$69 = 1,CHOOSE(m_identity,'SHE-Transmission PLC'!AI274, SPTL!AI274, 'NGET TO'!AI274),CHOOSE(m_identity,'SHE-Transmission PLC (Blank - )'!AI274, 'SPTL (Blank - not used)'!AI274, 'NGET TO (Blank - not used)'!AI274))","v":0},{"$f":"IF(UserInterface!$E$69 = 1,CHOOSE(m_identity,'SHE-Transmission PLC'!AJ274, SPTL!AJ274, 'NGET TO'!AJ274),CHOOSE(m_identity,'SHE-Transmission PLC (Blank - )'!AJ274, 'SPTL (Blank - not used)'!AJ274, 'NGET TO (Blank - not used)'!AJ274))","v":0},{"$f":"IF(UserInterface!$E$69 = 1,CHOOSE(m_identity,'SHE-Transmission PLC'!AK274, SPTL!AK274, 'NGET TO'!AK274),CHOOSE(m_identity,'SHE-Transmission PLC (Blank - )'!AK274, 'SPTL (Blank - not used)'!AK274, 'NGET TO (Blank - not used)'!AK274))","v":0},{"$f":"IF(UserInterface!$E$69 = 1,CHOOSE(m_identity,'SHE-Transmission PLC'!AL274, SPTL!AL274, 'NGET TO'!AL274),CHOOSE(m_identity,'SHE-Transmission PLC (Blank - )'!AL274, 'SPTL (Blank - not used)'!AL274, 'NGET TO (Blank - not used)'!AL274))","v":0}]
[]
[null,null,null,null,"TIRG commissioned in 2010 deemed depreciation",null,"£m 09/10 prices",null,null,">",null,null,null,null,null,null,null,null,null,null,null,null,null,null,{"$f":"IF(UserInterface!$E$69 = 1,CHOOSE(m_identity,'SHE-Transmission PLC'!Y276, SPTL!Y276, 'NGET TO'!Y276),CHOOSE(m_identity,'SHE-Transmission PLC (Blank - )'!Y276, 'SPTL (Blank - not used)'!Y276, 'NGET TO (Blank - not used)'!Y276))","v":0},{"$f":"IF(UserInterface!$E$69 = 1,CHOOSE(m_identity,'SHE-Transmission PLC'!Z276, SPTL!Z276, 'NGET TO'!Z276),CHOOSE(m_identity,'SHE-Transmission PLC (Blank - )'!Z276, 'SPTL (Blank - not used)'!Z276, 'NGET TO (Blank - not used)'!Z276))","v":0},{"$f":"IF(UserInterface!$E$69 = 1,CHOOSE(m_identity,'SHE-Transmission PLC'!AA276, SPTL!AA276, 'NGET TO'!AA276),CHOOSE(m_identity,'SHE-Transmission PLC (Blank - )'!AA276, 'SPTL (Blank - not used)'!AA276, 'NGET TO (Blank - not used)'!AA276))","v":0},{"$f":"IF(UserInterface!$E$69 = 1,CHOOSE(m_identity,'SHE-Transmission PLC'!AB276, SPTL!AB276, 'NGET TO'!AB276),CHOOSE(m_identity,'SHE-Transmission PLC (Blank - )'!AB276, 'SPTL (Blank - not used)'!AB276, 'NGET TO (Blank - not used)'!AB276))","v":0},{"$f":"IF(UserInterface!$E$69 = 1,CHOOSE(m_identity,'SHE-Transmission PLC'!AC276, SPTL!AC276, 'NGET TO'!AC276),CHOOSE(m_identity,'SHE-Transmission PLC (Blank - )'!AC276, 'SPTL (Blank - not used)'!AC276, 'NGET TO (Blank - not used)'!AC276))","v":0},{"$f":"IF(UserInterface!$E$69 = 1,CHOOSE(m_identity,'SHE-Transmission PLC'!AD276, SPTL!AD276, 'NGET TO'!AD276),CHOOSE(m_identity,'SHE-Transmission PLC (Blank - )'!AD276, 'SPTL (Blank - not used)'!AD276, 'NGET TO (Blank - not used)'!AD276))","v":0},{"$f":"IF(UserInterface!$E$69 = 1,CHOOSE(m_identity,'SHE-Transmission PLC'!AE276, SPTL!AE276, 'NGET TO'!AE276),CHOOSE(m_identity,'SHE-Transmission PLC (Blank - )'!AE276, 'SPTL (Blank - not used)'!AE276, 'NGET TO (Blank - not used)'!AE276))","v":0},{"$f":"IF(UserInterface!$E$69 = 1,CHOOSE(m_identity,'SHE-Transmission PLC'!AF276, SPTL!AF276, 'NGET TO'!AF276),CHOOSE(m_identity,'SHE-Transmission PLC (Blank - )'!AF276, 'SPTL (Blank - not used)'!AF276, 'NGET TO (Blank - not used)'!AF276))","v":0},{"$f":"IF(UserInterface!$E$69 = 1,CHOOSE(m_identity,'SHE-Transmission PLC'!AG276, SPTL!AG276, 'NGET TO'!AG276),CHOOSE(m_identity,'SHE-Transmission PLC (Blank - )'!AG276, 'SPTL (Blank - not used)'!AG276, 'NGET TO (Blank - not used)'!AG276))","v":0},{"$f":"IF(UserInterface!$E$69 = 1,CHOOSE(m_identity,'SHE-Transmission PLC'!AH276, SPTL!AH276, 'NGET TO'!AH276),CHOOSE(m_identity,'SHE-Transmission PLC (Blank - )'!AH276, 'SPTL (Blank - not used)'!AH276, 'NGET TO (Blank - not used)'!AH276))","v":0},{"$f":"IF(UserInterface!$E$69 = 1,CHOOSE(m_identity,'SHE-Transmission PLC'!AI276, SPTL!AI276, 'NGET TO'!AI276),CHOOSE(m_identity,'SHE-Transmission PLC (Blank - )'!AI276, 'SPTL (Blank - not used)'!AI276, 'NGET TO (Blank - not used)'!AI276))","v":0}]
[null,null,null,null,"TIRG commissioned in 2011 deemed depreciation",null,"£m 09/10 prices",null,null,">",null,null,null,null,null,null,null,null,null,null,null,null,null,null,{"$f":"IF(UserInterface!$E$69 = 1,CHOOSE(m_identity,'SHE-Transmission PLC'!Y277, SPTL!Y277, 'NGET TO'!Y277),CHOOSE(m_identity,'SHE-Transmission PLC (Blank - )'!Y277, 'SPTL (Blank - not used)'!Y277, 'NGET TO (Blank - not used)'!Y277))","v":2.2935601027548939E-2},{"$f":"IF(UserInterface!$E$69 = 1,CHOOSE(m_identity,'SHE-Transmission PLC'!Z277, SPTL!Z277, 'NGET TO'!Z277),CHOOSE(m_identity,'SHE-Transmission PLC (Blank - )'!Z277, 'SPTL (Blank - not used)'!Z277, 'NGET TO (Blank - not used)'!Z277))","v":0},{"$f":"IF(UserInterface!$E$69 = 1,CHOOSE(m_identity,'SHE-Transmission PLC'!AA277, SPTL!AA277, 'NGET TO'!AA277),CHOOSE(m_identity,'SHE-Transmission PLC (Blank - )'!AA277, 'SPTL (Blank - not used)'!AA277, 'NGET TO (Blank - not used)'!AA277))","v":0},{"$f":"IF(UserInterface!$E$69 = 1,CHOOSE(m_identity,'SHE-Transmission PLC'!AB277, SPTL!AB277, 'NGET TO'!AB277),CHOOSE(m_identity,'SHE-Transmission PLC (Blank - )'!AB277, 'SPTL (Blank - not used)'!AB277, 'NGET TO (Blank - not used)'!AB277))","v":0.69299999999999995},{"$f":"IF(UserInterface!$E$69 = 1,CHOOSE(m_identity,'SHE-Transmission PLC'!AC277, SPTL!AC277, 'NGET TO'!AC277),CHOOSE(m_identity,'SHE-Transmission PLC (Blank - )'!AC277, 'SPTL (Blank - not used)'!AC277, 'NGET TO (Blank - not used)'!AC277))","v":2.1800000000000002},{"$f":"IF(UserInterface!$E$69 = 1,CHOOSE(m_identity,'SHE-Transmission PLC'!AD277, SPTL!AD277, 'NGET TO'!AD277),CHOOSE(m_identity,'SHE-Transmission PLC (Blank - )'!AD277, 'SPTL (Blank - not used)'!AD277, 'NGET TO (Blank - not used)'!AD277))","v":4.0739999999999998},{"$f":"IF(UserInterface!$E$69 = 1,CHOOSE(m_identity,'SHE-Transmission PLC'!AE277, SPTL!AE277, 'NGET TO'!AE277),CHOOSE(m_identity,'SHE-Transmission PLC (Blank - )'!AE277, 'SPTL (Blank - not used)'!AE277, 'NGET TO (Blank - not used)'!AE277))","v":5.2039999999999997},{"$f":"IF(UserInterface!$E$69 = 1,CHOOSE(m_identity,'SHE-Transmission PLC'!AF277, SPTL!AF277, 'NGET TO'!AF277),CHOOSE(m_identity,'SHE-Transmission PLC (Blank - )'!AF277, 'SPTL (Blank - not used)'!AF277, 'NGET TO (Blank - not used)'!AF277))","v":5.1119303278452115},{"$f":"IF(UserInterface!$E$69 = 1,CHOOSE(m_identity,'SHE-Transmission PLC'!AG277, SPTL!AG277, 'NGET TO'!AG277),CHOOSE(m_identity,'SHE-Transmission PLC (Blank - )'!AG277, 'SPTL (Blank - not used)'!AG277, 'NGET TO (Blank - not used)'!AG277))","v":5.1119303278452115},{"$f":"IF(UserInterface!$E$69 = 1,CHOOSE(m_identity,'SHE-Transmission PLC'!AH277, SPTL!AH277, 'NGET TO'!AH277),CHOOSE(m_identity,'SHE-Transmission PLC (Blank - )'!AH277, 'SPTL (Blank - not used)'!AH277, 'NGET TO (Blank - not used)'!AH277))","v":5.1119303278452115},{"$f":"IF(UserInterface!$E$69 = 1,CHOOSE(m_identity,'SHE-Transmission PLC'!AI277, SPTL!AI277, 'NGET TO'!AI277),CHOOSE(m_identity,'SHE-Transmission PLC (Blank - )'!AI277, 'SPTL (Blank - not used)'!AI277, 'NGET TO (Blank - not used)'!AI277))","v":6.1309481710615064},{"$f":"IF(UserInterface!$E$69 = 1,CHOOSE(m_identity,'SHE-Transmission PLC'!AJ277, SPTL!AJ277, 'NGET TO'!AJ277),CHOOSE(m_identity,'SHE-Transmission PLC (Blank - )'!AJ277, 'SPTL (Blank - not used)'!AJ277, 'NGET TO (Blank - not used)'!AJ277))","v":6.1309481710615064}]
[null,null,null,null,"TIRG commissioned in 2012 deemed depreciation",null,"£m 09/10 prices",null,null,">",null,null,null,null,null,null,null,null,null,null,null,null,null,null,{"$f":"IF(UserInterface!$E$69 = 1,CHOOSE(m_identity,'SHE-Transmission PLC'!Y278, SPTL!Y278, 'NGET TO'!Y278),CHOOSE(m_identity,'SHE-Transmission PLC (Blank - )'!Y278, 'SPTL (Blank - not used)'!Y278, 'NGET TO (Blank - not used)'!Y278))","v":0},{"$f":"IF(UserInterface!$E$69 = 1,CHOOSE(m_identity,'SHE-Transmission PLC'!Z278, SPTL!Z278, 'NGET TO'!Z278),CHOOSE(m_identity,'SHE-Transmission PLC (Blank - )'!Z278, 'SPTL (Blank - not used)'!Z278, 'NGET TO (Blank - not used)'!Z278))","v":0},{"$f":"IF(UserInterface!$E$69 = 1,CHOOSE(m_identity,'SHE-Transmission PLC'!AA278, SPTL!AA278, 'NGET TO'!AA278),CHOOSE(m_identity,'SHE-Transmission PLC (Blank - )'!AA278, 'SPTL (Blank - not used)'!AA278, 'NGET TO (Blank - not used)'!AA278))","v":0},{"$f":"IF(UserInterface!$E$69 = 1,CHOOSE(m_identity,'SHE-Transmission PLC'!AB278, SPTL!AB278, 'NGET TO'!AB278),CHOOSE(m_identity,'SHE-Transmission PLC (Blank - )'!AB278, 'SPTL (Blank - not used)'!AB278, 'NGET TO (Blank - not used)'!AB278))","v":0},{"$f":"IF(UserInterface!$E$69 = 1,CHOOSE(m_identity,'SHE-Transmission PLC'!AC278, SPTL!AC278, 'NGET TO'!AC278),CHOOSE(m_identity,'SHE-Transmission PLC (Blank - )'!AC278, 'SPTL (Blank - not used)'!AC278, 'NGET TO (Blank - not used)'!AC278))","v":0},{"$f":"IF(UserInterface!$E$69 = 1,CHOOSE(m_identity,'SHE-Transmission PLC'!AD278, SPTL!AD278, 'NGET TO'!AD278),CHOOSE(m_identity,'SHE-Transmission PLC (Blank - )'!AD278, 'SPTL (Blank - not used)'!AD278, 'NGET TO (Blank - not used)'!AD278))","v":0},{"$f":"IF(UserInterface!$E$69 = 1,CHOOSE(m_identity,'SHE-Transmission PLC'!AE278, SPTL!AE278, 'NGET TO'!AE278),CHOOSE(m_identity,'SHE-Transmission PLC (Blank - )'!AE278, 'SPTL (Blank - not used)'!AE278, 'NGET TO (Blank - not used)'!AE278))","v":0},{"$f":"IF(UserInterface!$E$69 = 1,CHOOSE(m_identity,'SHE-Transmission PLC'!AF278, SPTL!AF278, 'NGET TO'!AF278),CHOOSE(m_identity,'SHE-Transmission PLC (Blank - )'!AF278, 'SPTL (Blank - not used)'!AF278, 'NGET TO (Blank - not used)'!AF278))","v":0},{"$f":"IF(UserInterface!$E$69 = 1,CHOOSE(m_identity,'SHE-Transmission PLC'!AG278, SPTL!AG278, 'NGET TO'!AG278),CHOOSE(m_identity,'SHE-Transmission PLC (Blank - )'!AG278, 'SPTL (Blank - not used)'!AG278, 'NGET TO (Blank - not used)'!AG278))","v":0},{"$f":"IF(UserInterface!$E$69 = 1,CHOOSE(m_identity,'SHE-Transmission PLC'!AH278, SPTL!AH278, 'NGET TO'!AH278),CHOOSE(m_identity,'SHE-Transmission PLC (Blank - )'!AH278, 'SPTL (Blank - not used)'!AH278, 'NGET TO (Blank - not used)'!AH278))","v":0},{"$f":"IF(UserInterface!$E$69 = 1,CHOOSE(m_identity,'SHE-Transmission PLC'!AI278, SPTL!AI278, 'NGET TO'!AI278),CHOOSE(m_identity,'SHE-Transmission PLC (Blank - )'!AI278, 'SPTL (Blank - not used)'!AI278, 'NGET TO (Blank - not used)'!AI278))","v":0},{"$f":"IF(UserInterface!$E$69 = 1,CHOOSE(m_identity,'SHE-Transmission PLC'!AJ278, SPTL!AJ278, 'NGET TO'!AJ278),CHOOSE(m_identity,'SHE-Transmission PLC (Blank - )'!AJ278, 'SPTL (Blank - not used)'!AJ278, 'NGET TO (Blank - not used)'!AJ278))","v":0},{"$f":"IF(UserInterface!$E$69 = 1,CHOOSE(m_identity,'SHE-Transmission PLC'!AK278, SPTL!AK278, 'NGET TO'!AK278),CHOOSE(m_identity,'SHE-Transmission PLC (Blank - )'!AK278, 'SPTL (Blank - not used)'!AK278, 'NGET TO (Blank - not used)'!AK278))","v":0}]
[null,null,null,null,"TIRG commissioned in 2013 deemed depreciation",null,"£m 09/10 prices",null,null,">",null,null,null,null,null,null,null,null,null,null,null,null,null,null,{"$f":"IF(UserInterface!$E$69 = 1,CHOOSE(m_identity,'SHE-Transmission PLC'!Y279, SPTL!Y279, 'NGET TO'!Y279),CHOOSE(m_identity,'SHE-Transmission PLC (Blank - )'!Y279, 'SPTL (Blank - not used)'!Y279, 'NGET TO (Blank - not used)'!Y279))","v":0},{"$f":"IF(UserInterface!$E$69 = 1,CHOOSE(m_identity,'SHE-Transmission PLC'!Z279, SPTL!Z279, 'NGET TO'!Z279),CHOOSE(m_identity,'SHE-Transmission PLC (Blank - )'!Z279, 'SPTL (Blank - not used)'!Z279, 'NGET TO (Blank - not used)'!Z279))","v":0},{"$f":"IF(UserInterface!$E$69 = 1,CHOOSE(m_identity,'SHE-Transmission PLC'!AA279, SPTL!AA279, 'NGET TO'!AA279),CHOOSE(m_identity,'SHE-Transmission PLC (Blank - )'!AA279, 'SPTL (Blank - not used)'!AA279, 'NGET TO (Blank - not used)'!AA279))","v":0},{"$f":"IF(UserInterface!$E$69 = 1,CHOOSE(m_identity,'SHE-Transmission PLC'!AB279, SPTL!AB279, 'NGET TO'!AB279),CHOOSE(m_identity,'SHE-Transmission PLC (Blank - )'!AB279, 'SPTL (Blank - not used)'!AB279, 'NGET TO (Blank - not used)'!AB279))","v":0},{"$f":"IF(UserInterface!$E$69 = 1,CHOOSE(m_identity,'SHE-Transmission PLC'!AC279, SPTL!AC279, 'NGET TO'!AC279),CHOOSE(m_identity,'SHE-Transmission PLC (Blank - )'!AC279, 'SPTL (Blank - not used)'!AC279, 'NGET TO (Blank - not used)'!AC279))","v":0},{"$f":"IF(UserInterface!$E$69 = 1,CHOOSE(m_identity,'SHE-Transmission PLC'!AD279, SPTL!AD279, 'NGET TO'!AD279),CHOOSE(m_identity,'SHE-Transmission PLC (Blank - )'!AD279, 'SPTL (Blank - not used)'!AD279, 'NGET TO (Blank - not used)'!AD279))","v":0},{"$f":"IF(UserInterface!$E$69 = 1,CHOOSE(m_identity,'SHE-Transmission PLC'!AE279, SPTL!AE279, 'NGET TO'!AE279),CHOOSE(m_identity,'SHE-Transmission PLC (Blank - )'!AE279, 'SPTL (Blank - not used)'!AE279, 'NGET TO (Blank - not used)'!AE279))","v":0},{"$f":"IF(UserInterface!$E$69 = 1,CHOOSE(m_identity,'SHE-Transmission PLC'!AF279, SPTL!AF279, 'NGET TO'!AF279),CHOOSE(m_identity,'SHE-Transmission PLC (Blank - )'!AF279, 'SPTL (Blank - not used)'!AF279, 'NGET TO (Blank - not used)'!AF279))","v":0},{"$f":"IF(UserInterface!$E$69 = 1,CHOOSE(m_identity,'SHE-Transmission PLC'!AG279, SPTL!AG279, 'NGET TO'!AG279),CHOOSE(m_identity,'SHE-Transmission PLC (Blank - )'!AG279, 'SPTL (Blank - not used)'!AG279, 'NGET TO (Blank - not used)'!AG279))","v":0},{"$f":"IF(UserInterface!$E$69 = 1,CHOOSE(m_identity,'SHE-Transmission PLC'!AH279, SPTL!AH279, 'NGET TO'!AH279),CHOOSE(m_identity,'SHE-Transmission PLC (Blank - )'!AH279, 'SPTL (Blank - not used)'!AH279, 'NGET TO (Blank - not used)'!AH279))","v":0},{"$f":"IF(UserInterface!$E$69 = 1,CHOOSE(m_identity,'SHE-Transmission PLC'!AI279, SPTL!AI279, 'NGET TO'!AI279),CHOOSE(m_identity,'SHE-Transmission PLC (Blank - )'!AI279, 'SPTL (Blank - not used)'!AI279, 'NGET TO (Blank - not used)'!AI279))","v":0},{"$f":"IF(UserInterface!$E$69 = 1,CHOOSE(m_identity,'SHE-Transmission PLC'!AJ279, SPTL!AJ279, 'NGET TO'!AJ279),CHOOSE(m_identity,'SHE-Transmission PLC (Blank - )'!AJ279, 'SPTL (Blank - not used)'!AJ279, 'NGET TO (Blank - not used)'!AJ279))","v":0},{"$f":"IF(UserInterface!$E$69 = 1,CHOOSE(m_identity,'SHE-Transmission PLC'!AK279, SPTL!AK279, 'NGET TO'!AK279),CHOOSE(m_identity,'SHE-Transmission PLC (Blank - )'!AK279, 'SPTL (Blank - not used)'!AK279, 'NGET TO (Blank - not used)'!AK279))","v":0},{"$f":"IF(UserInterface!$E$69 = 1,CHOOSE(m_identity,'SHE-Transmission PLC'!AL279, SPTL!AL279, 'NGET TO'!AL279),CHOOSE(m_identity,'SHE-Transmission PLC (Blank - )'!AL279, 'SPTL (Blank - not used)'!AL279, 'NGET TO (Blank - not used)'!AL279))","v":0}]
[null,null,null,null,"TIRG commissioned in 2014 deemed depreciation",null,"£m 09/10 prices",null,null,">",null,null,null,null,null,null,null,null,null,null,null,null,null,null,{"$f":"IF(UserInterface!$E$69 = 1,CHOOSE(m_identity,'SHE-Transmission PLC'!Y280, SPTL!Y280, 'NGET TO'!Y280),CHOOSE(m_identity,'SHE-Transmission PLC (Blank - )'!Y280, 'SPTL (Blank - not used)'!Y280, 'NGET TO (Blank - not used)'!Y280))","v":0},{"$f":"IF(UserInterface!$E$69 = 1,CHOOSE(m_identity,'SHE-Transmission PLC'!Z280, SPTL!Z280, 'NGET TO'!Z280),CHOOSE(m_identity,'SHE-Transmission PLC (Blank - )'!Z280, 'SPTL (Blank - not used)'!Z280, 'NGET TO (Blank - not used)'!Z280))","v":0},{"$f":"IF(UserInterface!$E$69 = 1,CHOOSE(m_identity,'SHE-Transmission PLC'!AA280, SPTL!AA280, 'NGET TO'!AA280),CHOOSE(m_identity,'SHE-Transmission PLC (Blank - )'!AA280, 'SPTL (Blank - not used)'!AA280, 'NGET TO (Blank - not used)'!AA280))","v":0},{"$f":"IF(UserInterface!$E$69 = 1,CHOOSE(m_identity,'SHE-Transmission PLC'!AB280, SPTL!AB280, 'NGET TO'!AB280),CHOOSE(m_identity,'SHE-Transmission PLC (Blank - )'!AB280, 'SPTL (Blank - not used)'!AB280, 'NGET TO (Blank - not used)'!AB280))","v":0},{"$f":"IF(UserInterface!$E$69 = 1,CHOOSE(m_identity,'SHE-Transmission PLC'!AC280, SPTL!AC280, 'NGET TO'!AC280),CHOOSE(m_identity,'SHE-Transmission PLC (Blank - )'!AC280, 'SPTL (Blank - not used)'!AC280, 'NGET TO (Blank - not used)'!AC280))","v":0},{"$f":"IF(UserInterface!$E$69 = 1,CHOOSE(m_identity,'SHE-Transmission PLC'!AD280, SPTL!AD280, 'NGET TO'!AD280),CHOOSE(m_identity,'SHE-Transmission PLC (Blank - )'!AD280, 'SPTL (Blank - not used)'!AD280, 'NGET TO (Blank - not used)'!AD280))","v":0},{"$f":"IF(UserInterface!$E$69 = 1,CHOOSE(m_identity,'SHE-Transmission PLC'!AE280, SPTL!AE280, 'NGET TO'!AE280),CHOOSE(m_identity,'SHE-Transmission PLC (Blank - )'!AE280, 'SPTL (Blank - not used)'!AE280, 'NGET TO (Blank - not used)'!AE280))","v":0},{"$f":"IF(UserInterface!$E$69 = 1,CHOOSE(m_identity,'SHE-Transmission PLC'!AF280, SPTL!AF280, 'NGET TO'!AF280),CHOOSE(m_identity,'SHE-Transmission PLC (Blank - )'!AF280, 'SPTL (Blank - not used)'!AF280, 'NGET TO (Blank - not used)'!AF280))","v":0},{"$f":"IF(UserInterface!$E$69 = 1,CHOOSE(m_identity,'SHE-Transmission PLC'!AG280, SPTL!AG280, 'NGET TO'!AG280),CHOOSE(m_identity,'SHE-Transmission PLC (Blank - )'!AG280, 'SPTL (Blank - not used)'!AG280, 'NGET TO (Blank - not used)'!AG280))","v":0},{"$f":"IF(UserInterface!$E$69 = 1,CHOOSE(m_identity,'SHE-Transmission PLC'!AH280, SPTL!AH280, 'NGET TO'!AH280),CHOOSE(m_identity,'SHE-Transmission PLC (Blank - )'!AH280, 'SPTL (Blank - not used)'!AH280, 'NGET TO (Blank - not used)'!AH280))","v":0},{"$f":"IF(UserInterface!$E$69 = 1,CHOOSE(m_identity,'SHE-Transmission PLC'!AI280, SPTL!AI280, 'NGET TO'!AI280),CHOOSE(m_identity,'SHE-Transmission PLC (Blank - )'!AI280, 'SPTL (Blank - not used)'!AI280, 'NGET TO (Blank - not used)'!AI280))","v":0},{"$f":"IF(UserInterface!$E$69 = 1,CHOOSE(m_identity,'SHE-Transmission PLC'!AJ280, SPTL!AJ280, 'NGET TO'!AJ280),CHOOSE(m_identity,'SHE-Transmission PLC (Blank - )'!AJ280, 'SPTL (Blank - not used)'!AJ280, 'NGET TO (Blank - not used)'!AJ280))","v":0},{"$f":"IF(UserInterface!$E$69 = 1,CHOOSE(m_identity,'SHE-Transmission PLC'!AK280, SPTL!AK280, 'NGET TO'!AK280),CHOOSE(m_identity,'SHE-Transmission PLC (Blank - )'!AK280, 'SPTL (Blank - not used)'!AK280, 'NGET TO (Blank - not used)'!AK280))","v":0},{"$f":"IF(UserInterface!$E$69 = 1,CHOOSE(m_identity,'SHE-Transmission PLC'!AL280, SPTL!AL280, 'NGET TO'!AL280),CHOOSE(m_identity,'SHE-Transmission PLC (Blank - )'!AL280, 'SPTL (Blank - not used)'!AL280, 'NGET TO (Blank - not used)'!AL280))","v":0},{"$f":"IF(UserInterface!$E$69 = 1,CHOOSE(m_identity,'SHE-Transmission PLC'!AM280, SPTL!AM280, 'NGET TO'!AM280),CHOOSE(m_identity,'SHE-Transmission PLC (Blank - )'!AM280, 'SPTL (Blank - not used)'!AM280, 'NGET TO (Blank - not used)'!AM280))","v":0}]
[null,null,null,null,"TIRG commissioned in 2015 deemed depreciation",null,"£m 09/10 prices",null,null,">",null,null,null,null,null,null,null,null,null,null,null,null,null,null,{"$f":"IF(UserInterface!$E$69 = 1,CHOOSE(m_identity,'SHE-Transmission PLC'!Y281, SPTL!Y281, 'NGET TO'!Y281),CHOOSE(m_identity,'SHE-Transmission PLC (Blank - )'!Y281, 'SPTL (Blank - not used)'!Y281, 'NGET TO (Blank - not used)'!Y281))","v":0},{"$f":"IF(UserInterface!$E$69 = 1,CHOOSE(m_identity,'SHE-Transmission PLC'!Z281, SPTL!Z281, 'NGET TO'!Z281),CHOOSE(m_identity,'SHE-Transmission PLC (Blank - )'!Z281, 'SPTL (Blank - not used)'!Z281, 'NGET TO (Blank - not used)'!Z281))","v":0},{"$f":"IF(UserInterface!$E$69 = 1,CHOOSE(m_identity,'SHE-Transmission PLC'!AA281, SPTL!AA281, 'NGET TO'!AA281),CHOOSE(m_identity,'SHE-Transmission PLC (Blank - )'!AA281, 'SPTL (Blank - not used)'!AA281, 'NGET TO (Blank - not used)'!AA281))","v":0},{"$f":"IF(UserInterface!$E$69 = 1,CHOOSE(m_identity,'SHE-Transmission PLC'!AB281, SPTL!AB281, 'NGET TO'!AB281),CHOOSE(m_identity,'SHE-Transmission PLC (Blank - )'!AB281, 'SPTL (Blank - not used)'!AB281, 'NGET TO (Blank - not used)'!AB281))","v":0},{"$f":"IF(UserInterface!$E$69 = 1,CHOOSE(m_identity,'SHE-Transmission PLC'!AC281, SPTL!AC281, 'NGET TO'!AC281),CHOOSE(m_identity,'SHE-Transmission PLC (Blank - )'!AC281, 'SPTL (Blank - not used)'!AC281, 'NGET TO (Blank - not used)'!AC281))","v":0},{"$f":"IF(UserInterface!$E$69 = 1,CHOOSE(m_identity,'SHE-Transmission PLC'!AD281, SPTL!AD281, 'NGET TO'!AD281),CHOOSE(m_identity,'SHE-Transmission PLC (Blank - )'!AD281, 'SPTL (Blank - not used)'!AD281, 'NGET TO (Blank - not used)'!AD281))","v":0},{"$f":"IF(UserInterface!$E$69 = 1,CHOOSE(m_identity,'SHE-Transmission PLC'!AE281, SPTL!AE281, 'NGET TO'!AE281),CHOOSE(m_identity,'SHE-Transmission PLC (Blank - )'!AE281, 'SPTL (Blank - not used)'!AE281, 'NGET TO (Blank - not used)'!AE281))","v":0},{"$f":"IF(UserInterface!$E$69 = 1,CHOOSE(m_identity,'SHE-Transmission PLC'!AF281, SPTL!AF281, 'NGET TO'!AF281),CHOOSE(m_identity,'SHE-Transmission PLC (Blank - )'!AF281, 'SPTL (Blank - not used)'!AF281, 'NGET TO (Blank - not used)'!AF281))","v":0},{"$f":"IF(UserInterface!$E$69 = 1,CHOOSE(m_identity,'SHE-Transmission PLC'!AG281, SPTL!AG281, 'NGET TO'!AG281),CHOOSE(m_identity,'SHE-Transmission PLC (Blank - )'!AG281, 'SPTL (Blank - not used)'!AG281, 'NGET TO (Blank - not used)'!AG281))","v":0},{"$f":"IF(UserInterface!$E$69 = 1,CHOOSE(m_identity,'SHE-Transmission PLC'!AH281, SPTL!AH281, 'NGET TO'!AH281),CHOOSE(m_identity,'SHE-Transmission PLC (Blank - )'!AH281, 'SPTL (Blank - not used)'!AH281, 'NGET TO (Blank - not used)'!AH281))","v":0},{"$f":"IF(UserInterface!$E$69 = 1,CHOOSE(m_identity,'SHE-Transmission PLC'!AI281, SPTL!AI281, 'NGET TO'!AI281),CHOOSE(m_identity,'SHE-Transmission PLC (Blank - )'!AI281, 'SPTL (Blank - not used)'!AI281, 'NGET TO (Blank - not used)'!AI281))","v":0},{"$f":"IF(UserInterface!$E$69 = 1,CHOOSE(m_identity,'SHE-Transmission PLC'!AJ281, SPTL!AJ281, 'NGET TO'!AJ281),CHOOSE(m_identity,'SHE-Transmission PLC (Blank - )'!AJ281, 'SPTL (Blank - not used)'!AJ281, 'NGET TO (Blank - not used)'!AJ281))","v":0},{"$f":"IF(UserInterface!$E$69 = 1,CHOOSE(m_identity,'SHE-Transmission PLC'!AK281, SPTL!AK281, 'NGET TO'!AK281),CHOOSE(m_identity,'SHE-Transmission PLC (Blank - )'!AK281, 'SPTL (Blank - not used)'!AK281, 'NGET TO (Blank - not used)'!AK281))","v":0},{"$f":"IF(UserInterface!$E$69 = 1,CHOOSE(m_identity,'SHE-Transmission PLC'!AL281, SPTL!AL281, 'NGET TO'!AL281),CHOOSE(m_identity,'SHE-Transmission PLC (Blank - )'!AL281, 'SPTL (Blank - not used)'!AL281, 'NGET TO (Blank - not used)'!AL281))","v":0},{"$f":"IF(UserInterface!$E$69 = 1,CHOOSE(m_identity,'SHE-Transmission PLC'!AM281, SPTL!AM281, 'NGET TO'!AM281),CHOOSE(m_identity,'SHE-Transmission PLC (Blank - )'!AM281, 'SPTL (Blank - not used)'!AM281, 'NGET TO (Blank - not used)'!AM281))","v":0},{"$f":"IF(UserInterface!$E$69 = 1,CHOOSE(m_identity,'SHE-Transmission PLC'!AN281, SPTL!AN281, 'NGET TO'!AN281),CHOOSE(m_identity,'SHE-Transmission PLC (Blank - )'!AN281, 'SPTL (Blank - not used)'!AN281, 'NGET TO (Blank - not used)'!AN281))","v":0}]
[null,null,null,null,"TIRG commissioned in 2016 deemed depreciation",null,"£m 09/10 prices",null,null,">",null,null,null,null,null,null,null,null,null,null,null,null,null,null,{"$f":"IF(UserInterface!$E$69 = 1,CHOOSE(m_identity,'SHE-Transmission PLC'!Y282, SPTL!Y282, 'NGET TO'!Y282),CHOOSE(m_identity,'SHE-Transmission PLC (Blank - )'!Y282, 'SPTL (Blank - not used)'!Y282, 'NGET TO (Blank - not used)'!Y282))","v":0},{"$f":"IF(UserInterface!$E$69 = 1,CHOOSE(m_identity,'SHE-Transmission PLC'!Z282, SPTL!Z282, 'NGET TO'!Z282),CHOOSE(m_identity,'SHE-Transmission PLC (Blank - )'!Z282, 'SPTL (Blank - not used)'!Z282, 'NGET TO (Blank - not used)'!Z282))","v":0},{"$f":"IF(UserInterface!$E$69 = 1,CHOOSE(m_identity,'SHE-Transmission PLC'!AA282, SPTL!AA282, 'NGET TO'!AA282),CHOOSE(m_identity,'SHE-Transmission PLC (Blank - )'!AA282, 'SPTL (Blank - not used)'!AA282, 'NGET TO (Blank - not used)'!AA282))","v":0},{"$f":"IF(UserInterface!$E$69 = 1,CHOOSE(m_identity,'SHE-Transmission PLC'!AB282, SPTL!AB282, 'NGET TO'!AB282),CHOOSE(m_identity,'SHE-Transmission PLC (Blank - )'!AB282, 'SPTL (Blank - not used)'!AB282, 'NGET TO (Blank - not used)'!AB282))","v":0},{"$f":"IF(UserInterface!$E$69 = 1,CHOOSE(m_identity,'SHE-Transmission PLC'!AC282, SPTL!AC282, 'NGET TO'!AC282),CHOOSE(m_identity,'SHE-Transmission PLC (Blank - )'!AC282, 'SPTL (Blank - not used)'!AC282, 'NGET TO (Blank - not used)'!AC282))","v":0},{"$f":"IF(UserInterface!$E$69 = 1,CHOOSE(m_identity,'SHE-Transmission PLC'!AD282, SPTL!AD282, 'NGET TO'!AD282),CHOOSE(m_identity,'SHE-Transmission PLC (Blank - )'!AD282, 'SPTL (Blank - not used)'!AD282, 'NGET TO (Blank - not used)'!AD282))","v":0},{"$f":"IF(UserInterface!$E$69 = 1,CHOOSE(m_identity,'SHE-Transmission PLC'!AE282, SPTL!AE282, 'NGET TO'!AE282),CHOOSE(m_identity,'SHE-Transmission PLC (Blank - )'!AE282, 'SPTL (Blank - not used)'!AE282, 'NGET TO (Blank - not used)'!AE282))","v":0},{"$f":"IF(UserInterface!$E$69 = 1,CHOOSE(m_identity,'SHE-Transmission PLC'!AF282, SPTL!AF282, 'NGET TO'!AF282),CHOOSE(m_identity,'SHE-Transmission PLC (Blank - )'!AF282, 'SPTL (Blank - not used)'!AF282, 'NGET TO (Blank - not used)'!AF282))","v":0},{"$f":"IF(UserInterface!$E$69 = 1,CHOOSE(m_identity,'SHE-Transmission PLC'!AG282, SPTL!AG282, 'NGET TO'!AG282),CHOOSE(m_identity,'SHE-Transmission PLC (Blank - )'!AG282, 'SPTL (Blank - not used)'!AG282, 'NGET TO (Blank - not used)'!AG282))","v":0},{"$f":"IF(UserInterface!$E$69 = 1,CHOOSE(m_identity,'SHE-Transmission PLC'!AH282, SPTL!AH282, 'NGET TO'!AH282),CHOOSE(m_identity,'SHE-Transmission PLC (Blank - )'!AH282, 'SPTL (Blank - not used)'!AH282, 'NGET TO (Blank - not used)'!AH282))","v":0},{"$f":"IF(UserInterface!$E$69 = 1,CHOOSE(m_identity,'SHE-Transmission PLC'!AI282, SPTL!AI282, 'NGET TO'!AI282),CHOOSE(m_identity,'SHE-Transmission PLC (Blank - )'!AI282, 'SPTL (Blank - not used)'!AI282, 'NGET TO (Blank - not used)'!AI282))","v":0},{"$f":"IF(UserInterface!$E$69 = 1,CHOOSE(m_identity,'SHE-Transmission PLC'!AJ282, SPTL!AJ282, 'NGET TO'!AJ282),CHOOSE(m_identity,'SHE-Transmission PLC (Blank - )'!AJ282, 'SPTL (Blank - not used)'!AJ282, 'NGET TO (Blank - not used)'!AJ282))","v":0},{"$f":"IF(UserInterface!$E$69 = 1,CHOOSE(m_identity,'SHE-Transmission PLC'!AK282, SPTL!AK282, 'NGET TO'!AK282),CHOOSE(m_identity,'SHE-Transmission PLC (Blank - )'!AK282, 'SPTL (Blank - not used)'!AK282, 'NGET TO (Blank - not used)'!AK282))","v":0},{"$f":"IF(UserInterface!$E$69 = 1,CHOOSE(m_identity,'SHE-Transmission PLC'!AL282, SPTL!AL282, 'NGET TO'!AL282),CHOOSE(m_identity,'SHE-Transmission PLC (Blank - )'!AL282, 'SPTL (Blank - not used)'!AL282, 'NGET TO (Blank - not used)'!AL282))","v":0},{"$f":"IF(UserInterface!$E$69 = 1,CHOOSE(m_identity,'SHE-Transmission PLC'!AM282, SPTL!AM282, 'NGET TO'!AM282),CHOOSE(m_identity,'SHE-Transmission PLC (Blank - )'!AM282, 'SPTL (Blank - not used)'!AM282, 'NGET TO (Blank - not used)'!AM282))","v":0},{"$f":"IF(UserInterface!$E$69 = 1,CHOOSE(m_identity,'SHE-Transmission PLC'!AN282, SPTL!AN282, 'NGET TO'!AN282),CHOOSE(m_identity,'SHE-Transmission PLC (Blank - )'!AN282, 'SPTL (Blank - not used)'!AN282, 'NGET TO (Blank - not used)'!AN282))","v":0},{"$f":"IF(UserInterface!$E$69 = 1,CHOOSE(m_identity,'SHE-Transmission PLC'!AO282, SPTL!AO282, 'NGET TO'!AO282),CHOOSE(m_identity,'SHE-Transmission PLC (Blank - )'!AO282, 'SPTL (Blank - not used)'!AO282, 'NGET TO (Blank - not used)'!AO282))","v":0}]
[null,null,null,null,"TIRG commissioned in 2017 deemed depreciation",null,"£m 09/10 prices",null,null,">",null,null,null,null,null,null,null,null,null,null,null,null,null,null,{"$f":"IF(UserInterface!$E$69 = 1,CHOOSE(m_identity,'SHE-Transmission PLC'!Y283, SPTL!Y283, 'NGET TO'!Y283),CHOOSE(m_identity,'SHE-Transmission PLC (Blank - )'!Y283, 'SPTL (Blank - not used)'!Y283, 'NGET TO (Blank - not used)'!Y283))","v":0},{"$f":"IF(UserInterface!$E$69 = 1,CHOOSE(m_identity,'SHE-Transmission PLC'!Z283, SPTL!Z283, 'NGET TO'!Z283),CHOOSE(m_identity,'SHE-Transmission PLC (Blank - )'!Z283, 'SPTL (Blank - not used)'!Z283, 'NGET TO (Blank - not used)'!Z283))","v":0},{"$f":"IF(UserInterface!$E$69 = 1,CHOOSE(m_identity,'SHE-Transmission PLC'!AA283, SPTL!AA283, 'NGET TO'!AA283),CHOOSE(m_identity,'SHE-Transmission PLC (Blank - )'!AA283, 'SPTL (Blank - not used)'!AA283, 'NGET TO (Blank - not used)'!AA283))","v":0},{"$f":"IF(UserInterface!$E$69 = 1,CHOOSE(m_identity,'SHE-Transmission PLC'!AB283, SPTL!AB283, 'NGET TO'!AB283),CHOOSE(m_identity,'SHE-Transmission PLC (Blank - )'!AB283, 'SPTL (Blank - not used)'!AB283, 'NGET TO (Blank - not used)'!AB283))","v":0},{"$f":"IF(UserInterface!$E$69 = 1,CHOOSE(m_identity,'SHE-Transmission PLC'!AC283, SPTL!AC283, 'NGET TO'!AC283),CHOOSE(m_identity,'SHE-Transmission PLC (Blank - )'!AC283, 'SPTL (Blank - not used)'!AC283, 'NGET TO (Blank - not used)'!AC283))","v":0},{"$f":"IF(UserInterface!$E$69 = 1,CHOOSE(m_identity,'SHE-Transmission PLC'!AD283, SPTL!AD283, 'NGET TO'!AD283),CHOOSE(m_identity,'SHE-Transmission PLC (Blank - )'!AD283, 'SPTL (Blank - not used)'!AD283, 'NGET TO (Blank - not used)'!AD283))","v":0},{"$f":"IF(UserInterface!$E$69 = 1,CHOOSE(m_identity,'SHE-Transmission PLC'!AE283, SPTL!AE283, 'NGET TO'!AE283),CHOOSE(m_identity,'SHE-Transmission PLC (Blank - )'!AE283, 'SPTL (Blank - not used)'!AE283, 'NGET TO (Blank - not used)'!AE283))","v":0},{"$f":"IF(UserInterface!$E$69 = 1,CHOOSE(m_identity,'SHE-Transmission PLC'!AF283, SPTL!AF283, 'NGET TO'!AF283),CHOOSE(m_identity,'SHE-Transmission PLC (Blank - )'!AF283, 'SPTL (Blank - not used)'!AF283, 'NGET TO (Blank - not used)'!AF283))","v":0},{"$f":"IF(UserInterface!$E$69 = 1,CHOOSE(m_identity,'SHE-Transmission PLC'!AG283, SPTL!AG283, 'NGET TO'!AG283),CHOOSE(m_identity,'SHE-Transmission PLC (Blank - )'!AG283, 'SPTL (Blank - not used)'!AG283, 'NGET TO (Blank - not used)'!AG283))","v":0},{"$f":"IF(UserInterface!$E$69 = 1,CHOOSE(m_identity,'SHE-Transmission PLC'!AH283, SPTL!AH283, 'NGET TO'!AH283),CHOOSE(m_identity,'SHE-Transmission PLC (Blank - )'!AH283, 'SPTL (Blank - not used)'!AH283, 'NGET TO (Blank - not used)'!AH283))","v":0},{"$f":"IF(UserInterface!$E$69 = 1,CHOOSE(m_identity,'SHE-Transmission PLC'!AI283, SPTL!AI283, 'NGET TO'!AI283),CHOOSE(m_identity,'SHE-Transmission PLC (Blank - )'!AI283, 'SPTL (Blank - not used)'!AI283, 'NGET TO (Blank - not used)'!AI283))","v":0},{"$f":"IF(UserInterface!$E$69 = 1,CHOOSE(m_identity,'SHE-Transmission PLC'!AJ283, SPTL!AJ283, 'NGET TO'!AJ283),CHOOSE(m_identity,'SHE-Transmission PLC (Blank - )'!AJ283, 'SPTL (Blank - not used)'!AJ283, 'NGET TO (Blank - not used)'!AJ283))","v":0},{"$f":"IF(UserInterface!$E$69 = 1,CHOOSE(m_identity,'SHE-Transmission PLC'!AK283, SPTL!AK283, 'NGET TO'!AK283),CHOOSE(m_identity,'SHE-Transmission PLC (Blank - )'!AK283, 'SPTL (Blank - not used)'!AK283, 'NGET TO (Blank - not used)'!AK283))","v":0},{"$f":"IF(UserInterface!$E$69 = 1,CHOOSE(m_identity,'SHE-Transmission PLC'!AL283, SPTL!AL283, 'NGET TO'!AL283),CHOOSE(m_identity,'SHE-Transmission PLC (Blank - )'!AL283, 'SPTL (Blank - not used)'!AL283, 'NGET TO (Blank - not used)'!AL283))","v":0},{"$f":"IF(UserInterface!$E$69 = 1,CHOOSE(m_identity,'SHE-Transmission PLC'!AM283, SPTL!AM283, 'NGET TO'!AM283),CHOOSE(m_identity,'SHE-Transmission PLC (Blank - )'!AM283, 'SPTL (Blank - not used)'!AM283, 'NGET TO (Blank - not used)'!AM283))","v":0},{"$f":"IF(UserInterface!$E$69 = 1,CHOOSE(m_identity,'SHE-Transmission PLC'!AN283, SPTL!AN283, 'NGET TO'!AN283),CHOOSE(m_identity,'SHE-Transmission PLC (Blank - )'!AN283, 'SPTL (Blank - not used)'!AN283, 'NGET TO (Blank - not used)'!AN283))","v":0},{"$f":"IF(UserInterface!$E$69 = 1,CHOOSE(m_identity,'SHE-Transmission PLC'!AO283, SPTL!AO283, 'NGET TO'!AO283),CHOOSE(m_identity,'SHE-Transmission PLC (Blank - )'!AO283, 'SPTL (Blank - not used)'!AO283, 'NGET TO (Blank - not used)'!AO283))","v":0}]
[]
[null,null,null,null,"TIRG commissioned in 2010 revenue",null,"£m 09/10 prices",null,null,">",null,null,null,null,null,null,null,null,null,null,null,null,null,null,{"$f":"IF(UserInterface!$E$69 = 1,CHOOSE(m_identity,'SHE-Transmission PLC'!Y285, SPTL!Y285, 'NGET TO'!Y285),CHOOSE(m_identity,'SHE-Transmission PLC (Blank - )'!Y285, 'SPTL (Blank - not used)'!Y285, 'NGET TO (Blank - not used)'!Y285))","v":0},{"$f":"IF(UserInterface!$E$69 = 1,CHOOSE(m_identity,'SHE-Transmission PLC'!Z285, SPTL!Z285, 'NGET TO'!Z285),CHOOSE(m_identity,'SHE-Transmission PLC (Blank - )'!Z285, 'SPTL (Blank - not used)'!Z285, 'NGET TO (Blank - not used)'!Z285))","v":0},{"$f":"IF(UserInterface!$E$69 = 1,CHOOSE(m_identity,'SHE-Transmission PLC'!AA285, SPTL!AA285, 'NGET TO'!AA285),CHOOSE(m_identity,'SHE-Transmission PLC (Blank - )'!AA285, 'SPTL (Blank - not used)'!AA285, 'NGET TO (Blank - not used)'!AA285))","v":0},{"$f":"IF(UserInterface!$E$69 = 1,CHOOSE(m_identity,'SHE-Transmission PLC'!AB285, SPTL!AB285, 'NGET TO'!AB285),CHOOSE(m_identity,'SHE-Transmission PLC (Blank - )'!AB285, 'SPTL (Blank - not used)'!AB285, 'NGET TO (Blank - not used)'!AB285))","v":0},{"$f":"IF(UserInterface!$E$69 = 1,CHOOSE(m_identity,'SHE-Transmission PLC'!AC285, SPTL!AC285, 'NGET TO'!AC285),CHOOSE(m_identity,'SHE-Transmission PLC (Blank - )'!AC285, 'SPTL (Blank - not used)'!AC285, 'NGET TO (Blank - not used)'!AC285))","v":0},{"$f":"IF(UserInterface!$E$69 = 1,CHOOSE(m_identity,'SHE-Transmission PLC'!AD285, SPTL!AD285, 'NGET TO'!AD285),CHOOSE(m_identity,'SHE-Transmission PLC (Blank - )'!AD285, 'SPTL (Blank - not used)'!AD285, 'NGET TO (Blank - not used)'!AD285))","v":0},{"$f":"IF(UserInterface!$E$69 = 1,CHOOSE(m_identity,'SHE-Transmission PLC'!AE285, SPTL!AE285, 'NGET TO'!AE285),CHOOSE(m_identity,'SHE-Transmission PLC (Blank - )'!AE285, 'SPTL (Blank - not used)'!AE285, 'NGET TO (Blank - not used)'!AE285))","v":0},{"$f":"IF(UserInterface!$E$69 = 1,CHOOSE(m_identity,'SHE-Transmission PLC'!AF285, SPTL!AF285, 'NGET TO'!AF285),CHOOSE(m_identity,'SHE-Transmission PLC (Blank - )'!AF285, 'SPTL (Blank - not used)'!AF285, 'NGET TO (Blank - not used)'!AF285))","v":0},{"$f":"IF(UserInterface!$E$69 = 1,CHOOSE(m_identity,'SHE-Transmission PLC'!AG285, SPTL!AG285, 'NGET TO'!AG285),CHOOSE(m_identity,'SHE-Transmission PLC (Blank - )'!AG285, 'SPTL (Blank - not used)'!AG285, 'NGET TO (Blank - not used)'!AG285))","v":0},{"$f":"IF(UserInterface!$E$69 = 1,CHOOSE(m_identity,'SHE-Transmission PLC'!AH285, SPTL!AH285, 'NGET TO'!AH285),CHOOSE(m_identity,'SHE-Transmission PLC (Blank - )'!AH285, 'SPTL (Blank - not used)'!AH285, 'NGET TO (Blank - not used)'!AH285))","v":0},{"$f":"IF(UserInterface!$E$69 = 1,CHOOSE(m_identity,'SHE-Transmission PLC'!AI285, SPTL!AI285, 'NGET TO'!AI285),CHOOSE(m_identity,'SHE-Transmission PLC (Blank - )'!AI285, 'SPTL (Blank - not used)'!AI285, 'NGET TO (Blank - not used)'!AI285))","v":0}]
[null,null,null,null,"TIRG commissioned in 2011 revenue",null,"£m 09/10 prices",null,null,">",null,null,null,null,null,null,null,null,null,null,null,null,null,null,{"$f":"IF(UserInterface!$E$69 = 1,CHOOSE(m_identity,'SHE-Transmission PLC'!Y286, SPTL!Y286, 'NGET TO'!Y286),CHOOSE(m_identity,'SHE-Transmission PLC (Blank - )'!Y286, 'SPTL (Blank - not used)'!Y286, 'NGET TO (Blank - not used)'!Y286))","v":0},{"$f":"IF(UserInterface!$E$69 = 1,CHOOSE(m_identity,'SHE-Transmission PLC'!Z286, SPTL!Z286, 'NGET TO'!Z286),CHOOSE(m_identity,'SHE-Transmission PLC (Blank - )'!Z286, 'SPTL (Blank - not used)'!Z286, 'NGET TO (Blank - not used)'!Z286))","v":0},{"$f":"IF(UserInterface!$E$69 = 1,CHOOSE(m_identity,'SHE-Transmission PLC'!AA286, SPTL!AA286, 'NGET TO'!AA286),CHOOSE(m_identity,'SHE-Transmission PLC (Blank - )'!AA286, 'SPTL (Blank - not used)'!AA286, 'NGET TO (Blank - not used)'!AA286))","v":0},{"$f":"IF(UserInterface!$E$69 = 1,CHOOSE(m_identity,'SHE-Transmission PLC'!AB286, SPTL!AB286, 'NGET TO'!AB286),CHOOSE(m_identity,'SHE-Transmission PLC (Blank - )'!AB286, 'SPTL (Blank - not used)'!AB286, 'NGET TO (Blank - not used)'!AB286))","v":3.0644265612861856},{"$f":"IF(UserInterface!$E$69 = 1,CHOOSE(m_identity,'SHE-Transmission PLC'!AC286, SPTL!AC286, 'NGET TO'!AC286),CHOOSE(m_identity,'SHE-Transmission PLC (Blank - )'!AC286, 'SPTL (Blank - not used)'!AC286, 'NGET TO (Blank - not used)'!AC286))","v":7.3479343460373006},{"$f":"IF(UserInterface!$E$69 = 1,CHOOSE(m_identity,'SHE-Transmission PLC'!AD286, SPTL!AD286, 'NGET TO'!AD286),CHOOSE(m_identity,'SHE-Transmission PLC (Blank - )'!AD286, 'SPTL (Blank - not used)'!AD286, 'NGET TO (Blank - not used)'!AD286))","v":12.083623286163521},{"$f":"IF(UserInterface!$E$69 = 1,CHOOSE(m_identity,'SHE-Transmission PLC'!AE286, SPTL!AE286, 'NGET TO'!AE286),CHOOSE(m_identity,'SHE-Transmission PLC (Blank - )'!AE286, 'SPTL (Blank - not used)'!AE286, 'NGET TO (Blank - not used)'!AE286))","v":14.2},{"$f":"IF(UserInterface!$E$69 = 1,CHOOSE(m_identity,'SHE-Transmission PLC'!AF286, SPTL!AF286, 'NGET TO'!AF286),CHOOSE(m_identity,'SHE-Transmission PLC (Blank - )'!AF286, 'SPTL (Blank - not used)'!AF286, 'NGET TO (Blank - not used)'!AF286))","v":14.422489625046804},{"$f":"IF(UserInterface!$E$69 = 1,CHOOSE(m_identity,'SHE-Transmission PLC'!AG286, SPTL!AG286, 'NGET TO'!AG286),CHOOSE(m_identity,'SHE-Transmission PLC (Blank - )'!AG286, 'SPTL (Blank - not used)'!AG286, 'NGET TO (Blank - not used)'!AG286))","v":14.227466197970648},{"$f":"IF(UserInterface!$E$69 = 1,CHOOSE(m_identity,'SHE-Transmission PLC'!AH286, SPTL!AH286, 'NGET TO'!AH286),CHOOSE(m_identity,'SHE-Transmission PLC (Blank - )'!AH286, 'SPTL (Blank - not used)'!AH286, 'NGET TO (Blank - not used)'!AH286))","v":13.751034124367685},{"$f":"IF(UserInterface!$E$69 = 1,CHOOSE(m_identity,'SHE-Transmission PLC'!AI286, SPTL!AI286, 'NGET TO'!AI286),CHOOSE(m_identity,'SHE-Transmission PLC (Blank - )'!AI286, 'SPTL (Blank - not used)'!AI286, 'NGET TO (Blank - not used)'!AI286))","v":13.274690050778315},{"$f":"IF(UserInterface!$E$69 = 1,CHOOSE(m_identity,'SHE-Transmission PLC'!AJ286, SPTL!AJ286, 'NGET TO'!AJ286),CHOOSE(m_identity,'SHE-Transmission PLC (Blank - )'!AJ286, 'SPTL (Blank - not used)'!AJ286, 'NGET TO (Blank - not used)'!AJ286))","v":12.798257977175346}]
[null,null,null,null,"TIRG commissioned in 2012 revenue",null,"£m 09/10 prices",null,null,">",null,null,null,null,null,null,null,null,null,null,null,null,null,null,{"$f":"IF(UserInterface!$E$69 = 1,CHOOSE(m_identity,'SHE-Transmission PLC'!Y287, SPTL!Y287, 'NGET TO'!Y287),CHOOSE(m_identity,'SHE-Transmission PLC (Blank - )'!Y287, 'SPTL (Blank - not used)'!Y287, 'NGET TO (Blank - not used)'!Y287))","v":0},{"$f":"IF(UserInterface!$E$69 = 1,CHOOSE(m_identity,'SHE-Transmission PLC'!Z287, SPTL!Z287, 'NGET TO'!Z287),CHOOSE(m_identity,'SHE-Transmission PLC (Blank - )'!Z287, 'SPTL (Blank - not used)'!Z287, 'NGET TO (Blank - not used)'!Z287))","v":0},{"$f":"IF(UserInterface!$E$69 = 1,CHOOSE(m_identity,'SHE-Transmission PLC'!AA287, SPTL!AA287, 'NGET TO'!AA287),CHOOSE(m_identity,'SHE-Transmission PLC (Blank - )'!AA287, 'SPTL (Blank - not used)'!AA287, 'NGET TO (Blank - not used)'!AA287))","v":0},{"$f":"IF(UserInterface!$E$69 = 1,CHOOSE(m_identity,'SHE-Transmission PLC'!AB287, SPTL!AB287, 'NGET TO'!AB287),CHOOSE(m_identity,'SHE-Transmission PLC (Blank - )'!AB287, 'SPTL (Blank - not used)'!AB287, 'NGET TO (Blank - not used)'!AB287))","v":0},{"$f":"IF(UserInterface!$E$69 = 1,CHOOSE(m_identity,'SHE-Transmission PLC'!AC287, SPTL!AC287, 'NGET TO'!AC287),CHOOSE(m_identity,'SHE-Transmission PLC (Blank - )'!AC287, 'SPTL (Blank - not used)'!AC287, 'NGET TO (Blank - not used)'!AC287))","v":0},{"$f":"IF(UserInterface!$E$69 = 1,CHOOSE(m_identity,'SHE-Transmission PLC'!AD287, SPTL!AD287, 'NGET TO'!AD287),CHOOSE(m_identity,'SHE-Transmission PLC (Blank - )'!AD287, 'SPTL (Blank - not used)'!AD287, 'NGET TO (Blank - not used)'!AD287))","v":0},{"$f":"IF(UserInterface!$E$69 = 1,CHOOSE(m_identity,'SHE-Transmission PLC'!AE287, SPTL!AE287, 'NGET TO'!AE287),CHOOSE(m_identity,'SHE-Transmission PLC (Blank - )'!AE287, 'SPTL (Blank - not used)'!AE287, 'NGET TO (Blank - not used)'!AE287))","v":0},{"$f":"IF(UserInterface!$E$69 = 1,CHOOSE(m_identity,'SHE-Transmission PLC'!AF287, SPTL!AF287, 'NGET TO'!AF287),CHOOSE(m_identity,'SHE-Transmission PLC (Blank - )'!AF287, 'SPTL (Blank - not used)'!AF287, 'NGET TO (Blank - not used)'!AF287))","v":0},{"$f":"IF(UserInterface!$E$69 = 1,CHOOSE(m_identity,'SHE-Transmission PLC'!AG287, SPTL!AG287, 'NGET TO'!AG287),CHOOSE(m_identity,'SHE-Transmission PLC (Blank - )'!AG287, 'SPTL (Blank - not used)'!AG287, 'NGET TO (Blank - not used)'!AG287))","v":0},{"$f":"IF(UserInterface!$E$69 = 1,CHOOSE(m_identity,'SHE-Transmission PLC'!AH287, SPTL!AH287, 'NGET TO'!AH287),CHOOSE(m_identity,'SHE-Transmission PLC (Blank - )'!AH287, 'SPTL (Blank - not used)'!AH287, 'NGET TO (Blank - not used)'!AH287))","v":0},{"$f":"IF(UserInterface!$E$69 = 1,CHOOSE(m_identity,'SHE-Transmission PLC'!AI287, SPTL!AI287, 'NGET TO'!AI287),CHOOSE(m_identity,'SHE-Transmission PLC (Blank - )'!AI287, 'SPTL (Blank - not used)'!AI287, 'NGET TO (Blank - not used)'!AI287))","v":0},{"$f":"IF(UserInterface!$E$69 = 1,CHOOSE(m_identity,'SHE-Transmission PLC'!AJ287, SPTL!AJ287, 'NGET TO'!AJ287),CHOOSE(m_identity,'SHE-Transmission PLC (Blank - )'!AJ287, 'SPTL (Blank - not used)'!AJ287, 'NGET TO (Blank - not used)'!AJ287))","v":0},{"$f":"IF(UserInterface!$E$69 = 1,CHOOSE(m_identity,'SHE-Transmission PLC'!AK287, SPTL!AK287, 'NGET TO'!AK287),CHOOSE(m_identity,'SHE-Transmission PLC (Blank - )'!AK287, 'SPTL (Blank - not used)'!AK287, 'NGET TO (Blank - not used)'!AK287))","v":0}]
[null,null,null,null,"TIRG commissioned in 2013 revenue",null,"£m 09/10 prices",null,null,">",null,null,null,null,null,null,null,null,null,null,null,null,null,null,{"$f":"IF(UserInterface!$E$69 = 1,CHOOSE(m_identity,'SHE-Transmission PLC'!Y288, SPTL!Y288, 'NGET TO'!Y288),CHOOSE(m_identity,'SHE-Transmission PLC (Blank - )'!Y288, 'SPTL (Blank - not used)'!Y288, 'NGET TO (Blank - not used)'!Y288))","v":0},{"$f":"IF(UserInterface!$E$69 = 1,CHOOSE(m_identity,'SHE-Transmission PLC'!Z288, SPTL!Z288, 'NGET TO'!Z288),CHOOSE(m_identity,'SHE-Transmission PLC (Blank - )'!Z288, 'SPTL (Blank - not used)'!Z288, 'NGET TO (Blank - not used)'!Z288))","v":0},{"$f":"IF(UserInterface!$E$69 = 1,CHOOSE(m_identity,'SHE-Transmission PLC'!AA288, SPTL!AA288, 'NGET TO'!AA288),CHOOSE(m_identity,'SHE-Transmission PLC (Blank - )'!AA288, 'SPTL (Blank - not used)'!AA288, 'NGET TO (Blank - not used)'!AA288))","v":0},{"$f":"IF(UserInterface!$E$69 = 1,CHOOSE(m_identity,'SHE-Transmission PLC'!AB288, SPTL!AB288, 'NGET TO'!AB288),CHOOSE(m_identity,'SHE-Transmission PLC (Blank - )'!AB288, 'SPTL (Blank - not used)'!AB288, 'NGET TO (Blank - not used)'!AB288))","v":0},{"$f":"IF(UserInterface!$E$69 = 1,CHOOSE(m_identity,'SHE-Transmission PLC'!AC288, SPTL!AC288, 'NGET TO'!AC288),CHOOSE(m_identity,'SHE-Transmission PLC (Blank - )'!AC288, 'SPTL (Blank - not used)'!AC288, 'NGET TO (Blank - not used)'!AC288))","v":0},{"$f":"IF(UserInterface!$E$69 = 1,CHOOSE(m_identity,'SHE-Transmission PLC'!AD288, SPTL!AD288, 'NGET TO'!AD288),CHOOSE(m_identity,'SHE-Transmission PLC (Blank - )'!AD288, 'SPTL (Blank - not used)'!AD288, 'NGET TO (Blank - not used)'!AD288))","v":0},{"$f":"IF(UserInterface!$E$69 = 1,CHOOSE(m_identity,'SHE-Transmission PLC'!AE288, SPTL!AE288, 'NGET TO'!AE288),CHOOSE(m_identity,'SHE-Transmission PLC (Blank - )'!AE288, 'SPTL (Blank - not used)'!AE288, 'NGET TO (Blank - not used)'!AE288))","v":0},{"$f":"IF(UserInterface!$E$69 = 1,CHOOSE(m_identity,'SHE-Transmission PLC'!AF288, SPTL!AF288, 'NGET TO'!AF288),CHOOSE(m_identity,'SHE-Transmission PLC (Blank - )'!AF288, 'SPTL (Blank - not used)'!AF288, 'NGET TO (Blank - not used)'!AF288))","v":0},{"$f":"IF(UserInterface!$E$69 = 1,CHOOSE(m_identity,'SHE-Transmission PLC'!AG288, SPTL!AG288, 'NGET TO'!AG288),CHOOSE(m_identity,'SHE-Transmission PLC (Blank - )'!AG288, 'SPTL (Blank - not used)'!AG288, 'NGET TO (Blank - not used)'!AG288))","v":0},{"$f":"IF(UserInterface!$E$69 = 1,CHOOSE(m_identity,'SHE-Transmission PLC'!AH288, SPTL!AH288, 'NGET TO'!AH288),CHOOSE(m_identity,'SHE-Transmission PLC (Blank - )'!AH288, 'SPTL (Blank - not used)'!AH288, 'NGET TO (Blank - not used)'!AH288))","v":0},{"$f":"IF(UserInterface!$E$69 = 1,CHOOSE(m_identity,'SHE-Transmission PLC'!AI288, SPTL!AI288, 'NGET TO'!AI288),CHOOSE(m_identity,'SHE-Transmission PLC (Blank - )'!AI288, 'SPTL (Blank - not used)'!AI288, 'NGET TO (Blank - not used)'!AI288))","v":0},{"$f":"IF(UserInterface!$E$69 = 1,CHOOSE(m_identity,'SHE-Transmission PLC'!AJ288, SPTL!AJ288, 'NGET TO'!AJ288),CHOOSE(m_identity,'SHE-Transmission PLC (Blank - )'!AJ288, 'SPTL (Blank - not used)'!AJ288, 'NGET TO (Blank - not used)'!AJ288))","v":0},{"$f":"IF(UserInterface!$E$69 = 1,CHOOSE(m_identity,'SHE-Transmission PLC'!AK288, SPTL!AK288, 'NGET TO'!AK288),CHOOSE(m_identity,'SHE-Transmission PLC (Blank - )'!AK288, 'SPTL (Blank - not used)'!AK288, 'NGET TO (Blank - not used)'!AK288))","v":0},{"$f":"IF(UserInterface!$E$69 = 1,CHOOSE(m_identity,'SHE-Transmission PLC'!AL288, SPTL!AL288, 'NGET TO'!AL288),CHOOSE(m_identity,'SHE-Transmission PLC (Blank - )'!AL288, 'SPTL (Blank - not used)'!AL288, 'NGET TO (Blank - not used)'!AL288))","v":0}]
[null,null,null,null,"TIRG commissioned in 2014 revenue",null,"£m 09/10 prices",null,null,">",null,null,null,null,null,null,null,null,null,null,null,null,null,null,{"$f":"IF(UserInterface!$E$69 = 1,CHOOSE(m_identity,'SHE-Transmission PLC'!Y289, SPTL!Y289, 'NGET TO'!Y289),CHOOSE(m_identity,'SHE-Transmission PLC (Blank - )'!Y289, 'SPTL (Blank - not used)'!Y289, 'NGET TO (Blank - not used)'!Y289))","v":0},{"$f":"IF(UserInterface!$E$69 = 1,CHOOSE(m_identity,'SHE-Transmission PLC'!Z289, SPTL!Z289, 'NGET TO'!Z289),CHOOSE(m_identity,'SHE-Transmission PLC (Blank - )'!Z289, 'SPTL (Blank - not used)'!Z289, 'NGET TO (Blank - not used)'!Z289))","v":0},{"$f":"IF(UserInterface!$E$69 = 1,CHOOSE(m_identity,'SHE-Transmission PLC'!AA289, SPTL!AA289, 'NGET TO'!AA289),CHOOSE(m_identity,'SHE-Transmission PLC (Blank - )'!AA289, 'SPTL (Blank - not used)'!AA289, 'NGET TO (Blank - not used)'!AA289))","v":0},{"$f":"IF(UserInterface!$E$69 = 1,CHOOSE(m_identity,'SHE-Transmission PLC'!AB289, SPTL!AB289, 'NGET TO'!AB289),CHOOSE(m_identity,'SHE-Transmission PLC (Blank - )'!AB289, 'SPTL (Blank - not used)'!AB289, 'NGET TO (Blank - not used)'!AB289))","v":0},{"$f":"IF(UserInterface!$E$69 = 1,CHOOSE(m_identity,'SHE-Transmission PLC'!AC289, SPTL!AC289, 'NGET TO'!AC289),CHOOSE(m_identity,'SHE-Transmission PLC (Blank - )'!AC289, 'SPTL (Blank - not used)'!AC289, 'NGET TO (Blank - not used)'!AC289))","v":0},{"$f":"IF(UserInterface!$E$69 = 1,CHOOSE(m_identity,'SHE-Transmission PLC'!AD289, SPTL!AD289, 'NGET TO'!AD289),CHOOSE(m_identity,'SHE-Transmission PLC (Blank - )'!AD289, 'SPTL (Blank - not used)'!AD289, 'NGET TO (Blank - not used)'!AD289))","v":0},{"$f":"IF(UserInterface!$E$69 = 1,CHOOSE(m_identity,'SHE-Transmission PLC'!AE289, SPTL!AE289, 'NGET TO'!AE289),CHOOSE(m_identity,'SHE-Transmission PLC (Blank - )'!AE289, 'SPTL (Blank - not used)'!AE289, 'NGET TO (Blank - not used)'!AE289))","v":0},{"$f":"IF(UserInterface!$E$69 = 1,CHOOSE(m_identity,'SHE-Transmission PLC'!AF289, SPTL!AF289, 'NGET TO'!AF289),CHOOSE(m_identity,'SHE-Transmission PLC (Blank - )'!AF289, 'SPTL (Blank - not used)'!AF289, 'NGET TO (Blank - not used)'!AF289))","v":0},{"$f":"IF(UserInterface!$E$69 = 1,CHOOSE(m_identity,'SHE-Transmission PLC'!AG289, SPTL!AG289, 'NGET TO'!AG289),CHOOSE(m_identity,'SHE-Transmission PLC (Blank - )'!AG289, 'SPTL (Blank - not used)'!AG289, 'NGET TO (Blank - not used)'!AG289))","v":0},{"$f":"IF(UserInterface!$E$69 = 1,CHOOSE(m_identity,'SHE-Transmission PLC'!AH289, SPTL!AH289, 'NGET TO'!AH289),CHOOSE(m_identity,'SHE-Transmission PLC (Blank - )'!AH289, 'SPTL (Blank - not used)'!AH289, 'NGET TO (Blank - not used)'!AH289))","v":0},{"$f":"IF(UserInterface!$E$69 = 1,CHOOSE(m_identity,'SHE-Transmission PLC'!AI289, SPTL!AI289, 'NGET TO'!AI289),CHOOSE(m_identity,'SHE-Transmission PLC (Blank - )'!AI289, 'SPTL (Blank - not used)'!AI289, 'NGET TO (Blank - not used)'!AI289))","v":0},{"$f":"IF(UserInterface!$E$69 = 1,CHOOSE(m_identity,'SHE-Transmission PLC'!AJ289, SPTL!AJ289, 'NGET TO'!AJ289),CHOOSE(m_identity,'SHE-Transmission PLC (Blank - )'!AJ289, 'SPTL (Blank - not used)'!AJ289, 'NGET TO (Blank - not used)'!AJ289))","v":0},{"$f":"IF(UserInterface!$E$69 = 1,CHOOSE(m_identity,'SHE-Transmission PLC'!AK289, SPTL!AK289, 'NGET TO'!AK289),CHOOSE(m_identity,'SHE-Transmission PLC (Blank - )'!AK289, 'SPTL (Blank - not used)'!AK289, 'NGET TO (Blank - not used)'!AK289))","v":0},{"$f":"IF(UserInterface!$E$69 = 1,CHOOSE(m_identity,'SHE-Transmission PLC'!AL289, SPTL!AL289, 'NGET TO'!AL289),CHOOSE(m_identity,'SHE-Transmission PLC (Blank - )'!AL289, 'SPTL (Blank - not used)'!AL289, 'NGET TO (Blank - not used)'!AL289))","v":0},{"$f":"IF(UserInterface!$E$69 = 1,CHOOSE(m_identity,'SHE-Transmission PLC'!AM289, SPTL!AM289, 'NGET TO'!AM289),CHOOSE(m_identity,'SHE-Transmission PLC (Blank - )'!AM289, 'SPTL (Blank - not used)'!AM289, 'NGET TO (Blank - not used)'!AM289))","v":0}]
[null,null,null,null,"TIRG commissioned in 2015 revenue",null,"£m 09/10 prices",null,null,">",null,null,null,null,null,null,null,null,null,null,null,null,null,null,{"$f":"IF(UserInterface!$E$69 = 1,CHOOSE(m_identity,'SHE-Transmission PLC'!Y290, SPTL!Y290, 'NGET TO'!Y290),CHOOSE(m_identity,'SHE-Transmission PLC (Blank - )'!Y290, 'SPTL (Blank - not used)'!Y290, 'NGET TO (Blank - not used)'!Y290))","v":0},{"$f":"IF(UserInterface!$E$69 = 1,CHOOSE(m_identity,'SHE-Transmission PLC'!Z290, SPTL!Z290, 'NGET TO'!Z290),CHOOSE(m_identity,'SHE-Transmission PLC (Blank - )'!Z290, 'SPTL (Blank - not used)'!Z290, 'NGET TO (Blank - not used)'!Z290))","v":0},{"$f":"IF(UserInterface!$E$69 = 1,CHOOSE(m_identity,'SHE-Transmission PLC'!AA290, SPTL!AA290, 'NGET TO'!AA290),CHOOSE(m_identity,'SHE-Transmission PLC (Blank - )'!AA290, 'SPTL (Blank - not used)'!AA290, 'NGET TO (Blank - not used)'!AA290))","v":0},{"$f":"IF(UserInterface!$E$69 = 1,CHOOSE(m_identity,'SHE-Transmission PLC'!AB290, SPTL!AB290, 'NGET TO'!AB290),CHOOSE(m_identity,'SHE-Transmission PLC (Blank - )'!AB290, 'SPTL (Blank - not used)'!AB290, 'NGET TO (Blank - not used)'!AB290))","v":0},{"$f":"IF(UserInterface!$E$69 = 1,CHOOSE(m_identity,'SHE-Transmission PLC'!AC290, SPTL!AC290, 'NGET TO'!AC290),CHOOSE(m_identity,'SHE-Transmission PLC (Blank - )'!AC290, 'SPTL (Blank - not used)'!AC290, 'NGET TO (Blank - not used)'!AC290))","v":0},{"$f":"IF(UserInterface!$E$69 = 1,CHOOSE(m_identity,'SHE-Transmission PLC'!AD290, SPTL!AD290, 'NGET TO'!AD290),CHOOSE(m_identity,'SHE-Transmission PLC (Blank - )'!AD290, 'SPTL (Blank - not used)'!AD290, 'NGET TO (Blank - not used)'!AD290))","v":0},{"$f":"IF(UserInterface!$E$69 = 1,CHOOSE(m_identity,'SHE-Transmission PLC'!AE290, SPTL!AE290, 'NGET TO'!AE290),CHOOSE(m_identity,'SHE-Transmission PLC (Blank - )'!AE290, 'SPTL (Blank - not used)'!AE290, 'NGET TO (Blank - not used)'!AE290))","v":0},{"$f":"IF(UserInterface!$E$69 = 1,CHOOSE(m_identity,'SHE-Transmission PLC'!AF290, SPTL!AF290, 'NGET TO'!AF290),CHOOSE(m_identity,'SHE-Transmission PLC (Blank - )'!AF290, 'SPTL (Blank - not used)'!AF290, 'NGET TO (Blank - not used)'!AF290))","v":0},{"$f":"IF(UserInterface!$E$69 = 1,CHOOSE(m_identity,'SHE-Transmission PLC'!AG290, SPTL!AG290, 'NGET TO'!AG290),CHOOSE(m_identity,'SHE-Transmission PLC (Blank - )'!AG290, 'SPTL (Blank - not used)'!AG290, 'NGET TO (Blank - not used)'!AG290))","v":0},{"$f":"IF(UserInterface!$E$69 = 1,CHOOSE(m_identity,'SHE-Transmission PLC'!AH290, SPTL!AH290, 'NGET TO'!AH290),CHOOSE(m_identity,'SHE-Transmission PLC (Blank - )'!AH290, 'SPTL (Blank - not used)'!AH290, 'NGET TO (Blank - not used)'!AH290))","v":0},{"$f":"IF(UserInterface!$E$69 = 1,CHOOSE(m_identity,'SHE-Transmission PLC'!AI290, SPTL!AI290, 'NGET TO'!AI290),CHOOSE(m_identity,'SHE-Transmission PLC (Blank - )'!AI290, 'SPTL (Blank - not used)'!AI290, 'NGET TO (Blank - not used)'!AI290))","v":0},{"$f":"IF(UserInterface!$E$69 = 1,CHOOSE(m_identity,'SHE-Transmission PLC'!AJ290, SPTL!AJ290, 'NGET TO'!AJ290),CHOOSE(m_identity,'SHE-Transmission PLC (Blank - )'!AJ290, 'SPTL (Blank - not used)'!AJ290, 'NGET TO (Blank - not used)'!AJ290))","v":0},{"$f":"IF(UserInterface!$E$69 = 1,CHOOSE(m_identity,'SHE-Transmission PLC'!AK290, SPTL!AK290, 'NGET TO'!AK290),CHOOSE(m_identity,'SHE-Transmission PLC (Blank - )'!AK290, 'SPTL (Blank - not used)'!AK290, 'NGET TO (Blank - not used)'!AK290))","v":0},{"$f":"IF(UserInterface!$E$69 = 1,CHOOSE(m_identity,'SHE-Transmission PLC'!AL290, SPTL!AL290, 'NGET TO'!AL290),CHOOSE(m_identity,'SHE-Transmission PLC (Blank - )'!AL290, 'SPTL (Blank - not used)'!AL290, 'NGET TO (Blank - not used)'!AL290))","v":0},{"$f":"IF(UserInterface!$E$69 = 1,CHOOSE(m_identity,'SHE-Transmission PLC'!AM290, SPTL!AM290, 'NGET TO'!AM290),CHOOSE(m_identity,'SHE-Transmission PLC (Blank - )'!AM290, 'SPTL (Blank - not used)'!AM290, 'NGET TO (Blank - not used)'!AM290))","v":0},{"$f":"IF(UserInterface!$E$69 = 1,CHOOSE(m_identity,'SHE-Transmission PLC'!AN290, SPTL!AN290, 'NGET TO'!AN290),CHOOSE(m_identity,'SHE-Transmission PLC (Blank - )'!AN290, 'SPTL (Blank - not used)'!AN290, 'NGET TO (Blank - not used)'!AN290))","v":0}]
[null,null,null,null,"TIRG commissioned in 2016 revenue",null,"£m 09/10 prices",null,null,">",null,null,null,null,null,null,null,null,null,null,null,null,null,null,{"$f":"IF(UserInterface!$E$69 = 1,CHOOSE(m_identity,'SHE-Transmission PLC'!Y291, SPTL!Y291, 'NGET TO'!Y291),CHOOSE(m_identity,'SHE-Transmission PLC (Blank - )'!Y291, 'SPTL (Blank - not used)'!Y291, 'NGET TO (Blank - not used)'!Y291))","v":0},{"$f":"IF(UserInterface!$E$69 = 1,CHOOSE(m_identity,'SHE-Transmission PLC'!Z291, SPTL!Z291, 'NGET TO'!Z291),CHOOSE(m_identity,'SHE-Transmission PLC (Blank - )'!Z291, 'SPTL (Blank - not used)'!Z291, 'NGET TO (Blank - not used)'!Z291))","v":0},{"$f":"IF(UserInterface!$E$69 = 1,CHOOSE(m_identity,'SHE-Transmission PLC'!AA291, SPTL!AA291, 'NGET TO'!AA291),CHOOSE(m_identity,'SHE-Transmission PLC (Blank - )'!AA291, 'SPTL (Blank - not used)'!AA291, 'NGET TO (Blank - not used)'!AA291))","v":0},{"$f":"IF(UserInterface!$E$69 = 1,CHOOSE(m_identity,'SHE-Transmission PLC'!AB291, SPTL!AB291, 'NGET TO'!AB291),CHOOSE(m_identity,'SHE-Transmission PLC (Blank - )'!AB291, 'SPTL (Blank - not used)'!AB291, 'NGET TO (Blank - not used)'!AB291))","v":0},{"$f":"IF(UserInterface!$E$69 = 1,CHOOSE(m_identity,'SHE-Transmission PLC'!AC291, SPTL!AC291, 'NGET TO'!AC291),CHOOSE(m_identity,'SHE-Transmission PLC (Blank - )'!AC291, 'SPTL (Blank - not used)'!AC291, 'NGET TO (Blank - not used)'!AC291))","v":0},{"$f":"IF(UserInterface!$E$69 = 1,CHOOSE(m_identity,'SHE-Transmission PLC'!AD291, SPTL!AD291, 'NGET TO'!AD291),CHOOSE(m_identity,'SHE-Transmission PLC (Blank - )'!AD291, 'SPTL (Blank - not used)'!AD291, 'NGET TO (Blank - not used)'!AD291))","v":0},{"$f":"IF(UserInterface!$E$69 = 1,CHOOSE(m_identity,'SHE-Transmission PLC'!AE291, SPTL!AE291, 'NGET TO'!AE291),CHOOSE(m_identity,'SHE-Transmission PLC (Blank - )'!AE291, 'SPTL (Blank - not used)'!AE291, 'NGET TO (Blank - not used)'!AE291))","v":0},{"$f":"IF(UserInterface!$E$69 = 1,CHOOSE(m_identity,'SHE-Transmission PLC'!AF291, SPTL!AF291, 'NGET TO'!AF291),CHOOSE(m_identity,'SHE-Transmission PLC (Blank - )'!AF291, 'SPTL (Blank - not used)'!AF291, 'NGET TO (Blank - not used)'!AF291))","v":0},{"$f":"IF(UserInterface!$E$69 = 1,CHOOSE(m_identity,'SHE-Transmission PLC'!AG291, SPTL!AG291, 'NGET TO'!AG291),CHOOSE(m_identity,'SHE-Transmission PLC (Blank - )'!AG291, 'SPTL (Blank - not used)'!AG291, 'NGET TO (Blank - not used)'!AG291))","v":0},{"$f":"IF(UserInterface!$E$69 = 1,CHOOSE(m_identity,'SHE-Transmission PLC'!AH291, SPTL!AH291, 'NGET TO'!AH291),CHOOSE(m_identity,'SHE-Transmission PLC (Blank - )'!AH291, 'SPTL (Blank - not used)'!AH291, 'NGET TO (Blank - not used)'!AH291))","v":0},{"$f":"IF(UserInterface!$E$69 = 1,CHOOSE(m_identity,'SHE-Transmission PLC'!AI291, SPTL!AI291, 'NGET TO'!AI291),CHOOSE(m_identity,'SHE-Transmission PLC (Blank - )'!AI291, 'SPTL (Blank - not used)'!AI291, 'NGET TO (Blank - not used)'!AI291))","v":0},{"$f":"IF(UserInterface!$E$69 = 1,CHOOSE(m_identity,'SHE-Transmission PLC'!AJ291, SPTL!AJ291, 'NGET TO'!AJ291),CHOOSE(m_identity,'SHE-Transmission PLC (Blank - )'!AJ291, 'SPTL (Blank - not used)'!AJ291, 'NGET TO (Blank - not used)'!AJ291))","v":0},{"$f":"IF(UserInterface!$E$69 = 1,CHOOSE(m_identity,'SHE-Transmission PLC'!AK291, SPTL!AK291, 'NGET TO'!AK291),CHOOSE(m_identity,'SHE-Transmission PLC (Blank - )'!AK291, 'SPTL (Blank - not used)'!AK291, 'NGET TO (Blank - not used)'!AK291))","v":0},{"$f":"IF(UserInterface!$E$69 = 1,CHOOSE(m_identity,'SHE-Transmission PLC'!AL291, SPTL!AL291, 'NGET TO'!AL291),CHOOSE(m_identity,'SHE-Transmission PLC (Blank - )'!AL291, 'SPTL (Blank - not used)'!AL291, 'NGET TO (Blank - not used)'!AL291))","v":0},{"$f":"IF(UserInterface!$E$69 = 1,CHOOSE(m_identity,'SHE-Transmission PLC'!AM291, SPTL!AM291, 'NGET TO'!AM291),CHOOSE(m_identity,'SHE-Transmission PLC (Blank - )'!AM291, 'SPTL (Blank - not used)'!AM291, 'NGET TO (Blank - not used)'!AM291))","v":0},{"$f":"IF(UserInterface!$E$69 = 1,CHOOSE(m_identity,'SHE-Transmission PLC'!AN291, SPTL!AN291, 'NGET TO'!AN291),CHOOSE(m_identity,'SHE-Transmission PLC (Blank - )'!AN291, 'SPTL (Blank - not used)'!AN291, 'NGET TO (Blank - not used)'!AN291))","v":0},{"$f":"IF(UserInterface!$E$69 = 1,CHOOSE(m_identity,'SHE-Transmission PLC'!AO291, SPTL!AO291, 'NGET TO'!AO291),CHOOSE(m_identity,'SHE-Transmission PLC (Blank - )'!AO291, 'SPTL (Blank - not used)'!AO291, 'NGET TO (Blank - not used)'!AO291))","v":0}]
[null,null,null,null,"TIRG commissioned in 2017 revenue",null,"£m 09/10 prices",null,null,">",null,null,null,null,null,null,null,null,null,null,null,null,null,null,{"$f":"IF(UserInterface!$E$69 = 1,CHOOSE(m_identity,'SHE-Transmission PLC'!Y292, SPTL!Y292, 'NGET TO'!Y292),CHOOSE(m_identity,'SHE-Transmission PLC (Blank - )'!Y292, 'SPTL (Blank - not used)'!Y292, 'NGET TO (Blank - not used)'!Y292))","v":0},{"$f":"IF(UserInterface!$E$69 = 1,CHOOSE(m_identity,'SHE-Transmission PLC'!Z292, SPTL!Z292, 'NGET TO'!Z292),CHOOSE(m_identity,'SHE-Transmission PLC (Blank - )'!Z292, 'SPTL (Blank - not used)'!Z292, 'NGET TO (Blank - not used)'!Z292))","v":0},{"$f":"IF(UserInterface!$E$69 = 1,CHOOSE(m_identity,'SHE-Transmission PLC'!AA292, SPTL!AA292, 'NGET TO'!AA292),CHOOSE(m_identity,'SHE-Transmission PLC (Blank - )'!AA292, 'SPTL (Blank - not used)'!AA292, 'NGET TO (Blank - not used)'!AA292))","v":0},{"$f":"IF(UserInterface!$E$69 = 1,CHOOSE(m_identity,'SHE-Transmission PLC'!AB292, SPTL!AB292, 'NGET TO'!AB292),CHOOSE(m_identity,'SHE-Transmission PLC (Blank - )'!AB292, 'SPTL (Blank - not used)'!AB292, 'NGET TO (Blank - not used)'!AB292))","v":0},{"$f":"IF(UserInterface!$E$69 = 1,CHOOSE(m_identity,'SHE-Transmission PLC'!AC292, SPTL!AC292, 'NGET TO'!AC292),CHOOSE(m_identity,'SHE-Transmission PLC (Blank - )'!AC292, 'SPTL (Blank - not used)'!AC292, 'NGET TO (Blank - not used)'!AC292))","v":0},{"$f":"IF(UserInterface!$E$69 = 1,CHOOSE(m_identity,'SHE-Transmission PLC'!AD292, SPTL!AD292, 'NGET TO'!AD292),CHOOSE(m_identity,'SHE-Transmission PLC (Blank - )'!AD292, 'SPTL (Blank - not used)'!AD292, 'NGET TO (Blank - not used)'!AD292))","v":0},{"$f":"IF(UserInterface!$E$69 = 1,CHOOSE(m_identity,'SHE-Transmission PLC'!AE292, SPTL!AE292, 'NGET TO'!AE292),CHOOSE(m_identity,'SHE-Transmission PLC (Blank - )'!AE292, 'SPTL (Blank - not used)'!AE292, 'NGET TO (Blank - not used)'!AE292))","v":0},{"$f":"IF(UserInterface!$E$69 = 1,CHOOSE(m_identity,'SHE-Transmission PLC'!AF292, SPTL!AF292, 'NGET TO'!AF292),CHOOSE(m_identity,'SHE-Transmission PLC (Blank - )'!AF292, 'SPTL (Blank - not used)'!AF292, 'NGET TO (Blank - not used)'!AF292))","v":0},{"$f":"IF(UserInterface!$E$69 = 1,CHOOSE(m_identity,'SHE-Transmission PLC'!AG292, SPTL!AG292, 'NGET TO'!AG292),CHOOSE(m_identity,'SHE-Transmission PLC (Blank - )'!AG292, 'SPTL (Blank - not used)'!AG292, 'NGET TO (Blank - not used)'!AG292))","v":0},{"$f":"IF(UserInterface!$E$69 = 1,CHOOSE(m_identity,'SHE-Transmission PLC'!AH292, SPTL!AH292, 'NGET TO'!AH292),CHOOSE(m_identity,'SHE-Transmission PLC (Blank - )'!AH292, 'SPTL (Blank - not used)'!AH292, 'NGET TO (Blank - not used)'!AH292))","v":0},{"$f":"IF(UserInterface!$E$69 = 1,CHOOSE(m_identity,'SHE-Transmission PLC'!AI292, SPTL!AI292, 'NGET TO'!AI292),CHOOSE(m_identity,'SHE-Transmission PLC (Blank - )'!AI292, 'SPTL (Blank - not used)'!AI292, 'NGET TO (Blank - not used)'!AI292))","v":0},{"$f":"IF(UserInterface!$E$69 = 1,CHOOSE(m_identity,'SHE-Transmission PLC'!AJ292, SPTL!AJ292, 'NGET TO'!AJ292),CHOOSE(m_identity,'SHE-Transmission PLC (Blank - )'!AJ292, 'SPTL (Blank - not used)'!AJ292, 'NGET TO (Blank - not used)'!AJ292))","v":0},{"$f":"IF(UserInterface!$E$69 = 1,CHOOSE(m_identity,'SHE-Transmission PLC'!AK292, SPTL!AK292, 'NGET TO'!AK292),CHOOSE(m_identity,'SHE-Transmission PLC (Blank - )'!AK292, 'SPTL (Blank - not used)'!AK292, 'NGET TO (Blank - not used)'!AK292))","v":0},{"$f":"IF(UserInterface!$E$69 = 1,CHOOSE(m_identity,'SHE-Transmission PLC'!AL292, SPTL!AL292, 'NGET TO'!AL292),CHOOSE(m_identity,'SHE-Transmission PLC (Blank - )'!AL292, 'SPTL (Blank - not used)'!AL292, 'NGET TO (Blank - not used)'!AL292))","v":0},{"$f":"IF(UserInterface!$E$69 = 1,CHOOSE(m_identity,'SHE-Transmission PLC'!AM292, SPTL!AM292, 'NGET TO'!AM292),CHOOSE(m_identity,'SHE-Transmission PLC (Blank - )'!AM292, 'SPTL (Blank - not used)'!AM292, 'NGET TO (Blank - not used)'!AM292))","v":0},{"$f":"IF(UserInterface!$E$69 = 1,CHOOSE(m_identity,'SHE-Transmission PLC'!AN292, SPTL!AN292, 'NGET TO'!AN292),CHOOSE(m_identity,'SHE-Transmission PLC (Blank - )'!AN292, 'SPTL (Blank - not used)'!AN292, 'NGET TO (Blank - not used)'!AN292))","v":0},{"$f":"IF(UserInterface!$E$69 = 1,CHOOSE(m_identity,'SHE-Transmission PLC'!AO292, SPTL!AO292, 'NGET TO'!AO292),CHOOSE(m_identity,'SHE-Transmission PLC (Blank - )'!AO292, 'SPTL (Blank - not used)'!AO292, 'NGET TO (Blank - not used)'!AO292))","v":0}]
[]
[null,"Tax"]
[]
[null,null,"Tax policy"]
[]
[null,null,null,null,{"$f":"E27","v":"Tax liability - gearing/interest costs"},null,"£m nominal",null,null,null,null,null,null,null,null,null,null,null,null,null,null,null,null,null,null,null,null,null,null,null,null,null,null,{"$f":"AH27","v":0},{"$f":"AI27","v":0},0,0,0,0,0,0]
[null,null,null,null,{"$f":"E28","v":"Tax liability - tax trigger events"},null,"£m 09/10 prices",null,null,null,null,null,null,null,null,null,null,null,null,null,null,null,null,null,null,null,null,null,null,null,null,null,null,{"$f":"AH28","v":0},{"$f":"AI28","v":0},0,0,0,0,0,0]
[]
[null,null,null,null,"Corporation tax rate",null,"%",null,null,">",null,null,null,null,null,null,null,null,null,null,null,null,null,null,{"$f":"IF(UserInterface!$E$69 = 1,CHOOSE(m_identity,'SHE-Transmission PLC'!Y301, SPTL!Y301, 'NGET TO'!Y301),CHOOSE(m_identity,'SHE-Transmission PLC (Blank - )'!Y301, 'SPTL (Blank - not used)'!Y301, 'NGET TO (Blank - not used)'!Y301))","v":0.3},{"$f":"IF(UserInterface!$E$69 = 1,CHOOSE(m_identity,'SHE-Transmission PLC'!Z301, SPTL!Z301, 'NGET TO'!Z301),CHOOSE(m_identity,'SHE-Transmission PLC (Blank - )'!Z301, 'SPTL (Blank - not used)'!Z301, 'NGET TO (Blank - not used)'!Z301))","v":0.3},{"$f":"IF(UserInterface!$E$69 = 1,CHOOSE(m_identity,'SHE-Transmission PLC'!AA301, SPTL!AA301, 'NGET TO'!AA301),CHOOSE(m_identity,'SHE-Transmission PLC (Blank - )'!AA301, 'SPTL (Blank - not used)'!AA301, 'NGET TO (Blank - not used)'!AA301))","v":0.3},{"$f":"IF(UserInterface!$E$69 = 1,CHOOSE(m_identity,'SHE-Transmission PLC'!AB301, SPTL!AB301, 'NGET TO'!AB301),CHOOSE(m_identity,'SHE-Transmission PLC (Blank - )'!AB301, 'SPTL (Blank - not used)'!AB301, 'NGET TO (Blank - not used)'!AB301))","v":0.3},{"$f":"IF(UserInterface!$E$69 = 1,CHOOSE(m_identity,'SHE-Transmission PLC'!AC301, SPTL!AC301, 'NGET TO'!AC301),CHOOSE(m_identity,'SHE-Transmission PLC (Blank - )'!AC301, 'SPTL (Blank - not used)'!AC301, 'NGET TO (Blank - not used)'!AC301))","v":0.28000000000000003},{"$f":"IF(UserInterface!$E$69 = 1,CHOOSE(m_identity,'SHE-Transmission PLC'!AD301, SPTL!AD301, 'NGET TO'!AD301),CHOOSE(m_identity,'SHE-Transmission PLC (Blank - )'!AD301, 'SPTL (Blank - not used)'!AD301, 'NGET TO (Blank - not used)'!AD301))","v":0.28000000000000003},{"$f":"IF(UserInterface!$E$69 = 1,CHOOSE(m_identity,'SHE-Transmission PLC'!AE301, SPTL!AE301, 'NGET TO'!AE301),CHOOSE(m_identity,'SHE-Transmission PLC (Blank - )'!AE301, 'SPTL (Blank - not used)'!AE301, 'NGET TO (Blank - not used)'!AE301))","v":0.28000000000000003},{"$f":"IF(UserInterface!$E$69 = 1,CHOOSE(m_identity,'SHE-Transmission PLC'!AF301, SPTL!AF301, 'NGET TO'!AF301),CHOOSE(m_identity,'SHE-Transmission PLC (Blank - )'!AF301, 'SPTL (Blank - not used)'!AF301, 'NGET TO (Blank - not used)'!AF301))","v":0.26},{"$f":"IF(UserInterface!$E$69 = 1,CHOOSE(m_identity,'SHE-Transmission PLC'!AG301, SPTL!AG301, 'NGET TO'!AG301),CHOOSE(m_identity,'SHE-Transmission PLC (Blank - )'!AG301, 'SPTL (Blank - not used)'!AG301, 'NGET TO (Blank - not used)'!AG301))","v":0.24},{"$f":"IF(UserInterface!$E$69 = 1,CHOOSE(m_identity,'SHE-Transmission PLC'!AH301, SPTL!AH301, 'NGET TO'!AH301),CHOOSE(m_identity,'SHE-Transmission PLC (Blank - )'!AH301, 'SPTL (Blank - not used)'!AH301, 'NGET TO (Blank - not used)'!AH301))","v":0.23},{"$f":"IF(UserInterface!$E$69 = 1,CHOOSE(m_identity,'SHE-Transmission PLC'!AI301, SPTL!AI301, 'NGET TO'!AI301),CHOOSE(m_identity,'SHE-Transmission PLC (Blank - )'!AI301, 'SPTL (Blank - not used)'!AI301, 'NGET TO (Blank - not used)'!AI301))","v":0.21},{"$f":"IF(UserInterface!$E$69 = 1,CHOOSE(m_identity,'SHE-Transmission PLC'!AJ301, SPTL!AJ301, 'NGET TO'!AJ301),CHOOSE(m_identity,'SHE-Transmission PLC (Blank - )'!AJ301, 'SPTL (Blank - not used)'!AJ301, 'NGET TO (Blank - not used)'!AJ301))","v":0.21},{"$f":"IF(UserInterface!$E$69 = 1,CHOOSE(m_identity,'SHE-Transmission PLC'!AK301, SPTL!AK301, 'NGET TO'!AK301),CHOOSE(m_identity,'SHE-Transmission PLC (Blank - )'!AK301, 'SPTL (Blank - not used)'!AK301, 'NGET TO (Blank - not used)'!AK301))","v":0.21},{"$f":"IF(UserInterface!$E$69 = 1,CHOOSE(m_identity,'SHE-Transmission PLC'!AL301, SPTL!AL301, 'NGET TO'!AL301),CHOOSE(m_identity,'SHE-Transmission PLC (Blank - )'!AL301, 'SPTL (Blank - not used)'!AL301, 'NGET TO (Blank - not used)'!AL301))","v":0.21},{"$f":"IF(UserInterface!$E$69 = 1,CHOOSE(m_identity,'SHE-Transmission PLC'!AM301, SPTL!AM301, 'NGET TO'!AM301),CHOOSE(m_identity,'SHE-Transmission PLC (Blank - )'!AM301, 'SPTL (Blank - not used)'!AM301, 'NGET TO (Blank - not used)'!AM301))","v":0.21},{"$f":"IF(UserInterface!$E$69 = 1,CHOOSE(m_identity,'SHE-Transmission PLC'!AN301, SPTL!AN301, 'NGET TO'!AN301),CHOOSE(m_identity,'SHE-Transmission PLC (Blank - )'!AN301, 'SPTL (Blank - not used)'!AN301, 'NGET TO (Blank - not used)'!AN301))","v":0.21},{"$f":"IF(UserInterface!$E$69 = 1,CHOOSE(m_identity,'SHE-Transmission PLC'!AO301, SPTL!AO301, 'NGET TO'!AO301),CHOOSE(m_identity,'SHE-Transmission PLC (Blank - )'!AO301, 'SPTL (Blank - not used)'!AO301, 'NGET TO (Blank - not used)'!AO301))","v":0.21}]
[]
[null,null,null,null,"General pool capital allowance rate",null,"%",null,null,">",null,null,null,null,null,null,null,null,null,null,null,{"$f":"IF(UserInterface!$E$69 = 1,CHOOSE(m_identity,'SHE-Transmission PLC'!V303, SPTL!V303, 'NGET TO'!V303),CHOOSE(m_identity,'SHE-Transmission PLC (Blank - )'!V303, 'SPTL (Blank - not used)'!V303, 'NGET TO (Blank - not used)'!V303))","v":0.25},{"$f":"IF(UserInterface!$E$69 = 1,CHOOSE(m_identity,'SHE-Transmission PLC'!W303, SPTL!W303, 'NGET TO'!W303),CHOOSE(m_identity,'SHE-Transmission PLC (Blank - )'!W303, 'SPTL (Blank - not used)'!W303, 'NGET TO (Blank - not used)'!W303))","v":0.25},{"$f":"IF(UserInterface!$E$69 = 1,CHOOSE(m_identity,'SHE-Transmission PLC'!X303, SPTL!X303, 'NGET TO'!X303),CHOOSE(m_identity,'SHE-Transmission PLC (Blank - )'!X303, 'SPTL (Blank - not used)'!X303, 'NGET TO (Blank - not used)'!X303))","v":0.25},{"$f":"IF(UserInterface!$E$69 = 1,CHOOSE(m_identity,'SHE-Transmission PLC'!Y303, SPTL!Y303, 'NGET TO'!Y303),CHOOSE(m_identity,'SHE-Transmission PLC (Blank - )'!Y303, 'SPTL (Blank - not used)'!Y303, 'NGET TO (Blank - not used)'!Y303))","v":0.25},{"$f":"IF(UserInterface!$E$69 = 1,CHOOSE(m_identity,'SHE-Transmission PLC'!Z303, SPTL!Z303, 'NGET TO'!Z303),CHOOSE(m_identity,'SHE-Transmission PLC (Blank - )'!Z303, 'SPTL (Blank - not used)'!Z303, 'NGET TO (Blank - not used)'!Z303))","v":0.25},{"$f":"IF(UserInterface!$E$69 = 1,CHOOSE(m_identity,'SHE-Transmission PLC'!AA303, SPTL!AA303, 'NGET TO'!AA303),CHOOSE(m_identity,'SHE-Transmission PLC (Blank - )'!AA303, 'SPTL (Blank - not used)'!AA303, 'NGET TO (Blank - not used)'!AA303))","v":0.25},{"$f":"IF(UserInterface!$E$69 = 1,CHOOSE(m_identity,'SHE-Transmission PLC'!AB303, SPTL!AB303, 'NGET TO'!AB303),CHOOSE(m_identity,'SHE-Transmission PLC (Blank - )'!AB303, 'SPTL (Blank - not used)'!AB303, 'NGET TO (Blank - not used)'!AB303))","v":0.25},{"$f":"IF(UserInterface!$E$69 = 1,CHOOSE(m_identity,'SHE-Transmission PLC'!AC303, SPTL!AC303, 'NGET TO'!AC303),CHOOSE(m_identity,'SHE-Transmission PLC (Blank - )'!AC303, 'SPTL (Blank - not used)'!AC303, 'NGET TO (Blank - not used)'!AC303))","v":0.2},{"$f":"IF(UserInterface!$E$69 = 1,CHOOSE(m_identity,'SHE-Transmission PLC'!AD303, SPTL!AD303, 'NGET TO'!AD303),CHOOSE(m_identity,'SHE-Transmission PLC (Blank - )'!AD303, 'SPTL (Blank - not used)'!AD303, 'NGET TO (Blank - not used)'!AD303))","v":0.2},{"$f":"IF(UserInterface!$E$69 = 1,CHOOSE(m_identity,'SHE-Transmission PLC'!AE303, SPTL!AE303, 'NGET TO'!AE303),CHOOSE(m_identity,'SHE-Transmission PLC (Blank - )'!AE303, 'SPTL (Blank - not used)'!AE303, 'NGET TO (Blank - not used)'!AE303))","v":0.2},{"$f":"IF(UserInterface!$E$69 = 1,CHOOSE(m_identity,'SHE-Transmission PLC'!AF303, SPTL!AF303, 'NGET TO'!AF303),CHOOSE(m_identity,'SHE-Transmission PLC (Blank - )'!AF303, 'SPTL (Blank - not used)'!AF303, 'NGET TO (Blank - not used)'!AF303))","v":0.2},{"$f":"IF(UserInterface!$E$69 = 1,CHOOSE(m_identity,'SHE-Transmission PLC'!AG303, SPTL!AG303, 'NGET TO'!AG303),CHOOSE(m_identity,'SHE-Transmission PLC (Blank - )'!AG303, 'SPTL (Blank - not used)'!AG303, 'NGET TO (Blank - not used)'!AG303))","v":0.18000000000000002},{"$f":"IF(UserInterface!$E$69 = 1,CHOOSE(m_identity,'SHE-Transmission PLC'!AH303, SPTL!AH303, 'NGET TO'!AH303),CHOOSE(m_identity,'SHE-Transmission PLC (Blank - )'!AH303, 'SPTL (Blank - not used)'!AH303, 'NGET TO (Blank - not used)'!AH303))","v":0.18000000000000002},{"$f":"IF(UserInterface!$E$69 = 1,CHOOSE(m_identity,'SHE-Transmission PLC'!AI303, SPTL!AI303, 'NGET TO'!AI303),CHOOSE(m_identity,'SHE-Transmission PLC (Blank - )'!AI303, 'SPTL (Blank - not used)'!AI303, 'NGET TO (Blank - not used)'!AI303))","v":0.18000000000000002},{"$f":"IF(UserInterface!$E$69 = 1,CHOOSE(m_identity,'SHE-Transmission PLC'!AJ303, SPTL!AJ303, 'NGET TO'!AJ303),CHOOSE(m_identity,'SHE-Transmission PLC (Blank - )'!AJ303, 'SPTL (Blank - not used)'!AJ303, 'NGET TO (Blank - not used)'!AJ303))","v":0.18000000000000002},{"$f":"IF(UserInterface!$E$69 = 1,CHOOSE(m_identity,'SHE-Transmission PLC'!AK303, SPTL!AK303, 'NGET TO'!AK303),CHOOSE(m_identity,'SHE-Transmission PLC (Blank - )'!AK303, 'SPTL (Blank - not used)'!AK303, 'NGET TO (Blank - not used)'!AK303))","v":0.18000000000000002},{"$f":"IF(UserInterface!$E$69 = 1,CHOOSE(m_identity,'SHE-Transmission PLC'!AL303, SPTL!AL303, 'NGET TO'!AL303),CHOOSE(m_identity,'SHE-Transmission PLC (Blank - )'!AL303, 'SPTL (Blank - not used)'!AL303, 'NGET TO (Blank - not used)'!AL303))","v":0.18000000000000002},{"$f":"IF(UserInterface!$E$69 = 1,CHOOSE(m_identity,'SHE-Transmission PLC'!AM303, SPTL!AM303, 'NGET TO'!AM303),CHOOSE(m_identity,'SHE-Transmission PLC (Blank - )'!AM303, 'SPTL (Blank - not used)'!AM303, 'NGET TO (Blank - not used)'!AM303))","v":0.18000000000000002},{"$f":"IF(UserInterface!$E$69 = 1,CHOOSE(m_identity,'SHE-Transmission PLC'!AN303, SPTL!AN303, 'NGET TO'!AN303),CHOOSE(m_identity,'SHE-Transmission PLC (Blank - )'!AN303, 'SPTL (Blank - not used)'!AN303, 'NGET TO (Blank - not used)'!AN303))","v":0.18000000000000002},{"$f":"IF(UserInterface!$E$69 = 1,CHOOSE(m_identity,'SHE-Transmission PLC'!AO303, SPTL!AO303, 'NGET TO'!AO303),CHOOSE(m_identity,'SHE-Transmission PLC (Blank - )'!AO303, 'SPTL (Blank - not used)'!AO303, 'NGET TO (Blank - not used)'!AO303))","v":0.18000000000000002}]
[null,null,null,null,"Special Rates capital allowance rate",null,"%",null,null,">",null,null,null,null,null,null,null,null,null,null,null,{"$f":"IF(UserInterface!$E$69 = 1,CHOOSE(m_identity,'SHE-Transmission PLC'!V304, SPTL!V304, 'NGET TO'!V304),CHOOSE(m_identity,'SHE-Transmission PLC (Blank - )'!V304, 'SPTL (Blank - not used)'!V304, 'NGET TO (Blank - not used)'!V304))","v":0.06},{"$f":"IF(UserInterface!$E$69 = 1,CHOOSE(m_identity,'SHE-Transmission PLC'!W304, SPTL!W304, 'NGET TO'!W304),CHOOSE(m_identity,'SHE-Transmission PLC (Blank - )'!W304, 'SPTL (Blank - not used)'!W304, 'NGET TO (Blank - not used)'!W304))","v":0.06},{"$f":"IF(UserInterface!$E$69 = 1,CHOOSE(m_identity,'SHE-Transmission PLC'!X304, SPTL!X304, 'NGET TO'!X304),CHOOSE(m_identity,'SHE-Transmission PLC (Blank - )'!X304, 'SPTL (Blank - not used)'!X304, 'NGET TO (Blank - not used)'!X304))","v":0.06},{"$f":"IF(UserInterface!$E$69 = 1,CHOOSE(m_identity,'SHE-Transmission PLC'!Y304, SPTL!Y304, 'NGET TO'!Y304),CHOOSE(m_identity,'SHE-Transmission PLC (Blank - )'!Y304, 'SPTL (Blank - not used)'!Y304, 'NGET TO (Blank - not used)'!Y304))","v":0.06},{"$f":"IF(UserInterface!$E$69 = 1,CHOOSE(m_identity,'SHE-Transmission PLC'!Z304, SPTL!Z304, 'NGET TO'!Z304),CHOOSE(m_identity,'SHE-Transmission PLC (Blank - )'!Z304, 'SPTL (Blank - not used)'!Z304, 'NGET TO (Blank - not used)'!Z304))","v":0.06},{"$f":"IF(UserInterface!$E$69 = 1,CHOOSE(m_identity,'SHE-Transmission PLC'!AA304, SPTL!AA304, 'NGET TO'!AA304),CHOOSE(m_identity,'SHE-Transmission PLC (Blank - )'!AA304, 'SPTL (Blank - not used)'!AA304, 'NGET TO (Blank - not used)'!AA304))","v":0.06},{"$f":"IF(UserInterface!$E$69 = 1,CHOOSE(m_identity,'SHE-Transmission PLC'!AB304, SPTL!AB304, 'NGET TO'!AB304),CHOOSE(m_identity,'SHE-Transmission PLC (Blank - )'!AB304, 'SPTL (Blank - not used)'!AB304, 'NGET TO (Blank - not used)'!AB304))","v":0.06},{"$f":"IF(UserInterface!$E$69 = 1,CHOOSE(m_identity,'SHE-Transmission PLC'!AC304, SPTL!AC304, 'NGET TO'!AC304),CHOOSE(m_identity,'SHE-Transmission PLC (Blank - )'!AC304, 'SPTL (Blank - not used)'!AC304, 'NGET TO (Blank - not used)'!AC304))","v":0.1},{"$f":"IF(UserInterface!$E$69 = 1,CHOOSE(m_identity,'SHE-Transmission PLC'!AD304, SPTL!AD304, 'NGET TO'!AD304),CHOOSE(m_identity,'SHE-Transmission PLC (Blank - )'!AD304, 'SPTL (Blank - not used)'!AD304, 'NGET TO (Blank - not used)'!AD304))","v":0.1},{"$f":"IF(UserInterface!$E$69 = 1,CHOOSE(m_identity,'SHE-Transmission PLC'!AE304, SPTL!AE304, 'NGET TO'!AE304),CHOOSE(m_identity,'SHE-Transmission PLC (Blank - )'!AE304, 'SPTL (Blank - not used)'!AE304, 'NGET TO (Blank - not used)'!AE304))","v":0.1},{"$f":"IF(UserInterface!$E$69 = 1,CHOOSE(m_identity,'SHE-Transmission PLC'!AF304, SPTL!AF304, 'NGET TO'!AF304),CHOOSE(m_identity,'SHE-Transmission PLC (Blank - )'!AF304, 'SPTL (Blank - not used)'!AF304, 'NGET TO (Blank - not used)'!AF304))","v":0.1},{"$f":"IF(UserInterface!$E$69 = 1,CHOOSE(m_identity,'SHE-Transmission PLC'!AG304, SPTL!AG304, 'NGET TO'!AG304),CHOOSE(m_identity,'SHE-Transmission PLC (Blank - )'!AG304, 'SPTL (Blank - not used)'!AG304, 'NGET TO (Blank - not used)'!AG304))","v":0.08},{"$f":"IF(UserInterface!$E$69 = 1,CHOOSE(m_identity,'SHE-Transmission PLC'!AH304, SPTL!AH304, 'NGET TO'!AH304),CHOOSE(m_identity,'SHE-Transmission PLC (Blank - )'!AH304, 'SPTL (Blank - not used)'!AH304, 'NGET TO (Blank - not used)'!AH304))","v":0.08},{"$f":"IF(UserInterface!$E$69 = 1,CHOOSE(m_identity,'SHE-Transmission PLC'!AI304, SPTL!AI304, 'NGET TO'!AI304),CHOOSE(m_identity,'SHE-Transmission PLC (Blank - )'!AI304, 'SPTL (Blank - not used)'!AI304, 'NGET TO (Blank - not used)'!AI304))","v":0.08},{"$f":"IF(UserInterface!$E$69 = 1,CHOOSE(m_identity,'SHE-Transmission PLC'!AJ304, SPTL!AJ304, 'NGET TO'!AJ304),CHOOSE(m_identity,'SHE-Transmission PLC (Blank - )'!AJ304, 'SPTL (Blank - not used)'!AJ304, 'NGET TO (Blank - not used)'!AJ304))","v":0.08},{"$f":"IF(UserInterface!$E$69 = 1,CHOOSE(m_identity,'SHE-Transmission PLC'!AK304, SPTL!AK304, 'NGET TO'!AK304),CHOOSE(m_identity,'SHE-Transmission PLC (Blank - )'!AK304, 'SPTL (Blank - not used)'!AK304, 'NGET TO (Blank - not used)'!AK304))","v":0.08},{"$f":"IF(UserInterface!$E$69 = 1,CHOOSE(m_identity,'SHE-Transmission PLC'!AL304, SPTL!AL304, 'NGET TO'!AL304),CHOOSE(m_identity,'SHE-Transmission PLC (Blank - )'!AL304, 'SPTL (Blank - not used)'!AL304, 'NGET TO (Blank - not used)'!AL304))","v":0.08},{"$f":"IF(UserInterface!$E$69 = 1,CHOOSE(m_identity,'SHE-Transmission PLC'!AM304, SPTL!AM304, 'NGET TO'!AM304),CHOOSE(m_identity,'SHE-Transmission PLC (Blank - )'!AM304, 'SPTL (Blank - not used)'!AM304, 'NGET TO (Blank - not used)'!AM304))","v":0.08},{"$f":"IF(UserInterface!$E$69 = 1,CHOOSE(m_identity,'SHE-Transmission PLC'!AN304, SPTL!AN304, 'NGET TO'!AN304),CHOOSE(m_identity,'SHE-Transmission PLC (Blank - )'!AN304, 'SPTL (Blank - not used)'!AN304, 'NGET TO (Blank - not used)'!AN304))","v":0.08},{"$f":"IF(UserInterface!$E$69 = 1,CHOOSE(m_identity,'SHE-Transmission PLC'!AO304, SPTL!AO304, 'NGET TO'!AO304),CHOOSE(m_identity,'SHE-Transmission PLC (Blank - )'!AO304, 'SPTL (Blank - not used)'!AO304, 'NGET TO (Blank - not used)'!AO304))","v":0.08}]
[null,null,null,null,"Deferred Revenue Expenditure capital allowance rate",null,"%",null,null,null,null,null,null,null,null,null,null,null,null,null,null,null,null,null,null,null,null,null,null,null,null,null,null,{"$f":"IF(UserInterface!$E$69 = 1,CHOOSE(m_identity,'SHE-Transmission PLC'!AH305, SPTL!AH305, 'NGET TO'!AH305),CHOOSE(m_identity,'SHE-Transmission PLC (Blank - )'!AH305, 'SPTL (Blank - not used)'!AH305, 'NGET TO (Blank - not used)'!AH305))","v":0.03},{"$f":"IF(UserInterface!$E$69 = 1,CHOOSE(m_identity,'SHE-Transmission PLC'!AI305, SPTL!AI305, 'NGET TO'!AI305),CHOOSE(m_identity,'SHE-Transmission PLC (Blank - )'!AI305, 'SPTL (Blank - not used)'!AI305, 'NGET TO (Blank - not used)'!AI305))","v":0.03},{"$f":"IF(UserInterface!$E$69 = 1,CHOOSE(m_identity,'SHE-Transmission PLC'!AJ305, SPTL!AJ305, 'NGET TO'!AJ305),CHOOSE(m_identity,'SHE-Transmission PLC (Blank - )'!AJ305, 'SPTL (Blank - not used)'!AJ305, 'NGET TO (Blank - not used)'!AJ305))","v":0.03},{"$f":"IF(UserInterface!$E$69 = 1,CHOOSE(m_identity,'SHE-Transmission PLC'!AK305, SPTL!AK305, 'NGET TO'!AK305),CHOOSE(m_identity,'SHE-Transmission PLC (Blank - )'!AK305, 'SPTL (Blank - not used)'!AK305, 'NGET TO (Blank - not used)'!AK305))","v":0.03},{"$f":"IF(UserInterface!$E$69 = 1,CHOOSE(m_identity,'SHE-Transmission PLC'!AL305, SPTL!AL305, 'NGET TO'!AL305),CHOOSE(m_identity,'SHE-Transmission PLC (Blank - )'!AL305, 'SPTL (Blank - not used)'!AL305, 'NGET TO (Blank - not used)'!AL305))","v":0.03},{"$f":"IF(UserInterface!$E$69 = 1,CHOOSE(m_identity,'SHE-Transmission PLC'!AM305, SPTL!AM305, 'NGET TO'!AM305),CHOOSE(m_identity,'SHE-Transmission PLC (Blank - )'!AM305, 'SPTL (Blank - not used)'!AM305, 'NGET TO (Blank - not used)'!AM305))","v":0.03},{"$f":"IF(UserInterface!$E$69 = 1,CHOOSE(m_identity,'SHE-Transmission PLC'!AN305, SPTL!AN305, 'NGET TO'!AN305),CHOOSE(m_identity,'SHE-Transmission PLC (Blank - )'!AN305, 'SPTL (Blank - not used)'!AN305, 'NGET TO (Blank - not used)'!AN305))","v":0.03},{"$f":"IF(UserInterface!$E$69 = 1,CHOOSE(m_identity,'SHE-Transmission PLC'!AO305, SPTL!AO305, 'NGET TO'!AO305),CHOOSE(m_identity,'SHE-Transmission PLC (Blank - )'!AO305, 'SPTL (Blank - not used)'!AO305, 'NGET TO (Blank - not used)'!AO305))","v":0.03}]
[]
[null,null,"Capital allowances and tax losses"]
[]
[null,null,null,null,"General pool capital allowance opening balance brought forward",null,"£m nominal",null,null,null,null,null,null,null,null,null,null,null,null,null,null,null,null,null,null,null,null,null,null,null,null,null,null,{"$f":"IF(UserInterface!$E$69 = 1,CHOOSE(m_identity,'SHE-Transmission PLC'!AH309, SPTL!AH309, 'NGET TO'!AH309),CHOOSE(m_identity,'SHE-Transmission PLC (Blank - )'!AH309, 'SPTL (Blank - not used)'!AH309, 'NGET TO (Blank - not used)'!AH309))","v":435.55077055999999}]
[]
[null,null,null,null,"Special Rate capital allowance opening balance brought forward",null,"£m nominal",null,null,null,null,null,null,null,null,null,null,null,null,null,null,null,null,null,null,null,null,null,null,null,null,null,null,{"$f":"IF(UserInterface!$E$69 = 1,CHOOSE(m_identity,'SHE-Transmission PLC'!AH311, SPTL!AH311, 'NGET TO'!AH311),CHOOSE(m_identity,'SHE-Transmission PLC (Blank - )'!AH311, 'SPTL (Blank - not used)'!AH311, 'NGET TO (Blank - not used)'!AH311))","v":3353.9846618127199}]
[]
[null,null,null,null,"Deferred revenue expenditure opening balance brought forward",null,"£m nominal",null,null,null,null,null,null,null,null,null,null,null,null,null,null,null,null,null,null,null,null,null,null,null,null,null,null,{"$f":"IF(UserInterface!$E$69 = 1,CHOOSE(m_identity,'SHE-Transmission PLC'!AH313, SPTL!AH313, 'NGET TO'!AH313),CHOOSE(m_identity,'SHE-Transmission PLC (Blank - )'!AH313, 'SPTL (Blank - not used)'!AH313, 'NGET TO (Blank - not used)'!AH313))","v":1051.3958644812201}]
[]
[null,null,null,null,"Tax loss brought forward",null,"£m nominal",null,null,null,null,null,null,null,null,null,null,null,null,null,null,null,null,null,null,null,null,null,null,null,null,null,null,{"$f":"IF(UserInterface!$E$69 = 1,CHOOSE(m_identity,'SHE-Transmission PLC'!AH315, SPTL!AH315, 'NGET TO'!AH315),CHOOSE(m_identity,'SHE-Transmission PLC (Blank - )'!AH315, 'SPTL (Blank - not used)'!AH315, 'NGET TO (Blank - not used)'!AH315))","v":0}]
[]
[null,null,"Tax pool allocation"]
[]
[null,null,null,"Allocation to \"General\" pool"]
[]
[null,null,null,null,"Load related capex expenditure",null,"%",null,null,null,null,null,null,null,null,null,null,null,null,null,null,null,null,null,null,null,null,null,null,null,null,null,null,{"$f":"IF(UserInterface!$E$69 = 1,CHOOSE(m_identity,'SHE-Transmission PLC'!AH321, SPTL!AH321, 'NGET TO'!AH321),CHOOSE(m_identity,'SHE-Transmission PLC (Blank - )'!AH321, 'SPTL (Blank - not used)'!AH321, 'NGET TO (Blank - not used)'!AH321))","v":0.10299999999999999},{"$f":"IF(UserInterface!$E$69 = 1,CHOOSE(m_identity,'SHE-Transmission PLC'!AI321, SPTL!AI321, 'NGET TO'!AI321),CHOOSE(m_identity,'SHE-Transmission PLC (Blank - )'!AI321, 'SPTL (Blank - not used)'!AI321, 'NGET TO (Blank - not used)'!AI321))","v":0.10299999999999999},{"$f":"IF(UserInterface!$E$69 = 1,CHOOSE(m_identity,'SHE-Transmission PLC'!AJ321, SPTL!AJ321, 'NGET TO'!AJ321),CHOOSE(m_identity,'SHE-Transmission PLC (Blank - )'!AJ321, 'SPTL (Blank - not used)'!AJ321, 'NGET TO (Blank - not used)'!AJ321))","v":0.10299999999999999},{"$f":"IF(UserInterface!$E$69 = 1,CHOOSE(m_identity,'SHE-Transmission PLC'!AK321, SPTL!AK321, 'NGET TO'!AK321),CHOOSE(m_identity,'SHE-Transmission PLC (Blank - )'!AK321, 'SPTL (Blank - not used)'!AK321, 'NGET TO (Blank - not used)'!AK321))","v":0.10299999999999999},{"$f":"IF(UserInterface!$E$69 = 1,CHOOSE(m_identity,'SHE-Transmission PLC'!AL321, SPTL!AL321, 'NGET TO'!AL321),CHOOSE(m_identity,'SHE-Transmission PLC (Blank - )'!AL321, 'SPTL (Blank - not used)'!AL321, 'NGET TO (Blank - not used)'!AL321))","v":0.10299999999999999},{"$f":"IF(UserInterface!$E$69 = 1,CHOOSE(m_identity,'SHE-Transmission PLC'!AM321, SPTL!AM321, 'NGET TO'!AM321),CHOOSE(m_identity,'SHE-Transmission PLC (Blank - )'!AM321, 'SPTL (Blank - not used)'!AM321, 'NGET TO (Blank - not used)'!AM321))","v":0.10299999999999999},{"$f":"IF(UserInterface!$E$69 = 1,CHOOSE(m_identity,'SHE-Transmission PLC'!AN321, SPTL!AN321, 'NGET TO'!AN321),CHOOSE(m_identity,'SHE-Transmission PLC (Blank - )'!AN321, 'SPTL (Blank - not used)'!AN321, 'NGET TO (Blank - not used)'!AN321))","v":0.10299999999999999},{"$f":"IF(UserInterface!$E$69 = 1,CHOOSE(m_identity,'SHE-Transmission PLC'!AO321, SPTL!AO321, 'NGET TO'!AO321),CHOOSE(m_identity,'SHE-Transmission PLC (Blank - )'!AO321, 'SPTL (Blank - not used)'!AO321, 'NGET TO (Blank - not used)'!AO321))","v":0.10299999999999999}]
[null,null,null,null,"Asset replacement capex expenditure",null,"%",null,null,null,null,null,null,null,null,null,null,null,null,null,null,null,null,null,null,null,null,null,null,null,null,null,null,{"$f":"IF(UserInterface!$E$69 = 1,CHOOSE(m_identity,'SHE-Transmission PLC'!AH322, SPTL!AH322, 'NGET TO'!AH322),CHOOSE(m_identity,'SHE-Transmission PLC (Blank - )'!AH322, 'SPTL (Blank - not used)'!AH322, 'NGET TO (Blank - not used)'!AH322))","v":0.107},{"$f":"IF(UserInterface!$E$69 = 1,CHOOSE(m_identity,'SHE-Transmission PLC'!AI322, SPTL!AI322, 'NGET TO'!AI322),CHOOSE(m_identity,'SHE-Transmission PLC (Blank - )'!AI322, 'SPTL (Blank - not used)'!AI322, 'NGET TO (Blank - not used)'!AI322))","v":0.107},{"$f":"IF(UserInterface!$E$69 = 1,CHOOSE(m_identity,'SHE-Transmission PLC'!AJ322, SPTL!AJ322, 'NGET TO'!AJ322),CHOOSE(m_identity,'SHE-Transmission PLC (Blank - )'!AJ322, 'SPTL (Blank - not used)'!AJ322, 'NGET TO (Blank - not used)'!AJ322))","v":0.107},{"$f":"IF(UserInterface!$E$69 = 1,CHOOSE(m_identity,'SHE-Transmission PLC'!AK322, SPTL!AK322, 'NGET TO'!AK322),CHOOSE(m_identity,'SHE-Transmission PLC (Blank - )'!AK322, 'SPTL (Blank - not used)'!AK322, 'NGET TO (Blank - not used)'!AK322))","v":0.107},{"$f":"IF(UserInterface!$E$69 = 1,CHOOSE(m_identity,'SHE-Transmission PLC'!AL322, SPTL!AL322, 'NGET TO'!AL322),CHOOSE(m_identity,'SHE-Transmission PLC (Blank - )'!AL322, 'SPTL (Blank - not used)'!AL322, 'NGET TO (Blank - not used)'!AL322))","v":0.107},{"$f":"IF(UserInterface!$E$69 = 1,CHOOSE(m_identity,'SHE-Transmission PLC'!AM322, SPTL!AM322, 'NGET TO'!AM322),CHOOSE(m_identity,'SHE-Transmission PLC (Blank - )'!AM322, 'SPTL (Blank - not used)'!AM322, 'NGET TO (Blank - not used)'!AM322))","v":0.107},{"$f":"IF(UserInterface!$E$69 = 1,CHOOSE(m_identity,'SHE-Transmission PLC'!AN322, SPTL!AN322, 'NGET TO'!AN322),CHOOSE(m_identity,'SHE-Transmission PLC (Blank - )'!AN322, 'SPTL (Blank - not used)'!AN322, 'NGET TO (Blank - not used)'!AN322))","v":0.107},{"$f":"IF(UserInterface!$E$69 = 1,CHOOSE(m_identity,'SHE-Transmission PLC'!AO322, SPTL!AO322, 'NGET TO'!AO322),CHOOSE(m_identity,'SHE-Transmission PLC (Blank - )'!AO322, 'SPTL (Blank - not used)'!AO322, 'NGET TO (Blank - not used)'!AO322))","v":0.107}]
[null,null,null,null,"Other capex expenditure",null,"%",null,null,null,null,null,null,null,null,null,null,null,null,null,null,null,null,null,null,null,null,null,null,null,null,null,null,{"$f":"IF(UserInterface!$E$69 = 1,CHOOSE(m_identity,'SHE-Transmission PLC'!AH323, SPTL!AH323, 'NGET TO'!AH323),CHOOSE(m_identity,'SHE-Transmission PLC (Blank - )'!AH323, 'SPTL (Blank - not used)'!AH323, 'NGET TO (Blank - not used)'!AH323))","v":0.107},{"$f":"IF(UserInterface!$E$69 = 1,CHOOSE(m_identity,'SHE-Transmission PLC'!AI323, SPTL!AI323, 'NGET TO'!AI323),CHOOSE(m_identity,'SHE-Transmission PLC (Blank - )'!AI323, 'SPTL (Blank - not used)'!AI323, 'NGET TO (Blank - not used)'!AI323))","v":0.107},{"$f":"IF(UserInterface!$E$69 = 1,CHOOSE(m_identity,'SHE-Transmission PLC'!AJ323, SPTL!AJ323, 'NGET TO'!AJ323),CHOOSE(m_identity,'SHE-Transmission PLC (Blank - )'!AJ323, 'SPTL (Blank - not used)'!AJ323, 'NGET TO (Blank - not used)'!AJ323))","v":0.107},{"$f":"IF(UserInterface!$E$69 = 1,CHOOSE(m_identity,'SHE-Transmission PLC'!AK323, SPTL!AK323, 'NGET TO'!AK323),CHOOSE(m_identity,'SHE-Transmission PLC (Blank - )'!AK323, 'SPTL (Blank - not used)'!AK323, 'NGET TO (Blank - not used)'!AK323))","v":0.107},{"$f":"IF(UserInterface!$E$69 = 1,CHOOSE(m_identity,'SHE-Transmission PLC'!AL323, SPTL!AL323, 'NGET TO'!AL323),CHOOSE(m_identity,'SHE-Transmission PLC (Blank - )'!AL323, 'SPTL (Blank - not used)'!AL323, 'NGET TO (Blank - not used)'!AL323))","v":0.107},{"$f":"IF(UserInterface!$E$69 = 1,CHOOSE(m_identity,'SHE-Transmission PLC'!AM323, SPTL!AM323, 'NGET TO'!AM323),CHOOSE(m_identity,'SHE-Transmission PLC (Blank - )'!AM323, 'SPTL (Blank - not used)'!AM323, 'NGET TO (Blank - not used)'!AM323))","v":0.107},{"$f":"IF(UserInterface!$E$69 = 1,CHOOSE(m_identity,'SHE-Transmission PLC'!AN323, SPTL!AN323, 'NGET TO'!AN323),CHOOSE(m_identity,'SHE-Transmission PLC (Blank - )'!AN323, 'SPTL (Blank - not used)'!AN323, 'NGET TO (Blank - not used)'!AN323))","v":0.107},{"$f":"IF(UserInterface!$E$69 = 1,CHOOSE(m_identity,'SHE-Transmission PLC'!AO323, SPTL!AO323, 'NGET TO'!AO323),CHOOSE(m_identity,'SHE-Transmission PLC (Blank - )'!AO323, 'SPTL (Blank - not used)'!AO323, 'NGET TO (Blank - not used)'!AO323))","v":0.107}]
[null,null,null,null,"Opex",null,"%",null,null,null,null,null,null,null,null,null,null,null,null,null,null,null,null,null,null,null,null,null,null,null,null,null,null,{"$f":"IF(UserInterface!$E$69 = 1,CHOOSE(m_identity,'SHE-Transmission PLC'!AH324, SPTL!AH324, 'NGET TO'!AH324),CHOOSE(m_identity,'SHE-Transmission PLC (Blank - )'!AH324, 'SPTL (Blank - not used)'!AH324, 'NGET TO (Blank - not used)'!AH324))","v":0},{"$f":"IF(UserInterface!$E$69 = 1,CHOOSE(m_identity,'SHE-Transmission PLC'!AI324, SPTL!AI324, 'NGET TO'!AI324),CHOOSE(m_identity,'SHE-Transmission PLC (Blank - )'!AI324, 'SPTL (Blank - not used)'!AI324, 'NGET TO (Blank - not used)'!AI324))","v":0},{"$f":"IF(UserInterface!$E$69 = 1,CHOOSE(m_identity,'SHE-Transmission PLC'!AJ324, SPTL!AJ324, 'NGET TO'!AJ324),CHOOSE(m_identity,'SHE-Transmission PLC (Blank - )'!AJ324, 'SPTL (Blank - not used)'!AJ324, 'NGET TO (Blank - not used)'!AJ324))","v":0},{"$f":"IF(UserInterface!$E$69 = 1,CHOOSE(m_identity,'SHE-Transmission PLC'!AK324, SPTL!AK324, 'NGET TO'!AK324),CHOOSE(m_identity,'SHE-Transmission PLC (Blank - )'!AK324, 'SPTL (Blank - not used)'!AK324, 'NGET TO (Blank - not used)'!AK324))","v":0},{"$f":"IF(UserInterface!$E$69 = 1,CHOOSE(m_identity,'SHE-Transmission PLC'!AL324, SPTL!AL324, 'NGET TO'!AL324),CHOOSE(m_identity,'SHE-Transmission PLC (Blank - )'!AL324, 'SPTL (Blank - not used)'!AL324, 'NGET TO (Blank - not used)'!AL324))","v":0},{"$f":"IF(UserInterface!$E$69 = 1,CHOOSE(m_identity,'SHE-Transmission PLC'!AM324, SPTL!AM324, 'NGET TO'!AM324),CHOOSE(m_identity,'SHE-Transmission PLC (Blank - )'!AM324, 'SPTL (Blank - not used)'!AM324, 'NGET TO (Blank - not used)'!AM324))","v":0},{"$f":"IF(UserInterface!$E$69 = 1,CHOOSE(m_identity,'SHE-Transmission PLC'!AN324, SPTL!AN324, 'NGET TO'!AN324),CHOOSE(m_identity,'SHE-Transmission PLC (Blank - )'!AN324, 'SPTL (Blank - not used)'!AN324, 'NGET TO (Blank - not used)'!AN324))","v":0},{"$f":"IF(UserInterface!$E$69 = 1,CHOOSE(m_identity,'SHE-Transmission PLC'!AO324, SPTL!AO324, 'NGET TO'!AO324),CHOOSE(m_identity,'SHE-Transmission PLC (Blank - )'!AO324, 'SPTL (Blank - not used)'!AO324, 'NGET TO (Blank - not used)'!AO324))","v":0}]
[null,null,null,null,"Non Operational Capex",null,"%",null,null,null,null,null,null,null,null,null,null,null,null,null,null,null,null,null,null,null,null,null,null,null,null,null,null,{"$f":"IF(UserInterface!$E$69 = 1,CHOOSE(m_identity,'SHE-Transmission PLC'!AH325, SPTL!AH325, 'NGET TO'!AH325),CHOOSE(m_identity,'SHE-Transmission PLC (Blank - )'!AH325, 'SPTL (Blank - not used)'!AH325, 'NGET TO (Blank - not used)'!AH325))","v":0.747},{"$f":"IF(UserInterface!$E$69 = 1,CHOOSE(m_identity,'SHE-Transmission PLC'!AI325, SPTL!AI325, 'NGET TO'!AI325),CHOOSE(m_identity,'SHE-Transmission PLC (Blank - )'!AI325, 'SPTL (Blank - not used)'!AI325, 'NGET TO (Blank - not used)'!AI325))","v":0.747},{"$f":"IF(UserInterface!$E$69 = 1,CHOOSE(m_identity,'SHE-Transmission PLC'!AJ325, SPTL!AJ325, 'NGET TO'!AJ325),CHOOSE(m_identity,'SHE-Transmission PLC (Blank - )'!AJ325, 'SPTL (Blank - not used)'!AJ325, 'NGET TO (Blank - not used)'!AJ325))","v":0.747},{"$f":"IF(UserInterface!$E$69 = 1,CHOOSE(m_identity,'SHE-Transmission PLC'!AK325, SPTL!AK325, 'NGET TO'!AK325),CHOOSE(m_identity,'SHE-Transmission PLC (Blank - )'!AK325, 'SPTL (Blank - not used)'!AK325, 'NGET TO (Blank - not used)'!AK325))","v":0.747},{"$f":"IF(UserInterface!$E$69 = 1,CHOOSE(m_identity,'SHE-Transmission PLC'!AL325, SPTL!AL325, 'NGET TO'!AL325),CHOOSE(m_identity,'SHE-Transmission PLC (Blank - )'!AL325, 'SPTL (Blank - not used)'!AL325, 'NGET TO (Blank - not used)'!AL325))","v":0.747},{"$f":"IF(UserInterface!$E$69 = 1,CHOOSE(m_identity,'SHE-Transmission PLC'!AM325, SPTL!AM325, 'NGET TO'!AM325),CHOOSE(m_identity,'SHE-Transmission PLC (Blank - )'!AM325, 'SPTL (Blank - not used)'!AM325, 'NGET TO (Blank - not used)'!AM325))","v":0.747},{"$f":"IF(UserInterface!$E$69 = 1,CHOOSE(m_identity,'SHE-Transmission PLC'!AN325, SPTL!AN325, 'NGET TO'!AN325),CHOOSE(m_identity,'SHE-Transmission PLC (Blank - )'!AN325, 'SPTL (Blank - not used)'!AN325, 'NGET TO (Blank - not used)'!AN325))","v":0.747},{"$f":"IF(UserInterface!$E$69 = 1,CHOOSE(m_identity,'SHE-Transmission PLC'!AO325, SPTL!AO325, 'NGET TO'!AO325),CHOOSE(m_identity,'SHE-Transmission PLC (Blank - )'!AO325, 'SPTL (Blank - not used)'!AO325, 'NGET TO (Blank - not used)'!AO325))","v":0.747}]
[]
[null,null,null,"Allocation to \"Special Rate\" pool"]
[]
[null,null,null,null,"Load related capex expenditure",null,"%",null,null,null,null,null,null,null,null,null,null,null,null,null,null,null,null,null,null,null,null,null,null,null,null,null,null,{"$f":"IF(UserInterface!$E$69 = 1,CHOOSE(m_identity,'SHE-Transmission PLC'!AH329, SPTL!AH329, 'NGET TO'!AH329),CHOOSE(m_identity,'SHE-Transmission PLC (Blank - )'!AH329, 'SPTL (Blank - not used)'!AH329, 'NGET TO (Blank - not used)'!AH329))","v":0.82},{"$f":"IF(UserInterface!$E$69 = 1,CHOOSE(m_identity,'SHE-Transmission PLC'!AI329, SPTL!AI329, 'NGET TO'!AI329),CHOOSE(m_identity,'SHE-Transmission PLC (Blank - )'!AI329, 'SPTL (Blank - not used)'!AI329, 'NGET TO (Blank - not used)'!AI329))","v":0.82},{"$f":"IF(UserInterface!$E$69 = 1,CHOOSE(m_identity,'SHE-Transmission PLC'!AJ329, SPTL!AJ329, 'NGET TO'!AJ329),CHOOSE(m_identity,'SHE-Transmission PLC (Blank - )'!AJ329, 'SPTL (Blank - not used)'!AJ329, 'NGET TO (Blank - not used)'!AJ329))","v":0.82},{"$f":"IF(UserInterface!$E$69 = 1,CHOOSE(m_identity,'SHE-Transmission PLC'!AK329, SPTL!AK329, 'NGET TO'!AK329),CHOOSE(m_identity,'SHE-Transmission PLC (Blank - )'!AK329, 'SPTL (Blank - not used)'!AK329, 'NGET TO (Blank - not used)'!AK329))","v":0.82},{"$f":"IF(UserInterface!$E$69 = 1,CHOOSE(m_identity,'SHE-Transmission PLC'!AL329, SPTL!AL329, 'NGET TO'!AL329),CHOOSE(m_identity,'SHE-Transmission PLC (Blank - )'!AL329, 'SPTL (Blank - not used)'!AL329, 'NGET TO (Blank - not used)'!AL329))","v":0.82},{"$f":"IF(UserInterface!$E$69 = 1,CHOOSE(m_identity,'SHE-Transmission PLC'!AM329, SPTL!AM329, 'NGET TO'!AM329),CHOOSE(m_identity,'SHE-Transmission PLC (Blank - )'!AM329, 'SPTL (Blank - not used)'!AM329, 'NGET TO (Blank - not used)'!AM329))","v":0.82},{"$f":"IF(UserInterface!$E$69 = 1,CHOOSE(m_identity,'SHE-Transmission PLC'!AN329, SPTL!AN329, 'NGET TO'!AN329),CHOOSE(m_identity,'SHE-Transmission PLC (Blank - )'!AN329, 'SPTL (Blank - not used)'!AN329, 'NGET TO (Blank - not used)'!AN329))","v":0.82},{"$f":"IF(UserInterface!$E$69 = 1,CHOOSE(m_identity,'SHE-Transmission PLC'!AO329, SPTL!AO329, 'NGET TO'!AO329),CHOOSE(m_identity,'SHE-Transmission PLC (Blank - )'!AO329, 'SPTL (Blank - not used)'!AO329, 'NGET TO (Blank - not used)'!AO329))","v":0.82}]
[null,null,null,null,"Asset replacement capex expenditure",null,"%",null,null,null,null,null,null,null,null,null,null,null,null,null,null,null,null,null,null,null,null,null,null,null,null,null,null,{"$f":"IF(UserInterface!$E$69 = 1,CHOOSE(m_identity,'SHE-Transmission PLC'!AH330, SPTL!AH330, 'NGET TO'!AH330),CHOOSE(m_identity,'SHE-Transmission PLC (Blank - )'!AH330, 'SPTL (Blank - not used)'!AH330, 'NGET TO (Blank - not used)'!AH330))","v":0.47899999999999998},{"$f":"IF(UserInterface!$E$69 = 1,CHOOSE(m_identity,'SHE-Transmission PLC'!AI330, SPTL!AI330, 'NGET TO'!AI330),CHOOSE(m_identity,'SHE-Transmission PLC (Blank - )'!AI330, 'SPTL (Blank - not used)'!AI330, 'NGET TO (Blank - not used)'!AI330))","v":0.47899999999999998},{"$f":"IF(UserInterface!$E$69 = 1,CHOOSE(m_identity,'SHE-Transmission PLC'!AJ330, SPTL!AJ330, 'NGET TO'!AJ330),CHOOSE(m_identity,'SHE-Transmission PLC (Blank - )'!AJ330, 'SPTL (Blank - not used)'!AJ330, 'NGET TO (Blank - not used)'!AJ330))","v":0.47899999999999998},{"$f":"IF(UserInterface!$E$69 = 1,CHOOSE(m_identity,'SHE-Transmission PLC'!AK330, SPTL!AK330, 'NGET TO'!AK330),CHOOSE(m_identity,'SHE-Transmission PLC (Blank - )'!AK330, 'SPTL (Blank - not used)'!AK330, 'NGET TO (Blank - not used)'!AK330))","v":0.47899999999999998},{"$f":"IF(UserInterface!$E$69 = 1,CHOOSE(m_identity,'SHE-Transmission PLC'!AL330, SPTL!AL330, 'NGET TO'!AL330),CHOOSE(m_identity,'SHE-Transmission PLC (Blank - )'!AL330, 'SPTL (Blank - not used)'!AL330, 'NGET TO (Blank - not used)'!AL330))","v":0.47899999999999998},{"$f":"IF(UserInterface!$E$69 = 1,CHOOSE(m_identity,'SHE-Transmission PLC'!AM330, SPTL!AM330, 'NGET TO'!AM330),CHOOSE(m_identity,'SHE-Transmission PLC (Blank - )'!AM330, 'SPTL (Blank - not used)'!AM330, 'NGET TO (Blank - not used)'!AM330))","v":0.47899999999999998},{"$f":"IF(UserInterface!$E$69 = 1,CHOOSE(m_identity,'SHE-Transmission PLC'!AN330, SPTL!AN330, 'NGET TO'!AN330),CHOOSE(m_identity,'SHE-Transmission PLC (Blank - )'!AN330, 'SPTL (Blank - not used)'!AN330, 'NGET TO (Blank - not used)'!AN330))","v":0.47899999999999998},{"$f":"IF(UserInterface!$E$69 = 1,CHOOSE(m_identity,'SHE-Transmission PLC'!AO330, SPTL!AO330, 'NGET TO'!AO330),CHOOSE(m_identity,'SHE-Transmission PLC (Blank - )'!AO330, 'SPTL (Blank - not used)'!AO330, 'NGET TO (Blank - not used)'!AO330))","v":0.47899999999999998}]
[null,null,null,null,"Other capex expenditure",null,"%",null,null,null,null,null,null,null,null,null,null,null,null,null,null,null,null,null,null,null,null,null,null,null,null,null,null,{"$f":"IF(UserInterface!$E$69 = 1,CHOOSE(m_identity,'SHE-Transmission PLC'!AH331, SPTL!AH331, 'NGET TO'!AH331),CHOOSE(m_identity,'SHE-Transmission PLC (Blank - )'!AH331, 'SPTL (Blank - not used)'!AH331, 'NGET TO (Blank - not used)'!AH331))","v":0.47899999999999998},{"$f":"IF(UserInterface!$E$69 = 1,CHOOSE(m_identity,'SHE-Transmission PLC'!AI331, SPTL!AI331, 'NGET TO'!AI331),CHOOSE(m_identity,'SHE-Transmission PLC (Blank - )'!AI331, 'SPTL (Blank - not used)'!AI331, 'NGET TO (Blank - not used)'!AI331))","v":0.47899999999999998},{"$f":"IF(UserInterface!$E$69 = 1,CHOOSE(m_identity,'SHE-Transmission PLC'!AJ331, SPTL!AJ331, 'NGET TO'!AJ331),CHOOSE(m_identity,'SHE-Transmission PLC (Blank - )'!AJ331, 'SPTL (Blank - not used)'!AJ331, 'NGET TO (Blank - not used)'!AJ331))","v":0.47899999999999998},{"$f":"IF(UserInterface!$E$69 = 1,CHOOSE(m_identity,'SHE-Transmission PLC'!AK331, SPTL!AK331, 'NGET TO'!AK331),CHOOSE(m_identity,'SHE-Transmission PLC (Blank - )'!AK331, 'SPTL (Blank - not used)'!AK331, 'NGET TO (Blank - not used)'!AK331))","v":0.47899999999999998},{"$f":"IF(UserInterface!$E$69 = 1,CHOOSE(m_identity,'SHE-Transmission PLC'!AL331, SPTL!AL331, 'NGET TO'!AL331),CHOOSE(m_identity,'SHE-Transmission PLC (Blank - )'!AL331, 'SPTL (Blank - not used)'!AL331, 'NGET TO (Blank - not used)'!AL331))","v":0.47899999999999998},{"$f":"IF(UserInterface!$E$69 = 1,CHOOSE(m_identity,'SHE-Transmission PLC'!AM331, SPTL!AM331, 'NGET TO'!AM331),CHOOSE(m_identity,'SHE-Transmission PLC (Blank - )'!AM331, 'SPTL (Blank - not used)'!AM331, 'NGET TO (Blank - not used)'!AM331))","v":0.47899999999999998},{"$f":"IF(UserInterface!$E$69 = 1,CHOOSE(m_identity,'SHE-Transmission PLC'!AN331, SPTL!AN331, 'NGET TO'!AN331),CHOOSE(m_identity,'SHE-Transmission PLC (Blank - )'!AN331, 'SPTL (Blank - not used)'!AN331, 'NGET TO (Blank - not used)'!AN331))","v":0.47899999999999998},{"$f":"IF(UserInterface!$E$69 = 1,CHOOSE(m_identity,'SHE-Transmission PLC'!AO331, SPTL!AO331, 'NGET TO'!AO331),CHOOSE(m_identity,'SHE-Transmission PLC (Blank - )'!AO331, 'SPTL (Blank - not used)'!AO331, 'NGET TO (Blank - not used)'!AO331))","v":0.47899999999999998}]
[null,null,null,null,"Opex",null,"%",null,null,null,null,null,null,null,null,null,null,null,null,null,null,null,null,null,null,null,null,null,null,null,null,null,null,{"$f":"IF(UserInterface!$E$69 = 1,CHOOSE(m_identity,'SHE-Transmission PLC'!AH332, SPTL!AH332, 'NGET TO'!AH332),CHOOSE(m_identity,'SHE-Transmission PLC (Blank - )'!AH332, 'SPTL (Blank - not used)'!AH332, 'NGET TO (Blank - not used)'!AH332))","v":0},{"$f":"IF(UserInterface!$E$69 = 1,CHOOSE(m_identity,'SHE-Transmission PLC'!AI332, SPTL!AI332, 'NGET TO'!AI332),CHOOSE(m_identity,'SHE-Transmission PLC (Blank - )'!AI332, 'SPTL (Blank - not used)'!AI332, 'NGET TO (Blank - not used)'!AI332))","v":0},{"$f":"IF(UserInterface!$E$69 = 1,CHOOSE(m_identity,'SHE-Transmission PLC'!AJ332, SPTL!AJ332, 'NGET TO'!AJ332),CHOOSE(m_identity,'SHE-Transmission PLC (Blank - )'!AJ332, 'SPTL (Blank - not used)'!AJ332, 'NGET TO (Blank - not used)'!AJ332))","v":0},{"$f":"IF(UserInterface!$E$69 = 1,CHOOSE(m_identity,'SHE-Transmission PLC'!AK332, SPTL!AK332, 'NGET TO'!AK332),CHOOSE(m_identity,'SHE-Transmission PLC (Blank - )'!AK332, 'SPTL (Blank - not used)'!AK332, 'NGET TO (Blank - not used)'!AK332))","v":0},{"$f":"IF(UserInterface!$E$69 = 1,CHOOSE(m_identity,'SHE-Transmission PLC'!AL332, SPTL!AL332, 'NGET TO'!AL332),CHOOSE(m_identity,'SHE-Transmission PLC (Blank - )'!AL332, 'SPTL (Blank - not used)'!AL332, 'NGET TO (Blank - not used)'!AL332))","v":0},{"$f":"IF(UserInterface!$E$69 = 1,CHOOSE(m_identity,'SHE-Transmission PLC'!AM332, SPTL!AM332, 'NGET TO'!AM332),CHOOSE(m_identity,'SHE-Transmission PLC (Blank - )'!AM332, 'SPTL (Blank - not used)'!AM332, 'NGET TO (Blank - not used)'!AM332))","v":0},{"$f":"IF(UserInterface!$E$69 = 1,CHOOSE(m_identity,'SHE-Transmission PLC'!AN332, SPTL!AN332, 'NGET TO'!AN332),CHOOSE(m_identity,'SHE-Transmission PLC (Blank - )'!AN332, 'SPTL (Blank - not used)'!AN332, 'NGET TO (Blank - not used)'!AN332))","v":0},{"$f":"IF(UserInterface!$E$69 = 1,CHOOSE(m_identity,'SHE-Transmission PLC'!AO332, SPTL!AO332, 'NGET TO'!AO332),CHOOSE(m_identity,'SHE-Transmission PLC (Blank - )'!AO332, 'SPTL (Blank - not used)'!AO332, 'NGET TO (Blank - not used)'!AO332))","v":0}]
[null,null,null,null,"Non Operational Capex",null,"%",null,null,null,null,null,null,null,null,null,null,null,null,null,null,null,null,null,null,null,null,null,null,null,null,null,null,{"$f":"IF(UserInterface!$E$69 = 1,CHOOSE(m_identity,'SHE-Transmission PLC'!AH333, SPTL!AH333, 'NGET TO'!AH333),CHOOSE(m_identity,'SHE-Transmission PLC (Blank - )'!AH333, 'SPTL (Blank - not used)'!AH333, 'NGET TO (Blank - not used)'!AH333))","v":5.5E-2},{"$f":"IF(UserInterface!$E$69 = 1,CHOOSE(m_identity,'SHE-Transmission PLC'!AI333, SPTL!AI333, 'NGET TO'!AI333),CHOOSE(m_identity,'SHE-Transmission PLC (Blank - )'!AI333, 'SPTL (Blank - not used)'!AI333, 'NGET TO (Blank - not used)'!AI333))","v":5.5E-2},{"$f":"IF(UserInterface!$E$69 = 1,CHOOSE(m_identity,'SHE-Transmission PLC'!AJ333, SPTL!AJ333, 'NGET TO'!AJ333),CHOOSE(m_identity,'SHE-Transmission PLC (Blank - )'!AJ333, 'SPTL (Blank - not used)'!AJ333, 'NGET TO (Blank - not used)'!AJ333))","v":5.5E-2},{"$f":"IF(UserInterface!$E$69 = 1,CHOOSE(m_identity,'SHE-Transmission PLC'!AK333, SPTL!AK333, 'NGET TO'!AK333),CHOOSE(m_identity,'SHE-Transmission PLC (Blank - )'!AK333, 'SPTL (Blank - not used)'!AK333, 'NGET TO (Blank - not used)'!AK333))","v":5.5E-2},{"$f":"IF(UserInterface!$E$69 = 1,CHOOSE(m_identity,'SHE-Transmission PLC'!AL333, SPTL!AL333, 'NGET TO'!AL333),CHOOSE(m_identity,'SHE-Transmission PLC (Blank - )'!AL333, 'SPTL (Blank - not used)'!AL333, 'NGET TO (Blank - not used)'!AL333))","v":5.5E-2},{"$f":"IF(UserInterface!$E$69 = 1,CHOOSE(m_identity,'SHE-Transmission PLC'!AM333, SPTL!AM333, 'NGET TO'!AM333),CHOOSE(m_identity,'SHE-Transmission PLC (Blank - )'!AM333, 'SPTL (Blank - not used)'!AM333, 'NGET TO (Blank - not used)'!AM333))","v":5.5E-2},{"$f":"IF(UserInterface!$E$69 = 1,CHOOSE(m_identity,'SHE-Transmission PLC'!AN333, SPTL!AN333, 'NGET TO'!AN333),CHOOSE(m_identity,'SHE-Transmission PLC (Blank - )'!AN333, 'SPTL (Blank - not used)'!AN333, 'NGET TO (Blank - not used)'!AN333))","v":5.5E-2},{"$f":"IF(UserInterface!$E$69 = 1,CHOOSE(m_identity,'SHE-Transmission PLC'!AO333, SPTL!AO333, 'NGET TO'!AO333),CHOOSE(m_identity,'SHE-Transmission PLC (Blank - )'!AO333, 'SPTL (Blank - not used)'!AO333, 'NGET TO (Blank - not used)'!AO333))","v":5.5E-2}]
[]
[null,null,null,"Allocation to \"Deferred Revenue\" pool"]
[]
[null,null,null,null,"Load related capex expenditure",null,"%",null,null,null,null,null,null,null,null,null,null,null,null,null,null,null,null,null,null,null,null,null,null,null,null,null,null,{"$f":"IF(UserInterface!$E$69 = 1,CHOOSE(m_identity,'SHE-Transmission PLC'!AH337, SPTL!AH337, 'NGET TO'!AH337),CHOOSE(m_identity,'SHE-Transmission PLC (Blank - )'!AH337, 'SPTL (Blank - not used)'!AH337, 'NGET TO (Blank - not used)'!AH337))","v":1.9E-2},{"$f":"IF(UserInterface!$E$69 = 1,CHOOSE(m_identity,'SHE-Transmission PLC'!AI337, SPTL!AI337, 'NGET TO'!AI337),CHOOSE(m_identity,'SHE-Transmission PLC (Blank - )'!AI337, 'SPTL (Blank - not used)'!AI337, 'NGET TO (Blank - not used)'!AI337))","v":1.9E-2},{"$f":"IF(UserInterface!$E$69 = 1,CHOOSE(m_identity,'SHE-Transmission PLC'!AJ337, SPTL!AJ337, 'NGET TO'!AJ337),CHOOSE(m_identity,'SHE-Transmission PLC (Blank - )'!AJ337, 'SPTL (Blank - not used)'!AJ337, 'NGET TO (Blank - not used)'!AJ337))","v":1.9E-2},{"$f":"IF(UserInterface!$E$69 = 1,CHOOSE(m_identity,'SHE-Transmission PLC'!AK337, SPTL!AK337, 'NGET TO'!AK337),CHOOSE(m_identity,'SHE-Transmission PLC (Blank - )'!AK337, 'SPTL (Blank - not used)'!AK337, 'NGET TO (Blank - not used)'!AK337))","v":1.9E-2},{"$f":"IF(UserInterface!$E$69 = 1,CHOOSE(m_identity,'SHE-Transmission PLC'!AL337, SPTL!AL337, 'NGET TO'!AL337),CHOOSE(m_identity,'SHE-Transmission PLC (Blank - )'!AL337, 'SPTL (Blank - not used)'!AL337, 'NGET TO (Blank - not used)'!AL337))","v":1.9E-2},{"$f":"IF(UserInterface!$E$69 = 1,CHOOSE(m_identity,'SHE-Transmission PLC'!AM337, SPTL!AM337, 'NGET TO'!AM337),CHOOSE(m_identity,'SHE-Transmission PLC (Blank - )'!AM337, 'SPTL (Blank - not used)'!AM337, 'NGET TO (Blank - not used)'!AM337))","v":1.9E-2},{"$f":"IF(UserInterface!$E$69 = 1,CHOOSE(m_identity,'SHE-Transmission PLC'!AN337, SPTL!AN337, 'NGET TO'!AN337),CHOOSE(m_identity,'SHE-Transmission PLC (Blank - )'!AN337, 'SPTL (Blank - not used)'!AN337, 'NGET TO (Blank - not used)'!AN337))","v":1.9E-2},{"$f":"IF(UserInterface!$E$69 = 1,CHOOSE(m_identity,'SHE-Transmission PLC'!AO337, SPTL!AO337, 'NGET TO'!AO337),CHOOSE(m_identity,'SHE-Transmission PLC (Blank - )'!AO337, 'SPTL (Blank - not used)'!AO337, 'NGET TO (Blank - not used)'!AO337))","v":1.9E-2}]
[null,null,null,null,"Asset replacement capex expenditure",null,"%",null,null,null,null,null,null,null,null,null,null,null,null,null,null,null,null,null,null,null,null,null,null,null,null,null,null,{"$f":"IF(UserInterface!$E$69 = 1,CHOOSE(m_identity,'SHE-Transmission PLC'!AH338, SPTL!AH338, 'NGET TO'!AH338),CHOOSE(m_identity,'SHE-Transmission PLC (Blank - )'!AH338, 'SPTL (Blank - not used)'!AH338, 'NGET TO (Blank - not used)'!AH338))","v":0.38800000000000001},{"$f":"IF(UserInterface!$E$69 = 1,CHOOSE(m_identity,'SHE-Transmission PLC'!AI338, SPTL!AI338, 'NGET TO'!AI338),CHOOSE(m_identity,'SHE-Transmission PLC (Blank - )'!AI338, 'SPTL (Blank - not used)'!AI338, 'NGET TO (Blank - not used)'!AI338))","v":0.38800000000000001},{"$f":"IF(UserInterface!$E$69 = 1,CHOOSE(m_identity,'SHE-Transmission PLC'!AJ338, SPTL!AJ338, 'NGET TO'!AJ338),CHOOSE(m_identity,'SHE-Transmission PLC (Blank - )'!AJ338, 'SPTL (Blank - not used)'!AJ338, 'NGET TO (Blank - not used)'!AJ338))","v":0.38800000000000001},{"$f":"IF(UserInterface!$E$69 = 1,CHOOSE(m_identity,'SHE-Transmission PLC'!AK338, SPTL!AK338, 'NGET TO'!AK338),CHOOSE(m_identity,'SHE-Transmission PLC (Blank - )'!AK338, 'SPTL (Blank - not used)'!AK338, 'NGET TO (Blank - not used)'!AK338))","v":0.38800000000000001},{"$f":"IF(UserInterface!$E$69 = 1,CHOOSE(m_identity,'SHE-Transmission PLC'!AL338, SPTL!AL338, 'NGET TO'!AL338),CHOOSE(m_identity,'SHE-Transmission PLC (Blank - )'!AL338, 'SPTL (Blank - not used)'!AL338, 'NGET TO (Blank - not used)'!AL338))","v":0.38800000000000001},{"$f":"IF(UserInterface!$E$69 = 1,CHOOSE(m_identity,'SHE-Transmission PLC'!AM338, SPTL!AM338, 'NGET TO'!AM338),CHOOSE(m_identity,'SHE-Transmission PLC (Blank - )'!AM338, 'SPTL (Blank - not used)'!AM338, 'NGET TO (Blank - not used)'!AM338))","v":0.38800000000000001},{"$f":"IF(UserInterface!$E$69 = 1,CHOOSE(m_identity,'SHE-Transmission PLC'!AN338, SPTL!AN338, 'NGET TO'!AN338),CHOOSE(m_identity,'SHE-Transmission PLC (Blank - )'!AN338, 'SPTL (Blank - not used)'!AN338, 'NGET TO (Blank - not used)'!AN338))","v":0.38800000000000001},{"$f":"IF(UserInterface!$E$69 = 1,CHOOSE(m_identity,'SHE-Transmission PLC'!AO338, SPTL!AO338, 'NGET TO'!AO338),CHOOSE(m_identity,'SHE-Transmission PLC (Blank - )'!AO338, 'SPTL (Blank - not used)'!AO338, 'NGET TO (Blank - not used)'!AO338))","v":0.38800000000000001}]
[null,null,null,null,"Other capex expenditure",null,"%",null,null,null,null,null,null,null,null,null,null,null,null,null,null,null,null,null,null,null,null,null,null,null,null,null,null,{"$f":"IF(UserInterface!$E$69 = 1,CHOOSE(m_identity,'SHE-Transmission PLC'!AH339, SPTL!AH339, 'NGET TO'!AH339),CHOOSE(m_identity,'SHE-Transmission PLC (Blank - )'!AH339, 'SPTL (Blank - not used)'!AH339, 'NGET TO (Blank - not used)'!AH339))","v":0.38800000000000001},{"$f":"IF(UserInterface!$E$69 = 1,CHOOSE(m_identity,'SHE-Transmission PLC'!AI339, SPTL!AI339, 'NGET TO'!AI339),CHOOSE(m_identity,'SHE-Transmission PLC (Blank - )'!AI339, 'SPTL (Blank - not used)'!AI339, 'NGET TO (Blank - not used)'!AI339))","v":0.38800000000000001},{"$f":"IF(UserInterface!$E$69 = 1,CHOOSE(m_identity,'SHE-Transmission PLC'!AJ339, SPTL!AJ339, 'NGET TO'!AJ339),CHOOSE(m_identity,'SHE-Transmission PLC (Blank - )'!AJ339, 'SPTL (Blank - not used)'!AJ339, 'NGET TO (Blank - not used)'!AJ339))","v":0.38800000000000001},{"$f":"IF(UserInterface!$E$69 = 1,CHOOSE(m_identity,'SHE-Transmission PLC'!AK339, SPTL!AK339, 'NGET TO'!AK339),CHOOSE(m_identity,'SHE-Transmission PLC (Blank - )'!AK339, 'SPTL (Blank - not used)'!AK339, 'NGET TO (Blank - not used)'!AK339))","v":0.38800000000000001},{"$f":"IF(UserInterface!$E$69 = 1,CHOOSE(m_identity,'SHE-Transmission PLC'!AL339, SPTL!AL339, 'NGET TO'!AL339),CHOOSE(m_identity,'SHE-Transmission PLC (Blank - )'!AL339, 'SPTL (Blank - not used)'!AL339, 'NGET TO (Blank - not used)'!AL339))","v":0.38800000000000001},{"$f":"IF(UserInterface!$E$69 = 1,CHOOSE(m_identity,'SHE-Transmission PLC'!AM339, SPTL!AM339, 'NGET TO'!AM339),CHOOSE(m_identity,'SHE-Transmission PLC (Blank - )'!AM339, 'SPTL (Blank - not used)'!AM339, 'NGET TO (Blank - not used)'!AM339))","v":0.38800000000000001},{"$f":"IF(UserInterface!$E$69 = 1,CHOOSE(m_identity,'SHE-Transmission PLC'!AN339, SPTL!AN339, 'NGET TO'!AN339),CHOOSE(m_identity,'SHE-Transmission PLC (Blank - )'!AN339, 'SPTL (Blank - not used)'!AN339, 'NGET TO (Blank - not used)'!AN339))","v":0.38800000000000001},{"$f":"IF(UserInterface!$E$69 = 1,CHOOSE(m_identity,'SHE-Transmission PLC'!AO339, SPTL!AO339, 'NGET TO'!AO339),CHOOSE(m_identity,'SHE-Transmission PLC (Blank - )'!AO339, 'SPTL (Blank - not used)'!AO339, 'NGET TO (Blank - not used)'!AO339))","v":0.38800000000000001}]
[null,null,null,null,"Opex",null,"%",null,null,null,null,null,null,null,null,null,null,null,null,null,null,null,null,null,null,null,null,null,null,null,null,null,null,{"$f":"IF(UserInterface!$E$69 = 1,CHOOSE(m_identity,'SHE-Transmission PLC'!AH340, SPTL!AH340, 'NGET TO'!AH340),CHOOSE(m_identity,'SHE-Transmission PLC (Blank - )'!AH340, 'SPTL (Blank - not used)'!AH340, 'NGET TO (Blank - not used)'!AH340))","v":0},{"$f":"IF(UserInterface!$E$69 = 1,CHOOSE(m_identity,'SHE-Transmission PLC'!AI340, SPTL!AI340, 'NGET TO'!AI340),CHOOSE(m_identity,'SHE-Transmission PLC (Blank - )'!AI340, 'SPTL (Blank - not used)'!AI340, 'NGET TO (Blank - not used)'!AI340))","v":0},{"$f":"IF(UserInterface!$E$69 = 1,CHOOSE(m_identity,'SHE-Transmission PLC'!AJ340, SPTL!AJ340, 'NGET TO'!AJ340),CHOOSE(m_identity,'SHE-Transmission PLC (Blank - )'!AJ340, 'SPTL (Blank - not used)'!AJ340, 'NGET TO (Blank - not used)'!AJ340))","v":0},{"$f":"IF(UserInterface!$E$69 = 1,CHOOSE(m_identity,'SHE-Transmission PLC'!AK340, SPTL!AK340, 'NGET TO'!AK340),CHOOSE(m_identity,'SHE-Transmission PLC (Blank - )'!AK340, 'SPTL (Blank - not used)'!AK340, 'NGET TO (Blank - not used)'!AK340))","v":0},{"$f":"IF(UserInterface!$E$69 = 1,CHOOSE(m_identity,'SHE-Transmission PLC'!AL340, SPTL!AL340, 'NGET TO'!AL340),CHOOSE(m_identity,'SHE-Transmission PLC (Blank - )'!AL340, 'SPTL (Blank - not used)'!AL340, 'NGET TO (Blank - not used)'!AL340))","v":0},{"$f":"IF(UserInterface!$E$69 = 1,CHOOSE(m_identity,'SHE-Transmission PLC'!AM340, SPTL!AM340, 'NGET TO'!AM340),CHOOSE(m_identity,'SHE-Transmission PLC (Blank - )'!AM340, 'SPTL (Blank - not used)'!AM340, 'NGET TO (Blank - not used)'!AM340))","v":0},{"$f":"IF(UserInterface!$E$69 = 1,CHOOSE(m_identity,'SHE-Transmission PLC'!AN340, SPTL!AN340, 'NGET TO'!AN340),CHOOSE(m_identity,'SHE-Transmission PLC (Blank - )'!AN340, 'SPTL (Blank - not used)'!AN340, 'NGET TO (Blank - not used)'!AN340))","v":0},{"$f":"IF(UserInterface!$E$69 = 1,CHOOSE(m_identity,'SHE-Transmission PLC'!AO340, SPTL!AO340, 'NGET TO'!AO340),CHOOSE(m_identity,'SHE-Transmission PLC (Blank - )'!AO340, 'SPTL (Blank - not used)'!AO340, 'NGET TO (Blank - not used)'!AO340))","v":0}]
[null,null,null,null,"Non Operational Capex",null,"%",null,null,null,null,null,null,null,null,null,null,null,null,null,null,null,null,null,null,null,null,null,null,null,null,null,null,{"$f":"IF(UserInterface!$E$69 = 1,CHOOSE(m_identity,'SHE-Transmission PLC'!AH341, SPTL!AH341, 'NGET TO'!AH341),CHOOSE(m_identity,'SHE-Transmission PLC (Blank - )'!AH341, 'SPTL (Blank - not used)'!AH341, 'NGET TO (Blank - not used)'!AH341))","v":0.18},{"$f":"IF(UserInterface!$E$69 = 1,CHOOSE(m_identity,'SHE-Transmission PLC'!AI341, SPTL!AI341, 'NGET TO'!AI341),CHOOSE(m_identity,'SHE-Transmission PLC (Blank - )'!AI341, 'SPTL (Blank - not used)'!AI341, 'NGET TO (Blank - not used)'!AI341))","v":0.18},{"$f":"IF(UserInterface!$E$69 = 1,CHOOSE(m_identity,'SHE-Transmission PLC'!AJ341, SPTL!AJ341, 'NGET TO'!AJ341),CHOOSE(m_identity,'SHE-Transmission PLC (Blank - )'!AJ341, 'SPTL (Blank - not used)'!AJ341, 'NGET TO (Blank - not used)'!AJ341))","v":0.18},{"$f":"IF(UserInterface!$E$69 = 1,CHOOSE(m_identity,'SHE-Transmission PLC'!AK341, SPTL!AK341, 'NGET TO'!AK341),CHOOSE(m_identity,'SHE-Transmission PLC (Blank - )'!AK341, 'SPTL (Blank - not used)'!AK341, 'NGET TO (Blank - not used)'!AK341))","v":0.18},{"$f":"IF(UserInterface!$E$69 = 1,CHOOSE(m_identity,'SHE-Transmission PLC'!AL341, SPTL!AL341, 'NGET TO'!AL341),CHOOSE(m_identity,'SHE-Transmission PLC (Blank - )'!AL341, 'SPTL (Blank - not used)'!AL341, 'NGET TO (Blank - not used)'!AL341))","v":0.18},{"$f":"IF(UserInterface!$E$69 = 1,CHOOSE(m_identity,'SHE-Transmission PLC'!AM341, SPTL!AM341, 'NGET TO'!AM341),CHOOSE(m_identity,'SHE-Transmission PLC (Blank - )'!AM341, 'SPTL (Blank - not used)'!AM341, 'NGET TO (Blank - not used)'!AM341))","v":0.18},{"$f":"IF(UserInterface!$E$69 = 1,CHOOSE(m_identity,'SHE-Transmission PLC'!AN341, SPTL!AN341, 'NGET TO'!AN341),CHOOSE(m_identity,'SHE-Transmission PLC (Blank - )'!AN341, 'SPTL (Blank - not used)'!AN341, 'NGET TO (Blank - not used)'!AN341))","v":0.18},{"$f":"IF(UserInterface!$E$69 = 1,CHOOSE(m_identity,'SHE-Transmission PLC'!AO341, SPTL!AO341, 'NGET TO'!AO341),CHOOSE(m_identity,'SHE-Transmission PLC (Blank - )'!AO341, 'SPTL (Blank - not used)'!AO341, 'NGET TO (Blank - not used)'!AO341))","v":0.18}]
[]
[null,null,null,"Allocation to \"Revenue\" pool"]
[]
[null,null,null,null,"Load related capex expenditure",null,"%",null,null,null,null,null,null,null,null,null,null,null,null,null,null,null,null,null,null,null,null,null,null,null,null,null,null,{"$f":"IF(UserInterface!$E$69 = 1,CHOOSE(m_identity,'SHE-Transmission PLC'!AH345, SPTL!AH345, 'NGET TO'!AH345),CHOOSE(m_identity,'SHE-Transmission PLC (Blank - )'!AH345, 'SPTL (Blank - not used)'!AH345, 'NGET TO (Blank - not used)'!AH345))","v":1E-3},{"$f":"IF(UserInterface!$E$69 = 1,CHOOSE(m_identity,'SHE-Transmission PLC'!AI345, SPTL!AI345, 'NGET TO'!AI345),CHOOSE(m_identity,'SHE-Transmission PLC (Blank - )'!AI345, 'SPTL (Blank - not used)'!AI345, 'NGET TO (Blank - not used)'!AI345))","v":1E-3},{"$f":"IF(UserInterface!$E$69 = 1,CHOOSE(m_identity,'SHE-Transmission PLC'!AJ345, SPTL!AJ345, 'NGET TO'!AJ345),CHOOSE(m_identity,'SHE-Transmission PLC (Blank - )'!AJ345, 'SPTL (Blank - not used)'!AJ345, 'NGET TO (Blank - not used)'!AJ345))","v":1E-3},{"$f":"IF(UserInterface!$E$69 = 1,CHOOSE(m_identity,'SHE-Transmission PLC'!AK345, SPTL!AK345, 'NGET TO'!AK345),CHOOSE(m_identity,'SHE-Transmission PLC (Blank - )'!AK345, 'SPTL (Blank - not used)'!AK345, 'NGET TO (Blank - not used)'!AK345))","v":1E-3},{"$f":"IF(UserInterface!$E$69 = 1,CHOOSE(m_identity,'SHE-Transmission PLC'!AL345, SPTL!AL345, 'NGET TO'!AL345),CHOOSE(m_identity,'SHE-Transmission PLC (Blank - )'!AL345, 'SPTL (Blank - not used)'!AL345, 'NGET TO (Blank - not used)'!AL345))","v":1E-3},{"$f":"IF(UserInterface!$E$69 = 1,CHOOSE(m_identity,'SHE-Transmission PLC'!AM345, SPTL!AM345, 'NGET TO'!AM345),CHOOSE(m_identity,'SHE-Transmission PLC (Blank - )'!AM345, 'SPTL (Blank - not used)'!AM345, 'NGET TO (Blank - not used)'!AM345))","v":1E-3},{"$f":"IF(UserInterface!$E$69 = 1,CHOOSE(m_identity,'SHE-Transmission PLC'!AN345, SPTL!AN345, 'NGET TO'!AN345),CHOOSE(m_identity,'SHE-Transmission PLC (Blank - )'!AN345, 'SPTL (Blank - not used)'!AN345, 'NGET TO (Blank - not used)'!AN345))","v":1E-3},{"$f":"IF(UserInterface!$E$69 = 1,CHOOSE(m_identity,'SHE-Transmission PLC'!AO345, SPTL!AO345, 'NGET TO'!AO345),CHOOSE(m_identity,'SHE-Transmission PLC (Blank - )'!AO345, 'SPTL (Blank - not used)'!AO345, 'NGET TO (Blank - not used)'!AO345))","v":1E-3}]
[null,null,null,null,"Asset replacement capex expenditure",null,"%",null,null,null,null,null,null,null,null,null,null,null,null,null,null,null,null,null,null,null,null,null,null,null,null,null,null,{"$f":"IF(UserInterface!$E$69 = 1,CHOOSE(m_identity,'SHE-Transmission PLC'!AH346, SPTL!AH346, 'NGET TO'!AH346),CHOOSE(m_identity,'SHE-Transmission PLC (Blank - )'!AH346, 'SPTL (Blank - not used)'!AH346, 'NGET TO (Blank - not used)'!AH346))","v":0},{"$f":"IF(UserInterface!$E$69 = 1,CHOOSE(m_identity,'SHE-Transmission PLC'!AI346, SPTL!AI346, 'NGET TO'!AI346),CHOOSE(m_identity,'SHE-Transmission PLC (Blank - )'!AI346, 'SPTL (Blank - not used)'!AI346, 'NGET TO (Blank - not used)'!AI346))","v":0},{"$f":"IF(UserInterface!$E$69 = 1,CHOOSE(m_identity,'SHE-Transmission PLC'!AJ346, SPTL!AJ346, 'NGET TO'!AJ346),CHOOSE(m_identity,'SHE-Transmission PLC (Blank - )'!AJ346, 'SPTL (Blank - not used)'!AJ346, 'NGET TO (Blank - not used)'!AJ346))","v":0},{"$f":"IF(UserInterface!$E$69 = 1,CHOOSE(m_identity,'SHE-Transmission PLC'!AK346, SPTL!AK346, 'NGET TO'!AK346),CHOOSE(m_identity,'SHE-Transmission PLC (Blank - )'!AK346, 'SPTL (Blank - not used)'!AK346, 'NGET TO (Blank - not used)'!AK346))","v":0},{"$f":"IF(UserInterface!$E$69 = 1,CHOOSE(m_identity,'SHE-Transmission PLC'!AL346, SPTL!AL346, 'NGET TO'!AL346),CHOOSE(m_identity,'SHE-Transmission PLC (Blank - )'!AL346, 'SPTL (Blank - not used)'!AL346, 'NGET TO (Blank - not used)'!AL346))","v":0},{"$f":"IF(UserInterface!$E$69 = 1,CHOOSE(m_identity,'SHE-Transmission PLC'!AM346, SPTL!AM346, 'NGET TO'!AM346),CHOOSE(m_identity,'SHE-Transmission PLC (Blank - )'!AM346, 'SPTL (Blank - not used)'!AM346, 'NGET TO (Blank - not used)'!AM346))","v":0},{"$f":"IF(UserInterface!$E$69 = 1,CHOOSE(m_identity,'SHE-Transmission PLC'!AN346, SPTL!AN346, 'NGET TO'!AN346),CHOOSE(m_identity,'SHE-Transmission PLC (Blank - )'!AN346, 'SPTL (Blank - not used)'!AN346, 'NGET TO (Blank - not used)'!AN346))","v":0},{"$f":"IF(UserInterface!$E$69 = 1,CHOOSE(m_identity,'SHE-Transmission PLC'!AO346, SPTL!AO346, 'NGET TO'!AO346),CHOOSE(m_identity,'SHE-Transmission PLC (Blank - )'!AO346, 'SPTL (Blank - not used)'!AO346, 'NGET TO (Blank - not used)'!AO346))","v":0}]
[null,null,null,null,"Other capex expenditure",null,"%",null,null,null,null,null,null,null,null,null,null,null,null,null,null,null,null,null,null,null,null,null,null,null,null,null,null,{"$f":"IF(UserInterface!$E$69 = 1,CHOOSE(m_identity,'SHE-Transmission PLC'!AH347, SPTL!AH347, 'NGET TO'!AH347),CHOOSE(m_identity,'SHE-Transmission PLC (Blank - )'!AH347, 'SPTL (Blank - not used)'!AH347, 'NGET TO (Blank - not used)'!AH347))","v":0},{"$f":"IF(UserInterface!$E$69 = 1,CHOOSE(m_identity,'SHE-Transmission PLC'!AI347, SPTL!AI347, 'NGET TO'!AI347),CHOOSE(m_identity,'SHE-Transmission PLC (Blank - )'!AI347, 'SPTL (Blank - not used)'!AI347, 'NGET TO (Blank - not used)'!AI347))","v":0},{"$f":"IF(UserInterface!$E$69 = 1,CHOOSE(m_identity,'SHE-Transmission PLC'!AJ347, SPTL!AJ347, 'NGET TO'!AJ347),CHOOSE(m_identity,'SHE-Transmission PLC (Blank - )'!AJ347, 'SPTL (Blank - not used)'!AJ347, 'NGET TO (Blank - not used)'!AJ347))","v":0},{"$f":"IF(UserInterface!$E$69 = 1,CHOOSE(m_identity,'SHE-Transmission PLC'!AK347, SPTL!AK347, 'NGET TO'!AK347),CHOOSE(m_identity,'SHE-Transmission PLC (Blank - )'!AK347, 'SPTL (Blank - not used)'!AK347, 'NGET TO (Blank - not used)'!AK347))","v":0},{"$f":"IF(UserInterface!$E$69 = 1,CHOOSE(m_identity,'SHE-Transmission PLC'!AL347, SPTL!AL347, 'NGET TO'!AL347),CHOOSE(m_identity,'SHE-Transmission PLC (Blank - )'!AL347, 'SPTL (Blank - not used)'!AL347, 'NGET TO (Blank - not used)'!AL347))","v":0},{"$f":"IF(UserInterface!$E$69 = 1,CHOOSE(m_identity,'SHE-Transmission PLC'!AM347, SPTL!AM347, 'NGET TO'!AM347),CHOOSE(m_identity,'SHE-Transmission PLC (Blank - )'!AM347, 'SPTL (Blank - not used)'!AM347, 'NGET TO (Blank - not used)'!AM347))","v":0},{"$f":"IF(UserInterface!$E$69 = 1,CHOOSE(m_identity,'SHE-Transmission PLC'!AN347, SPTL!AN347, 'NGET TO'!AN347),CHOOSE(m_identity,'SHE-Transmission PLC (Blank - )'!AN347, 'SPTL (Blank - not used)'!AN347, 'NGET TO (Blank - not used)'!AN347))","v":0},{"$f":"IF(UserInterface!$E$69 = 1,CHOOSE(m_identity,'SHE-Transmission PLC'!AO347, SPTL!AO347, 'NGET TO'!AO347),CHOOSE(m_identity,'SHE-Transmission PLC (Blank - )'!AO347, 'SPTL (Blank - not used)'!AO347, 'NGET TO (Blank - not used)'!AO347))","v":0}]
[null,null,null,null,"Opex",null,"%",null,null,null,null,null,null,null,null,null,null,null,null,null,null,null,null,null,null,null,null,null,null,null,null,null,null,{"$f":"IF(UserInterface!$E$69 = 1,CHOOSE(m_identity,'SHE-Transmission PLC'!AH348, SPTL!AH348, 'NGET TO'!AH348),CHOOSE(m_identity,'SHE-Transmission PLC (Blank - )'!AH348, 'SPTL (Blank - not used)'!AH348, 'NGET TO (Blank - not used)'!AH348))","v":1},{"$f":"IF(UserInterface!$E$69 = 1,CHOOSE(m_identity,'SHE-Transmission PLC'!AI348, SPTL!AI348, 'NGET TO'!AI348),CHOOSE(m_identity,'SHE-Transmission PLC (Blank - )'!AI348, 'SPTL (Blank - not used)'!AI348, 'NGET TO (Blank - not used)'!AI348))","v":1},{"$f":"IF(UserInterface!$E$69 = 1,CHOOSE(m_identity,'SHE-Transmission PLC'!AJ348, SPTL!AJ348, 'NGET TO'!AJ348),CHOOSE(m_identity,'SHE-Transmission PLC (Blank - )'!AJ348, 'SPTL (Blank - not used)'!AJ348, 'NGET TO (Blank - not used)'!AJ348))","v":1},{"$f":"IF(UserInterface!$E$69 = 1,CHOOSE(m_identity,'SHE-Transmission PLC'!AK348, SPTL!AK348, 'NGET TO'!AK348),CHOOSE(m_identity,'SHE-Transmission PLC (Blank - )'!AK348, 'SPTL (Blank - not used)'!AK348, 'NGET TO (Blank - not used)'!AK348))","v":1},{"$f":"IF(UserInterface!$E$69 = 1,CHOOSE(m_identity,'SHE-Transmission PLC'!AL348, SPTL!AL348, 'NGET TO'!AL348),CHOOSE(m_identity,'SHE-Transmission PLC (Blank - )'!AL348, 'SPTL (Blank - not used)'!AL348, 'NGET TO (Blank - not used)'!AL348))","v":1},{"$f":"IF(UserInterface!$E$69 = 1,CHOOSE(m_identity,'SHE-Transmission PLC'!AM348, SPTL!AM348, 'NGET TO'!AM348),CHOOSE(m_identity,'SHE-Transmission PLC (Blank - )'!AM348, 'SPTL (Blank - not used)'!AM348, 'NGET TO (Blank - not used)'!AM348))","v":1},{"$f":"IF(UserInterface!$E$69 = 1,CHOOSE(m_identity,'SHE-Transmission PLC'!AN348, SPTL!AN348, 'NGET TO'!AN348),CHOOSE(m_identity,'SHE-Transmission PLC (Blank - )'!AN348, 'SPTL (Blank - not used)'!AN348, 'NGET TO (Blank - not used)'!AN348))","v":1},{"$f":"IF(UserInterface!$E$69 = 1,CHOOSE(m_identity,'SHE-Transmission PLC'!AO348, SPTL!AO348, 'NGET TO'!AO348),CHOOSE(m_identity,'SHE-Transmission PLC (Blank - )'!AO348, 'SPTL (Blank - not used)'!AO348, 'NGET TO (Blank - not used)'!AO348))","v":1}]
[null,null,null,null,"Non Operational Capex",null,"%",null,null,null,null,null,null,null,null,null,null,null,null,null,null,null,null,null,null,null,null,null,null,null,null,null,null,{"$f":"IF(UserInterface!$E$69 = 1,CHOOSE(m_identity,'SHE-Transmission PLC'!AH349, SPTL!AH349, 'NGET TO'!AH349),CHOOSE(m_identity,'SHE-Transmission PLC (Blank - )'!AH349, 'SPTL (Blank - not used)'!AH349, 'NGET TO (Blank - not used)'!AH349))","v":1.7999999999999999E-2},{"$f":"IF(UserInterface!$E$69 = 1,CHOOSE(m_identity,'SHE-Transmission PLC'!AI349, SPTL!AI349, 'NGET TO'!AI349),CHOOSE(m_identity,'SHE-Transmission PLC (Blank - )'!AI349, 'SPTL (Blank - not used)'!AI349, 'NGET TO (Blank - not used)'!AI349))","v":1.7999999999999999E-2},{"$f":"IF(UserInterface!$E$69 = 1,CHOOSE(m_identity,'SHE-Transmission PLC'!AJ349, SPTL!AJ349, 'NGET TO'!AJ349),CHOOSE(m_identity,'SHE-Transmission PLC (Blank - )'!AJ349, 'SPTL (Blank - not used)'!AJ349, 'NGET TO (Blank - not used)'!AJ349))","v":1.7999999999999999E-2},{"$f":"IF(UserInterface!$E$69 = 1,CHOOSE(m_identity,'SHE-Transmission PLC'!AK349, SPTL!AK349, 'NGET TO'!AK349),CHOOSE(m_identity,'SHE-Transmission PLC (Blank - )'!AK349, 'SPTL (Blank - not used)'!AK349, 'NGET TO (Blank - not used)'!AK349))","v":1.7999999999999999E-2},{"$f":"IF(UserInterface!$E$69 = 1,CHOOSE(m_identity,'SHE-Transmission PLC'!AL349, SPTL!AL349, 'NGET TO'!AL349),CHOOSE(m_identity,'SHE-Transmission PLC (Blank - )'!AL349, 'SPTL (Blank - not used)'!AL349, 'NGET TO (Blank - not used)'!AL349))","v":1.7999999999999999E-2},{"$f":"IF(UserInterface!$E$69 = 1,CHOOSE(m_identity,'SHE-Transmission PLC'!AM349, SPTL!AM349, 'NGET TO'!AM349),CHOOSE(m_identity,'SHE-Transmission PLC (Blank - )'!AM349, 'SPTL (Blank - not used)'!AM349, 'NGET TO (Blank - not used)'!AM349))","v":1.7999999999999999E-2},{"$f":"IF(UserInterface!$E$69 = 1,CHOOSE(m_identity,'SHE-Transmission PLC'!AN349, SPTL!AN349, 'NGET TO'!AN349),CHOOSE(m_identity,'SHE-Transmission PLC (Blank - )'!AN349, 'SPTL (Blank - not used)'!AN349, 'NGET TO (Blank - not used)'!AN349))","v":1.7999999999999999E-2},{"$f":"IF(UserInterface!$E$69 = 1,CHOOSE(m_identity,'SHE-Transmission PLC'!AO349, SPTL!AO349, 'NGET TO'!AO349),CHOOSE(m_identity,'SHE-Transmission PLC (Blank - )'!AO349, 'SPTL (Blank - not used)'!AO349, 'NGET TO (Blank - not used)'!AO349))","v":1.7999999999999999E-2}]
[]
[null,null,null,"Allocation to \"Non Qualifying\" pool"]
[]
[null,null,null,null,"Load related capex expenditure",null,"%",null,null,null,null,null,null,null,null,null,null,null,null,null,null,null,null,null,null,null,null,null,null,null,null,null,null,{"$f":"IF(UserInterface!$E$69 = 1,CHOOSE(m_identity,'SHE-Transmission PLC'!AH353, SPTL!AH353, 'NGET TO'!AH353),CHOOSE(m_identity,'SHE-Transmission PLC (Blank - )'!AH353, 'SPTL (Blank - not used)'!AH353, 'NGET TO (Blank - not used)'!AH353))","v":5.7000000000000002E-2},{"$f":"IF(UserInterface!$E$69 = 1,CHOOSE(m_identity,'SHE-Transmission PLC'!AI353, SPTL!AI353, 'NGET TO'!AI353),CHOOSE(m_identity,'SHE-Transmission PLC (Blank - )'!AI353, 'SPTL (Blank - not used)'!AI353, 'NGET TO (Blank - not used)'!AI353))","v":5.7000000000000002E-2},{"$f":"IF(UserInterface!$E$69 = 1,CHOOSE(m_identity,'SHE-Transmission PLC'!AJ353, SPTL!AJ353, 'NGET TO'!AJ353),CHOOSE(m_identity,'SHE-Transmission PLC (Blank - )'!AJ353, 'SPTL (Blank - not used)'!AJ353, 'NGET TO (Blank - not used)'!AJ353))","v":5.7000000000000002E-2},{"$f":"IF(UserInterface!$E$69 = 1,CHOOSE(m_identity,'SHE-Transmission PLC'!AK353, SPTL!AK353, 'NGET TO'!AK353),CHOOSE(m_identity,'SHE-Transmission PLC (Blank - )'!AK353, 'SPTL (Blank - not used)'!AK353, 'NGET TO (Blank - not used)'!AK353))","v":5.7000000000000002E-2},{"$f":"IF(UserInterface!$E$69 = 1,CHOOSE(m_identity,'SHE-Transmission PLC'!AL353, SPTL!AL353, 'NGET TO'!AL353),CHOOSE(m_identity,'SHE-Transmission PLC (Blank - )'!AL353, 'SPTL (Blank - not used)'!AL353, 'NGET TO (Blank - not used)'!AL353))","v":5.7000000000000002E-2},{"$f":"IF(UserInterface!$E$69 = 1,CHOOSE(m_identity,'SHE-Transmission PLC'!AM353, SPTL!AM353, 'NGET TO'!AM353),CHOOSE(m_identity,'SHE-Transmission PLC (Blank - )'!AM353, 'SPTL (Blank - not used)'!AM353, 'NGET TO (Blank - not used)'!AM353))","v":5.7000000000000002E-2},{"$f":"IF(UserInterface!$E$69 = 1,CHOOSE(m_identity,'SHE-Transmission PLC'!AN353, SPTL!AN353, 'NGET TO'!AN353),CHOOSE(m_identity,'SHE-Transmission PLC (Blank - )'!AN353, 'SPTL (Blank - not used)'!AN353, 'NGET TO (Blank - not used)'!AN353))","v":5.7000000000000002E-2},{"$f":"IF(UserInterface!$E$69 = 1,CHOOSE(m_identity,'SHE-Transmission PLC'!AO353, SPTL!AO353, 'NGET TO'!AO353),CHOOSE(m_identity,'SHE-Transmission PLC (Blank - )'!AO353, 'SPTL (Blank - not used)'!AO353, 'NGET TO (Blank - not used)'!AO353))","v":5.7000000000000002E-2}]
[null,null,null,null,"Asset replacement capex expenditure",null,"%",null,null,null,null,null,null,null,null,null,null,null,null,null,null,null,null,null,null,null,null,null,null,null,null,null,null,{"$f":"IF(UserInterface!$E$69 = 1,CHOOSE(m_identity,'SHE-Transmission PLC'!AH354, SPTL!AH354, 'NGET TO'!AH354),CHOOSE(m_identity,'SHE-Transmission PLC (Blank - )'!AH354, 'SPTL (Blank - not used)'!AH354, 'NGET TO (Blank - not used)'!AH354))","v":2.5999999999999999E-2},{"$f":"IF(UserInterface!$E$69 = 1,CHOOSE(m_identity,'SHE-Transmission PLC'!AI354, SPTL!AI354, 'NGET TO'!AI354),CHOOSE(m_identity,'SHE-Transmission PLC (Blank - )'!AI354, 'SPTL (Blank - not used)'!AI354, 'NGET TO (Blank - not used)'!AI354))","v":2.5999999999999999E-2},{"$f":"IF(UserInterface!$E$69 = 1,CHOOSE(m_identity,'SHE-Transmission PLC'!AJ354, SPTL!AJ354, 'NGET TO'!AJ354),CHOOSE(m_identity,'SHE-Transmission PLC (Blank - )'!AJ354, 'SPTL (Blank - not used)'!AJ354, 'NGET TO (Blank - not used)'!AJ354))","v":2.5999999999999999E-2},{"$f":"IF(UserInterface!$E$69 = 1,CHOOSE(m_identity,'SHE-Transmission PLC'!AK354, SPTL!AK354, 'NGET TO'!AK354),CHOOSE(m_identity,'SHE-Transmission PLC (Blank - )'!AK354, 'SPTL (Blank - not used)'!AK354, 'NGET TO (Blank - not used)'!AK354))","v":2.5999999999999999E-2},{"$f":"IF(UserInterface!$E$69 = 1,CHOOSE(m_identity,'SHE-Transmission PLC'!AL354, SPTL!AL354, 'NGET TO'!AL354),CHOOSE(m_identity,'SHE-Transmission PLC (Blank - )'!AL354, 'SPTL (Blank - not used)'!AL354, 'NGET TO (Blank - not used)'!AL354))","v":2.5999999999999999E-2},{"$f":"IF(UserInterface!$E$69 = 1,CHOOSE(m_identity,'SHE-Transmission PLC'!AM354, SPTL!AM354, 'NGET TO'!AM354),CHOOSE(m_identity,'SHE-Transmission PLC (Blank - )'!AM354, 'SPTL (Blank - not used)'!AM354, 'NGET TO (Blank - not used)'!AM354))","v":2.5999999999999999E-2},{"$f":"IF(UserInterface!$E$69 = 1,CHOOSE(m_identity,'SHE-Transmission PLC'!AN354, SPTL!AN354, 'NGET TO'!AN354),CHOOSE(m_identity,'SHE-Transmission PLC (Blank - )'!AN354, 'SPTL (Blank - not used)'!AN354, 'NGET TO (Blank - not used)'!AN354))","v":2.5999999999999999E-2},{"$f":"IF(UserInterface!$E$69 = 1,CHOOSE(m_identity,'SHE-Transmission PLC'!AO354, SPTL!AO354, 'NGET TO'!AO354),CHOOSE(m_identity,'SHE-Transmission PLC (Blank - )'!AO354, 'SPTL (Blank - not used)'!AO354, 'NGET TO (Blank - not used)'!AO354))","v":2.5999999999999999E-2}]
[null,null,null,null,"Other capex expenditure",null,"%",null,null,null,null,null,null,null,null,null,null,null,null,null,null,null,null,null,null,null,null,null,null,null,null,null,null,{"$f":"IF(UserInterface!$E$69 = 1,CHOOSE(m_identity,'SHE-Transmission PLC'!AH355, SPTL!AH355, 'NGET TO'!AH355),CHOOSE(m_identity,'SHE-Transmission PLC (Blank - )'!AH355, 'SPTL (Blank - not used)'!AH355, 'NGET TO (Blank - not used)'!AH355))","v":2.5999999999999999E-2},{"$f":"IF(UserInterface!$E$69 = 1,CHOOSE(m_identity,'SHE-Transmission PLC'!AI355, SPTL!AI355, 'NGET TO'!AI355),CHOOSE(m_identity,'SHE-Transmission PLC (Blank - )'!AI355, 'SPTL (Blank - not used)'!AI355, 'NGET TO (Blank - not used)'!AI355))","v":2.5999999999999999E-2},{"$f":"IF(UserInterface!$E$69 = 1,CHOOSE(m_identity,'SHE-Transmission PLC'!AJ355, SPTL!AJ355, 'NGET TO'!AJ355),CHOOSE(m_identity,'SHE-Transmission PLC (Blank - )'!AJ355, 'SPTL (Blank - not used)'!AJ355, 'NGET TO (Blank - not used)'!AJ355))","v":2.5999999999999999E-2},{"$f":"IF(UserInterface!$E$69 = 1,CHOOSE(m_identity,'SHE-Transmission PLC'!AK355, SPTL!AK355, 'NGET TO'!AK355),CHOOSE(m_identity,'SHE-Transmission PLC (Blank - )'!AK355, 'SPTL (Blank - not used)'!AK355, 'NGET TO (Blank - not used)'!AK355))","v":2.5999999999999999E-2},{"$f":"IF(UserInterface!$E$69 = 1,CHOOSE(m_identity,'SHE-Transmission PLC'!AL355, SPTL!AL355, 'NGET TO'!AL355),CHOOSE(m_identity,'SHE-Transmission PLC (Blank - )'!AL355, 'SPTL (Blank - not used)'!AL355, 'NGET TO (Blank - not used)'!AL355))","v":2.5999999999999999E-2},{"$f":"IF(UserInterface!$E$69 = 1,CHOOSE(m_identity,'SHE-Transmission PLC'!AM355, SPTL!AM355, 'NGET TO'!AM355),CHOOSE(m_identity,'SHE-Transmission PLC (Blank - )'!AM355, 'SPTL (Blank - not used)'!AM355, 'NGET TO (Blank - not used)'!AM355))","v":2.5999999999999999E-2},{"$f":"IF(UserInterface!$E$69 = 1,CHOOSE(m_identity,'SHE-Transmission PLC'!AN355, SPTL!AN355, 'NGET TO'!AN355),CHOOSE(m_identity,'SHE-Transmission PLC (Blank - )'!AN355, 'SPTL (Blank - not used)'!AN355, 'NGET TO (Blank - not used)'!AN355))","v":2.5999999999999999E-2},{"$f":"IF(UserInterface!$E$69 = 1,CHOOSE(m_identity,'SHE-Transmission PLC'!AO355, SPTL!AO355, 'NGET TO'!AO355),CHOOSE(m_identity,'SHE-Transmission PLC (Blank - )'!AO355, 'SPTL (Blank - not used)'!AO355, 'NGET TO (Blank - not used)'!AO355))","v":2.5999999999999999E-2}]
[null,null,null,null,"Opex",null,"%",null,null,null,null,null,null,null,null,null,null,null,null,null,null,null,null,null,null,null,null,null,null,null,null,null,null,{"$f":"IF(UserInterface!$E$69 = 1,CHOOSE(m_identity,'SHE-Transmission PLC'!AH356, SPTL!AH356, 'NGET TO'!AH356),CHOOSE(m_identity,'SHE-Transmission PLC (Blank - )'!AH356, 'SPTL (Blank - not used)'!AH356, 'NGET TO (Blank - not used)'!AH356))","v":0},{"$f":"IF(UserInterface!$E$69 = 1,CHOOSE(m_identity,'SHE-Transmission PLC'!AI356, SPTL!AI356, 'NGET TO'!AI356),CHOOSE(m_identity,'SHE-Transmission PLC (Blank - )'!AI356, 'SPTL (Blank - not used)'!AI356, 'NGET TO (Blank - not used)'!AI356))","v":0},{"$f":"IF(UserInterface!$E$69 = 1,CHOOSE(m_identity,'SHE-Transmission PLC'!AJ356, SPTL!AJ356, 'NGET TO'!AJ356),CHOOSE(m_identity,'SHE-Transmission PLC (Blank - )'!AJ356, 'SPTL (Blank - not used)'!AJ356, 'NGET TO (Blank - not used)'!AJ356))","v":0},{"$f":"IF(UserInterface!$E$69 = 1,CHOOSE(m_identity,'SHE-Transmission PLC'!AK356, SPTL!AK356, 'NGET TO'!AK356),CHOOSE(m_identity,'SHE-Transmission PLC (Blank - )'!AK356, 'SPTL (Blank - not used)'!AK356, 'NGET TO (Blank - not used)'!AK356))","v":0},{"$f":"IF(UserInterface!$E$69 = 1,CHOOSE(m_identity,'SHE-Transmission PLC'!AL356, SPTL!AL356, 'NGET TO'!AL356),CHOOSE(m_identity,'SHE-Transmission PLC (Blank - )'!AL356, 'SPTL (Blank - not used)'!AL356, 'NGET TO (Blank - not used)'!AL356))","v":0},{"$f":"IF(UserInterface!$E$69 = 1,CHOOSE(m_identity,'SHE-Transmission PLC'!AM356, SPTL!AM356, 'NGET TO'!AM356),CHOOSE(m_identity,'SHE-Transmission PLC (Blank - )'!AM356, 'SPTL (Blank - not used)'!AM356, 'NGET TO (Blank - not used)'!AM356))","v":0},{"$f":"IF(UserInterface!$E$69 = 1,CHOOSE(m_identity,'SHE-Transmission PLC'!AN356, SPTL!AN356, 'NGET TO'!AN356),CHOOSE(m_identity,'SHE-Transmission PLC (Blank - )'!AN356, 'SPTL (Blank - not used)'!AN356, 'NGET TO (Blank - not used)'!AN356))","v":0},{"$f":"IF(UserInterface!$E$69 = 1,CHOOSE(m_identity,'SHE-Transmission PLC'!AO356, SPTL!AO356, 'NGET TO'!AO356),CHOOSE(m_identity,'SHE-Transmission PLC (Blank - )'!AO356, 'SPTL (Blank - not used)'!AO356, 'NGET TO (Blank - not used)'!AO356))","v":0}]
[null,null,null,null,"Non Operational Capex",null,"%",null,null,null,null,null,null,null,null,null,null,null,null,null,null,null,null,null,null,null,null,null,null,null,null,null,null,{"$f":"IF(UserInterface!$E$69 = 1,CHOOSE(m_identity,'SHE-Transmission PLC'!AH357, SPTL!AH357, 'NGET TO'!AH357),CHOOSE(m_identity,'SHE-Transmission PLC (Blank - )'!AH357, 'SPTL (Blank - not used)'!AH357, 'NGET TO (Blank - not used)'!AH357))","v":0},{"$f":"IF(UserInterface!$E$69 = 1,CHOOSE(m_identity,'SHE-Transmission PLC'!AI357, SPTL!AI357, 'NGET TO'!AI357),CHOOSE(m_identity,'SHE-Transmission PLC (Blank - )'!AI357, 'SPTL (Blank - not used)'!AI357, 'NGET TO (Blank - not used)'!AI357))","v":0},{"$f":"IF(UserInterface!$E$69 = 1,CHOOSE(m_identity,'SHE-Transmission PLC'!AJ357, SPTL!AJ357, 'NGET TO'!AJ357),CHOOSE(m_identity,'SHE-Transmission PLC (Blank - )'!AJ357, 'SPTL (Blank - not used)'!AJ357, 'NGET TO (Blank - not used)'!AJ357))","v":0},{"$f":"IF(UserInterface!$E$69 = 1,CHOOSE(m_identity,'SHE-Transmission PLC'!AK357, SPTL!AK357, 'NGET TO'!AK357),CHOOSE(m_identity,'SHE-Transmission PLC (Blank - )'!AK357, 'SPTL (Blank - not used)'!AK357, 'NGET TO (Blank - not used)'!AK357))","v":0},{"$f":"IF(UserInterface!$E$69 = 1,CHOOSE(m_identity,'SHE-Transmission PLC'!AL357, SPTL!AL357, 'NGET TO'!AL357),CHOOSE(m_identity,'SHE-Transmission PLC (Blank - )'!AL357, 'SPTL (Blank - not used)'!AL357, 'NGET TO (Blank - not used)'!AL357))","v":0},{"$f":"IF(UserInterface!$E$69 = 1,CHOOSE(m_identity,'SHE-Transmission PLC'!AM357, SPTL!AM357, 'NGET TO'!AM357),CHOOSE(m_identity,'SHE-Transmission PLC (Blank - )'!AM357, 'SPTL (Blank - not used)'!AM357, 'NGET TO (Blank - not used)'!AM357))","v":0},{"$f":"IF(UserInterface!$E$69 = 1,CHOOSE(m_identity,'SHE-Transmission PLC'!AN357, SPTL!AN357, 'NGET TO'!AN357),CHOOSE(m_identity,'SHE-Transmission PLC (Blank - )'!AN357, 'SPTL (Blank - not used)'!AN357, 'NGET TO (Blank - not used)'!AN357))","v":0},{"$f":"IF(UserInterface!$E$69 = 1,CHOOSE(m_identity,'SHE-Transmission PLC'!AO357, SPTL!AO357, 'NGET TO'!AO357),CHOOSE(m_identity,'SHE-Transmission PLC (Blank - )'!AO357, 'SPTL (Blank - not used)'!AO357, 'NGET TO (Blank - not used)'!AO357))","v":0}]
[]
[null,null,null,"Allocation check"]
[null,null,null,"Note: All categories should equal 100%"]
[]
[null,null,null,null,"Load related capex expenditure",null,"%",null,null,null,null,null,null,null,null,null,null,null,null,null,null,null,null,null,null,null,null,null,null,null,null,null,null,{"$f":"AH321+AH329+AH337+AH345+AH353","v":1},1,1,1,1,1,1,1]
[null,null,null,null,"Asset replacement capex expenditure",null,"%",null,null,null,null,null,null,null,null,null,null,null,null,null,null,null,null,null,null,null,null,null,null,null,null,null,null,1,1,1,1,1,1,1,1]
[null,null,null,null,"Other capex expenditure",null,"%",null,null,null,null,null,null,null,null,null,null,null,null,null,null,null,null,null,null,null,null,null,null,null,null,null,null,1,1,1,1,1,1,1,1]
[null,null,null,null,"Opex",null,"%",null,null,null,null,null,null,null,null,null,null,null,null,null,null,null,null,null,null,null,null,null,null,null,null,null,null,1,1,1,1,1,1,1,1]
[null,null,null,null,"Non Operational Capex",null,"%",null,null,null,null,null,null,null,null,null,null,null,null,null,null,null,null,null,null,null,null,null,null,null,null,null,null,1,1,1,1,1,1,1,1]
[]
[null,null,null,"Tax Trigger Deadbands"]
[]
[null,null,null,null,"Tax Trigger Deadband",null,null,null,null,null,null,null,null,null,null,null,null,null,null,null,null,null,null,null,null,null,null,null,null,null,null,null,null,{"$f":"IF(UserInterface!$E$69 = 1,CHOOSE(m_identity,'SHE-Transmission PLC'!AH370, SPTL!AH370, 'NGET TO'!AH370),CHOOSE(m_identity,'SHE-Transmission PLC (Blank - )'!AH376, 'SPTL (Blank - not used)'!AH376, 'NGET TO (Blank - not used)'!AH376))","v":4.4960765320968576},{"$f":"IF(UserInterface!$E$69 = 1,CHOOSE(m_identity,'SHE-Transmission PLC'!AI370, SPTL!AI370, 'NGET TO'!AI370),CHOOSE(m_identity,'SHE-Transmission PLC (Blank - )'!AI376, 'SPTL (Blank - not used)'!AI376, 'NGET TO (Blank - not used)'!AI376))","v":4.9308742400311196},{"$f":"IF(UserInterface!$E$69 = 1,CHOOSE(m_identity,'SHE-Transmission PLC'!AJ370, SPTL!AJ370, 'NGET TO'!AJ370),CHOOSE(m_identity,'SHE-Transmission PLC (Blank - )'!AJ376, 'SPTL (Blank - not used)'!AJ376, 'NGET TO (Blank - not used)'!AJ376))","v":5.2197545237258787},{"$f":"IF(UserInterface!$E$69 = 1,CHOOSE(m_identity,'SHE-Transmission PLC'!AK370, SPTL!AK370, 'NGET TO'!AK370),CHOOSE(m_identity,'SHE-Transmission PLC (Blank - )'!AK376, 'SPTL (Blank - not used)'!AK376, 'NGET TO (Blank - not used)'!AK376))","v":5.5253695432128369},{"$f":"IF(UserInterface!$E$69 = 1,CHOOSE(m_identity,'SHE-Transmission PLC'!AL370, SPTL!AL370, 'NGET TO'!AL370),CHOOSE(m_identity,'SHE-Transmission PLC (Blank - )'!AL376, 'SPTL (Blank - not used)'!AL376, 'NGET TO (Blank - not used)'!AL376))","v":5.5677774394135779},{"$f":"IF(UserInterface!$E$69 = 1,CHOOSE(m_identity,'SHE-Transmission PLC'!AM370, SPTL!AM370, 'NGET TO'!AM370),CHOOSE(m_identity,'SHE-Transmission PLC (Blank - )'!AM376, 'SPTL (Blank - not used)'!AM376, 'NGET TO (Blank - not used)'!AM376))","v":5.8969222568250137},{"$f":"IF(UserInterface!$E$69 = 1,CHOOSE(m_identity,'SHE-Transmission PLC'!AN370, SPTL!AN370, 'NGET TO'!AN370),CHOOSE(m_identity,'SHE-Transmission PLC (Blank - )'!AN376, 'SPTL (Blank - not used)'!AN376, 'NGET TO (Blank - not used)'!AN376))","v":5.779975933381202},{"$f":"IF(UserInterface!$E$69 = 1,CHOOSE(m_identity,'SHE-Transmission PLC'!AO370, SPTL!AO370, 'NGET TO'!AO370),CHOOSE(m_identity,'SHE-Transmission PLC (Blank - )'!AO376, 'SPTL (Blank - not used)'!AO376, 'NGET TO (Blank - not used)'!AO376))","v":5.7361649378867847}]
[]
[null,null,null,"Additional Income Workings"]
[]
[null,null,null,null,"Original allowed totex",null,null,null,null,null,null,null,null,null,null,null,null,null,null,null,null,null,null,null,null,null,null,null,null,null,null,null,null,{"$f":"IF(UserInterface!$E$69 = 1,CHOOSE(m_identity,'SHE-Transmission PLC'!AH374, SPTL!AH374, 'NGET TO'!AH374),CHOOSE(m_identity,'SHE-Transmission PLC (Blank - )'!AH380, 'SPTL (Blank - not used)'!AH380, 'NGET TO (Blank - not used)'!AH380))","v":1582.7080571296715},{"$f":"IF(UserInterface!$E$69 = 1,CHOOSE(m_identity,'SHE-Transmission PLC'!AI374, SPTL!AI374, 'NGET TO'!AI374),CHOOSE(m_identity,'SHE-Transmission PLC (Blank - )'!AI380, 'SPTL (Blank - not used)'!AI380, 'NGET TO (Blank - not used)'!AI380))","v":1725.2795302820005},{"$f":"IF(UserInterface!$E$69 = 1,CHOOSE(m_identity,'SHE-Transmission PLC'!AJ374, SPTL!AJ374, 'NGET TO'!AJ374),CHOOSE(m_identity,'SHE-Transmission PLC (Blank - )'!AJ380, 'SPTL (Blank - not used)'!AJ380, 'NGET TO (Blank - not used)'!AJ380))","v":1650.3305791182984},{"$f":"IF(UserInterface!$E$69 = 1,CHOOSE(m_identity,'SHE-Transmission PLC'!AK374, SPTL!AK374, 'NGET TO'!AK374),CHOOSE(m_identity,'SHE-Transmission PLC (Blank - )'!AK380, 'SPTL (Blank - not used)'!AK380, 'NGET TO (Blank - not used)'!AK380))","v":1570.2148399024168},{"$f":"IF(UserInterface!$E$69 = 1,CHOOSE(m_identity,'SHE-Transmission PLC'!AL374, SPTL!AL374, 'NGET TO'!AL374),CHOOSE(m_identity,'SHE-Transmission PLC (Blank - )'!AL380, 'SPTL (Blank - not used)'!AL380, 'NGET TO (Blank - not used)'!AL380))","v":1347.6317378903702},{"$f":"IF(UserInterface!$E$69 = 1,CHOOSE(m_identity,'SHE-Transmission PLC'!AM374, SPTL!AM374, 'NGET TO'!AM374),CHOOSE(m_identity,'SHE-Transmission PLC (Blank - )'!AM380, 'SPTL (Blank - not used)'!AM380, 'NGET TO (Blank - not used)'!AM380))","v":1294.8741427115747},{"$f":"IF(UserInterface!$E$69 = 1,CHOOSE(m_identity,'SHE-Transmission PLC'!AN374, SPTL!AN374, 'NGET TO'!AN374),CHOOSE(m_identity,'SHE-Transmission PLC (Blank - )'!AN380, 'SPTL (Blank - not used)'!AN380, 'NGET TO (Blank - not used)'!AN380))","v":1145.9100333902061},{"$f":"IF(UserInterface!$E$69 = 1,CHOOSE(m_identity,'SHE-Transmission PLC'!AO374, SPTL!AO374, 'NGET TO'!AO374),CHOOSE(m_identity,'SHE-Transmission PLC (Blank - )'!AO380, 'SPTL (Blank - not used)'!AO380, 'NGET TO (Blank - not used)'!AO380))","v":974.23851345397452}]
[null,null,null,null,"Total allowed totex",null,null,null,{"$f":"IF(UserInterface!$E$69 = 1,CHOOSE(m_identity,'SHE-Transmission PLC'!I375, SPTL!I375, 'NGET TO'!I375),CHOOSE(m_identity,'SHE-Transmission PLC (Blank - )'!I381, 'SPTL (Blank - not used)'!I381, 'NGET TO (Blank - not used)'!I381))","v":11291.187433878515}]
[]
[null,"End of sheet"]

{"sheet":"Totex","index":5,"n_rows":76,"n_cols":41,"rows_kept":76,"cut":false,"hidden":false,"merged":[]}
["Totex"]
[null,{"$f":"UserInterface!G25","v":"NGET TO"}]
[null,null,null,null,"Parameter",null,"Units",null,"Constant",null,null,null,null,null,null,null,null,null,null,null,null,null,null,null,null,null,null,null,null,null,null,null,null,"Annual values"]
[null,null,null,null,"PCFM year ending",null,null,null,{"$f":"UserInterface!$G$18","v":"2016-03-31"},null,"1991-03-31","1992-03-31","1993-03-31","1994-03-31","1995-03-31","1996-03-31","1997-03-31","1998-03-31","1999-03-31","2000-03-31","2001-03-31","2002-03-31","2003-03-31","2004-03-31","2005-03-31","2006-03-31","2007-03-31","2008-03-31","2009-03-31","2010-03-31","2011-03-31","2012-03-31","2013-03-31","2014-03-31","2015-03-31","2016-03-31","2017-03-31","2018-03-31","2019-03-31","2020-03-31","2021-03-31"]
[]
[null,"Totex"]
[]
[null,null,"Allowed totex aggregated by sub-category"]
[null,null,"Note: Totex is the sum of a number of cost categories, with all totex allowances falling under one (or more) of them. They have significance in the model as each sub-category can have its own set of tax pool allocation rules."]
[]
[null,null,null,"Non-variant allowances"]
[null,null,null,"Note: These values are set at final proposals and are not updated during the price control"]
[]
[null,null,null,null,"Non-variant allowed load related capex expenditure",null,"£m 09/10 prices",null,null,null,null,null,null,null,null,null,null,null,null,null,null,null,null,null,null,null,null,null,null,null,null,null,null,{"$f":"Input!AH84","v":241.91835100747039},{"$f":"Input!AI84","v":206.22285805015076},{"$f":"Input!AJ84","v":183.4765697039528},{"$f":"Input!AK84","v":187.40173539185469},{"$f":"Input!AL84","v":142.92705896695065},{"$f":"Input!AM84","v":124.46128971626086},{"$f":"Input!AN84","v":44.072350609794569},{"$f":"Input!AO84","v":28.383548641119383}]
[null,null,null,null,"Non-variant allowed asset replacement capex expenditure",null,"£m 09/10 prices",null,null,null,null,null,null,null,null,null,null,null,null,null,null,null,null,null,null,null,null,null,null,null,null,null,null,{"$f":"Input!AH85","v":468.80843213925681},{"$f":"Input!AI85","v":464.05399879326387},{"$f":"Input!AJ85","v":458.96940179907631},{"$f":"Input!AK85","v":462.20515674748674},{"$f":"Input!AL85","v":597.39616992865308},{"$f":"Input!AM85","v":694.95362362794094},{"$f":"Input!AN85","v":760.47133413278959},{"$f":"Input!AO85","v":680.37534043694836}]
[null,null,null,null,"Non-variant allowed other capex expenditure",null,"£m 09/10 prices",null,null,null,null,null,null,null,null,null,null,null,null,null,null,null,null,null,null,null,null,null,null,null,null,null,null,{"$f":"Input!AH86","v":8.8076800000000013},{"$f":"Input!AI86","v":7.2568799999999998},{"$f":"Input!AJ86","v":5.9409999999999998},{"$f":"Input!AK86","v":8.2522800000000007},{"$f":"Input!AL86","v":7.9053199999999988},{"$f":"Input!AM86","v":10.711639999999999},{"$f":"Input!AN86","v":10.669640000000001},{"$f":"Input!AO86","v":11.88064}]
[null,null,null,null,"Non-variant allowed controllable opex",null,"£m 09/10 prices",null,null,null,null,null,null,null,null,null,null,null,null,null,null,null,null,null,null,null,null,null,null,null,null,null,null,{"$f":"Input!AH87","v":192.21282629439594},{"$f":"Input!AI87","v":196.41204072355288},{"$f":"Input!AJ87","v":203.04710659109347},{"$f":"Input!AK87","v":204.35171680440774},{"$f":"Input!AL87","v":205.72203973741003},{"$f":"Input!AM87","v":206.0644404839947},{"$f":"Input!AN87","v":207.83890997781467},{"$f":"Input!AO87","v":208.20405529640865}]
[null,null,null,null,"Non-variant allowed non-operational capex",null,"£m 09/10 prices",null,null,null,null,null,null,null,null,null,null,null,null,null,null,null,null,null,null,null,null,null,null,null,null,null,null,{"$f":"Input!AH88","v":28.502252866756592},{"$f":"Input!AI88","v":27.893219356255912},{"$f":"Input!AJ88","v":20.162895818884664},{"$f":"Input!AK88","v":18.683994860020533},{"$f":"Input!AL88","v":17.317434737643207},{"$f":"Input!AM88","v":10.132273565113017},{"$f":"Input!AN88","v":13.10983633518048},{"$f":"Input!AO88","v":11.957035518704526}]
[]
[null,null,null,"Variant"]
[null,null,null,"Note: Licence conditions may allow for non-baseline allowances to be granted. These are added to the baseline to generate the allowed sub-categories and thereby the overall allowed totex."]
[]
[null,null,null,null,"Variant allowed load related capex expenditure",null,{"$f":"Input!G183","v":"£m 09/10 prices"},null,null,null,null,null,null,null,null,null,null,null,null,null,null,null,null,null,null,null,null,null,null,null,null,null,null,{"$f":"Input!AH183","v":724.45752393322289},{"$f":"Input!AI183","v":755.09934033774448},{"$f":"Input!AJ183","v":689.73552648636178},{"$f":"Input!AK183","v":556.80155418660092},{"$f":"Input!AL183","v":301.14871451971328},{"$f":"Input!AM183","v":207.58987531826511},{"$f":"Input!AN183","v":82.29196233462693},{"$f":"Input!AO183","v":30.163893560793589}]
[null,null,null,null,"Variant allowed asset replacement capex expenditure",null,{"$f":"Input!G184","v":"£m 09/10 prices"},null,null,null,null,null,null,null,null,null,null,null,null,null,null,null,null,null,null,null,null,null,null,null,null,null,null,{"$f":"Input!AH184","v":0},{"$f":"Input!AI184","v":0},{"$f":"Input!AJ184","v":0},{"$f":"Input!AK184","v":0},{"$f":"Input!AL184","v":0},{"$f":"Input!AM184","v":0},{"$f":"Input!AN184","v":0},{"$f":"Input!AO184","v":0}]
[null,null,null,null,"Variant allowed other capex expenditure",null,{"$f":"Input!G185","v":"£m 09/10 prices"},null,null,null,null,null,null,null,null,null,null,null,null,null,null,null,null,null,null,null,null,null,null,null,null,null,null,{"$f":"Input!AH185","v":0},{"$f":"Input!AI185","v":0},{"$f":"Input!AJ185","v":0},{"$f":"Input!AK185","v":0},{"$f":"Input!AL185","v":0},{"$f":"Input!AM185","v":0},{"$f":"Input!AN185","v":0},{"$f":"Input!AO185","v":0}]
[null,null,null,null,"Variant allowed controllable opex",null,{"$f":"Input!G186","v":"£m 09/10 prices"},null,null,null,null,null,null,null,null,null,null,null,null,null,null,null,null,null,null,null,null,null,null,null,null,null,null,{"$f":"Input!AH186","v":0},{"$f":"Input!AI186","v":0},{"$f":"Input!AJ186","v":0},{"$f":"Input!AK186","v":0},{"$f":"Input!AL186","v":0},{"$f":"Input!AM186","v":0},{"$f":"Input!AN186","v":0},{"$f":"Input!AO186","v":0}]
[null,null,null,null,"Variant allowed non-operational capex",null,{"$f":"Input!G187","v":"£m 09/10 prices"},null,null,null,null,null,null,null,null,null,null,null,null,null,null,null,null,null,null,null,null,null,null,null,null,null,null,{"$f":"Input!AH187","v":0},{"$f":"Input!AI187","v":0},{"$f":"Input!AJ187","v":0},{"$f":"Input!AK187","v":0},{"$f":"Input!AL187","v":0},{"$f":"Input!AM187","v":0},{"$f":"Input!AN187","v":0},{"$f":"Input!AO187","v":0}]
[]
[null,null,null,"Allowance"]
[null,null,null,"Note: \"Allowed totex\" is exported to be used in the TIM calculation. The allowed totex sub-categories are used below to create forecast actuals for the tax calculation and the TIM calculation when actuals are not yet available."]
[]
[null,null,null,null,"Allowed load related capex expenditure",null,"£m 09/10 prices",null,null,null,null,null,null,null,null,null,null,null,null,null,null,null,null,null,null,null,null,null,null,null,null,null,null,{"$f":"AH14 + AH23","v":966.37587494069328},961.32219838789524,873.21209619031458,744.20328957845561,444.07577348666393,332.05116503452598,126.3643129444215,58.547442201912972]
[null,null,null,null,"Allowed asset replacement capex expenditure",null,"£m 09/10 prices",null,null,null,null,null,null,null,null,null,null,null,null,null,null,null,null,null,null,null,null,null,null,null,null,null,null,468.80843213925681,464.05399879326387,458.96940179907631,462.20515674748674,597.39616992865308,694.95362362794094,760.47133413278959,680.37534043694836]
[null,null,null,null,"Allowed other capex expenditure",null,"£m 09/10 prices",null,null,null,null,null,null,null,null,null,null,null,null,null,null,null,null,null,null,null,null,null,null,null,null,null,null,8.8076800000000013,7.2568799999999998,5.9409999999999998,8.2522800000000007,7.9053199999999988,10.711639999999999,10.669640000000001,11.88064]
[null,null,null,null,"Allowed controllable opex",null,"£m 09/10 prices",null,null,null,null,null,null,null,null,null,null,null,null,null,null,null,null,null,null,null,null,null,null,null,null,null,null,192.21282629439594,196.41204072355288,203.04710659109347,204.35171680440774,205.72203973741003,206.0644404839947,207.83890997781467,208.20405529640865]
[null,null,null,null,"Allowed non-operational capex",null,"£m 09/10 prices",null,null,null,null,null,null,null,null,null,null,null,null,null,null,null,null,null,null,null,null,null,null,null,null,null,null,28.502252866756592,27.893219356255912,20.162895818884664,18.683994860020533,17.317434737643207,10.132273565113017,13.10983633518048,11.957035518704526]
[null,null,null,null,"Allowed totex",null,"£m 09/10 prices",null,null,null,null,null,null,null,null,null,null,null,null,null,null,null,null,null,null,null,null,null,null,null,null,null,null,{"$f":"SUM(AH32:AH36)","v":1664.7070662411024},1656.9383372609677,1561.3325003993691,1437.6964379903704,1272.4167378903705,1253.9131427115749,1118.4540333902062,970.96451345397452]
[]
[null,null,"Actual totex"]
[]
[null,null,null,"Source of actuals"]
[null,null,null,"Note: The model assumes that there is a time lag from year t until actual expenditure data becomes available for the model. After the lag, actual expenditure inputs are used. Up to that point the model generates a forecast actual expenditure."]
[null,null,null,"When required in the model, forecasts assume that actuals are equal to their corresponding allowance."]
[null,null,null,"In a year where actual totex is assumed to be available, values must be inputted to the model as it will not generate a forecast and the empty input cell will be read as an actual spend of zero."]
[]
[null,null,null,null,"Years from t until normal reporting of actual costs",null,"years",null,{"$f":"Input!I50","v":2}]
[null,null,null,null,"Input actuals used",null,"text",null,null,null,null,null,null,null,null,null,null,null,null,null,null,null,null,null,null,null,null,null,null,null,null,null,null,{"$f":"YEAR($I$4) >= YEAR(AH$4) + $I46","v":true},false,false,false,false,false,false,false]
[null,null,null,null,"Forecast actuals generated from allowances",null,"text",null,null,null,null,null,null,null,null,null,null,null,null,null,null,null,null,null,null,null,null,null,null,null,null,null,null,{"$f":"YEAR($I$4) < YEAR(AH$4) + $I46","v":false},true,true,true,true,true,true,true]
[]
[null,null,null,"Actual totex from cost reporting processes and final proposals"]
[]
[null,null,null,null,"Actual load related capex expenditure",null,"£m 09/10 prices",null,null,null,null,null,null,null,null,null,null,null,null,null,null,null,null,null,null,null,null,null,null,null,null,null,null,{"$f":"IF(AH$47, Input!AH191, 0)","v":576.4723599528071},{"$f":"IF(AI$47, Input!AI191, 0)","v":0},{"$f":"IF(AJ$47, Input!AJ191, 0)","v":0},{"$f":"IF(AK$47, Input!AK191, 0)","v":0},{"$f":"IF(AL$47, Input!AL191, 0)","v":0},{"$f":"IF(AM$47, Input!AM191, 0)","v":0},{"$f":"IF(AN$47, Input!AN191, 0)","v":0},{"$f":"IF(AO$47, Input!AO191, 0)","v":0}]
[null,null,null,null,"Actual asset replacement capex expenditure",null,"£m 09/10 prices",null,null,null,null,null,null,null,null,null,null,null,null,null,null,null,null,null,null,null,null,null,null,null,null,null,null,{"$f":"IF(AH$47, Input!AH192, 0)","v":217.14268787167353},{"$f":"IF(AI$47, Input!AI192, 0)","v":0},{"$f":"IF(AJ$47, Input!AJ192, 0)","v":0},{"$f":"IF(AK$47, Input!AK192, 0)","v":0},{"$f":"IF(AL$47, Input!AL192, 0)","v":0},{"$f":"IF(AM$47, Input!AM192, 0)","v":0},{"$f":"IF(AN$47, Input!AN192, 0)","v":0},{"$f":"IF(AO$47, Input!AO192, 0)","v":0}]
[null,null,null,null,"Actual other capex expenditure",null,"£m 09/10 prices",null,null,null,null,null,null,null,null,null,null,null,null,null,null,null,null,null,null,null,null,null,null,null,null,null,null,{"$f":"IF(AH$47, Input!AH193, 0)","v":174.99178290887571},{"$f":"IF(AI$47, Input!AI193, 0)","v":0},{"$f":"IF(AJ$47, Input!AJ193, 0)","v":0},{"$f":"IF(AK$47, Input!AK193, 0)","v":0},{"$f":"IF(AL$47, Input!AL193, 0)","v":0},{"$f":"IF(AM$47, Input!AM193, 0)","v":0},{"$f":"IF(AN$47, Input!AN193, 0)","v":0},{"$f":"IF(AO$47, Input!AO193, 0)","v":0}]
[null,null,null,null,"Actual controllable opex",null,"£m 09/10 prices",null,null,null,null,null,null,null,null,null,null,null,null,null,null,null,null,null,null,null,null,null,null,null,null,null,null,{"$f":"IF(AH$47, Input!AH194, 0)","v":165.28612902215741},{"$f":"IF(AI$47, Input!AI194, 0)","v":0},{"$f":"IF(AJ$47, Input!AJ194, 0)","v":0},{"$f":"IF(AK$47, Input!AK194, 0)","v":0},{"$f":"IF(AL$47, Input!AL194, 0)","v":0},{"$f":"IF(AM$47, Input!AM194, 0)","v":0},{"$f":"IF(AN$47, Input!AN194, 0)","v":0},{"$f":"IF(AO$47, Input!AO194, 0)","v":0}]
[null,null,null,null,"Actual non-operational capex",null,"£m 09/10 prices",null,null,null,null,null,null,null,null,null,null,null,null,null,null,null,null,null,null,null,null,null,null,null,null,null,null,{"$f":"IF(AH$47, Input!AH195, 0)","v":30.724403941398467},{"$f":"IF(AI$47, Input!AI195, 0)","v":0},{"$f":"IF(AJ$47, Input!AJ195, 0)","v":0},{"$f":"IF(AK$47, Input!AK195, 0)","v":0},{"$f":"IF(AL$47, Input!AL195, 0)","v":0},{"$f":"IF(AM$47, Input!AM195, 0)","v":0},{"$f":"IF(AN$47, Input!AN195, 0)","v":0},{"$f":"IF(AO$47, Input!AO195, 0)","v":0}]
[]
[null,null,null,"Forecast totex from new allowances"]
[]
[null,null,null,null,"Forecast actual load related capex expenditure",null,"£m 09/10 prices",null,null,null,null,null,null,null,null,null,null,null,null,null,null,null,null,null,null,null,null,null,null,null,null,null,null,{"$f":"IF(AH$48, AH32, 0)","v":0},961.32219838789524,873.21209619031458,744.20328957845561,444.07577348666393,332.05116503452598,126.3643129444215,58.547442201912972]
[null,null,null,null,"Forecast actual asset replacement capex expenditure",null,"£m 09/10 prices",null,null,null,null,null,null,null,null,null,null,null,null,null,null,null,null,null,null,null,null,null,null,null,null,null,null,0,464.05399879326387,458.96940179907631,462.20515674748674,597.39616992865308,694.95362362794094,760.47133413278959,680.37534043694836]
[null,null,null,null,"Forecast actual other capex expenditure",null,"£m 09/10 prices",null,null,null,null,null,null,null,null,null,null,null,null,null,null,null,null,null,null,null,null,null,null,null,null,null,null,0,7.2568799999999998,5.9409999999999998,8.2522800000000007,7.9053199999999988,10.711639999999999,10.669640000000001,11.88064]
[null,null,null,null,"Forecast actual controllable opex",null,"£m 09/10 prices",null,null,null,null,null,null,null,null,null,null,null,null,null,null,null,null,null,null,null,null,null,null,null,null,null,null,0,196.41204072355288,203.04710659109347,204.35171680440774,205.72203973741003,206.0644404839947,207.83890997781467,208.20405529640865]
[null,null,null,null,"Forecast actual non-operational capex",null,"£m 09/10 prices",null,null,null,null,null,null,null,null,null,null,null,null,null,null,null,null,null,null,null,null,null,null,null,null,null,null,0,27.893219356255912,20.162895818884664,18.683994860020533,17.317434737643207,10.132273565113017,13.10983633518048,11.957035518704526]
[]
[null,null,null,"Totex applied"]
[null,null,null,"Note: Actuals are exported both to identify performance against the allowance and to generate writing down allowances used in the tax calculation."]
[]
[null,null,null,null,"Actual load related capex expenditure",null,"£m 09/10 prices",null,null,null,null,null,null,null,null,null,null,null,null,null,null,null,null,null,null,null,null,null,null,null,null,null,null,{"$f":"AH52 + AH60","v":576.4723599528071},961.32219838789524,873.21209619031458,744.20328957845561,444.07577348666393,332.05116503452598,126.3643129444215,58.547442201912972]
[null,null,null,null,"Actual asset replacement capex expenditure",null,"£m 09/10 prices",null,null,null,null,null,null,null,null,null,null,null,null,null,null,null,null,null,null,null,null,null,null,null,null,null,null,217.14268787167353,464.05399879326387,458.96940179907631,462.20515674748674,597.39616992865308,694.95362362794094,760.47133413278959,680.37534043694836]
[null,null,null,null,"Actual other capex expenditure",null,"£m 09/10 prices",null,null,null,null,null,null,null,null,null,null,null,null,null,null,null,null,null,null,null,null,null,null,null,null,null,null,174.99178290887571,7.2568799999999998,5.9409999999999998,8.2522800000000007,7.9053199999999988,10.711639999999999,10.669640000000001,11.88064]
[null,null,null,null,"Actual controllable opex",null,"£m 09/10 prices",null,null,null,null,null,null,null,null,null,null,null,null,null,null,null,null,null,null,null,null,null,null,null,null,null,null,165.28612902215741,196.41204072355288,203.04710659109347,204.35171680440774,205.72203973741003,206.0644404839947,207.83890997781467,208.20405529640865]
[null,null,null,null,"Actual non-operational capex",null,"£m 09/10 prices",null,null,null,null,null,null,null,null,null,null,null,null,null,null,null,null,null,null,null,null,null,null,null,null,null,null,30.724403941398467,27.893219356255912,20.162895818884664,18.683994860020533,17.317434737643207,10.132273565113017,13.10983633518048,11.957035518704526]
[null,null,null,null,"Actual totex",null,"£m 09/10 prices",null,null,null,null,null,null,null,null,null,null,null,null,null,null,null,null,null,null,null,null,null,null,null,null,null,null,{"$f":"SUM(AH69:AH73)","v":1164.6173636969124},1656.9383372609677,1561.3325003993691,1437.6964379903704,1272.4167378903705,1253.9131427115749,1118.4540333902062,970.96451345397452]
[]
[null,"End of sheet"]

{"sheet":"TIM","index":6,"n_rows":79,"n_cols":41,"rows_kept":79,"cut":false,"hidden":false,"merged":[]}
["Totex Incentive Mechanism (TIM)"]
[null,{"$f":"UserInterface!G25","v":"NGET TO"}]
[null,null,null,null,"Parameter",null,"Units",null,"Constant",null,null,null,null,null,null,null,null,null,null,null,null,null,null,null,null,null,null,null,null,null,null,null,null,"Annual values"]
[null,null,null,null,"PCFM year ending",null,null,null,{"$f":"UserInterface!$G$18","v":"2016-03-31"},null,"1991-03-31","1992-03-31","1993-03-31","1994-03-31","1995-03-31","1996-03-31","1997-03-31","1998-03-31","1999-03-31","2000-03-31","2001-03-31","2002-03-31","2003-03-31","2004-03-31","2005-03-31","2006-03-31","2007-03-31","2008-03-31","2009-03-31","2010-03-31","2011-03-31","2012-03-31","2013-03-31","2014-03-31","2015-03-31","2016-03-31","2017-03-31","2018-03-31","2019-03-31","2020-03-31","2021-03-31"]
[]
[null,"Efficiency incentive"]
[]
[null,null,"Incentive strength"]
[]
[null,null,null,null,"Incentive rate (slope)",null,"scalar",null,{"$f":"Input!I55","v":-2.5000000000000001E-3}]
[null,null,null,null,"Incentive rate (intercept)",null,"scalar",null,{"$f":"Input!I56","v":0.75}]
[null,null,null,null,"Group rate",null,"ratio",null,{"$f":"Input!I66 / Input!I65*100","v":112.4239586302548}]
[]
[null,null,null,null,"Incentive strength",null,"%",null,{"$f":"ROUND(I11+I10*I12,4)","v":0.46889999999999998}]
[]
[null,null,"Additional income"]
[]
[null,null,null,null,"Ofgem view",null,"%",null,{"$f":"Input!I59","v":0.75}]
[null,null,null,null,"Operator view",null,"%",null,{"$f":"Input!I60","v":0.25}]
[]
[null,null,null,null,"Ofgem view of group price control totex",null,"£m 09/10 prices",null,{"$f":"Input!I65","v":11784.975392745635}]
[]
[null,null,null,null,"Additional income (intercept)",null,"scalar",null,{"$f":"Input!I57","v":8.75}]
[null,null,null,null,"First order parameter",null,"%",null,{"$f":" (-(I10 * I18*100) - (I11 * I19))","v":0}]
[null,null,null,null,"Second order parameter",null,"%",null,{"$f":"(0.5-I19) * I10","v":-6.2500000000000001E-4}]
[null,null,null,null,"Additional income scalar",null,"%",null,{"$f":"(I23+I24*(I12)+I25*(I12)^2)","v":0.85053345368922351}]
[]
[null,null,null,null,"Additional income at group level",null,"£m 09/10 prices",null,{"$f":"I21*I26/100","v":100.23515822434457}]
[]
[null,null,null,null,"Forecast licensee totex",null,"£m 09/10 prices",null,{"$f":"Input!I62*Input!$I$59+Input!I63*Input!$I$60","v":11291.187433878511}]
[null,null,null,null,"Forecast group totex",null,"£m 09/10 prices",null,{"$f":"Input!I65*I18 + Input!I66*I19","v":12151.015509590743}]
[null,null,null,null,"Percentage of group totex at licensee level",null,"%",null,{"$f":"I30 / I31","v":0.92923817148998178}]
[]
[null,"Efficiency incentive"]
[]
[null,null,"Post-TIM overspend (underspend)"]
[null,null,"Note: Totex overspend (underspend) is identified and subject to the \"efficiency incentive rate.\""]
[]
[null,null,null,null,"Actual totex",null,"£m 09/10 prices",null,null,null,null,null,null,null,null,null,null,null,null,null,null,null,null,null,null,null,null,null,null,null,null,null,null,{"$f":"Totex!AH74","v":1164.6173636969124},{"$f":"Totex!AI74","v":1656.9383372609677},{"$f":"Totex!AJ74","v":1561.3325003993691},{"$f":"Totex!AK74","v":1437.6964379903704},{"$f":"Totex!AL74","v":1272.4167378903705},{"$f":"Totex!AM74","v":1253.9131427115749},{"$f":"Totex!AN74","v":1118.4540333902062},{"$f":"Totex!AO74","v":970.96451345397452}]
[null,null,null,null,"Less allowed totex",null,"£m 09/10 prices",null,null,null,null,null,null,null,null,null,null,null,null,null,null,null,null,null,null,null,null,null,null,null,null,null,null,{"$f":"-Totex!AH37","v":-1664.7070662411024},{"$f":"-Totex!AI37","v":-1656.9383372609677},{"$f":"-Totex!AJ37","v":-1561.3325003993691},{"$f":"-Totex!AK37","v":-1437.6964379903704},{"$f":"-Totex!AL37","v":-1272.4167378903705},{"$f":"-Totex!AM37","v":-1253.9131427115749},{"$f":"-Totex!AN37","v":-1118.4540333902062},{"$f":"-Totex!AO37","v":-970.96451345397452}]
[null,null,null,null,"Pre-TIM overspend (underspend)",null,"£m 09/10 prices",null,null,null,null,null,null,null,null,null,null,null,null,null,null,null,null,null,null,null,null,null,null,null,null,null,null,{"$f":"SUM(AH39:AH40)","v":-500.08970254419},0,0,0,0,0,0,0]
[]
[null,null,null,null,"Funding Adjustment Rate (often referred to as 'sharing factor')",null,"%",null,null,null,null,null,null,null,null,null,null,null,null,null,null,null,null,null,null,null,null,null,null,null,null,null,null,{"$f":"(1 - $I$14)","v":0.53110000000000002},{"$f":"(1 - $I$14)","v":0.53110000000000002},0.53110000000000002,0.53110000000000002,0.53110000000000002,0.53110000000000002,0.53110000000000002,0.53110000000000002]
[]
[null,null,null,null,"Post-TIM overspend (underspend)",null,"£m 09/10 prices",null,null,null,null,null,null,null,null,null,null,null,null,null,null,null,null,null,null,null,null,null,null,null,null,null,null,{"$f":"AH$43 * AH41","v":-265.59764102121932},{"$f":"AI$43 * AI41","v":0},{"$f":"AJ$43 * AJ41","v":0},0,0,0,0,0]
[]
[null,null,"Post-TIM totex"]
[null,null,"Note: \"Post-TIM overspend (underspend)\" is added to the allowed totex value to give the Post-TIM totex allowance to be split into fast and slow money."]
[]
[null,null,null,null,"Allowed totex",null,"£m 09/10 prices",null,null,null,null,null,null,null,null,null,null,null,null,null,null,null,null,null,null,null,null,null,null,null,null,null,null,{"$f":"-AH40","v":1664.7070662411024},{"$f":"-AI40","v":1656.9383372609677},1561.3325003993691,1437.6964379903704,1272.4167378903705,1253.9131427115749,1118.4540333902062,970.96451345397452]
[null,null,null,null,"Post-TIM overspend (underspend)",null,"£m 09/10 prices",null,null,null,null,null,null,null,null,null,null,null,null,null,null,null,null,null,null,null,null,null,null,null,null,null,null,{"$f":"AH45","v":-265.59764102121932},0,0,0,0,0,0,0]
[null,null,null,null,"Post-TIM totex",null,"£m 09/10 prices",null,null,null,null,null,null,null,null,null,null,null,null,null,null,null,null,null,null,null,null,null,null,null,null,null,null,{"$f":"SUM(AH50:AH51)","v":1399.1094252198832},1656.9383372609677,1561.3325003993691,1437.6964379903704,1272.4167378903705,1253.9131427115749,1118.4540333902062,970.96451345397452]
[]
[null,"Capitalisation"]
[null,"Note: The weighted capitalised share of totex (the weightings only apply to transmission operators, where the weights are based on the relative share of allowance to totex, wider works and entry & exit)."]
[null,"Post-TIM totex is allocated into \"fast\" and \"slow\" elements based on a pre-set percentage split:"]
[null,"- \"fast money \" is exported to the \"Revenue\" sheet where it is included as an element of \"recalculated base revenue;\" and"]
[null,"- \"slow money \" is exported to the \"Depn\" sheet where it is added to RAV. Slow money is recovered over the life of the RAV through regulatory depreciation and return allowances."]
[]
[null,null,null,null,"Post-TIM totex",null,"£m 09/10 prices",null,null,null,null,null,null,null,null,null,null,null,null,null,null,null,null,null,null,null,null,null,null,null,null,null,null,{"$f":"AH52","v":1399.1094252198832},1656.9383372609677,1561.3325003993691,1437.6964379903704,1272.4167378903705,1253.9131427115749,1118.4540333902062,970.96451345397452]
[null,null,null,null,"Weighted capitalised share of totex",null,"%",null,null,null,null,null,null,null,null,null,null,null,null,null,null,null,null,null,null,null,null,null,null,null,null,null,null,{"$f":"((Input!AH52*(-TIM!AH40 -Input!AH120) + Input!AH53*Input!AH120) / -TIM!AH40)","v":0.84999999999999987},{"$f":"((Input!AI52*(-TIM!AI40 -Input!AI120) + Input!AI53*Input!AI120) / -TIM!AI40)","v":0.84999999999999987},{"$f":"((Input!AJ52*(-TIM!AJ40 -Input!AJ120) + Input!AJ53*Input!AJ120) / -TIM!AJ40)","v":0.85},{"$f":"((Input!AK52*(-TIM!AK40 -Input!AK120) + Input!AK53*Input!AK120) / -TIM!AK40)","v":0.85000000000000009},{"$f":"((Input!AL52*(-TIM!AL40 -Input!AL120) + Input!AL53*Input!AL120) / -TIM!AL40)","v":0.84999999999999987},{"$f":"((Input!AM52*(-TIM!AM40 -Input!AM120) + Input!AM53*Input!AM120) / -TIM!AM40)","v":0.85},{"$f":"((Input!AN52*(-TIM!AN40 -Input!AN120) + Input!AN53*Input!AN120) / -TIM!AN40)","v":0.85},{"$f":"((Input!AO52*(-TIM!AO40 -Input!AO120) + Input!AO53*Input!AO120) / -TIM!AO40)","v":0.85}]
[]
[null,null,null,null,"Fast pot expenditure",null,"£m 09/10 prices",null,null,null,null,null,null,null,null,null,null,null,null,null,null,null,null,null,null,null,null,null,null,null,null,null,null,{"$f":"AH$60 * (1 - AH61)","v":209.86641378298268},248.54075058914538,234.19987505990539,215.65446569855544,190.86251068355574,188.08697140673627,167.76810500853094,145.64467701809619]
[]
[null,null,null,null,"Slow pot expenditure",null,"£m 09/10 prices",null,null,null,null,null,null,null,null,null,null,null,null,null,null,null,null,null,null,null,null,null,null,null,null,null,null,{"$f":"AH$60 * AH61","v":1189.2430114369006},1408.3975866718224,1327.1326253394636,1222.041972291815,1081.5542272068149,1065.8261713048387,950.68592838167524,825.3198364358783]
[]
[null,"Additional income"]
[null,"Note: The additional income lump sum is recovered across the price control and is matched to the profile of allowed totex set at final proposals."]
[]
[null,null,null,null,"Additional income",null,"£m 09/10 prices",null,{"$f":"I28*I32","v":93.142335147398967}]
[]
[null,null,null,null,"Original allowed totex (set at final proposals)",null,"£m 09/10 prices",null,null,null,null,null,null,null,null,null,null,null,null,null,null,null,null,null,null,null,null,null,null,null,null,null,null,{"$f":"Input!AH374","v":1582.7080571296715},{"$f":"Input!AI374","v":1725.2795302820005},{"$f":"Input!AJ374","v":1650.3305791182984},{"$f":"Input!AK374","v":1570.2148399024168},{"$f":"Input!AL374","v":1347.6317378903702},{"$f":"Input!AM374","v":1294.8741427115747},{"$f":"Input!AN374","v":1145.9100333902061},{"$f":"Input!AO374","v":974.23851345397452}]
[null,null,null,null,"Total allowed totex in price control (set at final proposals)",null,"£m 09/10 prices",null,{"$f":"Input!I375","v":11291.187433878515}]
[]
[null,null,null,null,"Share of additional income allowed in year",null,"%",null,null,null,null,null,null,null,null,null,null,null,null,null,null,null,null,null,null,null,null,null,null,null,null,null,null,{"$f":"AH72 / $I73","v":0.14017197627778749},0.1527987680999259,0.14616094089152951,0.13906551893657204,0.11935252565614879,0.11468006799943682,0.10148711462817218,8.6283087510427084E-2]
[]
[null,null,null,null,"Additional income",null,"£m 09/10 prices",null,null,null,null,null,null,null,null,null,null,null,null,null,null,null,null,null,null,null,null,null,null,null,null,null,null,{"$f":"($I70 * AH75) + Input!AH58","v":15.168246288518162},{"$f":"($I70 * AI75) + Input!AI58","v":16.275110005972994},{"$f":"($I70 * AJ75) + Input!AJ58","v":15.614702904478012},{"$f":"($I70 * AK75) + Input!AK58","v":14.911674359737152},{"$f":"($I70 * AL75) + Input!AL58","v":13.033415757853545},{"$f":"($I70 * AM75) + Input!AM58","v":12.556067765830047},{"$f":"($I70 * AN75) + Input!AN58","v":11.285100906339711},{"$f":"($I70 * AO75) + Input!AO58","v":9.8268179419485548}]
[]
[null,"End of sheet"]

{"sheet":"DARTs","index":7,"n_rows":59,"n_cols":41,"rows_kept":59,"cut":false,"hidden":false,"merged":[]}
["Direct Allowed Revenue Terms (DARTs)"]
[null,{"$f":"UserInterface!G25","v":"NGET TO"}]
[null,null,null,null,"Parameter",null,"Units",null,"Constant",null,null,null,null,null,null,null,null,null,null,null,null,null,null,null,null,null,null,null,null,null,null,null,null,"Annual values"]
[null,null,null,null,"PCFM year ending",null,null,null,{"$f":"UserInterface!$G$18","v":"2016-03-31"},null,"1991-03-31","1992-03-31","1993-03-31","1994-03-31","1995-03-31","1996-03-31","1997-03-31","1998-03-31","1999-03-31","2000-03-31","2001-03-31","2002-03-31","2003-03-31","2004-03-31","2005-03-31","2006-03-31","2007-03-31","2008-03-31","2009-03-31","2010-03-31","2011-03-31","2012-03-31","2013-03-31","2014-03-31","2015-03-31","2016-03-31","2017-03-31","2018-03-31","2019-03-31","2020-03-31","2021-03-31"]
[]
[null,"Direct Allowed Revenue Terms (DARTs) "]
[null,"Note: DARTs are allowances with minimal processing required in the model as they flow directly from input to revenue. "]
[null,"They do however have different indirect impacts on equity issuance and tax. They are grouped here by their treatment type to aid common treatment of DARTs through the rest of the model."]
[null,"\"Post-tax\" allowances can be included in the tax calculation but \"Pre-tax\" allowances cannot. "]
[null,"\"Passthrough-style\" allowances are treated as an equal revenue and cost. Therefore they have no net cashflow impact. \"Revenue\" allowances are just set as a revenue amount with any costs relating to them are dealt with elsewhere."]
[]
[null,null,"Base Revenue"]
[]
[null,null,null,"No impact on net debt or tax"]
[]
[null,null,null,null,"Pension admin and PPF levy",null,"£m 09/10 prices",null,null,null,null,null,null,null,null,null,null,null,null,null,null,null,null,null,null,null,null,null,null,null,null,null,null,{"$f":"Input!AH203","v":1.5},{"$f":"Input!AI203","v":1.3},{"$f":"Input!AJ203","v":1.3},{"$f":"Input!AK203","v":1.5},{"$f":"Input!AL203","v":1.3},{"$f":"Input!AM203","v":1.3},{"$f":"Input!AN203","v":1.5},{"$f":"Input!AO203","v":1.3}]
[null,null,null,null,"Established pension deficit repair",null,"£m 09/10 prices",null,null,null,null,null,null,null,null,null,null,null,null,null,null,null,null,null,null,null,null,null,null,null,null,null,null,{"$f":"Input!AH204","v":28.929052554944597},{"$f":"Input!AI204","v":28.929052554944597},{"$f":"Input!AJ204","v":32.585753058109198},{"$f":"Input!AK204","v":32.585753058109198},{"$f":"Input!AL204","v":32.585753058109198},{"$f":"Input!AM204","v":32.585753058109198},{"$f":"Input!AN204","v":32.585753058109198},{"$f":"Input!AO204","v":32.585753058109198}]
[null,null,null,null,"Base Revenue DARTs with no impact on net debt or tax",null,"£m 09/10 prices",null,null,null,null,null,null,null,null,null,null,null,null,null,null,null,null,null,null,null,null,null,null,null,null,null,null,{"$f":"SUM(AH16:AH17)","v":30.429052554944597},30.229052554944598,33.885753058109195,34.085753058109198,33.885753058109195,33.885753058109195,34.085753058109198,33.885753058109195]
[]
[null,null,null,"Impact net debt and tax"]
[]
[null,null,null,null,"Pension true-up from previous price controls",null,"£m 09/10 prices",null,null,null,null,null,null,null,null,null,null,null,null,null,null,null,null,null,null,null,null,null,null,null,null,null,null,{"$f":"Input!AH206","v":1.6281727480620216},{"$f":"Input!AI206","v":1.7003333642561302},{"$f":"Input!AJ206","v":1.7739577989284205},{"$f":"Input!AK206","v":1.8507701716220211},{"$f":"Input!AL206","v":1.9309085200532543},{"$f":"Input!AM206","v":2.0145168589715601},{"$f":"Input!AN206","v":2.1017454389650285},{"$f":"Input!AO206","v":2.1927510164722142}]
[null,null,null,null,"NGET TO Capital Expenditure Incentive and Safety Net",null,"£m 09/10 prices",null,null,null,null,null,null,null,null,null,null,null,null,null,null,null,null,null,null,null,null,null,null,null,null,null,null,{"$f":"Input!AH207","v":19.092223163426969},{"$f":"Input!AI207","v":19.938390494030049},{"$f":"Input!AJ207","v":20.801722802421548},{"$f":"Input!AK207","v":21.702437399766399},{"$f":"Input!AL207","v":22.642152939176281},{"$f":"Input!AM207","v":23.622558161442612},{"$f":"Input!AN207","v":24.645414929833073},{"$f":"Input!AO207","v":25.712561396294841}]
[null,null,null,null,"Base Revenue DARTs impacting both net debt and tax",null,"£m 09/10 prices",null,null,null,null,null,null,null,null,null,null,null,null,null,null,null,null,null,null,null,null,null,null,null,null,null,null,{"$f":"SUM(AH22:AH23)","v":20.720395911488989},21.638723858286181,22.575680601349969,23.55320757138842,24.573061459229535,25.637075020414173,26.747160368798102,27.905312412767056]
[]
[null,null,null,"Impact net debt, no impact on tax"]
[]
[null,null,null,null,"Revenue adjustment from previous controls",null,"£m 09/10 prices",null,null,null,null,null,null,null,null,null,null,null,null,null,null,null,null,null,null,null,null,null,null,null,null,null,null,{"$f":"Input!AH211","v":19.158396830224149},{"$f":"Input!AI211","v":20.007496977739677},{"$f":"Input!AJ211","v":20.873821596875807},{"$f":"Input!AK211","v":21.777658072020525},{"$f":"Input!AL211","v":22.720630666539012},{"$f":"Input!AM211","v":23.70443397440015},{"$f":"Input!AN211","v":24.730835965491675},{"$f":"Input!AO211","v":25.801681162797461}]
[null,null,null,null,"Base Revenue DARTs impacting net debt but not tax",null,"£m 09/10 prices",null,null,null,null,null,null,null,null,null,null,null,null,null,null,null,null,null,null,null,null,null,null,null,null,null,null,{"$f":"SUM(AH28)","v":19.158396830224149},{"$f":"SUM(AI28)","v":20.007496977739677},20.873821596875807,21.777658072020525,22.720630666539012,23.70443397440015,24.730835965491675,25.801681162797461]
[]
[null,null,"Allowed Revenue (non Base Revenue)"]
[]
[null,null,null,"No impact on debt or tax"]
[]
[null,null,null,null,"TIRG revenue",null,"£m 09/10 prices",null,null,null,null,null,null,null,null,null,null,null,null,null,null,null,null,null,null,null,null,null,null,null,null,null,null,{"$f":"(Input!AH285 + Input!AH286 + Input!AH287 + Input!AH288 + Input!AH289 + Input!AH290 + Input!AH291 + Input!AH292)","v":13.751034124367685},{"$f":"(Input!AI285 + Input!AI286 + Input!AI287 + Input!AI288 + Input!AI289 + Input!AI290 + Input!AI291 + Input!AI292)","v":13.274690050778315},{"$f":"(Input!AJ285 + Input!AJ286 + Input!AJ287 + Input!AJ288 + Input!AJ289 + Input!AJ290 + Input!AJ291 + Input!AJ292)","v":12.798257977175346},{"$f":"(Input!AK285 + Input!AK286 + Input!AK287 + Input!AK288 + Input!AK289 + Input!AK290 + Input!AK291 + Input!AK292)","v":0},{"$f":"(Input!AL285 + Input!AL286 + Input!AL287 + Input!AL288 + Input!AL289 + Input!AL290 + Input!AL291 + Input!AL292)","v":0},{"$f":"(Input!AM285 + Input!AM286 + Input!AM287 + Input!AM288 + Input!AM289 + Input!AM290 + Input!AM291 + Input!AM292)","v":0},{"$f":"(Input!AN285 + Input!AN286 + Input!AN287 + Input!AN288 + Input!AN289 + Input!AN290 + Input!AN291 + Input!AN292)","v":0},{"$f":"(Input!AO285 + Input!AO286 + Input!AO287 + Input!AO288 + Input!AO289 + Input!AO290 + Input!AO291 + Input!AO292)","v":0}]
[null,null,null,null,"Allowed Revenue (non Base Revenue) DARTs with no impact on net debt or tax",null,"£m 09/10 prices",null,null,null,null,null,null,null,null,null,null,null,null,null,null,null,null,null,null,null,null,null,null,null,null,null,null,{"$f":"SUM(AH35)","v":13.751034124367685},{"$f":"SUM(AI35)","v":13.274690050778315},12.798257977175346,0,0,0,0,0]
[]
[null,null,"Directly-charged"]
[]
[null,null,null,"No impact on debt or tax"]
[]
[null,null,null,null,"Excluded services net position",null,"£m 09/10 prices",null,null,null,null,null,null,null,null,null,null,null,null,null,null,null,null,null,null,null,null,null,null,null,null,null,null,{"$f":"Input!AH215","v":115.633},{"$f":"Input!AI215","v":116.566},{"$f":"Input!AJ215","v":124.22200000000001},{"$f":"Input!AK215","v":122.23099999999999},{"$f":"Input!AL215","v":123.932},{"$f":"Input!AM215","v":125.43799999999999},{"$f":"Input!AN215","v":127.10599999999999},{"$f":"Input!AO215","v":128.673}]
[null,null,null,null,"Directly-charged post-tax passthrough-style allowance",null,"£m 09/10 prices",null,null,null,null,null,null,null,null,null,null,null,null,null,null,null,null,null,null,null,null,null,null,null,null,null,null,{"$f":"SUM(AH42)","v":115.633},{"$f":"SUM(AI42)","v":116.566},124.22200000000001,122.23099999999999,123.932,125.43799999999999,127.10599999999999,128.673]
[]
[null,null,"DART groups"]
[null,null,"Note: The following subtotals are exported to the rest of the model allowing common treatment of DARTs after this stage."]
[null,null,"Excluded services are directly charged to users. It is treated here as a negative Base Revenue DART and positive Non Base Revenue DART. It is tax and cashflow neutral."]
[null,null,"\"Net impact of DARTs on core net debt\" removes the passthrough-style allowances from the cashflow, netting off their impact after being added to revenue."]
[null,null,"\"Net DART impact on core tax calculation\" removes passthrough and pre-tax allowances from the tax base such that only post-tax revenue allowances have an impact."]
[]
[null,null,null,null,"Base revenue DARTs",null,"£m 09/10 prices",null,null,null,null,null,null,null,null,null,null,null,null,null,null,null,null,null,null,null,null,null,null,null,null,null,null,{"$f":" AH18 + AH24 + AH29 - AH43","v":-45.325154703342264},-44.690726609029554,-46.886744743665048,-42.814381298481848,-42.752554816122256,-42.210737947076467,-41.542250607601019,-41.080253366326289]
[]
[null,null,null,null,"Non Base Revenue DARTs",null,"£m 09/10 prices",null,null,null,null,null,null,null,null,null,null,null,null,null,null,null,null,null,null,null,null,null,null,null,null,null,null,{"$f":" AH36 + AH43","v":129.38403412436767},{"$f":" AI36 + AI43","v":129.84069005077831},137.02025797717536,122.23099999999999,123.932,125.43799999999999,127.10599999999999,128.673]
[]
[null,null,null,null,"Net impact of DARTs on core net debt",null,"£m 09/10 prices",null,null,null,null,null,null,null,null,null,null,null,null,null,null,null,null,null,null,null,null,null,null,null,null,null,null,{"$f":" - AH18 + AH43","v":85.203947445055405},86.336947445055401,90.336246941890806,88.145246941890804,90.046246941890814,91.552246941890786,93.020246941890804,94.7872469418908]
[]
[null,null,null,null,"Net DART impact on core tax calculation",null,"£m 09/10 prices",null,null,null,null,null,null,null,null,null,null,null,null,null,null,null,null,null,null,null,null,null,null,null,null,null,null,{"$f":" - AH18  - AH29 + AH43","v":66.045550614831257},{"$f":" - AI18  - AI29 + AI43","v":66.329450467315723},69.462425345015006,66.367588869870275,67.325616275351791,67.84781296749064,68.289410976399125,68.985565779093349]
[]
[null,"End of sheet"]

{"sheet":"Depn","index":8,"n_rows":247,"n_cols":41,"rows_kept":247,"cut":false,"hidden":false,"merged":[]}
["Regulatory Depreciation"]
[null,{"$f":"UserInterface!G25","v":"NGET TO"}]
[null,null,null,null,"Parameter",null,"Units",null,"Constant",null,null,null,null,null,null,null,null,null,null,null,null,null,null,null,null,null,null,null,null,null,null,null,null,"Annual values"]
[null,null,null,null,"PCFM year ending",null,null,null,{"$f":"UserInterface!$G$18","v":"2016-03-31"},null,"1991-03-31","1992-03-31","1993-03-31","1994-03-31","1995-03-31","1996-03-31","1997-03-31","1998-03-31","1999-03-31","2000-03-31","2001-03-31","2002-03-31","2003-03-31","2004-03-31","2005-03-31","2006-03-31","2007-03-31","2008-03-31","2009-03-31","2010-03-31","2011-03-31","2012-03-31","2013-03-31","2014-03-31","2015-03-31","2016-03-31","2017-03-31","2018-03-31","2019-03-31","2020-03-31","2021-03-31"]
[]
[null,"Regulatory depreciation"]
[]
[null,null,"Net RAV additions (after disposals)"]
[null,null,"Note: Additions to RAV are combined before feeding into the depreciation calculations. Disposals are treated as negative additions. Pre-RIIO values are used to build up the post-vesting RAV from vesting."]
[null,null,"Logged-up and security costs are retrospectively added to RAV to provide the updated opening RAV and align depreciation with expenditure."]
[]
[null,null,null,null,"Slow money",null,"£m 09/10 prices",null,null,null,null,null,null,null,null,null,null,null,null,null,null,null,null,null,null,null,null,null,null,null,null,null,null,{"$f":"TIM!AH65","v":1189.2430114369006},{"$f":"TIM!AI65","v":1408.3975866718224},{"$f":"TIM!AJ65","v":1327.1326253394636},{"$f":"TIM!AK65","v":1222.041972291815},{"$f":"TIM!AL65","v":1081.5542272068149},{"$f":"TIM!AM65","v":1065.8261713048387},{"$f":"TIM!AN65","v":950.68592838167524},{"$f":"TIM!AO65","v":825.3198364358783}]
[null,null,null,null,"Net adjustments",null,"£m 09/10 prices",null,null,null,null,null,null,null,null,null,null,null,null,null,null,null,null,null,null,null,null,null,null,null,null,null,null,{"$f":"SUM(Input!AH236:AH238)","v":-162.17489418365281},{"$f":"SUM(Input!AI236:AI238)","v":0},{"$f":"SUM(Input!AJ236:AJ238)","v":0},{"$f":"SUM(Input!AK236:AK238)","v":0},{"$f":"SUM(Input!AL236:AL238)","v":0},{"$f":"SUM(Input!AM236:AM238)","v":0},{"$f":"SUM(Input!AN236:AN238)","v":0},{"$f":"SUM(Input!AO236:AO238)","v":0}]
[null,null,null,null,"Pre-RIIO net RAV additions (after disposals)",null,"£m 09/10 prices",null,null,">",{"$f":"Input!K235","v":379.44363316244619},{"$f":"Input!L235","v":470.09452478062036},{"$f":"Input!M235","v":554.81084513454573},{"$f":"Input!N235","v":399.56790123456784},{"$f":"Input!O235","v":260.22632725604859},{"$f":"Input!P235","v":263.05996002664887},{"$f":"Input!Q235","v":254.79277813923224},{"$f":"Input!R235","v":225.41366498740547},{"$f":"Input!S235","v":390.5666463166462},{"$f":"Input!T235","v":346.96432742658243},{"$f":"Input!U235","v":294.61484247298233},{"$f":"Input!V235","v":407.70883134746407},{"$f":"Input!W235","v":378.11716061760876},{"$f":"Input!X235","v":321.33438328493975},{"$f":"Input!Y235","v":422.59647639294877},{"$f":"Input!Z235","v":580.37086035691379},{"$f":"Input!AA235","v":556.6596888260251},{"$f":"Input!AB235","v":696.07018609532179},{"$f":"Input!AC235","v":665.03634688976456},{"$f":"Input!AD235","v":812.1919300000003},{"$f":"Input!AE235","v":656.72036516023195},{"$f":"Input!AF235","v":927.74885273201085},{"$f":"Input!AG235","v":902.96161798967933}]
[null,null,null,null,"Net RAV additions (after disposals)",null,"£m 09/10 prices",null,null,">",{"$f":"SUM(K12:K14)","v":379.44363316244619},470.09452478062036,554.81084513454573,399.56790123456784,260.22632725604859,263.05996002664887,254.79277813923224,225.41366498740547,390.5666463166462,346.96432742658243,294.61484247298233,407.70883134746407,378.11716061760876,321.33438328493975,422.59647639294877,580.37086035691379,556.6596888260251,696.07018609532179,665.03634688976456,812.1919300000003,656.72036516023195,927.74885273201085,902.96161798967933,1027.0681172532477,1408.3975866718224,1327.1326253394636,1222.041972291815,1081.5542272068149,1065.8261713048387,950.68592838167524,825.3198364358783]
[]
[null,null,"Net depreciation additions (after disposals)"]
[null,null,"Note:"]
[]
[null,null,null,null,"Pre-RIIO transfers to depreciation",null,"£m 09/10 prices",null,null,">",{"$f":"Input!K239","v":0},{"$f":"Input!L239","v":0},{"$f":"Input!M239","v":0},{"$f":"Input!N239","v":0},{"$f":"Input!O239","v":0},{"$f":"Input!P239","v":0},{"$f":"Input!Q239","v":0},{"$f":"Input!R239","v":0},{"$f":"Input!S239","v":0},{"$f":"Input!T239","v":0},{"$f":"Input!U239","v":0},{"$f":"Input!V239","v":0},{"$f":"Input!W239","v":0},{"$f":"Input!X239","v":-40.436923865811004},{"$f":"Input!Y239","v":0},{"$f":"Input!Z239","v":0},{"$f":"Input!AA239","v":0},{"$f":"Input!AB239","v":0},{"$f":"Input!AC239","v":0},{"$f":"Input!AD239","v":0},{"$f":"Input!AE239","v":0},{"$f":"Input!AF239","v":0},{"$f":"Input!AG239","v":0}]
[]
[null,null,"Pre-vesting depreciation"]
[null,null,"Note: The following depreciation factor is used to depreciate the pre-vesting balance on the \"Return&RAV\" sheet."]
[]
[null,null,null,null,"Vesting year",null,"year ending",null,{"$f":"Input!I234","v":"1991-03-31"}]
[null,null,null,null,"Pre-vesting asset life",null,"years",null,{"$f":"Input!I224","v":20}]
[null,null,null,null,"Pre-vesting straight line depreciation factor",null,"scalar",null,null,null,null,null,null,null,null,null,null,null,null,null,null,null,null,null,null,null,null,null,null,null,null,null,null,{"$f":"1 / $I26","v":0.05},0.05,0.05,0.05,0.05,0.05,0.05,0.05]
[]
[null,null,"Accelerated post-vesting depreciation"]
[null,null,"Note: Accelerated depreciation calculations provide the allowed depreciation after full depreciation of pre-vesting assets, but are also used to establish the \"RAV differential\" generated before that point."]
[]
[null,null,null,"Depreciation parameters"]
[]
[null,null,null,null,"Post-vesting asset life",null,"years",null,null,">",{"$f":"Input!K232","v":20},{"$f":"Input!L232","v":20},{"$f":"Input!M232","v":20},{"$f":"Input!N232","v":20},{"$f":"Input!O232","v":20},{"$f":"Input!P232","v":20},{"$f":"Input!Q232","v":20},{"$f":"Input!R232","v":20},{"$f":"Input!S232","v":20},{"$f":"Input!T232","v":20},{"$f":"Input!U232","v":20},{"$f":"Input!V232","v":20},{"$f":"Input!W232","v":20},{"$f":"Input!X232","v":20},{"$f":"Input!Y232","v":20},{"$f":"Input!Z232","v":20},{"$f":"Input!AA232","v":20},{"$f":"Input!AB232","v":20},{"$f":"Input!AC232","v":20},{"$f":"Input!AD232","v":20},{"$f":"Input!AE232","v":20},{"$f":"Input!AF232","v":20},{"$f":"Input!AG232","v":20},{"$f":"Input!AH232","v":23.125},{"$f":"Input!AI232","v":26.25},{"$f":"Input!AJ232","v":29.375},{"$f":"Input!AK232","v":32.5},{"$f":"Input!AL232","v":35.625},{"$f":"Input!AM232","v":38.75},{"$f":"Input!AN232","v":41.875},{"$f":"Input!AO232","v":45}]
[null,null,null,null,"Accelerated post-vesting depreciation applied",null,"text",null,null,">",null,{"$f":"YEAR(L$4) >= YEAR($I$25) + $I$26","v":false},false,false,false,false,false,false,false,false,false,false,false,false,false,false,false,false,false,false,true,true,true,true,true,true,true,true,true,true,true]
[]
[null,null,null,"Depreciation schedule"]
[]
[null,null,null,null,"Accelerated depreciation of additions from year ending",null,null,null,"Net additions"]
[null,null,null,null,"1991-03-31",null,"£m 09/10 prices",null,{"$f":"I83","v":379.44363316244619},">",null,{"$f":"$I40/$K$34","v":18.972181658122309},{"$f":"IF($I40 >0, MIN(L40,$I40-SUM($L40:L40)), MAX(L40,$I40-SUM($L40:L40)))","v":18.972181658122309},{"$f":"IF($I40 >0, MIN(M40,$I40-SUM($L40:M40)), MAX(M40,$I40-SUM($L40:M40)))","v":18.972181658122309},{"$f":"IF($I40 >0, MIN(N40,$I40-SUM($L40:N40)), MAX(N40,$I40-SUM($L40:N40)))","v":18.972181658122309},{"$f":"IF($I40 >0, MIN(O40,$I40-SUM($L40:O40)), MAX(O40,$I40-SUM($L40:O40)))","v":18.972181658122309},{"$f":"IF($I40 >0, MIN(P40,$I40-SUM($L40:P40)), MAX(P40,$I40-SUM($L40:P40)))","v":18.972181658122309},{"$f":"IF($I40 >0, MIN(Q40,$I40-SUM($L40:Q40)), MAX(Q40,$I40-SUM($L40:Q40)))","v":18.972181658122309},{"$f":"IF($I40 >0, MIN(R40,$I40-SUM($L40:R40)), MAX(R40,$I40-SUM($L40:R40)))","v":18.972181658122309},{"$f":"IF($I40 >0, MIN(S40,$I40-SUM($L40:S40)), MAX(S40,$I40-SUM($L40:S40)))","v":18.972181658122309},{"$f":"IF($I40 >0, MIN(T40,$I40-SUM($L40:T40)), MAX(T40,$I40-SUM($L40:T40)))","v":18.972181658122309},{"$f":"IF($I40 >0, MIN(U40,$I40-SUM($L40:U40)), MAX(U40,$I40-SUM($L40:U40)))","v":18.972181658122309},{"$f":"IF($I40 >0, MIN(V40,$I40-SUM($L40:V40)), MAX(V40,$I40-SUM($L40:V40)))","v":18.972181658122309},{"$f":"IF($I40 >0, MIN(W40,$I40-SUM($L40:W40)), MAX(W40,$I40-SUM($L40:W40)))","v":18.972181658122309},{"$f":"IF($I40 >0, MIN(X40,$I40-SUM($L40:X40)), MAX(X40,$I40-SUM($L40:X40)))","v":18.972181658122309},{"$f":"IF($I40 >0, MIN(Y40,$I40-SUM($L40:Y40)), MAX(Y40,$I40-SUM($L40:Y40)))","v":18.972181658122309},{"$f":"IF($I40 >0, MIN(Z40,$I40-SUM($L40:Z40)), MAX(Z40,$I40-SUM($L40:Z40)))","v":18.972181658122309},{"$f":"IF($I40 >0, MIN(AA40,$I40-SUM($L40:AA40)), MAX(AA40,$I40-SUM($L40:AA40)))","v":18.972181658122309},{"$f":"IF($I40 >0, MIN(AB40,$I40-SUM($L40:AB40)), MAX(AB40,$I40-SUM($L40:AB40)))","v":18.972181658122309},{"$f":"IF($I40 >0, MIN(AC40,$I40-SUM($L40:AC40)), MAX(AC40,$I40-SUM($L40:AC40)))","v":18.972181658122309},{"$f":"IF($I40 >0, MIN(AD40,$I40-SUM($L40:AD40)), MAX(AD40,$I40-SUM($L40:AD40)))","v":18.972181658122309},{"$f":"IF($I40 >0, MIN(AE40,$I40-SUM($L40:AE40)), MAX(AE40,$I40-SUM($L40:AE40)))","v":1.1368683772161603E-13},{"$f":"IF($I40 >0, MIN(AF40,$I40-SUM($L40:AF40)), MAX(AF40,$I40-SUM($L40:AF40)))","v":0},{"$f":"IF($I40 >0, MIN(AG40,$I40-SUM($L40:AG40)), MAX(AG40,$I40-SUM($L40:AG40)))","v":0},{"$f":"IF($I40 >0, MIN(AH40,$I40-SUM($L40:AH40)), MAX(AH40,$I40-SUM($L40:AH40)))","v":0},{"$f":"IF($I40 >0, MIN(AI40,$I40-SUM($L40:AI40)), MAX(AI40,$I40-SUM($L40:AI40)))","v":0},{"$f":"IF($I40 >0, MIN(AJ40,$I40-SUM($L40:AJ40)), MAX(AJ40,$I40-SUM($L40:AJ40)))","v":0},{"$f":"IF($I40 >0, MIN(AK40,$I40-SUM($L40:AK40)), MAX(AK40,$I40-SUM($L40:AK40)))","v":0},{"$f":"IF($I40 >0, MIN(AL40,$I40-SUM($L40:AL40)), MAX(AL40,$I40-SUM($L40:AL40)))","v":0},{"$f":"IF($I40 >0, MIN(AM40,$I40-SUM($L40:AM40)), MAX(AM40,$I40-SUM($L40:AM40)))","v":0},{"$f":"IF($I40 >0, MIN(AN40,$I40-SUM($L40:AN40)), MAX(AN40,$I40-SUM($L40:AN40)))","v":0}]
[null,null,null,null,"1992-03-31",null,"£m 09/10 prices",null,470.09452478062036,">",null,null,{"$f":"$I41/L$34","v":23.504726239031019},{"$f":"IF($I41 >0, MIN(M41,$I41-SUM($L41:M41)), MAX(M41,$I41-SUM($L41:M41)))","v":23.504726239031019},{"$f":"IF($I41 >0, MIN(N41,$I41-SUM($L41:N41)), MAX(N41,$I41-SUM($L41:N41)))","v":23.504726239031019},{"$f":"IF($I41 >0, MIN(O41,$I41-SUM($L41:O41)), MAX(O41,$I41-SUM($L41:O41)))","v":23.504726239031019},{"$f":"IF($I41 >0, MIN(P41,$I41-SUM($L41:P41)), MAX(P41,$I41-SUM($L41:P41)))","v":23.504726239031019},{"$f":"IF($I41 >0, MIN(Q41,$I41-SUM($L41:Q41)), MAX(Q41,$I41-SUM($L41:Q41)))","v":23.504726239031019},{"$f":"IF($I41 >0, MIN(R41,$I41-SUM($L41:R41)), MAX(R41,$I41-SUM($L41:R41)))","v":23.504726239031019},{"$f":"IF($I41 >0, MIN(S41,$I41-SUM($L41:S41)), MAX(S41,$I41-SUM($L41:S41)))","v":23.504726239031019},{"$f":"IF($I41 >0, MIN(T41,$I41-SUM($L41:T41)), MAX(T41,$I41-SUM($L41:T41)))","v":23.504726239031019},{"$f":"IF($I41 >0, MIN(U41,$I41-SUM($L41:U41)), MAX(U41,$I41-SUM($L41:U41)))","v":23.504726239031019},{"$f":"IF($I41 >0, MIN(V41,$I41-SUM($L41:V41)), MAX(V41,$I41-SUM($L41:V41)))","v":23.504726239031019},{"$f":"IF($I41 >0, MIN(W41,$I41-SUM($L41:W41)), MAX(W41,$I41-SUM($L41:W41)))","v":23.504726239031019},{"$f":"IF($I41 >0, MIN(X41,$I41-SUM($L41:X41)), MAX(X41,$I41-SUM($L41:X41)))","v":23.504726239031019},{"$f":"IF($I41 >0, MIN(Y41,$I41-SUM($L41:Y41)), MAX(Y41,$I41-SUM($L41:Y41)))","v":23.504726239031019},{"$f":"IF($I41 >0, MIN(Z41,$I41-SUM($L41:Z41)), MAX(Z41,$I41-SUM($L41:Z41)))","v":23.504726239031019},{"$f":"IF($I41 >0, MIN(AA41,$I41-SUM($L41:AA41)), MAX(AA41,$I41-SUM($L41:AA41)))","v":23.504726239031019},{"$f":"IF($I41 >0, MIN(AB41,$I41-SUM($L41:AB41)), MAX(AB41,$I41-SUM($L41:AB41)))","v":23.504726239031019},{"$f":"IF($I41 >0, MIN(AC41,$I41-SUM($L41:AC41)), MAX(AC41,$I41-SUM($L41:AC41)))","v":23.504726239031019},{"$f":"IF($I41 >0, MIN(AD41,$I41-SUM($L41:AD41)), MAX(AD41,$I41-SUM($L41:AD41)))","v":23.504726239031019},{"$f":"IF($I41 >0, MIN(AE41,$I41-SUM($L41:AE41)), MAX(AE41,$I41-SUM($L41:AE41)))","v":23.504726239031015},{"$f":"IF($I41 >0, MIN(AF41,$I41-SUM($L41:AF41)), MAX(AF41,$I41-SUM($L41:AF41)))","v":0},{"$f":"IF($I41 >0, MIN(AG41,$I41-SUM($L41:AG41)), MAX(AG41,$I41-SUM($L41:AG41)))","v":0},{"$f":"IF($I41 >0, MIN(AH41,$I41-SUM($L41:AH41)), MAX(AH41,$I41-SUM($L41:AH41)))","v":0},{"$f":"IF($I41 >0, MIN(AI41,$I41-SUM($L41:AI41)), MAX(AI41,$I41-SUM($L41:AI41)))","v":0},{"$f":"IF($I41 >0, MIN(AJ41,$I41-SUM($L41:AJ41)), MAX(AJ41,$I41-SUM($L41:AJ41)))","v":0},{"$f":"IF($I41 >0, MIN(AK41,$I41-SUM($L41:AK41)), MAX(AK41,$I41-SUM($L41:AK41)))","v":0},{"$f":"IF($I41 >0, MIN(AL41,$I41-SUM($L41:AL41)), MAX(AL41,$I41-SUM($L41:AL41)))","v":0},{"$f":"IF($I41 >0, MIN(AM41,$I41-SUM($L41:AM41)), MAX(AM41,$I41-SUM($L41:AM41)))","v":0},{"$f":"IF($I41 >0, MIN(AN41,$I41-SUM($L41:AN41)), MAX(AN41,$I41-SUM($L41:AN41)))","v":0}]
[null,null,null,null,"1993-03-31",null,"£m 09/10 prices",null,554.81084513454573,">",null,null,null,{"$f":"$I42/M$34","v":27.740542256727288},{"$f":"IF($I42 >0, MIN(N42,$I42-SUM($L42:N42)), MAX(N42,$I42-SUM($L42:N42)))","v":27.740542256727288},{"$f":"IF($I42 >0, MIN(O42,$I42-SUM($L42:O42)), MAX(O42,$I42-SUM($L42:O42)))","v":27.740542256727288},{"$f":"IF($I42 >0, MIN(P42,$I42-SUM($L42:P42)), MAX(P42,$I42-SUM($L42:P42)))","v":27.740542256727288},{"$f":"IF($I42 >0, MIN(Q42,$I42-SUM($L42:Q42)), MAX(Q42,$I42-SUM($L42:Q42)))","v":27.740542256727288},{"$f":"IF($I42 >0, MIN(R42,$I42-SUM($L42:R42)), MAX(R42,$I42-SUM($L42:R42)))","v":27.740542256727288},{"$f":"IF($I42 >0, MIN(S42,$I42-SUM($L42:S42)), MAX(S42,$I42-SUM($L42:S42)))","v":27.740542256727288},{"$f":"IF($I42 >0, MIN(T42,$I42-SUM($L42:T42)), MAX(T42,$I42-SUM($L42:T42)))","v":27.740542256727288},{"$f":"IF($I42 >0, MIN(U42,$I42-SUM($L42:U42)), MAX(U42,$I42-SUM($L42:U42)))","v":27.740542256727288},{"$f":"IF($I42 >0, MIN(V42,$I42-SUM($L42:V42)), MAX(V42,$I42-SUM($L42:V42)))","v":27.740542256727288},{"$f":"IF($I42 >0, MIN(W42,$I42-SUM($L42:W42)), MAX(W42,$I42-SUM($L42:W42)))","v":27.740542256727288},{"$f":"IF($I42 >0, MIN(X42,$I42-SUM($L42:X42)), MAX(X42,$I42-SUM($L42:X42)))","v":27.740542256727288},{"$f":"IF($I42 >0, MIN(Y42,$I42-SUM($L42:Y42)), MAX(Y42,$I42-SUM($L42:Y42)))","v":27.740542256727288},{"$f":"IF($I42 >0, MIN(Z42,$I42-SUM($L42:Z42)), MAX(Z42,$I42-SUM($L42:Z42)))","v":27.740542256727288},{"$f":"IF($I42 >0, MIN(AA42,$I42-SUM($L42:AA42)), MAX(AA42,$I42-SUM($L42:AA42)))","v":27.740542256727288},{"$f":"IF($I42 >0, MIN(AB42,$I42-SUM($L42:AB42)), MAX(AB42,$I42-SUM($L42:AB42)))","v":27.740542256727288},{"$f":"IF($I42 >0, MIN(AC42,$I42-SUM($L42:AC42)), MAX(AC42,$I42-SUM($L42:AC42)))","v":27.740542256727288},{"$f":"IF($I42 >0, MIN(AD42,$I42-SUM($L42:AD42)), MAX(AD42,$I42-SUM($L42:AD42)))","v":27.740542256727288},{"$f":"IF($I42 >0, MIN(AE42,$I42-SUM($L42:AE42)), MAX(AE42,$I42-SUM($L42:AE42)))","v":27.740542256727288},{"$f":"IF($I42 >0, MIN(AF42,$I42-SUM($L42:AF42)), MAX(AF42,$I42-SUM($L42:AF42)))","v":27.740542256727281},{"$f":"IF($I42 >0, MIN(AG42,$I42-SUM($L42:AG42)), MAX(AG42,$I42-SUM($L42:AG42)))","v":0},{"$f":"IF($I42 >0, MIN(AH42,$I42-SUM($L42:AH42)), MAX(AH42,$I42-SUM($L42:AH42)))","v":0},{"$f":"IF($I42 >0, MIN(AI42,$I42-SUM($L42:AI42)), MAX(AI42,$I42-SUM($L42:AI42)))","v":0},{"$f":"IF($I42 >0, MIN(AJ42,$I42-SUM($L42:AJ42)), MAX(AJ42,$I42-SUM($L42:AJ42)))","v":0},{"$f":"IF($I42 >0, MIN(AK42,$I42-SUM($L42:AK42)), MAX(AK42,$I42-SUM($L42:AK42)))","v":0},{"$f":"IF($I42 >0, MIN(AL42,$I42-SUM($L42:AL42)), MAX(AL42,$I42-SUM($L42:AL42)))","v":0},{"$f":"IF($I42 >0, MIN(AM42,$I42-SUM($L42:AM42)), MAX(AM42,$I42-SUM($L42:AM42)))","v":0},{"$f":"IF($I42 >0, MIN(AN42,$I42-SUM($L42:AN42)), MAX(AN42,$I42-SUM($L42:AN42)))","v":0}]
[null,null,null,null,"1994-03-31",null,"£m 09/10 prices",null,399.56790123456784,">",null,null,null,null,{"$f":"$I43/N$34","v":19.978395061728392},{"$f":"IF($I43 >0, MIN(O43,$I43-SUM($L43:O43)), MAX(O43,$I43-SUM($L43:O43)))","v":19.978395061728392},{"$f":"IF($I43 >0, MIN(P43,$I43-SUM($L43:P43)), MAX(P43,$I43-SUM($L43:P43)))","v":19.978395061728392},{"$f":"IF($I43 >0, MIN(Q43,$I43-SUM($L43:Q43)), MAX(Q43,$I43-SUM($L43:Q43)))","v":19.978395061728392},{"$f":"IF($I43 >0, MIN(R43,$I43-SUM($L43:R43)), MAX(R43,$I43-SUM($L43:R43)))","v":19.978395061728392},{"$f":"IF($I43 >0, MIN(S43,$I43-SUM($L43:S43)), MAX(S43,$I43-SUM($L43:S43)))","v":19.978395061728392},{"$f":"IF($I43 >0, MIN(T43,$I43-SUM($L43:T43)), MAX(T43,$I43-SUM($L43:T43)))","v":19.978395061728392},{"$f":"IF($I43 >0, MIN(U43,$I43-SUM($L43:U43)), MAX(U43,$I43-SUM($L43:U43)))","v":19.978395061728392},{"$f":"IF($I43 >0, MIN(V43,$I43-SUM($L43:V43)), MAX(V43,$I43-SUM($L43:V43)))","v":19.978395061728392},{"$f":"IF($I43 >0, MIN(W43,$I43-SUM($L43:W43)), MAX(W43,$I43-SUM($L43:W43)))","v":19.978395061728392},{"$f":"IF($I43 >0, MIN(X43,$I43-SUM($L43:X43)), MAX(X43,$I43-SUM($L43:X43)))","v":19.978395061728392},{"$f":"IF($I43 >0, MIN(Y43,$I43-SUM($L43:Y43)), MAX(Y43,$I43-SUM($L43:Y43)))","v":19.978395061728392},{"$f":"IF($I43 >0, MIN(Z43,$I43-SUM($L43:Z43)), MAX(Z43,$I43-SUM($L43:Z43)))","v":19.978395061728392},{"$f":"IF($I43 >0, MIN(AA43,$I43-SUM($L43:AA43)), MAX(AA43,$I43-SUM($L43:AA43)))","v":19.978395061728392},{"$f":"IF($I43 >0, MIN(AB43,$I43-SUM($L43:AB43)), MAX(AB43,$I43-SUM($L43:AB43)))","v":19.978395061728392},{"$f":"IF($I43 >0, MIN(AC43,$I43-SUM($L43:AC43)), MAX(AC43,$I43-SUM($L43:AC43)))","v":19.978395061728392},{"$f":"IF($I43 >0, MIN(AD43,$I43-SUM($L43:AD43)), MAX(AD43,$I43-SUM($L43:AD43)))","v":19.978395061728392},{"$f":"IF($I43 >0, MIN(AE43,$I43-SUM($L43:AE43)), MAX(AE43,$I43-SUM($L43:AE43)))","v":19.978395061728392},{"$f":"IF($I43 >0, MIN(AF43,$I43-SUM($L43:AF43)), MAX(AF43,$I43-SUM($L43:AF43)))","v":19.978395061728392},{"$f":"IF($I43 >0, MIN(AG43,$I43-SUM($L43:AG43)), MAX(AG43,$I43-SUM($L43:AG43)))","v":19.978395061728236},{"$f":"IF($I43 >0, MIN(AH43,$I43-SUM($L43:AH43)), MAX(AH43,$I43-SUM($L43:AH43)))","v":0},{"$f":"IF($I43 >0, MIN(AI43,$I43-SUM($L43:AI43)), MAX(AI43,$I43-SUM($L43:AI43)))","v":0},{"$f":"IF($I43 >0, MIN(AJ43,$I43-SUM($L43:AJ43)), MAX(AJ43,$I43-SUM($L43:AJ43)))","v":0},{"$f":"IF($I43 >0, MIN(AK43,$I43-SUM($L43:AK43)), MAX(AK43,$I43-SUM($L43:AK43)))","v":0},{"$f":"IF($I43 >0, MIN(AL43,$I43-SUM($L43:AL43)), MAX(AL43,$I43-SUM($L43:AL43)))","v":0},{"$f":"IF($I43 >0, MIN(AM43,$I43-SUM($L43:AM43)), MAX(AM43,$I43-SUM($L43:AM43)))","v":0},{"$f":"IF($I43 >0, MIN(AN43,$I43-SUM($L43:AN43)), MAX(AN43,$I43-SUM($L43:AN43)))","v":0}]
[null,null,null,null,"1995-03-31",null,"£m 09/10 prices",null,260.22632725604859,">",null,null,null,null,null,{"$f":"$I44/O$34","v":13.011316362802429},{"$f":"IF($I44 >0, MIN(P44,$I44-SUM($L44:P44)), MAX(P44,$I44-SUM($L44:P44)))","v":13.011316362802429},{"$f":"IF($I44 >0, MIN(Q44,$I44-SUM($L44:Q44)), MAX(Q44,$I44-SUM($L44:Q44)))","v":13.011316362802429},{"$f":"IF($I44 >0, MIN(R44,$I44-SUM($L44:R44)), MAX(R44,$I44-SUM($L44:R44)))","v":13.011316362802429},{"$f":"IF($I44 >0, MIN(S44,$I44-SUM($L44:S44)), MAX(S44,$I44-SUM($L44:S44)))","v":13.011316362802429},{"$f":"IF($I44 >0, MIN(T44,$I44-SUM($L44:T44)), MAX(T44,$I44-SUM($L44:T44)))","v":13.011316362802429},{"$f":"IF($I44 >0, MIN(U44,$I44-SUM($L44:U44)), MAX(U44,$I44-SUM($L44:U44)))","v":13.011316362802429},{"$f":"IF($I44 >0, MIN(V44,$I44-SUM($L44:V44)), MAX(V44,$I44-SUM($L44:V44)))","v":13.011316362802429},{"$f":"IF($I44 >0, MIN(W44,$I44-SUM($L44:W44)), MAX(W44,$I44-SUM($L44:W44)))","v":13.011316362802429},{"$f":"IF($I44 >0, MIN(X44,$I44-SUM($L44:X44)), MAX(X44,$I44-SUM($L44:X44)))","v":13.011316362802429},{"$f":"IF($I44 >0, MIN(Y44,$I44-SUM($L44:Y44)), MAX(Y44,$I44-SUM($L44:Y44)))","v":13.011316362802429},{"$f":"IF($I44 >0, MIN(Z44,$I44-SUM($L44:Z44)), MAX(Z44,$I44-SUM($L44:Z44)))","v":13.011316362802429},{"$f":"IF($I44 >0, MIN(AA44,$I44-SUM($L44:AA44)), MAX(AA44,$I44-SUM($L44:AA44)))","v":13.011316362802429},{"$f":"IF($I44 >0, MIN(AB44,$I44-SUM($L44:AB44)), MAX(AB44,$I44-SUM($L44:AB44)))","v":13.011316362802429},{"$f":"IF($I44 >0, MIN(AC44,$I44-SUM($L44:AC44)), MAX(AC44,$I44-SUM($L44:AC44)))","v":13.011316362802429},{"$f":"IF($I44 >0, MIN(AD44,$I44-SUM($L44:AD44)), MAX(AD44,$I44-SUM($L44:AD44)))","v":13.011316362802429},{"$f":"IF($I44 >0, MIN(AE44,$I44-SUM($L44:AE44)), MAX(AE44,$I44-SUM($L44:AE44)))","v":13.011316362802429},{"$f":"IF($I44 >0, MIN(AF44,$I44-SUM($L44:AF44)), MAX(AF44,$I44-SUM($L44:AF44)))","v":13.011316362802429},{"$f":"IF($I44 >0, MIN(AG44,$I44-SUM($L44:AG44)), MAX(AG44,$I44-SUM($L44:AG44)))","v":13.011316362802429},{"$f":"IF($I44 >0, MIN(AH44,$I44-SUM($L44:AH44)), MAX(AH44,$I44-SUM($L44:AH44)))","v":13.011316362802404},{"$f":"IF($I44 >0, MIN(AI44,$I44-SUM($L44:AI44)), MAX(AI44,$I44-SUM($L44:AI44)))","v":0},{"$f":"IF($I44 >0, MIN(AJ44,$I44-SUM($L44:AJ44)), MAX(AJ44,$I44-SUM($L44:AJ44)))","v":0},{"$f":"IF($I44 >0, MIN(AK44,$I44-SUM($L44:AK44)), MAX(AK44,$I44-SUM($L44:AK44)))","v":0},{"$f":"IF($I44 >0, MIN(AL44,$I44-SUM($L44:AL44)), MAX(AL44,$I44-SUM($L44:AL44)))","v":0},{"$f":"IF($I44 >0, MIN(AM44,$I44-SUM($L44:AM44)), MAX(AM44,$I44-SUM($L44:AM44)))","v":0},{"$f":"IF($I44 >0, MIN(AN44,$I44-SUM($L44:AN44)), MAX(AN44,$I44-SUM($L44:AN44)))","v":0}]
[null,null,null,null,"1996-03-31",null,"£m 09/10 prices",null,263.05996002664887,">",null,null,null,null,null,null,{"$f":"$I45/P$34","v":13.152998001332444},{"$f":"IF($I45 >0, MIN(Q45,$I45-SUM($L45:Q45)), MAX(Q45,$I45-SUM($L45:Q45)))","v":13.152998001332444},{"$f":"IF($I45 >0, MIN(R45,$I45-SUM($L45:R45)), MAX(R45,$I45-SUM($L45:R45)))","v":13.152998001332444},{"$f":"IF($I45 >0, MIN(S45,$I45-SUM($L45:S45)), MAX(S45,$I45-SUM($L45:S45)))","v":13.152998001332444},{"$f":"IF($I45 >0, MIN(T45,$I45-SUM($L45:T45)), MAX(T45,$I45-SUM($L45:T45)))","v":13.152998001332444},{"$f":"IF($I45 >0, MIN(U45,$I45-SUM($L45:U45)), MAX(U45,$I45-SUM($L45:U45)))","v":13.152998001332444},{"$f":"IF($I45 >0, MIN(V45,$I45-SUM($L45:V45)), MAX(V45,$I45-SUM($L45:V45)))","v":13.152998001332444},{"$f":"IF($I45 >0, MIN(W45,$I45-SUM($L45:W45)), MAX(W45,$I45-SUM($L45:W45)))","v":13.152998001332444},{"$f":"IF($I45 >0, MIN(X45,$I45-SUM($L45:X45)), MAX(X45,$I45-SUM($L45:X45)))","v":13.152998001332444},{"$f":"IF($I45 >0, MIN(Y45,$I45-SUM($L45:Y45)), MAX(Y45,$I45-SUM($L45:Y45)))","v":13.152998001332444},{"$f":"IF($I45 >0, MIN(Z45,$I45-SUM($L45:Z45)), MAX(Z45,$I45-SUM($L45:Z45)))","v":13.152998001332444},{"$f":"IF($I45 >0, MIN(AA45,$I45-SUM($L45:AA45)), MAX(AA45,$I45-SUM($L45:AA45)))","v":13.152998001332444},{"$f":"IF($I45 >0, MIN(AB45,$I45-SUM($L45:AB45)), MAX(AB45,$I45-SUM($L45:AB45)))","v":13.152998001332444},{"$f":"IF($I45 >0, MIN(AC45,$I45-SUM($L45:AC45)), MAX(AC45,$I45-SUM($L45:AC45)))","v":13.152998001332444},{"$f":"IF($I45 >0, MIN(AD45,$I45-SUM($L45:AD45)), MAX(AD45,$I45-SUM($L45:AD45)))","v":13.152998001332444},{"$f":"IF($I45 >0, MIN(AE45,$I45-SUM($L45:AE45)), MAX(AE45,$I45-SUM($L45:AE45)))","v":13.152998001332444},{"$f":"IF($I45 >0, MIN(AF45,$I45-SUM($L45:AF45)), MAX(AF45,$I45-SUM($L45:AF45)))","v":13.152998001332444},{"$f":"IF($I45 >0, MIN(AG45,$I45-SUM($L45:AG45)), MAX(AG45,$I45-SUM($L45:AG45)))","v":13.152998001332444},{"$f":"IF($I45 >0, MIN(AH45,$I45-SUM($L45:AH45)), MAX(AH45,$I45-SUM($L45:AH45)))","v":13.152998001332444},{"$f":"IF($I45 >0, MIN(AI45,$I45-SUM($L45:AI45)), MAX(AI45,$I45-SUM($L45:AI45)))","v":13.152998001332444},{"$f":"IF($I45 >0, MIN(AJ45,$I45-SUM($L45:AJ45)), MAX(AJ45,$I45-SUM($L45:AJ45)))","v":5.6843418860808015E-14},{"$f":"IF($I45 >0, MIN(AK45,$I45-SUM($L45:AK45)), MAX(AK45,$I45-SUM($L45:AK45)))","v":0},{"$f":"IF($I45 >0, MIN(AL45,$I45-SUM($L45:AL45)), MAX(AL45,$I45-SUM($L45:AL45)))","v":0},{"$f":"IF($I45 >0, MIN(AM45,$I45-SUM($L45:AM45)), MAX(AM45,$I45-SUM($L45:AM45)))","v":0},{"$f":"IF($I45 >0, MIN(AN45,$I45-SUM($L45:AN45)), MAX(AN45,$I45-SUM($L45:AN45)))","v":0}]
[null,null,null,null,"1997-03-31",null,"£m 09/10 prices",null,254.79277813923224,">",null,null,null,null,null,null,null,{"$f":"$I46/Q$34","v":12.739638906961613},{"$f":"IF($I46 >0, MIN(R46,$I46-SUM($L46:R46)), MAX(R46,$I46-SUM($L46:R46)))","v":12.739638906961613},{"$f":"IF($I46 >0, MIN(S46,$I46-SUM($L46:S46)), MAX(S46,$I46-SUM($L46:S46)))","v":12.739638906961613},{"$f":"IF($I46 >0, MIN(T46,$I46-SUM($L46:T46)), MAX(T46,$I46-SUM($L46:T46)))","v":12.739638906961613},{"$f":"IF($I46 >0, MIN(U46,$I46-SUM($L46:U46)), MAX(U46,$I46-SUM($L46:U46)))","v":12.739638906961613},{"$f":"IF($I46 >0, MIN(V46,$I46-SUM($L46:V46)), MAX(V46,$I46-SUM($L46:V46)))","v":12.739638906961613},{"$f":"IF($I46 >0, MIN(W46,$I46-SUM($L46:W46)), MAX(W46,$I46-SUM($L46:W46)))","v":12.739638906961613},{"$f":"IF($I46 >0, MIN(X46,$I46-SUM($L46:X46)), MAX(X46,$I46-SUM($L46:X46)))","v":12.739638906961613},{"$f":"IF($I46 >0, MIN(Y46,$I46-SUM($L46:Y46)), MAX(Y46,$I46-SUM($L46:Y46)))","v":12.739638906961613},{"$f":"IF($I46 >0, MIN(Z46,$I46-SUM($L46:Z46)), MAX(Z46,$I46-SUM($L46:Z46)))","v":12.739638906961613},{"$f":"IF($I46 >0, MIN(AA46,$I46-SUM($L46:AA46)), MAX(AA46,$I46-SUM($L46:AA46)))","v":12.739638906961613},{"$f":"IF($I46 >0, MIN(AB46,$I46-SUM($L46:AB46)), MAX(AB46,$I46-SUM($L46:AB46)))","v":12.739638906961613},{"$f":"IF($I46 >0, MIN(AC46,$I46-SUM($L46:AC46)), MAX(AC46,$I46-SUM($L46:AC46)))","v":12.739638906961613},{"$f":"IF($I46 >0, MIN(AD46,$I46-SUM($L46:AD46)), MAX(AD46,$I46-SUM($L46:AD46)))","v":12.739638906961613},{"$f":"IF($I46 >0, MIN(AE46,$I46-SUM($L46:AE46)), MAX(AE46,$I46-SUM($L46:AE46)))","v":12.739638906961613},{"$f":"IF($I46 >0, MIN(AF46,$I46-SUM($L46:AF46)), MAX(AF46,$I46-SUM($L46:AF46)))","v":12.739638906961613},{"$f":"IF($I46 >0, MIN(AG46,$I46-SUM($L46:AG46)), MAX(AG46,$I46-SUM($L46:AG46)))","v":12.739638906961613},{"$f":"IF($I46 >0, MIN(AH46,$I46-SUM($L46:AH46)), MAX(AH46,$I46-SUM($L46:AH46)))","v":12.739638906961613},{"$f":"IF($I46 >0, MIN(AI46,$I46-SUM($L46:AI46)), MAX(AI46,$I46-SUM($L46:AI46)))","v":12.739638906961613},{"$f":"IF($I46 >0, MIN(AJ46,$I46-SUM($L46:AJ46)), MAX(AJ46,$I46-SUM($L46:AJ46)))","v":12.739638906961613},{"$f":"IF($I46 >0, MIN(AK46,$I46-SUM($L46:AK46)), MAX(AK46,$I46-SUM($L46:AK46)))","v":5.6843418860808015E-14},{"$f":"IF($I46 >0, MIN(AL46,$I46-SUM($L46:AL46)), MAX(AL46,$I46-SUM($L46:AL46)))","v":0},{"$f":"IF($I46 >0, MIN(AM46,$I46-SUM($L46:AM46)), MAX(AM46,$I46-SUM($L46:AM46)))","v":0},{"$f":"IF($I46 >0, MIN(AN46,$I46-SUM($L46:AN46)), MAX(AN46,$I46-SUM($L46:AN46)))","v":0}]
[null,null,null,null,"1998-03-31",null,"£m 09/10 prices",null,225.41366498740547,">",null,null,null,null,null,null,null,null,{"$f":"$I47/R$34","v":11.270683249370274},{"$f":"IF($I47 >0, MIN(S47,$I47-SUM($L47:S47)), MAX(S47,$I47-SUM($L47:S47)))","v":11.270683249370274},{"$f":"IF($I47 >0, MIN(T47,$I47-SUM($L47:T47)), MAX(T47,$I47-SUM($L47:T47)))","v":11.270683249370274},{"$f":"IF($I47 >0, MIN(U47,$I47-SUM($L47:U47)), MAX(U47,$I47-SUM($L47:U47)))","v":11.270683249370274},{"$f":"IF($I47 >0, MIN(V47,$I47-SUM($L47:V47)), MAX(V47,$I47-SUM($L47:V47)))","v":11.270683249370274},{"$f":"IF($I47 >0, MIN(W47,$I47-SUM($L47:W47)), MAX(W47,$I47-SUM($L47:W47)))","v":11.270683249370274},{"$f":"IF($I47 >0, MIN(X47,$I47-SUM($L47:X47)), MAX(X47,$I47-SUM($L47:X47)))","v":11.270683249370274},{"$f":"IF($I47 >0, MIN(Y47,$I47-SUM($L47:Y47)), MAX(Y47,$I47-SUM($L47:Y47)))","v":11.270683249370274},{"$f":"IF($I47 >0, MIN(Z47,$I47-SUM($L47:Z47)), MAX(Z47,$I47-SUM($L47:Z47)))","v":11.270683249370274},{"$f":"IF($I47 >0, MIN(AA47,$I47-SUM($L47:AA47)), MAX(AA47,$I47-SUM($L47:AA47)))","v":11.270683249370274},{"$f":"IF($I47 >0, MIN(AB47,$I47-SUM($L47:AB47)), MAX(AB47,$I47-SUM($L47:AB47)))","v":11.270683249370274},{"$f":"IF($I47 >0, MIN(AC47,$I47-SUM($L47:AC47)), MAX(AC47,$I47-SUM($L47:AC47)))","v":11.270683249370274},{"$f":"IF($I47 >0, MIN(AD47,$I47-SUM($L47:AD47)), MAX(AD47,$I47-SUM($L47:AD47)))","v":11.270683249370274},{"$f":"IF($I47 >0, MIN(AE47,$I47-SUM($L47:AE47)), MAX(AE47,$I47-SUM($L47:AE47)))","v":11.270683249370274},{"$f":"IF($I47 >0, MIN(AF47,$I47-SUM($L47:AF47)), MAX(AF47,$I47-SUM($L47:AF47)))","v":11.270683249370274},{"$f":"IF($I47 >0, MIN(AG47,$I47-SUM($L47:AG47)), MAX(AG47,$I47-SUM($L47:AG47)))","v":11.270683249370274},{"$f":"IF($I47 >0, MIN(AH47,$I47-SUM($L47:AH47)), MAX(AH47,$I47-SUM($L47:AH47)))","v":11.270683249370274},{"$f":"IF($I47 >0, MIN(AI47,$I47-SUM($L47:AI47)), MAX(AI47,$I47-SUM($L47:AI47)))","v":11.270683249370274},{"$f":"IF($I47 >0, MIN(AJ47,$I47-SUM($L47:AJ47)), MAX(AJ47,$I47-SUM($L47:AJ47)))","v":11.270683249370274},{"$f":"IF($I47 >0, MIN(AK47,$I47-SUM($L47:AK47)), MAX(AK47,$I47-SUM($L47:AK47)))","v":11.270683249370194},{"$f":"IF($I47 >0, MIN(AL47,$I47-SUM($L47:AL47)), MAX(AL47,$I47-SUM($L47:AL47)))","v":0},{"$f":"IF($I47 >0, MIN(AM47,$I47-SUM($L47:AM47)), MAX(AM47,$I47-SUM($L47:AM47)))","v":0},{"$f":"IF($I47 >0, MIN(AN47,$I47-SUM($L47:AN47)), MAX(AN47,$I47-SUM($L47:AN47)))","v":0}]
[null,null,null,null,"1999-03-31",null,"£m 09/10 prices",null,390.5666463166462,">",null,null,null,null,null,null,null,null,null,{"$f":"$I48/S$34","v":19.528332315832309},{"$f":"IF($I48 >0, MIN(T48,$I48-SUM($L48:T48)), MAX(T48,$I48-SUM($L48:T48)))","v":19.528332315832309},{"$f":"IF($I48 >0, MIN(U48,$I48-SUM($L48:U48)), MAX(U48,$I48-SUM($L48:U48)))","v":19.528332315832309},{"$f":"IF($I48 >0, MIN(V48,$I48-SUM($L48:V48)), MAX(V48,$I48-SUM($L48:V48)))","v":19.528332315832309},{"$f":"IF($I48 >0, MIN(W48,$I48-SUM($L48:W48)), MAX(W48,$I48-SUM($L48:W48)))","v":19.528332315832309},{"$f":"IF($I48 >0, MIN(X48,$I48-SUM($L48:X48)), MAX(X48,$I48-SUM($L48:X48)))","v":19.528332315832309},{"$f":"IF($I48 >0, MIN(Y48,$I48-SUM($L48:Y48)), MAX(Y48,$I48-SUM($L48:Y48)))","v":19.528332315832309},{"$f":"IF($I48 >0, MIN(Z48,$I48-SUM($L48:Z48)), MAX(Z48,$I48-SUM($L48:Z48)))","v":19.528332315832309},{"$f":"IF($I48 >0, MIN(AA48,$I48-SUM($L48:AA48)), MAX(AA48,$I48-SUM($L48:AA48)))","v":19.528332315832309},{"$f":"IF($I48 >0, MIN(AB48,$I48-SUM($L48:AB48)), MAX(AB48,$I48-SUM($L48:AB48)))","v":19.528332315832309},{"$f":"IF($I48 >0, MIN(AC48,$I48-SUM($L48:AC48)), MAX(AC48,$I48-SUM($L48:AC48)))","v":19.528332315832309},{"$f":"IF($I48 >0, MIN(AD48,$I48-SUM($L48:AD48)), MAX(AD48,$I48-SUM($L48:AD48)))","v":19.528332315832309},{"$f":"IF($I48 >0, MIN(AE48,$I48-SUM($L48:AE48)), MAX(AE48,$I48-SUM($L48:AE48)))","v":19.528332315832309},{"$f":"IF($I48 >0, MIN(AF48,$I48-SUM($L48:AF48)), MAX(AF48,$I48-SUM($L48:AF48)))","v":19.528332315832309},{"$f":"IF($I48 >0, MIN(AG48,$I48-SUM($L48:AG48)), MAX(AG48,$I48-SUM($L48:AG48)))","v":19.528332315832309},{"$f":"IF($I48 >0, MIN(AH48,$I48-SUM($L48:AH48)), MAX(AH48,$I48-SUM($L48:AH48)))","v":19.528332315832309},{"$f":"IF($I48 >0, MIN(AI48,$I48-SUM($L48:AI48)), MAX(AI48,$I48-SUM($L48:AI48)))","v":19.528332315832309},{"$f":"IF($I48 >0, MIN(AJ48,$I48-SUM($L48:AJ48)), MAX(AJ48,$I48-SUM($L48:AJ48)))","v":19.528332315832309},{"$f":"IF($I48 >0, MIN(AK48,$I48-SUM($L48:AK48)), MAX(AK48,$I48-SUM($L48:AK48)))","v":19.528332315832309},{"$f":"IF($I48 >0, MIN(AL48,$I48-SUM($L48:AL48)), MAX(AL48,$I48-SUM($L48:AL48)))","v":19.528332315832309},{"$f":"IF($I48 >0, MIN(AM48,$I48-SUM($L48:AM48)), MAX(AM48,$I48-SUM($L48:AM48)))","v":1.1368683772161603E-13},{"$f":"IF($I48 >0, MIN(AN48,$I48-SUM($L48:AN48)), MAX(AN48,$I48-SUM($L48:AN48)))","v":0}]
[null,null,null,null,"2000-03-31",null,"£m 09/10 prices",null,346.96432742658243,">",null,null,null,null,null,null,null,null,null,null,{"$f":"$I49/T$34","v":17.348216371329123},{"$f":"IF($I49 >0, MIN(U49,$I49-SUM($L49:U49)), MAX(U49,$I49-SUM($L49:U49)))","v":17.348216371329123},{"$f":"IF($I49 >0, MIN(V49,$I49-SUM($L49:V49)), MAX(V49,$I49-SUM($L49:V49)))","v":17.348216371329123},{"$f":"IF($I49 >0, MIN(W49,$I49-SUM($L49:W49)), MAX(W49,$I49-SUM($L49:W49)))","v":17.348216371329123},{"$f":"IF($I49 >0, MIN(X49,$I49-SUM($L49:X49)), MAX(X49,$I49-SUM($L49:X49)))","v":17.348216371329123},{"$f":"IF($I49 >0, MIN(Y49,$I49-SUM($L49:Y49)), MAX(Y49,$I49-SUM($L49:Y49)))","v":17.348216371329123},{"$f":"IF($I49 >0, MIN(Z49,$I49-SUM($L49:Z49)), MAX(Z49,$I49-SUM($L49:Z49)))","v":17.348216371329123},{"$f":"IF($I49 >0, MIN(AA49,$I49-SUM($L49:AA49)), MAX(AA49,$I49-SUM($L49:AA49)))","v":17.348216371329123},{"$f":"IF($I49 >0, MIN(AB49,$I49-SUM($L49:AB49)), MAX(AB49,$I49-SUM($L49:AB49)))","v":17.348216371329123},{"$f":"IF($I49 >0, MIN(AC49,$I49-SUM($L49:AC49)), MAX(AC49,$I49-SUM($L49:AC49)))","v":17.348216371329123},{"$f":"IF($I49 >0, MIN(AD49,$I49-SUM($L49:AD49)), MAX(AD49,$I49-SUM($L49:AD49)))","v":17.348216371329123},{"$f":"IF($I49 >0, MIN(AE49,$I49-SUM($L49:AE49)), MAX(AE49,$I49-SUM($L49:AE49)))","v":17.348216371329123},{"$f":"IF($I49 >0, MIN(AF49,$I49-SUM($L49:AF49)), MAX(AF49,$I49-SUM($L49:AF49)))","v":17.348216371329123},{"$f":"IF($I49 >0, MIN(AG49,$I49-SUM($L49:AG49)), MAX(AG49,$I49-SUM($L49:AG49)))","v":17.348216371329123},{"$f":"IF($I49 >0, MIN(AH49,$I49-SUM($L49:AH49)), MAX(AH49,$I49-SUM($L49:AH49)))","v":17.348216371329123},{"$f":"IF($I49 >0, MIN(AI49,$I49-SUM($L49:AI49)), MAX(AI49,$I49-SUM($L49:AI49)))","v":17.348216371329123},{"$f":"IF($I49 >0, MIN(AJ49,$I49-SUM($L49:AJ49)), MAX(AJ49,$I49-SUM($L49:AJ49)))","v":17.348216371329123},{"$f":"IF($I49 >0, MIN(AK49,$I49-SUM($L49:AK49)), MAX(AK49,$I49-SUM($L49:AK49)))","v":17.348216371329123},{"$f":"IF($I49 >0, MIN(AL49,$I49-SUM($L49:AL49)), MAX(AL49,$I49-SUM($L49:AL49)))","v":17.348216371329123},{"$f":"IF($I49 >0, MIN(AM49,$I49-SUM($L49:AM49)), MAX(AM49,$I49-SUM($L49:AM49)))","v":17.348216371329102},{"$f":"IF($I49 >0, MIN(AN49,$I49-SUM($L49:AN49)), MAX(AN49,$I49-SUM($L49:AN49)))","v":0}]
[null,null,null,null,"2001-03-31",null,"£m 09/10 prices",null,294.61484247298233,">",null,null,null,null,null,null,null,null,null,null,null,{"$f":"$I50/U$34","v":14.730742123649117},{"$f":"IF($I50 >0, MIN(V50,$I50-SUM($L50:V50)), MAX(V50,$I50-SUM($L50:V50)))","v":14.730742123649117},{"$f":"IF($I50 >0, MIN(W50,$I50-SUM($L50:W50)), MAX(W50,$I50-SUM($L50:W50)))","v":14.730742123649117},{"$f":"IF($I50 >0, MIN(X50,$I50-SUM($L50:X50)), MAX(X50,$I50-SUM($L50:X50)))","v":14.730742123649117},{"$f":"IF($I50 >0, MIN(Y50,$I50-SUM($L50:Y50)), MAX(Y50,$I50-SUM($L50:Y50)))","v":14.730742123649117},{"$f":"IF($I50 >0, MIN(Z50,$I50-SUM($L50:Z50)), MAX(Z50,$I50-SUM($L50:Z50)))","v":14.730742123649117},{"$f":"IF($I50 >0, MIN(AA50,$I50-SUM($L50:AA50)), MAX(AA50,$I50-SUM($L50:AA50)))","v":14.730742123649117},{"$f":"IF($I50 >0, MIN(AB50,$I50-SUM($L50:AB50)), MAX(AB50,$I50-SUM($L50:AB50)))","v":14.730742123649117},{"$f":"IF($I50 >0, MIN(AC50,$I50-SUM($L50:AC50)), MAX(AC50,$I50-SUM($L50:AC50)))","v":14.730742123649117},{"$f":"IF($I50 >0, MIN(AD50,$I50-SUM($L50:AD50)), MAX(AD50,$I50-SUM($L50:AD50)))","v":14.730742123649117},{"$f":"IF($I50 >0, MIN(AE50,$I50-SUM($L50:AE50)), MAX(AE50,$I50-SUM($L50:AE50)))","v":14.730742123649117},{"$f":"IF($I50 >0, MIN(AF50,$I50-SUM($L50:AF50)), MAX(AF50,$I50-SUM($L50:AF50)))","v":14.730742123649117},{"$f":"IF($I50 >0, MIN(AG50,$I50-SUM($L50:AG50)), MAX(AG50,$I50-SUM($L50:AG50)))","v":14.730742123649117},{"$f":"IF($I50 >0, MIN(AH50,$I50-SUM($L50:AH50)), MAX(AH50,$I50-SUM($L50:AH50)))","v":14.730742123649117},{"$f":"IF($I50 >0, MIN(AI50,$I50-SUM($L50:AI50)), MAX(AI50,$I50-SUM($L50:AI50)))","v":14.730742123649117},{"$f":"IF($I50 >0, MIN(AJ50,$I50-SUM($L50:AJ50)), MAX(AJ50,$I50-SUM($L50:AJ50)))","v":14.730742123649117},{"$f":"IF($I50 >0, MIN(AK50,$I50-SUM($L50:AK50)), MAX(AK50,$I50-SUM($L50:AK50)))","v":14.730742123649117},{"$f":"IF($I50 >0, MIN(AL50,$I50-SUM($L50:AL50)), MAX(AL50,$I50-SUM($L50:AL50)))","v":14.730742123649117},{"$f":"IF($I50 >0, MIN(AM50,$I50-SUM($L50:AM50)), MAX(AM50,$I50-SUM($L50:AM50)))","v":14.730742123649117},{"$f":"IF($I50 >0, MIN(AN50,$I50-SUM($L50:AN50)), MAX(AN50,$I50-SUM($L50:AN50)))","v":14.730742123649065}]
[null,null,null,null,"2002-03-31",null,"£m 09/10 prices",null,407.70883134746407,">",null,null,null,null,null,null,null,null,null,null,null,null,{"$f":"$I51/V$34","v":20.385441567373203},{"$f":"IF($I51 >0, MIN(W51,$I51-SUM($L51:W51)), MAX(W51,$I51-SUM($L51:W51)))","v":20.385441567373203},{"$f":"IF($I51 >0, MIN(X51,$I51-SUM($L51:X51)), MAX(X51,$I51-SUM($L51:X51)))","v":20.385441567373203},{"$f":"IF($I51 >0, MIN(Y51,$I51-SUM($L51:Y51)), MAX(Y51,$I51-SUM($L51:Y51)))","v":20.385441567373203},{"$f":"IF($I51 >0, MIN(Z51,$I51-SUM($L51:Z51)), MAX(Z51,$I51-SUM($L51:Z51)))","v":20.385441567373203},{"$f":"IF($I51 >0, MIN(AA51,$I51-SUM($L51:AA51)), MAX(AA51,$I51-SUM($L51:AA51)))","v":20.385441567373203},{"$f":"IF($I51 >0, MIN(AB51,$I51-SUM($L51:AB51)), MAX(AB51,$I51-SUM($L51:AB51)))","v":20.385441567373203},{"$f":"IF($I51 >0, MIN(AC51,$I51-SUM($L51:AC51)), MAX(AC51,$I51-SUM($L51:AC51)))","v":20.385441567373203},{"$f":"IF($I51 >0, MIN(AD51,$I51-SUM($L51:AD51)), MAX(AD51,$I51-SUM($L51:AD51)))","v":20.385441567373203},{"$f":"IF($I51 >0, MIN(AE51,$I51-SUM($L51:AE51)), MAX(AE51,$I51-SUM($L51:AE51)))","v":20.385441567373203},{"$f":"IF($I51 >0, MIN(AF51,$I51-SUM($L51:AF51)), MAX(AF51,$I51-SUM($L51:AF51)))","v":20.385441567373203},{"$f":"IF($I51 >0, MIN(AG51,$I51-SUM($L51:AG51)), MAX(AG51,$I51-SUM($L51:AG51)))","v":20.385441567373203},{"$f":"IF($I51 >0, MIN(AH51,$I51-SUM($L51:AH51)), MAX(AH51,$I51-SUM($L51:AH51)))","v":20.385441567373203},{"$f":"IF($I51 >0, MIN(AI51,$I51-SUM($L51:AI51)), MAX(AI51,$I51-SUM($L51:AI51)))","v":20.385441567373203},{"$f":"IF($I51 >0, MIN(AJ51,$I51-SUM($L51:AJ51)), MAX(AJ51,$I51-SUM($L51:AJ51)))","v":20.385441567373203},{"$f":"IF($I51 >0, MIN(AK51,$I51-SUM($L51:AK51)), MAX(AK51,$I51-SUM($L51:AK51)))","v":20.385441567373203},{"$f":"IF($I51 >0, MIN(AL51,$I51-SUM($L51:AL51)), MAX(AL51,$I51-SUM($L51:AL51)))","v":20.385441567373203},{"$f":"IF($I51 >0, MIN(AM51,$I51-SUM($L51:AM51)), MAX(AM51,$I51-SUM($L51:AM51)))","v":20.385441567373203},{"$f":"IF($I51 >0, MIN(AN51,$I51-SUM($L51:AN51)), MAX(AN51,$I51-SUM($L51:AN51)))","v":20.385441567373203}]
[null,null,null,null,"2003-03-31",null,"£m 09/10 prices",null,378.11716061760876,">",null,null,null,null,null,null,null,null,null,null,null,null,null,{"$f":"$I52/W$34","v":18.905858030880438},{"$f":"IF($I52 >0, MIN(X52,$I52-SUM($L52:X52)), MAX(X52,$I52-SUM($L52:X52)))","v":18.905858030880438},{"$f":"IF($I52 >0, MIN(Y52,$I52-SUM($L52:Y52)), MAX(Y52,$I52-SUM($L52:Y52)))","v":18.905858030880438},{"$f":"IF($I52 >0, MIN(Z52,$I52-SUM($L52:Z52)), MAX(Z52,$I52-SUM($L52:Z52)))","v":18.905858030880438},{"$f":"IF($I52 >0, MIN(AA52,$I52-SUM($L52:AA52)), MAX(AA52,$I52-SUM($L52:AA52)))","v":18.905858030880438},{"$f":"IF($I52 >0, MIN(AB52,$I52-SUM($L52:AB52)), MAX(AB52,$I52-SUM($L52:AB52)))","v":18.905858030880438},{"$f":"IF($I52 >0, MIN(AC52,$I52-SUM($L52:AC52)), MAX(AC52,$I52-SUM($L52:AC52)))","v":18.905858030880438},{"$f":"IF($I52 >0, MIN(AD52,$I52-SUM($L52:AD52)), MAX(AD52,$I52-SUM($L52:AD52)))","v":18.905858030880438},{"$f":"IF($I52 >0, MIN(AE52,$I52-SUM($L52:AE52)), MAX(AE52,$I52-SUM($L52:AE52)))","v":18.905858030880438},{"$f":"IF($I52 >0, MIN(AF52,$I52-SUM($L52:AF52)), MAX(AF52,$I52-SUM($L52:AF52)))","v":18.905858030880438},{"$f":"IF($I52 >0, MIN(AG52,$I52-SUM($L52:AG52)), MAX(AG52,$I52-SUM($L52:AG52)))","v":18.905858030880438},{"$f":"IF($I52 >0, MIN(AH52,$I52-SUM($L52:AH52)), MAX(AH52,$I52-SUM($L52:AH52)))","v":18.905858030880438},{"$f":"IF($I52 >0, MIN(AI52,$I52-SUM($L52:AI52)), MAX(AI52,$I52-SUM($L52:AI52)))","v":18.905858030880438},{"$f":"IF($I52 >0, MIN(AJ52,$I52-SUM($L52:AJ52)), MAX(AJ52,$I52-SUM($L52:AJ52)))","v":18.905858030880438},{"$f":"IF($I52 >0, MIN(AK52,$I52-SUM($L52:AK52)), MAX(AK52,$I52-SUM($L52:AK52)))","v":18.905858030880438},{"$f":"IF($I52 >0, MIN(AL52,$I52-SUM($L52:AL52)), MAX(AL52,$I52-SUM($L52:AL52)))","v":18.905858030880438},{"$f":"IF($I52 >0, MIN(AM52,$I52-SUM($L52:AM52)), MAX(AM52,$I52-SUM($L52:AM52)))","v":18.905858030880438},{"$f":"IF($I52 >0, MIN(AN52,$I52-SUM($L52:AN52)), MAX(AN52,$I52-SUM($L52:AN52)))","v":18.905858030880438}]
[null,null,null,null,"2004-03-31",null,"£m 09/10 prices",null,321.33438328493975,">",null,null,null,null,null,null,null,null,null,null,null,null,null,null,{"$f":"$I53/X$34","v":16.066719164246987},{"$f":"IF($I53 >0, MIN(Y53,$I53-SUM($L53:Y53)), MAX(Y53,$I53-SUM($L53:Y53)))","v":16.066719164246987},{"$f":"IF($I53 >0, MIN(Z53,$I53-SUM($L53:Z53)), MAX(Z53,$I53-SUM($L53:Z53)))","v":16.066719164246987},{"$f":"IF($I53 >0, MIN(AA53,$I53-SUM($L53:AA53)), MAX(AA53,$I53-SUM($L53:AA53)))","v":16.066719164246987},{"$f":"IF($I53 >0, MIN(AB53,$I53-SUM($L53:AB53)), MAX(AB53,$I53-SUM($L53:AB53)))","v":16.066719164246987},{"$f":"IF($I53 >0, MIN(AC53,$I53-SUM($L53:AC53)), MAX(AC53,$I53-SUM($L53:AC53)))","v":16.066719164246987},{"$f":"IF($I53 >0, MIN(AD53,$I53-SUM($L53:AD53)), MAX(AD53,$I53-SUM($L53:AD53)))","v":16.066719164246987},{"$f":"IF($I53 >0, MIN(AE53,$I53-SUM($L53:AE53)), MAX(AE53,$I53-SUM($L53:AE53)))","v":16.066719164246987},{"$f":"IF($I53 >0, MIN(AF53,$I53-SUM($L53:AF53)), MAX(AF53,$I53-SUM($L53:AF53)))","v":16.066719164246987},{"$f":"IF($I53 >0, MIN(AG53,$I53-SUM($L53:AG53)), MAX(AG53,$I53-SUM($L53:AG53)))","v":16.066719164246987},{"$f":"IF($I53 >0, MIN(AH53,$I53-SUM($L53:AH53)), MAX(AH53,$I53-SUM($L53:AH53)))","v":16.066719164246987},{"$f":"IF($I53 >0, MIN(AI53,$I53-SUM($L53:AI53)), MAX(AI53,$I53-SUM($L53:AI53)))","v":16.066719164246987},{"$f":"IF($I53 >0, MIN(AJ53,$I53-SUM($L53:AJ53)), MAX(AJ53,$I53-SUM($L53:AJ53)))","v":16.066719164246987},{"$f":"IF($I53 >0, MIN(AK53,$I53-SUM($L53:AK53)), MAX(AK53,$I53-SUM($L53:AK53)))","v":16.066719164246987},{"$f":"IF($I53 >0, MIN(AL53,$I53-SUM($L53:AL53)), MAX(AL53,$I53-SUM($L53:AL53)))","v":16.066719164246987},{"$f":"IF($I53 >0, MIN(AM53,$I53-SUM($L53:AM53)), MAX(AM53,$I53-SUM($L53:AM53)))","v":16.066719164246987},{"$f":"IF($I53 >0, MIN(AN53,$I53-SUM($L53:AN53)), MAX(AN53,$I53-SUM($L53:AN53)))","v":16.066719164246987}]
[null,null,null,null,"2005-03-31",null,"£m 09/10 prices",null,422.59647639294877,">",null,null,null,null,null,null,null,null,null,null,null,null,null,null,null,{"$f":"$I54/Y$34","v":21.129823819647438},{"$f":"IF($I54 >0, MIN(Z54,$I54-SUM($L54:Z54)), MAX(Z54,$I54-SUM($L54:Z54)))","v":21.129823819647438},{"$f":"IF($I54 >0, MIN(AA54,$I54-SUM($L54:AA54)), MAX(AA54,$I54-SUM($L54:AA54)))","v":21.129823819647438},{"$f":"IF($I54 >0, MIN(AB54,$I54-SUM($L54:AB54)), MAX(AB54,$I54-SUM($L54:AB54)))","v":21.129823819647438},{"$f":"IF($I54 >0, MIN(AC54,$I54-SUM($L54:AC54)), MAX(AC54,$I54-SUM($L54:AC54)))","v":21.129823819647438},{"$f":"IF($I54 >0, MIN(AD54,$I54-SUM($L54:AD54)), MAX(AD54,$I54-SUM($L54:AD54)))","v":21.129823819647438},{"$f":"IF($I54 >0, MIN(AE54,$I54-SUM($L54:AE54)), MAX(AE54,$I54-SUM($L54:AE54)))","v":21.129823819647438},{"$f":"IF($I54 >0, MIN(AF54,$I54-SUM($L54:AF54)), MAX(AF54,$I54-SUM($L54:AF54)))","v":21.129823819647438},{"$f":"IF($I54 >0, MIN(AG54,$I54-SUM($L54:AG54)), MAX(AG54,$I54-SUM($L54:AG54)))","v":21.129823819647438},{"$f":"IF($I54 >0, MIN(AH54,$I54-SUM($L54:AH54)), MAX(AH54,$I54-SUM($L54:AH54)))","v":21.129823819647438},{"$f":"IF($I54 >0, MIN(AI54,$I54-SUM($L54:AI54)), MAX(AI54,$I54-SUM($L54:AI54)))","v":21.129823819647438},{"$f":"IF($I54 >0, MIN(AJ54,$I54-SUM($L54:AJ54)), MAX(AJ54,$I54-SUM($L54:AJ54)))","v":21.129823819647438},{"$f":"IF($I54 >0, MIN(AK54,$I54-SUM($L54:AK54)), MAX(AK54,$I54-SUM($L54:AK54)))","v":21.129823819647438},{"$f":"IF($I54 >0, MIN(AL54,$I54-SUM($L54:AL54)), MAX(AL54,$I54-SUM($L54:AL54)))","v":21.129823819647438},{"$f":"IF($I54 >0, MIN(AM54,$I54-SUM($L54:AM54)), MAX(AM54,$I54-SUM($L54:AM54)))","v":21.129823819647438},{"$f":"IF($I54 >0, MIN(AN54,$I54-SUM($L54:AN54)), MAX(AN54,$I54-SUM($L54:AN54)))","v":21.129823819647438}]
[null,null,null,null,"2006-03-31",null,"£m 09/10 prices",null,580.37086035691379,">",null,null,null,null,null,null,null,null,null,null,null,null,null,null,null,null,{"$f":"$I55/Z$34","v":29.01854301784569},{"$f":"IF($I55 >0, MIN(AA55,$I55-SUM($L55:AA55)), MAX(AA55,$I55-SUM($L55:AA55)))","v":29.01854301784569},{"$f":"IF($I55 >0, MIN(AB55,$I55-SUM($L55:AB55)), MAX(AB55,$I55-SUM($L55:AB55)))","v":29.01854301784569},{"$f":"IF($I55 >0, MIN(AC55,$I55-SUM($L55:AC55)), MAX(AC55,$I55-SUM($L55:AC55)))","v":29.01854301784569},{"$f":"IF($I55 >0, MIN(AD55,$I55-SUM($L55:AD55)), MAX(AD55,$I55-SUM($L55:AD55)))","v":29.01854301784569},{"$f":"IF($I55 >0, MIN(AE55,$I55-SUM($L55:AE55)), MAX(AE55,$I55-SUM($L55:AE55)))","v":29.01854301784569},{"$f":"IF($I55 >0, MIN(AF55,$I55-SUM($L55:AF55)), MAX(AF55,$I55-SUM($L55:AF55)))","v":29.01854301784569},{"$f":"IF($I55 >0, MIN(AG55,$I55-SUM($L55:AG55)), MAX(AG55,$I55-SUM($L55:AG55)))","v":29.01854301784569},{"$f":"IF($I55 >0, MIN(AH55,$I55-SUM($L55:AH55)), MAX(AH55,$I55-SUM($L55:AH55)))","v":29.01854301784569},{"$f":"IF($I55 >0, MIN(AI55,$I55-SUM($L55:AI55)), MAX(AI55,$I55-SUM($L55:AI55)))","v":29.01854301784569},{"$f":"IF($I55 >0, MIN(AJ55,$I55-SUM($L55:AJ55)), MAX(AJ55,$I55-SUM($L55:AJ55)))","v":29.01854301784569},{"$f":"IF($I55 >0, MIN(AK55,$I55-SUM($L55:AK55)), MAX(AK55,$I55-SUM($L55:AK55)))","v":29.01854301784569},{"$f":"IF($I55 >0, MIN(AL55,$I55-SUM($L55:AL55)), MAX(AL55,$I55-SUM($L55:AL55)))","v":29.01854301784569},{"$f":"IF($I55 >0, MIN(AM55,$I55-SUM($L55:AM55)), MAX(AM55,$I55-SUM($L55:AM55)))","v":29.01854301784569},{"$f":"IF($I55 >0, MIN(AN55,$I55-SUM($L55:AN55)), MAX(AN55,$I55-SUM($L55:AN55)))","v":29.01854301784569}]
[null,null,null,null,"2007-03-31",null,"£m 09/10 prices",null,556.6596888260251,">",null,null,null,null,null,null,null,null,null,null,null,null,null,null,null,null,null,{"$f":"$I56/AA$34","v":27.832984441301257},{"$f":"IF($I56 >0, MIN(AB56,$I56-SUM($L56:AB56)), MAX(AB56,$I56-SUM($L56:AB56)))","v":27.832984441301257},{"$f":"IF($I56 >0, MIN(AC56,$I56-SUM($L56:AC56)), MAX(AC56,$I56-SUM($L56:AC56)))","v":27.832984441301257},{"$f":"IF($I56 >0, MIN(AD56,$I56-SUM($L56:AD56)), MAX(AD56,$I56-SUM($L56:AD56)))","v":27.832984441301257},{"$f":"IF($I56 >0, MIN(AE56,$I56-SUM($L56:AE56)), MAX(AE56,$I56-SUM($L56:AE56)))","v":27.832984441301257},{"$f":"IF($I56 >0, MIN(AF56,$I56-SUM($L56:AF56)), MAX(AF56,$I56-SUM($L56:AF56)))","v":27.832984441301257},{"$f":"IF($I56 >0, MIN(AG56,$I56-SUM($L56:AG56)), MAX(AG56,$I56-SUM($L56:AG56)))","v":27.832984441301257},{"$f":"IF($I56 >0, MIN(AH56,$I56-SUM($L56:AH56)), MAX(AH56,$I56-SUM($L56:AH56)))","v":27.832984441301257},{"$f":"IF($I56 >0, MIN(AI56,$I56-SUM($L56:AI56)), MAX(AI56,$I56-SUM($L56:AI56)))","v":27.832984441301257},{"$f":"IF($I56 >0, MIN(AJ56,$I56-SUM($L56:AJ56)), MAX(AJ56,$I56-SUM($L56:AJ56)))","v":27.832984441301257},{"$f":"IF($I56 >0, MIN(AK56,$I56-SUM($L56:AK56)), MAX(AK56,$I56-SUM($L56:AK56)))","v":27.832984441301257},{"$f":"IF($I56 >0, MIN(AL56,$I56-SUM($L56:AL56)), MAX(AL56,$I56-SUM($L56:AL56)))","v":27.832984441301257},{"$f":"IF($I56 >0, MIN(AM56,$I56-SUM($L56:AM56)), MAX(AM56,$I56-SUM($L56:AM56)))","v":27.832984441301257},{"$f":"IF($I56 >0, MIN(AN56,$I56-SUM($L56:AN56)), MAX(AN56,$I56-SUM($L56:AN56)))","v":27.832984441301257}]
[null,null,null,null,"2008-03-31",null,"£m 09/10 prices",null,696.07018609532179,">",null,null,null,null,null,null,null,null,null,null,null,null,null,null,null,null,null,null,{"$f":"$I57/AB$34","v":34.803509304766088},{"$f":"IF($I57 >0, MIN(AC57,$I57-SUM($L57:AC57)), MAX(AC57,$I57-SUM($L57:AC57)))","v":34.803509304766088},{"$f":"IF($I57 >0, MIN(AD57,$I57-SUM($L57:AD57)), MAX(AD57,$I57-SUM($L57:AD57)))","v":34.803509304766088},{"$f":"IF($I57 >0, MIN(AE57,$I57-SUM($L57:AE57)), MAX(AE57,$I57-SUM($L57:AE57)))","v":34.803509304766088},{"$f":"IF($I57 >0, MIN(AF57,$I57-SUM($L57:AF57)), MAX(AF57,$I57-SUM($L57:AF57)))","v":34.803509304766088},{"$f":"IF($I57 >0, MIN(AG57,$I57-SUM($L57:AG57)), MAX(AG57,$I57-SUM($L57:AG57)))","v":34.803509304766088},{"$f":"IF($I57 >0, MIN(AH57,$I57-SUM($L57:AH57)), MAX(AH57,$I57-SUM($L57:AH57)))","v":34.803509304766088},{"$f":"IF($I57 >0, MIN(AI57,$I57-SUM($L57:AI57)), MAX(AI57,$I57-SUM($L57:AI57)))","v":34.803509304766088},{"$f":"IF($I57 >0, MIN(AJ57,$I57-SUM($L57:AJ57)), MAX(AJ57,$I57-SUM($L57:AJ57)))","v":34.803509304766088},{"$f":"IF($I57 >0, MIN(AK57,$I57-SUM($L57:AK57)), MAX(AK57,$I57-SUM($L57:AK57)))","v":34.803509304766088},{"$f":"IF($I57 >0, MIN(AL57,$I57-SUM($L57:AL57)), MAX(AL57,$I57-SUM($L57:AL57)))","v":34.803509304766088},{"$f":"IF($I57 >0, MIN(AM57,$I57-SUM($L57:AM57)), MAX(AM57,$I57-SUM($L57:AM57)))","v":34.803509304766088},{"$f":"IF($I57 >0, MIN(AN57,$I57-SUM($L57:AN57)), MAX(AN57,$I57-SUM($L57:AN57)))","v":34.803509304766088}]
[null,null,null,null,"2009-03-31",null,"£m 09/10 prices",null,665.03634688976456,">",null,null,null,null,null,null,null,null,null,null,null,null,null,null,null,null,null,null,null,{"$f":"$I58/AC$34","v":33.251817344488231},{"$f":"IF($I58 >0, MIN(AD58,$I58-SUM($L58:AD58)), MAX(AD58,$I58-SUM($L58:AD58)))","v":33.251817344488231},{"$f":"IF($I58 >0, MIN(AE58,$I58-SUM($L58:AE58)), MAX(AE58,$I58-SUM($L58:AE58)))","v":33.251817344488231},{"$f":"IF($I58 >0, MIN(AF58,$I58-SUM($L58:AF58)), MAX(AF58,$I58-SUM($L58:AF58)))","v":33.251817344488231},{"$f":"IF($I58 >0, MIN(AG58,$I58-SUM($L58:AG58)), MAX(AG58,$I58-SUM($L58:AG58)))","v":33.251817344488231},{"$f":"IF($I58 >0, MIN(AH58,$I58-SUM($L58:AH58)), MAX(AH58,$I58-SUM($L58:AH58)))","v":33.251817344488231},{"$f":"IF($I58 >0, MIN(AI58,$I58-SUM($L58:AI58)), MAX(AI58,$I58-SUM($L58:AI58)))","v":33.251817344488231},{"$f":"IF($I58 >0, MIN(AJ58,$I58-SUM($L58:AJ58)), MAX(AJ58,$I58-SUM($L58:AJ58)))","v":33.251817344488231},{"$f":"IF($I58 >0, MIN(AK58,$I58-SUM($L58:AK58)), MAX(AK58,$I58-SUM($L58:AK58)))","v":33.251817344488231},{"$f":"IF($I58 >0, MIN(AL58,$I58-SUM($L58:AL58)), MAX(AL58,$I58-SUM($L58:AL58)))","v":33.251817344488231},{"$f":"IF($I58 >0, MIN(AM58,$I58-SUM($L58:AM58)), MAX(AM58,$I58-SUM($L58:AM58)))","v":33.251817344488231},{"$f":"IF($I58 >0, MIN(AN58,$I58-SUM($L58:AN58)), MAX(AN58,$I58-SUM($L58:AN58)))","v":33.251817344488231}]
[null,null,null,null,"2010-03-31",null,"£m 09/10 prices",null,812.1919300000003,">",null,null,null,null,null,null,null,null,null,null,null,null,null,null,null,null,null,null,null,null,{"$f":"$I59/AD$34","v":40.609596500000016},{"$f":"IF($I59 >0, MIN(AE59,$I59-SUM($L59:AE59)), MAX(AE59,$I59-SUM($L59:AE59)))","v":40.609596500000016},{"$f":"IF($I59 >0, MIN(AF59,$I59-SUM($L59:AF59)), MAX(AF59,$I59-SUM($L59:AF59)))","v":40.609596500000016},{"$f":"IF($I59 >0, MIN(AG59,$I59-SUM($L59:AG59)), MAX(AG59,$I59-SUM($L59:AG59)))","v":40.609596500000016},{"$f":"IF($I59 >0, MIN(AH59,$I59-SUM($L59:AH59)), MAX(AH59,$I59-SUM($L59:AH59)))","v":40.609596500000016},{"$f":"IF($I59 >0, MIN(AI59,$I59-SUM($L59:AI59)), MAX(AI59,$I59-SUM($L59:AI59)))","v":40.609596500000016},{"$f":"IF($I59 >0, MIN(AJ59,$I59-SUM($L59:AJ59)), MAX(AJ59,$I59-SUM($L59:AJ59)))","v":40.609596500000016},{"$f":"IF($I59 >0, MIN(AK59,$I59-SUM($L59:AK59)), MAX(AK59,$I59-SUM($L59:AK59)))","v":40.609596500000016},{"$f":"IF($I59 >0, MIN(AL59,$I59-SUM($L59:AL59)), MAX(AL59,$I59-SUM($L59:AL59)))","v":40.609596500000016},{"$f":"IF($I59 >0, MIN(AM59,$I59-SUM($L59:AM59)), MAX(AM59,$I59-SUM($L59:AM59)))","v":40.609596500000016},{"$f":"IF($I59 >0, MIN(AN59,$I59-SUM($L59:AN59)), MAX(AN59,$I59-SUM($L59:AN59)))","v":40.609596500000016}]
[null,null,null,null,"2011-03-31",null,"£m 09/10 prices",null,656.72036516023195,">",null,null,null,null,null,null,null,null,null,null,null,null,null,null,null,null,null,null,null,null,null,{"$f":"$I60/AE$34","v":32.836018258011599},{"$f":"IF($I60 >0, MIN(AF60,$I60-SUM($L60:AF60)), MAX(AF60,$I60-SUM($L60:AF60)))","v":32.836018258011599},{"$f":"IF($I60 >0, MIN(AG60,$I60-SUM($L60:AG60)), MAX(AG60,$I60-SUM($L60:AG60)))","v":32.836018258011599},{"$f":"IF($I60 >0, MIN(AH60,$I60-SUM($L60:AH60)), MAX(AH60,$I60-SUM($L60:AH60)))","v":32.836018258011599},{"$f":"IF($I60 >0, MIN(AI60,$I60-SUM($L60:AI60)), MAX(AI60,$I60-SUM($L60:AI60)))","v":32.836018258011599},{"$f":"IF($I60 >0, MIN(AJ60,$I60-SUM($L60:AJ60)), MAX(AJ60,$I60-SUM($L60:AJ60)))","v":32.836018258011599},{"$f":"IF($I60 >0, MIN(AK60,$I60-SUM($L60:AK60)), MAX(AK60,$I60-SUM($L60:AK60)))","v":32.836018258011599},{"$f":"IF($I60 >0, MIN(AL60,$I60-SUM($L60:AL60)), MAX(AL60,$I60-SUM($L60:AL60)))","v":32.836018258011599},{"$f":"IF($I60 >0, MIN(AM60,$I60-SUM($L60:AM60)), MAX(AM60,$I60-SUM($L60:AM60)))","v":32.836018258011599},{"$f":"IF($I60 >0, MIN(AN60,$I60-SUM($L60:AN60)), MAX(AN60,$I60-SUM($L60:AN60)))","v":32.836018258011599}]
[null,null,null,null,"2012-03-31",null,"£m 09/10 prices",null,927.74885273201085,">",null,null,null,null,null,null,null,null,null,null,null,null,null,null,null,null,null,null,null,null,null,null,{"$f":"$I61/AF$34","v":46.387442636600539},{"$f":"IF($I61 >0, MIN(AG61,$I61-SUM($L61:AG61)), MAX(AG61,$I61-SUM($L61:AG61)))","v":46.387442636600539},{"$f":"IF($I61 >0, MIN(AH61,$I61-SUM($L61:AH61)), MAX(AH61,$I61-SUM($L61:AH61)))","v":46.387442636600539},{"$f":"IF($I61 >0, MIN(AI61,$I61-SUM($L61:AI61)), MAX(AI61,$I61-SUM($L61:AI61)))","v":46.387442636600539},{"$f":"IF($I61 >0, MIN(AJ61,$I61-SUM($L61:AJ61)), MAX(AJ61,$I61-SUM($L61:AJ61)))","v":46.387442636600539},{"$f":"IF($I61 >0, MIN(AK61,$I61-SUM($L61:AK61)), MAX(AK61,$I61-SUM($L61:AK61)))","v":46.387442636600539},{"$f":"IF($I61 >0, MIN(AL61,$I61-SUM($L61:AL61)), MAX(AL61,$I61-SUM($L61:AL61)))","v":46.387442636600539},{"$f":"IF($I61 >0, MIN(AM61,$I61-SUM($L61:AM61)), MAX(AM61,$I61-SUM($L61:AM61)))","v":46.387442636600539},{"$f":"IF($I61 >0, MIN(AN61,$I61-SUM($L61:AN61)), MAX(AN61,$I61-SUM($L61:AN61)))","v":46.387442636600539}]
[null,null,null,null,"2013-03-31",null,"£m 09/10 prices",null,902.96161798967933,null,null,null,null,null,null,null,null,null,null,null,null,null,null,null,null,null,null,null,null,null,null,null,null,{"$f":"$I62/AG$34","v":45.148080899483965},{"$f":"IF($I62 >0, MIN(AH62,$I62-SUM($L62:AH62)), MAX(AH62,$I62-SUM($L62:AH62)))","v":45.148080899483965},{"$f":"IF($I62 >0, MIN(AI62,$I62-SUM($L62:AI62)), MAX(AI62,$I62-SUM($L62:AI62)))","v":45.148080899483965},{"$f":"IF($I62 >0, MIN(AJ62,$I62-SUM($L62:AJ62)), MAX(AJ62,$I62-SUM($L62:AJ62)))","v":45.148080899483965},{"$f":"IF($I62 >0, MIN(AK62,$I62-SUM($L62:AK62)), MAX(AK62,$I62-SUM($L62:AK62)))","v":45.148080899483965},{"$f":"IF($I62 >0, MIN(AL62,$I62-SUM($L62:AL62)), MAX(AL62,$I62-SUM($L62:AL62)))","v":45.148080899483965},{"$f":"IF($I62 >0, MIN(AM62,$I62-SUM($L62:AM62)), MAX(AM62,$I62-SUM($L62:AM62)))","v":45.148080899483965},{"$f":"IF($I62 >0, MIN(AN62,$I62-SUM($L62:AN62)), MAX(AN62,$I62-SUM($L62:AN62)))","v":45.148080899483965}]
[null,null,null,null,"2014-03-31",null,"£m 09/10 prices",null,1027.0681172532477,null,null,null,null,null,null,null,null,null,null,null,null,null,null,null,null,null,null,null,null,null,null,null,null,null,{"$f":"$I63/AH$34","v":44.413756421762059},{"$f":"IF($I63 >0, MIN(AI63,$I63-SUM($L63:AI63)), MAX(AI63,$I63-SUM($L63:AI63)))","v":44.413756421762059},{"$f":"IF($I63 >0, MIN(AJ63,$I63-SUM($L63:AJ63)), MAX(AJ63,$I63-SUM($L63:AJ63)))","v":44.413756421762059},{"$f":"IF($I63 >0, MIN(AK63,$I63-SUM($L63:AK63)), MAX(AK63,$I63-SUM($L63:AK63)))","v":44.413756421762059},{"$f":"IF($I63 >0, MIN(AL63,$I63-SUM($L63:AL63)), MAX(AL63,$I63-SUM($L63:AL63)))","v":44.413756421762059},{"$f":"IF($I63 >0, MIN(AM63,$I63-SUM($L63:AM63)), MAX(AM63,$I63-SUM($L63:AM63)))","v":44.413756421762059},{"$f":"IF($I63 >0, MIN(AN63,$I63-SUM($L63:AN63)), MAX(AN63,$I63-SUM($L63:AN63)))","v":44.413756421762059}]
[null,null,null,null,"2015-03-31",null,"£m 09/10 prices",null,1408.3975866718224,null,null,null,null,null,null,null,null,null,null,null,null,null,null,null,null,null,null,null,null,null,null,null,null,null,null,{"$f":"$I64/AI$34","v":53.653241397021809},{"$f":"IF($I64 >0, MIN(AJ64,$I64-SUM($L64:AJ64)), MAX(AJ64,$I64-SUM($L64:AJ64)))","v":53.653241397021809},{"$f":"IF($I64 >0, MIN(AK64,$I64-SUM($L64:AK64)), MAX(AK64,$I64-SUM($L64:AK64)))","v":53.653241397021809},{"$f":"IF($I64 >0, MIN(AL64,$I64-SUM($L64:AL64)), MAX(AL64,$I64-SUM($L64:AL64)))","v":53.653241397021809},{"$f":"IF($I64 >0, MIN(AM64,$I64-SUM($L64:AM64)), MAX(AM64,$I64-SUM($L64:AM64)))","v":53.653241397021809},{"$f":"IF($I64 >0, MIN(AN64,$I64-SUM($L64:AN64)), MAX(AN64,$I64-SUM($L64:AN64)))","v":53.653241397021809}]
[null,null,null,null,"2016-03-31",null,"£m 09/10 prices",null,1327.1326253394636,null,null,null,null,null,null,null,null,null,null,null,null,null,null,null,null,null,null,null,null,null,null,null,null,null,null,null,{"$f":"$I65/AJ$34","v":45.178982990279614},{"$f":"IF($I65 >0, MIN(AK65,$I65-SUM($L65:AK65)), MAX(AK65,$I65-SUM($L65:AK65)))","v":45.178982990279614},{"$f":"IF($I65 >0, MIN(AL65,$I65-SUM($L65:AL65)), MAX(AL65,$I65-SUM($L65:AL65)))","v":45.178982990279614},{"$f":"IF($I65 >0, MIN(AM65,$I65-SUM($L65:AM65)), MAX(AM65,$I65-SUM($L65:AM65)))","v":45.178982990279614},{"$f":"IF($I65 >0, MIN(AN65,$I65-SUM($L65:AN65)), MAX(AN65,$I65-SUM($L65:AN65)))","v":45.178982990279614}]
[null,null,null,null,"2017-03-31",null,"£m 09/10 prices",null,1222.041972291815,null,null,null,null,null,null,null,null,null,null,null,null,null,null,null,null,null,null,null,null,null,null,null,null,null,null,null,null,{"$f":"$I66/AK$34","v":37.601291455132767},{"$f":"IF($I66 >0, MIN(AL66,$I66-SUM($L66:AL66)), MAX(AL66,$I66-SUM($L66:AL66)))","v":37.601291455132767},{"$f":"IF($I66 >0, MIN(AM66,$I66-SUM($L66:AM66)), MAX(AM66,$I66-SUM($L66:AM66)))","v":37.601291455132767},{"$f":"IF($I66 >0, MIN(AN66,$I66-SUM($L66:AN66)), MAX(AN66,$I66-SUM($L66:AN66)))","v":37.601291455132767}]
[null,null,null,null,"2018-03-31",null,"£m 09/10 prices",null,1081.5542272068149,null,null,null,null,null,null,null,null,null,null,null,null,null,null,null,null,null,null,null,null,null,null,null,null,null,null,null,null,null,{"$f":"$I67/AL$34","v":30.359416904050942},{"$f":"IF($I67 >0, MIN(AM67,$I67-SUM($L67:AM67)), MAX(AM67,$I67-SUM($L67:AM67)))","v":30.359416904050942},{"$f":"IF($I67 >0, MIN(AN67,$I67-SUM($L67:AN67)), MAX(AN67,$I67-SUM($L67:AN67)))","v":30.359416904050942}]
[null,null,null,null,"2019-03-31",null,"£m 09/10 prices",null,1065.8261713048387,null,null,null,null,null,null,null,null,null,null,null,null,null,null,null,null,null,null,null,null,null,null,null,null,null,null,null,null,null,null,{"$f":"$I68/AM$34","v":27.505191517544223},{"$f":"IF($I68 >0, MIN(AN68,$I68-SUM($L68:AN68)), MAX(AN68,$I68-SUM($L68:AN68)))","v":27.505191517544223}]
[null,null,null,null,"2020-03-31",null,"£m 09/10 prices",null,950.68592838167524,null,null,null,null,null,null,null,null,null,null,null,null,null,null,null,null,null,null,null,null,null,null,null,null,null,null,null,null,null,null,null,{"$f":"$I69/AN$34","v":22.702947543442992}]
[null,null,null,null,"2021-03-31",null,"£m 09/10 prices",null,825.3198364358783]
[]
[null,null,"Non-accelerated post-vesting depreciation"]
[null,null,"Note: Non-accelerated depreciation calculations are used to establish the \"RAV differential\" accumulated as the difference between non-accelerated and accelerated depreciation before full depreciation of vesting assets."]
[]
[null,null,null,"Depreciation parameters"]
[]
[null,null,null,null,"Non-accelerated post-vesting asset life",null,"years",null,null,">",{"$f":"Input!K231","v":40},{"$f":"Input!L231","v":40},{"$f":"Input!M231","v":40},{"$f":"Input!N231","v":40},{"$f":"Input!O231","v":40},{"$f":"Input!P231","v":40},{"$f":"Input!Q231","v":40},{"$f":"Input!R231","v":40},{"$f":"Input!S231","v":40},{"$f":"Input!T231","v":40},{"$f":"Input!U231","v":40},{"$f":"Input!V231","v":40},{"$f":"Input!W231","v":40},{"$f":"Input!X231","v":40},{"$f":"Input!Y231","v":40},{"$f":"Input!Z231","v":40},{"$f":"Input!AA231","v":40},{"$f":"Input!AB231","v":40},{"$f":"Input!AC231","v":40},{"$f":"Input!AD231","v":40},{"$f":"Input!AE231","v":40},{"$f":"Input!AF231","v":40},{"$f":"Input!AG231","v":40},{"$f":"Input!AH231","v":23.125},{"$f":"Input!AI231","v":26.25},{"$f":"Input!AJ231","v":29.375},{"$f":"Input!AK231","v":32.5},{"$f":"Input!AL231","v":35.625},{"$f":"Input!AM231","v":38.75},{"$f":"Input!AN231","v":41.875},{"$f":"Input!AO231","v":45}]
[null,null,null,null,"Non-accelerated post-vesting depreciation applied",null,"text",null,null,">",null,{"$f":"YEAR(L$4) < YEAR($I$25) + $I$26","v":true},true,true,true,true,true,true,true,true,true,true,true,true,true,true,true,true,true,true,false,false,false,false,false,false,false,false,false,false,false]
[]
[null,null,null,"Depreciation schedule"]
[]
[null,null,null,null,"Non-accelerated depreciation of additions from year ending",null,null,null,"Net additions"]
[null,null,null,null,"1991-03-31",null,"£m 09/10 prices",null,{"$f":"TRANSPOSE(K15:AO15)","v":379.44363316244619},">",null,{"$f":"$I83/K$77","v":9.4860908290611547},{"$f":"IF($I83 >0, MIN(L83,$I83-SUM($L83:L83)), MAX(L83,$I83-SUM($L83:L83)))","v":9.4860908290611547},{"$f":"IF($I83 >0, MIN(M83,$I83-SUM($L83:M83)), MAX(M83,$I83-SUM($L83:M83)))","v":9.4860908290611547},{"$f":"IF($I83 >0, MIN(N83,$I83-SUM($L83:N83)), MAX(N83,$I83-SUM($L83:N83)))","v":9.4860908290611547},{"$f":"IF($I83 >0, MIN(O83,$I83-SUM($L83:O83)), MAX(O83,$I83-SUM($L83:O83)))","v":9.4860908290611547},{"$f":"IF($I83 >0, MIN(P83,$I83-SUM($L83:P83)), MAX(P83,$I83-SUM($L83:P83)))","v":9.4860908290611547},{"$f":"IF($I83 >0, MIN(Q83,$I83-SUM($L83:Q83)), MAX(Q83,$I83-SUM($L83:Q83)))","v":9.4860908290611547},{"$f":"IF($I83 >0, MIN(R83,$I83-SUM($L83:R83)), MAX(R83,$I83-SUM($L83:R83)))","v":9.4860908290611547},{"$f":"IF($I83 >0, MIN(S83,$I83-SUM($L83:S83)), MAX(S83,$I83-SUM($L83:S83)))","v":9.4860908290611547},{"$f":"IF($I83 >0, MIN(T83,$I83-SUM($L83:T83)), MAX(T83,$I83-SUM($L83:T83)))","v":9.4860908290611547},{"$f":"IF($I83 >0, MIN(U83,$I83-SUM($L83:U83)), MAX(U83,$I83-SUM($L83:U83)))","v":9.4860908290611547},{"$f":"IF($I83 >0, MIN(V83,$I83-SUM($L83:V83)), MAX(V83,$I83-SUM($L83:V83)))","v":9.4860908290611547},{"$f":"IF($I83 >0, MIN(W83,$I83-SUM($L83:W83)), MAX(W83,$I83-SUM($L83:W83)))","v":9.4860908290611547},{"$f":"IF($I83 >0, MIN(X83,$I83-SUM($L83:X83)), MAX(X83,$I83-SUM($L83:X83)))","v":9.4860908290611547},{"$f":"IF($I83 >0, MIN(Y83,$I83-SUM($L83:Y83)), MAX(Y83,$I83-SUM($L83:Y83)))","v":9.4860908290611547},{"$f":"IF($I83 >0, MIN(Z83,$I83-SUM($L83:Z83)), MAX(Z83,$I83-SUM($L83:Z83)))","v":9.4860908290611547},{"$f":"IF($I83 >0, MIN(AA83,$I83-SUM($L83:AA83)), MAX(AA83,$I83-SUM($L83:AA83)))","v":9.4860908290611547},{"$f":"IF($I83 >0, MIN(AB83,$I83-SUM($L83:AB83)), MAX(AB83,$I83-SUM($L83:AB83)))","v":9.4860908290611547},{"$f":"IF($I83 >0, MIN(AC83,$I83-SUM($L83:AC83)), MAX(AC83,$I83-SUM($L83:AC83)))","v":9.4860908290611547},{"$f":"IF($I83 >0, MIN(AD83,$I83-SUM($L83:AD83)), MAX(AD83,$I83-SUM($L83:AD83)))","v":9.4860908290611547},{"$f":"IF($I83 >0, MIN(AE83,$I83-SUM($L83:AE83)), MAX(AE83,$I83-SUM($L83:AE83)))","v":9.4860908290611547},{"$f":"IF($I83 >0, MIN(AF83,$I83-SUM($L83:AF83)), MAX(AF83,$I83-SUM($L83:AF83)))","v":9.4860908290611547},{"$f":"IF($I83 >0, MIN(AG83,$I83-SUM($L83:AG83)), MAX(AG83,$I83-SUM($L83:AG83)))","v":9.4860908290611547},{"$f":"IF($I83 >0, MIN(AH83,$I83-SUM($L83:AH83)), MAX(AH83,$I83-SUM($L83:AH83)))","v":9.4860908290611547},{"$f":"IF($I83 >0, MIN(AI83,$I83-SUM($L83:AI83)), MAX(AI83,$I83-SUM($L83:AI83)))","v":9.4860908290611547},{"$f":"IF($I83 >0, MIN(AJ83,$I83-SUM($L83:AJ83)), MAX(AJ83,$I83-SUM($L83:AJ83)))","v":9.4860908290611547},{"$f":"IF($I83 >0, MIN(AK83,$I83-SUM($L83:AK83)), MAX(AK83,$I83-SUM($L83:AK83)))","v":9.4860908290611547},{"$f":"IF($I83 >0, MIN(AL83,$I83-SUM($L83:AL83)), MAX(AL83,$I83-SUM($L83:AL83)))","v":9.4860908290611547},{"$f":"IF($I83 >0, MIN(AM83,$I83-SUM($L83:AM83)), MAX(AM83,$I83-SUM($L83:AM83)))","v":9.4860908290611547},{"$f":"IF($I83 >0, MIN(AN83,$I83-SUM($L83:AN83)), MAX(AN83,$I83-SUM($L83:AN83)))","v":9.4860908290611547}]
[null,null,null,null,"1992-03-31",null,"£m 09/10 prices",null,470.09452478062036,">",null,null,{"$f":"$I84/L$77","v":11.752363119515509},{"$f":"IF($I84 >0, MIN(M84,$I84-SUM($L84:M84)), MAX(M84,$I84-SUM($L84:M84)))","v":11.752363119515509},{"$f":"IF($I84 >0, MIN(N84,$I84-SUM($L84:N84)), MAX(N84,$I84-SUM($L84:N84)))","v":11.752363119515509},{"$f":"IF($I84 >0, MIN(O84,$I84-SUM($L84:O84)), MAX(O84,$I84-SUM($L84:O84)))","v":11.752363119515509},{"$f":"IF($I84 >0, MIN(P84,$I84-SUM($L84:P84)), MAX(P84,$I84-SUM($L84:P84)))","v":11.752363119515509},{"$f":"IF($I84 >0, MIN(Q84,$I84-SUM($L84:Q84)), MAX(Q84,$I84-SUM($L84:Q84)))","v":11.752363119515509},{"$f":"IF($I84 >0, MIN(R84,$I84-SUM($L84:R84)), MAX(R84,$I84-SUM($L84:R84)))","v":11.752363119515509},{"$f":"IF($I84 >0, MIN(S84,$I84-SUM($L84:S84)), MAX(S84,$I84-SUM($L84:S84)))","v":11.752363119515509},{"$f":"IF($I84 >0, MIN(T84,$I84-SUM($L84:T84)), MAX(T84,$I84-SUM($L84:T84)))","v":11.752363119515509},{"$f":"IF($I84 >0, MIN(U84,$I84-SUM($L84:U84)), MAX(U84,$I84-SUM($L84:U84)))","v":11.752363119515509},{"$f":"IF($I84 >0, MIN(V84,$I84-SUM($L84:V84)), MAX(V84,$I84-SUM($L84:V84)))","v":11.752363119515509},{"$f":"IF($I84 >0, MIN(W84,$I84-SUM($L84:W84)), MAX(W84,$I84-SUM($L84:W84)))","v":11.752363119515509},{"$f":"IF($I84 >0, MIN(X84,$I84-SUM($L84:X84)), MAX(X84,$I84-SUM($L84:X84)))","v":11.752363119515509},{"$f":"IF($I84 >0, MIN(Y84,$I84-SUM($L84:Y84)), MAX(Y84,$I84-SUM($L84:Y84)))","v":11.752363119515509},{"$f":"IF($I84 >0, MIN(Z84,$I84-SUM($L84:Z84)), MAX(Z84,$I84-SUM($L84:Z84)))","v":11.752363119515509},{"$f":"IF($I84 >0, MIN(AA84,$I84-SUM($L84:AA84)), MAX(AA84,$I84-SUM($L84:AA84)))","v":11.752363119515509},{"$f":"IF($I84 >0, MIN(AB84,$I84-SUM($L84:AB84)), MAX(AB84,$I84-SUM($L84:AB84)))","v":11.752363119515509},{"$f":"IF($I84 >0, MIN(AC84,$I84-SUM($L84:AC84)), MAX(AC84,$I84-SUM($L84:AC84)))","v":11.752363119515509},{"$f":"IF($I84 >0, MIN(AD84,$I84-SUM($L84:AD84)), MAX(AD84,$I84-SUM($L84:AD84)))","v":11.752363119515509},{"$f":"IF($I84 >0, MIN(AE84,$I84-SUM($L84:AE84)), MAX(AE84,$I84-SUM($L84:AE84)))","v":11.752363119515509},{"$f":"IF($I84 >0, MIN(AF84,$I84-SUM($L84:AF84)), MAX(AF84,$I84-SUM($L84:AF84)))","v":11.752363119515509},{"$f":"IF($I84 >0, MIN(AG84,$I84-SUM($L84:AG84)), MAX(AG84,$I84-SUM($L84:AG84)))","v":11.752363119515509},{"$f":"IF($I84 >0, MIN(AH84,$I84-SUM($L84:AH84)), MAX(AH84,$I84-SUM($L84:AH84)))","v":11.752363119515509},{"$f":"IF($I84 >0, MIN(AI84,$I84-SUM($L84:AI84)), MAX(AI84,$I84-SUM($L84:AI84)))","v":11.752363119515509},{"$f":"IF($I84 >0, MIN(AJ84,$I84-SUM($L84:AJ84)), MAX(AJ84,$I84-SUM($L84:AJ84)))","v":11.752363119515509},{"$f":"IF($I84 >0, MIN(AK84,$I84-SUM($L84:AK84)), MAX(AK84,$I84-SUM($L84:AK84)))","v":11.752363119515509},{"$f":"IF($I84 >0, MIN(AL84,$I84-SUM($L84:AL84)), MAX(AL84,$I84-SUM($L84:AL84)))","v":11.752363119515509},{"$f":"IF($I84 >0, MIN(AM84,$I84-SUM($L84:AM84)), MAX(AM84,$I84-SUM($L84:AM84)))","v":11.752363119515509},{"$f":"IF($I84 >0, MIN(AN84,$I84-SUM($L84:AN84)), MAX(AN84,$I84-SUM($L84:AN84)))","v":11.752363119515509}]
[null,null,null,null,"1993-03-31",null,"£m 09/10 prices",null,554.81084513454573,">",null,null,null,{"$f":"$I85/M$77","v":13.870271128363644},{"$f":"IF($I85 >0, MIN(N85,$I85-SUM($L85:N85)), MAX(N85,$I85-SUM($L85:N85)))","v":13.870271128363644},{"$f":"IF($I85 >0, MIN(O85,$I85-SUM($L85:O85)), MAX(O85,$I85-SUM($L85:O85)))","v":13.870271128363644},{"$f":"IF($I85 >0, MIN(P85,$I85-SUM($L85:P85)), MAX(P85,$I85-SUM($L85:P85)))","v":13.870271128363644},{"$f":"IF($I85 >0, MIN(Q85,$I85-SUM($L85:Q85)), MAX(Q85,$I85-SUM($L85:Q85)))","v":13.870271128363644},{"$f":"IF($I85 >0, MIN(R85,$I85-SUM($L85:R85)), MAX(R85,$I85-SUM($L85:R85)))","v":13.870271128363644},{"$f":"IF($I85 >0, MIN(S85,$I85-SUM($L85:S85)), MAX(S85,$I85-SUM($L85:S85)))","v":13.870271128363644},{"$f":"IF($I85 >0, MIN(T85,$I85-SUM($L85:T85)), MAX(T85,$I85-SUM($L85:T85)))","v":13.870271128363644},{"$f":"IF($I85 >0, MIN(U85,$I85-SUM($L85:U85)), MAX(U85,$I85-SUM($L85:U85)))","v":13.870271128363644},{"$f":"IF($I85 >0, MIN(V85,$I85-SUM($L85:V85)), MAX(V85,$I85-SUM($L85:V85)))","v":13.870271128363644},{"$f":"IF($I85 >0, MIN(W85,$I85-SUM($L85:W85)), MAX(W85,$I85-SUM($L85:W85)))","v":13.870271128363644},{"$f":"IF($I85 >0, MIN(X85,$I85-SUM($L85:X85)), MAX(X85,$I85-SUM($L85:X85)))","v":13.870271128363644},{"$f":"IF($I85 >0, MIN(Y85,$I85-SUM($L85:Y85)), MAX(Y85,$I85-SUM($L85:Y85)))","v":13.870271128363644},{"$f":"IF($I85 >0, MIN(Z85,$I85-SUM($L85:Z85)), MAX(Z85,$I85-SUM($L85:Z85)))","v":13.870271128363644},{"$f":"IF($I85 >0, MIN(AA85,$I85-SUM($L85:AA85)), MAX(AA85,$I85-SUM($L85:AA85)))","v":13.870271128363644},{"$f":"IF($I85 >0, MIN(AB85,$I85-SUM($L85:AB85)), MAX(AB85,$I85-SUM($L85:AB85)))","v":13.870271128363644},{"$f":"IF($I85 >0, MIN(AC85,$I85-SUM($L85:AC85)), MAX(AC85,$I85-SUM($L85:AC85)))","v":13.870271128363644},{"$f":"IF($I85 >0, MIN(AD85,$I85-SUM($L85:AD85)), MAX(AD85,$I85-SUM($L85:AD85)))","v":13.870271128363644},{"$f":"IF($I85 >0, MIN(AE85,$I85-SUM($L85:AE85)), MAX(AE85,$I85-SUM($L85:AE85)))","v":13.870271128363644},{"$f":"IF($I85 >0, MIN(AF85,$I85-SUM($L85:AF85)), MAX(AF85,$I85-SUM($L85:AF85)))","v":13.870271128363644},{"$f":"IF($I85 >0, MIN(AG85,$I85-SUM($L85:AG85)), MAX(AG85,$I85-SUM($L85:AG85)))","v":13.870271128363644},{"$f":"IF($I85 >0, MIN(AH85,$I85-SUM($L85:AH85)), MAX(AH85,$I85-SUM($L85:AH85)))","v":13.870271128363644},{"$f":"IF($I85 >0, MIN(AI85,$I85-SUM($L85:AI85)), MAX(AI85,$I85-SUM($L85:AI85)))","v":13.870271128363644},{"$f":"IF($I85 >0, MIN(AJ85,$I85-SUM($L85:AJ85)), MAX(AJ85,$I85-SUM($L85:AJ85)))","v":13.870271128363644},{"$f":"IF($I85 >0, MIN(AK85,$I85-SUM($L85:AK85)), MAX(AK85,$I85-SUM($L85:AK85)))","v":13.870271128363644},{"$f":"IF($I85 >0, MIN(AL85,$I85-SUM($L85:AL85)), MAX(AL85,$I85-SUM($L85:AL85)))","v":13.870271128363644},{"$f":"IF($I85 >0, MIN(AM85,$I85-SUM($L85:AM85)), MAX(AM85,$I85-SUM($L85:AM85)))","v":13.870271128363644},{"$f":"IF($I85 >0, MIN(AN85,$I85-SUM($L85:AN85)), MAX(AN85,$I85-SUM($L85:AN85)))","v":13.870271128363644}]
[null,null,null,null,"1994-03-31",null,"£m 09/10 prices",null,399.56790123456784,">",null,null,null,null,{"$f":"$I86/N$77","v":9.989197530864196},{"$f":"IF($I86 >0, MIN(O86,$I86-SUM($L86:O86)), MAX(O86,$I86-SUM($L86:O86)))","v":9.989197530864196},{"$f":"IF($I86 >0, MIN(P86,$I86-SUM($L86:P86)), MAX(P86,$I86-SUM($L86:P86)))","v":9.989197530864196},{"$f":"IF($I86 >0, MIN(Q86,$I86-SUM($L86:Q86)), MAX(Q86,$I86-SUM($L86:Q86)))","v":9.989197530864196},{"$f":"IF($I86 >0, MIN(R86,$I86-SUM($L86:R86)), MAX(R86,$I86-SUM($L86:R86)))","v":9.989197530864196},{"$f":"IF($I86 >0, MIN(S86,$I86-SUM($L86:S86)), MAX(S86,$I86-SUM($L86:S86)))","v":9.989197530864196},{"$f":"IF($I86 >0, MIN(T86,$I86-SUM($L86:T86)), MAX(T86,$I86-SUM($L86:T86)))","v":9.989197530864196},{"$f":"IF($I86 >0, MIN(U86,$I86-SUM($L86:U86)), MAX(U86,$I86-SUM($L86:U86)))","v":9.989197530864196},{"$f":"IF($I86 >0, MIN(V86,$I86-SUM($L86:V86)), MAX(V86,$I86-SUM($L86:V86)))","v":9.989197530864196},{"$f":"IF($I86 >0, MIN(W86,$I86-SUM($L86:W86)), MAX(W86,$I86-SUM($L86:W86)))","v":9.989197530864196},{"$f":"IF($I86 >0, MIN(X86,$I86-SUM($L86:X86)), MAX(X86,$I86-SUM($L86:X86)))","v":9.989197530864196},{"$f":"IF($I86 >0, MIN(Y86,$I86-SUM($L86:Y86)), MAX(Y86,$I86-SUM($L86:Y86)))","v":9.989197530864196},{"$f":"IF($I86 >0, MIN(Z86,$I86-SUM($L86:Z86)), MAX(Z86,$I86-SUM($L86:Z86)))","v":9.989197530864196},{"$f":"IF($I86 >0, MIN(AA86,$I86-SUM($L86:AA86)), MAX(AA86,$I86-SUM($L86:AA86)))","v":9.989197530864196},{"$f":"IF($I86 >0, MIN(AB86,$I86-SUM($L86:AB86)), MAX(AB86,$I86-SUM($L86:AB86)))","v":9.989197530864196},{"$f":"IF($I86 >0, MIN(AC86,$I86-SUM($L86:AC86)), MAX(AC86,$I86-SUM($L86:AC86)))","v":9.989197530864196},{"$f":"IF($I86 >0, MIN(AD86,$I86-SUM($L86:AD86)), MAX(AD86,$I86-SUM($L86:AD86)))","v":9.989197530864196},{"$f":"IF($I86 >0, MIN(AE86,$I86-SUM($L86:AE86)), MAX(AE86,$I86-SUM($L86:AE86)))","v":9.989197530864196},{"$f":"IF($I86 >0, MIN(AF86,$I86-SUM($L86:AF86)), MAX(AF86,$I86-SUM($L86:AF86)))","v":9.989197530864196},{"$f":"IF($I86 >0, MIN(AG86,$I86-SUM($L86:AG86)), MAX(AG86,$I86-SUM($L86:AG86)))","v":9.989197530864196},{"$f":"IF($I86 >0, MIN(AH86,$I86-SUM($L86:AH86)), MAX(AH86,$I86-SUM($L86:AH86)))","v":9.989197530864196},{"$f":"IF($I86 >0, MIN(AI86,$I86-SUM($L86:AI86)), MAX(AI86,$I86-SUM($L86:AI86)))","v":9.989197530864196},{"$f":"IF($I86 >0, MIN(AJ86,$I86-SUM($L86:AJ86)), MAX(AJ86,$I86-SUM($L86:AJ86)))","v":9.989197530864196},{"$f":"IF($I86 >0, MIN(AK86,$I86-SUM($L86:AK86)), MAX(AK86,$I86-SUM($L86:AK86)))","v":9.989197530864196},{"$f":"IF($I86 >0, MIN(AL86,$I86-SUM($L86:AL86)), MAX(AL86,$I86-SUM($L86:AL86)))","v":9.989197530864196},{"$f":"IF($I86 >0, MIN(AM86,$I86-SUM($L86:AM86)), MAX(AM86,$I86-SUM($L86:AM86)))","v":9.989197530864196},{"$f":"IF($I86 >0, MIN(AN86,$I86-SUM($L86:AN86)), MAX(AN86,$I86-SUM($L86:AN86)))","v":9.989197530864196}]
[null,null,null,null,"1995-03-31",null,"£m 09/10 prices",null,260.22632725604859,">",null,null,null,null,null,{"$f":"$I87/O$77","v":6.5056581814012144},{"$f":"IF($I87 >0, MIN(P87,$I87-SUM($L87:P87)), MAX(P87,$I87-SUM($L87:P87)))","v":6.5056581814012144},{"$f":"IF($I87 >0, MIN(Q87,$I87-SUM($L87:Q87)), MAX(Q87,$I87-SUM($L87:Q87)))","v":6.5056581814012144},{"$f":"IF($I87 >0, MIN(R87,$I87-SUM($L87:R87)), MAX(R87,$I87-SUM($L87:R87)))","v":6.5056581814012144},{"$f":"IF($I87 >0, MIN(S87,$I87-SUM($L87:S87)), MAX(S87,$I87-SUM($L87:S87)))","v":6.5056581814012144},{"$f":"IF($I87 >0, MIN(T87,$I87-SUM($L87:T87)), MAX(T87,$I87-SUM($L87:T87)))","v":6.5056581814012144},{"$f":"IF($I87 >0, MIN(U87,$I87-SUM($L87:U87)), MAX(U87,$I87-SUM($L87:U87)))","v":6.5056581814012144},{"$f":"IF($I87 >0, MIN(V87,$I87-SUM($L87:V87)), MAX(V87,$I87-SUM($L87:V87)))","v":6.5056581814012144},{"$f":"IF($I87 >0, MIN(W87,$I87-SUM($L87:W87)), MAX(W87,$I87-SUM($L87:W87)))","v":6.5056581814012144},{"$f":"IF($I87 >0, MIN(X87,$I87-SUM($L87:X87)), MAX(X87,$I87-SUM($L87:X87)))","v":6.5056581814012144},{"$f":"IF($I87 >0, MIN(Y87,$I87-SUM($L87:Y87)), MAX(Y87,$I87-SUM($L87:Y87)))","v":6.5056581814012144},{"$f":"IF($I87 >0, MIN(Z87,$I87-SUM($L87:Z87)), MAX(Z87,$I87-SUM($L87:Z87)))","v":6.5056581814012144},{"$f":"IF($I87 >0, MIN(AA87,$I87-SUM($L87:AA87)), MAX(AA87,$I87-SUM($L87:AA87)))","v":6.5056581814012144},{"$f":"IF($I87 >0, MIN(AB87,$I87-SUM($L87:AB87)), MAX(AB87,$I87-SUM($L87:AB87)))","v":6.5056581814012144},{"$f":"IF($I87 >0, MIN(AC87,$I87-SUM($L87:AC87)), MAX(AC87,$I87-SUM($L87:AC87)))","v":6.5056581814012144},{"$f":"IF($I87 >0, MIN(AD87,$I87-SUM($L87:AD87)), MAX(AD87,$I87-SUM($L87:AD87)))","v":6.5056581814012144},{"$f":"IF($I87 >0, MIN(AE87,$I87-SUM($L87:AE87)), MAX(AE87,$I87-SUM($L87:AE87)))","v":6.5056581814012144},{"$f":"IF($I87 >0, MIN(AF87,$I87-SUM($L87:AF87)), MAX(AF87,$I87-SUM($L87:AF87)))","v":6.5056581814012144},{"$f":"IF($I87 >0, MIN(AG87,$I87-SUM($L87:AG87)), MAX(AG87,$I87-SUM($L87:AG87)))","v":6.5056581814012144},{"$f":"IF($I87 >0, MIN(AH87,$I87-SUM($L87:AH87)), MAX(AH87,$I87-SUM($L87:AH87)))","v":6.5056581814012144},{"$f":"IF($I87 >0, MIN(AI87,$I87-SUM($L87:AI87)), MAX(AI87,$I87-SUM($L87:AI87)))","v":6.5056581814012144},{"$f":"IF($I87 >0, MIN(AJ87,$I87-SUM($L87:AJ87)), MAX(AJ87,$I87-SUM($L87:AJ87)))","v":6.5056581814012144},{"$f":"IF($I87 >0, MIN(AK87,$I87-SUM($L87:AK87)), MAX(AK87,$I87-SUM($L87:AK87)))","v":6.5056581814012144},{"$f":"IF($I87 >0, MIN(AL87,$I87-SUM($L87:AL87)), MAX(AL87,$I87-SUM($L87:AL87)))","v":6.5056581814012144},{"$f":"IF($I87 >0, MIN(AM87,$I87-SUM($L87:AM87)), MAX(AM87,$I87-SUM($L87:AM87)))","v":6.5056581814012144},{"$f":"IF($I87 >0, MIN(AN87,$I87-SUM($L87:AN87)), MAX(AN87,$I87-SUM($L87:AN87)))","v":6.5056581814012144}]
[null,null,null,null,"1996-03-31",null,"£m 09/10 prices",null,263.05996002664887,">",null,null,null,null,null,null,{"$f":"$I88/P$77","v":6.5764990006662218},{"$f":"IF($I88 >0, MIN(Q88,$I88-SUM($L88:Q88)), MAX(Q88,$I88-SUM($L88:Q88)))","v":6.5764990006662218},{"$f":"IF($I88 >0, MIN(R88,$I88-SUM($L88:R88)), MAX(R88,$I88-SUM($L88:R88)))","v":6.5764990006662218},{"$f":"IF($I88 >0, MIN(S88,$I88-SUM($L88:S88)), MAX(S88,$I88-SUM($L88:S88)))","v":6.5764990006662218},{"$f":"IF($I88 >0, MIN(T88,$I88-SUM($L88:T88)), MAX(T88,$I88-SUM($L88:T88)))","v":6.5764990006662218},{"$f":"IF($I88 >0, MIN(U88,$I88-SUM($L88:U88)), MAX(U88,$I88-SUM($L88:U88)))","v":6.5764990006662218},{"$f":"IF($I88 >0, MIN(V88,$I88-SUM($L88:V88)), MAX(V88,$I88-SUM($L88:V88)))","v":6.5764990006662218},{"$f":"IF($I88 >0, MIN(W88,$I88-SUM($L88:W88)), MAX(W88,$I88-SUM($L88:W88)))","v":6.5764990006662218},{"$f":"IF($I88 >0, MIN(X88,$I88-SUM($L88:X88)), MAX(X88,$I88-SUM($L88:X88)))","v":6.5764990006662218},{"$f":"IF($I88 >0, MIN(Y88,$I88-SUM($L88:Y88)), MAX(Y88,$I88-SUM($L88:Y88)))","v":6.5764990006662218},{"$f":"IF($I88 >0, MIN(Z88,$I88-SUM($L88:Z88)), MAX(Z88,$I88-SUM($L88:Z88)))","v":6.5764990006662218},{"$f":"IF($I88 >0, MIN(AA88,$I88-SUM($L88:AA88)), MAX(AA88,$I88-SUM($L88:AA88)))","v":6.5764990006662218},{"$f":"IF($I88 >0, MIN(AB88,$I88-SUM($L88:AB88)), MAX(AB88,$I88-SUM($L88:AB88)))","v":6.5764990006662218},{"$f":"IF($I88 >0, MIN(AC88,$I88-SUM($L88:AC88)), MAX(AC88,$I88-SUM($L88:AC88)))","v":6.5764990006662218},{"$f":"IF($I88 >0, MIN(AD88,$I88-SUM($L88:AD88)), MAX(AD88,$I88-SUM($L88:AD88)))","v":6.5764990006662218},{"$f":"IF($I88 >0, MIN(AE88,$I88-SUM($L88:AE88)), MAX(AE88,$I88-SUM($L88:AE88)))","v":6.5764990006662218},{"$f":"IF($I88 >0, MIN(AF88,$I88-SUM($L88:AF88)), MAX(AF88,$I88-SUM($L88:AF88)))","v":6.5764990006662218},{"$f":"IF($I88 >0, MIN(AG88,$I88-SUM($L88:AG88)), MAX(AG88,$I88-SUM($L88:AG88)))","v":6.5764990006662218},{"$f":"IF($I88 >0, MIN(AH88,$I88-SUM($L88:AH88)), MAX(AH88,$I88-SUM($L88:AH88)))","v":6.5764990006662218},{"$f":"IF($I88 >0, MIN(AI88,$I88-SUM($L88:AI88)), MAX(AI88,$I88-SUM($L88:AI88)))","v":6.5764990006662218},{"$f":"IF($I88 >0, MIN(AJ88,$I88-SUM($L88:AJ88)), MAX(AJ88,$I88-SUM($L88:AJ88)))","v":6.5764990006662218},{"$f":"IF($I88 >0, MIN(AK88,$I88-SUM($L88:AK88)), MAX(AK88,$I88-SUM($L88:AK88)))","v":6.5764990006662218},{"$f":"IF($I88 >0, MIN(AL88,$I88-SUM($L88:AL88)), MAX(AL88,$I88-SUM($L88:AL88)))","v":6.5764990006662218},{"$f":"IF($I88 >0, MIN(AM88,$I88-SUM($L88:AM88)), MAX(AM88,$I88-SUM($L88:AM88)))","v":6.5764990006662218},{"$f":"IF($I88 >0, MIN(AN88,$I88-SUM($L88:AN88)), MAX(AN88,$I88-SUM($L88:AN88)))","v":6.5764990006662218}]
[null,null,null,null,"1997-03-31",null,"£m 09/10 prices",null,254.79277813923224,">",null,null,null,null,null,null,null,{"$f":"$I89/Q$77","v":6.3698194534808064},{"$f":"IF($I89 >0, MIN(R89,$I89-SUM($L89:R89)), MAX(R89,$I89-SUM($L89:R89)))","v":6.3698194534808064},{"$f":"IF($I89 >0, MIN(S89,$I89-SUM($L89:S89)), MAX(S89,$I89-SUM($L89:S89)))","v":6.3698194534808064},{"$f":"IF($I89 >0, MIN(T89,$I89-SUM($L89:T89)), MAX(T89,$I89-SUM($L89:T89)))","v":6.3698194534808064},{"$f":"IF($I89 >0, MIN(U89,$I89-SUM($L89:U89)), MAX(U89,$I89-SUM($L89:U89)))","v":6.3698194534808064},{"$f":"IF($I89 >0, MIN(V89,$I89-SUM($L89:V89)), MAX(V89,$I89-SUM($L89:V89)))","v":6.3698194534808064},{"$f":"IF($I89 >0, MIN(W89,$I89-SUM($L89:W89)), MAX(W89,$I89-SUM($L89:W89)))","v":6.3698194534808064},{"$f":"IF($I89 >0, MIN(X89,$I89-SUM($L89:X89)), MAX(X89,$I89-SUM($L89:X89)))","v":6.3698194534808064},{"$f":"IF($I89 >0, MIN(Y89,$I89-SUM($L89:Y89)), MAX(Y89,$I89-SUM($L89:Y89)))","v":6.3698194534808064},{"$f":"IF($I89 >0, MIN(Z89,$I89-SUM($L89:Z89)), MAX(Z89,$I89-SUM($L89:Z89)))","v":6.3698194534808064},{"$f":"IF($I89 >0, MIN(AA89,$I89-SUM($L89:AA89)), MAX(AA89,$I89-SUM($L89:AA89)))","v":6.3698194534808064},{"$f":"IF($I89 >0, MIN(AB89,$I89-SUM($L89:AB89)), MAX(AB89,$I89-SUM($L89:AB89)))","v":6.3698194534808064},{"$f":"IF($I89 >0, MIN(AC89,$I89-SUM($L89:AC89)), MAX(AC89,$I89-SUM($L89:AC89)))","v":6.3698194534808064},{"$f":"IF($I89 >0, MIN(AD89,$I89-SUM($L89:AD89)), MAX(AD89,$I89-SUM($L89:AD89)))","v":6.3698194534808064},{"$f":"IF($I89 >0, MIN(AE89,$I89-SUM($L89:AE89)), MAX(AE89,$I89-SUM($L89:AE89)))","v":6.3698194534808064},{"$f":"IF($I89 >0, MIN(AF89,$I89-SUM($L89:AF89)), MAX(AF89,$I89-SUM($L89:AF89)))","v":6.3698194534808064},{"$f":"IF($I89 >0, MIN(AG89,$I89-SUM($L89:AG89)), MAX(AG89,$I89-SUM($L89:AG89)))","v":6.3698194534808064},{"$f":"IF($I89 >0, MIN(AH89,$I89-SUM($L89:AH89)), MAX(AH89,$I89-SUM($L89:AH89)))","v":6.3698194534808064},{"$f":"IF($I89 >0, MIN(AI89,$I89-SUM($L89:AI89)), MAX(AI89,$I89-SUM($L89:AI89)))","v":6.3698194534808064},{"$f":"IF($I89 >0, MIN(AJ89,$I89-SUM($L89:AJ89)), MAX(AJ89,$I89-SUM($L89:AJ89)))","v":6.3698194534808064},{"$f":"IF($I89 >0, MIN(AK89,$I89-SUM($L89:AK89)), MAX(AK89,$I89-SUM($L89:AK89)))","v":6.3698194534808064},{"$f":"IF($I89 >0, MIN(AL89,$I89-SUM($L89:AL89)), MAX(AL89,$I89-SUM($L89:AL89)))","v":6.3698194534808064},{"$f":"IF($I89 >0, MIN(AM89,$I89-SUM($L89:AM89)), MAX(AM89,$I89-SUM($L89:AM89)))","v":6.3698194534808064},{"$f":"IF($I89 >0, MIN(AN89,$I89-SUM($L89:AN89)), MAX(AN89,$I89-SUM($L89:AN89)))","v":6.3698194534808064}]
[null,null,null,null,"1998-03-31",null,"£m 09/10 prices",null,225.41366498740547,">",null,null,null,null,null,null,null,null,{"$f":"$I90/R$77","v":5.6353416246851369},{"$f":"IF($I90 >0, MIN(S90,$I90-SUM($L90:S90)), MAX(S90,$I90-SUM($L90:S90)))","v":5.6353416246851369},{"$f":"IF($I90 >0, MIN(T90,$I90-SUM($L90:T90)), MAX(T90,$I90-SUM($L90:T90)))","v":5.6353416246851369},{"$f":"IF($I90 >0, MIN(U90,$I90-SUM($L90:U90)), MAX(U90,$I90-SUM($L90:U90)))","v":5.6353416246851369},{"$f":"IF($I90 >0, MIN(V90,$I90-SUM($L90:V90)), MAX(V90,$I90-SUM($L90:V90)))","v":5.6353416246851369},{"$f":"IF($I90 >0, MIN(W90,$I90-SUM($L90:W90)), MAX(W90,$I90-SUM($L90:W90)))","v":5.6353416246851369},{"$f":"IF($I90 >0, MIN(X90,$I90-SUM($L90:X90)), MAX(X90,$I90-SUM($L90:X90)))","v":5.6353416246851369},{"$f":"IF($I90 >0, MIN(Y90,$I90-SUM($L90:Y90)), MAX(Y90,$I90-SUM($L90:Y90)))","v":5.6353416246851369},{"$f":"IF($I90 >0, MIN(Z90,$I90-SUM($L90:Z90)), MAX(Z90,$I90-SUM($L90:Z90)))","v":5.6353416246851369},{"$f":"IF($I90 >0, MIN(AA90,$I90-SUM($L90:AA90)), MAX(AA90,$I90-SUM($L90:AA90)))","v":5.6353416246851369},{"$f":"IF($I90 >0, MIN(AB90,$I90-SUM($L90:AB90)), MAX(AB90,$I90-SUM($L90:AB90)))","v":5.6353416246851369},{"$f":"IF($I90 >0, MIN(AC90,$I90-SUM($L90:AC90)), MAX(AC90,$I90-SUM($L90:AC90)))","v":5.6353416246851369},{"$f":"IF($I90 >0, MIN(AD90,$I90-SUM($L90:AD90)), MAX(AD90,$I90-SUM($L90:AD90)))","v":5.6353416246851369},{"$f":"IF($I90 >0, MIN(AE90,$I90-SUM($L90:AE90)), MAX(AE90,$I90-SUM($L90:AE90)))","v":5.6353416246851369},{"$f":"IF($I90 >0, MIN(AF90,$I90-SUM($L90:AF90)), MAX(AF90,$I90-SUM($L90:AF90)))","v":5.6353416246851369},{"$f":"IF($I90 >0, MIN(AG90,$I90-SUM($L90:AG90)), MAX(AG90,$I90-SUM($L90:AG90)))","v":5.6353416246851369},{"$f":"IF($I90 >0, MIN(AH90,$I90-SUM($L90:AH90)), MAX(AH90,$I90-SUM($L90:AH90)))","v":5.6353416246851369},{"$f":"IF($I90 >0, MIN(AI90,$I90-SUM($L90:AI90)), MAX(AI90,$I90-SUM($L90:AI90)))","v":5.6353416246851369},{"$f":"IF($I90 >0, MIN(AJ90,$I90-SUM($L90:AJ90)), MAX(AJ90,$I90-SUM($L90:AJ90)))","v":5.6353416246851369},{"$f":"IF($I90 >0, MIN(AK90,$I90-SUM($L90:AK90)), MAX(AK90,$I90-SUM($L90:AK90)))","v":5.6353416246851369},{"$f":"IF($I90 >0, MIN(AL90,$I90-SUM($L90:AL90)), MAX(AL90,$I90-SUM($L90:AL90)))","v":5.6353416246851369},{"$f":"IF($I90 >0, MIN(AM90,$I90-SUM($L90:AM90)), MAX(AM90,$I90-SUM($L90:AM90)))","v":5.6353416246851369},{"$f":"IF($I90 >0, MIN(AN90,$I90-SUM($L90:AN90)), MAX(AN90,$I90-SUM($L90:AN90)))","v":5.6353416246851369}]
[null,null,null,null,"1999-03-31",null,"£m 09/10 prices",null,390.5666463166462,">",null,null,null,null,null,null,null,null,null,{"$f":"$I91/S$77","v":9.7641661579161543},{"$f":"IF($I91 >0, MIN(T91,$I91-SUM($L91:T91)), MAX(T91,$I91-SUM($L91:T91)))","v":9.7641661579161543},{"$f":"IF($I91 >0, MIN(U91,$I91-SUM($L91:U91)), MAX(U91,$I91-SUM($L91:U91)))","v":9.7641661579161543},{"$f":"IF($I91 >0, MIN(V91,$I91-SUM($L91:V91)), MAX(V91,$I91-SUM($L91:V91)))","v":9.7641661579161543},{"$f":"IF($I91 >0, MIN(W91,$I91-SUM($L91:W91)), MAX(W91,$I91-SUM($L91:W91)))","v":9.7641661579161543},{"$f":"IF($I91 >0, MIN(X91,$I91-SUM($L91:X91)), MAX(X91,$I91-SUM($L91:X91)))","v":9.7641661579161543},{"$f":"IF($I91 >0, MIN(Y91,$I91-SUM($L91:Y91)), MAX(Y91,$I91-SUM($L91:Y91)))","v":9.7641661579161543},{"$f":"IF($I91 >0, MIN(Z91,$I91-SUM($L91:Z91)), MAX(Z91,$I91-SUM($L91:Z91)))","v":9.7641661579161543},{"$f":"IF($I91 >0, MIN(AA91,$I91-SUM($L91:AA91)), MAX(AA91,$I91-SUM($L91:AA91)))","v":9.7641661579161543},{"$f":"IF($I91 >0, MIN(AB91,$I91-SUM($L91:AB91)), MAX(AB91,$I91-SUM($L91:AB91)))","v":9.7641661579161543},{"$f":"IF($I91 >0, MIN(AC91,$I91-SUM($L91:AC91)), MAX(AC91,$I91-SUM($L91:AC91)))","v":9.7641661579161543},{"$f":"IF($I91 >0, MIN(AD91,$I91-SUM($L91:AD91)), MAX(AD91,$I91-SUM($L91:AD91)))","v":9.7641661579161543},{"$f":"IF($I91 >0, MIN(AE91,$I91-SUM($L91:AE91)), MAX(AE91,$I91-SUM($L91:AE91)))","v":9.7641661579161543},{"$f":"IF($I91 >0, MIN(AF91,$I91-SUM($L91:AF91)), MAX(AF91,$I91-SUM($L91:AF91)))","v":9.7641661579161543},{"$f":"IF($I91 >0, MIN(AG91,$I91-SUM($L91:AG91)), MAX(AG91,$I91-SUM($L91:AG91)))","v":9.7641661579161543},{"$f":"IF($I91 >0, MIN(AH91,$I91-SUM($L91:AH91)), MAX(AH91,$I91-SUM($L91:AH91)))","v":9.7641661579161543},{"$f":"IF($I91 >0, MIN(AI91,$I91-SUM($L91:AI91)), MAX(AI91,$I91-SUM($L91:AI91)))","v":9.7641661579161543},{"$f":"IF($I91 >0, MIN(AJ91,$I91-SUM($L91:AJ91)), MAX(AJ91,$I91-SUM($L91:AJ91)))","v":9.7641661579161543},{"$f":"IF($I91 >0, MIN(AK91,$I91-SUM($L91:AK91)), MAX(AK91,$I91-SUM($L91:AK91)))","v":9.7641661579161543},{"$f":"IF($I91 >0, MIN(AL91,$I91-SUM($L91:AL91)), MAX(AL91,$I91-SUM($L91:AL91)))","v":9.7641661579161543},{"$f":"IF($I91 >0, MIN(AM91,$I91-SUM($L91:AM91)), MAX(AM91,$I91-SUM($L91:AM91)))","v":9.7641661579161543},{"$f":"IF($I91 >0, MIN(AN91,$I91-SUM($L91:AN91)), MAX(AN91,$I91-SUM($L91:AN91)))","v":9.7641661579161543}]
[null,null,null,null,"2000-03-31",null,"£m 09/10 prices",null,346.96432742658243,">",null,null,null,null,null,null,null,null,null,null,{"$f":"$I92/T$77","v":8.6741081856645614},{"$f":"IF($I92 >0, MIN(U92,$I92-SUM($L92:U92)), MAX(U92,$I92-SUM($L92:U92)))","v":8.6741081856645614},{"$f":"IF($I92 >0, MIN(V92,$I92-SUM($L92:V92)), MAX(V92,$I92-SUM($L92:V92)))","v":8.6741081856645614},{"$f":"IF($I92 >0, MIN(W92,$I92-SUM($L92:W92)), MAX(W92,$I92-SUM($L92:W92)))","v":8.6741081856645614},{"$f":"IF($I92 >0, MIN(X92,$I92-SUM($L92:X92)), MAX(X92,$I92-SUM($L92:X92)))","v":8.6741081856645614},{"$f":"IF($I92 >0, MIN(Y92,$I92-SUM($L92:Y92)), MAX(Y92,$I92-SUM($L92:Y92)))","v":8.6741081856645614},{"$f":"IF($I92 >0, MIN(Z92,$I92-SUM($L92:Z92)), MAX(Z92,$I92-SUM($L92:Z92)))","v":8.6741081856645614},{"$f":"IF($I92 >0, MIN(AA92,$I92-SUM($L92:AA92)), MAX(AA92,$I92-SUM($L92:AA92)))","v":8.6741081856645614},{"$f":"IF($I92 >0, MIN(AB92,$I92-SUM($L92:AB92)), MAX(AB92,$I92-SUM($L92:AB92)))","v":8.6741081856645614},{"$f":"IF($I92 >0, MIN(AC92,$I92-SUM($L92:AC92)), MAX(AC92,$I92-SUM($L92:AC92)))","v":8.6741081856645614},{"$f":"IF($I92 >0, MIN(AD92,$I92-SUM($L92:AD92)), MAX(AD92,$I92-SUM($L92:AD92)))","v":8.6741081856645614},{"$f":"IF($I92 >0, MIN(AE92,$I92-SUM($L92:AE92)), MAX(AE92,$I92-SUM($L92:AE92)))","v":8.6741081856645614},{"$f":"IF($I92 >0, MIN(AF92,$I92-SUM($L92:AF92)), MAX(AF92,$I92-SUM($L92:AF92)))","v":8.6741081856645614},{"$f":"IF($I92 >0, MIN(AG92,$I92-SUM($L92:AG92)), MAX(AG92,$I92-SUM($L92:AG92)))","v":8.6741081856645614},{"$f":"IF($I92 >0, MIN(AH92,$I92-SUM($L92:AH92)), MAX(AH92,$I92-SUM($L92:AH92)))","v":8.6741081856645614},{"$f":"IF($I92 >0, MIN(AI92,$I92-SUM($L92:AI92)), MAX(AI92,$I92-SUM($L92:AI92)))","v":8.6741081856645614},{"$f":"IF($I92 >0, MIN(AJ92,$I92-SUM($L92:AJ92)), MAX(AJ92,$I92-SUM($L92:AJ92)))","v":8.6741081856645614},{"$f":"IF($I92 >0, MIN(AK92,$I92-SUM($L92:AK92)), MAX(AK92,$I92-SUM($L92:AK92)))","v":8.6741081856645614},{"$f":"IF($I92 >0, MIN(AL92,$I92-SUM($L92:AL92)), MAX(AL92,$I92-SUM($L92:AL92)))","v":8.6741081856645614},{"$f":"IF($I92 >0, MIN(AM92,$I92-SUM($L92:AM92)), MAX(AM92,$I92-SUM($L92:AM92)))","v":8.6741081856645614},{"$f":"IF($I92 >0, MIN(AN92,$I92-SUM($L92:AN92)), MAX(AN92,$I92-SUM($L92:AN92)))","v":8.6741081856645614}]
[null,null,null,null,"2001-03-31",null,"£m 09/10 prices",null,294.61484247298233,">",null,null,null,null,null,null,null,null,null,null,null,{"$f":"$I93/U$77","v":7.3653710618245585},{"$f":"IF($I93 >0, MIN(V93,$I93-SUM($L93:V93)), MAX(V93,$I93-SUM($L93:V93)))","v":7.3653710618245585},{"$f":"IF($I93 >0, MIN(W93,$I93-SUM($L93:W93)), MAX(W93,$I93-SUM($L93:W93)))","v":7.3653710618245585},{"$f":"IF($I93 >0, MIN(X93,$I93-SUM($L93:X93)), MAX(X93,$I93-SUM($L93:X93)))","v":7.3653710618245585},{"$f":"IF($I93 >0, MIN(Y93,$I93-SUM($L93:Y93)), MAX(Y93,$I93-SUM($L93:Y93)))","v":7.3653710618245585},{"$f":"IF($I93 >0, MIN(Z93,$I93-SUM($L93:Z93)), MAX(Z93,$I93-SUM($L93:Z93)))","v":7.3653710618245585},{"$f":"IF($I93 >0, MIN(AA93,$I93-SUM($L93:AA93)), MAX(AA93,$I93-SUM($L93:AA93)))","v":7.3653710618245585},{"$f":"IF($I93 >0, MIN(AB93,$I93-SUM($L93:AB93)), MAX(AB93,$I93-SUM($L93:AB93)))","v":7.3653710618245585},{"$f":"IF($I93 >0, MIN(AC93,$I93-SUM($L93:AC93)), MAX(AC93,$I93-SUM($L93:AC93)))","v":7.3653710618245585},{"$f":"IF($I93 >0, MIN(AD93,$I93-SUM($L93:AD93)), MAX(AD93,$I93-SUM($L93:AD93)))","v":7.3653710618245585},{"$f":"IF($I93 >0, MIN(AE93,$I93-SUM($L93:AE93)), MAX(AE93,$I93-SUM($L93:AE93)))","v":7.3653710618245585},{"$f":"IF($I93 >0, MIN(AF93,$I93-SUM($L93:AF93)), MAX(AF93,$I93-SUM($L93:AF93)))","v":7.3653710618245585},{"$f":"IF($I93 >0, MIN(AG93,$I93-SUM($L93:AG93)), MAX(AG93,$I93-SUM($L93:AG93)))","v":7.3653710618245585},{"$f":"IF($I93 >0, MIN(AH93,$I93-SUM($L93:AH93)), MAX(AH93,$I93-SUM($L93:AH93)))","v":7.3653710618245585},{"$f":"IF($I93 >0, MIN(AI93,$I93-SUM($L93:AI93)), MAX(AI93,$I93-SUM($L93:AI93)))","v":7.3653710618245585},{"$f":"IF($I93 >0, MIN(AJ93,$I93-SUM($L93:AJ93)), MAX(AJ93,$I93-SUM($L93:AJ93)))","v":7.3653710618245585},{"$f":"IF($I93 >0, MIN(AK93,$I93-SUM($L93:AK93)), MAX(AK93,$I93-SUM($L93:AK93)))","v":7.3653710618245585},{"$f":"IF($I93 >0, MIN(AL93,$I93-SUM($L93:AL93)), MAX(AL93,$I93-SUM($L93:AL93)))","v":7.3653710618245585},{"$f":"IF($I93 >0, MIN(AM93,$I93-SUM($L93:AM93)), MAX(AM93,$I93-SUM($L93:AM93)))","v":7.3653710618245585},{"$f":"IF($I93 >0, MIN(AN93,$I93-SUM($L93:AN93)), MAX(AN93,$I93-SUM($L93:AN93)))","v":7.3653710618245585}]
[null,null,null,null,"2002-03-31",null,"£m 09/10 prices",null,407.70883134746407,">",null,null,null,null,null,null,null,null,null,null,null,null,{"$f":"$I94/V$77","v":10.192720783686601},{"$f":"IF($I94 >0, MIN(W94,$I94-SUM($L94:W94)), MAX(W94,$I94-SUM($L94:W94)))","v":10.192720783686601},{"$f":"IF($I94 >0, MIN(X94,$I94-SUM($L94:X94)), MAX(X94,$I94-SUM($L94:X94)))","v":10.192720783686601},{"$f":"IF($I94 >0, MIN(Y94,$I94-SUM($L94:Y94)), MAX(Y94,$I94-SUM($L94:Y94)))","v":10.192720783686601},{"$f":"IF($I94 >0, MIN(Z94,$I94-SUM($L94:Z94)), MAX(Z94,$I94-SUM($L94:Z94)))","v":10.192720783686601},{"$f":"IF($I94 >0, MIN(AA94,$I94-SUM($L94:AA94)), MAX(AA94,$I94-SUM($L94:AA94)))","v":10.192720783686601},{"$f":"IF($I94 >0, MIN(AB94,$I94-SUM($L94:AB94)), MAX(AB94,$I94-SUM($L94:AB94)))","v":10.192720783686601},{"$f":"IF($I94 >0, MIN(AC94,$I94-SUM($L94:AC94)), MAX(AC94,$I94-SUM($L94:AC94)))","v":10.192720783686601},{"$f":"IF($I94 >0, MIN(AD94,$I94-SUM($L94:AD94)), MAX(AD94,$I94-SUM($L94:AD94)))","v":10.192720783686601},{"$f":"IF($I94 >0, MIN(AE94,$I94-SUM($L94:AE94)), MAX(AE94,$I94-SUM($L94:AE94)))","v":10.192720783686601},{"$f":"IF($I94 >0, MIN(AF94,$I94-SUM($L94:AF94)), MAX(AF94,$I94-SUM($L94:AF94)))","v":10.192720783686601},{"$f":"IF($I94 >0, MIN(AG94,$I94-SUM($L94:AG94)), MAX(AG94,$I94-SUM($L94:AG94)))","v":10.192720783686601},{"$f":"IF($I94 >0, MIN(AH94,$I94-SUM($L94:AH94)), MAX(AH94,$I94-SUM($L94:AH94)))","v":10.192720783686601},{"$f":"IF($I94 >0, MIN(AI94,$I94-SUM($L94:AI94)), MAX(AI94,$I94-SUM($L94:AI94)))","v":10.192720783686601},{"$f":"IF($I94 >0, MIN(AJ94,$I94-SUM($L94:AJ94)), MAX(AJ94,$I94-SUM($L94:AJ94)))","v":10.192720783686601},{"$f":"IF($I94 >0, MIN(AK94,$I94-SUM($L94:AK94)), MAX(AK94,$I94-SUM($L94:AK94)))","v":10.192720783686601},{"$f":"IF($I94 >0, MIN(AL94,$I94-SUM($L94:AL94)), MAX(AL94,$I94-SUM($L94:AL94)))","v":10.192720783686601},{"$f":"IF($I94 >0, MIN(AM94,$I94-SUM($L94:AM94)), MAX(AM94,$I94-SUM($L94:AM94)))","v":10.192720783686601},{"$f":"IF($I94 >0, MIN(AN94,$I94-SUM($L94:AN94)), MAX(AN94,$I94-SUM($L94:AN94)))","v":10.192720783686601}]
[null,null,null,null,"2003-03-31",null,"£m 09/10 prices",null,378.11716061760876,">",null,null,null,null,null,null,null,null,null,null,null,null,null,{"$f":"$I95/W$77","v":9.452929015440219},{"$f":"IF($I95 >0, MIN(X95,$I95-SUM($L95:X95)), MAX(X95,$I95-SUM($L95:X95)))","v":9.452929015440219},{"$f":"IF($I95 >0, MIN(Y95,$I95-SUM($L95:Y95)), MAX(Y95,$I95-SUM($L95:Y95)))","v":9.452929015440219},{"$f":"IF($I95 >0, MIN(Z95,$I95-SUM($L95:Z95)), MAX(Z95,$I95-SUM($L95:Z95)))","v":9.452929015440219},{"$f":"IF($I95 >0, MIN(AA95,$I95-SUM($L95:AA95)), MAX(AA95,$I95-SUM($L95:AA95)))","v":9.452929015440219},{"$f":"IF($I95 >0, MIN(AB95,$I95-SUM($L95:AB95)), MAX(AB95,$I95-SUM($L95:AB95)))","v":9.452929015440219},{"$f":"IF($I95 >0, MIN(AC95,$I95-SUM($L95:AC95)), MAX(AC95,$I95-SUM($L95:AC95)))","v":9.452929015440219},{"$f":"IF($I95 >0, MIN(AD95,$I95-SUM($L95:AD95)), MAX(AD95,$I95-SUM($L95:AD95)))","v":9.452929015440219},{"$f":"IF($I95 >0, MIN(AE95,$I95-SUM($L95:AE95)), MAX(AE95,$I95-SUM($L95:AE95)))","v":9.452929015440219},{"$f":"IF($I95 >0, MIN(AF95,$I95-SUM($L95:AF95)), MAX(AF95,$I95-SUM($L95:AF95)))","v":9.452929015440219},{"$f":"IF($I95 >0, MIN(AG95,$I95-SUM($L95:AG95)), MAX(AG95,$I95-SUM($L95:AG95)))","v":9.452929015440219},{"$f":"IF($I95 >0, MIN(AH95,$I95-SUM($L95:AH95)), MAX(AH95,$I95-SUM($L95:AH95)))","v":9.452929015440219},{"$f":"IF($I95 >0, MIN(AI95,$I95-SUM($L95:AI95)), MAX(AI95,$I95-SUM($L95:AI95)))","v":9.452929015440219},{"$f":"IF($I95 >0, MIN(AJ95,$I95-SUM($L95:AJ95)), MAX(AJ95,$I95-SUM($L95:AJ95)))","v":9.452929015440219},{"$f":"IF($I95 >0, MIN(AK95,$I95-SUM($L95:AK95)), MAX(AK95,$I95-SUM($L95:AK95)))","v":9.452929015440219},{"$f":"IF($I95 >0, MIN(AL95,$I95-SUM($L95:AL95)), MAX(AL95,$I95-SUM($L95:AL95)))","v":9.452929015440219},{"$f":"IF($I95 >0, MIN(AM95,$I95-SUM($L95:AM95)), MAX(AM95,$I95-SUM($L95:AM95)))","v":9.452929015440219},{"$f":"IF($I95 >0, MIN(AN95,$I95-SUM($L95:AN95)), MAX(AN95,$I95-SUM($L95:AN95)))","v":9.452929015440219}]
[null,null,null,null,"2004-03-31",null,"£m 09/10 prices",null,321.33438328493975,">",null,null,null,null,null,null,null,null,null,null,null,null,null,null,{"$f":"$I96/X$77","v":8.0333595821234933},{"$f":"IF($I96 >0, MIN(Y96,$I96-SUM($L96:Y96)), MAX(Y96,$I96-SUM($L96:Y96)))","v":8.0333595821234933},{"$f":"IF($I96 >0, MIN(Z96,$I96-SUM($L96:Z96)), MAX(Z96,$I96-SUM($L96:Z96)))","v":8.0333595821234933},{"$f":"IF($I96 >0, MIN(AA96,$I96-SUM($L96:AA96)), MAX(AA96,$I96-SUM($L96:AA96)))","v":8.0333595821234933},{"$f":"IF($I96 >0, MIN(AB96,$I96-SUM($L96:AB96)), MAX(AB96,$I96-SUM($L96:AB96)))","v":8.0333595821234933},{"$f":"IF($I96 >0, MIN(AC96,$I96-SUM($L96:AC96)), MAX(AC96,$I96-SUM($L96:AC96)))","v":8.0333595821234933},{"$f":"IF($I96 >0, MIN(AD96,$I96-SUM($L96:AD96)), MAX(AD96,$I96-SUM($L96:AD96)))","v":8.0333595821234933},{"$f":"IF($I96 >0, MIN(AE96,$I96-SUM($L96:AE96)), MAX(AE96,$I96-SUM($L96:AE96)))","v":8.0333595821234933},{"$f":"IF($I96 >0, MIN(AF96,$I96-SUM($L96:AF96)), MAX(AF96,$I96-SUM($L96:AF96)))","v":8.0333595821234933},{"$f":"IF($I96 >0, MIN(AG96,$I96-SUM($L96:AG96)), MAX(AG96,$I96-SUM($L96:AG96)))","v":8.0333595821234933},{"$f":"IF($I96 >0, MIN(AH96,$I96-SUM($L96:AH96)), MAX(AH96,$I96-SUM($L96:AH96)))","v":8.0333595821234933},{"$f":"IF($I96 >0, MIN(AI96,$I96-SUM($L96:AI96)), MAX(AI96,$I96-SUM($L96:AI96)))","v":8.0333595821234933},{"$f":"IF($I96 >0, MIN(AJ96,$I96-SUM($L96:AJ96)), MAX(AJ96,$I96-SUM($L96:AJ96)))","v":8.0333595821234933},{"$f":"IF($I96 >0, MIN(AK96,$I96-SUM($L96:AK96)), MAX(AK96,$I96-SUM($L96:AK96)))","v":8.0333595821234933},{"$f":"IF($I96 >0, MIN(AL96,$I96-SUM($L96:AL96)), MAX(AL96,$I96-SUM($L96:AL96)))","v":8.0333595821234933},{"$f":"IF($I96 >0, MIN(AM96,$I96-SUM($L96:AM96)), MAX(AM96,$I96-SUM($L96:AM96)))","v":8.0333595821234933},{"$f":"IF($I96 >0, MIN(AN96,$I96-SUM($L96:AN96)), MAX(AN96,$I96-SUM($L96:AN96)))","v":8.0333595821234933}]
[null,null,null,null,"2005-03-31",null,"£m 09/10 prices",null,422.59647639294877,">",null,null,null,null,null,null,null,null,null,null,null,null,null,null,null,{"$f":"$I97/Y$77","v":10.564911909823719},{"$f":"IF($I97 >0, MIN(Z97,$I97-SUM($L97:Z97)), MAX(Z97,$I97-SUM($L97:Z97)))","v":10.564911909823719},{"$f":"IF($I97 >0, MIN(AA97,$I97-SUM($L97:AA97)), MAX(AA97,$I97-SUM($L97:AA97)))","v":10.564911909823719},{"$f":"IF($I97 >0, MIN(AB97,$I97-SUM($L97:AB97)), MAX(AB97,$I97-SUM($L97:AB97)))","v":10.564911909823719},{"$f":"IF($I97 >0, MIN(AC97,$I97-SUM($L97:AC97)), MAX(AC97,$I97-SUM($L97:AC97)))","v":10.564911909823719},{"$f":"IF($I97 >0, MIN(AD97,$I97-SUM($L97:AD97)), MAX(AD97,$I97-SUM($L97:AD97)))","v":10.564911909823719},{"$f":"IF($I97 >0, MIN(AE97,$I97-SUM($L97:AE97)), MAX(AE97,$I97-SUM($L97:AE97)))","v":10.564911909823719},{"$f":"IF($I97 >0, MIN(AF97,$I97-SUM($L97:AF97)), MAX(AF97,$I97-SUM($L97:AF97)))","v":10.564911909823719},{"$f":"IF($I97 >0, MIN(AG97,$I97-SUM($L97:AG97)), MAX(AG97,$I97-SUM($L97:AG97)))","v":10.564911909823719},{"$f":"IF($I97 >0, MIN(AH97,$I97-SUM($L97:AH97)), MAX(AH97,$I97-SUM($L97:AH97)))","v":10.564911909823719},{"$f":"IF($I97 >0, MIN(AI97,$I97-SUM($L97:AI97)), MAX(AI97,$I97-SUM($L97:AI97)))","v":10.564911909823719},{"$f":"IF($I97 >0, MIN(AJ97,$I97-SUM($L97:AJ97)), MAX(AJ97,$I97-SUM($L97:AJ97)))","v":10.564911909823719},{"$f":"IF($I97 >0, MIN(AK97,$I97-SUM($L97:AK97)), MAX(AK97,$I97-SUM($L97:AK97)))","v":10.564911909823719},{"$f":"IF($I97 >0, MIN(AL97,$I97-SUM($L97:AL97)), MAX(AL97,$I97-SUM($L97:AL97)))","v":10.564911909823719},{"$f":"IF($I97 >0, MIN(AM97,$I97-SUM($L97:AM97)), MAX(AM97,$I97-SUM($L97:AM97)))","v":10.564911909823719},{"$f":"IF($I97 >0, MIN(AN97,$I97-SUM($L97:AN97)), MAX(AN97,$I97-SUM($L97:AN97)))","v":10.564911909823719}]
[null,null,null,null,"2006-03-31",null,"£m 09/10 prices",null,580.37086035691379,">",null,null,null,null,null,null,null,null,null,null,null,null,null,null,null,null,{"$f":"$I98/Z$77","v":14.509271508922845},{"$f":"IF($I98 >0, MIN(AA98,$I98-SUM($L98:AA98)), MAX(AA98,$I98-SUM($L98:AA98)))","v":14.509271508922845},{"$f":"IF($I98 >0, MIN(AB98,$I98-SUM($L98:AB98)), MAX(AB98,$I98-SUM($L98:AB98)))","v":14.509271508922845},{"$f":"IF($I98 >0, MIN(AC98,$I98-SUM($L98:AC98)), MAX(AC98,$I98-SUM($L98:AC98)))","v":14.509271508922845},{"$f":"IF($I98 >0, MIN(AD98,$I98-SUM($L98:AD98)), MAX(AD98,$I98-SUM($L98:AD98)))","v":14.509271508922845},{"$f":"IF($I98 >0, MIN(AE98,$I98-SUM($L98:AE98)), MAX(AE98,$I98-SUM($L98:AE98)))","v":14.509271508922845},{"$f":"IF($I98 >0, MIN(AF98,$I98-SUM($L98:AF98)), MAX(AF98,$I98-SUM($L98:AF98)))","v":14.509271508922845},{"$f":"IF($I98 >0, MIN(AG98,$I98-SUM($L98:AG98)), MAX(AG98,$I98-SUM($L98:AG98)))","v":14.509271508922845},{"$f":"IF($I98 >0, MIN(AH98,$I98-SUM($L98:AH98)), MAX(AH98,$I98-SUM($L98:AH98)))","v":14.509271508922845},{"$f":"IF($I98 >0, MIN(AI98,$I98-SUM($L98:AI98)), MAX(AI98,$I98-SUM($L98:AI98)))","v":14.509271508922845},{"$f":"IF($I98 >0, MIN(AJ98,$I98-SUM($L98:AJ98)), MAX(AJ98,$I98-SUM($L98:AJ98)))","v":14.509271508922845},{"$f":"IF($I98 >0, MIN(AK98,$I98-SUM($L98:AK98)), MAX(AK98,$I98-SUM($L98:AK98)))","v":14.509271508922845},{"$f":"IF($I98 >0, MIN(AL98,$I98-SUM($L98:AL98)), MAX(AL98,$I98-SUM($L98:AL98)))","v":14.509271508922845},{"$f":"IF($I98 >0, MIN(AM98,$I98-SUM($L98:AM98)), MAX(AM98,$I98-SUM($L98:AM98)))","v":14.509271508922845},{"$f":"IF($I98 >0, MIN(AN98,$I98-SUM($L98:AN98)), MAX(AN98,$I98-SUM($L98:AN98)))","v":14.509271508922845}]
[null,null,null,null,"2007-03-31",null,"£m 09/10 prices",null,556.6596888260251,">",null,null,null,null,null,null,null,null,null,null,null,null,null,null,null,null,null,{"$f":"$I99/AA$77","v":13.916492220650628},{"$f":"IF($I99 >0, MIN(AB99,$I99-SUM($L99:AB99)), MAX(AB99,$I99-SUM($L99:AB99)))","v":13.916492220650628},{"$f":"IF($I99 >0, MIN(AC99,$I99-SUM($L99:AC99)), MAX(AC99,$I99-SUM($L99:AC99)))","v":13.916492220650628},{"$f":"IF($I99 >0, MIN(AD99,$I99-SUM($L99:AD99)), MAX(AD99,$I99-SUM($L99:AD99)))","v":13.916492220650628},{"$f":"IF($I99 >0, MIN(AE99,$I99-SUM($L99:AE99)), MAX(AE99,$I99-SUM($L99:AE99)))","v":13.916492220650628},{"$f":"IF($I99 >0, MIN(AF99,$I99-SUM($L99:AF99)), MAX(AF99,$I99-SUM($L99:AF99)))","v":13.916492220650628},{"$f":"IF($I99 >0, MIN(AG99,$I99-SUM($L99:AG99)), MAX(AG99,$I99-SUM($L99:AG99)))","v":13.916492220650628},{"$f":"IF($I99 >0, MIN(AH99,$I99-SUM($L99:AH99)), MAX(AH99,$I99-SUM($L99:AH99)))","v":13.916492220650628},{"$f":"IF($I99 >0, MIN(AI99,$I99-SUM($L99:AI99)), MAX(AI99,$I99-SUM($L99:AI99)))","v":13.916492220650628},{"$f":"IF($I99 >0, MIN(AJ99,$I99-SUM($L99:AJ99)), MAX(AJ99,$I99-SUM($L99:AJ99)))","v":13.916492220650628},{"$f":"IF($I99 >0, MIN(AK99,$I99-SUM($L99:AK99)), MAX(AK99,$I99-SUM($L99:AK99)))","v":13.916492220650628},{"$f":"IF($I99 >0, MIN(AL99,$I99-SUM($L99:AL99)), MAX(AL99,$I99-SUM($L99:AL99)))","v":13.916492220650628},{"$f":"IF($I99 >0, MIN(AM99,$I99-SUM($L99:AM99)), MAX(AM99,$I99-SUM($L99:AM99)))","v":13.916492220650628},{"$f":"IF($I99 >0, MIN(AN99,$I99-SUM($L99:AN99)), MAX(AN99,$I99-SUM($L99:AN99)))","v":13.916492220650628}]
[null,null,null,null,"2008-03-31",null,"£m 09/10 prices",null,696.07018609532179,">",null,null,null,null,null,null,null,null,null,null,null,null,null,null,null,null,null,null,{"$f":"$I100/AB$77","v":17.401754652383044},{"$f":"IF($I100 >0, MIN(AC100,$I100-SUM($L100:AC100)), MAX(AC100,$I100-SUM($L100:AC100)))","v":17.401754652383044},{"$f":"IF($I100 >0, MIN(AD100,$I100-SUM($L100:AD100)), MAX(AD100,$I100-SUM($L100:AD100)))","v":17.401754652383044},{"$f":"IF($I100 >0, MIN(AE100,$I100-SUM($L100:AE100)), MAX(AE100,$I100-SUM($L100:AE100)))","v":17.401754652383044},{"$f":"IF($I100 >0, MIN(AF100,$I100-SUM($L100:AF100)), MAX(AF100,$I100-SUM($L100:AF100)))","v":17.401754652383044},{"$f":"IF($I100 >0, MIN(AG100,$I100-SUM($L100:AG100)), MAX(AG100,$I100-SUM($L100:AG100)))","v":17.401754652383044},{"$f":"IF($I100 >0, MIN(AH100,$I100-SUM($L100:AH100)), MAX(AH100,$I100-SUM($L100:AH100)))","v":17.401754652383044},{"$f":"IF($I100 >0, MIN(AI100,$I100-SUM($L100:AI100)), MAX(AI100,$I100-SUM($L100:AI100)))","v":17.401754652383044},{"$f":"IF($I100 >0, MIN(AJ100,$I100-SUM($L100:AJ100)), MAX(AJ100,$I100-SUM($L100:AJ100)))","v":17.401754652383044},{"$f":"IF($I100 >0, MIN(AK100,$I100-SUM($L100:AK100)), MAX(AK100,$I100-SUM($L100:AK100)))","v":17.401754652383044},{"$f":"IF($I100 >0, MIN(AL100,$I100-SUM($L100:AL100)), MAX(AL100,$I100-SUM($L100:AL100)))","v":17.401754652383044},{"$f":"IF($I100 >0, MIN(AM100,$I100-SUM($L100:AM100)), MAX(AM100,$I100-SUM($L100:AM100)))","v":17.401754652383044},{"$f":"IF($I100 >0, MIN(AN100,$I100-SUM($L100:AN100)), MAX(AN100,$I100-SUM($L100:AN100)))","v":17.401754652383044}]
[null,null,null,null,"2009-03-31",null,"£m 09/10 prices",null,665.03634688976456,">",null,null,null,null,null,null,null,null,null,null,null,null,null,null,null,null,null,null,null,{"$f":"$I101/AC$77","v":16.625908672244115},{"$f":"IF($I101 >0, MIN(AD101,$I101-SUM($L101:AD101)), MAX(AD101,$I101-SUM($L101:AD101)))","v":16.625908672244115},{"$f":"IF($I101 >0, MIN(AE101,$I101-SUM($L101:AE101)), MAX(AE101,$I101-SUM($L101:AE101)))","v":16.625908672244115},{"$f":"IF($I101 >0, MIN(AF101,$I101-SUM($L101:AF101)), MAX(AF101,$I101-SUM($L101:AF101)))","v":16.625908672244115},{"$f":"IF($I101 >0, MIN(AG101,$I101-SUM($L101:AG101)), MAX(AG101,$I101-SUM($L101:AG101)))","v":16.625908672244115},{"$f":"IF($I101 >0, MIN(AH101,$I101-SUM($L101:AH101)), MAX(AH101,$I101-SUM($L101:AH101)))","v":16.625908672244115},{"$f":"IF($I101 >0, MIN(AI101,$I101-SUM($L101:AI101)), MAX(AI101,$I101-SUM($L101:AI101)))","v":16.625908672244115},{"$f":"IF($I101 >0, MIN(AJ101,$I101-SUM($L101:AJ101)), MAX(AJ101,$I101-SUM($L101:AJ101)))","v":16.625908672244115},{"$f":"IF($I101 >0, MIN(AK101,$I101-SUM($L101:AK101)), MAX(AK101,$I101-SUM($L101:AK101)))","v":16.625908672244115},{"$f":"IF($I101 >0, MIN(AL101,$I101-SUM($L101:AL101)), MAX(AL101,$I101-SUM($L101:AL101)))","v":16.625908672244115},{"$f":"IF($I101 >0, MIN(AM101,$I101-SUM($L101:AM101)), MAX(AM101,$I101-SUM($L101:AM101)))","v":16.625908672244115},{"$f":"IF($I101 >0, MIN(AN101,$I101-SUM($L101:AN101)), MAX(AN101,$I101-SUM($L101:AN101)))","v":16.625908672244115}]
[null,null,null,null,"2010-03-31",null,"£m 09/10 prices",null,812.1919300000003,">",null,null,null,null,null,null,null,null,null,null,null,null,null,null,null,null,null,null,null,null,{"$f":"$I102/AD$77","v":20.304798250000008},{"$f":"IF($I102 >0, MIN(AE102,$I102-SUM($L102:AE102)), MAX(AE102,$I102-SUM($L102:AE102)))","v":20.304798250000008},{"$f":"IF($I102 >0, MIN(AF102,$I102-SUM($L102:AF102)), MAX(AF102,$I102-SUM($L102:AF102)))","v":20.304798250000008},{"$f":"IF($I102 >0, MIN(AG102,$I102-SUM($L102:AG102)), MAX(AG102,$I102-SUM($L102:AG102)))","v":20.304798250000008},{"$f":"IF($I102 >0, MIN(AH102,$I102-SUM($L102:AH102)), MAX(AH102,$I102-SUM($L102:AH102)))","v":20.304798250000008},{"$f":"IF($I102 >0, MIN(AI102,$I102-SUM($L102:AI102)), MAX(AI102,$I102-SUM($L102:AI102)))","v":20.304798250000008},{"$f":"IF($I102 >0, MIN(AJ102,$I102-SUM($L102:AJ102)), MAX(AJ102,$I102-SUM($L102:AJ102)))","v":20.304798250000008},{"$f":"IF($I102 >0, MIN(AK102,$I102-SUM($L102:AK102)), MAX(AK102,$I102-SUM($L102:AK102)))","v":20.304798250000008},{"$f":"IF($I102 >0, MIN(AL102,$I102-SUM($L102:AL102)), MAX(AL102,$I102-SUM($L102:AL102)))","v":20.304798250000008},{"$f":"IF($I102 >0, MIN(AM102,$I102-SUM($L102:AM102)), MAX(AM102,$I102-SUM($L102:AM102)))","v":20.304798250000008},{"$f":"IF($I102 >0, MIN(AN102,$I102-SUM($L102:AN102)), MAX(AN102,$I102-SUM($L102:AN102)))","v":20.304798250000008}]
[null,null,null,null,"2011-03-31",null,"£m 09/10 prices",null,656.72036516023195,">",null,null,null,null,null,null,null,null,null,null,null,null,null,null,null,null,null,null,null,null,null,{"$f":"$I103/AE$77","v":16.418009129005799},{"$f":"IF($I103 >0, MIN(AF103,$I103-SUM($L103:AF103)), MAX(AF103,$I103-SUM($L103:AF103)))","v":16.418009129005799},{"$f":"IF($I103 >0, MIN(AG103,$I103-SUM($L103:AG103)), MAX(AG103,$I103-SUM($L103:AG103)))","v":16.418009129005799},{"$f":"IF($I103 >0, MIN(AH103,$I103-SUM($L103:AH103)), MAX(AH103,$I103-SUM($L103:AH103)))","v":16.418009129005799},{"$f":"IF($I103 >0, MIN(AI103,$I103-SUM($L103:AI103)), MAX(AI103,$I103-SUM($L103:AI103)))","v":16.418009129005799},{"$f":"IF($I103 >0, MIN(AJ103,$I103-SUM($L103:AJ103)), MAX(AJ103,$I103-SUM($L103:AJ103)))","v":16.418009129005799},{"$f":"IF($I103 >0, MIN(AK103,$I103-SUM($L103:AK103)), MAX(AK103,$I103-SUM($L103:AK103)))","v":16.418009129005799},{"$f":"IF($I103 >0, MIN(AL103,$I103-SUM($L103:AL103)), MAX(AL103,$I103-SUM($L103:AL103)))","v":16.418009129005799},{"$f":"IF($I103 >0, MIN(AM103,$I103-SUM($L103:AM103)), MAX(AM103,$I103-SUM($L103:AM103)))","v":16.418009129005799},{"$f":"IF($I103 >0, MIN(AN103,$I103-SUM($L103:AN103)), MAX(AN103,$I103-SUM($L103:AN103)))","v":16.418009129005799}]
[null,null,null,null,"2012-03-31",null,"£m 09/10 prices",null,927.74885273201085,">",null,null,null,null,null,null,null,null,null,null,null,null,null,null,null,null,null,null,null,null,null,null,{"$f":"$I104/AF$77","v":23.19372131830027},{"$f":"IF($I104 >0, MIN(AG104,$I104-SUM($L104:AG104)), MAX(AG104,$I104-SUM($L104:AG104)))","v":23.19372131830027},{"$f":"IF($I104 >0, MIN(AH104,$I104-SUM($L104:AH104)), MAX(AH104,$I104-SUM($L104:AH104)))","v":23.19372131830027},{"$f":"IF($I104 >0, MIN(AI104,$I104-SUM($L104:AI104)), MAX(AI104,$I104-SUM($L104:AI104)))","v":23.19372131830027},{"$f":"IF($I104 >0, MIN(AJ104,$I104-SUM($L104:AJ104)), MAX(AJ104,$I104-SUM($L104:AJ104)))","v":23.19372131830027},{"$f":"IF($I104 >0, MIN(AK104,$I104-SUM($L104:AK104)), MAX(AK104,$I104-SUM($L104:AK104)))","v":23.19372131830027},{"$f":"IF($I104 >0, MIN(AL104,$I104-SUM($L104:AL104)), MAX(AL104,$I104-SUM($L104:AL104)))","v":23.19372131830027},{"$f":"IF($I104 >0, MIN(AM104,$I104-SUM($L104:AM104)), MAX(AM104,$I104-SUM($L104:AM104)))","v":23.19372131830027},{"$f":"IF($I104 >0, MIN(AN104,$I104-SUM($L104:AN104)), MAX(AN104,$I104-SUM($L104:AN104)))","v":23.19372131830027}]
[null,null,null,null,"2013-03-31",null,"£m 09/10 prices",null,902.96161798967933,null,null,null,null,null,null,null,null,null,null,null,null,null,null,null,null,null,null,null,null,null,null,null,null,{"$f":"$I105/AG$77","v":22.574040449741982},{"$f":"IF($I105 >0, MIN(AH105,$I105-SUM($L105:AH105)), MAX(AH105,$I105-SUM($L105:AH105)))","v":22.574040449741982},{"$f":"IF($I105 >0, MIN(AI105,$I105-SUM($L105:AI105)), MAX(AI105,$I105-SUM($L105:AI105)))","v":22.574040449741982},{"$f":"IF($I105 >0, MIN(AJ105,$I105-SUM($L105:AJ105)), MAX(AJ105,$I105-SUM($L105:AJ105)))","v":22.574040449741982},{"$f":"IF($I105 >0, MIN(AK105,$I105-SUM($L105:AK105)), MAX(AK105,$I105-SUM($L105:AK105)))","v":22.574040449741982},{"$f":"IF($I105 >0, MIN(AL105,$I105-SUM($L105:AL105)), MAX(AL105,$I105-SUM($L105:AL105)))","v":22.574040449741982},{"$f":"IF($I105 >0, MIN(AM105,$I105-SUM($L105:AM105)), MAX(AM105,$I105-SUM($L105:AM105)))","v":22.574040449741982},{"$f":"IF($I105 >0, MIN(AN105,$I105-SUM($L105:AN105)), MAX(AN105,$I105-SUM($L105:AN105)))","v":22.574040449741982}]
[null,null,null,null,"2014-03-31",null,"£m 09/10 prices",null,1027.0681172532477,null,null,null,null,null,null,null,null,null,null,null,null,null,null,null,null,null,null,null,null,null,null,null,null,null,{"$f":"$I106/AH$77","v":44.413756421762059},{"$f":"IF($I106 >0, MIN(AI106,$I106-SUM($L106:AI106)), MAX(AI106,$I106-SUM($L106:AI106)))","v":44.413756421762059},{"$f":"IF($I106 >0, MIN(AJ106,$I106-SUM($L106:AJ106)), MAX(AJ106,$I106-SUM($L106:AJ106)))","v":44.413756421762059},{"$f":"IF($I106 >0, MIN(AK106,$I106-SUM($L106:AK106)), MAX(AK106,$I106-SUM($L106:AK106)))","v":44.413756421762059},{"$f":"IF($I106 >0, MIN(AL106,$I106-SUM($L106:AL106)), MAX(AL106,$I106-SUM($L106:AL106)))","v":44.413756421762059},{"$f":"IF($I106 >0, MIN(AM106,$I106-SUM($L106:AM106)), MAX(AM106,$I106-SUM($L106:AM106)))","v":44.413756421762059},{"$f":"IF($I106 >0, MIN(AN106,$I106-SUM($L106:AN106)), MAX(AN106,$I106-SUM($L106:AN106)))","v":44.413756421762059}]
[null,null,null,null,"2015-03-31",null,"£m 09/10 prices",null,1408.3975866718224,null,null,null,null,null,null,null,null,null,null,null,null,null,null,null,null,null,null,null,null,null,null,null,null,null,null,{"$f":"$I107/AI$77","v":53.653241397021809},{"$f":"IF($I107 >0, MIN(AJ107,$I107-SUM($L107:AJ107)), MAX(AJ107,$I107-SUM($L107:AJ107)))","v":53.653241397021809},{"$f":"IF($I107 >0, MIN(AK107,$I107-SUM($L107:AK107)), MAX(AK107,$I107-SUM($L107:AK107)))","v":53.653241397021809},{"$f":"IF($I107 >0, MIN(AL107,$I107-SUM($L107:AL107)), MAX(AL107,$I107-SUM($L107:AL107)))","v":53.653241397021809},{"$f":"IF($I107 >0, MIN(AM107,$I107-SUM($L107:AM107)), MAX(AM107,$I107-SUM($L107:AM107)))","v":53.653241397021809},{"$f":"IF($I107 >0, MIN(AN107,$I107-SUM($L107:AN107)), MAX(AN107,$I107-SUM($L107:AN107)))","v":53.653241397021809}]
[null,null,null,null,"2016-03-31",null,"£m 09/10 prices",null,1327.1326253394636,null,null,null,null,null,null,null,null,null,null,null,null,null,null,null,null,null,null,null,null,null,null,null,null,null,null,null,{"$f":"$I108/AJ$77","v":45.178982990279614},{"$f":"IF($I108 >0, MIN(AK108,$I108-SUM($L108:AK108)), MAX(AK108,$I108-SUM($L108:AK108)))","v":45.178982990279614},{"$f":"IF($I108 >0, MIN(AL108,$I108-SUM($L108:AL108)), MAX(AL108,$I108-SUM($L108:AL108)))","v":45.178982990279614},{"$f":"IF($I108 >0, MIN(AM108,$I108-SUM($L108:AM108)), MAX(AM108,$I108-SUM($L108:AM108)))","v":45.178982990279614},{"$f":"IF($I108 >0, MIN(AN108,$I108-SUM($L108:AN108)), MAX(AN108,$I108-SUM($L108:AN108)))","v":45.178982990279614}]
[null,null,null,null,"2017-03-31",null,"£m 09/10 prices",null,1222.041972291815,null,null,null,null,null,null,null,null,null,null,null,null,null,null,null,null,null,null,null,null,null,null,null,null,null,null,null,null,{"$f":"$I109/AK$77","v":37.601291455132767},{"$f":"IF($I109 >0, MIN(AL109,$I109-SUM($L109:AL109)), MAX(AL109,$I109-SUM($L109:AL109)))","v":37.601291455132767},{"$f":"IF($I109 >0, MIN(AM109,$I109-SUM($L109:AM109)), MAX(AM109,$I109-SUM($L109:AM109)))","v":37.601291455132767},{"$f":"IF($I109 >0, MIN(AN109,$I109-SUM($L109:AN109)), MAX(AN109,$I109-SUM($L109:AN109)))","v":37.601291455132767}]
[null,null,null,null,"2018-03-31",null,"£m 09/10 prices",null,1081.5542272068149,null,null,null,null,null,null,null,null,null,null,null,null,null,null,null,null,null,null,null,null,null,null,null,null,null,null,null,null,null,{"$f":"$I110/AL$77","v":30.359416904050942},{"$f":"IF($I110 >0, MIN(AM110,$I110-SUM($L110:AM110)), MAX(AM110,$I110-SUM($L110:AM110)))","v":30.359416904050942},{"$f":"IF($I110 >0, MIN(AN110,$I110-SUM($L110:AN110)), MAX(AN110,$I110-SUM($L110:AN110)))","v":30.359416904050942}]
[null,null,null,null,"2019-03-31",null,"£m 09/10 prices",null,1065.8261713048387,null,null,null,null,null,null,null,null,null,null,null,null,null,null,null,null,null,null,null,null,null,null,null,null,null,null,null,null,null,null,{"$f":"$I111/AM$77","v":27.505191517544223},{"$f":"IF($I111 >0, MIN(AN111,$I111-SUM($L111:AN111)), MAX(AN111,$I111-SUM($L111:AN111)))","v":27.505191517544223}]
[null,null,null,null,"2020-03-31",null,"£m 09/10 prices",null,950.68592838167524,null,null,null,null,null,null,null,null,null,null,null,null,null,null,null,null,null,null,null,null,null,null,null,null,null,null,null,null,null,null,null,{"$f":"$I112/AN$77","v":22.702947543442992}]
[null,null,null,null,"2021-03-31",null,"£m 09/10 prices",null,825.3198364358783]
[]
[null,null,"Accelerated RAV differential post-vesting depreciation"]
[null,null,"Note: The RAV differential accumulated from the accelerated and non-accelerated schedules above is released once pre-vesting assets are fully depreciated over an input smoothing profile."]
[]
[null,null,null,"Depreciation parameters"]
[]
[null,null,null,null,"RAV differential is accruing differences",null,"flag",null,null,">",null,{"$f":"IF(L78, 1, 0)","v":1},{"$f":"IF(M78, 1, 0)","v":1},1,1,1,1,1,1,1,1,1,1,1,1,1,1,1,1,1,0,0,0,0,0,0,0,0,0,0,0]
[null,null,null,null,"Smoothing period",null,"years",null,{"$f":"Input!I233","v":50}]
[null,null,null,null,"Smoothing profile for recovery of RAV differential",null,"%",null,null,null,null,{"$f":"IF($I121 = 0, 0, IF(AND(YEAR(L$4) >= YEAR($I$25) + $I$26, YEAR(L$4) < YEAR($I$25) + $I$26 + $I121), 1, 0) / $I121)","v":0},0,0,0,0,0,0,0,0,0,0,0,0,0,0,0,0,0,0,0.02,0.02,0.02,0.02,0.02,0.02,0.02,0.02,0.02,0.02,0.02]
[]
[null,null,null,"Pre-RIIO transfer to depreciation"]
[]
[null,null,null,null,"Year ending",null,null,null,null,null,{"$f":"K4","v":"1991-03-31"},{"$f":"L4","v":"1992-03-31"},{"$f":"M4","v":"1993-03-31"},"1994-03-31","1995-03-31","1996-03-31","1997-03-31","1998-03-31","1999-03-31","2000-03-31","2001-03-31","2002-03-31","2003-03-31","2004-03-31","2005-03-31","2006-03-31","2007-03-31","2008-03-31","2009-03-31","2010-03-31","2011-03-31","2012-03-31","2013-03-31","2014-03-31","2015-03-31","2016-03-31","2017-03-31","2018-03-31","2019-03-31","2020-03-31","2021-03-31"]
[null,null,null,null,"Pre-RIIO transfers to depreciation",null,null,null,null,null,{"$f":"K120 * K20","v":0},{"$f":"L120 * L20","v":0},{"$f":"M120 * M20","v":0},0,0,0,0,0,0,0,0,0,0,-40.436923865811004,0,0,0,0,0,0,0,0,0,0,0,0,0,0,0,0,0]
[]
[null,null,null,"Depreciation schedule"]
[]
[null,null,null,null,"RAV differential depreciation of additions from year ending",null,null,null,"RAV differential"]
[null,null,null,null,"1991-03-31",null,"£m 09/10 prices",null,{"$f":"SUMPRODUCT(L40:AO40, L$120:AO$120) - SUMPRODUCT(L83:AO83, L$120:AO$120) + HLOOKUP(E132,  $K$126:$AO$127,2, FALSE)","v":180.2357257521619},">",null,{"$f":"$I132 * L$122","v":0},{"$f":"$I132 * M$122","v":0},0,0,0,0,0,0,0,0,0,0,0,0,0,0,0,0,0,3.6047145150432378,3.6047145150432378,3.6047145150432378,{"$f":"$I132 * AH$122","v":3.6047145150432378},{"$f":"$I132 * AI$122","v":3.6047145150432378},3.6047145150432378,3.6047145150432378,3.6047145150432378,3.6047145150432378,3.6047145150432378,3.6047145150432378]
[null,null,null,null,"1992-03-31",null,"£m 09/10 prices",null,211.54253615127917,">",null,null,{"$f":"$I133 * M$122","v":0},0,0,0,0,0,0,0,0,0,0,0,0,0,0,0,0,0,4.2308507230255836,4.2308507230255836,4.2308507230255836,4.2308507230255836,4.2308507230255836,4.2308507230255836,4.2308507230255836,4.2308507230255836,4.2308507230255836,4.2308507230255836,4.2308507230255836]
[null,null,null,null,"1993-03-31",null,"£m 09/10 prices",null,235.79460918218192,">",null,null,null,{"$f":"$I134 * N$122","v":0},0,0,0,0,0,0,0,0,0,0,0,0,0,0,0,0,4.7158921836436383,4.7158921836436383,4.7158921836436383,4.7158921836436383,4.7158921836436383,4.7158921836436383,4.7158921836436383,4.7158921836436383,4.7158921836436383,4.7158921836436383,4.7158921836436383]
[null,null,null,null,"1994-03-31",null,"£m 09/10 prices",null,159.82716049382719,">",null,null,null,null,{"$f":"$I135 * O$122","v":0},0,0,0,0,0,0,0,0,0,0,0,0,0,0,0,3.1965432098765438,3.1965432098765438,3.1965432098765438,3.1965432098765438,3.1965432098765438,3.1965432098765438,3.1965432098765438,3.1965432098765438,3.1965432098765438,3.1965432098765438,3.1965432098765438]
[null,null,null,null,"1995-03-31",null,"£m 09/10 prices",null,97.584872721018229,">",null,null,null,null,null,{"$f":"$I136 * P$122","v":0},0,0,0,0,0,0,0,0,0,0,0,0,0,0,1.9516974544203647,1.9516974544203647,1.9516974544203647,1.9516974544203647,1.9516974544203647,1.9516974544203647,1.9516974544203647,1.9516974544203647,1.9516974544203647,1.9516974544203647,1.9516974544203647]
[null,null,null,null,"1996-03-31",null,"£m 09/10 prices",null,92.0709860093271,">",null,null,null,null,null,null,{"$f":"$I137 * Q$122","v":0},0,0,0,0,0,0,0,0,0,0,0,0,0,1.8414197201865421,1.8414197201865421,1.8414197201865421,1.8414197201865421,1.8414197201865421,1.8414197201865421,1.8414197201865421,1.8414197201865421,1.8414197201865421,1.8414197201865421,1.8414197201865421]
[null,null,null,null,"1997-03-31",null,"£m 09/10 prices",null,82.807652895250484,">",null,null,null,null,null,null,null,{"$f":"$I138 * R$122","v":0},0,0,0,0,0,0,0,0,0,0,0,0,1.6561530579050097,1.6561530579050097,1.6561530579050097,1.6561530579050097,1.6561530579050097,1.6561530579050097,1.6561530579050097,1.6561530579050097,1.6561530579050097,1.6561530579050097,1.6561530579050097]
[null,null,null,null,"1998-03-31",null,"£m 09/10 prices",null,67.62409949622166,">",null,null,null,null,null,null,null,null,{"$f":"$I139 * S$122","v":0},0,0,0,0,0,0,0,0,0,0,0,1.3524819899244331,1.3524819899244331,1.3524819899244331,1.3524819899244331,1.3524819899244331,1.3524819899244331,1.3524819899244331,1.3524819899244331,1.3524819899244331,1.3524819899244331,1.3524819899244331]
[null,null,null,null,"1999-03-31",null,"£m 09/10 prices",null,107.40582773707767,">",null,null,null,null,null,null,null,null,null,{"$f":"$I140 * T$122","v":0},0,0,0,0,0,0,0,0,0,0,2.1481165547415535,2.1481165547415535,2.1481165547415535,2.1481165547415535,2.1481165547415535,2.1481165547415535,2.1481165547415535,2.1481165547415535,2.1481165547415535,2.1481165547415535,2.1481165547415535]
[null,null,null,null,"2000-03-31",null,"£m 09/10 prices",null,86.741081856645636,">",null,null,null,null,null,null,null,null,null,null,{"$f":"$I141 * U$122","v":0},0,0,0,0,0,0,0,0,0,1.7348216371329128,1.7348216371329128,1.7348216371329128,1.7348216371329128,1.7348216371329128,1.7348216371329128,1.7348216371329128,1.7348216371329128,1.7348216371329128,1.7348216371329128,1.7348216371329128]
[null,null,null,null,"2001-03-31",null,"£m 09/10 prices",null,66.288339556421036,">",null,null,null,null,null,null,null,null,null,null,null,{"$f":"$I142 * V$122","v":0},0,0,0,0,0,0,0,0,1.3257667911284208,1.3257667911284208,{"$f":"$I142 * AG$122","v":1.3257667911284208},1.3257667911284208,1.3257667911284208,1.3257667911284208,1.3257667911284208,1.3257667911284208,1.3257667911284208,1.3257667911284208,1.3257667911284208]
[null,null,null,null,"2002-03-31",null,"£m 09/10 prices",null,81.541766269492811,">",null,null,null,null,null,null,null,null,null,null,null,null,{"$f":"$I143 * W$122","v":0},{"$f":"$I143 * X$122","v":0},0,0,0,0,0,0,1.6308353253898562,1.6308353253898562,1.6308353253898562,1.6308353253898562,1.6308353253898562,1.6308353253898562,1.6308353253898562,1.6308353253898562,1.6308353253898562,1.6308353253898562,1.6308353253898562]
[null,null,null,null,"2003-03-31",null,"£m 09/10 prices",null,66.170503108081533,">",null,null,null,null,null,null,null,null,null,null,null,null,null,{"$f":"$I144 * X$122","v":0},0,0,0,0,0,0,1.3234100621616307,1.3234100621616307,1.3234100621616307,1.3234100621616307,1.3234100621616307,1.3234100621616307,1.3234100621616307,1.3234100621616307,1.3234100621616307,1.3234100621616307,1.3234100621616307]
[null,null,null,null,"2004-03-31",null,"£m 09/10 prices",null,7.76323362692996,">",null,null,null,null,null,null,null,null,null,null,null,null,null,null,{"$f":"$I145 * Y$122","v":0},0,0,0,0,0,0.15526467253859921,0.15526467253859921,0.15526467253859921,0.15526467253859921,0.15526467253859921,0.15526467253859921,0.15526467253859921,0.15526467253859921,0.15526467253859921,0.15526467253859921,0.15526467253859921]
[null,null,null,null,"2005-03-31",null,"£m 09/10 prices",null,52.824559549118597,">",null,null,null,null,null,null,null,null,null,null,null,null,null,null,null,{"$f":"$I146 * Z$122","v":0},0,0,0,0,1.056491190982372,1.056491190982372,1.056491190982372,1.056491190982372,1.056491190982372,1.056491190982372,1.056491190982372,1.056491190982372,1.056491190982372,1.056491190982372,1.056491190982372]
[null,null,null,null,"2006-03-31",null,"£m 09/10 prices",null,58.037086035691381,">",null,null,null,null,null,null,null,null,null,null,null,null,null,null,null,null,{"$f":"$I147 * AA$122","v":0},0,0,0,1.1607417207138278,1.1607417207138278,1.1607417207138278,1.1607417207138278,1.1607417207138278,1.1607417207138278,1.1607417207138278,1.1607417207138278,1.1607417207138278,1.1607417207138278,1.1607417207138278]
[null,null,null,null,"2007-03-31",null,"£m 09/10 prices",null,41.749476661951888,">",null,null,null,null,null,null,null,null,null,null,null,null,null,null,null,null,null,{"$f":"$I148 * AB$122","v":0},0,0,0.8349895332390378,0.8349895332390378,0.8349895332390378,0.8349895332390378,0.8349895332390378,0.8349895332390378,0.8349895332390378,0.8349895332390378,0.8349895332390378,0.8349895332390378,0.8349895332390378]
[null,null,null,null,"2008-03-31",null,"£m 09/10 prices",null,34.803509304766088,">",null,null,null,null,null,null,null,null,null,null,null,null,null,null,null,null,null,null,{"$f":"$I149 * AC$122","v":0},0,0.69607018609532179,0.69607018609532179,0.69607018609532179,0.69607018609532179,0.69607018609532179,0.69607018609532179,0.69607018609532179,0.69607018609532179,0.69607018609532179,0.69607018609532179,0.69607018609532179]
[null,null,null,null,"2009-03-31",null,"£m 09/10 prices",null,16.625908672244115,">",null,null,null,null,null,null,null,null,null,null,null,null,null,null,null,null,null,null,null,{"$f":"$I150 * AD$122","v":0},0.33251817344488233,0.33251817344488233,0.33251817344488233,0.33251817344488233,0.33251817344488233,0.33251817344488233,0.33251817344488233,0.33251817344488233,0.33251817344488233,0.33251817344488233,0.33251817344488233]
[null,null,null,null,"2010-03-31",null,"£m 09/10 prices",null,0,">",null,null,null,null,null,null,null,null,null,null,null,null,null,null,null,null,null,null,null,null,{"$f":"$I151 * AE$122","v":0},0,0,0,0,0,0,0,0,0,0]
[null,null,null,null,"2011-03-31",null,"£m 09/10 prices",null,0,">",null,null,null,null,null,null,null,null,null,null,null,null,null,null,null,null,null,null,null,null,null,{"$f":"$I152 * AF$122","v":0},0,0,0,0,0,0,0,0,0]
[null,null,null,null,"2012-03-31",null,"£m 09/10 prices",null,0,">",null,null,null,null,null,null,null,null,null,null,null,null,null,null,null,null,null,null,null,null,null,null,{"$f":"$I153 * AG$122","v":0},0,0,0,0,0,0,0,0]
[null,null,null,null,"2013-03-31",null,"£m 09/10 prices",null,0,null,null,null,null,null,null,null,null,null,null,null,null,null,null,null,null,null,null,null,null,null,null,null,null,{"$f":"$I154 * AH$122","v":0},0,0,0,0,0,0,0]
[null,null,null,null,"2014-03-31",null,"£m 09/10 prices",null,0,null,null,null,null,null,null,null,null,null,null,null,null,null,null,null,null,null,null,null,null,null,null,null,null,null,{"$f":"$I155 * AI$122","v":0},0,0,0,0,0,0]
[null,null,null,null,"2015-03-31",null,"£m 09/10 prices",null,0,null,null,null,null,null,null,null,null,null,null,null,null,null,null,null,null,null,null,null,null,null,null,null,null,null,null,{"$f":"$I156 * AJ$122","v":0},0,0,0,0,0]
[null,null,null,null,"2016-03-31",null,"£m 09/10 prices",null,0,null,null,null,null,null,null,null,null,null,null,null,null,null,null,null,null,null,null,null,null,null,null,null,null,null,null,null,{"$f":"$I157 * AK$122","v":0},0,0,0,0]
[null,null,null,null,"2017-03-31",null,"£m 09/10 prices",null,0,null,null,null,null,null,null,null,null,null,null,null,null,null,null,null,null,null,null,null,null,null,null,null,null,null,null,null,null,{"$f":"$I158 * AL$122","v":0},{"$f":"$I158 * AM$122","v":0},0,0]
[null,null,null,null,"2018-03-31",null,"£m 09/10 prices",null,0,null,null,null,null,null,null,null,null,null,null,null,null,null,null,null,null,null,null,null,null,null,null,null,null,null,null,null,null,null,{"$f":"$I159 * AM$122","v":0},0,0]
[null,null,null,null,"2019-03-31",null,"£m 09/10 prices",null,0,null,null,null,null,null,null,null,null,null,null,null,null,null,null,null,null,null,null,null,null,null,null,null,null,null,null,null,null,null,null,{"$f":"$I160 * AN$122","v":0},{"$f":"$I160 * AO$122","v":0}]
[null,null,null,null,"2020-03-31",null,"£m 09/10 prices",null,0,null,null,null,null,null,null,null,null,null,null,null,null,null,null,null,null,null,null,null,null,null,null,null,null,null,null,null,null,null,null,null,{"$f":"$I161 * AO$122","v":0}]
[null,null,null,null,"2021-03-31",null,"£m 09/10 prices",null,0]
[]
[null,null,"Depreciation values applied"]
[null,null,"Note: Before vesting assets are fully depreciated, regulatory depreciation is just non-accelerated depreciation. Afterwards it is accelerated depreciation plus any smoothed RAV differential value available."]
[]
[null,null,null,null,"Depreciation allowed on additions from year ending",null,null,null,"Net additions"]
[null,null,null,null,"1991-03-31",null,"£m 09/10 prices",null,{"$f":"I83","v":379.44363316244619},">",null,{"$f":"(L$78 * L83) + (L$35 * L40) + L132","v":9.4860908290611547},9.4860908290611547,9.4860908290611547,9.4860908290611547,9.4860908290611547,9.4860908290611547,9.4860908290611547,9.4860908290611547,9.4860908290611547,9.4860908290611547,9.4860908290611547,9.4860908290611547,9.4860908290611547,9.4860908290611547,9.4860908290611547,9.4860908290611547,9.4860908290611547,9.4860908290611547,9.4860908290611547,22.576896173165547,3.6047145150433515,3.6047145150432378,3.6047145150432378,3.6047145150432378,3.6047145150432378,3.6047145150432378,3.6047145150432378,3.6047145150432378,3.6047145150432378,3.6047145150432378]
[null,null,null,null,"1992-03-31",null,"£m 09/10 prices",null,{"$f":"I84","v":470.09452478062036},">",null,null,{"$f":"(M$78 * M84) + (M$35 * M41) + M133","v":11.752363119515509},11.752363119515509,11.752363119515509,11.752363119515509,11.752363119515509,11.752363119515509,11.752363119515509,11.752363119515509,11.752363119515509,11.752363119515509,11.752363119515509,11.752363119515509,11.752363119515509,11.752363119515509,11.752363119515509,11.752363119515509,11.752363119515509,11.752363119515509,27.735576962056602,27.735576962056598,4.2308507230255836,4.2308507230255836,4.2308507230255836,4.2308507230255836,4.2308507230255836,4.2308507230255836,4.2308507230255836,4.2308507230255836,4.2308507230255836]
[null,null,null,null,"1993-03-31",null,"£m 09/10 prices",null,554.81084513454573,">",null,null,null,{"$f":"(N$78 * N85) + (N$35 * N42) + N134","v":13.870271128363644},13.870271128363644,13.870271128363644,13.870271128363644,13.870271128363644,13.870271128363644,13.870271128363644,13.870271128363644,13.870271128363644,13.870271128363644,13.870271128363644,13.870271128363644,13.870271128363644,13.870271128363644,13.870271128363644,13.870271128363644,13.870271128363644,32.456434440370927,32.456434440370927,32.45643444037092,4.7158921836436383,4.7158921836436383,4.7158921836436383,4.7158921836436383,4.7158921836436383,4.7158921836436383,4.7158921836436383,4.7158921836436383]
[null,null,null,null,"1994-03-31",null,"£m 09/10 prices",null,399.56790123456784,">",null,null,null,null,{"$f":"(O$78 * O86) + (O$35 * O43) + O135","v":9.989197530864196},9.989197530864196,9.989197530864196,9.989197530864196,9.989197530864196,9.989197530864196,9.989197530864196,9.989197530864196,9.989197530864196,9.989197530864196,9.989197530864196,9.989197530864196,9.989197530864196,9.989197530864196,9.989197530864196,9.989197530864196,23.174938271604937,23.174938271604937,23.174938271604937,23.17493827160478,3.1965432098765438,3.1965432098765438,3.1965432098765438,3.1965432098765438,3.1965432098765438,3.1965432098765438,3.1965432098765438]
[null,null,null,null,"1995-03-31",null,"£m 09/10 prices",null,260.22632725604859,">",null,null,null,null,null,{"$f":"(P$78 * P87) + (P$35 * P44) + P136","v":6.5056581814012144},6.5056581814012144,6.5056581814012144,6.5056581814012144,6.5056581814012144,6.5056581814012144,6.5056581814012144,6.5056581814012144,6.5056581814012144,6.5056581814012144,6.5056581814012144,6.5056581814012144,6.5056581814012144,6.5056581814012144,6.5056581814012144,14.963013817222794,14.963013817222794,14.963013817222794,14.963013817222794,14.96301381722277,1.9516974544203647,1.9516974544203647,1.9516974544203647,1.9516974544203647,1.9516974544203647,1.9516974544203647]
[null,null,null,null,"1996-03-31",null,"£m 09/10 prices",null,263.05996002664887,">",null,null,null,null,null,null,{"$f":"(Q$78 * Q88) + (Q$35 * Q45) + Q137","v":6.5764990006662218},6.5764990006662218,6.5764990006662218,6.5764990006662218,6.5764990006662218,6.5764990006662218,6.5764990006662218,6.5764990006662218,6.5764990006662218,6.5764990006662218,6.5764990006662218,6.5764990006662218,6.5764990006662218,6.5764990006662218,14.994417721518985,14.994417721518985,14.994417721518985,14.994417721518985,14.994417721518985,14.994417721518985,1.8414197201865989,1.8414197201865421,1.8414197201865421,1.8414197201865421,1.8414197201865421]
[null,null,null,null,"1997-03-31",null,"£m 09/10 prices",null,254.79277813923224,">",null,null,null,null,null,null,null,{"$f":"(R$78 * R89) + (R$35 * R46) + R138","v":6.3698194534808064},6.3698194534808064,6.3698194534808064,6.3698194534808064,6.3698194534808064,6.3698194534808064,6.3698194534808064,6.3698194534808064,6.3698194534808064,6.3698194534808064,6.3698194534808064,6.3698194534808064,6.3698194534808064,14.395791964866623,14.395791964866623,14.395791964866623,14.395791964866623,14.395791964866623,14.395791964866623,14.395791964866623,1.6561530579050665,1.6561530579050097,1.6561530579050097,1.6561530579050097]
[null,null,null,null,"1998-03-31",null,"£m 09/10 prices",null,225.41366498740547,">",null,null,null,null,null,null,null,null,{"$f":"(S$78 * S90) + (S$35 * S47) + S139","v":5.6353416246851369},5.6353416246851369,5.6353416246851369,5.6353416246851369,5.6353416246851369,5.6353416246851369,5.6353416246851369,5.6353416246851369,5.6353416246851369,5.6353416246851369,5.6353416246851369,5.6353416246851369,12.623165239294707,12.623165239294707,12.623165239294707,12.623165239294707,12.623165239294707,12.623165239294707,12.623165239294707,12.623165239294627,1.3524819899244331,1.3524819899244331,1.3524819899244331]
[null,null,null,null,"1999-03-31",null,"£m 09/10 prices",null,390.5666463166462,">",null,null,null,null,null,null,null,null,null,{"$f":"(T$78 * T91) + (T$35 * T48) + T140","v":9.7641661579161543},9.7641661579161543,9.7641661579161543,9.7641661579161543,9.7641661579161543,9.7641661579161543,9.7641661579161543,9.7641661579161543,9.7641661579161543,9.7641661579161543,9.7641661579161543,21.676448870573861,21.676448870573861,21.676448870573861,21.676448870573861,21.676448870573861,21.676448870573861,21.676448870573861,21.676448870573861,21.676448870573861,2.1481165547416672,2.1481165547415535]
[null,null,null,null,"2000-03-31",null,"£m 09/10 prices",null,346.96432742658243,">",null,null,null,null,null,null,null,null,null,null,{"$f":"(U$78 * U92) + (U$35 * U49) + U141","v":8.6741081856645614},8.6741081856645614,8.6741081856645614,8.6741081856645614,8.6741081856645614,8.6741081856645614,8.6741081856645614,8.6741081856645614,8.6741081856645614,8.6741081856645614,19.083038008462037,19.083038008462037,19.083038008462037,19.083038008462037,19.083038008462037,19.083038008462037,19.083038008462037,19.083038008462037,19.083038008462037,19.083038008462015,1.7348216371329128]
[null,null,null,null,"2001-03-31",null,"£m 09/10 prices",null,294.61484247298233,">",null,null,null,null,null,null,null,null,null,null,null,{"$f":"(V$78 * V93) + (V$35 * V50) + V142","v":7.3653710618245585},7.3653710618245585,7.3653710618245585,7.3653710618245585,7.3653710618245585,7.3653710618245585,7.3653710618245585,7.3653710618245585,7.3653710618245585,16.056508914777538,16.056508914777538,16.056508914777538,16.056508914777538,16.056508914777538,16.056508914777538,16.056508914777538,16.056508914777538,16.056508914777538,16.056508914777538,16.056508914777485]
[null,null,null,null,"2002-03-31",null,"£m 09/10 prices",null,407.70883134746407,">",null,null,null,null,null,null,null,null,null,null,null,null,{"$f":"(W$78 * W94) + (W$35 * W51) + W143","v":10.192720783686601},10.192720783686601,10.192720783686601,10.192720783686601,10.192720783686601,10.192720783686601,10.192720783686601,10.192720783686601,22.016276892763059,22.016276892763059,22.016276892763059,22.016276892763059,22.016276892763059,22.016276892763059,22.016276892763059,22.016276892763059,22.016276892763059,22.016276892763059,22.016276892763059]
[null,null,null,null,"2003-03-31",null,"£m 09/10 prices",null,378.11716061760876,">",null,null,null,null,null,null,null,null,null,null,null,null,null,{"$f":"(X$78 * X95) + (X$35 * X52) + X144","v":9.452929015440219},9.452929015440219,9.452929015440219,9.452929015440219,9.452929015440219,9.452929015440219,9.452929015440219,20.229268093042069,20.229268093042069,20.229268093042069,20.229268093042069,20.229268093042069,20.229268093042069,20.229268093042069,20.229268093042069,20.229268093042069,20.229268093042069,20.229268093042069]
[null,null,null,null,"2004-03-31",null,"£m 09/10 prices",null,321.33438328493975,">",null,null,null,null,null,null,null,null,null,null,null,null,null,null,{"$f":"(Y$78 * Y96) + (Y$35 * Y53) + Y145","v":8.0333595821234933},8.0333595821234933,8.0333595821234933,8.0333595821234933,8.0333595821234933,8.0333595821234933,16.221983836785586,16.221983836785586,16.221983836785586,16.221983836785586,16.221983836785586,16.221983836785586,16.221983836785586,16.221983836785586,16.221983836785586,16.221983836785586,16.221983836785586]
[null,null,null,null,"2005-03-31",null,"£m 09/10 prices",null,422.59647639294877,">",null,null,null,null,null,null,null,null,null,null,null,null,null,null,null,{"$f":"(Z$78 * Z97) + (Z$35 * Z54) + Z146","v":10.564911909823719},10.564911909823719,10.564911909823719,10.564911909823719,10.564911909823719,22.186315010629809,22.186315010629809,22.186315010629809,22.186315010629809,22.186315010629809,22.186315010629809,22.186315010629809,22.186315010629809,22.186315010629809,22.186315010629809,22.186315010629809]
[null,null,null,null,"2006-03-31",null,"£m 09/10 prices",null,580.37086035691379,">",null,null,null,null,null,null,null,null,null,null,null,null,null,null,null,null,{"$f":"(AA$78 * AA98) + (AA$35 * AA55) + AA147","v":14.509271508922845},14.509271508922845,14.509271508922845,14.509271508922845,30.179284738559517,30.179284738559517,30.179284738559517,30.179284738559517,30.179284738559517,30.179284738559517,30.179284738559517,30.179284738559517,30.179284738559517,30.179284738559517,30.179284738559517]
[null,null,null,null,"2007-03-31",null,"£m 09/10 prices",null,556.6596888260251,">",null,null,null,null,null,null,null,null,null,null,null,null,null,null,null,null,null,{"$f":"(AB$78 * AB99) + (AB$35 * AB56) + AB148","v":13.916492220650628},13.916492220650628,13.916492220650628,28.667973974540296,28.667973974540296,28.667973974540296,28.667973974540296,28.667973974540296,28.667973974540296,28.667973974540296,28.667973974540296,28.667973974540296,28.667973974540296,28.667973974540296]
[null,null,null,null,"2008-03-31",null,"£m 09/10 prices",null,696.07018609532179,">",null,null,null,null,null,null,null,null,null,null,null,null,null,null,null,null,null,null,{"$f":"(AC$78 * AC100) + (AC$35 * AC57) + AC149","v":17.401754652383044},17.401754652383044,35.499579490861407,35.499579490861407,35.499579490861407,35.499579490861407,35.499579490861407,35.499579490861407,35.499579490861407,35.499579490861407,35.499579490861407,35.499579490861407,35.499579490861407]
[null,null,null,null,"2009-03-31",null,"£m 09/10 prices",null,665.03634688976456,">",null,null,null,null,null,null,null,null,null,null,null,null,null,null,null,null,null,null,null,{"$f":"(AD$78 * AD101) + (AD$35 * AD58) + AD150","v":16.625908672244115},33.584335517933113,33.584335517933113,33.584335517933113,33.584335517933113,33.584335517933113,33.584335517933113,33.584335517933113,33.584335517933113,33.584335517933113,33.584335517933113,33.584335517933113]
[null,null,null,null,"2010-03-31",null,"£m 09/10 prices",null,812.1919300000003,">",null,null,null,null,null,null,null,null,null,null,null,null,null,null,null,null,null,null,null,null,{"$f":"(AE$78 * AE102) + (AE$35 * AE59) + AE151","v":40.609596500000016},40.609596500000016,40.609596500000016,40.609596500000016,40.609596500000016,40.609596500000016,40.609596500000016,40.609596500000016,40.609596500000016,40.609596500000016,40.609596500000016]
[null,null,null,null,"2011-03-31",null,"£m 09/10 prices",null,656.72036516023195,">",null,null,null,null,null,null,null,null,null,null,null,null,null,null,null,null,null,null,null,null,null,{"$f":"(AF$78 * AF103) + (AF$35 * AF60) + AF152","v":32.836018258011599},32.836018258011599,32.836018258011599,32.836018258011599,32.836018258011599,32.836018258011599,32.836018258011599,32.836018258011599,32.836018258011599,32.836018258011599]
[null,null,null,null,"2012-03-31",null,"£m 09/10 prices",null,927.74885273201085,">",null,null,null,null,null,null,null,null,null,null,null,null,null,null,null,null,null,null,null,null,null,null,{"$f":"(AG$78 * AG104) + (AG$35 * AG61) + AG153","v":46.387442636600539},46.387442636600539,46.387442636600539,46.387442636600539,46.387442636600539,46.387442636600539,46.387442636600539,46.387442636600539,46.387442636600539]
[null,null,null,null,"2013-03-31",null,"£m 09/10 prices",null,902.96161798967933,null,null,null,null,null,null,null,null,null,null,null,null,null,null,null,null,null,null,null,null,null,null,null,null,{"$f":"(AH$78 * AH105) + (AH$35 * AH62) + AH154","v":45.148080899483965},45.148080899483965,45.148080899483965,45.148080899483965,45.148080899483965,45.148080899483965,45.148080899483965,45.148080899483965]
[null,null,null,null,"2014-03-31",null,"£m 09/10 prices",null,1027.0681172532477,null,null,null,null,null,null,null,null,null,null,null,null,null,null,null,null,null,null,null,null,null,null,null,null,null,{"$f":"(AI$78 * AI106) + (AI$35 * AI63) + AI155","v":44.413756421762059},44.413756421762059,44.413756421762059,44.413756421762059,44.413756421762059,44.413756421762059,44.413756421762059]
[null,null,null,null,"2015-03-31",null,"£m 09/10 prices",null,1408.3975866718224,null,null,null,null,null,null,null,null,null,null,null,null,null,null,null,null,null,null,null,null,null,null,null,null,null,null,{"$f":"(AJ$78 * AJ107) + (AJ$35 * AJ64) + AJ156","v":53.653241397021809},53.653241397021809,53.653241397021809,53.653241397021809,53.653241397021809,53.653241397021809]
[null,null,null,null,"2016-03-31",null,"£m 09/10 prices",null,1327.1326253394636,null,null,null,null,null,null,null,null,null,null,null,null,null,null,null,null,null,null,null,null,null,null,null,null,null,null,null,{"$f":"(AK$78 * AK108) + (AK$35 * AK65) + AK157","v":45.178982990279614},{"$f":"(AL$78 * AL108) + (AL$35 * AL65) + AL157","v":45.178982990279614},{"$f":"(AM$78 * AM108) + (AM$35 * AM65) + AM157","v":45.178982990279614},{"$f":"(AN$78 * AN108) + (AN$35 * AN65) + AN157","v":45.178982990279614},{"$f":"(AO$78 * AO108) + (AO$35 * AO65) + AO157","v":45.178982990279614}]
[null,null,null,null,"2017-03-31",null,"£m 09/10 prices",null,1222.041972291815,null,null,null,null,null,null,null,null,null,null,null,null,null,null,null,null,null,null,null,null,null,null,null,null,null,null,null,null,{"$f":"(AL$78 * AL109) + (AL$35 * AL66) + AL158","v":37.601291455132767},{"$f":"(AM$78 * AM109) + (AM$35 * AM66) + AM158","v":37.601291455132767},{"$f":"(AN$78 * AN109) + (AN$35 * AN66) + AN158","v":37.601291455132767},{"$f":"(AO$78 * AO109) + (AO$35 * AO66) + AO158","v":37.601291455132767}]
[null,null,null,null,"2018-03-31",null,"£m 09/10 prices",null,1081.5542272068149,null,null,null,null,null,null,null,null,null,null,null,null,null,null,null,null,null,null,null,null,null,null,null,null,null,null,null,null,null,{"$f":"(AM$78 * AM110) + (AM$35 * AM67) + AM159","v":30.359416904050942},{"$f":"(AN$78 * AN110) + (AN$35 * AN67) + AN159","v":30.359416904050942},{"$f":"(AO$78 * AO110) + (AO$35 * AO67) + AO159","v":30.359416904050942}]
[null,null,null,null,"2019-03-31",null,"£m 09/10 prices",null,1065.8261713048387,null,null,null,null,null,null,null,null,null,null,null,null,null,null,null,null,null,null,null,null,null,null,null,null,null,null,null,null,null,null,{"$f":"(AN$78 * AN111) + (AN$35 * AN68) + AN160","v":27.505191517544223},{"$f":"(AO$78 * AO111) + (AO$35 * AO68) + AO160","v":27.505191517544223}]
[null,null,null,null,"2020-03-31",null,"£m 09/10 prices",null,950.68592838167524,null,null,null,null,null,null,null,null,null,null,null,null,null,null,null,null,null,null,null,null,null,null,null,null,null,null,null,null,null,null,null,{"$f":"(AO$78 * AO112) + (AO$35 * AO69) + AO161","v":22.702947543442992}]
[null,null,null,null,"2021-03-31",null,"£m 09/10 prices",null,825.3198364358783]
[null,null,null,null,"Total",null,"£m 09/10 prices",null,null,null,null,{"$f":"SUM(L168:L198)","v":9.4860908290611547},21.238453948576662,35.108725076940303,45.097922607804499,51.603580789205715,58.18007978987194,64.549899243352741,70.18524086803788,79.949407025954031,88.623515211618596,95.988886273443157,106.18160705712975,115.63453607256997,123.66789565469347,134.23280756451717,148.74207907344001,162.65857129409065,180.06032594647368,196.6862346187178,468.9308444390295,{"$f":"SUM(AF168:AF198)","v":482.79468103891895},{"$f":"SUM(AG168:AG198)","v":505.67739743648838},{"$f":"SUM(AH168:AH198)","v":523.08493607924481},547.52029743927858,588.16222247349799,620.18820746244523,645.04986001061627,664.13859366529698,672.11545286700891,677.47018403912261]
[]
[null,null,"Removal of fully depreciated items"]
[]
[null,null,null,null,"Removal of additions from year ending"]
[null,null,null,null,"1991-03-31",null,"£m 09/10 prices",null,null,">",null,{"$f":"IF(AND($I168 = SUM($K168:L168), SUM($K204:K204) = 0), $I168, 0)","v":0},{"$f":"IF(AND($I168 = SUM($K168:M168), SUM($K204:L204) = 0), $I168, 0)","v":0},{"$f":"IF(AND($I168 = SUM($K168:N168), SUM($K204:M204) = 0), $I168, 0)","v":0},{"$f":"IF(AND($I168 = SUM($K168:O168), SUM($K204:N204) = 0), $I168, 0)","v":0},{"$f":"IF(AND($I168 = SUM($K168:P168), SUM($K204:O204) = 0), $I168, 0)","v":0},{"$f":"IF(AND($I168 = SUM($K168:Q168), SUM($K204:P204) = 0), $I168, 0)","v":0},{"$f":"IF(AND($I168 = SUM($K168:R168), SUM($K204:Q204) = 0), $I168, 0)","v":0},{"$f":"IF(AND($I168 = SUM($K168:S168), SUM($K204:R204) = 0), $I168, 0)","v":0},{"$f":"IF(AND($I168 = SUM($K168:T168), SUM($K204:S204) = 0), $I168, 0)","v":0},{"$f":"IF(AND($I168 = SUM($K168:U168), SUM($K204:T204) = 0), $I168, 0)","v":0},{"$f":"IF(AND($I168 = SUM($K168:V168), SUM($K204:U204) = 0), $I168, 0)","v":0},{"$f":"IF(AND($I168 = SUM($K168:W168), SUM($K204:V204) = 0), $I168, 0)","v":0},{"$f":"IF(AND($I168 = SUM($K168:X168), SUM($K204:W204) = 0), $I168, 0)","v":0},{"$f":"IF(AND($I168 = SUM($K168:Y168), SUM($K204:X204) = 0), $I168, 0)","v":0},{"$f":"IF(AND($I168 = SUM($K168:Z168), SUM($K204:Y204) = 0), $I168, 0)","v":0},{"$f":"IF(AND($I168 = SUM($K168:AA168), SUM($K204:Z204) = 0), $I168, 0)","v":0},{"$f":"IF(AND($I168 = SUM($K168:AB168), SUM($K204:AA204) = 0), $I168, 0)","v":0},{"$f":"IF(AND($I168 = SUM($K168:AC168), SUM($K204:AB204) = 0), $I168, 0)","v":0},{"$f":"IF(AND($I168 = SUM($K168:AD168), SUM($K204:AC204) = 0), $I168, 0)","v":0},{"$f":"IF(AND($I168 = SUM($K168:AE168), SUM($K204:AD204) = 0), $I168, 0)","v":0},{"$f":"IF(AND($I168 = SUM($K168:AF168), SUM($K204:AE204) = 0), $I168, 0)","v":0},{"$f":"IF(AND($I168 = SUM($K168:AG168), SUM($K204:AF204) = 0), $I168, 0)","v":0},{"$f":"IF(AND($I168 = SUM($K168:AH168), SUM($K204:AG204) = 0), $I168, 0)","v":0},{"$f":"IF(AND($I168 = SUM($K168:AI168), SUM($K204:AH204) = 0), $I168, 0)","v":0},{"$f":"IF(AND($I168 = SUM($K168:AJ168), SUM($K204:AI204) = 0), $I168, 0)","v":0},{"$f":"IF(AND($I168 = SUM($K168:AK168), SUM($K204:AJ204) = 0), $I168, 0)","v":0},{"$f":"IF(AND($I168 = SUM($K168:AL168), SUM($K204:AK204) = 0), $I168, 0)","v":0},{"$f":"IF(AND($I168 = SUM($K168:AM168), SUM($K204:AL204) = 0), $I168, 0)","v":0},{"$f":"IF(AND($I168 = SUM($K168:AN168), SUM($K204:AM204) = 0), $I168, 0)","v":0},{"$f":"IF(AND($I168 = SUM($K168:AO168), SUM($K204:AN204) = 0), $I168, 0)","v":0}]
[null,null,null,null,"1992-03-31",null,"£m 09/10 prices",null,null,">",null,{"$f":"IF(AND($I169 = SUM($K169:L169), SUM($K205:K205) = 0), $I169, 0)","v":0},{"$f":"IF(AND($I169 = SUM($K169:M169), SUM($K205:L205) = 0), $I169, 0)","v":0},{"$f":"IF(AND($I169 = SUM($K169:N169), SUM($K205:M205) = 0), $I169, 0)","v":0},{"$f":"IF(AND($I169 = SUM($K169:O169), SUM($K205:N205) = 0), $I169, 0)","v":0},{"$f":"IF(AND($I169 = SUM($K169:P169), SUM($K205:O205) = 0), $I169, 0)","v":0},{"$f":"IF(AND($I169 = SUM($K169:Q169), SUM($K205:P205) = 0), $I169, 0)","v":0},{"$f":"IF(AND($I169 = SUM($K169:R169), SUM($K205:Q205) = 0), $I169, 0)","v":0},{"$f":"IF(AND($I169 = SUM($K169:S169), SUM($K205:R205) = 0), $I169, 0)","v":0},{"$f":"IF(AND($I169 = SUM($K169:T169), SUM($K205:S205) = 0), $I169, 0)","v":0},{"$f":"IF(AND($I169 = SUM($K169:U169), SUM($K205:T205) = 0), $I169, 0)","v":0},{"$f":"IF(AND($I169 = SUM($K169:V169), SUM($K205:U205) = 0), $I169, 0)","v":0},{"$f":"IF(AND($I169 = SUM($K169:W169), SUM($K205:V205) = 0), $I169, 0)","v":0},{"$f":"IF(AND($I169 = SUM($K169:X169), SUM($K205:W205) = 0), $I169, 0)","v":0},{"$f":"IF(AND($I169 = SUM($K169:Y169), SUM($K205:X205) = 0), $I169, 0)","v":0},{"$f":"IF(AND($I169 = SUM($K169:Z169), SUM($K205:Y205) = 0), $I169, 0)","v":0},{"$f":"IF(AND($I169 = SUM($K169:AA169), SUM($K205:Z205) = 0), $I169, 0)","v":0},{"$f":"IF(AND($I169 = SUM($K169:AB169), SUM($K205:AA205) = 0), $I169, 0)","v":0},{"$f":"IF(AND($I169 = SUM($K169:AC169), SUM($K205:AB205) = 0), $I169, 0)","v":0},{"$f":"IF(AND($I169 = SUM($K169:AD169), SUM($K205:AC205) = 0), $I169, 0)","v":0},{"$f":"IF(AND($I169 = SUM($K169:AE169), SUM($K205:AD205) = 0), $I169, 0)","v":0},{"$f":"IF(AND($I169 = SUM($K169:AF169), SUM($K205:AE205) = 0), $I169, 0)","v":0},{"$f":"IF(AND($I169 = SUM($K169:AG169), SUM($K205:AF205) = 0), $I169, 0)","v":0},{"$f":"IF(AND($I169 = SUM($K169:AH169), SUM($K205:AG205) = 0), $I169, 0)","v":0},{"$f":"IF(AND($I169 = SUM($K169:AI169), SUM($K205:AH205) = 0), $I169, 0)","v":0},{"$f":"IF(AND($I169 = SUM($K169:AJ169), SUM($K205:AI205) = 0), $I169, 0)","v":0},{"$f":"IF(AND($I169 = SUM($K169:AK169), SUM($K205:AJ205) = 0), $I169, 0)","v":0},{"$f":"IF(AND($I169 = SUM($K169:AL169), SUM($K205:AK205) = 0), $I169, 0)","v":0},{"$f":"IF(AND($I169 = SUM($K169:AM169), SUM($K205:AL205) = 0), $I169, 0)","v":0},{"$f":"IF(AND($I169 = SUM($K169:AN169), SUM($K205:AM205) = 0), $I169, 0)","v":0},{"$f":"IF(AND($I169 = SUM($K169:AO169), SUM($K205:AN205) = 0), $I169, 0)","v":0}]
[null,null,null,null,"1993-03-31",null,"£m 09/10 prices",null,null,">",null,{"$f":"IF(AND($I170 = SUM($K170:L170), SUM($K206:K206) = 0), $I170, 0)","v":0},{"$f":"IF(AND($I170 = SUM($K170:M170), SUM($K206:L206) = 0), $I170, 0)","v":0},{"$f":"IF(AND($I170 = SUM($K170:N170), SUM($K206:M206) = 0), $I170, 0)","v":0},{"$f":"IF(AND($I170 = SUM($K170:O170), SUM($K206:N206) = 0), $I170, 0)","v":0},{"$f":"IF(AND($I170 = SUM($K170:P170), SUM($K206:O206) = 0), $I170, 0)","v":0},{"$f":"IF(AND($I170 = SUM($K170:Q170), SUM($K206:P206) = 0), $I170, 0)","v":0},{"$f":"IF(AND($I170 = SUM($K170:R170), SUM($K206:Q206) = 0), $I170, 0)","v":0},{"$f":"IF(AND($I170 = SUM($K170:S170), SUM($K206:R206) = 0), $I170, 0)","v":0},{"$f":"IF(AND($I170 = SUM($K170:T170), SUM($K206:S206) = 0), $I170, 0)","v":0},{"$f":"IF(AND($I170 = SUM($K170:U170), SUM($K206:T206) = 0), $I170, 0)","v":0},{"$f":"IF(AND($I170 = SUM($K170:V170), SUM($K206:U206) = 0), $I170, 0)","v":0},{"$f":"IF(AND($I170 = SUM($K170:W170), SUM($K206:V206) = 0), $I170, 0)","v":0},{"$f":"IF(AND($I170 = SUM($K170:X170), SUM($K206:W206) = 0), $I170, 0)","v":0},{"$f":"IF(AND($I170 = SUM($K170:Y170), SUM($K206:X206) = 0), $I170, 0)","v":0},{"$f":"IF(AND($I170 = SUM($K170:Z170), SUM($K206:Y206) = 0), $I170, 0)","v":0},{"$f":"IF(AND($I170 = SUM($K170:AA170), SUM($K206:Z206) = 0), $I170, 0)","v":0},{"$f":"IF(AND($I170 = SUM($K170:AB170), SUM($K206:AA206) = 0), $I170, 0)","v":0},{"$f":"IF(AND($I170 = SUM($K170:AC170), SUM($K206:AB206) = 0), $I170, 0)","v":0},{"$f":"IF(AND($I170 = SUM($K170:AD170), SUM($K206:AC206) = 0), $I170, 0)","v":0},{"$f":"IF(AND($I170 = SUM($K170:AE170), SUM($K206:AD206) = 0), $I170, 0)","v":0},{"$f":"IF(AND($I170 = SUM($K170:AF170), SUM($K206:AE206) = 0), $I170, 0)","v":0},{"$f":"IF(AND($I170 = SUM($K170:AG170), SUM($K206:AF206) = 0), $I170, 0)","v":0},{"$f":"IF(AND($I170 = SUM($K170:AH170), SUM($K206:AG206) = 0), $I170, 0)","v":0},{"$f":"IF(AND($I170 = SUM($K170:AI170), SUM($K206:AH206) = 0), $I170, 0)","v":0},{"$f":"IF(AND($I170 = SUM($K170:AJ170), SUM($K206:AI206) = 0), $I170, 0)","v":0},{"$f":"IF(AND($I170 = SUM($K170:AK170), SUM($K206:AJ206) = 0), $I170, 0)","v":0},{"$f":"IF(AND($I170 = SUM($K170:AL170), SUM($K206:AK206) = 0), $I170, 0)","v":0},{"$f":"IF(AND($I170 = SUM($K170:AM170), SUM($K206:AL206) = 0), $I170, 0)","v":0},{"$f":"IF(AND($I170 = SUM($K170:AN170), SUM($K206:AM206) = 0), $I170, 0)","v":0},{"$f":"IF(AND($I170 = SUM($K170:AO170), SUM($K206:AN206) = 0), $I170, 0)","v":0}]
[null,null,null,null,"1994-03-31",null,"£m 09/10 prices",null,null,">",null,{"$f":"IF(AND($I171 = SUM($K171:L171), SUM($K207:K207) = 0), $I171, 0)","v":0},{"$f":"IF(AND($I171 = SUM($K171:M171), SUM($K207:L207) = 0), $I171, 0)","v":0},{"$f":"IF(AND($I171 = SUM($K171:N171), SUM($K207:M207) = 0), $I171, 0)","v":0},{"$f":"IF(AND($I171 = SUM($K171:O171), SUM($K207:N207) = 0), $I171, 0)","v":0},{"$f":"IF(AND($I171 = SUM($K171:P171), SUM($K207:O207) = 0), $I171, 0)","v":0},{"$f":"IF(AND($I171 = SUM($K171:Q171), SUM($K207:P207) = 0), $I171, 0)","v":0},{"$f":"IF(AND($I171 = SUM($K171:R171), SUM($K207:Q207) = 0), $I171, 0)","v":0},{"$f":"IF(AND($I171 = SUM($K171:S171), SUM($K207:R207) = 0), $I171, 0)","v":0},{"$f":"IF(AND($I171 = SUM($K171:T171), SUM($K207:S207) = 0), $I171, 0)","v":0},{"$f":"IF(AND($I171 = SUM($K171:U171), SUM($K207:T207) = 0), $I171, 0)","v":0},{"$f":"IF(AND($I171 = SUM($K171:V171), SUM($K207:U207) = 0), $I171, 0)","v":0},{"$f":"IF(AND($I171 = SUM($K171:W171), SUM($K207:V207) = 0), $I171, 0)","v":0},{"$f":"IF(AND($I171 = SUM($K171:X171), SUM($K207:W207) = 0), $I171, 0)","v":0},{"$f":"IF(AND($I171 = SUM($K171:Y171), SUM($K207:X207) = 0), $I171, 0)","v":0},{"$f":"IF(AND($I171 = SUM($K171:Z171), SUM($K207:Y207) = 0), $I171, 0)","v":0},{"$f":"IF(AND($I171 = SUM($K171:AA171), SUM($K207:Z207) = 0), $I171, 0)","v":0},{"$f":"IF(AND($I171 = SUM($K171:AB171), SUM($K207:AA207) = 0), $I171, 0)","v":0},{"$f":"IF(AND($I171 = SUM($K171:AC171), SUM($K207:AB207) = 0), $I171, 0)","v":0},{"$f":"IF(AND($I171 = SUM($K171:AD171), SUM($K207:AC207) = 0), $I171, 0)","v":0},{"$f":"IF(AND($I171 = SUM($K171:AE171), SUM($K207:AD207) = 0), $I171, 0)","v":0},{"$f":"IF(AND($I171 = SUM($K171:AF171), SUM($K207:AE207) = 0), $I171, 0)","v":0},{"$f":"IF(AND($I171 = SUM($K171:AG171), SUM($K207:AF207) = 0), $I171, 0)","v":0},{"$f":"IF(AND($I171 = SUM($K171:AH171), SUM($K207:AG207) = 0), $I171, 0)","v":0},{"$f":"IF(AND($I171 = SUM($K171:AI171), SUM($K207:AH207) = 0), $I171, 0)","v":0},{"$f":"IF(AND($I171 = SUM($K171:AJ171), SUM($K207:AI207) = 0), $I171, 0)","v":0},{"$f":"IF(AND($I171 = SUM($K171:AK171), SUM($K207:AJ207) = 0), $I171, 0)","v":0},{"$f":"IF(AND($I171 = SUM($K171:AL171), SUM($K207:AK207) = 0), $I171, 0)","v":0},{"$f":"IF(AND($I171 = SUM($K171:AM171), SUM($K207:AL207) = 0), $I171, 0)","v":0},{"$f":"IF(AND($I171 = SUM($K171:AN171), SUM($K207:AM207) = 0), $I171, 0)","v":0},{"$f":"IF(AND($I171 = SUM($K171:AO171), SUM($K207:AN207) = 0), $I171, 0)","v":0}]
[null,null,null,null,"1995-03-31",null,"£m 09/10 prices",null,null,">",null,{"$f":"IF(AND($I172 = SUM($K172:L172), SUM($K208:K208) = 0), $I172, 0)","v":0},{"$f":"IF(AND($I172 = SUM($K172:M172), SUM($K208:L208) = 0), $I172, 0)","v":0},{"$f":"IF(AND($I172 = SUM($K172:N172), SUM($K208:M208) = 0), $I172, 0)","v":0},{"$f":"IF(AND($I172 = SUM($K172:O172), SUM($K208:N208) = 0), $I172, 0)","v":0},{"$f":"IF(AND($I172 = SUM($K172:P172), SUM($K208:O208) = 0), $I172, 0)","v":0},{"$f":"IF(AND($I172 = SUM($K172:Q172), SUM($K208:P208) = 0), $I172, 0)","v":0},{"$f":"IF(AND($I172 = SUM($K172:R172), SUM($K208:Q208) = 0), $I172, 0)","v":0},{"$f":"IF(AND($I172 = SUM($K172:S172), SUM($K208:R208) = 0), $I172, 0)","v":0},{"$f":"IF(AND($I172 = SUM($K172:T172), SUM($K208:S208) = 0), $I172, 0)","v":0},{"$f":"IF(AND($I172 = SUM($K172:U172), SUM($K208:T208) = 0), $I172, 0)","v":0},{"$f":"IF(AND($I172 = SUM($K172:V172), SUM($K208:U208) = 0), $I172, 0)","v":0},{"$f":"IF(AND($I172 = SUM($K172:W172), SUM($K208:V208) = 0), $I172, 0)","v":0},{"$f":"IF(AND($I172 = SUM($K172:X172), SUM($K208:W208) = 0), $I172, 0)","v":0},{"$f":"IF(AND($I172 = SUM($K172:Y172), SUM($K208:X208) = 0), $I172, 0)","v":0},{"$f":"IF(AND($I172 = SUM($K172:Z172), SUM($K208:Y208) = 0), $I172, 0)","v":0},{"$f":"IF(AND($I172 = SUM($K172:AA172), SUM($K208:Z208) = 0), $I172, 0)","v":0},{"$f":"IF(AND($I172 = SUM($K172:AB172), SUM($K208:AA208) = 0), $I172, 0)","v":0},{"$f":"IF(AND($I172 = SUM($K172:AC172), SUM($K208:AB208) = 0), $I172, 0)","v":0},{"$f":"IF(AND($I172 = SUM($K172:AD172), SUM($K208:AC208) = 0), $I172, 0)","v":0},{"$f":"IF(AND($I172 = SUM($K172:AE172), SUM($K208:AD208) = 0), $I172, 0)","v":0},{"$f":"IF(AND($I172 = SUM($K172:AF172), SUM($K208:AE208) = 0), $I172, 0)","v":0},{"$f":"IF(AND($I172 = SUM($K172:AG172), SUM($K208:AF208) = 0), $I172, 0)","v":0},{"$f":"IF(AND($I172 = SUM($K172:AH172), SUM($K208:AG208) = 0), $I172, 0)","v":0},{"$f":"IF(AND($I172 = SUM($K172:AI172), SUM($K208:AH208) = 0), $I172, 0)","v":0},{"$f":"IF(AND($I172 = SUM($K172:AJ172), SUM($K208:AI208) = 0), $I172, 0)","v":0},{"$f":"IF(AND($I172 = SUM($K172:AK172), SUM($K208:AJ208) = 0), $I172, 0)","v":0},{"$f":"IF(AND($I172 = SUM($K172:AL172), SUM($K208:AK208) = 0), $I172, 0)","v":0},{"$f":"IF(AND($I172 = SUM($K172:AM172), SUM($K208:AL208) = 0), $I172, 0)","v":0},{"$f":"IF(AND($I172 = SUM($K172:AN172), SUM($K208:AM208) = 0), $I172, 0)","v":0},{"$f":"IF(AND($I172 = SUM($K172:AO172), SUM($K208:AN208) = 0), $I172, 0)","v":0}]
[null,null,null,null,"1996-03-31",null,"£m 09/10 prices",null,null,">",null,{"$f":"IF(AND($I173 = SUM($K173:L173), SUM($K209:K209) = 0), $I173, 0)","v":0},{"$f":"IF(AND($I173 = SUM($K173:M173), SUM($K209:L209) = 0), $I173, 0)","v":0},{"$f":"IF(AND($I173 = SUM($K173:N173), SUM($K209:M209) = 0), $I173, 0)","v":0},{"$f":"IF(AND($I173 = SUM($K173:O173), SUM($K209:N209) = 0), $I173, 0)","v":0},{"$f":"IF(AND($I173 = SUM($K173:P173), SUM($K209:O209) = 0), $I173, 0)","v":0},{"$f":"IF(AND($I173 = SUM($K173:Q173), SUM($K209:P209) = 0), $I173, 0)","v":0},{"$f":"IF(AND($I173 = SUM($K173:R173), SUM($K209:Q209) = 0), $I173, 0)","v":0},{"$f":"IF(AND($I173 = SUM($K173:S173), SUM($K209:R209) = 0), $I173, 0)","v":0},{"$f":"IF(AND($I173 = SUM($K173:T173), SUM($K209:S209) = 0), $I173, 0)","v":0},{"$f":"IF(AND($I173 = SUM($K173:U173), SUM($K209:T209) = 0), $I173, 0)","v":0},{"$f":"IF(AND($I173 = SUM($K173:V173), SUM($K209:U209) = 0), $I173, 0)","v":0},{"$f":"IF(AND($I173 = SUM($K173:W173), SUM($K209:V209) = 0), $I173, 0)","v":0},{"$f":"IF(AND($I173 = SUM($K173:X173), SUM($K209:W209) = 0), $I173, 0)","v":0},{"$f":"IF(AND($I173 = SUM($K173:Y173), SUM($K209:X209) = 0), $I173, 0)","v":0},{"$f":"IF(AND($I173 = SUM($K173:Z173), SUM($K209:Y209) = 0), $I173, 0)","v":0},{"$f":"IF(AND($I173 = SUM($K173:AA173), SUM($K209:Z209) = 0), $I173, 0)","v":0},{"$f":"IF(AND($I173 = SUM($K173:AB173), SUM($K209:AA209) = 0), $I173, 0)","v":0},{"$f":"IF(AND($I173 = SUM($K173:AC173), SUM($K209:AB209) = 0), $I173, 0)","v":0},{"$f":"IF(AND($I173 = SUM($K173:AD173), SUM($K209:AC209) = 0), $I173, 0)","v":0},{"$f":"IF(AND($I173 = SUM($K173:AE173), SUM($K209:AD209) = 0), $I173, 0)","v":0},{"$f":"IF(AND($I173 = SUM($K173:AF173), SUM($K209:AE209) = 0), $I173, 0)","v":0},{"$f":"IF(AND($I173 = SUM($K173:AG173), SUM($K209:AF209) = 0), $I173, 0)","v":0},{"$f":"IF(AND($I173 = SUM($K173:AH173), SUM($K209:AG209) = 0), $I173, 0)","v":0},{"$f":"IF(AND($I173 = SUM($K173:AI173), SUM($K209:AH209) = 0), $I173, 0)","v":0},{"$f":"IF(AND($I173 = SUM($K173:AJ173), SUM($K209:AI209) = 0), $I173, 0)","v":0},{"$f":"IF(AND($I173 = SUM($K173:AK173), SUM($K209:AJ209) = 0), $I173, 0)","v":0},{"$f":"IF(AND($I173 = SUM($K173:AL173), SUM($K209:AK209) = 0), $I173, 0)","v":0},{"$f":"IF(AND($I173 = SUM($K173:AM173), SUM($K209:AL209) = 0), $I173, 0)","v":0},{"$f":"IF(AND($I173 = SUM($K173:AN173), SUM($K209:AM209) = 0), $I173, 0)","v":0},{"$f":"IF(AND($I173 = SUM($K173:AO173), SUM($K209:AN209) = 0), $I173, 0)","v":0}]
[null,null,null,null,"1997-03-31",null,"£m 09/10 prices",null,null,">",null,{"$f":"IF(AND($I174 = SUM($K174:L174), SUM($K210:K210) = 0), $I174, 0)","v":0},{"$f":"IF(AND($I174 = SUM($K174:M174), SUM($K210:L210) = 0), $I174, 0)","v":0},{"$f":"IF(AND($I174 = SUM($K174:N174), SUM($K210:M210) = 0), $I174, 0)","v":0},{"$f":"IF(AND($I174 = SUM($K174:O174), SUM($K210:N210) = 0), $I174, 0)","v":0},{"$f":"IF(AND($I174 = SUM($K174:P174), SUM($K210:O210) = 0), $I174, 0)","v":0},{"$f":"IF(AND($I174 = SUM($K174:Q174), SUM($K210:P210) = 0), $I174, 0)","v":0},{"$f":"IF(AND($I174 = SUM($K174:R174), SUM($K210:Q210) = 0), $I174, 0)","v":0},{"$f":"IF(AND($I174 = SUM($K174:S174), SUM($K210:R210) = 0), $I174, 0)","v":0},{"$f":"IF(AND($I174 = SUM($K174:T174), SUM($K210:S210) = 0), $I174, 0)","v":0},{"$f":"IF(AND($I174 = SUM($K174:U174), SUM($K210:T210) = 0), $I174, 0)","v":0},{"$f":"IF(AND($I174 = SUM($K174:V174), SUM($K210:U210) = 0), $I174, 0)","v":0},{"$f":"IF(AND($I174 = SUM($K174:W174), SUM($K210:V210) = 0), $I174, 0)","v":0},{"$f":"IF(AND($I174 = SUM($K174:X174), SUM($K210:W210) = 0), $I174, 0)","v":0},{"$f":"IF(AND($I174 = SUM($K174:Y174), SUM($K210:X210) = 0), $I174, 0)","v":0},{"$f":"IF(AND($I174 = SUM($K174:Z174), SUM($K210:Y210) = 0), $I174, 0)","v":0},{"$f":"IF(AND($I174 = SUM($K174:AA174), SUM($K210:Z210) = 0), $I174, 0)","v":0},{"$f":"IF(AND($I174 = SUM($K174:AB174), SUM($K210:AA210) = 0), $I174, 0)","v":0},{"$f":"IF(AND($I174 = SUM($K174:AC174), SUM($K210:AB210) = 0), $I174, 0)","v":0},{"$f":"IF(AND($I174 = SUM($K174:AD174), SUM($K210:AC210) = 0), $I174, 0)","v":0},{"$f":"IF(AND($I174 = SUM($K174:AE174), SUM($K210:AD210) = 0), $I174, 0)","v":0},{"$f":"IF(AND($I174 = SUM($K174:AF174), SUM($K210:AE210) = 0), $I174, 0)","v":0},{"$f":"IF(AND($I174 = SUM($K174:AG174), SUM($K210:AF210) = 0), $I174, 0)","v":0},{"$f":"IF(AND($I174 = SUM($K174:AH174), SUM($K210:AG210) = 0), $I174, 0)","v":0},{"$f":"IF(AND($I174 = SUM($K174:AI174), SUM($K210:AH210) = 0), $I174, 0)","v":0},{"$f":"IF(AND($I174 = SUM($K174:AJ174), SUM($K210:AI210) = 0), $I174, 0)","v":0},{"$f":"IF(AND($I174 = SUM($K174:AK174), SUM($K210:AJ210) = 0), $I174, 0)","v":0},{"$f":"IF(AND($I174 = SUM($K174:AL174), SUM($K210:AK210) = 0), $I174, 0)","v":0},{"$f":"IF(AND($I174 = SUM($K174:AM174), SUM($K210:AL210) = 0), $I174, 0)","v":0},{"$f":"IF(AND($I174 = SUM($K174:AN174), SUM($K210:AM210) = 0), $I174, 0)","v":0},{"$f":"IF(AND($I174 = SUM($K174:AO174), SUM($K210:AN210) = 0), $I174, 0)","v":0}]
[null,null,null,null,"1998-03-31",null,"£m 09/10 prices",null,null,">",null,{"$f":"IF(AND($I175 = SUM($K175:L175), SUM($K211:K211) = 0), $I175, 0)","v":0},{"$f":"IF(AND($I175 = SUM($K175:M175), SUM($K211:L211) = 0), $I175, 0)","v":0},{"$f":"IF(AND($I175 = SUM($K175:N175), SUM($K211:M211) = 0), $I175, 0)","v":0},{"$f":"IF(AND($I175 = SUM($K175:O175), SUM($K211:N211) = 0), $I175, 0)","v":0},{"$f":"IF(AND($I175 = SUM($K175:P175), SUM($K211:O211) = 0), $I175, 0)","v":0},{"$f":"IF(AND($I175 = SUM($K175:Q175), SUM($K211:P211) = 0), $I175, 0)","v":0},{"$f":"IF(AND($I175 = SUM($K175:R175), SUM($K211:Q211) = 0), $I175, 0)","v":0},{"$f":"IF(AND($I175 = SUM($K175:S175), SUM($K211:R211) = 0), $I175, 0)","v":0},{"$f":"IF(AND($I175 = SUM($K175:T175), SUM($K211:S211) = 0), $I175, 0)","v":0},{"$f":"IF(AND($I175 = SUM($K175:U175), SUM($K211:T211) = 0), $I175, 0)","v":0},{"$f":"IF(AND($I175 = SUM($K175:V175), SUM($K211:U211) = 0), $I175, 0)","v":0},{"$f":"IF(AND($I175 = SUM($K175:W175), SUM($K211:V211) = 0), $I175, 0)","v":0},{"$f":"IF(AND($I175 = SUM($K175:X175), SUM($K211:W211) = 0), $I175, 0)","v":0},{"$f":"IF(AND($I175 = SUM($K175:Y175), SUM($K211:X211) = 0), $I175, 0)","v":0},{"$f":"IF(AND($I175 = SUM($K175:Z175), SUM($K211:Y211) = 0), $I175, 0)","v":0},{"$f":"IF(AND($I175 = SUM($K175:AA175), SUM($K211:Z211) = 0), $I175, 0)","v":0},{"$f":"IF(AND($I175 = SUM($K175:AB175), SUM($K211:AA211) = 0), $I175, 0)","v":0},{"$f":"IF(AND($I175 = SUM($K175:AC175), SUM($K211:AB211) = 0), $I175, 0)","v":0},{"$f":"IF(AND($I175 = SUM($K175:AD175), SUM($K211:AC211) = 0), $I175, 0)","v":0},{"$f":"IF(AND($I175 = SUM($K175:AE175), SUM($K211:AD211) = 0), $I175, 0)","v":0},{"$f":"IF(AND($I175 = SUM($K175:AF175), SUM($K211:AE211) = 0), $I175, 0)","v":0},{"$f":"IF(AND($I175 = SUM($K175:AG175), SUM($K211:AF211) = 0), $I175, 0)","v":0},{"$f":"IF(AND($I175 = SUM($K175:AH175), SUM($K211:AG211) = 0), $I175, 0)","v":0},{"$f":"IF(AND($I175 = SUM($K175:AI175), SUM($K211:AH211) = 0), $I175, 0)","v":0},{"$f":"IF(AND($I175 = SUM($K175:AJ175), SUM($K211:AI211) = 0), $I175, 0)","v":0},{"$f":"IF(AND($I175 = SUM($K175:AK175), SUM($K211:AJ211) = 0), $I175, 0)","v":0},{"$f":"IF(AND($I175 = SUM($K175:AL175), SUM($K211:AK211) = 0), $I175, 0)","v":0},{"$f":"IF(AND($I175 = SUM($K175:AM175), SUM($K211:AL211) = 0), $I175, 0)","v":0},{"$f":"IF(AND($I175 = SUM($K175:AN175), SUM($K211:AM211) = 0), $I175, 0)","v":0},{"$f":"IF(AND($I175 = SUM($K175:AO175), SUM($K211:AN211) = 0), $I175, 0)","v":0}]
[null,null,null,null,"1999-03-31",null,"£m 09/10 prices",null,null,">",null,{"$f":"IF(AND($I176 = SUM($K176:L176), SUM($K212:K212) = 0), $I176, 0)","v":0},{"$f":"IF(AND($I176 = SUM($K176:M176), SUM($K212:L212) = 0), $I176, 0)","v":0},{"$f":"IF(AND($I176 = SUM($K176:N176), SUM($K212:M212) = 0), $I176, 0)","v":0},{"$f":"IF(AND($I176 = SUM($K176:O176), SUM($K212:N212) = 0), $I176, 0)","v":0},{"$f":"IF(AND($I176 = SUM($K176:P176), SUM($K212:O212) = 0), $I176, 0)","v":0},{"$f":"IF(AND($I176 = SUM($K176:Q176), SUM($K212:P212) = 0), $I176, 0)","v":0},{"$f":"IF(AND($I176 = SUM($K176:R176), SUM($K212:Q212) = 0), $I176, 0)","v":0},{"$f":"IF(AND($I176 = SUM($K176:S176), SUM($K212:R212) = 0), $I176, 0)","v":0},{"$f":"IF(AND($I176 = SUM($K176:T176), SUM($K212:S212) = 0), $I176, 0)","v":0},{"$f":"IF(AND($I176 = SUM($K176:U176), SUM($K212:T212) = 0), $I176, 0)","v":0},{"$f":"IF(AND($I176 = SUM($K176:V176), SUM($K212:U212) = 0), $I176, 0)","v":0},{"$f":"IF(AND($I176 = SUM($K176:W176), SUM($K212:V212) = 0), $I176, 0)","v":0},{"$f":"IF(AND($I176 = SUM($K176:X176), SUM($K212:W212) = 0), $I176, 0)","v":0},{"$f":"IF(AND($I176 = SUM($K176:Y176), SUM($K212:X212) = 0), $I176, 0)","v":0},{"$f":"IF(AND($I176 = SUM($K176:Z176), SUM($K212:Y212) = 0), $I176, 0)","v":0},{"$f":"IF(AND($I176 = SUM($K176:AA176), SUM($K212:Z212) = 0), $I176, 0)","v":0},{"$f":"IF(AND($I176 = SUM($K176:AB176), SUM($K212:AA212) = 0), $I176, 0)","v":0},{"$f":"IF(AND($I176 = SUM($K176:AC176), SUM($K212:AB212) = 0), $I176, 0)","v":0},{"$f":"IF(AND($I176 = SUM($K176:AD176), SUM($K212:AC212) = 0), $I176, 0)","v":0},{"$f":"IF(AND($I176 = SUM($K176:AE176), SUM($K212:AD212) = 0), $I176, 0)","v":0},{"$f":"IF(AND($I176 = SUM($K176:AF176), SUM($K212:AE212) = 0), $I176, 0)","v":0},{"$f":"IF(AND($I176 = SUM($K176:AG176), SUM($K212:AF212) = 0), $I176, 0)","v":0},{"$f":"IF(AND($I176 = SUM($K176:AH176), SUM($K212:AG212) = 0), $I176, 0)","v":0},{"$f":"IF(AND($I176 = SUM($K176:AI176), SUM($K212:AH212) = 0), $I176, 0)","v":0},{"$f":"IF(AND($I176 = SUM($K176:AJ176), SUM($K212:AI212) = 0), $I176, 0)","v":0},{"$f":"IF(AND($I176 = SUM($K176:AK176), SUM($K212:AJ212) = 0), $I176, 0)","v":0},{"$f":"IF(AND($I176 = SUM($K176:AL176), SUM($K212:AK212) = 0), $I176, 0)","v":0},{"$f":"IF(AND($I176 = SUM($K176:AM176), SUM($K212:AL212) = 0), $I176, 0)","v":0},{"$f":"IF(AND($I176 = SUM($K176:AN176), SUM($K212:AM212) = 0), $I176, 0)","v":0},{"$f":"IF(AND($I176 = SUM($K176:AO176), SUM($K212:AN212) = 0), $I176, 0)","v":0}]
[null,null,null,null,"2000-03-31",null,"£m 09/10 prices",null,null,">",null,{"$f":"IF(AND($I177 = SUM($K177:L177), SUM($K213:K213) = 0), $I177, 0)","v":0},{"$f":"IF(AND($I177 = SUM($K177:M177), SUM($K213:L213) = 0), $I177, 0)","v":0},{"$f":"IF(AND($I177 = SUM($K177:N177), SUM($K213:M213) = 0), $I177, 0)","v":0},{"$f":"IF(AND($I177 = SUM($K177:O177), SUM($K213:N213) = 0), $I177, 0)","v":0},{"$f":"IF(AND($I177 = SUM($K177:P177), SUM($K213:O213) = 0), $I177, 0)","v":0},{"$f":"IF(AND($I177 = SUM($K177:Q177), SUM($K213:P213) = 0), $I177, 0)","v":0},{"$f":"IF(AND($I177 = SUM($K177:R177), SUM($K213:Q213) = 0), $I177, 0)","v":0},{"$f":"IF(AND($I177 = SUM($K177:S177), SUM($K213:R213) = 0), $I177, 0)","v":0},{"$f":"IF(AND($I177 = SUM($K177:T177), SUM($K213:S213) = 0), $I177, 0)","v":0},{"$f":"IF(AND($I177 = SUM($K177:U177), SUM($K213:T213) = 0), $I177, 0)","v":0},{"$f":"IF(AND($I177 = SUM($K177:V177), SUM($K213:U213) = 0), $I177, 0)","v":0},{"$f":"IF(AND($I177 = SUM($K177:W177), SUM($K213:V213) = 0), $I177, 0)","v":0},{"$f":"IF(AND($I177 = SUM($K177:X177), SUM($K213:W213) = 0), $I177, 0)","v":0},{"$f":"IF(AND($I177 = SUM($K177:Y177), SUM($K213:X213) = 0), $I177, 0)","v":0},{"$f":"IF(AND($I177 = SUM($K177:Z177), SUM($K213:Y213) = 0), $I177, 0)","v":0},{"$f":"IF(AND($I177 = SUM($K177:AA177), SUM($K213:Z213) = 0), $I177, 0)","v":0},{"$f":"IF(AND($I177 = SUM($K177:AB177), SUM($K213:AA213) = 0), $I177, 0)","v":0},{"$f":"IF(AND($I177 = SUM($K177:AC177), SUM($K213:AB213) = 0), $I177, 0)","v":0},{"$f":"IF(AND($I177 = SUM($K177:AD177), SUM($K213:AC213) = 0), $I177, 0)","v":0},{"$f":"IF(AND($I177 = SUM($K177:AE177), SUM($K213:AD213) = 0), $I177, 0)","v":0},{"$f":"IF(AND($I177 = SUM($K177:AF177), SUM($K213:AE213) = 0), $I177, 0)","v":0},{"$f":"IF(AND($I177 = SUM($K177:AG177), SUM($K213:AF213) = 0), $I177, 0)","v":0},{"$f":"IF(AND($I177 = SUM($K177:AH177), SUM($K213:AG213) = 0), $I177, 0)","v":0},{"$f":"IF(AND($I177 = SUM($K177:AI177), SUM($K213:AH213) = 0), $I177, 0)","v":0},{"$f":"IF(AND($I177 = SUM($K177:AJ177), SUM($K213:AI213) = 0), $I177, 0)","v":0},{"$f":"IF(AND($I177 = SUM($K177:AK177), SUM($K213:AJ213) = 0), $I177, 0)","v":0},{"$f":"IF(AND($I177 = SUM($K177:AL177), SUM($K213:AK213) = 0), $I177, 0)","v":0},{"$f":"IF(AND($I177 = SUM($K177:AM177), SUM($K213:AL213) = 0), $I177, 0)","v":0},{"$f":"IF(AND($I177 = SUM($K177:AN177), SUM($K213:AM213) = 0), $I177, 0)","v":0},{"$f":"IF(AND($I177 = SUM($K177:AO177), SUM($K213:AN213) = 0), $I177, 0)","v":0}]
[null,null,null,null,"2001-03-31",null,"£m 09/10 prices",null,null,">",null,{"$f":"IF(AND($I178 = SUM($K178:L178), SUM($K214:K214) = 0), $I178, 0)","v":0},{"$f":"IF(AND($I178 = SUM($K178:M178), SUM($K214:L214) = 0), $I178, 0)","v":0},{"$f":"IF(AND($I178 = SUM($K178:N178), SUM($K214:M214) = 0), $I178, 0)","v":0},{"$f":"IF(AND($I178 = SUM($K178:O178), SUM($K214:N214) = 0), $I178, 0)","v":0},{"$f":"IF(AND($I178 = SUM($K178:P178), SUM($K214:O214) = 0), $I178, 0)","v":0},{"$f":"IF(AND($I178 = SUM($K178:Q178), SUM($K214:P214) = 0), $I178, 0)","v":0},{"$f":"IF(AND($I178 = SUM($K178:R178), SUM($K214:Q214) = 0), $I178, 0)","v":0},{"$f":"IF(AND($I178 = SUM($K178:S178), SUM($K214:R214) = 0), $I178, 0)","v":0},{"$f":"IF(AND($I178 = SUM($K178:T178), SUM($K214:S214) = 0), $I178, 0)","v":0},{"$f":"IF(AND($I178 = SUM($K178:U178), SUM($K214:T214) = 0), $I178, 0)","v":0},{"$f":"IF(AND($I178 = SUM($K178:V178), SUM($K214:U214) = 0), $I178, 0)","v":0},{"$f":"IF(AND($I178 = SUM($K178:W178), SUM($K214:V214) = 0), $I178, 0)","v":0},{"$f":"IF(AND($I178 = SUM($K178:X178), SUM($K214:W214) = 0), $I178, 0)","v":0},{"$f":"IF(AND($I178 = SUM($K178:Y178), SUM($K214:X214) = 0), $I178, 0)","v":0},{"$f":"IF(AND($I178 = SUM($K178:Z178), SUM($K214:Y214) = 0), $I178, 0)","v":0},{"$f":"IF(AND($I178 = SUM($K178:AA178), SUM($K214:Z214) = 0), $I178, 0)","v":0},{"$f":"IF(AND($I178 = SUM($K178:AB178), SUM($K214:AA214) = 0), $I178, 0)","v":0},{"$f":"IF(AND($I178 = SUM($K178:AC178), SUM($K214:AB214) = 0), $I178, 0)","v":0},{"$f":"IF(AND($I178 = SUM($K178:AD178), SUM($K214:AC214) = 0), $I178, 0)","v":0},{"$f":"IF(AND($I178 = SUM($K178:AE178), SUM($K214:AD214) = 0), $I178, 0)","v":0},{"$f":"IF(AND($I178 = SUM($K178:AF178), SUM($K214:AE214) = 0), $I178, 0)","v":0},{"$f":"IF(AND($I178 = SUM($K178:AG178), SUM($K214:AF214) = 0), $I178, 0)","v":0},{"$f":"IF(AND($I178 = SUM($K178:AH178), SUM($K214:AG214) = 0), $I178, 0)","v":0},{"$f":"IF(AND($I178 = SUM($K178:AI178), SUM($K214:AH214) = 0), $I178, 0)","v":0},{"$f":"IF(AND($I178 = SUM($K178:AJ178), SUM($K214:AI214) = 0), $I178, 0)","v":0},{"$f":"IF(AND($I178 = SUM($K178:AK178), SUM($K214:AJ214) = 0), $I178, 0)","v":0},{"$f":"IF(AND($I178 = SUM($K178:AL178), SUM($K214:AK214) = 0), $I178, 0)","v":0},{"$f":"IF(AND($I178 = SUM($K178:AM178), SUM($K214:AL214) = 0), $I178, 0)","v":0},{"$f":"IF(AND($I178 = SUM($K178:AN178), SUM($K214:AM214) = 0), $I178, 0)","v":0},{"$f":"IF(AND($I178 = SUM($K178:AO178), SUM($K214:AN214) = 0), $I178, 0)","v":0}]
[null,null,null,null,"2002-03-31",null,"£m 09/10 prices",null,null,">",null,{"$f":"IF(AND($I179 = SUM($K179:L179), SUM($K215:K215) = 0), $I179, 0)","v":0},{"$f":"IF(AND($I179 = SUM($K179:M179), SUM($K215:L215) = 0), $I179, 0)","v":0},{"$f":"IF(AND($I179 = SUM($K179:N179), SUM($K215:M215) = 0), $I179, 0)","v":0},{"$f":"IF(AND($I179 = SUM($K179:O179), SUM($K215:N215) = 0), $I179, 0)","v":0},{"$f":"IF(AND($I179 = SUM($K179:P179), SUM($K215:O215) = 0), $I179, 0)","v":0},{"$f":"IF(AND($I179 = SUM($K179:Q179), SUM($K215:P215) = 0), $I179, 0)","v":0},{"$f":"IF(AND($I179 = SUM($K179:R179), SUM($K215:Q215) = 0), $I179, 0)","v":0},{"$f":"IF(AND($I179 = SUM($K179:S179), SUM($K215:R215) = 0), $I179, 0)","v":0},{"$f":"IF(AND($I179 = SUM($K179:T179), SUM($K215:S215) = 0), $I179, 0)","v":0},{"$f":"IF(AND($I179 = SUM($K179:U179), SUM($K215:T215) = 0), $I179, 0)","v":0},{"$f":"IF(AND($I179 = SUM($K179:V179), SUM($K215:U215) = 0), $I179, 0)","v":0},{"$f":"IF(AND($I179 = SUM($K179:W179), SUM($K215:V215) = 0), $I179, 0)","v":0},{"$f":"IF(AND($I179 = SUM($K179:X179), SUM($K215:W215) = 0), $I179, 0)","v":0},{"$f":"IF(AND($I179 = SUM($K179:Y179), SUM($K215:X215) = 0), $I179, 0)","v":0},{"$f":"IF(AND($I179 = SUM($K179:Z179), SUM($K215:Y215) = 0), $I179, 0)","v":0},{"$f":"IF(AND($I179 = SUM($K179:AA179), SUM($K215:Z215) = 0), $I179, 0)","v":0},{"$f":"IF(AND($I179 = SUM($K179:AB179), SUM($K215:AA215) = 0), $I179, 0)","v":0},{"$f":"IF(AND($I179 = SUM($K179:AC179), SUM($K215:AB215) = 0), $I179, 0)","v":0},{"$f":"IF(AND($I179 = SUM($K179:AD179), SUM($K215:AC215) = 0), $I179, 0)","v":0},{"$f":"IF(AND($I179 = SUM($K179:AE179), SUM($K215:AD215) = 0), $I179, 0)","v":0},{"$f":"IF(AND($I179 = SUM($K179:AF179), SUM($K215:AE215) = 0), $I179, 0)","v":0},{"$f":"IF(AND($I179 = SUM($K179:AG179), SUM($K215:AF215) = 0), $I179, 0)","v":0},{"$f":"IF(AND($I179 = SUM($K179:AH179), SUM($K215:AG215) = 0), $I179, 0)","v":0},{"$f":"IF(AND($I179 = SUM($K179:AI179), SUM($K215:AH215) = 0), $I179, 0)","v":0},{"$f":"IF(AND($I179 = SUM($K179:AJ179), SUM($K215:AI215) = 0), $I179, 0)","v":0},{"$f":"IF(AND($I179 = SUM($K179:AK179), SUM($K215:AJ215) = 0), $I179, 0)","v":0},{"$f":"IF(AND($I179 = SUM($K179:AL179), SUM($K215:AK215) = 0), $I179, 0)","v":0},{"$f":"IF(AND($I179 = SUM($K179:AM179), SUM($K215:AL215) = 0), $I179, 0)","v":0},{"$f":"IF(AND($I179 = SUM($K179:AN179), SUM($K215:AM215) = 0), $I179, 0)","v":0},{"$f":"IF(AND($I179 = SUM($K179:AO179), SUM($K215:AN215) = 0), $I179, 0)","v":0}]
[null,null,null,null,"2003-03-31",null,"£m 09/10 prices",null,null,">",null,{"$f":"IF(AND($I180 = SUM($K180:L180), SUM($K216:K216) = 0), $I180, 0)","v":0},{"$f":"IF(AND($I180 = SUM($K180:M180), SUM($K216:L216) = 0), $I180, 0)","v":0},{"$f":"IF(AND($I180 = SUM($K180:N180), SUM($K216:M216) = 0), $I180, 0)","v":0},{"$f":"IF(AND($I180 = SUM($K180:O180), SUM($K216:N216) = 0), $I180, 0)","v":0},{"$f":"IF(AND($I180 = SUM($K180:P180), SUM($K216:O216) = 0), $I180, 0)","v":0},{"$f":"IF(AND($I180 = SUM($K180:Q180), SUM($K216:P216) = 0), $I180, 0)","v":0},{"$f":"IF(AND($I180 = SUM($K180:R180), SUM($K216:Q216) = 0), $I180, 0)","v":0},{"$f":"IF(AND($I180 = SUM($K180:S180), SUM($K216:R216) = 0), $I180, 0)","v":0},{"$f":"IF(AND($I180 = SUM($K180:T180), SUM($K216:S216) = 0), $I180, 0)","v":0},{"$f":"IF(AND($I180 = SUM($K180:U180), SUM($K216:T216) = 0), $I180, 0)","v":0},{"$f":"IF(AND($I180 = SUM($K180:V180), SUM($K216:U216) = 0), $I180, 0)","v":0},{"$f":"IF(AND($I180 = SUM($K180:W180), SUM($K216:V216) = 0), $I180, 0)","v":0},{"$f":"IF(AND($I180 = SUM($K180:X180), SUM($K216:W216) = 0), $I180, 0)","v":0},{"$f":"IF(AND($I180 = SUM($K180:Y180), SUM($K216:X216) = 0), $I180, 0)","v":0},{"$f":"IF(AND($I180 = SUM($K180:Z180), SUM($K216:Y216) = 0), $I180, 0)","v":0},{"$f":"IF(AND($I180 = SUM($K180:AA180), SUM($K216:Z216) = 0), $I180, 0)","v":0},{"$f":"IF(AND($I180 = SUM($K180:AB180), SUM($K216:AA216) = 0), $I180, 0)","v":0},{"$f":"IF(AND($I180 = SUM($K180:AC180), SUM($K216:AB216) = 0), $I180, 0)","v":0},{"$f":"IF(AND($I180 = SUM($K180:AD180), SUM($K216:AC216) = 0), $I180, 0)","v":0},{"$f":"IF(AND($I180 = SUM($K180:AE180), SUM($K216:AD216) = 0), $I180, 0)","v":0},{"$f":"IF(AND($I180 = SUM($K180:AF180), SUM($K216:AE216) = 0), $I180, 0)","v":0},{"$f":"IF(AND($I180 = SUM($K180:AG180), SUM($K216:AF216) = 0), $I180, 0)","v":0},{"$f":"IF(AND($I180 = SUM($K180:AH180), SUM($K216:AG216) = 0), $I180, 0)","v":0},{"$f":"IF(AND($I180 = SUM($K180:AI180), SUM($K216:AH216) = 0), $I180, 0)","v":0},{"$f":"IF(AND($I180 = SUM($K180:AJ180), SUM($K216:AI216) = 0), $I180, 0)","v":0},{"$f":"IF(AND($I180 = SUM($K180:AK180), SUM($K216:AJ216) = 0), $I180, 0)","v":0},{"$f":"IF(AND($I180 = SUM($K180:AL180), SUM($K216:AK216) = 0), $I180, 0)","v":0},{"$f":"IF(AND($I180 = SUM($K180:AM180), SUM($K216:AL216) = 0), $I180, 0)","v":0},{"$f":"IF(AND($I180 = SUM($K180:AN180), SUM($K216:AM216) = 0), $I180, 0)","v":0},{"$f":"IF(AND($I180 = SUM($K180:AO180), SUM($K216:AN216) = 0), $I180, 0)","v":0}]
[null,null,null,null,"2004-03-31",null,"£m 09/10 prices",null,null,">",null,{"$f":"IF(AND($I181 = SUM($K181:L181), SUM($K217:K217) = 0), $I181, 0)","v":0},{"$f":"IF(AND($I181 = SUM($K181:M181), SUM($K217:L217) = 0), $I181, 0)","v":0},{"$f":"IF(AND($I181 = SUM($K181:N181), SUM($K217:M217) = 0), $I181, 0)","v":0},{"$f":"IF(AND($I181 = SUM($K181:O181), SUM($K217:N217) = 0), $I181, 0)","v":0},{"$f":"IF(AND($I181 = SUM($K181:P181), SUM($K217:O217) = 0), $I181, 0)","v":0},{"$f":"IF(AND($I181 = SUM($K181:Q181), SUM($K217:P217) = 0), $I181, 0)","v":0},{"$f":"IF(AND($I181 = SUM($K181:R181), SUM($K217:Q217) = 0), $I181, 0)","v":0},{"$f":"IF(AND($I181 = SUM($K181:S181), SUM($K217:R217) = 0), $I181, 0)","v":0},{"$f":"IF(AND($I181 = SUM($K181:T181), SUM($K217:S217) = 0), $I181, 0)","v":0},{"$f":"IF(AND($I181 = SUM($K181:U181), SUM($K217:T217) = 0), $I181, 0)","v":0},{"$f":"IF(AND($I181 = SUM($K181:V181), SUM($K217:U217) = 0), $I181, 0)","v":0},{"$f":"IF(AND($I181 = SUM($K181:W181), SUM($K217:V217) = 0), $I181, 0)","v":0},{"$f":"IF(AND($I181 = SUM($K181:X181), SUM($K217:W217) = 0), $I181, 0)","v":0},{"$f":"IF(AND($I181 = SUM($K181:Y181), SUM($K217:X217) = 0), $I181, 0)","v":0},{"$f":"IF(AND($I181 = SUM($K181:Z181), SUM($K217:Y217) = 0), $I181, 0)","v":0},{"$f":"IF(AND($I181 = SUM($K181:AA181), SUM($K217:Z217) = 0), $I181, 0)","v":0},{"$f":"IF(AND($I181 = SUM($K181:AB181), SUM($K217:AA217) = 0), $I181, 0)","v":0},{"$f":"IF(AND($I181 = SUM($K181:AC181), SUM($K217:AB217) = 0), $I181, 0)","v":0},{"$f":"IF(AND($I181 = SUM($K181:AD181), SUM($K217:AC217) = 0), $I181, 0)","v":0},{"$f":"IF(AND($I181 = SUM($K181:AE181), SUM($K217:AD217) = 0), $I181, 0)","v":0},{"$f":"IF(AND($I181 = SUM($K181:AF181), SUM($K217:AE217) = 0), $I181, 0)","v":0},{"$f":"IF(AND($I181 = SUM($K181:AG181), SUM($K217:AF217) = 0), $I181, 0)","v":0},{"$f":"IF(AND($I181 = SUM($K181:AH181), SUM($K217:AG217) = 0), $I181, 0)","v":0},{"$f":"IF(AND($I181 = SUM($K181:AI181), SUM($K217:AH217) = 0), $I181, 0)","v":0},{"$f":"IF(AND($I181 = SUM($K181:AJ181), SUM($K217:AI217) = 0), $I181, 0)","v":0},{"$f":"IF(AND($I181 = SUM($K181:AK181), SUM($K217:AJ217) = 0), $I181, 0)","v":0},{"$f":"IF(AND($I181 = SUM($K181:AL181), SUM($K217:AK217) = 0), $I181, 0)","v":0},{"$f":"IF(AND($I181 = SUM($K181:AM181), SUM($K217:AL217) = 0), $I181, 0)","v":0},{"$f":"IF(AND($I181 = SUM($K181:AN181), SUM($K217:AM217) = 0), $I181, 0)","v":0},{"$f":"IF(AND($I181 = SUM($K181:AO181), SUM($K217:AN217) = 0), $I181, 0)","v":0}]
[null,null,null,null,"2005-03-31",null,"£m 09/10 prices",null,null,">",null,{"$f":"IF(AND($I182 = SUM($K182:L182), SUM($K218:K218) = 0), $I182, 0)","v":0},{"$f":"IF(AND($I182 = SUM($K182:M182), SUM($K218:L218) = 0), $I182, 0)","v":0},{"$f":"IF(AND($I182 = SUM($K182:N182), SUM($K218:M218) = 0), $I182, 0)","v":0},{"$f":"IF(AND($I182 = SUM($K182:O182), SUM($K218:N218) = 0), $I182, 0)","v":0},{"$f":"IF(AND($I182 = SUM($K182:P182), SUM($K218:O218) = 0), $I182, 0)","v":0},{"$f":"IF(AND($I182 = SUM($K182:Q182), SUM($K218:P218) = 0), $I182, 0)","v":0},{"$f":"IF(AND($I182 = SUM($K182:R182), SUM($K218:Q218) = 0), $I182, 0)","v":0},{"$f":"IF(AND($I182 = SUM($K182:S182), SUM($K218:R218) = 0), $I182, 0)","v":0},{"$f":"IF(AND($I182 = SUM($K182:T182), SUM($K218:S218) = 0), $I182, 0)","v":0},{"$f":"IF(AND($I182 = SUM($K182:U182), SUM($K218:T218) = 0), $I182, 0)","v":0},{"$f":"IF(AND($I182 = SUM($K182:V182), SUM($K218:U218) = 0), $I182, 0)","v":0},{"$f":"IF(AND($I182 = SUM($K182:W182), SUM($K218:V218) = 0), $I182, 0)","v":0},{"$f":"IF(AND($I182 = SUM($K182:X182), SUM($K218:W218) = 0), $I182, 0)","v":0},{"$f":"IF(AND($I182 = SUM($K182:Y182), SUM($K218:X218) = 0), $I182, 0)","v":0},{"$f":"IF(AND($I182 = SUM($K182:Z182), SUM($K218:Y218) = 0), $I182, 0)","v":0},{"$f":"IF(AND($I182 = SUM($K182:AA182), SUM($K218:Z218) = 0), $I182, 0)","v":0},{"$f":"IF(AND($I182 = SUM($K182:AB182), SUM($K218:AA218) = 0), $I182, 0)","v":0},{"$f":"IF(AND($I182 = SUM($K182:AC182), SUM($K218:AB218) = 0), $I182, 0)","v":0},{"$f":"IF(AND($I182 = SUM($K182:AD182), SUM($K218:AC218) = 0), $I182, 0)","v":0},{"$f":"IF(AND($I182 = SUM($K182:AE182), SUM($K218:AD218) = 0), $I182, 0)","v":0},{"$f":"IF(AND($I182 = SUM($K182:AF182), SUM($K218:AE218) = 0), $I182, 0)","v":0},{"$f":"IF(AND($I182 = SUM($K182:AG182), SUM($K218:AF218) = 0), $I182, 0)","v":0},{"$f":"IF(AND($I182 = SUM($K182:AH182), SUM($K218:AG218) = 0), $I182, 0)","v":0},{"$f":"IF(AND($I182 = SUM($K182:AI182), SUM($K218:AH218) = 0), $I182, 0)","v":0},{"$f":"IF(AND($I182 = SUM($K182:AJ182), SUM($K218:AI218) = 0), $I182, 0)","v":0},{"$f":"IF(AND($I182 = SUM($K182:AK182), SUM($K218:AJ218) = 0), $I182, 0)","v":0},{"$f":"IF(AND($I182 = SUM($K182:AL182), SUM($K218:AK218) = 0), $I182, 0)","v":0},{"$f":"IF(AND($I182 = SUM($K182:AM182), SUM($K218:AL218) = 0), $I182, 0)","v":0},{"$f":"IF(AND($I182 = SUM($K182:AN182), SUM($K218:AM218) = 0), $I182, 0)","v":0},{"$f":"IF(AND($I182 = SUM($K182:AO182), SUM($K218:AN218) = 0), $I182, 0)","v":0}]
[null,null,null,null,"2006-03-31",null,"£m 09/10 prices",null,null,">",null,{"$f":"IF(AND($I183 = SUM($K183:L183), SUM($K219:K219) = 0), $I183, 0)","v":0},{"$f":"IF(AND($I183 = SUM($K183:M183), SUM($K219:L219) = 0), $I183, 0)","v":0},{"$f":"IF(AND($I183 = SUM($K183:N183), SUM($K219:M219) = 0), $I183, 0)","v":0},{"$f":"IF(AND($I183 = SUM($K183:O183), SUM($K219:N219) = 0), $I183, 0)","v":0},{"$f":"IF(AND($I183 = SUM($K183:P183), SUM($K219:O219) = 0), $I183, 0)","v":0},{"$f":"IF(AND($I183 = SUM($K183:Q183), SUM($K219:P219) = 0), $I183, 0)","v":0},{"$f":"IF(AND($I183 = SUM($K183:R183), SUM($K219:Q219) = 0), $I183, 0)","v":0},{"$f":"IF(AND($I183 = SUM($K183:S183), SUM($K219:R219) = 0), $I183, 0)","v":0},{"$f":"IF(AND($I183 = SUM($K183:T183), SUM($K219:S219) = 0), $I183, 0)","v":0},{"$f":"IF(AND($I183 = SUM($K183:U183), SUM($K219:T219) = 0), $I183, 0)","v":0},{"$f":"IF(AND($I183 = SUM($K183:V183), SUM($K219:U219) = 0), $I183, 0)","v":0},{"$f":"IF(AND($I183 = SUM($K183:W183), SUM($K219:V219) = 0), $I183, 0)","v":0},{"$f":"IF(AND($I183 = SUM($K183:X183), SUM($K219:W219) = 0), $I183, 0)","v":0},{"$f":"IF(AND($I183 = SUM($K183:Y183), SUM($K219:X219) = 0), $I183, 0)","v":0},{"$f":"IF(AND($I183 = SUM($K183:Z183), SUM($K219:Y219) = 0), $I183, 0)","v":0},{"$f":"IF(AND($I183 = SUM($K183:AA183), SUM($K219:Z219) = 0), $I183, 0)","v":0},{"$f":"IF(AND($I183 = SUM($K183:AB183), SUM($K219:AA219) = 0), $I183, 0)","v":0},{"$f":"IF(AND($I183 = SUM($K183:AC183), SUM($K219:AB219) = 0), $I183, 0)","v":0},{"$f":"IF(AND($I183 = SUM($K183:AD183), SUM($K219:AC219) = 0), $I183, 0)","v":0},{"$f":"IF(AND($I183 = SUM($K183:AE183), SUM($K219:AD219) = 0), $I183, 0)","v":0},{"$f":"IF(AND($I183 = SUM($K183:AF183), SUM($K219:AE219) = 0), $I183, 0)","v":0},{"$f":"IF(AND($I183 = SUM($K183:AG183), SUM($K219:AF219) = 0), $I183, 0)","v":0},{"$f":"IF(AND($I183 = SUM($K183:AH183), SUM($K219:AG219) = 0), $I183, 0)","v":0},{"$f":"IF(AND($I183 = SUM($K183:AI183), SUM($K219:AH219) = 0), $I183, 0)","v":0},{"$f":"IF(AND($I183 = SUM($K183:AJ183), SUM($K219:AI219) = 0), $I183, 0)","v":0},{"$f":"IF(AND($I183 = SUM($K183:AK183), SUM($K219:AJ219) = 0), $I183, 0)","v":0},{"$f":"IF(AND($I183 = SUM($K183:AL183), SUM($K219:AK219) = 0), $I183, 0)","v":0},{"$f":"IF(AND($I183 = SUM($K183:AM183), SUM($K219:AL219) = 0), $I183, 0)","v":0},{"$f":"IF(AND($I183 = SUM($K183:AN183), SUM($K219:AM219) = 0), $I183, 0)","v":0},{"$f":"IF(AND($I183 = SUM($K183:AO183), SUM($K219:AN219) = 0), $I183, 0)","v":0}]
[null,null,null,null,"2007-03-31",null,"£m 09/10 prices",null,null,">",null,{"$f":"IF(AND($I184 = SUM($K184:L184), SUM($K220:K220) = 0), $I184, 0)","v":0},{"$f":"IF(AND($I184 = SUM($K184:M184), SUM($K220:L220) = 0), $I184, 0)","v":0},{"$f":"IF(AND($I184 = SUM($K184:N184), SUM($K220:M220) = 0), $I184, 0)","v":0},{"$f":"IF(AND($I184 = SUM($K184:O184), SUM($K220:N220) = 0), $I184, 0)","v":0},{"$f":"IF(AND($I184 = SUM($K184:P184), SUM($K220:O220) = 0), $I184, 0)","v":0},{"$f":"IF(AND($I184 = SUM($K184:Q184), SUM($K220:P220) = 0), $I184, 0)","v":0},{"$f":"IF(AND($I184 = SUM($K184:R184), SUM($K220:Q220) = 0), $I184, 0)","v":0},{"$f":"IF(AND($I184 = SUM($K184:S184), SUM($K220:R220) = 0), $I184, 0)","v":0},{"$f":"IF(AND($I184 = SUM($K184:T184), SUM($K220:S220) = 0), $I184, 0)","v":0},{"$f":"IF(AND($I184 = SUM($K184:U184), SUM($K220:T220) = 0), $I184, 0)","v":0},{"$f":"IF(AND($I184 = SUM($K184:V184), SUM($K220:U220) = 0), $I184, 0)","v":0},{"$f":"IF(AND($I184 = SUM($K184:W184), SUM($K220:V220) = 0), $I184, 0)","v":0},{"$f":"IF(AND($I184 = SUM($K184:X184), SUM($K220:W220) = 0), $I184, 0)","v":0},{"$f":"IF(AND($I184 = SUM($K184:Y184), SUM($K220:X220) = 0), $I184, 0)","v":0},{"$f":"IF(AND($I184 = SUM($K184:Z184), SUM($K220:Y220) = 0), $I184, 0)","v":0},{"$f":"IF(AND($I184 = SUM($K184:AA184), SUM($K220:Z220) = 0), $I184, 0)","v":0},{"$f":"IF(AND($I184 = SUM($K184:AB184), SUM($K220:AA220) = 0), $I184, 0)","v":0},{"$f":"IF(AND($I184 = SUM($K184:AC184), SUM($K220:AB220) = 0), $I184, 0)","v":0},{"$f":"IF(AND($I184 = SUM($K184:AD184), SUM($K220:AC220) = 0), $I184, 0)","v":0},{"$f":"IF(AND($I184 = SUM($K184:AE184), SUM($K220:AD220) = 0), $I184, 0)","v":0},{"$f":"IF(AND($I184 = SUM($K184:AF184), SUM($K220:AE220) = 0), $I184, 0)","v":0},{"$f":"IF(AND($I184 = SUM($K184:AG184), SUM($K220:AF220) = 0), $I184, 0)","v":0},{"$f":"IF(AND($I184 = SUM($K184:AH184), SUM($K220:AG220) = 0), $I184, 0)","v":0},{"$f":"IF(AND($I184 = SUM($K184:AI184), SUM($K220:AH220) = 0), $I184, 0)","v":0},{"$f":"IF(AND($I184 = SUM($K184:AJ184), SUM($K220:AI220) = 0), $I184, 0)","v":0},{"$f":"IF(AND($I184 = SUM($K184:AK184), SUM($K220:AJ220) = 0), $I184, 0)","v":0},{"$f":"IF(AND($I184 = SUM($K184:AL184), SUM($K220:AK220) = 0), $I184, 0)","v":0},{"$f":"IF(AND($I184 = SUM($K184:AM184), SUM($K220:AL220) = 0), $I184, 0)","v":0},{"$f":"IF(AND($I184 = SUM($K184:AN184), SUM($K220:AM220) = 0), $I184, 0)","v":0},{"$f":"IF(AND($I184 = SUM($K184:AO184), SUM($K220:AN220) = 0), $I184, 0)","v":0}]
[null,null,null,null,"2008-03-31",null,"£m 09/10 prices",null,null,">",null,{"$f":"IF(AND($I185 = SUM($K185:L185), SUM($K221:K221) = 0), $I185, 0)","v":0},{"$f":"IF(AND($I185 = SUM($K185:M185), SUM($K221:L221) = 0), $I185, 0)","v":0},{"$f":"IF(AND($I185 = SUM($K185:N185), SUM($K221:M221) = 0), $I185, 0)","v":0},{"$f":"IF(AND($I185 = SUM($K185:O185), SUM($K221:N221) = 0), $I185, 0)","v":0},{"$f":"IF(AND($I185 = SUM($K185:P185), SUM($K221:O221) = 0), $I185, 0)","v":0},{"$f":"IF(AND($I185 = SUM($K185:Q185), SUM($K221:P221) = 0), $I185, 0)","v":0},{"$f":"IF(AND($I185 = SUM($K185:R185), SUM($K221:Q221) = 0), $I185, 0)","v":0},{"$f":"IF(AND($I185 = SUM($K185:S185), SUM($K221:R221) = 0), $I185, 0)","v":0},{"$f":"IF(AND($I185 = SUM($K185:T185), SUM($K221:S221) = 0), $I185, 0)","v":0},{"$f":"IF(AND($I185 = SUM($K185:U185), SUM($K221:T221) = 0), $I185, 0)","v":0},{"$f":"IF(AND($I185 = SUM($K185:V185), SUM($K221:U221) = 0), $I185, 0)","v":0},{"$f":"IF(AND($I185 = SUM($K185:W185), SUM($K221:V221) = 0), $I185, 0)","v":0},{"$f":"IF(AND($I185 = SUM($K185:X185), SUM($K221:W221) = 0), $I185, 0)","v":0},{"$f":"IF(AND($I185 = SUM($K185:Y185), SUM($K221:X221) = 0), $I185, 0)","v":0},{"$f":"IF(AND($I185 = SUM($K185:Z185), SUM($K221:Y221) = 0), $I185, 0)","v":0},{"$f":"IF(AND($I185 = SUM($K185:AA185), SUM($K221:Z221) = 0), $I185, 0)","v":0},{"$f":"IF(AND($I185 = SUM($K185:AB185), SUM($K221:AA221) = 0), $I185, 0)","v":0},{"$f":"IF(AND($I185 = SUM($K185:AC185), SUM($K221:AB221) = 0), $I185, 0)","v":0},{"$f":"IF(AND($I185 = SUM($K185:AD185), SUM($K221:AC221) = 0), $I185, 0)","v":0},{"$f":"IF(AND($I185 = SUM($K185:AE185), SUM($K221:AD221) = 0), $I185, 0)","v":0},{"$f":"IF(AND($I185 = SUM($K185:AF185), SUM($K221:AE221) = 0), $I185, 0)","v":0},{"$f":"IF(AND($I185 = SUM($K185:AG185), SUM($K221:AF221) = 0), $I185, 0)","v":0},{"$f":"IF(AND($I185 = SUM($K185:AH185), SUM($K221:AG221) = 0), $I185, 0)","v":0},{"$f":"IF(AND($I185 = SUM($K185:AI185), SUM($K221:AH221) = 0), $I185, 0)","v":0},{"$f":"IF(AND($I185 = SUM($K185:AJ185), SUM($K221:AI221) = 0), $I185, 0)","v":0},{"$f":"IF(AND($I185 = SUM($K185:AK185), SUM($K221:AJ221) = 0), $I185, 0)","v":0},{"$f":"IF(AND($I185 = SUM($K185:AL185), SUM($K221:AK221) = 0), $I185, 0)","v":0},{"$f":"IF(AND($I185 = SUM($K185:AM185), SUM($K221:AL221) = 0), $I185, 0)","v":0},{"$f":"IF(AND($I185 = SUM($K185:AN185), SUM($K221:AM221) = 0), $I185, 0)","v":0},{"$f":"IF(AND($I185 = SUM($K185:AO185), SUM($K221:AN221) = 0), $I185, 0)","v":0}]
[null,null,null,null,"2009-03-31",null,"£m 09/10 prices",null,null,">",null,{"$f":"IF(AND($I186 = SUM($K186:L186), SUM($K222:K222) = 0), $I186, 0)","v":0},{"$f":"IF(AND($I186 = SUM($K186:M186), SUM($K222:L222) = 0), $I186, 0)","v":0},{"$f":"IF(AND($I186 = SUM($K186:N186), SUM($K222:M222) = 0), $I186, 0)","v":0},{"$f":"IF(AND($I186 = SUM($K186:O186), SUM($K222:N222) = 0), $I186, 0)","v":0},{"$f":"IF(AND($I186 = SUM($K186:P186), SUM($K222:O222) = 0), $I186, 0)","v":0},{"$f":"IF(AND($I186 = SUM($K186:Q186), SUM($K222:P222) = 0), $I186, 0)","v":0},{"$f":"IF(AND($I186 = SUM($K186:R186), SUM($K222:Q222) = 0), $I186, 0)","v":0},{"$f":"IF(AND($I186 = SUM($K186:S186), SUM($K222:R222) = 0), $I186, 0)","v":0},{"$f":"IF(AND($I186 = SUM($K186:T186), SUM($K222:S222) = 0), $I186, 0)","v":0},{"$f":"IF(AND($I186 = SUM($K186:U186), SUM($K222:T222) = 0), $I186, 0)","v":0},{"$f":"IF(AND($I186 = SUM($K186:V186), SUM($K222:U222) = 0), $I186, 0)","v":0},{"$f":"IF(AND($I186 = SUM($K186:W186), SUM($K222:V222) = 0), $I186, 0)","v":0},{"$f":"IF(AND($I186 = SUM($K186:X186), SUM($K222:W222) = 0), $I186, 0)","v":0},{"$f":"IF(AND($I186 = SUM($K186:Y186), SUM($K222:X222) = 0), $I186, 0)","v":0},{"$f":"IF(AND($I186 = SUM($K186:Z186), SUM($K222:Y222) = 0), $I186, 0)","v":0},{"$f":"IF(AND($I186 = SUM($K186:AA186), SUM($K222:Z222) = 0), $I186, 0)","v":0},{"$f":"IF(AND($I186 = SUM($K186:AB186), SUM($K222:AA222) = 0), $I186, 0)","v":0},{"$f":"IF(AND($I186 = SUM($K186:AC186), SUM($K222:AB222) = 0), $I186, 0)","v":0},{"$f":"IF(AND($I186 = SUM($K186:AD186), SUM($K222:AC222) = 0), $I186, 0)","v":0},{"$f":"IF(AND($I186 = SUM($K186:AE186), SUM($K222:AD222) = 0), $I186, 0)","v":0},{"$f":"IF(AND($I186 = SUM($K186:AF186), SUM($K222:AE222) = 0), $I186, 0)","v":0},{"$f":"IF(AND($I186 = SUM($K186:AG186), SUM($K222:AF222) = 0), $I186, 0)","v":0},{"$f":"IF(AND($I186 = SUM($K186:AH186), SUM($K222:AG222) = 0), $I186, 0)","v":0},{"$f":"IF(AND($I186 = SUM($K186:AI186), SUM($K222:AH222) = 0), $I186, 0)","v":0},{"$f":"IF(AND($I186 = SUM($K186:AJ186), SUM($K222:AI222) = 0), $I186, 0)","v":0},{"$f":"IF(AND($I186 = SUM($K186:AK186), SUM($K222:AJ222) = 0), $I186, 0)","v":0},{"$f":"IF(AND($I186 = SUM($K186:AL186), SUM($K222:AK222) = 0), $I186, 0)","v":0},{"$f":"IF(AND($I186 = SUM($K186:AM186), SUM($K222:AL222) = 0), $I186, 0)","v":0},{"$f":"IF(AND($I186 = SUM($K186:AN186), SUM($K222:AM222) = 0), $I186, 0)","v":0},{"$f":"IF(AND($I186 = SUM($K186:AO186), SUM($K222:AN222) = 0), $I186, 0)","v":0}]
[null,null,null,null,"2010-03-31",null,"£m 09/10 prices",null,null,">",null,{"$f":"IF(AND($I187 = SUM($K187:L187), SUM($K223:K223) = 0), $I187, 0)","v":0},{"$f":"IF(AND($I187 = SUM($K187:M187), SUM($K223:L223) = 0), $I187, 0)","v":0},{"$f":"IF(AND($I187 = SUM($K187:N187), SUM($K223:M223) = 0), $I187, 0)","v":0},{"$f":"IF(AND($I187 = SUM($K187:O187), SUM($K223:N223) = 0), $I187, 0)","v":0},{"$f":"IF(AND($I187 = SUM($K187:P187), SUM($K223:O223) = 0), $I187, 0)","v":0},{"$f":"IF(AND($I187 = SUM($K187:Q187), SUM($K223:P223) = 0), $I187, 0)","v":0},{"$f":"IF(AND($I187 = SUM($K187:R187), SUM($K223:Q223) = 0), $I187, 0)","v":0},{"$f":"IF(AND($I187 = SUM($K187:S187), SUM($K223:R223) = 0), $I187, 0)","v":0},{"$f":"IF(AND($I187 = SUM($K187:T187), SUM($K223:S223) = 0), $I187, 0)","v":0},{"$f":"IF(AND($I187 = SUM($K187:U187), SUM($K223:T223) = 0), $I187, 0)","v":0},{"$f":"IF(AND($I187 = SUM($K187:V187), SUM($K223:U223) = 0), $I187, 0)","v":0},{"$f":"IF(AND($I187 = SUM($K187:W187), SUM($K223:V223) = 0), $I187, 0)","v":0},{"$f":"IF(AND($I187 = SUM($K187:X187), SUM($K223:W223) = 0), $I187, 0)","v":0},{"$f":"IF(AND($I187 = SUM($K187:Y187), SUM($K223:X223) = 0), $I187, 0)","v":0},{"$f":"IF(AND($I187 = SUM($K187:Z187), SUM($K223:Y223) = 0), $I187, 0)","v":0},{"$f":"IF(AND($I187 = SUM($K187:AA187), SUM($K223:Z223) = 0), $I187, 0)","v":0},{"$f":"IF(AND($I187 = SUM($K187:AB187), SUM($K223:AA223) = 0), $I187, 0)","v":0},{"$f":"IF(AND($I187 = SUM($K187:AC187), SUM($K223:AB223) = 0), $I187, 0)","v":0},{"$f":"IF(AND($I187 = SUM($K187:AD187), SUM($K223:AC223) = 0), $I187, 0)","v":0},{"$f":"IF(AND($I187 = SUM($K187:AE187), SUM($K223:AD223) = 0), $I187, 0)","v":0},{"$f":"IF(AND($I187 = SUM($K187:AF187), SUM($K223:AE223) = 0), $I187, 0)","v":0},{"$f":"IF(AND($I187 = SUM($K187:AG187), SUM($K223:AF223) = 0), $I187, 0)","v":0},{"$f":"IF(AND($I187 = SUM($K187:AH187), SUM($K223:AG223) = 0), $I187, 0)","v":0},{"$f":"IF(AND($I187 = SUM($K187:AI187), SUM($K223:AH223) = 0), $I187, 0)","v":0},{"$f":"IF(AND($I187 = SUM($K187:AJ187), SUM($K223:AI223) = 0), $I187, 0)","v":0},{"$f":"IF(AND($I187 = SUM($K187:AK187), SUM($K223:AJ223) = 0), $I187, 0)","v":0},{"$f":"IF(AND($I187 = SUM($K187:AL187), SUM($K223:AK223) = 0), $I187, 0)","v":0},{"$f":"IF(AND($I187 = SUM($K187:AM187), SUM($K223:AL223) = 0), $I187, 0)","v":0},{"$f":"IF(AND($I187 = SUM($K187:AN187), SUM($K223:AM223) = 0), $I187, 0)","v":0},{"$f":"IF(AND($I187 = SUM($K187:AO187), SUM($K223:AN223) = 0), $I187, 0)","v":0}]
[null,null,null,null,"2011-03-31",null,"£m 09/10 prices",null,null,">",null,{"$f":"IF(AND($I188 = SUM($K188:L188), SUM($K224:K224) = 0), $I188, 0)","v":0},{"$f":"IF(AND($I188 = SUM($K188:M188), SUM($K224:L224) = 0), $I188, 0)","v":0},{"$f":"IF(AND($I188 = SUM($K188:N188), SUM($K224:M224) = 0), $I188, 0)","v":0},{"$f":"IF(AND($I188 = SUM($K188:O188), SUM($K224:N224) = 0), $I188, 0)","v":0},{"$f":"IF(AND($I188 = SUM($K188:P188), SUM($K224:O224) = 0), $I188, 0)","v":0},{"$f":"IF(AND($I188 = SUM($K188:Q188), SUM($K224:P224) = 0), $I188, 0)","v":0},{"$f":"IF(AND($I188 = SUM($K188:R188), SUM($K224:Q224) = 0), $I188, 0)","v":0},{"$f":"IF(AND($I188 = SUM($K188:S188), SUM($K224:R224) = 0), $I188, 0)","v":0},{"$f":"IF(AND($I188 = SUM($K188:T188), SUM($K224:S224) = 0), $I188, 0)","v":0},{"$f":"IF(AND($I188 = SUM($K188:U188), SUM($K224:T224) = 0), $I188, 0)","v":0},{"$f":"IF(AND($I188 = SUM($K188:V188), SUM($K224:U224) = 0), $I188, 0)","v":0},{"$f":"IF(AND($I188 = SUM($K188:W188), SUM($K224:V224) = 0), $I188, 0)","v":0},{"$f":"IF(AND($I188 = SUM($K188:X188), SUM($K224:W224) = 0), $I188, 0)","v":0},{"$f":"IF(AND($I188 = SUM($K188:Y188), SUM($K224:X224) = 0), $I188, 0)","v":0},{"$f":"IF(AND($I188 = SUM($K188:Z188), SUM($K224:Y224) = 0), $I188, 0)","v":0},{"$f":"IF(AND($I188 = SUM($K188:AA188), SUM($K224:Z224) = 0), $I188, 0)","v":0},{"$f":"IF(AND($I188 = SUM($K188:AB188), SUM($K224:AA224) = 0), $I188, 0)","v":0},{"$f":"IF(AND($I188 = SUM($K188:AC188), SUM($K224:AB224) = 0), $I188, 0)","v":0},{"$f":"IF(AND($I188 = SUM($K188:AD188), SUM($K224:AC224) = 0), $I188, 0)","v":0},{"$f":"IF(AND($I188 = SUM($K188:AE188), SUM($K224:AD224) = 0), $I188, 0)","v":0},{"$f":"IF(AND($I188 = SUM($K188:AF188), SUM($K224:AE224) = 0), $I188, 0)","v":0},{"$f":"IF(AND($I188 = SUM($K188:AG188), SUM($K224:AF224) = 0), $I188, 0)","v":0},{"$f":"IF(AND($I188 = SUM($K188:AH188), SUM($K224:AG224) = 0), $I188, 0)","v":0},{"$f":"IF(AND($I188 = SUM($K188:AI188), SUM($K224:AH224) = 0), $I188, 0)","v":0},{"$f":"IF(AND($I188 = SUM($K188:AJ188), SUM($K224:AI224) = 0), $I188, 0)","v":0},{"$f":"IF(AND($I188 = SUM($K188:AK188), SUM($K224:AJ224) = 0), $I188, 0)","v":0},{"$f":"IF(AND($I188 = SUM($K188:AL188), SUM($K224:AK224) = 0), $I188, 0)","v":0},{"$f":"IF(AND($I188 = SUM($K188:AM188), SUM($K224:AL224) = 0), $I188, 0)","v":0},{"$f":"IF(AND($I188 = SUM($K188:AN188), SUM($K224:AM224) = 0), $I188, 0)","v":0},{"$f":"IF(AND($I188 = SUM($K188:AO188), SUM($K224:AN224) = 0), $I188, 0)","v":0}]
[null,null,null,null,"2012-03-31",null,"£m 09/10 prices",null,null,">",null,{"$f":"IF(AND($I189 = SUM($K189:L189), SUM($K225:K225) = 0), $I189, 0)","v":0},{"$f":"IF(AND($I189 = SUM($K189:M189), SUM($K225:L225) = 0), $I189, 0)","v":0},{"$f":"IF(AND($I189 = SUM($K189:N189), SUM($K225:M225) = 0), $I189, 0)","v":0},{"$f":"IF(AND($I189 = SUM($K189:O189), SUM($K225:N225) = 0), $I189, 0)","v":0},{"$f":"IF(AND($I189 = SUM($K189:P189), SUM($K225:O225) = 0), $I189, 0)","v":0},{"$f":"IF(AND($I189 = SUM($K189:Q189), SUM($K225:P225) = 0), $I189, 0)","v":0},{"$f":"IF(AND($I189 = SUM($K189:R189), SUM($K225:Q225) = 0), $I189, 0)","v":0},{"$f":"IF(AND($I189 = SUM($K189:S189), SUM($K225:R225) = 0), $I189, 0)","v":0},{"$f":"IF(AND($I189 = SUM($K189:T189), SUM($K225:S225) = 0), $I189, 0)","v":0},{"$f":"IF(AND($I189 = SUM($K189:U189), SUM($K225:T225) = 0), $I189, 0)","v":0},{"$f":"IF(AND($I189 = SUM($K189:V189), SUM($K225:U225) = 0), $I189, 0)","v":0},{"$f":"IF(AND($I189 = SUM($K189:W189), SUM($K225:V225) = 0), $I189, 0)","v":0},{"$f":"IF(AND($I189 = SUM($K189:X189), SUM($K225:W225) = 0), $I189, 0)","v":0},{"$f":"IF(AND($I189 = SUM($K189:Y189), SUM($K225:X225) = 0), $I189, 0)","v":0},{"$f":"IF(AND($I189 = SUM($K189:Z189), SUM($K225:Y225) = 0), $I189, 0)","v":0},{"$f":"IF(AND($I189 = SUM($K189:AA189), SUM($K225:Z225) = 0), $I189, 0)","v":0},{"$f":"IF(AND($I189 = SUM($K189:AB189), SUM($K225:AA225) = 0), $I189, 0)","v":0},{"$f":"IF(AND($I189 = SUM($K189:AC189), SUM($K225:AB225) = 0), $I189, 0)","v":0},{"$f":"IF(AND($I189 = SUM($K189:AD189), SUM($K225:AC225) = 0), $I189, 0)","v":0},{"$f":"IF(AND($I189 = SUM($K189:AE189), SUM($K225:AD225) = 0), $I189, 0)","v":0},{"$f":"IF(AND($I189 = SUM($K189:AF189), SUM($K225:AE225) = 0), $I189, 0)","v":0},{"$f":"IF(AND($I189 = SUM($K189:AG189), SUM($K225:AF225) = 0), $I189, 0)","v":0},{"$f":"IF(AND($I189 = SUM($K189:AH189), SUM($K225:AG225) = 0), $I189, 0)","v":0},{"$f":"IF(AND($I189 = SUM($K189:AI189), SUM($K225:AH225) = 0), $I189, 0)","v":0},{"$f":"IF(AND($I189 = SUM($K189:AJ189), SUM($K225:AI225) = 0), $I189, 0)","v":0},{"$f":"IF(AND($I189 = SUM($K189:AK189), SUM($K225:AJ225) = 0), $I189, 0)","v":0},{"$f":"IF(AND($I189 = SUM($K189:AL189), SUM($K225:AK225) = 0), $I189, 0)","v":0},{"$f":"IF(AND($I189 = SUM($K189:AM189), SUM($K225:AL225) = 0), $I189, 0)","v":0},{"$f":"IF(AND($I189 = SUM($K189:AN189), SUM($K225:AM225) = 0), $I189, 0)","v":0},{"$f":"IF(AND($I189 = SUM($K189:AO189), SUM($K225:AN225) = 0), $I189, 0)","v":0}]
[null,null,null,null,"2013-03-31",null,"£m 09/10 prices",null,null,">",null,{"$f":"IF(AND($I190 = SUM($K190:L190), SUM($K226:K226) = 0), $I190, 0)","v":0},{"$f":"IF(AND($I190 = SUM($K190:M190), SUM($K226:L226) = 0), $I190, 0)","v":0},{"$f":"IF(AND($I190 = SUM($K190:N190), SUM($K226:M226) = 0), $I190, 0)","v":0},{"$f":"IF(AND($I190 = SUM($K190:O190), SUM($K226:N226) = 0), $I190, 0)","v":0},{"$f":"IF(AND($I190 = SUM($K190:P190), SUM($K226:O226) = 0), $I190, 0)","v":0},{"$f":"IF(AND($I190 = SUM($K190:Q190), SUM($K226:P226) = 0), $I190, 0)","v":0},{"$f":"IF(AND($I190 = SUM($K190:R190), SUM($K226:Q226) = 0), $I190, 0)","v":0},{"$f":"IF(AND($I190 = SUM($K190:S190), SUM($K226:R226) = 0), $I190, 0)","v":0},{"$f":"IF(AND($I190 = SUM($K190:T190), SUM($K226:S226) = 0), $I190, 0)","v":0},{"$f":"IF(AND($I190 = SUM($K190:U190), SUM($K226:T226) = 0), $I190, 0)","v":0},{"$f":"IF(AND($I190 = SUM($K190:V190), SUM($K226:U226) = 0), $I190, 0)","v":0},{"$f":"IF(AND($I190 = SUM($K190:W190), SUM($K226:V226) = 0), $I190, 0)","v":0},{"$f":"IF(AND($I190 = SUM($K190:X190), SUM($K226:W226) = 0), $I190, 0)","v":0},{"$f":"IF(AND($I190 = SUM($K190:Y190), SUM($K226:X226) = 0), $I190, 0)","v":0},{"$f":"IF(AND($I190 = SUM($K190:Z190), SUM($K226:Y226) = 0), $I190, 0)","v":0},{"$f":"IF(AND($I190 = SUM($K190:AA190), SUM($K226:Z226) = 0), $I190, 0)","v":0},{"$f":"IF(AND($I190 = SUM($K190:AB190), SUM($K226:AA226) = 0), $I190, 0)","v":0},{"$f":"IF(AND($I190 = SUM($K190:AC190), SUM($K226:AB226) = 0), $I190, 0)","v":0},{"$f":"IF(AND($I190 = SUM($K190:AD190), SUM($K226:AC226) = 0), $I190, 0)","v":0},{"$f":"IF(AND($I190 = SUM($K190:AE190), SUM($K226:AD226) = 0), $I190, 0)","v":0},{"$f":"IF(AND($I190 = SUM($K190:AF190), SUM($K226:AE226) = 0), $I190, 0)","v":0},{"$f":"IF(AND($I190 = SUM($K190:AG190), SUM($K226:AF226) = 0), $I190, 0)","v":0},{"$f":"IF(AND($I190 = SUM($K190:AH190), SUM($K226:AG226) = 0), $I190, 0)","v":0},{"$f":"IF(AND($I190 = SUM($K190:AI190), SUM($K226:AH226) = 0), $I190, 0)","v":0},{"$f":"IF(AND($I190 = SUM($K190:AJ190), SUM($K226:AI226) = 0), $I190, 0)","v":0},{"$f":"IF(AND($I190 = SUM($K190:AK190), SUM($K226:AJ226) = 0), $I190, 0)","v":0},{"$f":"IF(AND($I190 = SUM($K190:AL190), SUM($K226:AK226) = 0), $I190, 0)","v":0},{"$f":"IF(AND($I190 = SUM($K190:AM190), SUM($K226:AL226) = 0), $I190, 0)","v":0},{"$f":"IF(AND($I190 = SUM($K190:AN190), SUM($K226:AM226) = 0), $I190, 0)","v":0},{"$f":"IF(AND($I190 = SUM($K190:AO190), SUM($K226:AN226) = 0), $I190, 0)","v":0}]
[null,null,null,null,"2014-03-31",null,"£m 09/10 prices",null,null,">",null,{"$f":"IF(AND($I191 = SUM($K191:L191), SUM($K227:K227) = 0), $I191, 0)","v":0},{"$f":"IF(AND($I191 = SUM($K191:M191), SUM($K227:L227) = 0), $I191, 0)","v":0},{"$f":"IF(AND($I191 = SUM($K191:N191), SUM($K227:M227) = 0), $I191, 0)","v":0},{"$f":"IF(AND($I191 = SUM($K191:O191), SUM($K227:N227) = 0), $I191, 0)","v":0},{"$f":"IF(AND($I191 = SUM($K191:P191), SUM($K227:O227) = 0), $I191, 0)","v":0},{"$f":"IF(AND($I191 = SUM($K191:Q191), SUM($K227:P227) = 0), $I191, 0)","v":0},{"$f":"IF(AND($I191 = SUM($K191:R191), SUM($K227:Q227) = 0), $I191, 0)","v":0},{"$f":"IF(AND($I191 = SUM($K191:S191), SUM($K227:R227) = 0), $I191, 0)","v":0},{"$f":"IF(AND($I191 = SUM($K191:T191), SUM($K227:S227) = 0), $I191, 0)","v":0},{"$f":"IF(AND($I191 = SUM($K191:U191), SUM($K227:T227) = 0), $I191, 0)","v":0},{"$f":"IF(AND($I191 = SUM($K191:V191), SUM($K227:U227) = 0), $I191, 0)","v":0},{"$f":"IF(AND($I191 = SUM($K191:W191), SUM($K227:V227) = 0), $I191, 0)","v":0},{"$f":"IF(AND($I191 = SUM($K191:X191), SUM($K227:W227) = 0), $I191, 0)","v":0},{"$f":"IF(AND($I191 = SUM($K191:Y191), SUM($K227:X227) = 0), $I191, 0)","v":0},{"$f":"IF(AND($I191 = SUM($K191:Z191), SUM($K227:Y227) = 0), $I191, 0)","v":0},{"$f":"IF(AND($I191 = SUM($K191:AA191), SUM($K227:Z227) = 0), $I191, 0)","v":0},{"$f":"IF(AND($I191 = SUM($K191:AB191), SUM($K227:AA227) = 0), $I191, 0)","v":0},{"$f":"IF(AND($I191 = SUM($K191:AC191), SUM($K227:AB227) = 0), $I191, 0)","v":0},{"$f":"IF(AND($I191 = SUM($K191:AD191), SUM($K227:AC227) = 0), $I191, 0)","v":0},{"$f":"IF(AND($I191 = SUM($K191:AE191), SUM($K227:AD227) = 0), $I191, 0)","v":0},{"$f":"IF(AND($I191 = SUM($K191:AF191), SUM($K227:AE227) = 0), $I191, 0)","v":0},{"$f":"IF(AND($I191 = SUM($K191:AG191), SUM($K227:AF227) = 0), $I191, 0)","v":0},{"$f":"IF(AND($I191 = SUM($K191:AH191), SUM($K227:AG227) = 0), $I191, 0)","v":0},{"$f":"IF(AND($I191 = SUM($K191:AI191), SUM($K227:AH227) = 0), $I191, 0)","v":0},{"$f":"IF(AND($I191 = SUM($K191:AJ191), SUM($K227:AI227) = 0), $I191, 0)","v":0},{"$f":"IF(AND($I191 = SUM($K191:AK191), SUM($K227:AJ227) = 0), $I191, 0)","v":0},{"$f":"IF(AND($I191 = SUM($K191:AL191), SUM($K227:AK227) = 0), $I191, 0)","v":0},{"$f":"IF(AND($I191 = SUM($K191:AM191), SUM($K227:AL227) = 0), $I191, 0)","v":0},{"$f":"IF(AND($I191 = SUM($K191:AN191), SUM($K227:AM227) = 0), $I191, 0)","v":0},{"$f":"IF(AND($I191 = SUM($K191:AO191), SUM($K227:AN227) = 0), $I191, 0)","v":0}]
[null,null,null,null,"2015-03-31",null,"£m 09/10 prices",null,null,">",null,{"$f":"IF(AND($I192 = SUM($K192:L192), SUM($K228:K228) = 0), $I192, 0)","v":0},{"$f":"IF(AND($I192 = SUM($K192:M192), SUM($K228:L228) = 0), $I192, 0)","v":0},{"$f":"IF(AND($I192 = SUM($K192:N192), SUM($K228:M228) = 0), $I192, 0)","v":0},{"$f":"IF(AND($I192 = SUM($K192:O192), SUM($K228:N228) = 0), $I192, 0)","v":0},{"$f":"IF(AND($I192 = SUM($K192:P192), SUM($K228:O228) = 0), $I192, 0)","v":0},{"$f":"IF(AND($I192 = SUM($K192:Q192), SUM($K228:P228) = 0), $I192, 0)","v":0},{"$f":"IF(AND($I192 = SUM($K192:R192), SUM($K228:Q228) = 0), $I192, 0)","v":0},{"$f":"IF(AND($I192 = SUM($K192:S192), SUM($K228:R228) = 0), $I192, 0)","v":0},{"$f":"IF(AND($I192 = SUM($K192:T192), SUM($K228:S228) = 0), $I192, 0)","v":0},{"$f":"IF(AND($I192 = SUM($K192:U192), SUM($K228:T228) = 0), $I192, 0)","v":0},{"$f":"IF(AND($I192 = SUM($K192:V192), SUM($K228:U228) = 0), $I192, 0)","v":0},{"$f":"IF(AND($I192 = SUM($K192:W192), SUM($K228:V228) = 0), $I192, 0)","v":0},{"$f":"IF(AND($I192 = SUM($K192:X192), SUM($K228:W228) = 0), $I192, 0)","v":0},{"$f":"IF(AND($I192 = SUM($K192:Y192), SUM($K228:X228) = 0), $I192, 0)","v":0},{"$f":"IF(AND($I192 = SUM($K192:Z192), SUM($K228:Y228) = 0), $I192, 0)","v":0},{"$f":"IF(AND($I192 = SUM($K192:AA192), SUM($K228:Z228) = 0), $I192, 0)","v":0},{"$f":"IF(AND($I192 = SUM($K192:AB192), SUM($K228:AA228) = 0), $I192, 0)","v":0},{"$f":"IF(AND($I192 = SUM($K192:AC192), SUM($K228:AB228) = 0), $I192, 0)","v":0},{"$f":"IF(AND($I192 = SUM($K192:AD192), SUM($K228:AC228) = 0), $I192, 0)","v":0},{"$f":"IF(AND($I192 = SUM($K192:AE192), SUM($K228:AD228) = 0), $I192, 0)","v":0},{"$f":"IF(AND($I192 = SUM($K192:AF192), SUM($K228:AE228) = 0), $I192, 0)","v":0},{"$f":"IF(AND($I192 = SUM($K192:AG192), SUM($K228:AF228) = 0), $I192, 0)","v":0},{"$f":"IF(AND($I192 = SUM($K192:AH192), SUM($K228:AG228) = 0), $I192, 0)","v":0},{"$f":"IF(AND($I192 = SUM($K192:AI192), SUM($K228:AH228) = 0), $I192, 0)","v":0},{"$f":"IF(AND($I192 = SUM($K192:AJ192), SUM($K228:AI228) = 0), $I192, 0)","v":0},{"$f":"IF(AND($I192 = SUM($K192:AK192), SUM($K228:AJ228) = 0), $I192, 0)","v":0},{"$f":"IF(AND($I192 = SUM($K192:AL192), SUM($K228:AK228) = 0), $I192, 0)","v":0},{"$f":"IF(AND($I192 = SUM($K192:AM192), SUM($K228:AL228) = 0), $I192, 0)","v":0},{"$f":"IF(AND($I192 = SUM($K192:AN192), SUM($K228:AM228) = 0), $I192, 0)","v":0},{"$f":"IF(AND($I192 = SUM($K192:AO192), SUM($K228:AN228) = 0), $I192, 0)","v":0}]
[null,null,null,null,"2016-03-31",null,"£m 09/10 prices",null,null,">",null,{"$f":"IF(AND($I193 = SUM($K193:L193), SUM($K229:K229) = 0), $I193, 0)","v":0},{"$f":"IF(AND($I193 = SUM($K193:M193), SUM($K229:L229) = 0), $I193, 0)","v":0},{"$f":"IF(AND($I193 = SUM($K193:N193), SUM($K229:M229) = 0), $I193, 0)","v":0},{"$f":"IF(AND($I193 = SUM($K193:O193), SUM($K229:N229) = 0), $I193, 0)","v":0},{"$f":"IF(AND($I193 = SUM($K193:P193), SUM($K229:O229) = 0), $I193, 0)","v":0},{"$f":"IF(AND($I193 = SUM($K193:Q193), SUM($K229:P229) = 0), $I193, 0)","v":0},{"$f":"IF(AND($I193 = SUM($K193:R193), SUM($K229:Q229) = 0), $I193, 0)","v":0},{"$f":"IF(AND($I193 = SUM($K193:S193), SUM($K229:R229) = 0), $I193, 0)","v":0},{"$f":"IF(AND($I193 = SUM($K193:T193), SUM($K229:S229) = 0), $I193, 0)","v":0},{"$f":"IF(AND($I193 = SUM($K193:U193), SUM($K229:T229) = 0), $I193, 0)","v":0},{"$f":"IF(AND($I193 = SUM($K193:V193), SUM($K229:U229) = 0), $I193, 0)","v":0},{"$f":"IF(AND($I193 = SUM($K193:W193), SUM($K229:V229) = 0), $I193, 0)","v":0},{"$f":"IF(AND($I193 = SUM($K193:X193), SUM($K229:W229) = 0), $I193, 0)","v":0},{"$f":"IF(AND($I193 = SUM($K193:Y193), SUM($K229:X229) = 0), $I193, 0)","v":0},{"$f":"IF(AND($I193 = SUM($K193:Z193), SUM($K229:Y229) = 0), $I193, 0)","v":0},{"$f":"IF(AND($I193 = SUM($K193:AA193), SUM($K229:Z229) = 0), $I193, 0)","v":0},{"$f":"IF(AND($I193 = SUM($K193:AB193), SUM($K229:AA229) = 0), $I193, 0)","v":0},{"$f":"IF(AND($I193 = SUM($K193:AC193), SUM($K229:AB229) = 0), $I193, 0)","v":0},{"$f":"IF(AND($I193 = SUM($K193:AD193), SUM($K229:AC229) = 0), $I193, 0)","v":0},{"$f":"IF(AND($I193 = SUM($K193:AE193), SUM($K229:AD229) = 0), $I193, 0)","v":0},{"$f":"IF(AND($I193 = SUM($K193:AF193), SUM($K229:AE229) = 0), $I193, 0)","v":0},{"$f":"IF(AND($I193 = SUM($K193:AG193), SUM($K229:AF229) = 0), $I193, 0)","v":0},{"$f":"IF(AND($I193 = SUM($K193:AH193), SUM($K229:AG229) = 0), $I193, 0)","v":0},{"$f":"IF(AND($I193 = SUM($K193:AI193), SUM($K229:AH229) = 0), $I193, 0)","v":0},{"$f":"IF(AND($I193 = SUM($K193:AJ193), SUM($K229:AI229) = 0), $I193, 0)","v":0},{"$f":"IF(AND($I193 = SUM($K193:AK193), SUM($K229:AJ229) = 0), $I193, 0)","v":0},{"$f":"IF(AND($I193 = SUM($K193:AL193), SUM($K229:AK229) = 0), $I193, 0)","v":0},{"$f":"IF(AND($I193 = SUM($K193:AM193), SUM($K229:AL229) = 0), $I193, 0)","v":0},{"$f":"IF(AND($I193 = SUM($K193:AN193), SUM($K229:AM229) = 0), $I193, 0)","v":0},{"$f":"IF(AND($I193 = SUM($K193:AO193), SUM($K229:AN229) = 0), $I193, 0)","v":0}]
[null,null,null,null,"2017-03-31",null,"£m 09/10 prices",null,null,">",null,{"$f":"IF(AND($I194 = SUM($K194:L194), SUM($K230:K230) = 0), $I194, 0)","v":0},{"$f":"IF(AND($I194 = SUM($K194:M194), SUM($K230:L230) = 0), $I194, 0)","v":0},{"$f":"IF(AND($I194 = SUM($K194:N194), SUM($K230:M230) = 0), $I194, 0)","v":0},{"$f":"IF(AND($I194 = SUM($K194:O194), SUM($K230:N230) = 0), $I194, 0)","v":0},{"$f":"IF(AND($I194 = SUM($K194:P194), SUM($K230:O230) = 0), $I194, 0)","v":0},{"$f":"IF(AND($I194 = SUM($K194:Q194), SUM($K230:P230) = 0), $I194, 0)","v":0},{"$f":"IF(AND($I194 = SUM($K194:R194), SUM($K230:Q230) = 0), $I194, 0)","v":0},{"$f":"IF(AND($I194 = SUM($K194:S194), SUM($K230:R230) = 0), $I194, 0)","v":0},{"$f":"IF(AND($I194 = SUM($K194:T194), SUM($K230:S230) = 0), $I194, 0)","v":0},{"$f":"IF(AND($I194 = SUM($K194:U194), SUM($K230:T230) = 0), $I194, 0)","v":0},{"$f":"IF(AND($I194 = SUM($K194:V194), SUM($K230:U230) = 0), $I194, 0)","v":0},{"$f":"IF(AND($I194 = SUM($K194:W194), SUM($K230:V230) = 0), $I194, 0)","v":0},{"$f":"IF(AND($I194 = SUM($K194:X194), SUM($K230:W230) = 0), $I194, 0)","v":0},{"$f":"IF(AND($I194 = SUM($K194:Y194), SUM($K230:X230) = 0), $I194, 0)","v":0},{"$f":"IF(AND($I194 = SUM($K194:Z194), SUM($K230:Y230) = 0), $I194, 0)","v":0},{"$f":"IF(AND($I194 = SUM($K194:AA194), SUM($K230:Z230) = 0), $I194, 0)","v":0},{"$f":"IF(AND($I194 = SUM($K194:AB194), SUM($K230:AA230) = 0), $I194, 0)","v":0},{"$f":"IF(AND($I194 = SUM($K194:AC194), SUM($K230:AB230) = 0), $I194, 0)","v":0},{"$f":"IF(AND($I194 = SUM($K194:AD194), SUM($K230:AC230) = 0), $I194, 0)","v":0},{"$f":"IF(AND($I194 = SUM($K194:AE194), SUM($K230:AD230) = 0), $I194, 0)","v":0},{"$f":"IF(AND($I194 = SUM($K194:AF194), SUM($K230:AE230) = 0), $I194, 0)","v":0},{"$f":"IF(AND($I194 = SUM($K194:AG194), SUM($K230:AF230) = 0), $I194, 0)","v":0},{"$f":"IF(AND($I194 = SUM($K194:AH194), SUM($K230:AG230) = 0), $I194, 0)","v":0},{"$f":"IF(AND($I194 = SUM($K194:AI194), SUM($K230:AH230) = 0), $I194, 0)","v":0},{"$f":"IF(AND($I194 = SUM($K194:AJ194), SUM($K230:AI230) = 0), $I194, 0)","v":0},{"$f":"IF(AND($I194 = SUM($K194:AK194), SUM($K230:AJ230) = 0), $I194, 0)","v":0},{"$f":"IF(AND($I194 = SUM($K194:AL194), SUM($K230:AK230) = 0), $I194, 0)","v":0},{"$f":"IF(AND($I194 = SUM($K194:AM194), SUM($K230:AL230) = 0), $I194, 0)","v":0},{"$f":"IF(AND($I194 = SUM($K194:AN194), SUM($K230:AM230) = 0), $I194, 0)","v":0},{"$f":"IF(AND($I194 = SUM($K194:AO194), SUM($K230:AN230) = 0), $I194, 0)","v":0}]
[null,null,null,null,"2018-03-31",null,"£m 09/10 prices",null,null,">",null,{"$f":"IF(AND($I195 = SUM($K195:L195), SUM($K231:K231) = 0), $I195, 0)","v":0},{"$f":"IF(AND($I195 = SUM($K195:M195), SUM($K231:L231) = 0), $I195, 0)","v":0},{"$f":"IF(AND($I195 = SUM($K195:N195), SUM($K231:M231) = 0), $I195, 0)","v":0},{"$f":"IF(AND($I195 = SUM($K195:O195), SUM($K231:N231) = 0), $I195, 0)","v":0},{"$f":"IF(AND($I195 = SUM($K195:P195), SUM($K231:O231) = 0), $I195, 0)","v":0},{"$f":"IF(AND($I195 = SUM($K195:Q195), SUM($K231:P231) = 0), $I195, 0)","v":0},{"$f":"IF(AND($I195 = SUM($K195:R195), SUM($K231:Q231) = 0), $I195, 0)","v":0},{"$f":"IF(AND($I195 = SUM($K195:S195), SUM($K231:R231) = 0), $I195, 0)","v":0},{"$f":"IF(AND($I195 = SUM($K195:T195), SUM($K231:S231) = 0), $I195, 0)","v":0},{"$f":"IF(AND($I195 = SUM($K195:U195), SUM($K231:T231) = 0), $I195, 0)","v":0},{"$f":"IF(AND($I195 = SUM($K195:V195), SUM($K231:U231) = 0), $I195, 0)","v":0},{"$f":"IF(AND($I195 = SUM($K195:W195), SUM($K231:V231) = 0), $I195, 0)","v":0},{"$f":"IF(AND($I195 = SUM($K195:X195), SUM($K231:W231) = 0), $I195, 0)","v":0},{"$f":"IF(AND($I195 = SUM($K195:Y195), SUM($K231:X231) = 0), $I195, 0)","v":0},{"$f":"IF(AND($I195 = SUM($K195:Z195), SUM($K231:Y231) = 0), $I195, 0)","v":0},{"$f":"IF(AND($I195 = SUM($K195:AA195), SUM($K231:Z231) = 0), $I195, 0)","v":0},{"$f":"IF(AND($I195 = SUM($K195:AB195), SUM($K231:AA231) = 0), $I195, 0)","v":0},{"$f":"IF(AND($I195 = SUM($K195:AC195), SUM($K231:AB231) = 0), $I195, 0)","v":0},{"$f":"IF(AND($I195 = SUM($K195:AD195), SUM($K231:AC231) = 0), $I195, 0)","v":0},{"$f":"IF(AND($I195 = SUM($K195:AE195), SUM($K231:AD231) = 0), $I195, 0)","v":0},{"$f":"IF(AND($I195 = SUM($K195:AF195), SUM($K231:AE231) = 0), $I195, 0)","v":0},{"$f":"IF(AND($I195 = SUM($K195:AG195), SUM($K231:AF231) = 0), $I195, 0)","v":0},{"$f":"IF(AND($I195 = SUM($K195:AH195), SUM($K231:AG231) = 0), $I195, 0)","v":0},{"$f":"IF(AND($I195 = SUM($K195:AI195), SUM($K231:AH231) = 0), $I195, 0)","v":0},{"$f":"IF(AND($I195 = SUM($K195:AJ195), SUM($K231:AI231) = 0), $I195, 0)","v":0},{"$f":"IF(AND($I195 = SUM($K195:AK195), SUM($K231:AJ231) = 0), $I195, 0)","v":0},{"$f":"IF(AND($I195 = SUM($K195:AL195), SUM($K231:AK231) = 0), $I195, 0)","v":0},{"$f":"IF(AND($I195 = SUM($K195:AM195), SUM($K231:AL231) = 0), $I195, 0)","v":0},{"$f":"IF(AND($I195 = SUM($K195:AN195), SUM($K231:AM231) = 0), $I195, 0)","v":0},{"$f":"IF(AND($I195 = SUM($K195:AO195), SUM($K231:AN231) = 0), $I195, 0)","v":0}]
[null,null,null,null,"2019-03-31",null,"£m 09/10 prices",null,null,">",null,{"$f":"IF(AND($I196 = SUM($K196:L196), SUM($K232:K232) = 0), $I196, 0)","v":0},{"$f":"IF(AND($I196 = SUM($K196:M196), SUM($K232:L232) = 0), $I196, 0)","v":0},{"$f":"IF(AND($I196 = SUM($K196:N196), SUM($K232:M232) = 0), $I196, 0)","v":0},{"$f":"IF(AND($I196 = SUM($K196:O196), SUM($K232:N232) = 0), $I196, 0)","v":0},{"$f":"IF(AND($I196 = SUM($K196:P196), SUM($K232:O232) = 0), $I196, 0)","v":0},{"$f":"IF(AND($I196 = SUM($K196:Q196), SUM($K232:P232) = 0), $I196, 0)","v":0},{"$f":"IF(AND($I196 = SUM($K196:R196), SUM($K232:Q232) = 0), $I196, 0)","v":0},{"$f":"IF(AND($I196 = SUM($K196:S196), SUM($K232:R232) = 0), $I196, 0)","v":0},{"$f":"IF(AND($I196 = SUM($K196:T196), SUM($K232:S232) = 0), $I196, 0)","v":0},{"$f":"IF(AND($I196 = SUM($K196:U196), SUM($K232:T232) = 0), $I196, 0)","v":0},{"$f":"IF(AND($I196 = SUM($K196:V196), SUM($K232:U232) = 0), $I196, 0)","v":0},{"$f":"IF(AND($I196 = SUM($K196:W196), SUM($K232:V232) = 0), $I196, 0)","v":0},{"$f":"IF(AND($I196 = SUM($K196:X196), SUM($K232:W232) = 0), $I196, 0)","v":0},{"$f":"IF(AND($I196 = SUM($K196:Y196), SUM($K232:X232) = 0), $I196, 0)","v":0},{"$f":"IF(AND($I196 = SUM($K196:Z196), SUM($K232:Y232) = 0), $I196, 0)","v":0},{"$f":"IF(AND($I196 = SUM($K196:AA196), SUM($K232:Z232) = 0), $I196, 0)","v":0},{"$f":"IF(AND($I196 = SUM($K196:AB196), SUM($K232:AA232) = 0), $I196, 0)","v":0},{"$f":"IF(AND($I196 = SUM($K196:AC196), SUM($K232:AB232) = 0), $I196, 0)","v":0},{"$f":"IF(AND($I196 = SUM($K196:AD196), SUM($K232:AC232) = 0), $I196, 0)","v":0},{"$f":"IF(AND($I196 = SUM($K196:AE196), SUM($K232:AD232) = 0), $I196, 0)","v":0},{"$f":"IF(AND($I196 = SUM($K196:AF196), SUM($K232:AE232) = 0), $I196, 0)","v":0},{"$f":"IF(AND($I196 = SUM($K196:AG196), SUM($K232:AF232) = 0), $I196, 0)","v":0},{"$f":"IF(AND($I196 = SUM($K196:AH196), SUM($K232:AG232) = 0), $I196, 0)","v":0},{"$f":"IF(AND($I196 = SUM($K196:AI196), SUM($K232:AH232) = 0), $I196, 0)","v":0},{"$f":"IF(AND($I196 = SUM($K196:AJ196), SUM($K232:AI232) = 0), $I196, 0)","v":0},{"$f":"IF(AND($I196 = SUM($K196:AK196), SUM($K232:AJ232) = 0), $I196, 0)","v":0},{"$f":"IF(AND($I196 = SUM($K196:AL196), SUM($K232:AK232) = 0), $I196, 0)","v":0},{"$f":"IF(AND($I196 = SUM($K196:AM196), SUM($K232:AL232) = 0), $I196, 0)","v":0},{"$f":"IF(AND($I196 = SUM($K196:AN196), SUM($K232:AM232) = 0), $I196, 0)","v":0},{"$f":"IF(AND($I196 = SUM($K196:AO196), SUM($K232:AN232) = 0), $I196, 0)","v":0}]
[null,null,null,null,"2020-03-31",null,"£m 09/10 prices",null,null,">",null,{"$f":"IF(AND($I197 = SUM($K197:L197), SUM($K233:K233) = 0), $I197, 0)","v":0},{"$f":"IF(AND($I197 = SUM($K197:M197), SUM($K233:L233) = 0), $I197, 0)","v":0},{"$f":"IF(AND($I197 = SUM($K197:N197), SUM($K233:M233) = 0), $I197, 0)","v":0},{"$f":"IF(AND($I197 = SUM($K197:O197), SUM($K233:N233) = 0), $I197, 0)","v":0},{"$f":"IF(AND($I197 = SUM($K197:P197), SUM($K233:O233) = 0), $I197, 0)","v":0},{"$f":"IF(AND($I197 = SUM($K197:Q197), SUM($K233:P233) = 0), $I197, 0)","v":0},{"$f":"IF(AND($I197 = SUM($K197:R197), SUM($K233:Q233) = 0), $I197, 0)","v":0},{"$f":"IF(AND($I197 = SUM($K197:S197), SUM($K233:R233) = 0), $I197, 0)","v":0},{"$f":"IF(AND($I197 = SUM($K197:T197), SUM($K233:S233) = 0), $I197, 0)","v":0},{"$f":"IF(AND($I197 = SUM($K197:U197), SUM($K233:T233) = 0), $I197, 0)","v":0},{"$f":"IF(AND($I197 = SUM($K197:V197), SUM($K233:U233) = 0), $I197, 0)","v":0},{"$f":"IF(AND($I197 = SUM($K197:W197), SUM($K233:V233) = 0), $I197, 0)","v":0},{"$f":"IF(AND($I197 = SUM($K197:X197), SUM($K233:W233) = 0), $I197, 0)","v":0},{"$f":"IF(AND($I197 = SUM($K197:Y197), SUM($K233:X233) = 0), $I197, 0)","v":0},{"$f":"IF(AND($I197 = SUM($K197:Z197), SUM($K233:Y233) = 0), $I197, 0)","v":0},{"$f":"IF(AND($I197 = SUM($K197:AA197), SUM($K233:Z233) = 0), $I197, 0)","v":0},{"$f":"IF(AND($I197 = SUM($K197:AB197), SUM($K233:AA233) = 0), $I197, 0)","v":0},{"$f":"IF(AND($I197 = SUM($K197:AC197), SUM($K233:AB233) = 0), $I197, 0)","v":0},{"$f":"IF(AND($I197 = SUM($K197:AD197), SUM($K233:AC233) = 0), $I197, 0)","v":0},{"$f":"IF(AND($I197 = SUM($K197:AE197), SUM($K233:AD233) = 0), $I197, 0)","v":0},{"$f":"IF(AND($I197 = SUM($K197:AF197), SUM($K233:AE233) = 0), $I197, 0)","v":0},{"$f":"IF(AND($I197 = SUM($K197:AG197), SUM($K233:AF233) = 0), $I197, 0)","v":0},{"$f":"IF(AND($I197 = SUM($K197:AH197), SUM($K233:AG233) = 0), $I197, 0)","v":0},{"$f":"IF(AND($I197 = SUM($K197:AI197), SUM($K233:AH233) = 0), $I197, 0)","v":0},{"$f":"IF(AND($I197 = SUM($K197:AJ197), SUM($K233:AI233) = 0), $I197, 0)","v":0},{"$f":"IF(AND($I197 = SUM($K197:AK197), SUM($K233:AJ233) = 0), $I197, 0)","v":0},{"$f":"IF(AND($I197 = SUM($K197:AL197), SUM($K233:AK233) = 0), $I197, 0)","v":0},{"$f":"IF(AND($I197 = SUM($K197:AM197), SUM($K233:AL233) = 0), $I197, 0)","v":0},{"$f":"IF(AND($I197 = SUM($K197:AN197), SUM($K233:AM233) = 0), $I197, 0)","v":0},{"$f":"IF(AND($I197 = SUM($K197:AO197), SUM($K233:AN233) = 0), $I197, 0)","v":0}]
[null,null,null,null,"2021-03-31",null,"£m 09/10 prices",null,null,">",null,{"$f":"IF(AND($I198 = SUM($K198:L198), SUM($K234:K234) = 0), $I198, 0)","v":0},{"$f":"IF(AND($I198 = SUM($K198:M198), SUM($K234:L234) = 0), $I198, 0)","v":0},{"$f":"IF(AND($I198 = SUM($K198:N198), SUM($K234:M234) = 0), $I198, 0)","v":0},{"$f":"IF(AND($I198 = SUM($K198:O198), SUM($K234:N234) = 0), $I198, 0)","v":0},{"$f":"IF(AND($I198 = SUM($K198:P198), SUM($K234:O234) = 0), $I198, 0)","v":0},{"$f":"IF(AND($I198 = SUM($K198:Q198), SUM($K234:P234) = 0), $I198, 0)","v":0},{"$f":"IF(AND($I198 = SUM($K198:R198), SUM($K234:Q234) = 0), $I198, 0)","v":0},{"$f":"IF(AND($I198 = SUM($K198:S198), SUM($K234:R234) = 0), $I198, 0)","v":0},{"$f":"IF(AND($I198 = SUM($K198:T198), SUM($K234:S234) = 0), $I198, 0)","v":0},{"$f":"IF(AND($I198 = SUM($K198:U198), SUM($K234:T234) = 0), $I198, 0)","v":0},{"$f":"IF(AND($I198 = SUM($K198:V198), SUM($K234:U234) = 0), $I198, 0)","v":0},{"$f":"IF(AND($I198 = SUM($K198:W198), SUM($K234:V234) = 0), $I198, 0)","v":0},{"$f":"IF(AND($I198 = SUM($K198:X198), SUM($K234:W234) = 0), $I198, 0)","v":0},{"$f":"IF(AND($I198 = SUM($K198:Y198), SUM($K234:X234) = 0), $I198, 0)","v":0},{"$f":"IF(AND($I198 = SUM($K198:Z198), SUM($K234:Y234) = 0), $I198, 0)","v":0},{"$f":"IF(AND($I198 = SUM($K198:AA198), SUM($K234:Z234) = 0), $I198, 0)","v":0},{"$f":"IF(AND($I198 = SUM($K198:AB198), SUM($K234:AA234) = 0), $I198, 0)","v":0},{"$f":"IF(AND($I198 = SUM($K198:AC198), SUM($K234:AB234) = 0), $I198, 0)","v":0},{"$f":"IF(AND($I198 = SUM($K198:AD198), SUM($K234:AC234) = 0), $I198, 0)","v":0},{"$f":"IF(AND($I198 = SUM($K198:AE198), SUM($K234:AD234) = 0), $I198, 0)","v":0},{"$f":"IF(AND($I198 = SUM($K198:AF198), SUM($K234:AE234) = 0), $I198, 0)","v":0},{"$f":"IF(AND($I198 = SUM($K198:AG198), SUM($K234:AF234) = 0), $I198, 0)","v":0},{"$f":"IF(AND($I198 = SUM($K198:AH198), SUM($K234:AG234) = 0), $I198, 0)","v":0},{"$f":"IF(AND($I198 = SUM($K198:AI198), SUM($K234:AH234) = 0), $I198, 0)","v":0},{"$f":"IF(AND($I198 = SUM($K198:AJ198), SUM($K234:AI234) = 0), $I198, 0)","v":0},{"$f":"IF(AND($I198 = SUM($K198:AK198), SUM($K234:AJ234) = 0), $I198, 0)","v":0},{"$f":"IF(AND($I198 = SUM($K198:AL198), SUM($K234:AK234) = 0), $I198, 0)","v":0},{"$f":"IF(AND($I198 = SUM($K198:AM198), SUM($K234:AL234) = 0), $I198, 0)","v":0},{"$f":"IF(AND($I198 = SUM($K198:AN198), SUM($K234:AM234) = 0), $I198, 0)","v":0},{"$f":"IF(AND($I198 = SUM($K198:AO198), SUM($K234:AN234) = 0), $I198, 0)","v":0}]
[null,null,null,null,"Total",null,"£m 09/10 prices",null,null,null,null,{"$f":"SUM(L204:L234)","v":0},0,0,0,0,0,0,0,0,0,0,0,0,0,0,0,0,0,0,0,0,0,0,0,0,0,0,0,0,0]
[]
[null,null,"RIIO opening value"]
[null,null,"Note: Cumulative values provide the opening values for the following year."]
[]
[null,null,null,null,"Cumulative net additions",null,"£m 09/10 prices",null,null,">",null,null,null,null,null,null,null,null,null,null,null,null,null,null,null,null,null,null,null,null,null,null,{"$f":"SUM($K15:AG15)","v":11167.072150630636}]
[null,null,null,null,"Cumulative depreciation",null,"£m 09/10 prices",null,null,">",null,null,null,null,null,null,null,null,null,null,null,null,null,null,null,null,null,null,null,null,null,null,{"$f":"SUM($K$20:$AG$20) + SUM($K199:AG199)","v":3204.8418579941253}]
[null,null,null,null,"Cumulative removals",null,"£m 09/10 prices",null,null,">",null,null,null,null,null,null,null,null,null,null,null,null,null,null,null,null,null,null,null,null,null,null,{"$f":"SUM($K235:AG235)","v":0}]
[]
[null,null,null,null,"Opening post-vesting RAV cost contribution",null,"£m 09/10 prices",null,null,null,null,null,null,null,null,null,null,null,null,null,null,null,null,null,null,null,null,null,null,null,null,null,null,{"$f":"AG240- AG242","v":11167.072150630636}]
[null,null,null,null,"Opening post-vesting RAV accumulated depreciation contribution",null,"£m 09/10 prices",null,null,null,null,null,null,null,null,null,null,null,null,null,null,null,null,null,null,null,null,null,null,null,null,null,null,{"$f":"AG241-AG242","v":3204.8418579941253}]
[]
[null,"End of sheet"]

{"sheet":"SystemOperator","index":9,"n_rows":457,"n_cols":41,"rows_kept":457,"cut":false,"hidden":false,"merged":[]}
["SystemOperator"]
[null,{"$f":"UserInterface!G25","v":"NGET TO"}]
[null,null,null,null,"Parameter","Licence condition","Units","Term","Constant",null,null,null,null,null,null,null,null,null,null,null,null,null,null,null,null,null,null,null,null,null,null,null,null,"Annual values"]
[null,null,null,null,"PCFM year ending",null,null,null,{"$f":"UserInterface!$G$18","v":"2016-03-31"},null,"1991-03-31","1992-03-31","1993-03-31","1994-03-31","1995-03-31","1996-03-31","1997-03-31","1998-03-31","1999-03-31","2000-03-31","2001-03-31","2002-03-31","2003-03-31","2004-03-31","2005-03-31","2006-03-31","2007-03-31","2008-03-31","2009-03-31","2010-03-31","2011-03-31","2012-03-31","2013-03-31","2014-03-31","2015-03-31","2016-03-31","2017-03-31","2018-03-31","2019-03-31","2020-03-31","2021-03-31"]
[]
[null,"PCFM Variable Values Table"]
[]
[null,null,null,null,"Actual non-operational capex","7B","£m 09/10 prices","SOANC",null,null,null,null,null,null,null,null,null,null,null,null,null,null,null,null,null,null,null,null,null,null,null,null,null,{"$f":"IF(UserInterface!$G$25=\"NGET TO\",IF(UserInterface!$E$69 = 1,'NGET SO'!AH8,'NGET SO (Blank - not used)'!AH8),0)","v":32.211091901803051},{"$f":"IF(UserInterface!$G$25=\"NGET TO\",IF(UserInterface!$E$69 = 1,'NGET SO'!AI8,'NGET SO (Blank - not used)'!AI8),0)","v":0},{"$f":"IF(UserInterface!$G$25=\"NGET TO\",IF(UserInterface!$E$69 = 1,'NGET SO'!AJ8,'NGET SO (Blank - not used)'!AJ8),0)","v":0},{"$f":"IF(UserInterface!$G$25=\"NGET TO\",IF(UserInterface!$E$69 = 1,'NGET SO'!AK8,'NGET SO (Blank - not used)'!AK8),0)","v":0},{"$f":"IF(UserInterface!$G$25=\"NGET TO\",IF(UserInterface!$E$69 = 1,'NGET SO'!AL8,'NGET SO (Blank - not used)'!AL8),0)","v":0},{"$f":"IF(UserInterface!$G$25=\"NGET TO\",IF(UserInterface!$E$69 = 1,'NGET SO'!AM8,'NGET SO (Blank - not used)'!AM8),0)","v":0},{"$f":"IF(UserInterface!$G$25=\"NGET TO\",IF(UserInterface!$E$69 = 1,'NGET SO'!AN8,'NGET SO (Blank - not used)'!AN8),0)","v":0},{"$f":"IF(UserInterface!$G$25=\"NGET TO\",IF(UserInterface!$E$69 = 1,'NGET SO'!AO8,'NGET SO (Blank - not used)'!AO8),0)","v":0}]
[null,null,null,null,"Actual controllable opex","7B","£m 09/10 prices","SOACO",null,null,null,null,null,null,null,null,null,null,null,null,null,null,null,null,null,null,null,null,null,null,null,null,null,{"$f":"IF(UserInterface!$G$25=\"NGET TO\",IF(UserInterface!$E$69 = 1,'NGET SO'!AH9,'NGET SO (Blank - not used)'!AH9),0)","v":79.703447095651597},{"$f":"IF(UserInterface!$G$25=\"NGET TO\",IF(UserInterface!$E$69 = 1,'NGET SO'!AI9,'NGET SO (Blank - not used)'!AI9),0)","v":0},{"$f":"IF(UserInterface!$G$25=\"NGET TO\",IF(UserInterface!$E$69 = 1,'NGET SO'!AJ9,'NGET SO (Blank - not used)'!AJ9),0)","v":0},{"$f":"IF(UserInterface!$G$25=\"NGET TO\",IF(UserInterface!$E$69 = 1,'NGET SO'!AK9,'NGET SO (Blank - not used)'!AK9),0)","v":0},{"$f":"IF(UserInterface!$G$25=\"NGET TO\",IF(UserInterface!$E$69 = 1,'NGET SO'!AL9,'NGET SO (Blank - not used)'!AL9),0)","v":0},{"$f":"IF(UserInterface!$G$25=\"NGET TO\",IF(UserInterface!$E$69 = 1,'NGET SO'!AM9,'NGET SO (Blank - not used)'!AM9),0)","v":0},{"$f":"IF(UserInterface!$G$25=\"NGET TO\",IF(UserInterface!$E$69 = 1,'NGET SO'!AN9,'NGET SO (Blank - not used)'!AN9),0)","v":0},{"$f":"IF(UserInterface!$G$25=\"NGET TO\",IF(UserInterface!$E$69 = 1,'NGET SO'!AO9,'NGET SO (Blank - not used)'!AO9),0)","v":0}]
[null,null,null,null,"Uncertain costs - enhanced security","7D","£m 09/10 prices","SOIAEEPS",null,null,null,null,null,null,null,null,null,null,null,null,null,null,null,null,null,null,null,null,null,null,null,null,null,{"$f":"IF(UserInterface!$G$25=\"NGET TO\",IF(UserInterface!$E$69 = 1,'NGET SO'!AH10,'NGET SO (Blank - not used)'!AH10),0)","v":12.6},{"$f":"IF(UserInterface!$G$25=\"NGET TO\",IF(UserInterface!$E$69 = 1,'NGET SO'!AI10,'NGET SO (Blank - not used)'!AI10),0)","v":0},{"$f":"IF(UserInterface!$G$25=\"NGET TO\",IF(UserInterface!$E$69 = 1,'NGET SO'!AJ10,'NGET SO (Blank - not used)'!AJ10),0)","v":0},{"$f":"IF(UserInterface!$G$25=\"NGET TO\",IF(UserInterface!$E$69 = 1,'NGET SO'!AK10,'NGET SO (Blank - not used)'!AK10),0)","v":0},{"$f":"IF(UserInterface!$G$25=\"NGET TO\",IF(UserInterface!$E$69 = 1,'NGET SO'!AL10,'NGET SO (Blank - not used)'!AL10),0)","v":0},{"$f":"IF(UserInterface!$G$25=\"NGET TO\",IF(UserInterface!$E$69 = 1,'NGET SO'!AM10,'NGET SO (Blank - not used)'!AM10),0)","v":0},{"$f":"IF(UserInterface!$G$25=\"NGET TO\",IF(UserInterface!$E$69 = 1,'NGET SO'!AN10,'NGET SO (Blank - not used)'!AN10),0)","v":0},{"$f":"IF(UserInterface!$G$25=\"NGET TO\",IF(UserInterface!$E$69 = 1,'NGET SO'!AO10,'NGET SO (Blank - not used)'!AO10),0)","v":0}]
[null,null,null,null,"Uncertain costs - Electricity Market Reform Enduring Solution","7D","£m 09/10 prices","SOEMRES",null,null,null,null,null,null,null,null,null,null,null,null,null,null,null,null,null,null,null,null,null,null,null,null,null,{"$f":"IF(UserInterface!$G$25=\"NGET TO\",IF(UserInterface!$E$69 = 1,'NGET SO'!AH11,'NGET SO (Blank - not used)'!AH11),0)","v":0},{"$f":"IF(UserInterface!$G$25=\"NGET TO\",IF(UserInterface!$E$69 = 1,'NGET SO'!AI11,'NGET SO (Blank - not used)'!AI11),0)","v":1.72},{"$f":"IF(UserInterface!$G$25=\"NGET TO\",IF(UserInterface!$E$69 = 1,'NGET SO'!AJ11,'NGET SO (Blank - not used)'!AJ11),0)","v":2.57},{"$f":"IF(UserInterface!$G$25=\"NGET TO\",IF(UserInterface!$E$69 = 1,'NGET SO'!AK11,'NGET SO (Blank - not used)'!AK11),0)","v":0},{"$f":"IF(UserInterface!$G$25=\"NGET TO\",IF(UserInterface!$E$69 = 1,'NGET SO'!AL11,'NGET SO (Blank - not used)'!AL11),0)","v":0},{"$f":"IF(UserInterface!$G$25=\"NGET TO\",IF(UserInterface!$E$69 = 1,'NGET SO'!AM11,'NGET SO (Blank - not used)'!AM11),0)","v":0},{"$f":"IF(UserInterface!$G$25=\"NGET TO\",IF(UserInterface!$E$69 = 1,'NGET SO'!AN11,'NGET SO (Blank - not used)'!AN11),0)","v":0},{"$f":"IF(UserInterface!$G$25=\"NGET TO\",IF(UserInterface!$E$69 = 1,'NGET SO'!AO11,'NGET SO (Blank - not used)'!AO11),0)","v":0}]
[null,null,null,null,"Tax liability - gearing/interest costs","7C","£m nominal","SOTGIE",null,null,null,null,null,null,null,null,null,null,null,null,null,null,null,null,null,null,null,null,null,null,null,null,null,{"$f":"IF(UserInterface!$G$25=\"NGET TO\",IF(UserInterface!$E$69 = 1,'NGET SO'!AH12,'NGET SO (Blank - not used)'!AH12),0)","v":0},{"$f":"IF(UserInterface!$G$25=\"NGET TO\",IF(UserInterface!$E$69 = 1,'NGET SO'!AI12,'NGET SO (Blank - not used)'!AI12),0)","v":0},{"$f":"IF(UserInterface!$G$25=\"NGET TO\",IF(UserInterface!$E$69 = 1,'NGET SO'!AJ12,'NGET SO (Blank - not used)'!AJ12),0)","v":0},{"$f":"IF(UserInterface!$G$25=\"NGET TO\",IF(UserInterface!$E$69 = 1,'NGET SO'!AK12,'NGET SO (Blank - not used)'!AK12),0)","v":0},{"$f":"IF(UserInterface!$G$25=\"NGET TO\",IF(UserInterface!$E$69 = 1,'NGET SO'!AL12,'NGET SO (Blank - not used)'!AL12),0)","v":0},{"$f":"IF(UserInterface!$G$25=\"NGET TO\",IF(UserInterface!$E$69 = 1,'NGET SO'!AM12,'NGET SO (Blank - not used)'!AM12),0)","v":0},{"$f":"IF(UserInterface!$G$25=\"NGET TO\",IF(UserInterface!$E$69 = 1,'NGET SO'!AN12,'NGET SO (Blank - not used)'!AN12),0)","v":0},{"$f":"IF(UserInterface!$G$25=\"NGET TO\",IF(UserInterface!$E$69 = 1,'NGET SO'!AO12,'NGET SO (Blank - not used)'!AO12),0)","v":0}]
[null,null,null,null,"Tax liability - tax trigger events","7C","£m 09/10 prices","SOTTE",null,null,null,null,null,null,null,null,null,null,null,null,null,null,null,null,null,null,null,null,null,null,null,null,null,{"$f":"IF(UserInterface!$G$25=\"NGET TO\",IF(UserInterface!$E$69 = 1,'NGET SO'!AH13,'NGET SO (Blank - not used)'!AH13),0)","v":0},{"$f":"IF(UserInterface!$G$25=\"NGET TO\",IF(UserInterface!$E$69 = 1,'NGET SO'!AI13,'NGET SO (Blank - not used)'!AI13),0)","v":0},{"$f":"IF(UserInterface!$G$25=\"NGET TO\",IF(UserInterface!$E$69 = 1,'NGET SO'!AJ13,'NGET SO (Blank - not used)'!AJ13),0)","v":0},{"$f":"IF(UserInterface!$G$25=\"NGET TO\",IF(UserInterface!$E$69 = 1,'NGET SO'!AK13,'NGET SO (Blank - not used)'!AK13),0)","v":0},{"$f":"IF(UserInterface!$G$25=\"NGET TO\",IF(UserInterface!$E$69 = 1,'NGET SO'!AL13,'NGET SO (Blank - not used)'!AL13),0)","v":0},{"$f":"IF(UserInterface!$G$25=\"NGET TO\",IF(UserInterface!$E$69 = 1,'NGET SO'!AM13,'NGET SO (Blank - not used)'!AM13),0)","v":0},{"$f":"IF(UserInterface!$G$25=\"NGET TO\",IF(UserInterface!$E$69 = 1,'NGET SO'!AN13,'NGET SO (Blank - not used)'!AN13),0)","v":0},{"$f":"IF(UserInterface!$G$25=\"NGET TO\",IF(UserInterface!$E$69 = 1,'NGET SO'!AO13,'NGET SO (Blank - not used)'!AO13),0)","v":0}]
[null,null,null,null,"Pension scheme administration and Pension Protection Fund Levy","7C","£m 09/10 prices","SOAPFE",null,null,null,null,null,null,null,null,null,null,null,null,null,null,null,null,null,null,null,null,null,null,null,null,null,{"$f":"IF(UserInterface!$G$25=\"NGET TO\",IF(UserInterface!$E$69 = 1,'NGET SO'!AH14,'NGET SO (Blank - not used)'!AH14),0)","v":0.5},{"$f":"IF(UserInterface!$G$25=\"NGET TO\",IF(UserInterface!$E$69 = 1,'NGET SO'!AI14,'NGET SO (Blank - not used)'!AI14),0)","v":0.4},{"$f":"IF(UserInterface!$G$25=\"NGET TO\",IF(UserInterface!$E$69 = 1,'NGET SO'!AJ14,'NGET SO (Blank - not used)'!AJ14),0)","v":0.4},{"$f":"IF(UserInterface!$G$25=\"NGET TO\",IF(UserInterface!$E$69 = 1,'NGET SO'!AK14,'NGET SO (Blank - not used)'!AK14),0)","v":0.5},{"$f":"IF(UserInterface!$G$25=\"NGET TO\",IF(UserInterface!$E$69 = 1,'NGET SO'!AL14,'NGET SO (Blank - not used)'!AL14),0)","v":0.4},{"$f":"IF(UserInterface!$G$25=\"NGET TO\",IF(UserInterface!$E$69 = 1,'NGET SO'!AM14,'NGET SO (Blank - not used)'!AM14),0)","v":0.4},{"$f":"IF(UserInterface!$G$25=\"NGET TO\",IF(UserInterface!$E$69 = 1,'NGET SO'!AN14,'NGET SO (Blank - not used)'!AN14),0)","v":0.5},{"$f":"IF(UserInterface!$G$25=\"NGET TO\",IF(UserInterface!$E$69 = 1,'NGET SO'!AO14,'NGET SO (Blank - not used)'!AO14),0)","v":0.4}]
[null,null,null,null,"Pension Scheme Established Deficit","7C","£m 09/10 prices","SOEDE",null,null,null,null,null,null,null,null,null,null,null,null,null,null,null,null,null,null,null,null,null,null,null,null,null,{"$f":"IF(UserInterface!$G$25=\"NGET TO\",IF(UserInterface!$E$69 = 1,'NGET SO'!AH15,'NGET SO (Blank - not used)'!AH15),0)","v":8.7961833442298172},{"$f":"IF(UserInterface!$G$25=\"NGET TO\",IF(UserInterface!$E$69 = 1,'NGET SO'!AI15,'NGET SO (Blank - not used)'!AI15),0)","v":8.7961833442298172},{"$f":"IF(UserInterface!$G$25=\"NGET TO\",IF(UserInterface!$E$69 = 1,'NGET SO'!AJ15,'NGET SO (Blank - not used)'!AJ15),0)","v":9.8951198747490885},{"$f":"IF(UserInterface!$G$25=\"NGET TO\",IF(UserInterface!$E$69 = 1,'NGET SO'!AK15,'NGET SO (Blank - not used)'!AK15),0)","v":9.8951198747490885},{"$f":"IF(UserInterface!$G$25=\"NGET TO\",IF(UserInterface!$E$69 = 1,'NGET SO'!AL15,'NGET SO (Blank - not used)'!AL15),0)","v":9.8951198747490885},{"$f":"IF(UserInterface!$G$25=\"NGET TO\",IF(UserInterface!$E$69 = 1,'NGET SO'!AM15,'NGET SO (Blank - not used)'!AM15),0)","v":9.8951198747490885},{"$f":"IF(UserInterface!$G$25=\"NGET TO\",IF(UserInterface!$E$69 = 1,'NGET SO'!AN15,'NGET SO (Blank - not used)'!AN15),0)","v":9.8951198747490885},{"$f":"IF(UserInterface!$G$25=\"NGET TO\",IF(UserInterface!$E$69 = 1,'NGET SO'!AO15,'NGET SO (Blank - not used)'!AO15),0)","v":9.8951198747490885}]
[null,null,null,null,"Legacy price control adjustments to allowed revenue","7A","£m 09/10 prices","SOLAR",null,null,null,null,null,null,null,null,null,null,null,null,null,null,null,null,null,null,null,null,null,null,null,null,null,{"$f":"IF(UserInterface!$G$25=\"NGET TO\",IF(UserInterface!$E$69 = 1,'NGET SO'!AH16,'NGET SO (Blank - not used)'!AH16),0)","v":15.739015040384885}]
[null,null,null,null,"Legacy price control adjustments to RAV","7A","£m 09/10 prices","SOLRAV",null,null,null,null,null,null,null,null,null,null,null,null,null,null,null,null,null,null,null,null,null,null,null,null,null,{"$f":"IF(UserInterface!$G$25=\"NGET TO\",IF(UserInterface!$E$69 = 1,'NGET SO'!AH17,'NGET SO (Blank - not used)'!AH17),0)","v":2.9301486584244367}]
[]
[null,"Expenditure"]
[]
[null,null,"Totex"]
[]
[null,null,null,"Non-variant allowances"]
[]
[null,null,null,null,"Non-variant allowed non-operational capex",null,"£m 09/10 prices",null,null,null,null,null,null,null,null,null,null,null,null,null,null,null,null,null,null,null,null,null,null,null,null,null,null,{"$f":"IF(OR(UserInterface!$G$25=\"SHE-Transmission PLC\",UserInterface!$G$25=\"SPTL\"),0,IF(UserInterface!$E$69 = 1,'NGET SO'!AH25,'NGET SO (Blank - not used)'!AH25))","v":39.230261993822481},{"$f":"IF(OR(UserInterface!$G$25=\"SHE-Transmission PLC\",UserInterface!$G$25=\"SPTL\"),0,IF(UserInterface!$E$69 = 1,'NGET SO'!AI25,'NGET SO (Blank - not used)'!AI25))","v":34.208586772300464},{"$f":"IF(OR(UserInterface!$G$25=\"SHE-Transmission PLC\",UserInterface!$G$25=\"SPTL\"),0,IF(UserInterface!$E$69 = 1,'NGET SO'!AJ25,'NGET SO (Blank - not used)'!AJ25))","v":29.40934615713995},{"$f":"IF(OR(UserInterface!$G$25=\"SHE-Transmission PLC\",UserInterface!$G$25=\"SPTL\"),0,IF(UserInterface!$E$69 = 1,'NGET SO'!AK25,'NGET SO (Blank - not used)'!AK25))","v":27.165060319864111},{"$f":"IF(OR(UserInterface!$G$25=\"SHE-Transmission PLC\",UserInterface!$G$25=\"SPTL\"),0,IF(UserInterface!$E$69 = 1,'NGET SO'!AL25,'NGET SO (Blank - not used)'!AL25))","v":29.591699211758403},{"$f":"IF(OR(UserInterface!$G$25=\"SHE-Transmission PLC\",UserInterface!$G$25=\"SPTL\"),0,IF(UserInterface!$E$69 = 1,'NGET SO'!AM25,'NGET SO (Blank - not used)'!AM25))","v":20.377561078577621},{"$f":"IF(OR(UserInterface!$G$25=\"SHE-Transmission PLC\",UserInterface!$G$25=\"SPTL\"),0,IF(UserInterface!$E$69 = 1,'NGET SO'!AN25,'NGET SO (Blank - not used)'!AN25))","v":25.429651204161818},{"$f":"IF(OR(UserInterface!$G$25=\"SHE-Transmission PLC\",UserInterface!$G$25=\"SPTL\"),0,IF(UserInterface!$E$69 = 1,'NGET SO'!AO25,'NGET SO (Blank - not used)'!AO25))","v":25.40838563392731}]
[null,null,null,null,"Non-variant allowed controllable opex",null,"£m 09/10 prices",null,null,null,null,null,null,null,null,null,null,null,null,null,null,null,null,null,null,null,null,null,null,null,null,null,null,{"$f":"IF(OR(UserInterface!$G$25=\"SHE-Transmission PLC\",UserInterface!$G$25=\"SPTL\"),0,IF(UserInterface!$E$69 = 1,'NGET SO'!AH26,'NGET SO (Blank - not used)'!AH26))","v":73.775027711210655},{"$f":"IF(OR(UserInterface!$G$25=\"SHE-Transmission PLC\",UserInterface!$G$25=\"SPTL\"),0,IF(UserInterface!$E$69 = 1,'NGET SO'!AI26,'NGET SO (Blank - not used)'!AI26))","v":74.857370793520886},{"$f":"IF(OR(UserInterface!$G$25=\"SHE-Transmission PLC\",UserInterface!$G$25=\"SPTL\"),0,IF(UserInterface!$E$69 = 1,'NGET SO'!AJ26,'NGET SO (Blank - not used)'!AJ26))","v":77.005994132717234},{"$f":"IF(OR(UserInterface!$G$25=\"SHE-Transmission PLC\",UserInterface!$G$25=\"SPTL\"),0,IF(UserInterface!$E$69 = 1,'NGET SO'!AK26,'NGET SO (Blank - not used)'!AK26))","v":78.582137772280092},{"$f":"IF(OR(UserInterface!$G$25=\"SHE-Transmission PLC\",UserInterface!$G$25=\"SPTL\"),0,IF(UserInterface!$E$69 = 1,'NGET SO'!AL26,'NGET SO (Blank - not used)'!AL26))","v":79.36050736397776},{"$f":"IF(OR(UserInterface!$G$25=\"SHE-Transmission PLC\",UserInterface!$G$25=\"SPTL\"),0,IF(UserInterface!$E$69 = 1,'NGET SO'!AM26,'NGET SO (Blank - not used)'!AM26))","v":79.998881974263142},{"$f":"IF(OR(UserInterface!$G$25=\"SHE-Transmission PLC\",UserInterface!$G$25=\"SPTL\"),0,IF(UserInterface!$E$69 = 1,'NGET SO'!AN26,'NGET SO (Blank - not used)'!AN26))","v":81.754729960219521},{"$f":"IF(OR(UserInterface!$G$25=\"SHE-Transmission PLC\",UserInterface!$G$25=\"SPTL\"),0,IF(UserInterface!$E$69 = 1,'NGET SO'!AO26,'NGET SO (Blank - not used)'!AO26))","v":83.672873632490891}]
[]
[null,null,null,"Variant allowances"]
[]
[null,null,null,null,{"$f":"E10","v":"Uncertain costs - enhanced security"},null,"£m 09/10 prices",null,null,null,null,null,null,null,null,null,null,null,null,null,null,null,null,null,null,null,null,null,null,null,null,null,null,{"$f":"AH10","v":12.6},{"$f":"AI10","v":0},0,0,0,0,0,0]
[null,null,null,null,"Allocation to non-operational capex",null,"%",null,null,null,null,null,null,null,null,null,null,null,null,null,null,null,null,null,null,null,null,null,null,null,null,null,null,{"$f":"IF(OR(UserInterface!$G$25=\"SHE-Transmission PLC\",UserInterface!$G$25=\"SPTL\"),0,IF(UserInterface!$E$69 = 1,'NGET SO'!AH31,'NGET SO (Blank - not used)'!AH31))","v":1},{"$f":"IF(OR(UserInterface!$G$25=\"SHE-Transmission PLC\",UserInterface!$G$25=\"SPTL\"),0,IF(UserInterface!$E$69 = 1,'NGET SO'!AI31,'NGET SO (Blank - not used)'!AI31))","v":1},{"$f":"IF(OR(UserInterface!$G$25=\"SHE-Transmission PLC\",UserInterface!$G$25=\"SPTL\"),0,IF(UserInterface!$E$69 = 1,'NGET SO'!AJ31,'NGET SO (Blank - not used)'!AJ31))","v":1},{"$f":"IF(OR(UserInterface!$G$25=\"SHE-Transmission PLC\",UserInterface!$G$25=\"SPTL\"),0,IF(UserInterface!$E$69 = 1,'NGET SO'!AK31,'NGET SO (Blank - not used)'!AK31))","v":1},{"$f":"IF(OR(UserInterface!$G$25=\"SHE-Transmission PLC\",UserInterface!$G$25=\"SPTL\"),0,IF(UserInterface!$E$69 = 1,'NGET SO'!AL31,'NGET SO (Blank - not used)'!AL31))","v":1},{"$f":"IF(OR(UserInterface!$G$25=\"SHE-Transmission PLC\",UserInterface!$G$25=\"SPTL\"),0,IF(UserInterface!$E$69 = 1,'NGET SO'!AM31,'NGET SO (Blank - not used)'!AM31))","v":1},{"$f":"IF(OR(UserInterface!$G$25=\"SHE-Transmission PLC\",UserInterface!$G$25=\"SPTL\"),0,IF(UserInterface!$E$69 = 1,'NGET SO'!AN31,'NGET SO (Blank - not used)'!AN31))","v":1},{"$f":"IF(OR(UserInterface!$G$25=\"SHE-Transmission PLC\",UserInterface!$G$25=\"SPTL\"),0,IF(UserInterface!$E$69 = 1,'NGET SO'!AO31,'NGET SO (Blank - not used)'!AO31))","v":1}]
[null,null,null,null,"Allocation to controllable opex",null,"%",null,null,null,null,null,null,null,null,null,null,null,null,null,null,null,null,null,null,null,null,null,null,null,null,null,null,{"$f":"IF(OR(UserInterface!$G$25=\"SHE-Transmission PLC\",UserInterface!$G$25=\"SPTL\"),0,IF(UserInterface!$E$69 = 1,'NGET SO'!AH32,'NGET SO (Blank - not used)'!AH32))","v":0},{"$f":"IF(OR(UserInterface!$G$25=\"SHE-Transmission PLC\",UserInterface!$G$25=\"SPTL\"),0,IF(UserInterface!$E$69 = 1,'NGET SO'!AI32,'NGET SO (Blank - not used)'!AI32))","v":0},{"$f":"IF(OR(UserInterface!$G$25=\"SHE-Transmission PLC\",UserInterface!$G$25=\"SPTL\"),0,IF(UserInterface!$E$69 = 1,'NGET SO'!AJ32,'NGET SO (Blank - not used)'!AJ32))","v":0},{"$f":"IF(OR(UserInterface!$G$25=\"SHE-Transmission PLC\",UserInterface!$G$25=\"SPTL\"),0,IF(UserInterface!$E$69 = 1,'NGET SO'!AK32,'NGET SO (Blank - not used)'!AK32))","v":0},{"$f":"IF(OR(UserInterface!$G$25=\"SHE-Transmission PLC\",UserInterface!$G$25=\"SPTL\"),0,IF(UserInterface!$E$69 = 1,'NGET SO'!AL32,'NGET SO (Blank - not used)'!AL32))","v":0},{"$f":"IF(OR(UserInterface!$G$25=\"SHE-Transmission PLC\",UserInterface!$G$25=\"SPTL\"),0,IF(UserInterface!$E$69 = 1,'NGET SO'!AM32,'NGET SO (Blank - not used)'!AM32))","v":0},{"$f":"IF(OR(UserInterface!$G$25=\"SHE-Transmission PLC\",UserInterface!$G$25=\"SPTL\"),0,IF(UserInterface!$E$69 = 1,'NGET SO'!AN32,'NGET SO (Blank - not used)'!AN32))","v":0},{"$f":"IF(OR(UserInterface!$G$25=\"SHE-Transmission PLC\",UserInterface!$G$25=\"SPTL\"),0,IF(UserInterface!$E$69 = 1,'NGET SO'!AO32,'NGET SO (Blank - not used)'!AO32))","v":0}]
[]
[null,null,null,null,{"$f":"E11","v":"Uncertain costs - Electricity Market Reform Enduring Solution"},null,"£m 09/10 prices",null,null,null,null,null,null,null,null,null,null,null,null,null,null,null,null,null,null,null,null,null,null,null,null,null,null,{"$f":"AH11","v":0},{"$f":"AI11","v":1.72},2.57,0,0,0,0,0]
[null,null,null,null,"Allocation to non-operational capex",null,"%",null,null,null,null,null,null,null,null,null,null,null,null,null,null,null,null,null,null,null,null,null,null,null,null,null,null,{"$f":"IF(OR(UserInterface!$G$25=\"SHE-Transmission PLC\",UserInterface!$G$25=\"SPTL\"),0,IF(UserInterface!$E$69 = 1,'NGET SO'!AH35,'NGET SO (Blank - not used)'!AH35))","v":0.189},{"$f":"IF(OR(UserInterface!$G$25=\"SHE-Transmission PLC\",UserInterface!$G$25=\"SPTL\"),0,IF(UserInterface!$E$69 = 1,'NGET SO'!AI35,'NGET SO (Blank - not used)'!AI35))","v":0.189},{"$f":"IF(OR(UserInterface!$G$25=\"SHE-Transmission PLC\",UserInterface!$G$25=\"SPTL\"),0,IF(UserInterface!$E$69 = 1,'NGET SO'!AJ35,'NGET SO (Blank - not used)'!AJ35))","v":0.189},{"$f":"IF(OR(UserInterface!$G$25=\"SHE-Transmission PLC\",UserInterface!$G$25=\"SPTL\"),0,IF(UserInterface!$E$69 = 1,'NGET SO'!AK35,'NGET SO (Blank - not used)'!AK35))","v":0.189},{"$f":"IF(OR(UserInterface!$G$25=\"SHE-Transmission PLC\",UserInterface!$G$25=\"SPTL\"),0,IF(UserInterface!$E$69 = 1,'NGET SO'!AL35,'NGET SO (Blank - not used)'!AL35))","v":0.189},{"$f":"IF(OR(UserInterface!$G$25=\"SHE-Transmission PLC\",UserInterface!$G$25=\"SPTL\"),0,IF(UserInterface!$E$69 = 1,'NGET SO'!AM35,'NGET SO (Blank - not used)'!AM35))","v":0.189},{"$f":"IF(OR(UserInterface!$G$25=\"SHE-Transmission PLC\",UserInterface!$G$25=\"SPTL\"),0,IF(UserInterface!$E$69 = 1,'NGET SO'!AN35,'NGET SO (Blank - not used)'!AN35))","v":0.189},{"$f":"IF(OR(UserInterface!$G$25=\"SHE-Transmission PLC\",UserInterface!$G$25=\"SPTL\"),0,IF(UserInterface!$E$69 = 1,'NGET SO'!AO35,'NGET SO (Blank - not used)'!AO35))","v":0.189}]
[null,null,null,null,"Allocation to controllable opex",null,"%",null,null,null,null,null,null,null,null,null,null,null,null,null,null,null,null,null,null,null,null,null,null,null,null,null,null,{"$f":"IF(OR(UserInterface!$G$25=\"SHE-Transmission PLC\",UserInterface!$G$25=\"SPTL\"),0,IF(UserInterface!$E$69 = 1,'NGET SO'!AH36,'NGET SO (Blank - not used)'!AH36))","v":0.81100000000000005},{"$f":"IF(OR(UserInterface!$G$25=\"SHE-Transmission PLC\",UserInterface!$G$25=\"SPTL\"),0,IF(UserInterface!$E$69 = 1,'NGET SO'!AI36,'NGET SO (Blank - not used)'!AI36))","v":0.81100000000000005},{"$f":"IF(OR(UserInterface!$G$25=\"SHE-Transmission PLC\",UserInterface!$G$25=\"SPTL\"),0,IF(UserInterface!$E$69 = 1,'NGET SO'!AJ36,'NGET SO (Blank - not used)'!AJ36))","v":0.81100000000000005},{"$f":"IF(OR(UserInterface!$G$25=\"SHE-Transmission PLC\",UserInterface!$G$25=\"SPTL\"),0,IF(UserInterface!$E$69 = 1,'NGET SO'!AK36,'NGET SO (Blank - not used)'!AK36))","v":0.81100000000000005},{"$f":"IF(OR(UserInterface!$G$25=\"SHE-Transmission PLC\",UserInterface!$G$25=\"SPTL\"),0,IF(UserInterface!$E$69 = 1,'NGET SO'!AL36,'NGET SO (Blank - not used)'!AL36))","v":0.81100000000000005},{"$f":"IF(OR(UserInterface!$G$25=\"SHE-Transmission PLC\",UserInterface!$G$25=\"SPTL\"),0,IF(UserInterface!$E$69 = 1,'NGET SO'!AM36,'NGET SO (Blank - not used)'!AM36))","v":0.81100000000000005},{"$f":"IF(OR(UserInterface!$G$25=\"SHE-Transmission PLC\",UserInterface!$G$25=\"SPTL\"),0,IF(UserInterface!$E$69 = 1,'NGET SO'!AN36,'NGET SO (Blank - not used)'!AN36))","v":0.81100000000000005},{"$f":"IF(OR(UserInterface!$G$25=\"SHE-Transmission PLC\",UserInterface!$G$25=\"SPTL\"),0,IF(UserInterface!$E$69 = 1,'NGET SO'!AO36,'NGET SO (Blank - not used)'!AO36))","v":0.81100000000000005}]
[]
[null,null,null,"Variant"]
[null,null,null,"Note: Licence conditions may allow for non-baseline allowances to be granted. These are added to the baseline to generate the allowed sub-categories and thereby the overall allowed totex."]
[]
[null,null,null,null,"Non-operational capex",null,"£m 09/10 prices",null,null,null,null,null,null,null,null,null,null,null,null,null,null,null,null,null,null,null,null,null,null,null,null,null,null,{"$f":"AH$30*AH31+AH$34*AH35","v":12.6},{"$f":"AI$30*AI31+AI$34*AI35","v":0.32507999999999998},0.48573,0,0,0,0,0]
[null,null,null,null,"Controllable opex",null,"£m 09/10 prices",null,null,null,null,null,null,null,null,null,null,null,null,null,null,null,null,null,null,null,null,null,null,null,null,null,null,{"$f":"AH$30*AH32+AH$34*AH36","v":0},{"$f":"AI$30*AI32+AI$34*AI36","v":1.3949200000000002},2.0842700000000001,0,0,0,0,0]
[]
[null,"Direct allowed revenue terms (DARTs)"]
[]
[null,null,"Base Revenue"]
[]
[null,null,null,"No impact on net debt or tax"]
[]
[null,null,null,null,{"$f":"E14","v":"Pension scheme administration and Pension Protection Fund Levy"},null,"£m 09/10 prices",null,null,null,null,null,null,null,null,null,null,null,null,null,null,null,null,null,null,null,null,null,null,null,null,null,null,{"$f":"AH14","v":0.5},{"$f":"AI14","v":0.4},0.4,0.5,0.4,0.4,0.5,0.4]
[null,null,null,null,{"$f":"E15","v":"Pension Scheme Established Deficit"},null,"£m 09/10 prices",null,null,null,null,null,null,null,null,null,null,null,null,null,null,null,null,null,null,null,null,null,null,null,null,null,null,{"$f":"AH15","v":8.7961833442298172},{"$f":"AI15","v":8.7961833442298172},9.8951198747490885,9.8951198747490885,9.8951198747490885,9.8951198747490885,9.8951198747490885,9.8951198747490885]
[]
[null,null,null,"Impact net debt and tax"]
[]
[null,null,null,null,"Pension true-up from previous price controls",null,"£m 09/10 prices",null,null,null,null,null,null,null,null,null,null,null,null,null,null,null,null,null,null,null,null,null,null,null,null,null,null,{"$f":"IF(OR(UserInterface!$G$25=\"SHE-Transmission PLC\",UserInterface!$G$25=\"SPTL\"),0,IF(UserInterface!$E$69 = 1,'NGET SO'!AH55,'NGET SO (Blank - not used)'!AH55))","v":0.97533863299335366},{"$f":"IF(OR(UserInterface!$G$25=\"SHE-Transmission PLC\",UserInterface!$G$25=\"SPTL\"),0,IF(UserInterface!$E$69 = 1,'NGET SO'!AI55,'NGET SO (Blank - not used)'!AI55))","v":1.0185656412076189},{"$f":"IF(OR(UserInterface!$G$25=\"SHE-Transmission PLC\",UserInterface!$G$25=\"SPTL\"),0,IF(UserInterface!$E$69 = 1,'NGET SO'!AJ55,'NGET SO (Blank - not used)'!AJ55))","v":1.0626695334719087},{"$f":"IF(OR(UserInterface!$G$25=\"SHE-Transmission PLC\",UserInterface!$G$25=\"SPTL\"),0,IF(UserInterface!$E$69 = 1,'NGET SO'!AK55,'NGET SO (Blank - not used)'!AK55))","v":1.1086831242712423},{"$f":"IF(OR(UserInterface!$G$25=\"SHE-Transmission PLC\",UserInterface!$G$25=\"SPTL\"),0,IF(UserInterface!$E$69 = 1,'NGET SO'!AL55,'NGET SO (Blank - not used)'!AL55))","v":1.1566891035521869},{"$f":"IF(OR(UserInterface!$G$25=\"SHE-Transmission PLC\",UserInterface!$G$25=\"SPTL\"),0,IF(UserInterface!$E$69 = 1,'NGET SO'!AM55,'NGET SO (Blank - not used)'!AM55))","v":1.2067737417359965},{"$f":"IF(OR(UserInterface!$G$25=\"SHE-Transmission PLC\",UserInterface!$G$25=\"SPTL\"),0,IF(UserInterface!$E$69 = 1,'NGET SO'!AN55,'NGET SO (Blank - not used)'!AN55))","v":1.2590270447531651},{"$f":"IF(OR(UserInterface!$G$25=\"SHE-Transmission PLC\",UserInterface!$G$25=\"SPTL\"),0,IF(UserInterface!$E$69 = 1,'NGET SO'!AO55,'NGET SO (Blank - not used)'!AO55))","v":1.313542915790977}]
[]
[null,null,null,"Impact net debt, no impact on tax"]
[]
[null,null,null,null,{"$f":"E16","v":"Legacy price control adjustments to allowed revenue"},null,"£m 09/10 prices",null,null,null,null,null,null,null,null,null,null,null,null,null,null,null,null,null,null,null,null,null,null,null,null,null,null,{"$f":"$AH$16/8","v":1.9673768800481106},{"$f":"$AH$16/8*(1+SystemOperator!$AI$295)","v":2.0545710233718428},{"$f":"$AH$16/8*(1+SystemOperator!$AI$295)*(1+SystemOperator!$AJ$295)","v":2.1435339486838436},{"$f":"$AH$16/8*(1+SystemOperator!$AI$295)*(1+SystemOperator!$AJ$295)*(1+SystemOperator!$AK$295)","v":2.2363489686618538},{"$f":"$AH$16/8*(1+SystemOperator!$AI$295)*(1+SystemOperator!$AJ$295)*(1+SystemOperator!$AK$295)*(1+SystemOperator!$AL$295)","v":2.3331828790049118},{"$f":"$AH$16/8*(1+SystemOperator!$AI$295)*(1+SystemOperator!$AJ$295)*(1+SystemOperator!$AK$295)*(1+SystemOperator!$AL$295)*(1+SystemOperator!$AM$295)","v":2.4342096976658243},{"$f":"$AH$16/8*(1+SystemOperator!$AI$295)*(1+SystemOperator!$AJ$295)*(1+SystemOperator!$AK$295)*(1+SystemOperator!$AL$295)*(1+SystemOperator!$AM$295)*(1+SystemOperator!$AN$295)","v":2.5396109775747542},{"$f":"$AH$16/8*(1+SystemOperator!$AI$295)*(1+SystemOperator!$AJ$295)*(1+SystemOperator!$AK$295)*(1+SystemOperator!$AL$295)*(1+SystemOperator!$AM$295)*(1+SystemOperator!$AN$295)*(1+SystemOperator!$AO$295)","v":2.6495761329037406}]
[]
[]
[]
[]
[]
[]
[]
[null,"Efficiency incentive"]
[]
[null,null,"TIM and capitalisation"]
[]
[null,null,null,null,"Capitalised share of totex",null,"%",null,null,null,null,null,null,null,null,null,null,null,null,null,null,null,null,null,null,null,null,null,null,null,null,{"$f":"IF(OR(UserInterface!$G$25=\"SHE-Transmission PLC\",UserInterface!$G$25=\"SPTL\"),0,IF(UserInterface!$E$69 = 1,'NGET SO'!AF71,'NGET SO (Blank - not used)'!AF71))","v":0},{"$f":"IF(OR(UserInterface!$G$25=\"SHE-Transmission PLC\",UserInterface!$G$25=\"SPTL\"),0,IF(UserInterface!$E$69 = 1,'NGET SO'!AG71,'NGET SO (Blank - not used)'!AG71))","v":0},{"$f":"IF(OR(UserInterface!$G$25=\"SHE-Transmission PLC\",UserInterface!$G$25=\"SPTL\"),0,IF(UserInterface!$E$69 = 1,'NGET SO'!AH71,'NGET SO (Blank - not used)'!AH71))","v":0.27900000000000003},{"$f":"IF(OR(UserInterface!$G$25=\"SHE-Transmission PLC\",UserInterface!$G$25=\"SPTL\"),0,IF(UserInterface!$E$69 = 1,'NGET SO'!AI71,'NGET SO (Blank - not used)'!AI71))","v":0.27900000000000003},{"$f":"IF(OR(UserInterface!$G$25=\"SHE-Transmission PLC\",UserInterface!$G$25=\"SPTL\"),0,IF(UserInterface!$E$69 = 1,'NGET SO'!AJ71,'NGET SO (Blank - not used)'!AJ71))","v":0.27900000000000003},{"$f":"IF(OR(UserInterface!$G$25=\"SHE-Transmission PLC\",UserInterface!$G$25=\"SPTL\"),0,IF(UserInterface!$E$69 = 1,'NGET SO'!AK71,'NGET SO (Blank - not used)'!AK71))","v":0.27900000000000003},{"$f":"IF(OR(UserInterface!$G$25=\"SHE-Transmission PLC\",UserInterface!$G$25=\"SPTL\"),0,IF(UserInterface!$E$69 = 1,'NGET SO'!AL71,'NGET SO (Blank - not used)'!AL71))","v":0.27900000000000003},{"$f":"IF(OR(UserInterface!$G$25=\"SHE-Transmission PLC\",UserInterface!$G$25=\"SPTL\"),0,IF(UserInterface!$E$69 = 1,'NGET SO'!AM71,'NGET SO (Blank - not used)'!AM71))","v":0.27900000000000003},{"$f":"IF(OR(UserInterface!$G$25=\"SHE-Transmission PLC\",UserInterface!$G$25=\"SPTL\"),0,IF(UserInterface!$E$69 = 1,'NGET SO'!AN71,'NGET SO (Blank - not used)'!AN71))","v":0.27900000000000003},{"$f":"IF(OR(UserInterface!$G$25=\"SHE-Transmission PLC\",UserInterface!$G$25=\"SPTL\"),0,IF(UserInterface!$E$69 = 1,'NGET SO'!AO71,'NGET SO (Blank - not used)'!AO71))","v":0.27900000000000003}]
[]
[null,"RAV and assets"]
[]
[null,null,"Post-vesting assets"]
[]
[null,null,null,null,"Post-vesting asset life",null,"years",null,{"$f":"IF(OR(UserInterface!$G$25=\"SHE-Transmission PLC\",UserInterface!$G$25=\"SPTL\"),0.0000001,IF(UserInterface!$E$69 = 1,'NGET SO'!I77,'NGET SO (Blank - not used)'!I77))","v":7}]
[null,null,null,null,"Pre-RIIO net additions to RAV",null,"£m 09/10 prices",null,null,">",null,null,null,null,null,null,null,null,null,null,null,null,{"$f":"IF(OR(UserInterface!$G$25=\"SHE-Transmission PLC\",UserInterface!$G$25=\"SPTL\"),0,IF(UserInterface!$E$69 = 1,'NGET SO'!W78,'NGET SO (Blank - not used)'!W78))","v":0},{"$f":"IF(OR(UserInterface!$G$25=\"SHE-Transmission PLC\",UserInterface!$G$25=\"SPTL\"),0,IF(UserInterface!$E$69 = 1,'NGET SO'!X78,'NGET SO (Blank - not used)'!X78))","v":0},{"$f":"IF(OR(UserInterface!$G$25=\"SHE-Transmission PLC\",UserInterface!$G$25=\"SPTL\"),0,IF(UserInterface!$E$69 = 1,'NGET SO'!Y78,'NGET SO (Blank - not used)'!Y78))","v":0},{"$f":"IF(OR(UserInterface!$G$25=\"SHE-Transmission PLC\",UserInterface!$G$25=\"SPTL\"),0,IF(UserInterface!$E$69 = 1,'NGET SO'!Z78,'NGET SO (Blank - not used)'!Z78))","v":0},{"$f":"IF(OR(UserInterface!$G$25=\"SHE-Transmission PLC\",UserInterface!$G$25=\"SPTL\"),0,IF(UserInterface!$E$69 = 1,'NGET SO'!AA78,'NGET SO (Blank - not used)'!AA78))","v":10.213326566270071},{"$f":"IF(OR(UserInterface!$G$25=\"SHE-Transmission PLC\",UserInterface!$G$25=\"SPTL\"),0,IF(UserInterface!$E$69 = 1,'NGET SO'!AB78,'NGET SO (Blank - not used)'!AB78))","v":9.8341262611961149},{"$f":"IF(OR(UserInterface!$G$25=\"SHE-Transmission PLC\",UserInterface!$G$25=\"SPTL\"),0,IF(UserInterface!$E$69 = 1,'NGET SO'!AC78,'NGET SO (Blank - not used)'!AC78))","v":12.804318823304111},{"$f":"IF(OR(UserInterface!$G$25=\"SHE-Transmission PLC\",UserInterface!$G$25=\"SPTL\"),0,IF(UserInterface!$E$69 = 1,'NGET SO'!AD78,'NGET SO (Blank - not used)'!AD78))","v":10.260191157019948},{"$f":"IF(OR(UserInterface!$G$25=\"SHE-Transmission PLC\",UserInterface!$G$25=\"SPTL\"),0,IF(UserInterface!$E$69 = 1,'NGET SO'!AE78,'NGET SO (Blank - not used)'!AE78))","v":17.555204661718989},{"$f":"IF(OR(UserInterface!$G$25=\"SHE-Transmission PLC\",UserInterface!$G$25=\"SPTL\"),0,IF(UserInterface!$E$69 = 1,'NGET SO'!AF78,'NGET SO (Blank - not used)'!AF78))","v":19.936664914416475},{"$f":"IF(OR(UserInterface!$G$25=\"SHE-Transmission PLC\",UserInterface!$G$25=\"SPTL\"),0,IF(UserInterface!$E$69 = 1,'NGET SO'!AG78,'NGET SO (Blank - not used)'!AG78))","v":28.913417089623657}]
[null,null,null,null,{"$f":"E17","v":"Legacy price control adjustments to RAV"},null,"£m 09/10 prices",null,null,null,null,null,null,null,null,null,null,null,null,null,null,null,null,null,null,null,null,null,null,null,null,null,null,{"$f":"AH17","v":2.9301486584244367}]
[]
[null,null,"Tax pool allocation"]
[]
[null,null,null,"Allocation to \"General\" pool"]
[]
[null,null,null,null,"Non-operational capex",null,"%",null,null,null,null,null,null,null,null,null,null,null,null,null,null,null,null,null,null,null,null,null,null,null,null,null,null,{"$f":"IF(OR(UserInterface!$G$25=\"SHE-Transmission PLC\",UserInterface!$G$25=\"SPTL\"),0,IF(UserInterface!$E$69 = 1,'NGET SO'!AH85,'NGET SO (Blank - not used)'!AH85))","v":1},{"$f":"IF(OR(UserInterface!$G$25=\"SHE-Transmission PLC\",UserInterface!$G$25=\"SPTL\"),0,IF(UserInterface!$E$69 = 1,'NGET SO'!AI85,'NGET SO (Blank - not used)'!AI85))","v":1},{"$f":"IF(OR(UserInterface!$G$25=\"SHE-Transmission PLC\",UserInterface!$G$25=\"SPTL\"),0,IF(UserInterface!$E$69 = 1,'NGET SO'!AJ85,'NGET SO (Blank - not used)'!AJ85))","v":1},{"$f":"IF(OR(UserInterface!$G$25=\"SHE-Transmission PLC\",UserInterface!$G$25=\"SPTL\"),0,IF(UserInterface!$E$69 = 1,'NGET SO'!AK85,'NGET SO (Blank - not used)'!AK85))","v":1},{"$f":"IF(OR(UserInterface!$G$25=\"SHE-Transmission PLC\",UserInterface!$G$25=\"SPTL\"),0,IF(UserInterface!$E$69 = 1,'NGET SO'!AL85,'NGET SO (Blank - not used)'!AL85))","v":1},{"$f":"IF(OR(UserInterface!$G$25=\"SHE-Transmission PLC\",UserInterface!$G$25=\"SPTL\"),0,IF(UserInterface!$E$69 = 1,'NGET SO'!AM85,'NGET SO (Blank - not used)'!AM85))","v":1},{"$f":"IF(OR(UserInterface!$G$25=\"SHE-Transmission PLC\",UserInterface!$G$25=\"SPTL\"),0,IF(UserInterface!$E$69 = 1,'NGET SO'!AN85,'NGET SO (Blank - not used)'!AN85))","v":1},{"$f":"IF(OR(UserInterface!$G$25=\"SHE-Transmission PLC\",UserInterface!$G$25=\"SPTL\"),0,IF(UserInterface!$E$69 = 1,'NGET SO'!AO85,'NGET SO (Blank - not used)'!AO85))","v":1}]
[null,null,null,null,"Controllable opex",null,"%",null,null,null,null,null,null,null,null,null,null,null,null,null,null,null,null,null,null,null,null,null,null,null,null,null,null,{"$f":"IF(OR(UserInterface!$G$25=\"SHE-Transmission PLC\",UserInterface!$G$25=\"SPTL\"),0,IF(UserInterface!$E$69 = 1,'NGET SO'!AH86,'NGET SO (Blank - not used)'!AH86))","v":0},{"$f":"IF(OR(UserInterface!$G$25=\"SHE-Transmission PLC\",UserInterface!$G$25=\"SPTL\"),0,IF(UserInterface!$E$69 = 1,'NGET SO'!AI86,'NGET SO (Blank - not used)'!AI86))","v":0},{"$f":"IF(OR(UserInterface!$G$25=\"SHE-Transmission PLC\",UserInterface!$G$25=\"SPTL\"),0,IF(UserInterface!$E$69 = 1,'NGET SO'!AJ86,'NGET SO (Blank - not used)'!AJ86))","v":0},{"$f":"IF(OR(UserInterface!$G$25=\"SHE-Transmission PLC\",UserInterface!$G$25=\"SPTL\"),0,IF(UserInterface!$E$69 = 1,'NGET SO'!AK86,'NGET SO (Blank - not used)'!AK86))","v":0},{"$f":"IF(OR(UserInterface!$G$25=\"SHE-Transmission PLC\",UserInterface!$G$25=\"SPTL\"),0,IF(UserInterface!$E$69 = 1,'NGET SO'!AL86,'NGET SO (Blank - not used)'!AL86))","v":0},{"$f":"IF(OR(UserInterface!$G$25=\"SHE-Transmission PLC\",UserInterface!$G$25=\"SPTL\"),0,IF(UserInterface!$E$69 = 1,'NGET SO'!AM86,'NGET SO (Blank - not used)'!AM86))","v":0},{"$f":"IF(OR(UserInterface!$G$25=\"SHE-Transmission PLC\",UserInterface!$G$25=\"SPTL\"),0,IF(UserInterface!$E$69 = 1,'NGET SO'!AN86,'NGET SO (Blank - not used)'!AN86))","v":0},{"$f":"IF(OR(UserInterface!$G$25=\"SHE-Transmission PLC\",UserInterface!$G$25=\"SPTL\"),0,IF(UserInterface!$E$69 = 1,'NGET SO'!AO86,'NGET SO (Blank - not used)'!AO86))","v":0}]
[]
[null,null,null,"Allocation to \"Revenue\" pool"]
[]
[null,null,null,null,"Non-operational capex",null,"%",null,null,null,null,null,null,null,null,null,null,null,null,null,null,null,null,null,null,null,null,null,null,null,null,null,null,{"$f":"IF(OR(UserInterface!$G$25=\"SHE-Transmission PLC\",UserInterface!$G$25=\"SPTL\"),0,IF(UserInterface!$E$69 = 1,'NGET SO'!AH90,'NGET SO (Blank - not used)'!AH90))","v":0},{"$f":"IF(OR(UserInterface!$G$25=\"SHE-Transmission PLC\",UserInterface!$G$25=\"SPTL\"),0,IF(UserInterface!$E$69 = 1,'NGET SO'!AI90,'NGET SO (Blank - not used)'!AI90))","v":0},{"$f":"IF(OR(UserInterface!$G$25=\"SHE-Transmission PLC\",UserInterface!$G$25=\"SPTL\"),0,IF(UserInterface!$E$69 = 1,'NGET SO'!AJ90,'NGET SO (Blank - not used)'!AJ90))","v":0},{"$f":"IF(OR(UserInterface!$G$25=\"SHE-Transmission PLC\",UserInterface!$G$25=\"SPTL\"),0,IF(UserInterface!$E$69 = 1,'NGET SO'!AK90,'NGET SO (Blank - not used)'!AK90))","v":0},{"$f":"IF(OR(UserInterface!$G$25=\"SHE-Transmission PLC\",UserInterface!$G$25=\"SPTL\"),0,IF(UserInterface!$E$69 = 1,'NGET SO'!AL90,'NGET SO (Blank - not used)'!AL90))","v":0},{"$f":"IF(OR(UserInterface!$G$25=\"SHE-Transmission PLC\",UserInterface!$G$25=\"SPTL\"),0,IF(UserInterface!$E$69 = 1,'NGET SO'!AM90,'NGET SO (Blank - not used)'!AM90))","v":0},{"$f":"IF(OR(UserInterface!$G$25=\"SHE-Transmission PLC\",UserInterface!$G$25=\"SPTL\"),0,IF(UserInterface!$E$69 = 1,'NGET SO'!AN90,'NGET SO (Blank - not used)'!AN90))","v":0},{"$f":"IF(OR(UserInterface!$G$25=\"SHE-Transmission PLC\",UserInterface!$G$25=\"SPTL\"),0,IF(UserInterface!$E$69 = 1,'NGET SO'!AO90,'NGET SO (Blank - not used)'!AO90))","v":0}]
[null,null,null,null,"Controllable opex",null,"%",null,null,null,null,null,null,null,null,null,null,null,null,null,null,null,null,null,null,null,null,null,null,null,null,null,null,{"$f":"IF(OR(UserInterface!$G$25=\"SHE-Transmission PLC\",UserInterface!$G$25=\"SPTL\"),0,IF(UserInterface!$E$69 = 1,'NGET SO'!AH91,'NGET SO (Blank - not used)'!AH91))","v":1},{"$f":"IF(OR(UserInterface!$G$25=\"SHE-Transmission PLC\",UserInterface!$G$25=\"SPTL\"),0,IF(UserInterface!$E$69 = 1,'NGET SO'!AI91,'NGET SO (Blank - not used)'!AI91))","v":1},{"$f":"IF(OR(UserInterface!$G$25=\"SHE-Transmission PLC\",UserInterface!$G$25=\"SPTL\"),0,IF(UserInterface!$E$69 = 1,'NGET SO'!AJ91,'NGET SO (Blank - not used)'!AJ91))","v":1},{"$f":"IF(OR(UserInterface!$G$25=\"SHE-Transmission PLC\",UserInterface!$G$25=\"SPTL\"),0,IF(UserInterface!$E$69 = 1,'NGET SO'!AK91,'NGET SO (Blank - not used)'!AK91))","v":1},{"$f":"IF(OR(UserInterface!$G$25=\"SHE-Transmission PLC\",UserInterface!$G$25=\"SPTL\"),0,IF(UserInterface!$E$69 = 1,'NGET SO'!AL91,'NGET SO (Blank - not used)'!AL91))","v":1},{"$f":"IF(OR(UserInterface!$G$25=\"SHE-Transmission PLC\",UserInterface!$G$25=\"SPTL\"),0,IF(UserInterface!$E$69 = 1,'NGET SO'!AM91,'NGET SO (Blank - not used)'!AM91))","v":1},{"$f":"IF(OR(UserInterface!$G$25=\"SHE-Transmission PLC\",UserInterface!$G$25=\"SPTL\"),0,IF(UserInterface!$E$69 = 1,'NGET SO'!AN91,'NGET SO (Blank - not used)'!AN91))","v":1},{"$f":"IF(OR(UserInterface!$G$25=\"SHE-Transmission PLC\",UserInterface!$G$25=\"SPTL\"),0,IF(UserInterface!$E$69 = 1,'NGET SO'!AO91,'NGET SO (Blank - not used)'!AO91))","v":1}]
[]
[null,null,null,"Allocation to \"Non Qualifying\" pool"]
[]
[null,null,null,null,"Non-operational capex",null,"%",null,null,null,null,null,null,null,null,null,null,null,null,null,null,null,null,null,null,null,null,null,null,null,null,null,null,{"$f":"IF(OR(UserInterface!$G$25=\"SHE-Transmission PLC\",UserInterface!$G$25=\"SPTL\"),0,IF(UserInterface!$E$69 = 1,'NGET SO'!AH95,'NGET SO (Blank - not used)'!AH95))","v":0},{"$f":"IF(OR(UserInterface!$G$25=\"SHE-Transmission PLC\",UserInterface!$G$25=\"SPTL\"),0,IF(UserInterface!$E$69 = 1,'NGET SO'!AI95,'NGET SO (Blank - not used)'!AI95))","v":0},{"$f":"IF(OR(UserInterface!$G$25=\"SHE-Transmission PLC\",UserInterface!$G$25=\"SPTL\"),0,IF(UserInterface!$E$69 = 1,'NGET SO'!AJ95,'NGET SO (Blank - not used)'!AJ95))","v":0},{"$f":"IF(OR(UserInterface!$G$25=\"SHE-Transmission PLC\",UserInterface!$G$25=\"SPTL\"),0,IF(UserInterface!$E$69 = 1,'NGET SO'!AK95,'NGET SO (Blank - not used)'!AK95))","v":0},{"$f":"IF(OR(UserInterface!$G$25=\"SHE-Transmission PLC\",UserInterface!$G$25=\"SPTL\"),0,IF(UserInterface!$E$69 = 1,'NGET SO'!AL95,'NGET SO (Blank - not used)'!AL95))","v":0},{"$f":"IF(OR(UserInterface!$G$25=\"SHE-Transmission PLC\",UserInterface!$G$25=\"SPTL\"),0,IF(UserInterface!$E$69 = 1,'NGET SO'!AM95,'NGET SO (Blank - not used)'!AM95))","v":0},{"$f":"IF(OR(UserInterface!$G$25=\"SHE-Transmission PLC\",UserInterface!$G$25=\"SPTL\"),0,IF(UserInterface!$E$69 = 1,'NGET SO'!AN95,'NGET SO (Blank - not used)'!AN95))","v":0},{"$f":"IF(OR(UserInterface!$G$25=\"SHE-Transmission PLC\",UserInterface!$G$25=\"SPTL\"),0,IF(UserInterface!$E$69 = 1,'NGET SO'!AO95,'NGET SO (Blank - not used)'!AO95))","v":0}]
[null,null,null,null,"Controllable opex",null,"%",null,null,null,null,null,null,null,null,null,null,null,null,null,null,null,null,null,null,null,null,null,null,null,null,null,null,{"$f":"IF(OR(UserInterface!$G$25=\"SHE-Transmission PLC\",UserInterface!$G$25=\"SPTL\"),0,IF(UserInterface!$E$69 = 1,'NGET SO'!AH96,'NGET SO (Blank - not used)'!AH96))","v":0},{"$f":"IF(OR(UserInterface!$G$25=\"SHE-Transmission PLC\",UserInterface!$G$25=\"SPTL\"),0,IF(UserInterface!$E$69 = 1,'NGET SO'!AI96,'NGET SO (Blank - not used)'!AI96))","v":0},{"$f":"IF(OR(UserInterface!$G$25=\"SHE-Transmission PLC\",UserInterface!$G$25=\"SPTL\"),0,IF(UserInterface!$E$69 = 1,'NGET SO'!AJ96,'NGET SO (Blank - not used)'!AJ96))","v":0},{"$f":"IF(OR(UserInterface!$G$25=\"SHE-Transmission PLC\",UserInterface!$G$25=\"SPTL\"),0,IF(UserInterface!$E$69 = 1,'NGET SO'!AK96,'NGET SO (Blank - not used)'!AK96))","v":0},{"$f":"IF(OR(UserInterface!$G$25=\"SHE-Transmission PLC\",UserInterface!$G$25=\"SPTL\"),0,IF(UserInterface!$E$69 = 1,'NGET SO'!AL96,'NGET SO (Blank - not used)'!AL96))","v":0},{"$f":"IF(OR(UserInterface!$G$25=\"SHE-Transmission PLC\",UserInterface!$G$25=\"SPTL\"),0,IF(UserInterface!$E$69 = 1,'NGET SO'!AM96,'NGET SO (Blank - not used)'!AM96))","v":0},{"$f":"IF(OR(UserInterface!$G$25=\"SHE-Transmission PLC\",UserInterface!$G$25=\"SPTL\"),0,IF(UserInterface!$E$69 = 1,'NGET SO'!AN96,'NGET SO (Blank - not used)'!AN96))","v":0},{"$f":"IF(OR(UserInterface!$G$25=\"SHE-Transmission PLC\",UserInterface!$G$25=\"SPTL\"),0,IF(UserInterface!$E$69 = 1,'NGET SO'!AO96,'NGET SO (Blank - not used)'!AO96))","v":0}]
[]
[null,"Tax"]
[]
[null,null,"Tax policy"]
[]
[null,null,null,null,"Opening balance brought forward",null,"£m nominal",null,null,null,null,null,null,null,null,null,null,null,null,null,null,null,null,null,null,null,null,null,null,null,null,null,null,{"$f":"IF(OR(UserInterface!$G$25=\"SHE-Transmission PLC\",UserInterface!$G$25=\"SPTL\"),0,IF(UserInterface!$E$69 = 1,'NGET SO'!AH102,'NGET SO (Blank - not used)'!AH102))","v":53.649535999999998}]
[null,null,null,null,"General pool allowance rate",null,"%",null,null,null,null,null,null,null,null,null,null,null,null,null,null,null,null,null,null,null,null,null,null,null,null,null,null,{"$f":"IF(OR(UserInterface!$G$25=\"SHE-Transmission PLC\",UserInterface!$G$25=\"SPTL\"),0,IF(UserInterface!$E$69 = 1,'NGET SO'!AH103,'NGET SO (Blank - not used)'!AH103))","v":0.18},{"$f":"IF(OR(UserInterface!$G$25=\"SHE-Transmission PLC\",UserInterface!$G$25=\"SPTL\"),0,IF(UserInterface!$E$69 = 1,'NGET SO'!AI103,'NGET SO (Blank - not used)'!AI103))","v":0.18},{"$f":"IF(OR(UserInterface!$G$25=\"SHE-Transmission PLC\",UserInterface!$G$25=\"SPTL\"),0,IF(UserInterface!$E$69 = 1,'NGET SO'!AJ103,'NGET SO (Blank - not used)'!AJ103))","v":0.18},{"$f":"IF(OR(UserInterface!$G$25=\"SHE-Transmission PLC\",UserInterface!$G$25=\"SPTL\"),0,IF(UserInterface!$E$69 = 1,'NGET SO'!AK103,'NGET SO (Blank - not used)'!AK103))","v":0.18},{"$f":"IF(OR(UserInterface!$G$25=\"SHE-Transmission PLC\",UserInterface!$G$25=\"SPTL\"),0,IF(UserInterface!$E$69 = 1,'NGET SO'!AL103,'NGET SO (Blank - not used)'!AL103))","v":0.18},{"$f":"IF(OR(UserInterface!$G$25=\"SHE-Transmission PLC\",UserInterface!$G$25=\"SPTL\"),0,IF(UserInterface!$E$69 = 1,'NGET SO'!AM103,'NGET SO (Blank - not used)'!AM103))","v":0.18},{"$f":"IF(OR(UserInterface!$G$25=\"SHE-Transmission PLC\",UserInterface!$G$25=\"SPTL\"),0,IF(UserInterface!$E$69 = 1,'NGET SO'!AN103,'NGET SO (Blank - not used)'!AN103))","v":0.18},{"$f":"IF(OR(UserInterface!$G$25=\"SHE-Transmission PLC\",UserInterface!$G$25=\"SPTL\"),0,IF(UserInterface!$E$69 = 1,'NGET SO'!AO103,'NGET SO (Blank - not used)'!AO103))","v":0.18}]
[]
[null,null,null,null,"Special Rate capital allowance opening balance brought forward",null,"£m nominal",null,null,null,null,null,null,null,null,null,null,null,null,null,null,null,null,null,null,null,null,null,null,null,null,null,null,{"$f":"IF(OR(UserInterface!$G$25=\"SHE-Transmission PLC\",UserInterface!$G$25=\"SPTL\"),0,IF(UserInterface!$E$69 = 1,'NGET SO'!AH105,'NGET SO (Blank - not used)'!AH105))","v":31.783144066776011}]
[null,null,null,null,"Special Rate allowance rate",null,"%",null,null,null,null,null,null,null,null,null,null,null,null,null,null,null,null,null,null,null,null,null,null,null,null,null,null,{"$f":"IF(OR(UserInterface!$G$25=\"SHE-Transmission PLC\",UserInterface!$G$25=\"SPTL\"),0,IF(UserInterface!$E$69 = 1,'NGET SO'!AH106,'NGET SO (Blank - not used)'!AH106))","v":0.08},{"$f":"IF(OR(UserInterface!$G$25=\"SHE-Transmission PLC\",UserInterface!$G$25=\"SPTL\"),0,IF(UserInterface!$E$69 = 1,'NGET SO'!AI106,'NGET SO (Blank - not used)'!AI106))","v":0.08},{"$f":"IF(OR(UserInterface!$G$25=\"SHE-Transmission PLC\",UserInterface!$G$25=\"SPTL\"),0,IF(UserInterface!$E$69 = 1,'NGET SO'!AJ106,'NGET SO (Blank - not used)'!AJ106))","v":0.08},{"$f":"IF(OR(UserInterface!$G$25=\"SHE-Transmission PLC\",UserInterface!$G$25=\"SPTL\"),0,IF(UserInterface!$E$69 = 1,'NGET SO'!AK106,'NGET SO (Blank - not used)'!AK106))","v":0.08},{"$f":"IF(OR(UserInterface!$G$25=\"SHE-Transmission PLC\",UserInterface!$G$25=\"SPTL\"),0,IF(UserInterface!$E$69 = 1,'NGET SO'!AL106,'NGET SO (Blank - not used)'!AL106))","v":0.08},{"$f":"IF(OR(UserInterface!$G$25=\"SHE-Transmission PLC\",UserInterface!$G$25=\"SPTL\"),0,IF(UserInterface!$E$69 = 1,'NGET SO'!AM106,'NGET SO (Blank - not used)'!AM106))","v":0.08},{"$f":"IF(OR(UserInterface!$G$25=\"SHE-Transmission PLC\",UserInterface!$G$25=\"SPTL\"),0,IF(UserInterface!$E$69 = 1,'NGET SO'!AN106,'NGET SO (Blank - not used)'!AN106))","v":0.08},{"$f":"IF(OR(UserInterface!$G$25=\"SHE-Transmission PLC\",UserInterface!$G$25=\"SPTL\"),0,IF(UserInterface!$E$69 = 1,'NGET SO'!AO106,'NGET SO (Blank - not used)'!AO106))","v":0.08}]
[]
[null,null,null,null,"Deferred revenue expenditure opening balance brought forward",null,"£m nominal",null,null,null,null,null,null,null,null,null,null,null,null,null,null,null,null,null,null,null,null,null,null,null,null,null,null,{"$f":"IF(OR(UserInterface!$G$25=\"SHE-Transmission PLC\",UserInterface!$G$25=\"SPTL\"),0,IF(UserInterface!$E$69 = 1,'NGET SO'!AH108,'NGET SO (Blank - not used)'!AH108))","v":1.843}]
[null,null,null,null,"Deferred revenue expenditure allowance rate",null,"%",null,null,null,null,null,null,null,null,null,null,null,null,null,null,null,null,null,null,null,null,null,null,null,null,null,null,{"$f":"IF(OR(UserInterface!$G$25=\"SHE-Transmission PLC\",UserInterface!$G$25=\"SPTL\"),0,IF(UserInterface!$E$69 = 1,'NGET SO'!AH109,'NGET SO (Blank - not used)'!AH109))","v":0.03},{"$f":"IF(OR(UserInterface!$G$25=\"SHE-Transmission PLC\",UserInterface!$G$25=\"SPTL\"),0,IF(UserInterface!$E$69 = 1,'NGET SO'!AI109,'NGET SO (Blank - not used)'!AI109))","v":0.03},{"$f":"IF(OR(UserInterface!$G$25=\"SHE-Transmission PLC\",UserInterface!$G$25=\"SPTL\"),0,IF(UserInterface!$E$69 = 1,'NGET SO'!AJ109,'NGET SO (Blank - not used)'!AJ109))","v":0.03},{"$f":"IF(OR(UserInterface!$G$25=\"SHE-Transmission PLC\",UserInterface!$G$25=\"SPTL\"),0,IF(UserInterface!$E$69 = 1,'NGET SO'!AK109,'NGET SO (Blank - not used)'!AK109))","v":0.03},{"$f":"IF(OR(UserInterface!$G$25=\"SHE-Transmission PLC\",UserInterface!$G$25=\"SPTL\"),0,IF(UserInterface!$E$69 = 1,'NGET SO'!AL109,'NGET SO (Blank - not used)'!AL109))","v":0.03},{"$f":"IF(OR(UserInterface!$G$25=\"SHE-Transmission PLC\",UserInterface!$G$25=\"SPTL\"),0,IF(UserInterface!$E$69 = 1,'NGET SO'!AM109,'NGET SO (Blank - not used)'!AM109))","v":0.03},{"$f":"IF(OR(UserInterface!$G$25=\"SHE-Transmission PLC\",UserInterface!$G$25=\"SPTL\"),0,IF(UserInterface!$E$69 = 1,'NGET SO'!AN109,'NGET SO (Blank - not used)'!AN109))","v":0.03},{"$f":"IF(OR(UserInterface!$G$25=\"SHE-Transmission PLC\",UserInterface!$G$25=\"SPTL\"),0,IF(UserInterface!$E$69 = 1,'NGET SO'!AO109,'NGET SO (Blank - not used)'!AO109))","v":0.03}]
[]
[null,"Totex"]
[]
[null,null,"Actual totex"]
[]
[null,null,null,"Source of actuals"]
[null,null,null,"Note: The model assumes that there is a time lag from year t until actual expenditure data becomes available for the model. After the lag, actual expenditure inputs are used. Up to that point the model generates a forecast actual expenditure."]
[null,null,null,"When required in the model, forecasts assume that actuals are equal to their corresponding allowance."]
[null,null,null,"In a year where actual totex is assumed to be available, values must be inputted to the model as it will not generate a forecast and the empty input cell will be read as an actual spend of zero."]
[]
[null,null,null,null,"Years from t until normal reporting of actual costs",null,"years",null,{"$f":"Input!I50","v":2}]
[null,null,null,null,"Input actuals used",null,"text",null,null,null,null,null,null,null,null,null,null,null,null,null,null,null,null,null,null,null,null,null,null,null,null,null,null,{"$f":"YEAR($I$4) >= YEAR(AH$4) + $I120","v":true},{"$f":"YEAR($I$4) >= YEAR(AI$4) + $I120","v":false},false,false,false,false,false,false]
[null,null,null,null,"Forecast actuals generated from allowances",null,"text",null,null,null,null,null,null,null,null,null,null,null,null,null,null,null,null,null,null,null,null,null,null,null,null,null,null,{"$f":"YEAR($I$4) < YEAR(AH$4) + $I120","v":false},true,true,true,true,true,true,true]
[]
[null,null,null,"Totex applied"]
[null,null,null,"Note: Actuals are exported both to identify performance against the allowance and to generate writing down allowances used in the tax calculation."]
[]
[null,null,null,null,"Actual non-operational capex",null,"£m 09/10 prices",null,null,null,null,null,null,null,null,null,null,null,null,null,null,null,null,null,null,null,null,null,null,null,null,null,null,{"$f":"IF(AH121, AH8, AH25 + AH41)","v":32.211091901803051},34.533666772300464,29.89507615713995,27.165060319864111,29.591699211758403,20.377561078577621,25.429651204161818,25.40838563392731]
[null,null,null,null,"Actual controllable opex",null,"£m 09/10 prices",null,null,null,null,null,null,null,null,null,null,null,null,null,null,null,null,null,null,null,null,null,null,null,null,null,null,{"$f":"IF(AH121, AH9, AH26  +  AH42)","v":79.703447095651597},76.252290793520885,79.090264132717238,78.582137772280092,79.36050736397776,79.998881974263142,81.754729960219521,83.672873632490891]
[null,null,null,null,"Actual totex",null,"£m 09/10 prices",null,null,null,null,null,null,null,null,null,null,null,null,null,null,null,null,null,null,null,null,null,null,null,null,null,null,{"$f":"SUM(AH127:AH128)","v":111.91453899745466},110.78595756582135,108.98534028985719,105.7471980921442,108.95220657573617,100.37644305284076,107.18438116438134,109.0812592664182]
[]
[null,"TIM"]
[]
[null,null,"Post-TIM overspend (underspend)"]
[null,null,"Note: Totex overspend (underspend) is identified and subject to the \"efficiency incentive rate.\""]
[]
[null,null,null,null,"Actual totex",null,"£m 09/10 prices",null,null,null,null,null,null,null,null,null,null,null,null,null,null,null,null,null,null,null,null,null,null,null,null,null,null,{"$f":"AH129","v":111.91453899745466},{"$f":"AI129","v":110.78595756582135},108.98534028985719,105.7471980921442,108.95220657573617,100.37644305284076,107.18438116438134,109.0812592664182]
[null,null,null,null,"Less allowed totex",null,"£m 09/10 prices",null,null,null,null,null,null,null,null,null,null,null,null,null,null,null,null,null,null,null,null,null,null,null,null,null,null,{"$f":"-SUM(AH25:AH26, AH41:AH42)","v":-125.60528970503313},-110.78595756582135,-108.98534028985719,-105.7471980921442,-108.95220657573617,-100.37644305284076,-107.18438116438134,-109.0812592664182]
[null,null,null,null,"Pre-TIM overspend (underspend)",null,"£m 09/10 prices",null,null,null,null,null,null,null,null,null,null,null,null,null,null,null,null,null,null,null,null,null,null,null,null,null,null,{"$f":"SUM(AH136:AH137)","v":-13.690750707578474},0,0,0,0,0,0,0]
[]
[null,null,null,null,"Funding Adjustment Rate (often refered to as 'sharing factor')",null,"%",null,null,null,null,null,null,null,null,null,null,null,null,null,null,null,null,null,null,null,null,null,null,null,null,null,null,{"$f":"(1 - TIM!$I$14)","v":0.53110000000000002},{"$f":"(1 - TIM!$I$14)","v":0.53110000000000002},{"$f":"(1 - TIM!$I$14)","v":0.53110000000000002},{"$f":"(1 - TIM!$I$14)","v":0.53110000000000002},{"$f":"(1 - TIM!$I$14)","v":0.53110000000000002},{"$f":"(1 - TIM!$I$14)","v":0.53110000000000002},{"$f":"(1 - TIM!$I$14)","v":0.53110000000000002},{"$f":"(1 - TIM!$I$14)","v":0.53110000000000002}]
[]
[null,null,null,null,"Post-TIM overspend (underspend)",null,"£m 09/10 prices",null,null,null,null,null,null,null,null,null,null,null,null,null,null,null,null,null,null,null,null,null,null,null,null,null,null,{"$f":"AH$140 * AH138","v":-7.2711577007949275},{"$f":"AI$140 * AI138","v":0},0,0,0,0,0,0]
[]
[null,null,"Post-TIM totex"]
[null,null,"Note: \"Post-TIM overspend (underspend)\" is added to the allowed totex value to give the Post-TIM totex allowance to be split into fast and slow money."]
[]
[null,null,null,null,"Allowed totex",null,"£m 09/10 prices",null,null,null,null,null,null,null,null,null,null,null,null,null,null,null,null,null,null,null,null,null,null,null,null,null,null,{"$f":"-AH137","v":125.60528970503313},{"$f":"-AI137","v":110.78595756582135},108.98534028985719,105.7471980921442,108.95220657573617,100.37644305284076,107.18438116438134,109.0812592664182]
[null,null,null,null,"Post-TIM overspend (underspend)",null,"£m 09/10 prices",null,null,null,null,null,null,null,null,null,null,null,null,null,null,null,null,null,null,null,null,null,null,null,null,null,null,{"$f":"AH142","v":-7.2711577007949275},0,0,0,0,0,0,0]
[null,null,null,null,"Post-TIM totex",null,"£m 09/10 prices",null,null,null,null,null,null,null,null,null,null,null,null,null,null,null,null,null,null,null,null,null,null,null,null,null,null,{"$f":"SUM(AH147:AH148)","v":118.3341320042382},110.78595756582135,108.98534028985719,105.7471980921442,108.95220657573617,100.37644305284076,107.18438116438134,109.0812592664182]
[]
[null,"Capitalisation"]
[null,"Note: The weighted capitalised share of totex the Transmission operators is weighted based on the relative share of allowance to totex, wider works and enter & exit."]
[null,"Post-TIM totex is allocated into \"fast\" and \"slow\" elements based on a pre-set percentage split:"]
[null,"- \"fast money \" is exported to the \"Revenue\" sheet where it is included as an element of \"recalculated base revenue;\" and"]
[null,"- \"slow money \" is exported to the \"Depn\" sheet where it is added to RAV. Slow money is recovered over the life of the RAV through regulatory depreciation and return allowances."]
[]
[null,null,null,null,"Post-TIM totex",null,"£m 09/10 prices",null,null,null,null,null,null,null,null,null,null,null,null,null,null,null,null,null,null,null,null,null,null,null,null,null,null,{"$f":"AH149","v":118.3341320042382},110.78595756582135,108.98534028985719,105.7471980921442,108.95220657573617,100.37644305284076,107.18438116438134,109.0812592664182]
[null,null,null,null,"Capitalised share of totex",null,"%",null,null,null,null,null,null,null,null,null,null,null,null,null,null,null,null,null,null,null,null,null,null,null,null,null,null,{"$f":"AH71","v":0.27900000000000003},0.27900000000000003,0.27900000000000003,0.27900000000000003,0.27900000000000003,0.27900000000000003,0.27900000000000003,0.27900000000000003]
[]
[null,null,null,null,"Fast pot expenditure",null,"£m 09/10 prices",null,null,null,null,null,null,null,null,null,null,null,null,null,null,null,null,null,null,null,null,null,null,null,null,null,null,{"$f":"AH$157 * (1 - AH158)","v":85.318909175055737},{"$f":"AI$157 * (1 - AI158)","v":79.876675404957183},78.578430348987027,76.243729824435974,78.55454094110577,72.371415441098179,77.279938819518947,78.647587931087514]
[]
[null,null,null,null,"Slow pot expenditure",null,"£m 09/10 prices",null,null,null,null,null,null,null,null,null,null,null,null,null,null,null,null,null,null,null,null,null,null,null,null,null,null,{"$f":"AH$157 * AH158","v":33.015222829182463},{"$f":"AI$157 * AI158","v":30.909282160864159},30.406909940870158,29.503468267708236,30.397665634630393,28.005027611742573,29.904442344862396,30.433671335330679]
[]
[null,"Additional income"]
[null,"Note: The additional income lump sum is recovered across the price control and is matched to the profile of allowed totex set at final proposals."]
[]
[null,null,null,null,"Additional income",null,"£m 09/10 prices",null,{"$f":"TIM!I28*(1-TIM!I32)","v":7.0928230769456135}]
[]
[null,null,null,null,"Original allowed totex (set at final proposals)",null,"£m 09/10 prices",null,null,null,null,null,null,null,null,null,null,null,null,null,null,null,null,null,null,null,null,null,null,null,null,null,null,{"$f":"SUM(AH25:AH26)","v":113.00528970503314},109.06595756582135,106.41534028985718,105.7471980921442,108.95220657573617,100.37644305284076,107.18438116438134,109.0812592664182]
[null,null,null,null,"Total allowed totex in price control (set at final proposals)",null,"£m 09/10 prices",null,{"$f":"SUM($AH169:$AO169)","v":859.82807571223236}]
[]
[null,null,null,null,"Share of additional income allowed in year",null,"%",null,null,null,null,null,null,null,null,null,null,null,null,null,null,null,null,null,null,null,null,null,null,null,null,null,null,{"$f":"IFERROR(AH169 / $I170, 0)","v":0.13142777364117358},{"$f":"IFERROR(AI169 / $I170, 0)","v":0.12684623897106098},0.12376350958499327,0.12298644470820434,0.12671394393057753,0.11674013199638156,0.12465792196375529,0.12686403520385342]
[]
[null,null,null,null,"Additional income",null,"£m 09/10 prices",null,null,null,null,null,null,null,null,null,null,null,null,null,null,null,null,null,null,null,null,null,null,null,null,null,null,{"$f":"$I167 * AH172","v":0.93219394583370041},{"$f":"$I167 * AI172","v":0.89969793099769935},0.87783267686821986,0.87232109317784745,0.89875958568159287,0.82801710222961211,0.88417658562860901,0.89982415652833225]
[]
[null,"Tax pool additions"]
[null,"Note: Actual totex is combined with other expenditure and allocated to tax pools. Each cost sub-category can have its own percentage split between each pool."]
[]
[null,null,"Tax pool allocation"]
[]
[null,null,null,"General pool"]
[]
[null,null,null,null,"Non-operational capex",null,"%",null,null,null,null,null,null,null,null,null,null,null,null,null,null,null,null,null,null,null,null,null,null,null,null,null,null,{"$f":"AH85","v":1},1,1,1,1,1,1,1]
[null,null,null,null,"Controllable opex",null,"%",null,null,null,null,null,null,null,null,null,null,null,null,null,null,null,null,null,null,null,null,null,null,null,null,null,null,0,0,0,0,0,0,0,0]
[]
[null,null,null,null,"General pool additions",null,"£m 09/10 prices",null,null,null,null,null,null,null,null,null,null,null,null,null,null,null,null,null,null,null,null,null,null,null,null,null,null,{"$f":"SUMPRODUCT(AH127:AH128,AH183:AH184)","v":32.211091901803051},34.533666772300464,29.89507615713995,27.165060319864111,29.591699211758403,20.377561078577621,25.429651204161818,25.40838563392731]
[]
[null,null,null,"Revenue pool"]
[]
[null,null,null,null,"Non-operational capex",null,"%",null,null,null,null,null,null,null,null,null,null,null,null,null,null,null,null,null,null,null,null,null,null,null,null,null,null,{"$f":"AH90","v":0},0,0,0,0,0,0,0]
[null,null,null,null,"Controllable opex",null,"%",null,null,null,null,null,null,null,null,null,null,null,null,null,null,null,null,null,null,null,null,null,null,null,null,null,null,1,1,1,1,1,1,1,1]
[]
[null,null,null,null,"Revenue pool additions",null,"£m 09/10 prices",null,null,null,null,null,null,null,null,null,null,null,null,null,null,null,null,null,null,null,null,null,null,null,null,null,null,{"$f":"SUMPRODUCT(AH127:AH128,AH190:AH191)","v":79.703447095651597},76.252290793520885,79.090264132717238,78.582137772280092,79.36050736397776,79.998881974263142,81.754729960219521,83.672873632490891]
[]
[null,null,null,"Non-qualifying expenditure"]
[]
[null,null,null,null,"Non-operational capex",null,"%",null,null,null,null,null,null,null,null,null,null,null,null,null,null,null,null,null,null,null,null,null,null,null,null,null,null,{"$f":"AH95","v":0},0,0,0,0,0,0,0]
[null,null,null,null,"Controllable opex",null,"%",null,null,null,null,null,null,null,null,null,null,null,null,null,null,null,null,null,null,null,null,null,null,null,null,null,null,0,0,0,0,0,0,0,0]
[]
[null,null,null,null,"Non-qualifying expenditure additions",null,"£m 09/10 prices",null,null,null,null,null,null,null,null,null,null,null,null,null,null,null,null,null,null,null,null,null,null,null,null,null,null,{"$f":"SUMPRODUCT(AH127:AH128,AH197:AH198)","v":0},0,0,0,0,0,0,0]
[]
[null,"Capital allowances"]
[null,"Note: Note: Special, General and deferred revenue capital allowances are calculated for the tax allowance calculation."]
[]
[null,null,"General pool"]
[]
[null,null,null,null,"Capital allowance rate",null,"%",null,null,null,null,null,null,null,null,null,null,null,null,null,null,null,null,null,null,null,null,null,null,null,null,null,null,{"$f":"AH103","v":0.18},0.18,0.18,0.18,0.18,0.18,0.18,0.18]
[]
[null,null,null,null,"Opening balance brought forward",null,"£m nominal",null,null,null,null,null,null,null,null,null,null,null,null,null,null,null,null,null,null,null,null,null,null,null,null,null,null,{"$f":"AH102","v":53.649535999999998},{"$f":"AH214","v":74.696724309260617},95.091042335469908,108.08928961560667,116.76401875761351,127.24827571028041,126.64385915993181,132.4562449194915]
[null,null,null,null,"Revisions",null,"£m nominal"]
[null,null,null,null,"Capex additions",null,"£m nominal",null,null,null,null,null,null,null,null,null,null,null,null,null,null,null,null,null,null,null,null,null,null,null,null,null,null,{"$f":"AH186 * Input!AH$46 / Input!$AD$46","v":37.444030230805645},{"$f":"AI186 * Input!AI$46 / Input!$AD$46","v":41.267961465702676},{"$f":"AJ186 * Input!AJ$46 / Input!$AD$46","v":36.725164512830908},{"$f":"AK186 * Input!AK$46 / Input!$AD$46","v":34.305855210751282},{"$f":"AL186 * Input!AL$46 / Input!$AD$46","v":38.41680527931382},{"$f":"AM186 * Input!AM$46 / Input!$AD$46","v":27.195454972563255},{"$f":"AN186 * Input!AN$46 / Input!$AD$46","v":34.888146839448041},{"$f":"AO186 * Input!AO$46 / Input!$AD$46","v":35.835071314243699}]
[null,null,null,null,"Tax book value pre-depreciation",null,"£m nominal",null,null,null,null,null,null,null,null,null,null,null,null,null,null,null,null,null,null,null,null,null,null,null,null,null,null,{"$f":"SUM(AH209:AH211)","v":91.093566230805635},115.9646857749633,131.81620684830082,142.39514482635795,155.18082403692733,154.44373068284366,161.53200599937986,168.29131623373519]
[null,null,null,null,"General pool capital allowance",null,"£m nominal",null,null,null,null,null,null,null,null,null,null,null,null,null,null,null,null,null,null,null,null,null,null,null,null,null,null,{"$f":"-AH212*AH207","v":-16.396841921545015},-20.873643439493392,-23.726917232694149,-25.631126068744429,-27.93254832664692,-27.799871522911857,-29.075761079888373,-30.292436922072334]
[null,null,null,null,"Closing balance carried forward",null,"£m nominal",null,null,null,null,null,null,null,null,null,null,null,null,null,null,null,null,null,null,null,null,null,null,null,null,null,null,{"$f":"AH212 + AH213","v":74.696724309260617},95.091042335469908,108.08928961560667,116.76401875761351,127.24827571028041,126.64385915993181,132.4562449194915,137.99887931166285]
[]
[null,null,"Special Rate pool"]
[]
[null,null,null,null,"Capital allowance rate",null,"%",null,null,null,null,null,null,null,null,null,null,null,null,null,null,null,null,null,null,null,null,null,null,null,null,null,null,{"$f":"AH106","v":0.08},0.08,0.08,0.08,0.08,0.08,0.08,0.08]
[]
[null,null,null,null,"Opening balance brought forward",null,"£m nominal",null,null,null,null,null,null,null,null,null,null,null,null,null,null,null,null,null,null,null,null,null,null,null,null,null,null,{"$f":"AH105","v":31.783144066776011},{"$f":"AH225","v":29.24049254143393},26.901253138119216,24.749152887069677,22.769220656104103,20.947683003615776,19.271868363326515,17.730118894260393]
[null,null,null,null,"Revisions",null,"£m nominal"]
[null,null,null,null,"Capex additions",null,"£m nominal"]
[null,null,null,null,"Tax book value pre-depreciation",null,"£m nominal",null,null,null,null,null,null,null,null,null,null,null,null,null,null,null,null,null,null,null,null,null,null,null,null,null,null,{"$f":"SUM(AH220:AH222)","v":31.783144066776011},29.24049254143393,26.901253138119216,24.749152887069677,22.769220656104103,20.947683003615776,19.271868363326515,17.730118894260393]
[null,null,null,null,"General pool capital allowance",null,"£m nominal",null,null,null,null,null,null,null,null,null,null,null,null,null,null,null,null,null,null,null,null,null,null,null,null,null,null,{"$f":"-AH223*AH218","v":-2.5426515253420807},-2.3392394033147146,-2.1521002510495375,-1.9799322309655742,-1.8215376524883282,-1.6758146402892622,-1.5417494690661213,-1.4184095115408315]
[null,null,null,null,"Closing balance carried forward",null,"£m nominal",null,null,null,null,null,null,null,null,null,null,null,null,null,null,null,null,null,null,null,null,null,null,null,null,null,null,{"$f":"AH223 + AH224","v":29.24049254143393},26.901253138119216,24.749152887069677,22.769220656104103,20.947683003615776,19.271868363326515,17.730118894260393,16.311709382719563]
[]
[null,null,"Deferred revenue expenditure"]
[]
[null,null,null,null,"Capital allowance rate",null,"%",null,null,null,null,null,null,null,null,null,null,null,null,null,null,null,null,null,null,null,null,null,null,null,null,null,null,{"$f":"AH109","v":0.03},0.03,0.03,0.03,0.03,0.03,0.03,0.03]
[]
[null,null,null,null,"Opening balance brought forward",null,"£m nominal",null,null,null,null,null,null,null,null,null,null,null,null,null,null,null,null,null,null,null,null,null,null,null,null,null,null,{"$f":"AH108","v":1.843},{"$f":"AH236","v":1.7877099999999999},{"$f":"AI236","v":1.7340787},1.6820563390000001,1.6315946488300002,1.5826468093651003,1.5351674050841473,1.4891123829316228]
[null,null,null,null,"Revisions",null,"£m nominal"]
[null,null,null,null,"Capex additions",null,"£m nominal"]
[null,null,null,null,"Tax book value pre-depreciation",null,"£m nominal",null,null,null,null,null,null,null,null,null,null,null,null,null,null,null,null,null,null,null,null,null,null,null,null,null,null,{"$f":"SUM(AH231:AH233)","v":1.843},1.7877099999999999,1.7340787,1.6820563390000001,1.6315946488300002,1.5826468093651003,1.5351674050841473,1.4891123829316228]
[null,null,null,null,"General pool capital allowance",null,"£m nominal",null,null,null,null,null,null,null,null,null,null,null,null,null,null,null,null,null,null,null,null,null,null,null,null,null,null,{"$f":"-(AH231 + SUM($AH233:AH233))*AH229","v":-5.5289999999999999E-2},{"$f":"-(AI231 + SUM($AH233:AI233))*AI229","v":-5.3631299999999993E-2},{"$f":"-(AJ231 + SUM($AH233:AJ233))*AJ229","v":-5.2022360999999996E-2},{"$f":"-(AK231 + SUM($AH233:AK233))*AK229","v":-5.0461690169999997E-2},{"$f":"-(AL231 + SUM($AH233:AL233))*AL229","v":-4.89478394649E-2},{"$f":"-(AM231 + SUM($AH233:AM233))*AM229","v":-4.7479404280953007E-2},{"$f":"-(AN231 + SUM($AH233:AN233))*AN229","v":-4.6055022152524418E-2},{"$f":"-(AO231 + SUM($AH233:AO233))*AO229","v":-4.4673371487948685E-2}]
[null,null,null,null,"Closing balance carried forward",null,"£m nominal",null,null,null,null,null,null,null,null,null,null,null,null,null,null,null,null,null,null,null,null,null,null,null,null,null,null,{"$f":"AH234 + AH235","v":1.7877099999999999},1.7340787,1.6820563390000001,1.6315946488300002,1.5826468093651003,1.5351674050841473,1.4891123829316228,1.4444390114436743]
[]
[null,"Regulatory depreciation"]
[]
[null,null,"Depreciation"]
[]
[null,null,null,"Depreciation parameters"]
[]
[null,null,null,null,"Asset life",null,"years",null,{"$f":"I77","v":7},">"]
[]
[null,null,null,null,"Slow money",null,null,null,null,null,null,null,null,null,null,null,null,null,null,null,null,null,null,null,null,null,null,null,null,null,null,null,null,{"$f":"AH162","v":33.015222829182463},30.909282160864159,30.406909940870158,29.503468267708236,30.397665634630393,28.005027611742573,29.904442344862396,{"$f":"AO162","v":30.433671335330679}]
[null,null,null,null,{"$f":"E79","v":"Legacy price control adjustments to RAV"},null,null,null,null,null,null,null,null,null,null,null,null,null,null,null,null,null,null,null,null,null,null,null,null,null,null,null,null,{"$f":"AH79","v":2.9301486584244367},0,0,0,0,0,0,0]
[null,null,null,null,"Pre-RIIO net RAV additions",null,null,null,null,null,null,null,null,null,null,null,null,null,null,null,null,null,{"$f":"W78","v":0},0,0,0,10.213326566270071,9.8341262611961149,12.804318823304111,10.260191157019948,17.555204661718989,19.936664914416475,28.913417089623657,0,0,0,0,0,0,0,0]
[null,null,null,null,"Total Net RAV additions",null,null,null,null,null,null,null,null,null,null,null,null,null,null,null,null,null,{"$f":"SUM(W246:W248)","v":0},{"$f":"SUM(X246:X248)","v":0},0,0,10.213326566270071,9.8341262611961149,12.804318823304111,10.260191157019948,17.555204661718989,19.936664914416475,28.913417089623657,35.945371487606899,30.909282160864159,30.406909940870158,29.503468267708236,30.397665634630393,28.005027611742573,29.904442344862396,30.433671335330679]
[]
[null,null,null,"Depreciation schedule"]
[]
[null,null,null,null,"Depreciation of additions from year ending",null,null,null,"Net additions"]
[]
[null,null,null,null,"2003-03-31",null,"£m 09/10 prices",null,{"$f":"INDEX($W$249:$AO$249,1,MATCH(E255,$W$4:$AO$4,0))","v":0},">",null,null,null,null,null,null,null,null,null,null,null,null,null,{"$f":"$I255/$I$244","v":0},{"$f":"IF($I255 >0, MIN(X255,$I255-SUM($L255:X255)), MAX(X255,$I255-SUM($L255:X255)))","v":0},{"$f":"IF($I255 >0, MIN(Y255,$I255-SUM($L255:Y255)), MAX(Y255,$I255-SUM($L255:Y255)))","v":0},{"$f":"IF($I255 >0, MIN(Z255,$I255-SUM($L255:Z255)), MAX(Z255,$I255-SUM($L255:Z255)))","v":0},{"$f":"IF($I255 >0, MIN(AA255,$I255-SUM($L255:AA255)), MAX(AA255,$I255-SUM($L255:AA255)))","v":0},{"$f":"IF($I255 >0, MIN(AB255,$I255-SUM($L255:AB255)), MAX(AB255,$I255-SUM($L255:AB255)))","v":0},{"$f":"IF($I255 >0, MIN(AC255,$I255-SUM($L255:AC255)), MAX(AC255,$I255-SUM($L255:AC255)))","v":0},{"$f":"IF($I255 >0, MIN(AD255,$I255-SUM($L255:AD255)), MAX(AD255,$I255-SUM($L255:AD255)))","v":0},{"$f":"IF($I255 >0, MIN(AE255,$I255-SUM($L255:AE255)), MAX(AE255,$I255-SUM($L255:AE255)))","v":0},{"$f":"IF($I255 >0, MIN(AF255,$I255-SUM($L255:AF255)), MAX(AF255,$I255-SUM($L255:AF255)))","v":0},{"$f":"IF($I255 >0, MIN(AG255,$I255-SUM($L255:AG255)), MAX(AG255,$I255-SUM($L255:AG255)))","v":0},{"$f":"IF($I255 >0, MIN(AH255,$I255-SUM($L255:AH255)), MAX(AH255,$I255-SUM($L255:AH255)))","v":0},{"$f":"IF($I255 >0, MIN(AI255,$I255-SUM($L255:AI255)), MAX(AI255,$I255-SUM($L255:AI255)))","v":0},{"$f":"IF($I255 >0, MIN(AJ255,$I255-SUM($L255:AJ255)), MAX(AJ255,$I255-SUM($L255:AJ255)))","v":0},{"$f":"IF($I255 >0, MIN(AK255,$I255-SUM($L255:AK255)), MAX(AK255,$I255-SUM($L255:AK255)))","v":0},{"$f":"IF($I255 >0, MIN(AL255,$I255-SUM($L255:AL255)), MAX(AL255,$I255-SUM($L255:AL255)))","v":0},{"$f":"IF($I255 >0, MIN(AM255,$I255-SUM($L255:AM255)), MAX(AM255,$I255-SUM($L255:AM255)))","v":0},{"$f":"IF($I255 >0, MIN(AN255,$I255-SUM($L255:AN255)), MAX(AN255,$I255-SUM($L255:AN255)))","v":0}]
[null,null,null,null,"2004-03-31",null,"£m 09/10 prices",null,0,">",null,null,null,null,null,null,null,null,null,null,null,null,null,null,{"$f":"$I256/$I$244","v":0},{"$f":"IF($I256 >0, MIN(Y256,$I256-SUM($L256:Y256)), MAX(Y256,$I256-SUM($L256:Y256)))","v":0},{"$f":"IF($I256 >0, MIN(Z256,$I256-SUM($L256:Z256)), MAX(Z256,$I256-SUM($L256:Z256)))","v":0},{"$f":"IF($I256 >0, MIN(AA256,$I256-SUM($L256:AA256)), MAX(AA256,$I256-SUM($L256:AA256)))","v":0},{"$f":"IF($I256 >0, MIN(AB256,$I256-SUM($L256:AB256)), MAX(AB256,$I256-SUM($L256:AB256)))","v":0},{"$f":"IF($I256 >0, MIN(AC256,$I256-SUM($L256:AC256)), MAX(AC256,$I256-SUM($L256:AC256)))","v":0},{"$f":"IF($I256 >0, MIN(AD256,$I256-SUM($L256:AD256)), MAX(AD256,$I256-SUM($L256:AD256)))","v":0},{"$f":"IF($I256 >0, MIN(AE256,$I256-SUM($L256:AE256)), MAX(AE256,$I256-SUM($L256:AE256)))","v":0},{"$f":"IF($I256 >0, MIN(AF256,$I256-SUM($L256:AF256)), MAX(AF256,$I256-SUM($L256:AF256)))","v":0},{"$f":"IF($I256 >0, MIN(AG256,$I256-SUM($L256:AG256)), MAX(AG256,$I256-SUM($L256:AG256)))","v":0},{"$f":"IF($I256 >0, MIN(AH256,$I256-SUM($L256:AH256)), MAX(AH256,$I256-SUM($L256:AH256)))","v":0},{"$f":"IF($I256 >0, MIN(AI256,$I256-SUM($L256:AI256)), MAX(AI256,$I256-SUM($L256:AI256)))","v":0},{"$f":"IF($I256 >0, MIN(AJ256,$I256-SUM($L256:AJ256)), MAX(AJ256,$I256-SUM($L256:AJ256)))","v":0},{"$f":"IF($I256 >0, MIN(AK256,$I256-SUM($L256:AK256)), MAX(AK256,$I256-SUM($L256:AK256)))","v":0},{"$f":"IF($I256 >0, MIN(AL256,$I256-SUM($L256:AL256)), MAX(AL256,$I256-SUM($L256:AL256)))","v":0},{"$f":"IF($I256 >0, MIN(AM256,$I256-SUM($L256:AM256)), MAX(AM256,$I256-SUM($L256:AM256)))","v":0},{"$f":"IF($I256 >0, MIN(AN256,$I256-SUM($L256:AN256)), MAX(AN256,$I256-SUM($L256:AN256)))","v":0}]
[null,null,null,null,"2005-03-31",null,"£m 09/10 prices",null,0,">",null,null,null,null,null,null,null,null,null,null,null,null,null,null,null,{"$f":"$I257/$I$244","v":0},{"$f":"IF($I257 >0, MIN(Z257,$I257-SUM($L257:Z257)), MAX(Z257,$I257-SUM($L257:Z257)))","v":0},{"$f":"IF($I257 >0, MIN(AA257,$I257-SUM($L257:AA257)), MAX(AA257,$I257-SUM($L257:AA257)))","v":0},{"$f":"IF($I257 >0, MIN(AB257,$I257-SUM($L257:AB257)), MAX(AB257,$I257-SUM($L257:AB257)))","v":0},{"$f":"IF($I257 >0, MIN(AC257,$I257-SUM($L257:AC257)), MAX(AC257,$I257-SUM($L257:AC257)))","v":0},{"$f":"IF($I257 >0, MIN(AD257,$I257-SUM($L257:AD257)), MAX(AD257,$I257-SUM($L257:AD257)))","v":0},{"$f":"IF($I257 >0, MIN(AE257,$I257-SUM($L257:AE257)), MAX(AE257,$I257-SUM($L257:AE257)))","v":0},{"$f":"IF($I257 >0, MIN(AF257,$I257-SUM($L257:AF257)), MAX(AF257,$I257-SUM($L257:AF257)))","v":0},{"$f":"IF($I257 >0, MIN(AG257,$I257-SUM($L257:AG257)), MAX(AG257,$I257-SUM($L257:AG257)))","v":0},{"$f":"IF($I257 >0, MIN(AH257,$I257-SUM($L257:AH257)), MAX(AH257,$I257-SUM($L257:AH257)))","v":0},{"$f":"IF($I257 >0, MIN(AI257,$I257-SUM($L257:AI257)), MAX(AI257,$I257-SUM($L257:AI257)))","v":0},{"$f":"IF($I257 >0, MIN(AJ257,$I257-SUM($L257:AJ257)), MAX(AJ257,$I257-SUM($L257:AJ257)))","v":0},{"$f":"IF($I257 >0, MIN(AK257,$I257-SUM($L257:AK257)), MAX(AK257,$I257-SUM($L257:AK257)))","v":0},{"$f":"IF($I257 >0, MIN(AL257,$I257-SUM($L257:AL257)), MAX(AL257,$I257-SUM($L257:AL257)))","v":0},{"$f":"IF($I257 >0, MIN(AM257,$I257-SUM($L257:AM257)), MAX(AM257,$I257-SUM($L257:AM257)))","v":0},{"$f":"IF($I257 >0, MIN(AN257,$I257-SUM($L257:AN257)), MAX(AN257,$I257-SUM($L257:AN257)))","v":0}]
[null,null,null,null,"2006-03-31",null,"£m 09/10 prices",null,0,">",null,null,null,null,null,null,null,null,null,null,null,null,null,null,null,null,{"$f":"$I258/$I$244","v":0},{"$f":"IF($I258 >0, MIN(AA258,$I258-SUM($L258:AA258)), MAX(AA258,$I258-SUM($L258:AA258)))","v":0},{"$f":"IF($I258 >0, MIN(AB258,$I258-SUM($L258:AB258)), MAX(AB258,$I258-SUM($L258:AB258)))","v":0},{"$f":"IF($I258 >0, MIN(AC258,$I258-SUM($L258:AC258)), MAX(AC258,$I258-SUM($L258:AC258)))","v":0},{"$f":"IF($I258 >0, MIN(AD258,$I258-SUM($L258:AD258)), MAX(AD258,$I258-SUM($L258:AD258)))","v":0},{"$f":"IF($I258 >0, MIN(AE258,$I258-SUM($L258:AE258)), MAX(AE258,$I258-SUM($L258:AE258)))","v":0},{"$f":"IF($I258 >0, MIN(AF258,$I258-SUM($L258:AF258)), MAX(AF258,$I258-SUM($L258:AF258)))","v":0},{"$f":"IF($I258 >0, MIN(AG258,$I258-SUM($L258:AG258)), MAX(AG258,$I258-SUM($L258:AG258)))","v":0},{"$f":"IF($I258 >0, MIN(AH258,$I258-SUM($L258:AH258)), MAX(AH258,$I258-SUM($L258:AH258)))","v":0},{"$f":"IF($I258 >0, MIN(AI258,$I258-SUM($L258:AI258)), MAX(AI258,$I258-SUM($L258:AI258)))","v":0},{"$f":"IF($I258 >0, MIN(AJ258,$I258-SUM($L258:AJ258)), MAX(AJ258,$I258-SUM($L258:AJ258)))","v":0},{"$f":"IF($I258 >0, MIN(AK258,$I258-SUM($L258:AK258)), MAX(AK258,$I258-SUM($L258:AK258)))","v":0},{"$f":"IF($I258 >0, MIN(AL258,$I258-SUM($L258:AL258)), MAX(AL258,$I258-SUM($L258:AL258)))","v":0},{"$f":"IF($I258 >0, MIN(AM258,$I258-SUM($L258:AM258)), MAX(AM258,$I258-SUM($L258:AM258)))","v":0},{"$f":"IF($I258 >0, MIN(AN258,$I258-SUM($L258:AN258)), MAX(AN258,$I258-SUM($L258:AN258)))","v":0}]
[null,null,null,null,"2007-03-31",null,"£m 09/10 prices",null,10.213326566270071,">",null,null,null,null,null,null,null,null,null,null,null,null,null,null,null,null,null,{"$f":"$I259/$I$244","v":1.459046652324296},{"$f":"IF($I259 >0, MIN(AB259,$I259-SUM($L259:AB259)), MAX(AB259,$I259-SUM($L259:AB259)))","v":1.459046652324296},{"$f":"IF($I259 >0, MIN(AC259,$I259-SUM($L259:AC259)), MAX(AC259,$I259-SUM($L259:AC259)))","v":1.459046652324296},{"$f":"IF($I259 >0, MIN(AD259,$I259-SUM($L259:AD259)), MAX(AD259,$I259-SUM($L259:AD259)))","v":1.459046652324296},{"$f":"IF($I259 >0, MIN(AE259,$I259-SUM($L259:AE259)), MAX(AE259,$I259-SUM($L259:AE259)))","v":1.459046652324296},{"$f":"IF($I259 >0, MIN(AF259,$I259-SUM($L259:AF259)), MAX(AF259,$I259-SUM($L259:AF259)))","v":1.459046652324296},{"$f":"IF($I259 >0, MIN(AG259,$I259-SUM($L259:AG259)), MAX(AG259,$I259-SUM($L259:AG259)))","v":1.4590466523242949},{"$f":"IF($I259 >0, MIN(AH259,$I259-SUM($L259:AH259)), MAX(AH259,$I259-SUM($L259:AH259)))","v":0},{"$f":"IF($I259 >0, MIN(AI259,$I259-SUM($L259:AI259)), MAX(AI259,$I259-SUM($L259:AI259)))","v":0},{"$f":"IF($I259 >0, MIN(AJ259,$I259-SUM($L259:AJ259)), MAX(AJ259,$I259-SUM($L259:AJ259)))","v":0},{"$f":"IF($I259 >0, MIN(AK259,$I259-SUM($L259:AK259)), MAX(AK259,$I259-SUM($L259:AK259)))","v":0},{"$f":"IF($I259 >0, MIN(AL259,$I259-SUM($L259:AL259)), MAX(AL259,$I259-SUM($L259:AL259)))","v":0},{"$f":"IF($I259 >0, MIN(AM259,$I259-SUM($L259:AM259)), MAX(AM259,$I259-SUM($L259:AM259)))","v":0},{"$f":"IF($I259 >0, MIN(AN259,$I259-SUM($L259:AN259)), MAX(AN259,$I259-SUM($L259:AN259)))","v":0}]
[null,null,null,null,"2008-03-31",null,"£m 09/10 prices",null,9.8341262611961149,">",null,null,null,null,null,null,null,null,null,null,null,null,null,null,null,null,null,null,{"$f":"$I260/$I$244","v":1.4048751801708736},{"$f":"IF($I260 >0, MIN(AC260,$I260-SUM($L260:AC260)), MAX(AC260,$I260-SUM($L260:AC260)))","v":1.4048751801708736},{"$f":"IF($I260 >0, MIN(AD260,$I260-SUM($L260:AD260)), MAX(AD260,$I260-SUM($L260:AD260)))","v":1.4048751801708736},{"$f":"IF($I260 >0, MIN(AE260,$I260-SUM($L260:AE260)), MAX(AE260,$I260-SUM($L260:AE260)))","v":1.4048751801708736},{"$f":"IF($I260 >0, MIN(AF260,$I260-SUM($L260:AF260)), MAX(AF260,$I260-SUM($L260:AF260)))","v":1.4048751801708736},{"$f":"IF($I260 >0, MIN(AG260,$I260-SUM($L260:AG260)), MAX(AG260,$I260-SUM($L260:AG260)))","v":1.4048751801708736},{"$f":"IF($I260 >0, MIN(AH260,$I260-SUM($L260:AH260)), MAX(AH260,$I260-SUM($L260:AH260)))","v":1.4048751801708725},{"$f":"IF($I260 >0, MIN(AI260,$I260-SUM($L260:AI260)), MAX(AI260,$I260-SUM($L260:AI260)))","v":0},{"$f":"IF($I260 >0, MIN(AJ260,$I260-SUM($L260:AJ260)), MAX(AJ260,$I260-SUM($L260:AJ260)))","v":0},{"$f":"IF($I260 >0, MIN(AK260,$I260-SUM($L260:AK260)), MAX(AK260,$I260-SUM($L260:AK260)))","v":0},{"$f":"IF($I260 >0, MIN(AL260,$I260-SUM($L260:AL260)), MAX(AL260,$I260-SUM($L260:AL260)))","v":0},{"$f":"IF($I260 >0, MIN(AM260,$I260-SUM($L260:AM260)), MAX(AM260,$I260-SUM($L260:AM260)))","v":0},{"$f":"IF($I260 >0, MIN(AN260,$I260-SUM($L260:AN260)), MAX(AN260,$I260-SUM($L260:AN260)))","v":0}]
[null,null,null,null,"2009-03-31",null,"£m 09/10 prices",null,12.804318823304111,">",null,null,null,null,null,null,null,null,null,null,null,null,null,null,null,null,null,null,null,{"$f":"$I261/$I$244","v":1.8291884033291588},{"$f":"IF($I261 >0, MIN(AD261,$I261-SUM($L261:AD261)), MAX(AD261,$I261-SUM($L261:AD261)))","v":1.8291884033291588},{"$f":"IF($I261 >0, MIN(AE261,$I261-SUM($L261:AE261)), MAX(AE261,$I261-SUM($L261:AE261)))","v":1.8291884033291588},{"$f":"IF($I261 >0, MIN(AF261,$I261-SUM($L261:AF261)), MAX(AF261,$I261-SUM($L261:AF261)))","v":1.8291884033291588},{"$f":"IF($I261 >0, MIN(AG261,$I261-SUM($L261:AG261)), MAX(AG261,$I261-SUM($L261:AG261)))","v":1.8291884033291588},{"$f":"IF($I261 >0, MIN(AH261,$I261-SUM($L261:AH261)), MAX(AH261,$I261-SUM($L261:AH261)))","v":1.8291884033291588},{"$f":"IF($I261 >0, MIN(AI261,$I261-SUM($L261:AI261)), MAX(AI261,$I261-SUM($L261:AI261)))","v":1.8291884033291588},{"$f":"IF($I261 >0, MIN(AJ261,$I261-SUM($L261:AJ261)), MAX(AJ261,$I261-SUM($L261:AJ261)))","v":0},{"$f":"IF($I261 >0, MIN(AK261,$I261-SUM($L261:AK261)), MAX(AK261,$I261-SUM($L261:AK261)))","v":0},{"$f":"IF($I261 >0, MIN(AL261,$I261-SUM($L261:AL261)), MAX(AL261,$I261-SUM($L261:AL261)))","v":0},{"$f":"IF($I261 >0, MIN(AM261,$I261-SUM($L261:AM261)), MAX(AM261,$I261-SUM($L261:AM261)))","v":0},{"$f":"IF($I261 >0, MIN(AN261,$I261-SUM($L261:AN261)), MAX(AN261,$I261-SUM($L261:AN261)))","v":0}]
[null,null,null,null,"2010-03-31",null,"£m 09/10 prices",null,10.260191157019948,">",null,null,null,null,null,null,null,null,null,null,null,null,null,null,null,null,null,null,null,null,{"$f":"$I262/$I$244","v":1.4657415938599925},{"$f":"IF($I262 >0, MIN(AE262,$I262-SUM($L262:AE262)), MAX(AE262,$I262-SUM($L262:AE262)))","v":1.4657415938599925},{"$f":"IF($I262 >0, MIN(AF262,$I262-SUM($L262:AF262)), MAX(AF262,$I262-SUM($L262:AF262)))","v":1.4657415938599925},{"$f":"IF($I262 >0, MIN(AG262,$I262-SUM($L262:AG262)), MAX(AG262,$I262-SUM($L262:AG262)))","v":1.4657415938599925},{"$f":"IF($I262 >0, MIN(AH262,$I262-SUM($L262:AH262)), MAX(AH262,$I262-SUM($L262:AH262)))","v":1.4657415938599925},{"$f":"IF($I262 >0, MIN(AI262,$I262-SUM($L262:AI262)), MAX(AI262,$I262-SUM($L262:AI262)))","v":1.4657415938599925},{"$f":"IF($I262 >0, MIN(AJ262,$I262-SUM($L262:AJ262)), MAX(AJ262,$I262-SUM($L262:AJ262)))","v":1.4657415938599925},{"$f":"IF($I262 >0, MIN(AK262,$I262-SUM($L262:AK262)), MAX(AK262,$I262-SUM($L262:AK262)))","v":1.7763568394002505E-15},{"$f":"IF($I262 >0, MIN(AL262,$I262-SUM($L262:AL262)), MAX(AL262,$I262-SUM($L262:AL262)))","v":0},{"$f":"IF($I262 >0, MIN(AM262,$I262-SUM($L262:AM262)), MAX(AM262,$I262-SUM($L262:AM262)))","v":0},{"$f":"IF($I262 >0, MIN(AN262,$I262-SUM($L262:AN262)), MAX(AN262,$I262-SUM($L262:AN262)))","v":0}]
[null,null,null,null,"2011-03-31",null,"£m 09/10 prices",null,17.555204661718989,">",null,null,null,null,null,null,null,null,null,null,null,null,null,null,null,null,null,null,null,null,null,{"$f":"$I263/$I$244","v":2.5078863802455698},{"$f":"IF($I263 >0, MIN(AF263,$I263-SUM($L263:AF263)), MAX(AF263,$I263-SUM($L263:AF263)))","v":2.5078863802455698},{"$f":"IF($I263 >0, MIN(AG263,$I263-SUM($L263:AG263)), MAX(AG263,$I263-SUM($L263:AG263)))","v":2.5078863802455698},{"$f":"IF($I263 >0, MIN(AH263,$I263-SUM($L263:AH263)), MAX(AH263,$I263-SUM($L263:AH263)))","v":2.5078863802455698},{"$f":"IF($I263 >0, MIN(AI263,$I263-SUM($L263:AI263)), MAX(AI263,$I263-SUM($L263:AI263)))","v":2.5078863802455698},{"$f":"IF($I263 >0, MIN(AJ263,$I263-SUM($L263:AJ263)), MAX(AJ263,$I263-SUM($L263:AJ263)))","v":2.5078863802455698},{"$f":"IF($I263 >0, MIN(AK263,$I263-SUM($L263:AK263)), MAX(AK263,$I263-SUM($L263:AK263)))","v":2.5078863802455698},{"$f":"IF($I263 >0, MIN(AL263,$I263-SUM($L263:AL263)), MAX(AL263,$I263-SUM($L263:AL263)))","v":0},{"$f":"IF($I263 >0, MIN(AM263,$I263-SUM($L263:AM263)), MAX(AM263,$I263-SUM($L263:AM263)))","v":0},{"$f":"IF($I263 >0, MIN(AN263,$I263-SUM($L263:AN263)), MAX(AN263,$I263-SUM($L263:AN263)))","v":0}]
[null,null,null,null,"2012-03-31",null,"£m 09/10 prices",null,19.936664914416475,">",null,null,null,null,null,null,null,null,null,null,null,null,null,null,null,null,null,null,null,null,null,null,{"$f":"$I264/$I$244","v":2.848094987773782},{"$f":"IF($I264 >0, MIN(AG264,$I264-SUM($L264:AG264)), MAX(AG264,$I264-SUM($L264:AG264)))","v":2.848094987773782},{"$f":"IF($I264 >0, MIN(AH264,$I264-SUM($L264:AH264)), MAX(AH264,$I264-SUM($L264:AH264)))","v":2.848094987773782},{"$f":"IF($I264 >0, MIN(AI264,$I264-SUM($L264:AI264)), MAX(AI264,$I264-SUM($L264:AI264)))","v":2.848094987773782},{"$f":"IF($I264 >0, MIN(AJ264,$I264-SUM($L264:AJ264)), MAX(AJ264,$I264-SUM($L264:AJ264)))","v":2.848094987773782},{"$f":"IF($I264 >0, MIN(AK264,$I264-SUM($L264:AK264)), MAX(AK264,$I264-SUM($L264:AK264)))","v":2.848094987773782},{"$f":"IF($I264 >0, MIN(AL264,$I264-SUM($L264:AL264)), MAX(AL264,$I264-SUM($L264:AL264)))","v":2.848094987773782},{"$f":"IF($I264 >0, MIN(AM264,$I264-SUM($L264:AM264)), MAX(AM264,$I264-SUM($L264:AM264)))","v":3.5527136788005009E-15},{"$f":"IF($I264 >0, MIN(AN264,$I264-SUM($L264:AN264)), MAX(AN264,$I264-SUM($L264:AN264)))","v":0}]
[null,null,null,null,"2013-03-31",null,"£m 09/10 prices",null,28.913417089623657,">",null,null,null,null,null,null,null,null,null,null,null,null,null,null,null,null,null,null,null,null,null,null,null,{"$f":"$I265/$I$244","v":4.1304881556605224},{"$f":"IF($I265 >0, MIN(AH265,$I265-SUM($L265:AH265)), MAX(AH265,$I265-SUM($L265:AH265)))","v":4.1304881556605224},{"$f":"IF($I265 >0, MIN(AI265,$I265-SUM($L265:AI265)), MAX(AI265,$I265-SUM($L265:AI265)))","v":4.1304881556605224},{"$f":"IF($I265 >0, MIN(AJ265,$I265-SUM($L265:AJ265)), MAX(AJ265,$I265-SUM($L265:AJ265)))","v":4.1304881556605224},{"$f":"IF($I265 >0, MIN(AK265,$I265-SUM($L265:AK265)), MAX(AK265,$I265-SUM($L265:AK265)))","v":4.1304881556605224},{"$f":"IF($I265 >0, MIN(AL265,$I265-SUM($L265:AL265)), MAX(AL265,$I265-SUM($L265:AL265)))","v":4.1304881556605224},{"$f":"IF($I265 >0, MIN(AM265,$I265-SUM($L265:AM265)), MAX(AM265,$I265-SUM($L265:AM265)))","v":4.1304881556605224},{"$f":"IF($I265 >0, MIN(AN265,$I265-SUM($L265:AN265)), MAX(AN265,$I265-SUM($L265:AN265)))","v":0}]
[null,null,null,null,"2014-03-31",null,"£m 09/10 prices",null,35.945371487606899,">",null,null,null,null,null,null,null,null,null,null,null,null,null,null,null,null,null,null,null,null,null,null,null,null,{"$f":"$I266/$I$244","v":5.1350530696581282},{"$f":"IF($I266 >0, MIN(AI266,$I266-SUM($L266:AI266)), MAX(AI266,$I266-SUM($L266:AI266)))","v":5.1350530696581282},{"$f":"IF($I266 >0, MIN(AJ266,$I266-SUM($L266:AJ266)), MAX(AJ266,$I266-SUM($L266:AJ266)))","v":5.1350530696581282},{"$f":"IF($I266 >0, MIN(AK266,$I266-SUM($L266:AK266)), MAX(AK266,$I266-SUM($L266:AK266)))","v":5.1350530696581282},{"$f":"IF($I266 >0, MIN(AL266,$I266-SUM($L266:AL266)), MAX(AL266,$I266-SUM($L266:AL266)))","v":5.1350530696581282},{"$f":"IF($I266 >0, MIN(AM266,$I266-SUM($L266:AM266)), MAX(AM266,$I266-SUM($L266:AM266)))","v":5.1350530696581282},{"$f":"IF($I266 >0, MIN(AN266,$I266-SUM($L266:AN266)), MAX(AN266,$I266-SUM($L266:AN266)))","v":5.1350530696581282}]
[null,null,null,null,"2015-03-31",null,"£m 09/10 prices",null,30.909282160864159,">",null,null,null,null,null,null,null,null,null,null,null,null,null,null,null,null,null,null,null,null,null,null,null,null,null,{"$f":"$I267/$I$244","v":4.4156117372663086},{"$f":"IF($I267 >0, MIN(AJ267,$I267-SUM($L267:AJ267)), MAX(AJ267,$I267-SUM($L267:AJ267)))","v":4.4156117372663086},{"$f":"IF($I267 >0, MIN(AK267,$I267-SUM($L267:AK267)), MAX(AK267,$I267-SUM($L267:AK267)))","v":4.4156117372663086},{"$f":"IF($I267 >0, MIN(AL267,$I267-SUM($L267:AL267)), MAX(AL267,$I267-SUM($L267:AL267)))","v":4.4156117372663086},{"$f":"IF($I267 >0, MIN(AM267,$I267-SUM($L267:AM267)), MAX(AM267,$I267-SUM($L267:AM267)))","v":4.4156117372663086},{"$f":"IF($I267 >0, MIN(AN267,$I267-SUM($L267:AN267)), MAX(AN267,$I267-SUM($L267:AN267)))","v":4.4156117372663086}]
[null,null,null,null,"2016-03-31",null,"£m 09/10 prices",null,30.406909940870158,">",null,null,null,null,null,null,null,null,null,null,null,null,null,null,null,null,null,null,null,null,null,null,null,null,null,null,{"$f":"$I268/$I$244","v":4.3438442772671655},{"$f":"IF($I268 >0, MIN(AK268,$I268-SUM($L268:AK268)), MAX(AK268,$I268-SUM($L268:AK268)))","v":4.3438442772671655},{"$f":"IF($I268 >0, MIN(AL268,$I268-SUM($L268:AL268)), MAX(AL268,$I268-SUM($L268:AL268)))","v":4.3438442772671655},{"$f":"IF($I268 >0, MIN(AM268,$I268-SUM($L268:AM268)), MAX(AM268,$I268-SUM($L268:AM268)))","v":4.3438442772671655},{"$f":"IF($I268 >0, MIN(AN268,$I268-SUM($L268:AN268)), MAX(AN268,$I268-SUM($L268:AN268)))","v":4.3438442772671655}]
[null,null,null,null,"2017-03-31",null,"£m 09/10 prices",null,29.503468267708236,">",null,null,null,null,null,null,null,null,null,null,null,null,null,null,null,null,null,null,null,null,null,null,null,null,null,null,null,{"$f":"$I269/$I$244","v":4.2147811811011762},{"$f":"IF($I269 >0, MIN(AL269,$I269-SUM($L269:AL269)), MAX(AL269,$I269-SUM($L269:AL269)))","v":4.2147811811011762},{"$f":"IF($I269 >0, MIN(AM269,$I269-SUM($L269:AM269)), MAX(AM269,$I269-SUM($L269:AM269)))","v":4.2147811811011762},{"$f":"IF($I269 >0, MIN(AN269,$I269-SUM($L269:AN269)), MAX(AN269,$I269-SUM($L269:AN269)))","v":4.2147811811011762}]
[null,null,null,null,"2018-03-31",null,"£m 09/10 prices",null,30.397665634630393,">",null,null,null,null,null,null,null,null,null,null,null,null,null,null,null,null,null,null,null,null,null,null,null,null,null,null,null,null,{"$f":"$I270/$I$244","v":4.3425236620900565},{"$f":"IF($I270 >0, MIN(AM270,$I270-SUM($L270:AM270)), MAX(AM270,$I270-SUM($L270:AM270)))","v":4.3425236620900565},{"$f":"IF($I270 >0, MIN(AN270,$I270-SUM($L270:AN270)), MAX(AN270,$I270-SUM($L270:AN270)))","v":4.3425236620900565}]
[null,null,null,null,"2019-03-31",null,"£m 09/10 prices",null,28.005027611742573,">",null,null,null,null,null,null,null,null,null,null,null,null,null,null,null,null,null,null,null,null,null,null,null,null,null,null,null,null,null,{"$f":"$I271/$I$244","v":4.000718230248939},{"$f":"IF($I271 >0, MIN(AN271,$I271-SUM($L271:AN271)), MAX(AN271,$I271-SUM($L271:AN271)))","v":4.000718230248939}]
[null,null,null,null,"2020-03-31",null,"£m 09/10 prices",null,29.904442344862396,">",null,null,null,null,null,null,null,null,null,null,null,null,null,null,null,null,null,null,null,null,null,null,null,null,null,null,null,null,null,null,{"$f":"$I272/$I$244","v":4.2720631921231993}]
[null,null,null,null,"2021-03-31",null,"£m 09/10 prices",null,30.433671335330679,">"]
[null,null,null,null,"Total",null,"£m 09/10 prices",null,null,null,null,{"$f":"SUM(L255:L273)","v":0},{"$f":"SUM(M255:M273)","v":0},0,0,0,0,0,0,0,0,0,0,0,0,0,0,1.459046652324296,2.8639218324951696,4.693110235824328,6.1588518296843207,8.6667382099298909,11.514833197703673,{"$f":"SUM(AH255:AH273)","v":15.645321353364194},19.321327770698026,22.332064327793461,24.846720201731472,27.595759788972654,29.430397070817143,30.583020313292298,30.724595349754974]
[]
[null,"RAV"]
[null,"Note: The RAV is presented separate pre-vesting and post-vesting balances brought together to form a combined \"Running total.\""]
[]
[null,null,"Running total"]
[]
[null,null,null,null,"Opening RAV (before transfers)",null,"£m 09/10 prices",null,null,null,null,null,null,null,null,null,null,null,null,null,null,null,null,null,null,null,null,null,null,null,null,null,null,{"$f":"SUM(W78:AG78)-SUM(L274:AG274)","v":74.160747515587701},{"$f":"AH286","v":94.460797649830411},106.04875203999654,114.12359765307323,118.78034571904999,121.58225156470772,120.15688210563314,119.47830413720324]
[null,null,null,null,"Transfers",null,"£m 09/10 prices"]
[null,null,null,null,"Opening RAV (after transfers)",null,"£m 09/10 prices",null,null,null,null,null,null,null,null,null,null,null,null,null,null,null,null,null,null,null,null,null,null,null,null,null,null,{"$f":"SUM(AH281:AH282)","v":74.160747515587701},94.460797649830411,106.04875203999654,114.12359765307323,118.78034571904999,121.58225156470772,120.15688210563314,119.47830413720324]
[null,null,null,null,"Net additions (after disposals)",null,"£m 09/10 prices",null,null,null,null,null,null,null,null,null,null,null,null,null,null,null,null,null,null,null,null,null,null,null,null,null,null,{"$f":"AH162+AH79","v":35.945371487606899},30.909282160864159,30.406909940870158,29.503468267708236,30.397665634630393,28.005027611742573,29.904442344862396,30.433671335330679]
[null,null,null,null,"Depreciation",null,"£m 09/10 prices",null,null,null,null,null,null,null,null,null,null,null,null,null,null,null,null,null,null,null,null,null,null,null,null,null,null,{"$f":"-AH274","v":-15.645321353364194},{"$f":"-AI274","v":-19.321327770698026},-22.332064327793461,-24.846720201731472,-27.595759788972654,-29.430397070817143,-30.583020313292298,-30.724595349754974]
[null,null,null,null,"Closing RAV",null,"£m 09/10 prices",null,null,null,null,null,null,null,null,null,null,null,null,null,null,null,null,null,null,null,null,null,null,null,null,null,null,{"$f":"SUM(AH283:AH285)","v":94.460797649830411},106.04875203999654,114.12359765307323,118.78034571904999,121.58225156470772,120.15688210563314,119.47830413720324,119.18738012277895]
[]
[null,"Return"]
[]
[null,null,"Return base"]
[null,null,"Note: The \"Return base\" is calculated such that the net present value of the stream of depreciation and return flowing from a RAV addition is equal to the present value of the addition itself."]
[]
[null,null,null,"Present value of closing RAV"]
[]
[null,null,null,null,"Vanilla WACC",null,"annual real %",null,null,null,null,null,null,null,null,null,null,null,null,null,null,null,null,null,null,null,null,null,null,null,null,null,null,{"$f":"Input!AH42","v":4.5520000000000005E-2},{"$f":"Input!AI42","v":4.4319999999999998E-2},{"$f":"Input!AJ42","v":4.3300000000000005E-2},{"$f":"Input!AK42","v":4.3300000000000005E-2},{"$f":"Input!AL42","v":4.3300000000000005E-2},{"$f":"Input!AM42","v":4.3300000000000005E-2},{"$f":"Input!AN42","v":4.3300000000000005E-2},{"$f":"Input!AO42","v":4.3300000000000005E-2}]
[null,null,null,null,"Single year discount factor",null,"scalar",null,null,null,null,null,null,null,null,null,null,null,null,null,null,null,null,null,null,null,null,null,null,null,null,null,null,{"$f":"1 / (1 + AH295)","v":0.95646185630117075},{"$f":"1 / (1 + AI295)","v":0.9575609008732956},0.95849707658391647,0.95849707658391647,0.95849707658391647,0.95849707658391647,0.95849707658391647,0.95849707658391647]
[]
[null,null,null,null,"Closing RAV",null,"£m 09/10 prices",null,null,null,null,null,null,null,null,null,null,null,null,null,null,null,null,null,null,null,null,null,null,null,null,null,null,{"$f":"AH286","v":94.460797649830411},{"$f":"AI286","v":106.04875203999654},114.12359765307323,118.78034571904999,121.58225156470772,120.15688210563314,119.47830413720324,119.18738012277895]
[]
[null,null,null,null,"Present value closing RAV",null,"£m 09/10 prices",null,null,null,null,null,null,null,null,null,null,null,null,null,null,null,null,null,null,null,null,null,null,null,null,null,null,{"$f":"AH298 * AH296","v":90.348149867846061},101.54813853990784,109.38713471970981,113.85061412733633,116.53623268926265,115.17002022968768,114.51960523071335,114.24075541337962]
[]
[null,null,null,"NPV-neutral RAV return base"]
[]
[null,null,null,null,"Present value opening RAV (after transfers)",null,"£m 09/10 prices",null,null,null,null,null,null,null,null,null,null,null,null,null,null,null,null,null,null,null,null,null,null,null,null,null,null,{"$f":"AH283","v":74.160747515587701},{"$f":"AI283","v":94.460797649830411},106.04875203999654,114.12359765307323,118.78034571904999,121.58225156470772,120.15688210563314,119.47830413720324]
[null,null,null,null,"Present value closing RAV",null,"£m 09/10 prices",null,null,null,null,null,null,null,null,null,null,null,null,null,null,null,null,null,null,null,null,null,null,null,null,null,null,{"$f":"AH300","v":90.348149867846061},{"$f":"AI300","v":101.54813853990784},109.38713471970981,113.85061412733633,116.53623268926265,115.17002022968768,114.51960523071335,114.24075541337962]
[]
[null,null,null,null,"NPV-neutral RAV return base",null,"£m 09/10 prices",null,null,null,null,null,null,null,null,null,null,null,null,null,null,null,null,null,null,null,null,null,null,null,null,null,null,{"$f":"AVERAGE(AH304:AH305)","v":82.254448691716874},{"$f":"AVERAGE(AI304:AI305)","v":98.004468094869125},107.71794337985318,113.98710589020479,117.65828920415632,118.3761358971977,117.33824366817325,116.85952977529143]
[]
[null,null,"Return on RAV"]
[]
[null,null,null,null,"NPV-neutral RAV return base",null,"£m 09/10 prices",null,null,null,null,null,null,null,null,null,null,null,null,null,null,null,null,null,null,null,null,null,null,null,null,null,null,{"$f":"AH307","v":82.254448691716874},{"$f":"AI307","v":98.004468094869125},107.71794337985318,113.98710589020479,117.65828920415632,118.3761358971977,117.33824366817325,116.85952977529143]
[null,null,null,null,"Vanilla WACC",null,"annual real %",null,null,null,null,null,null,null,null,null,null,null,null,null,null,null,null,null,null,null,null,null,null,null,null,null,null,{"$f":"AH295","v":4.5520000000000005E-2},{"$f":"AI295","v":4.4319999999999998E-2},4.3300000000000005E-2,4.3300000000000005E-2,4.3300000000000005E-2,4.3300000000000005E-2,4.3300000000000005E-2,4.3300000000000005E-2]
[]
[null,null,null,null,"Return",null,"£m 09/10 prices",null,null,null,null,null,null,null,null,null,null,null,null,null,null,null,null,null,null,null,null,null,null,null,null,null,null,{"$f":"AH311 * AH312","v":3.7442225044469524},{"$f":"AI311 * AI312","v":4.3435580259645992},4.664186948347643,4.9356416850458675,5.0946039225399691,5.1256866843486613,5.0807459508319024,5.0600176392701197]
[]
[null,"Tax allowance"]
[]
[null,null,"Tax base"]
[null,null,"Note: The tax charge is calculated before tax on tax. Tax on tax is added after losses are taken into account."]
[]
[null,null,null,null,"Add recalculated base revenue (except tax allowance)",null,"£m nominal",null,null,null,null,null,null,null,null,null,null,null,null,null,null,null,null,null,null,null,null,null,null,null,null,null,null,{"$f":"AH400* Input!AH$46 / Input!$AD$46","v":137.02997996254507},{"$f":"AI400* Input!AI$46 / Input!$AD$46","v":139.46991828019534},{"$f":"AJ400* Input!AJ$46 / Input!$AD$46","v":147.35953167713936},{"$f":"AK400* Input!AK$46 / Input!$AD$46","v":152.35044896540438},{"$f":"AL400* Input!AL$46 / Input!$AD$46","v":163.48424690624947},{"$f":"AM400* Input!AM$46 / Input!$AD$46","v":162.40701961105219},{"$f":"AN400* Input!AN$46 / Input!$AD$46","v":175.63897058433463},{"$f":"AO400* Input!AO$46 / Input!$AD$46","v":182.769437577877}]
[null,null,null,null,"Add net DART impact on core tax calculation",null,"£m nominal",null,null,null,null,null,null,null,null,null,null,null,null,null,null,null,null,null,null,null,null,null,null,null,null,null,null,{"$f":"(-AH50 - AH51 - AH55 - AH59) * Input!AH$46 / Input!$AD$46","v":-14.227201617396464},{"$f":"(-AI50 - AI51 - AI55 - AI59) * Input!AI$46 / Input!$AD$46","v":-14.661919010003436},{"$f":"(-AJ50 - AJ51 - AJ55 - AJ59) * Input!AJ$46 / Input!$AD$46","v":-16.585952777539049},{"$f":"(-AK50 - AK51 - AK55 - AK59) * Input!AK$46 / Input!$AD$46","v":-17.351982967339215},{"$f":"(-AL50 - AL51 - AL55 - AL59) * Input!AL$46 / Input!$AD$46","v":-17.896077686158325},{"$f":"(-AM50 - AM51 - AM55 - AM59) * Input!AM$46 / Input!$AD$46","v":-18.598823907901895},{"$f":"(-AN50 - AN51 - AN55 - AN59) * Input!AN$46 / Input!$AD$46","v":-19.473090910336765},{"$f":"(-AO50 - AO51 - AO55 - AO59) * Input!AO$46 / Input!$AD$46","v":-20.109306273865723}]
[null,null,null,null,"Less net interest paid (interest coupon)",null,"£m nominal",null,null,null,null,null,null,null,null,null,null,null,null,null,null,null,null,null,null,null,null,null,null,null,null,null,null,{"$f":"'Finance&Tax'!AH162","v":-2.6126183844286346},{"$f":"'Finance&Tax'!AI162","v":-3.3777450515884611},{"$f":"'Finance&Tax'!AJ162","v":-3.8338864129129404},{"$f":"'Finance&Tax'!AK162","v":-4.0351843799457052},{"$f":"'Finance&Tax'!AL162","v":-4.3163232139300929},{"$f":"'Finance&Tax'!AM162","v":-4.5376975872579122},{"$f":"'Finance&Tax'!AN162","v":-4.5677955936182144},{"$f":"'Finance&Tax'!AO162","v":-4.5920068107420011}]
[null,null,null,null,"Less net interest paid (inflation coupon)",null,"£m nominal",null,null,null,null,null,null,null,null,null,null,null,null,null,null,null,null,null,null,null,null,null,null,null,null,null,null,{"$f":"'Finance&Tax'!AH164","v":-0.37043287678554665},{"$f":"'Finance&Tax'!AI164","v":-0.4979868276121352},{"$f":"'Finance&Tax'!AJ164","v":-0.58514041524450866},{"$f":"'Finance&Tax'!AK164","v":-0.6158554799497632},{"$f":"'Finance&Tax'!AL164","v":-0.65877158505653532},{"$f":"'Finance&Tax'!AM164","v":-0.69252727777984002},{"$f":"'Finance&Tax'!AN164","v":-0.6971395798552511},{"$f":"'Finance&Tax'!AO164","v":-0.70084530166218917}]
[null,null,null,null,"Less revenue tax pool additions",null,"£m nominal",null,null,null,null,null,null,null,null,null,null,null,null,null,null,null,null,null,null,null,null,null,null,null,null,null,null,{"$f":" - AH193 * Input!AH$46 / Input!$AD$46","v":-92.651881893576558},{"$f":" - AI193 * Input!AI$46 / Input!$AD$46","v":-91.121994628807045},{"$f":" - AJ193 * Input!AJ$46 / Input!$AD$46","v":-97.159911765054105},{"$f":" - AK193 * Input!AK$46 / Input!$AD$46","v":-99.238779845294886},{"$f":" - AL193 * Input!AL$46 / Input!$AD$46","v":-103.02812070548616},{"$f":" - AM193 * Input!AM$46 / Input!$AD$46","v":-106.76478819997899},{"$f":" - AN193 * Input!AN$46 / Input!$AD$46","v":-112.16319880961474},{"$f":" - AO193 * Input!AO$46 / Input!$AD$46","v":-118.0092051847748}]
[null,null,null,null,"Less capital allowances",null,"£m nominal",null,null,null,null,null,null,null,null,null,null,null,null,null,null,null,null,null,null,null,null,null,null,null,null,null,null,{"$f":"AH213 + AH224 + AH235","v":-18.994783446887094},{"$f":"AI213 + AI224 + AI235","v":-23.266514142808106},-25.931039844743687,-27.661519989880002,-29.803033818600149,-29.523165567482071,-30.663565571107021,-31.755519805101112]
[null,null,null,null,"Less additional income",null,"£m nominal",null,null,null,null,null,null,null,null,null,null,null,null,null,null,null,null,null,null,null,null,null,null,null,null,null,null,{"$f":"-AH174 * Input!AH46/Input!$AD46","v":-1.0836359846223413},{"$f":"-AI174 * Input!AI46/Input!$AD46","v":-1.0751450111566636},{"$f":"-AJ174 * Input!AJ46/Input!$AD46","v":-1.0783899429881352},{"$f":"-AK174 * Input!AK46/Input!$AD46","v":-1.1016254249934687},{"$f":"-AL174 * Input!AL46/Input!$AD46","v":-1.1667958554514797},{"$f":"-AM174 * Input!AM46/Input!$AD46","v":-1.1050538253015274},{"$f":"-AN174 * Input!AN46/Input!$AD46","v":-1.2130438716502825},{"$f":"-AO174 * Input!AO46/Input!$AD46","v":-1.2690795583807384}]
[null,null,null,null,"Profits attributable to corporation tax (before Tax Clawback)",null,"£m nominal",null,null,null,null,null,null,null,null,null,null,null,null,null,null,null,null,null,null,null,null,null,null,null,null,null,null,{"$f":"SUM(AH321:AH327)","v":7.0894257588484448},{"$f":"SUM(AI321:AI327)","v":5.4686136082194992},2.1852105186569126,2.345500878001324,6.6151240415667116,1.1849632453499277,6.8611362481523441,6.3334746433504598]
[]
[null,null,null,null,"Corporation tax rate",null,"%",null,null,null,null,null,null,null,null,null,null,null,null,null,null,null,null,null,null,null,null,null,null,null,null,null,null,{"$f":"TaxTrigger!AH122","v":0.23},{"$f":"TaxTrigger!AI122","v":0.21},{"$f":"TaxTrigger!AJ122","v":0.21},{"$f":"TaxTrigger!AK122","v":0.21},{"$f":"TaxTrigger!AL122","v":0.21},{"$f":"TaxTrigger!AM122","v":0.21},{"$f":"TaxTrigger!AN122","v":0.21},{"$f":"TaxTrigger!AO122","v":0.21}]
[]
[null,null,null,null,"Corporation tax charge (excluding tax on tax allowance)",null,"£m nominal",null,null,null,null,null,null,null,null,null,null,null,null,null,null,null,null,null,null,null,null,null,null,null,null,null,null,{"$f":"AH328 * AH330","v":1.6305679245351423},1.1484088577260947,0.45889420891795163,0.49255518438027801,1.3891760487290095,0.24884228152348481,{"$f":"AN328 * AN330","v":1.4408386121119923},1.3300296751035965]
[]
[null,null,"Tax allowance"]
[]
[null,null,null,"Regulatory Tax losses"]
[]
[null,null,null,null,"Tax loss brought forward",null,"£m nominal",null,null,null,null,null,null,null,null,null,null,null,null,null,null,null,null,null,null,null,null,null,null,null,null,null,null,null,{"$f":"AH343","v":0},0,0,0,0,0,0]
[null,null,null,null,"In-year tax loss",null,"£m nominal",null,null,null,null,null,null,null,null,null,null,null,null,null,null,null,null,null,null,null,null,null,null,null,null,null,null,{"$f":"MIN(AH332, 0)","v":0},{"$f":"MIN(AI332, 0)","v":0},0,0,0,0,0,0]
[null,null,null,null,"Contributions to losses from clawback",null,"£m nominal",null,null,null,null,null,null,null,null,null,null,null,null,null,null,null,null,null,null,null,null,null,null,null,null,null,null,{"$f":"-AH12*(1/AH349)","v":0},0,0,0,0,0,0,0]
[null,null,null,null,"Adjustment to losses from tax trigger",null,"£m nominal",null,null,null,null,null,null,null,null,null,null,null,null,null,null,null,null,null,null,null,null,null,null,null,null,null,null,{"$f":"-IF(AH13>0,-MIN(AH13*(Input!AH46/Input!$AD46)*((1-AH349)*1/AH349),MAX(-(AH328+SUM(AH338:AH340)),0)),-MIN(AH13*(Input!AH46/Input!$AD46)*((1-AH349)*1/AH349),MAX(AH328+SUM(AH338:AH340),0)))","v":0},{"$f":"-IF(AI13>0,-MIN(AI13*(Input!AI46/Input!$AD46)*((1-AI349)*1/AI349),MAX(-(AI328+SUM(AI338:AI340)),0)),-MIN(AI13*(Input!AI46/Input!$AD46)*((1-AI349)*1/AI349),MAX(AI328+SUM(AI338:AI340),0)))","v":0},{"$f":"-IF(AJ13>0,-MIN(AJ13*(Input!AJ46/Input!$AD46)*((1-AJ349)*1/AJ349),MAX(-(AJ328+SUM(AJ338:AJ340)),0)),-MIN(AJ13*(Input!AJ46/Input!$AD46)*((1-AJ349)*1/AJ349),MAX(AJ328+SUM(AJ338:AJ340),0)))","v":0},{"$f":"-IF(AK13>0,-MIN(AK13*(Input!AK46/Input!$AD46)*((1-AK349)*1/AK349),MAX(-(AK328+SUM(AK338:AK340)),0)),-MIN(AK13*(Input!AK46/Input!$AD46)*((1-AK349)*1/AK349),MAX(AK328+SUM(AK338:AK340),0)))","v":0},{"$f":"-IF(AL13>0,-MIN(AL13*(Input!AL46/Input!$AD46)*((1-AL349)*1/AL349),MAX(-(AL328+SUM(AL338:AL340)),0)),-MIN(AL13*(Input!AL46/Input!$AD46)*((1-AL349)*1/AL349),MAX(AL328+SUM(AL338:AL340),0)))","v":0},{"$f":"-IF(AM13>0,-MIN(AM13*(Input!AM46/Input!$AD46)*((1-AM349)*1/AM349),MAX(-(AM328+SUM(AM338:AM340)),0)),-MIN(AM13*(Input!AM46/Input!$AD46)*((1-AM349)*1/AM349),MAX(AM328+SUM(AM338:AM340),0)))","v":0},{"$f":"-IF(AN13>0,-MIN(AN13*(Input!AN46/Input!$AD46)*((1-AN349)*1/AN349),MAX(-(AN328+SUM(AN338:AN340)),0)),-MIN(AN13*(Input!AN46/Input!$AD46)*((1-AN349)*1/AN349),MAX(AN328+SUM(AN338:AN340),0)))","v":0},{"$f":"-IF(AO13>0,-MIN(AO13*(Input!AO46/Input!$AD46)*((1-AO349)*1/AO349),MAX(-(AO328+SUM(AO338:AO340)),0)),-MIN(AO13*(Input!AO46/Input!$AD46)*((1-AO349)*1/AO349),MAX(AO328+SUM(AO338:AO340),0)))","v":0}]
[null,null,null,null,"Tax charged against losses",null,"£m nominal",null,null,null,null,null,null,null,null,null,null,null,null,null,null,null,null,null,null,null,null,null,null,null,null,null,null,{"$f":"IF(AH328 >= 0, MIN(AH328, -AH338-AH340-AH341), 0)","v":0},{"$f":"IF(AI328 >= 0, MIN(AI328, -AI338-AI340-AI341), 0)","v":0},0,0,0,0,0,0]
[null,null,null,null,"Balance carried forward",null,"£m nominal",null,null,null,null,null,null,null,null,null,null,null,null,null,null,null,null,null,null,null,null,null,null,null,null,null,null,{"$f":"SUM(AH338:AH342)","v":0},{"$f":"SUM(AI338:AI342)","v":0},0,0,0,0,0,0]
[]
[null,null,null,"Tax allowance (before Tax Trigger adjustment)"]
[null,null,null,"Note: A \"grossing-up factor\" based on the infinite geometric progression of being taxed on tax is used to move the tax allowance from a post-tax to a pre-tax basis. This can only be applied once tax losses have been taken into account."]
[]
[null,null,null,null,"Profits attributable to corporation tax (after taxable losses)",null,"£m nominal",null,null,null,null,null,null,null,null,null,null,null,null,null,null,null,null,null,null,null,null,null,null,null,null,null,null,{"$f":"MAX(AH328 - AH342,0)","v":7.0894257588484448},{"$f":"MAX(AI328 - AI342,0)","v":5.4686136082194992},2.1852105186569126,2.345500878001324,6.6151240415667116,1.1849632453499277,6.8611362481523441,6.3334746433504598]
[null,null,null,null,"Corporation tax rate",null,"%",null,null,null,null,null,null,null,null,null,null,null,null,null,null,null,null,null,null,null,null,null,null,null,null,null,null,{"$f":"AH330","v":0.23},0.21,0.21,0.21,0.21,0.21,0.21,0.21]
[null,null,null,null,"Corporation tax charge after losses",null,"£m nominal",null,null,null,null,null,null,null,null,null,null,null,null,null,null,null,null,null,null,null,null,null,null,null,null,null,null,{"$f":"AH349*AH348","v":1.6305679245351423},1.1484088577260947,0.45889420891795163,0.49255518438027801,1.3891760487290095,0.24884228152348481,1.4408386121119923,1.3300296751035965]
[]
[null,null,null,null,"\"Grossing-up\" factor for tax on tax charge after losses",null,"scalar",null,null,null,null,null,null,null,null,null,null,null,null,null,null,null,null,null,null,null,null,null,null,null,null,null,null,{"$f":"1 / (1 - AH349)","v":1.2987012987012987},1.2658227848101264,1.2658227848101264,1.2658227848101264,1.2658227848101264,1.2658227848101264,1.2658227848101264,1.2658227848101264]
[]
[null,null,null,null,"Tax allowance (before Tax Trigger adjustment)",null,"£m nominal",null,null,null,null,null,null,null,null,null,null,null,null,null,null,null,null,null,null,null,null,null,null,null,null,null,null,{"$f":"AH350 * AH352","v":2.1176206812144707},1.4536820983874614,0.58087874546576146,0.62348757516490882,1.7584506945936826,0.31499022977656299,1.8238463444455597,1.6835818672197422]
[]
[null,null,null,"Tax allowance"]
[]
[null,null,null,null,"Tax allowance (before Tax Trigger adjustment)",null,"£m nominal",null,null,null,null,null,null,null,null,null,null,null,null,null,null,null,null,null,null,null,null,null,null,null,null,null,null,{"$f":"AH354","v":2.1176206812144707},{"$f":"AI354","v":1.4536820983874614},0.58087874546576146,0.62348757516490882,1.7584506945936826,0.31499022977656299,1.8238463444455597,1.6835818672197422]
[null,null,null,null,"Additional allowance where tax trigger positive (over and above that used to offset clawback)",null,"£m nominal",null,null,null,null,null,null,null,null,null,null,null,null,null,null,null,null,null,null,null,null,null,null,null,null,null,null,{"$f":"((AH13*(1-AH349)*(Input!AH46/Input!$AD46))-AH341/(1/AH349))*AH352","v":0},{"$f":"((AI13*(1-AI349)*(Input!AI46/Input!$AD46))-AI341/(1/AI349))*AI352","v":0},{"$f":"((AJ13*(1-AJ349)*(Input!AJ46/Input!$AD46))-AJ341/(1/AJ349))*AJ352","v":0},{"$f":"((AK13*(1-AK349)*(Input!AK46/Input!$AD46))-AK341/(1/AK349))*AK352","v":0},{"$f":"((AL13*(1-AL349)*(Input!AL46/Input!$AD46))-AL341/(1/AL349))*AL352","v":0},{"$f":"((AM13*(1-AM349)*(Input!AM46/Input!$AD46))-AM341/(1/AM349))*AM352","v":0},{"$f":"((AN13*(1-AN349)*(Input!AN46/Input!$AD46))-AN341/(1/AN349))*AN352","v":0},{"$f":"((AO13*(1-AO349)*(Input!AO46/Input!$AD46))-AO341/(1/AO349))*AO352","v":0}]
[null,null,null,null,"Tax allowance",null,"£m nominal",null,null,null,null,null,null,null,null,null,null,null,null,null,null,null,null,null,null,null,null,null,null,null,null,null,null,{"$f":"SUM(AH358:AH359)","v":2.1176206812144707},1.4536820983874614,0.58087874546576146,0.62348757516490882,1.7584506945936826,0.31499022977656299,1.8238463444455597,1.6835818672197422]
[]
[null,"Tax paid"]
[]
[null,null,"Tax base"]
[]
[]
[null,null,null,null,"Add recalculated base revenue (except tax allowance), incl add. income",null,"£m nominal",null,null,null,null,null,null,null,null,null,null,null,null,null,null,null,null,null,null,null,null,null,null,null,null,null,null,{"$f":"AH321","v":137.02997996254507},{"$f":"AI321","v":139.46991828019534},147.35953167713936,152.35044896540438,163.48424690624947,162.40701961105219,175.63897058433463,182.769437577877]
[null,null,null,null,"Add net DART impact on tax calculation",null,"£m nominal",null,null,null,null,null,null,null,null,null,null,null,null,null,null,null,null,null,null,null,null,null,null,null,null,null,null,{"$f":"AH322","v":-14.227201617396464},{"$f":"AI322","v":-14.661919010003436},-16.585952777539049,-17.351982967339215,-17.896077686158325,-18.598823907901895,-19.473090910336765,-20.109306273865723]
[null,null,null,null,"Add tax allowance",null,"£m nominal",null,null,null,null,null,null,null,null,null,null,null,null,null,null,null,null,null,null,null,null,null,null,null,null,null,null,{"$f":"AH360","v":2.1176206812144707},{"$f":"AI360","v":1.4536820983874614},0.58087874546576146,0.62348757516490882,1.7584506945936826,0.31499022977656299,1.8238463444455597,1.6835818672197422]
[null,null,null,null,"Revenue adjustment from previous price controls",null,"£m nominal",null,null,null,null,null,null,null,null,null,null,null,null,null,null,null,null,null,null,null,null,null,null,null,null,null,null,{"$f":"(SystemOperator!AH59) * Input!AH$46/Input!$AD46","v":2.2869923067645521},{"$f":"(SystemOperator!AI59) * Input!AI$46/Input!$AD46","v":2.455226037249747},{"$f":"(SystemOperator!AJ59) * Input!AJ$46/Input!$AD46","v":2.6332643038091352},{"$f":"(SystemOperator!AK59) * Input!AK$46/Input!$AD46","v":2.8242110643695528},{"$f":"(SystemOperator!AL59) * Input!AL$46/Input!$AD46","v":3.0290059283971176},{"$f":"(SystemOperator!AM59) * Input!AM$46/Input!$AD46","v":3.248643935914461},{"$f":"(SystemOperator!AN59) * Input!AN$46/Input!$AD46","v":3.4842129760002982},{"$f":"(SystemOperator!AO59) * Input!AO$46/Input!$AD46","v":3.7368666802798263}]
[null,null,null,null,"Less net interest paid (interest coupon)",null,"£m nominal",null,null,null,null,null,null,null,null,null,null,null,null,null,null,null,null,null,null,null,null,null,null,null,null,null,null,{"$f":"AH323","v":-2.6126183844286346},{"$f":"AI323","v":-3.3777450515884611},-3.8338864129129404,-4.0351843799457052,-4.3163232139300929,-4.5376975872579122,-4.5677955936182144,-4.5920068107420011]
[null,null,null,null,"Less net interest paid (inflation coupon)",null,"£m nominal",null,null,null,null,null,null,null,null,null,null,null,null,null,null,null,null,null,null,null,null,null,null,null,null,null,null,{"$f":"AH324","v":-0.37043287678554665},-0.4979868276121352,-0.58514041524450866,-0.6158554799497632,-0.65877158505653532,-0.69252727777984002,-0.6971395798552511,-0.70084530166218917]
[null,null,null,null,"Less revenue tax pool additions",null,"£m nominal",null,null,null,null,null,null,null,null,null,null,null,null,null,null,null,null,null,null,null,null,null,null,null,null,null,null,{"$f":"AH325","v":-92.651881893576558},-91.121994628807045,-97.159911765054105,-99.238779845294886,-103.02812070548616,-106.76478819997899,-112.16319880961474,-118.0092051847748]
[null,null,null,null,"Less capital allowances",null,"£m nominal",null,null,null,null,null,null,null,null,null,null,null,null,null,null,null,null,null,null,null,null,null,null,null,null,null,null,{"$f":"AH326","v":-18.994783446887094},-23.266514142808106,-25.931039844743687,-27.661519989880002,-29.803033818600149,-29.523165567482071,-30.663565571107021,-31.755519805101112]
[null,null,null,null,"Profits attributable to corporation tax",null,"£m nominal",null,null,null,null,null,null,null,null,null,null,null,null,null,null,null,null,null,null,null,null,null,null,null,null,null,null,{"$f":"SUM(AH367:AH374)","v":12.577674731449807},10.452666755013368,6.4777435109199715,6.8948249425292722,12.56937652000898,5.8536512363424684,13.38223944024849,13.023002749230773]
[]
[null,null,"Tax losses"]
[]
[null,null,null,null,"Taxable losses brought forward",null,"£m nominal",null,null,null,null,null,null,null,null,null,null,null,null,null,null,null,null,null,null,null,null,null,null,null,null,null,null,{"$f":"AH338","v":0},{"$f":"SUM(AH382)","v":0},{"$f":"SUM(AI382)","v":0},0,0,0,0,0]
[null,null,null,null,"In-year taxable loss",null,"£m nominal",null,null,null,null,null,null,null,null,null,null,null,null,null,null,null,null,null,null,null,null,null,null,null,null,null,null,{"$f":"MIN(AH375, 0)","v":0},{"$f":"MIN(AI375, 0)","v":0},{"$f":"MIN(AJ375, 0)","v":0},0,0,0,0,0]
[null,null,null,null,"Profits reduced by tax losses ",null,"£m nominal",null,null,null,null,null,null,null,null,null,null,null,null,null,null,null,null,null,null,null,null,null,null,null,null,null,null,{"$f":"IF(AH375 >= 0, MIN(AH375, -AH379), 0)","v":0},0,0,0,0,0,0,0]
[null,null,null,null,"Balance carried forward",null,"£m nominal",null,null,null,null,null,null,null,null,null,null,null,null,null,null,null,null,null,null,null,null,null,null,null,null,null,null,{"$f":"SUM(AH379:AH381)","v":0},0,0,0,0,0,0,0]
[]
[null,null,null,"Tax paid"]
[]
[]
[null,null,null,null,"Profits attributable to corporation tax (after taxable losses)",null,"£m nominal",null,null,null,null,null,null,null,null,null,null,null,null,null,null,null,null,null,null,null,null,null,null,null,null,null,null,{"$f":"MAX(AH375 - AH381,0)","v":12.577674731449807},10.452666755013368,6.4777435109199715,6.8948249425292722,12.56937652000898,5.8536512363424684,13.38223944024849,13.023002749230773]
[null,null,null,null,"Corporation tax rate",null,"%",null,null,null,null,null,null,null,null,null,null,null,null,null,null,null,null,null,null,null,null,null,null,null,null,null,null,{"$f":"TaxTrigger!AH122","v":0.23},{"$f":"TaxTrigger!AI122","v":0.21},{"$f":"TaxTrigger!AJ122","v":0.21},{"$f":"TaxTrigger!AK122","v":0.21},{"$f":"TaxTrigger!AL122","v":0.21},{"$f":"TaxTrigger!AM122","v":0.21},{"$f":"TaxTrigger!AN122","v":0.21},{"$f":"TaxTrigger!AO122","v":0.21}]
[null,null,null,null,"Corporation tax charge after losses",null,"£m nominal",null,null,null,null,null,null,null,null,null,null,null,null,null,null,null,null,null,null,null,null,null,null,null,null,null,null,{"$f":"AH388*AH387","v":2.892865188233456},2.1950600185528071,1.3603261372931938,1.447913237931147,2.6395690692018858,1.2292667596319182,2.810270282452183,2.7348305773384625]
[]
[null,"Recalculated base revenue"]
[null,"Note: \"Recalculated base revenue\" calculates the Base Revenue that would have been allowed if the current inputs were known at Final Proposals."]
[null,"Its values feed into the SOMOD calculation below and are saved via functionality on the \"LiveResults\" sheet so it can be recalled in the SOMOD calculation in the following year."]
[]
[null,null,null,null,"Fast pot expenditure",null,"£m 09/10 prices",null,null,null,null,null,null,null,null,null,null,null,null,null,null,null,null,null,null,null,null,null,null,null,null,null,null,{"$f":"AH160","v":85.318909175055737},{"$f":"AI160","v":79.876675404957183},78.578430348987027,76.243729824435974,78.55454094110577,72.371415441098179,77.279938819518947,78.647587931087514]
[null,null,null,null,"RAV depreciation",null,"£m 09/10 prices",null,null,null,null,null,null,null,null,null,null,null,null,null,null,null,null,null,null,null,null,null,null,null,null,null,null,{"$f":"AH274","v":15.645321353364194},{"$f":"AI274","v":19.321327770698026},22.332064327793461,24.846720201731472,27.595759788972654,29.430397070817143,30.583020313292298,30.724595349754974]
[null,null,null,null,"Return",null,"£m 09/10 prices",null,null,null,null,null,null,null,null,null,null,null,null,null,null,null,null,null,null,null,null,null,null,null,null,null,null,{"$f":"AH314","v":3.7442225044469524},{"$f":"AI314","v":4.3435580259645992},4.664186948347643,4.9356416850458675,5.0946039225399691,5.1256866843486613,5.0807459508319024,5.0600176392701197]
[null,null,null,null,"Additional income",null,"£m 09/10 prices",null,null,null,null,null,null,null,null,null,null,null,null,null,null,null,null,null,null,null,null,null,null,null,null,null,null,{"$f":"AH174","v":0.93219394583370041},{"$f":"AI174","v":0.89969793099769935},0.87783267686821986,0.87232109317784745,0.89875958568159287,0.82801710222961211,0.88417658562860901,0.89982415652833225]
[null,null,null,null,"Core DARTs",null,"£m 09/10 prices",null,null,null,null,null,null,null,null,null,null,null,null,null,null,null,null,null,null,null,null,null,null,null,null,null,null,{"$f":"AH50 + AH51 + AH55 + AH59","v":12.238898857271282},12.269320008809279,13.501323356904841,13.740151967682184,13.784991857306188,13.936103314150911,14.193757897077006,14.258238923443807]
[null,null,null,null,"Recalculated base revenue (except tax allowance)",null,"£m 09/10 prices",null,null,null,null,null,null,null,null,null,null,null,null,null,null,null,null,null,null,null,null,null,null,null,null,null,null,{"$f":"SUM(AH395:AH399)","v":117.87954583597187},{"$f":"SUM(AI395:AI399)","v":116.71057914142678},119.95383765890119,120.63856477207334,125.92865609560619,121.69161961264452,128.02163956634877,129.59026400008474]
[null,null,null,null,"Tax allowance",null,"£m 09/10 prices",null,null,null,null,null,null,null,null,null,null,null,null,null,null,null,null,null,null,null,null,null,null,null,null,null,null,{"$f":"AH360 * Input!$AD$46/Input!AH$46","v":1.8216755502894615},{"$f":"AI360 * Input!$AD$46/Input!AI$46","v":1.216463605072728},{"$f":"AJ360 * Input!$AD$46/Input!AJ$46","v":0.47284782965902805},{"$f":"AK360 * Input!$AD$46/Input!AK$46","v":0.49370807064831779},{"$f":"AL360 * Input!$AD$46/Input!AL$46","v":1.3544995127729507},{"$f":"AM360 * Input!$AD$46/Input!AM$46","v":0.23602225639919591},{"$f":"AN360 * Input!$AD$46/Input!AN$46","v":1.3293849226980012},{"$f":"AO360 * Input!$AD$46/Input!AO$46","v":1.1937215626972564}]
[null,null,null,null,"Recalculated base revenue",null,"£m 09/10 prices",null,null,null,null,null,null,null,null,null,null,null,null,null,null,null,null,null,null,null,null,null,null,null,null,null,null,{"$f":"SUM(AH400:AH401)","v":119.70122138626132},117.92704274649951,120.42668548856022,121.13227284272166,127.28315560837913,121.92764186904371,129.35102448904678,130.78398556278199]
[]
[null,"SOMOD"]
[]
[null,null,"Catch-up"]
[null,null,"Note: \"Catch-up\" calculates the revenue adjustment required to compensate for the impact of new information on previous year allowances."]
[]
[null,null,null,"Recalculated base revenue delta"]
[null,null,null,"Note: New changes to recalculated base revenue in earlier years are identified as \"recalculated base revenue deltas\" to be brought forward."]
[null,null,null,"The previous recalculated base revenue value is recalled via functionality on the \"LiveResults\" sheet saving information to and recalling it from the \"SavedResults\" sheet."]
[]
[null,null,null,null,"Current recalculated base revenue for years < t",null,"£m 09/10 prices",null,null,null,null,null,null,null,null,null,null,null,null,null,null,null,null,null,null,null,null,null,null,null,null,null,null,{"$f":"IF(AH$4 < $I$4, AH402, 0 )","v":119.70122138626132},{"$f":"IF(AI$4 < $I$4, AI402, 0 )","v":117.92704274649951},0,0,0,0,0]
[null,null,null,null,"Less previous recalculated base revenue for years < t",null,"£m 09/10 prices",null,null,null,null,null,null,null,null,null,null,null,null,null,null,null,null,null,null,null,null,null,null,null,null,null,null,{"$f":"IF(AH$4 < $I$4, -'LiveResults(SO)'!F62, 0 )","v":-115.53670799497685},{"$f":"IF(AI$4 < $I$4, -'LiveResults(SO)'!G62, 0 )","v":-115.61122735143105},{"$f":"IF(AJ$4 < $I$4, -'LiveResults(SO)'!H62, 0 )","v":0},{"$f":"IF(AK$4 < $I$4, -'LiveResults(SO)'!I62, 0 )","v":0},{"$f":"IF(AL$4 < $I$4, -'LiveResults(SO)'!J62, 0 )","v":0},{"$f":"IF(AM$4 < $I$4, -'LiveResults(SO)'!K62, 0 )","v":0},{"$f":"IF(AN$4 < $I$4, -'LiveResults(SO)'!L62, 0 )","v":0}]
[null,null,null,null,"Recalculated base revenue delta",null,"£m 09/10 prices",null,null,null,null,null,null,null,null,null,null,null,null,null,null,null,null,null,null,null,null,null,null,null,null,null,null,{"$f":"SUM(AH413:AH414)","v":4.1645133912844727},2.315815395068455,0,0,0,0,0]
[]
[null,null,null,"Catch-up for year t"]
[null,null,null,"Note: Recalculated base revenue deltas are brought forward using the WACC-based carrying factor to provide \"catch-up\" for year t."]
[null,null,null,"The WACC-based carrying factor applies the WACC for the appropriate number of years delay between the new delta and recovery in year t SOMOD. Be aware that the calculation of this value uses an offset function."]
[]
[null,null,null,null,"WACC",null,"real annual %",null,null,null,null,null,null,null,null,null,null,null,null,null,null,null,null,null,null,null,null,null,null,null,null,null,null,{"$f":"Input!AH$42","v":4.5520000000000005E-2},{"$f":"Input!AI$42","v":4.4319999999999998E-2},{"$f":"Input!AJ$42","v":4.3300000000000005E-2},{"$f":"Input!AK$42","v":4.3300000000000005E-2},{"$f":"Input!AL$42","v":4.3300000000000005E-2},{"$f":"Input!AM$42","v":4.3300000000000005E-2},{"$f":"Input!AN$42","v":4.3300000000000005E-2}]
[null,null,null,null,"1 + WACC",null,"scalar",null,null,null,null,null,null,null,null,null,null,null,null,null,null,null,null,null,null,null,null,null,null,null,null,null,null,{"$f":"1 + AH421","v":1.04552},1.0443199999999999,1.0432999999999999,1.0432999999999999,1.0432999999999999,1.0432999999999999,1.0432999999999999]
[null,null,null,null,"WACC-based carrying factor",null,"scalar",null,null,null,null,null,null,null,null,null,null,null,null,null,null,null,null,null,null,null,null,null,null,null,null,null,null,{"$f":"IF(AH$4 < $I$4, PRODUCT(OFFSET(AH422, 0, 0, 1, YEAR($I$4) - YEAR(AH$4))), 0)","v":1.0918574463999999},1.0443199999999999,0,0,0,0,0]
[]
[null,null,null,null,"Recalculated base revenue delta",null,"£m 09/10 prices",null,null,null,null,null,null,null,null,null,null,null,null,null,null,null,null,null,null,null,null,null,null,null,null,null,null,{"$f":"AH415","v":4.1645133912844727},2.315815395068455,0,0,0,0,0]
[]
[null,null,null,null,"Catch-up for year t",null,"£m 09/10 prices",null,null,null,null,null,null,null,null,null,null,null,null,null,null,null,null,null,null,null,null,null,null,null,null,null,null,null,{"$f":"IF(AI$4 = $I$4, SUMPRODUCT($AG425:AH425, $AG423:AH423), 0)","v":0},{"$f":"IF(AJ$4 = $I$4, SUMPRODUCT($AG425:AI425, $AG423:AI423), 0)","v":6.9655072902843571},{"$f":"IF(AK$4 = $I$4, SUMPRODUCT($AG425:AJ425, $AG423:AJ423), 0)","v":0},{"$f":"IF(AL$4 = $I$4, SUMPRODUCT($AG425:AK425, $AG423:AK423), 0)","v":0},{"$f":"IF(AM$4 = $I$4, SUMPRODUCT($AG425:AL425, $AG423:AL423), 0)","v":0},{"$f":"IF(AN$4 = $I$4, SUMPRODUCT($AG425:AM425, $AG423:AM423), 0)","v":0},{"$f":"IF(AO$4 = $I$4, SUMPRODUCT($AG425:AN425, $AG423:AN423), 0)","v":0}]
[]
[null,null,"Base Revenue"]
[null,null,"Note: Base Revenue is only calculated for one year t at a time in the model."]
[]
[null,null,null,null,"Recalculated base revenue for year t",null,"£m 09/10 prices",null,null,null,null,null,null,null,null,null,null,null,null,null,null,null,null,null,null,null,null,null,null,null,null,null,null,{"$f":"IF(AH$4 = $I4, AH402, 0 )","v":0},0,120.42668548856022,0,0,0,0,0]
[null,null,null,null,"Catch-up for year t",null,"£m 09/10 prices",null,null,null,null,null,null,null,null,null,null,null,null,null,null,null,null,null,null,null,null,null,null,null,null,null,null,null,{"$f":"AI427","v":0},6.9655072902843571,0,0,0,0,0]
[null,null,null,null,"Base Revenue for year t",null,"£m 09/10 prices",null,null,null,null,null,null,null,null,null,null,null,null,null,null,null,null,null,null,null,null,null,null,null,null,null,null,{"$f":"SUM(AH432:AH433)","v":0},0,127.39219277884459,0,0,0,0,0]
[]
[null,null,"SOMOD"]
[null,null,"Note: SOMOD for year t is identified as the difference between Base Revenue and its opening value calculated at Final Proposals."]
[]
[null,null,null,null,"Base revenue for year t",null,"£m 09/10 prices",null,null,null,null,null,null,null,null,null,null,null,null,null,null,null,null,null,null,null,null,null,null,null,null,null,null,null,{"$f":"AI434","v":0},127.39219277884459,0,0,0,0,0]
[null,null,null,null,"Less Final Proposals base revenue for year t",null,"£m 09/10 prices",null,null,null,null,null,null,null,null,null,null,null,null,null,null,null,null,null,null,null,null,null,null,null,null,null,null,null,{"$f":"IF(AI$4 = $I$4, -AI447, 0 )","v":0},{"$f":"IF(AJ$4 = $I$4, -AJ447, 0 )","v":-114.35655675002086},0,0,0,0,0]
[null,null,null,null,"SOMOD",null,"£m 09/10 prices",null,null,null,null,null,null,null,null,null,null,null,null,null,null,null,null,null,null,null,null,null,null,null,null,null,null,null,{"$f":"SUM(AI439:AI440)","v":0},13.035636028823731,0,0,0,0,0]
[]
[null,"Total revenue"]
[null,"Note: Non-Core DARTs are added to Base Revenue to give Total Revenue. Non-Core DARTs are not included in the SOMOD calculation and therefore revisions to their values in earlier years must be processed as true-ups to year t."]
[null,"SOMOD from previous years is recalled via functionality on the \"LiveResults\" sheet saving information to and recalling it from the \"SavedResults\" sheet."]
[]
[null,null,null,null,"Opening base revenue",null,"£m 09/10 prices",null,null,null,null,null,null,null,null,null,null,null,null,null,null,null,null,null,null,null,null,null,null,null,null,null,null,{"$f":"'LiveResults(SO)'!F$53","v":113.97553115199239},{"$f":"'LiveResults(SO)'!G$53","v":113.53286514020465},{"$f":"'LiveResults(SO)'!H$53","v":114.35655675002086},{"$f":"'LiveResults(SO)'!I$53","v":116.7054339196653},{"$f":"'LiveResults(SO)'!J$53","v":122.83308772040758},{"$f":"'LiveResults(SO)'!K$53","v":117.52358286418433},{"$f":"'LiveResults(SO)'!L$53","v":124.73063970685706},{"$f":"'LiveResults(SO)'!M$53","v":126.19115267024478}]
[null,null,null,null,"SOMOD",null,"£m 09/10 prices",null,null,null,null,null,null,null,null,null,null,null,null,null,null,null,null,null,null,null,null,null,null,null,null,null,null,null,{"$f":"IF(AI$4 = $I$4, AI441, 'LiveResults(SO)'!G54)","v":3.7106038241035293},{"$f":"IF(AJ$4 = $I$4, AJ441, 'LiveResults(SO)'!H54)","v":13.035636028823731},{"$f":"IF(AK$4 = $I$4, AK441, 'LiveResults(SO)'!I54)","v":0},{"$f":"IF(AL$4 = $I$4, AL441, 'LiveResults(SO)'!J54)","v":0},{"$f":"IF(AM$4 = $I$4, AM441, 'LiveResults(SO)'!K54)","v":0},{"$f":"IF(AN$4 = $I$4, AN441, 'LiveResults(SO)'!L54)","v":0},{"$f":"IF(AO$4 = $I$4, AO441, 'LiveResults(SO)'!M54)","v":0}]
[null,null,null,null,"Base revenue",null,"£m 09/10 prices",null,null,null,null,null,null,null,null,null,null,null,null,null,null,null,null,null,null,null,null,null,null,null,null,null,null,{"$f":"SUM(AH447:AH448)","v":113.97553115199239},117.24346896430818,127.39219277884459,116.7054339196653,122.83308772040758,117.52358286418433,124.73063970685706,126.19115267024478]
[null,null,null,null,"Total revenue",null,"£m 09/10 prices",null,null,null,null,null,null,null,null,null,null,null,null,null,null,null,null,null,null,null,null,null,null,null,null,null,null,{"$f":"SUM(AH449:AH449)","v":113.97553115199239},117.24346896430818,127.39219277884459,116.7054339196653,122.83308772040758,117.52358286418433,124.73063970685706,126.19115267024478]
[]
[]
[null,null,null,"Tax Trigger Deadbands"]
[]
[null,null,null,null,"Tax Trigger Deadband",null,null,null,null,null,null,null,null,null,null,null,null,null,null,null,null,null,null,null,null,null,null,null,null,null,null,null,null,{"$f":"IF(OR(UserInterface!$G$25=\"SHE-Transmission PLC\",UserInterface!$G$25=\"SPTL\"),0,IF(UserInterface!$E$69 = 1,'NGET SO'!AH113,'NGET SO (Blank - not used)'!AH119))","v":0.41312224620250881},{"$f":"IF(OR(UserInterface!$G$25=\"SHE-Transmission PLC\",UserInterface!$G$25=\"SPTL\"),0,IF(UserInterface!$E$69 = 1,'NGET SO'!AI113,'NGET SO (Blank - not used)'!AI119))","v":0.37562430291702936},{"$f":"IF(OR(UserInterface!$G$25=\"SHE-Transmission PLC\",UserInterface!$G$25=\"SPTL\"),0,IF(UserInterface!$E$69 = 1,'NGET SO'!AJ113,'NGET SO (Blank - not used)'!AJ119))","v":0.37894329087798889},{"$f":"IF(OR(UserInterface!$G$25=\"SHE-Transmission PLC\",UserInterface!$G$25=\"SPTL\"),0,IF(UserInterface!$E$69 = 1,'NGET SO'!AK113,'NGET SO (Blank - not used)'!AK119))","v":0.38670940010544497},{"$f":"IF(OR(UserInterface!$G$25=\"SHE-Transmission PLC\",UserInterface!$G$25=\"SPTL\"),0,IF(UserInterface!$E$69 = 1,'NGET SO'!AL113,'NGET SO (Blank - not used)'!AL119))","v":0.40633757055616232},{"$f":"IF(OR(UserInterface!$G$25=\"SHE-Transmission PLC\",UserInterface!$G$25=\"SPTL\"),0,IF(UserInterface!$E$69 = 1,'NGET SO'!AM113,'NGET SO (Blank - not used)'!AM119))","v":0.38967039518863461},{"$f":"IF(OR(UserInterface!$G$25=\"SHE-Transmission PLC\",UserInterface!$G$25=\"SPTL\"),0,IF(UserInterface!$E$69 = 1,'NGET SO'!AN113,'NGET SO (Blank - not used)'!AN119))","v":0.41313027310191663},{"$f":"IF(OR(UserInterface!$G$25=\"SHE-Transmission PLC\",UserInterface!$G$25=\"SPTL\"),0,IF(UserInterface!$E$69 = 1,'NGET SO'!AO113,'NGET SO (Blank - not used)'!AO119))","v":0.41812451649780763}]
[]
[null,"End of sheet"]

{"sheet":"Return&RAV","index":10,"n_rows":218,"n_cols":41,"rows_kept":218,"cut":false,"hidden":false,"merged":[]}
["Return & RAV"]
[null,{"$f":"UserInterface!G25","v":"NGET TO"}]
[null,null,null,null,"Parameter",null,"Units",null,"Constant",null,null,null,null,null,null,null,null,null,null,null,null,null,null,null,null,null,null,null,null,null,null,null,null,"Annual values"]
[null,null,null,null,"PCFM year ending",null,null,null,{"$f":"UserInterface!$G$18","v":"2016-03-31"},null,"1991-03-31","1992-03-31","1993-03-31","1994-03-31","1995-03-31","1996-03-31","1997-03-31","1998-03-31","1999-03-31","2000-03-31","2001-03-31","2002-03-31","2003-03-31","2004-03-31","2005-03-31","2006-03-31","2007-03-31","2008-03-31","2009-03-31","2010-03-31","2011-03-31","2012-03-31","2013-03-31","2014-03-31","2015-03-31","2016-03-31","2017-03-31","2018-03-31","2019-03-31","2020-03-31","2021-03-31"]
[]
[null,"Return"]
[]
[null,null,"Return base"]
[null,null,"Note: The \"Return base\" is calculated such that the net present value of the stream of depreciation and return flowing from a RAV addition is equal to the present value of the addition itself."]
[]
[null,null,null,"Present value of closing RAV"]
[]
[null,null,null,null,"Vanilla WACC",null,"annual real %",null,null,null,null,null,null,null,null,null,null,null,null,null,null,null,null,null,null,null,null,null,null,null,null,null,null,{"$f":"Input!AH42","v":4.5520000000000005E-2},{"$f":"Input!AI42","v":4.4319999999999998E-2},{"$f":"Input!AJ42","v":4.3300000000000005E-2},{"$f":"Input!AK42","v":4.3300000000000005E-2},{"$f":"Input!AL42","v":4.3300000000000005E-2},{"$f":"Input!AM42","v":4.3300000000000005E-2},{"$f":"Input!AN42","v":4.3300000000000005E-2},{"$f":"Input!AO42","v":4.3300000000000005E-2}]
[null,null,null,null,"Single year discount factor",null,"scalar",null,null,null,null,null,null,null,null,null,null,null,null,null,null,null,null,null,null,null,null,null,null,null,null,null,null,{"$f":"1 / (1 + AH13)","v":0.95646185630117075},{"$f":"1 / (1 + AI13)","v":0.9575609008732956},0.95849707658391647,0.95849707658391647,0.95849707658391647,0.95849707658391647,0.95849707658391647,0.95849707658391647]
[]
[null,null,null,null,"Closing RAV",null,"£m 09/10 prices",null,null,null,null,null,null,null,null,null,null,null,null,null,null,null,null,null,null,null,null,null,null,null,null,null,null,{"$f":"AH44","v":9154.4123523338712},9974.6275121183826,10672.935785536316,11311.023474160047,11701.373136676613,12056.906009636523,12289.321780471557,12391.016728188681]
[]
[null,null,null,null,"Discounted closing RAV",null,"£m 09/10 prices",null,null,null,null,null,null,null,null,null,null,null,null,null,null,null,null,null,null,null,null,null,null,null,null,null,null,{"$f":"AH16 * AH14","v":8755.8462318596212},9551.3133063796377,10229.977749004425,10841.582933154459,11215.731943522107,11556.509162883662,11779.278999781038,11876.753309871256]
[]
[null,null,null,"NPV-neutral RAV return base"]
[]
[null,null,null,null,"Opening RAV (after transfers)",null,"£m 09/10 prices",null,null,null,null,null,null,null,null,null,null,null,null,null,null,null,null,null,null,null,null,null,null,null,null,null,null,{"$f":"AH41","v":8691.0913006079008},9154.4123523338712,9974.6275121183826,10755.324414010309,11311.023474160047,11701.373136676615,12056.906009636523,12289.321780471557]
[null,null,null,null,"Discounted closing RAV",null,"£m 09/10 prices",null,null,null,null,null,null,null,null,null,null,null,null,null,null,null,null,null,null,null,null,null,null,null,null,null,null,{"$f":"AH18","v":8755.8462318596212},{"$f":"AI18","v":9551.3133063796377},10229.977749004425,10841.582933154459,11215.731943522107,11556.509162883662,11779.278999781038,11876.753309871256]
[]
[null,null,null,null,"NPV-neutral RAV return base",null,"£m 09/10 prices",null,null,null,null,null,null,null,null,null,null,null,null,null,null,null,null,null,null,null,null,null,null,null,null,null,null,{"$f":"AVERAGE(AH22:AH23)","v":8723.4687662337601},{"$f":"AVERAGE(AI22:AI23)","v":9352.8628293567544},10102.302630561404,10798.453673582384,11263.377708841077,11628.941149780137,11918.09250470878,12083.037545171406]
[]
[null,null,"Return on RAV"]
[]
[null,null,null,null,"NPV-neutral RAV return base",null,"£m 09/10 prices",null,null,null,null,null,null,null,null,null,null,null,null,null,null,null,null,null,null,null,null,null,null,null,null,null,null,{"$f":"AH25","v":8723.4687662337601},{"$f":"AI25","v":9352.8628293567544},10102.302630561404,10798.453673582384,11263.377708841077,11628.941149780137,11918.09250470878,12083.037545171406]
[null,null,null,null,"Vanilla WACC",null,"annual real %",null,null,null,null,null,null,null,null,null,null,null,null,null,null,null,null,null,null,null,null,null,null,null,null,null,null,{"$f":"AH13","v":4.5520000000000005E-2},{"$f":"AI13","v":4.4319999999999998E-2},4.3300000000000005E-2,4.3300000000000005E-2,4.3300000000000005E-2,4.3300000000000005E-2,4.3300000000000005E-2,4.3300000000000005E-2]
[]
[null,null,null,null,"Return",null,"£m 09/10 prices",null,null,null,null,null,null,null,null,null,null,null,null,null,null,null,null,null,null,null,null,null,null,null,null,null,null,{"$f":"AH29 * AH30","v":397.09229823896078},{"$f":"AI29 * AI30","v":414.51888059709137},437.42970390330885,467.57304406611729,487.70425479281869,503.53315178548002,516.05340545389026,523.19552570592191]
[]
[null,"RAV"]
[null,"Note: The RAV is presented separate pre-vesting and post-vesting balances brought together to form a combined \"Running total.\""]
[]
[null,null,"Running total"]
[]
[null,null,null,null,"Opening RAV (before transfers)",null,"£m 09/10 prices",null,null,null,null,null,null,null,null,null,null,null,null,null,null,null,null,null,null,null,null,null,null,null,null,null,null,{"$f":"AH52 - AH61","v":8691.0913006079008},{"$f":"AI52 - AI61","v":9154.4123523338712},9974.6275121183826,10672.935785536316,11311.023474160047,11701.373136676615,12056.906009636523,12289.321780471557]
[null,null,null,null,"Transfers",null,"£m 09/10 prices",null,null,null,null,null,null,null,null,null,null,null,null,null,null,null,null,null,null,null,null,null,null,null,null,null,null,{"$f":"AH53 - AH62","v":0},{"$f":"AI53 - AI62","v":0},0,82.388628473992952,0,0,0,0]
[null,null,null,null,"Opening RAV (after transfers)",null,"£m 09/10 prices",null,null,null,null,null,null,null,null,null,null,null,null,null,null,null,null,null,null,null,null,null,null,null,null,null,null,{"$f":"SUM(AH39:AH40)","v":8691.0913006079008},9154.4123523338712,9974.6275121183826,10755.324414010309,11311.023474160047,11701.373136676615,12056.906009636523,12289.321780471557]
[null,null,null,null,"Net additions (after disposals)",null,"£m 09/10 prices",null,null,null,null,null,null,null,null,null,null,null,null,null,null,null,null,null,null,null,null,null,null,null,null,null,null,{"$f":"AH55","v":1027.0681172532477},{"$f":"AI55","v":1408.3975866718224},1327.1326253394636,1222.041972291815,1081.5542272068149,1065.8261713048387,950.68592838167524,825.3198364358783]
[null,null,null,null,"Depreciation",null,"£m 09/10 prices",null,null,null,null,null,null,null,null,null,null,null,null,null,null,null,null,null,null,null,null,null,null,null,null,null,null,{"$f":"-AH64","v":-563.74706552727753},{"$f":"-AI64","v":-588.18242688731129},-628.82435192153071,-666.34291214207735,-691.2045646902485,-710.29329834492921,-718.27015754664114,-723.62488871875473]
[null,null,null,null,"Closing RAV",null,"£m 09/10 prices",null,null,null,null,null,null,null,null,null,null,null,null,null,null,null,null,null,null,null,null,null,null,null,null,null,null,{"$f":"SUM(AH41:AH43)","v":9154.4123523338712},{"$f":"SUM(AI41:AI43)","v":9974.6275121183826},10672.935785536316,11311.023474160047,11701.373136676613,12056.906009636523,12289.321780471557,12391.016728188681]
[null,null,null,null,null,null,null,null,null,null,null,null,null,null,null,null,null,null,null,null,null,null,null,null,null,null,null,null,null,null,null,null,null,{"$f":"AVERAGE(AH41,AH44)","v":8922.7518264708851},{"$f":"AVERAGE(AI41,AI44)","v":9564.5199322261269},10323.781648827349,11033.173944085178,11506.198305418329,11879.139573156568,12173.113895054041,12340.169254330118]
[null,null,"Post-vesting balance"]
[null,null,"Note: Post-vesting RAV opening balances are generated from calculations built up since vesting. Net additions (after disposals), depreciation and removals are calculated principally on the \"Depn\" sheet."]
[null,null,"Assets with non-standard depreciation policies applied or that are transferred to the RAV during the price control are also brought into the RAV here."]
[]
[null,null,null,"Cost"]
[]
[null,null,null,null,"Opening balance brought forward (before transfers)",null,"£m 09/10 prices",null,null,null,null,null,null,null,null,null,null,null,null,null,null,null,null,null,null,null,null,null,null,null,null,null,null,{"$f":"Depn!AH244 + AH78+AH106+AH134+ AH162 + AH197","v":11965.210008057431},{"$f":"AH57","v":12992.278125310679},14400.675711982502,15727.808337321965,17072.01056101446,18153.564788221276,19219.390959526114,20170.076887907788]
[null,null,null,null,"Transfers",null,"£m 09/10 prices",null,null,null,null,null,null,null,null,null,null,null,null,null,null,null,null,null,null,null,null,null,null,null,null,null,null,{"$f":"AH191","v":0},{"$f":"AI191","v":0},0,122.16025140067914,0,0,0,0]
[null,null,null,null,"Opening balance brought forward (after transfers)",null,"£m 09/10 prices",null,null,null,null,null,null,null,null,null,null,null,null,null,null,null,null,null,null,null,null,null,null,null,null,null,null,{"$f":"SUM(AH52:AH53)","v":11965.210008057431},12992.278125310679,14400.675711982502,15849.968588722644,17072.01056101446,18153.564788221276,19219.390959526114,20170.076887907788]
[null,null,null,null,"Net additions (after disposals)",null,"£m 09/10 prices",null,null,null,null,null,null,null,null,null,null,null,null,null,null,null,null,null,null,null,null,null,null,null,null,null,null,{"$f":"Depn!AH15 + AH81 + AH109 + AH137 + AH165","v":1027.0681172532477},{"$f":"Depn!AI15 + AI81 + AI109 + AI137 + AI165","v":1408.3975866718224},{"$f":"Depn!AJ15 + AJ81 + AJ109 + AJ137 + AJ165","v":1327.1326253394636},{"$f":"Depn!AK15 + AK81 + AK109 + AK137 + AK165","v":1222.041972291815},{"$f":"Depn!AL15 + AL81 + AL109 + AL137 + AL165","v":1081.5542272068149},{"$f":"Depn!AM15 + AM81 + AM109 + AM137 + AM165","v":1065.8261713048387},{"$f":"Depn!AN15 + AN81 + AN109 + AN137 + AN165","v":950.68592838167524},{"$f":"Depn!AO15 + AO81 + AO109 + AO137 + AO165","v":825.3198364358783}]
[null,null,null,null,"Removals",null,"£m 09/10 prices",null,null,null,null,null,null,null,null,null,null,null,null,null,null,null,null,null,null,null,null,null,null,null,null,null,null,{"$f":"Depn!AH235 + AH82 + AH110 + AH138","v":0},{"$f":"Depn!AI235 + AI82 + AI110 + AI138","v":0},{"$f":"Depn!AJ235 + AJ82 + AJ110 + AJ138","v":0},{"$f":"Depn!AK235 + AK82 + AK110 + AK138","v":0},{"$f":"Depn!AL235 + AL82 + AL110 + AL138","v":0},{"$f":"Depn!AM235 + AM82 + AM110 + AM138","v":0},{"$f":"Depn!AN235 + AN82 + AN110 + AN138","v":0},{"$f":"Depn!AO235 + AO82 + AO110 + AO138","v":0}]
[null,null,null,null,"Closing value carried forward",null,"£m 09/10 prices",null,null,null,null,null,null,null,null,null,null,null,null,null,null,null,null,null,null,null,null,null,null,null,null,null,null,{"$f":"AH54 + AH55 - AH56","v":12992.278125310679},{"$f":"AI54 + AI55 - AI56","v":14400.675711982502},15727.808337321965,17072.01056101446,18153.564788221276,19219.390959526114,20170.076887907788,20995.396724343667]
[]
[null,null,null,"Cumulative depreciation"]
[]
[null,null,null,null,"Opening balance brought forward (before transfers)",null,"£m 09/10 prices",null,null,null,null,null,null,null,null,null,null,null,null,null,null,null,null,null,null,null,null,null,null,null,null,null,null,{"$f":"Depn!AH245 +AH89+AH117+AH145+AH173+AH207","v":3274.1187074495297},{"$f":"AH66","v":3837.8657729768074},{"$f":"AI66","v":4426.0481998641189},5054.8725517856492,5760.9870868544131,6452.1916515446619,7162.484949889591,7880.7551074362318]
[null,null,null,null,"Transfers",null,"£m 09/10 prices",null,null,null,null,null,null,null,null,null,null,null,null,null,null,null,null,null,null,null,null,null,null,null,null,null,null,{"$f":"-AH192","v":0},{"$f":"-AI192","v":0},0,{"$f":"-AK192","v":39.771622926686192},0,0,0,0]
[null,null,null,null,"Opening balance brought forward (after transfers)",null,"£m 09/10 prices",null,null,null,null,null,null,null,null,null,null,null,null,null,null,null,null,null,null,null,null,null,null,null,null,null,null,{"$f":"SUM(AH61:AH62)","v":3274.1187074495297},3837.8657729768074,4426.0481998641189,5094.6441747123354,5760.9870868544131,6452.1916515446619,7162.484949889591,7880.7551074362318]
[null,null,null,null,"Depreciation",null,"£m 09/10 prices",null,null,null,null,null,null,null,null,null,null,null,null,null,null,null,null,null,null,null,null,null,null,null,null,null,null,{"$f":"Depn!AH199 + AH92 + AH120 + AH148 + AH176 + AH210","v":563.74706552727753},{"$f":"Depn!AI199 + AI92 + AI120 + AI148 + AI176 + AI210","v":588.18242688731129},{"$f":"Depn!AJ199 + AJ92 + AJ120 + AJ148 + AJ176 + AJ210","v":628.82435192153071},{"$f":"Depn!AK199 + AK92 + AK120 + AK148 + AK176 + AK210","v":666.34291214207735},{"$f":"Depn!AL199 + AL92 + AL120 + AL148 + AL176 + AL210","v":691.2045646902485},{"$f":"Depn!AM199 + AM92 + AM120 + AM148 + AM176 + AM210","v":710.29329834492921},{"$f":"Depn!AN199 + AN92 + AN120 + AN148 + AN176 + AN210","v":718.27015754664114},{"$f":"Depn!AO199 + AO92 + AO120 + AO148 + AO176 + AO210","v":723.62488871875473}]
[null,null,null,null,"Removals",null,"£m 09/10 prices",null,null,null,null,null,null,null,null,null,null,null,null,null,null,null,null,null,null,null,null,null,null,null,null,null,null,{"$f":"AH56","v":0},0,0,0,0,0,0,0]
[null,null,null,null,"Closing value carried forward",null,"£m 09/10 prices",null,null,null,null,null,null,null,null,null,null,null,null,null,null,null,null,null,null,null,null,null,null,null,null,null,null,{"$f":"AH63 + AH64 - AH65","v":3837.8657729768074},{"$f":"AI63 + AI64 - AI65","v":4426.0481998641189},5054.8725517856492,5760.9870868544131,6452.1916515446619,7162.484949889591,7880.7551074362318,8604.3799961549867]
[]
[null,null,null,"Asset balance"]
[]
[null,null,null,null,"Net value after regulatory depreciation",null,"£m 09/10 prices",null,null,null,null,null,null,null,null,null,null,null,null,null,null,null,null,null,null,null,null,null,null,null,null,null,null,{"$f":"AH57 - AH66","v":9154.4123523338712},9974.6275121183826,10672.935785536316,11311.023474160047,11701.373136676615,12056.906009636523,12289.321780471557,12391.016728188681]
[]
[]
[null,null,"England-Scotland Interconnector"]
[null,null,"Note: \"England-Scotland Interconnector\" calculations are kept separate due to their non-standard depreciation profile."]
[]
[null,null,null,"Cost"]
[]
[null,null,null,null,"Opening balance brought forward",null,"£m 09/10 prices",null,null,">",null,null,null,null,null,null,null,null,null,null,null,null,null,null,null,null,{"$f":"Z83","v":105.7331207370006},105.7331207370006,105.7331207370006,105.7331207370006,105.7331207370006,105.7331207370006,105.7331207370006,105.7331207370006,105.7331207370006,105.7331207370006,105.7331207370006,105.7331207370006,105.7331207370006,105.7331207370006,105.7331207370006]
[null,null,null,null,"Transfer",null,"£m 09/10 prices",null,null,">"]
[null,null,null,null,"Opening balance brought forward (after transfer)",null,"£m 09/10 prices",null,null,">",null,null,null,null,null,null,null,null,null,null,null,null,null,null,null,{"$f":"SUM(Z78:Z79)","v":0},105.7331207370006,105.7331207370006,105.7331207370006,105.7331207370006,105.7331207370006,105.7331207370006,105.7331207370006,105.7331207370006,105.7331207370006,105.7331207370006,105.7331207370006,105.7331207370006,105.7331207370006,105.7331207370006,105.7331207370006]
[null,null,null,null,"Net additions (after disposals)",null,"£m 09/10 prices",null,null,">",null,null,null,null,null,null,null,null,null,null,null,null,null,null,null,{"$f":"Input!Z251","v":105.7331207370006},{"$f":"Input!AA251","v":0},{"$f":"Input!AB251","v":0},{"$f":"Input!AC251","v":0},{"$f":"Input!AD251","v":0},{"$f":"Input!AE251","v":0},{"$f":"Input!AF251","v":0},{"$f":"Input!AG251","v":0}]
[null,null,null,null,"Removals",null,"£m 09/10 prices",null,null,">"]
[null,null,null,null,"Balance carried forward",null,"£m 09/10 prices",null,null,">",null,null,null,null,null,null,null,null,null,null,null,null,null,null,null,{"$f":"Z80+Z81-Z82","v":105.7331207370006},105.7331207370006,105.7331207370006,105.7331207370006,105.7331207370006,105.7331207370006,105.7331207370006,105.7331207370006,105.7331207370006,105.7331207370006,105.7331207370006,105.7331207370006,105.7331207370006,105.7331207370006,105.7331207370006,105.7331207370006]
[]
[null,null,null,"Accumulated depreciation"]
[]
[null,null,null,null,"England-Scotland interconnector asset life",null,"years",null,null,">",null,null,null,null,null,null,null,null,null,null,null,null,null,null,null,{"$f":"Input!Z250","v":29},{"$f":"Input!AA250","v":29},{"$f":"Input!AB250","v":29},{"$f":"Input!AC250","v":29},{"$f":"Input!AD250","v":29},{"$f":"Input!AE250","v":17.5},{"$f":"Input!AF250","v":17.5},{"$f":"Input!AG250","v":17.5},{"$f":"Input!AH250","v":17.5},{"$f":"Input!AI250","v":17.5},{"$f":"Input!AJ250","v":17.5},{"$f":"Input!AK250","v":17.5},{"$f":"Input!AL250","v":17.5},{"$f":"Input!AM250","v":17.5},{"$f":"Input!AN250","v":17.5},{"$f":"Input!AO250","v":17.5}]
[]
[null,null,null,null,"Opening balance brought forward",null,"£m 09/10 prices",null,null,">",null,null,null,null,null,null,null,null,null,null,null,null,null,null,null,null,{"$f":"Z94","v":3.6459696805862278},7.2919393611724557,10.937909041758683,14.583878722344911,18.22984840293114,24.271741016474031,30.313633630016923,36.355526243559815,42.397418857102707,48.439311470645599,54.481204084188491,60.523096697731383,66.564989311274275,72.606881924817174,78.648774538360072]
[null,null,null,null,"Transfer",null,"£m 09/10 prices",null,null,">"]
[null,null,null,null,"Opening balance brought forward (after transfer)",null,"£m 09/10 prices",null,null,">",null,null,null,null,null,null,null,null,null,null,null,null,null,null,null,{"$f":"SUM(Z89:Z90)","v":0},3.6459696805862278,7.2919393611724557,10.937909041758683,14.583878722344911,18.22984840293114,24.271741016474031,30.313633630016923,36.355526243559815,42.397418857102707,48.439311470645599,54.481204084188491,60.523096697731383,66.564989311274275,72.606881924817174,78.648774538360072]
[null,null,null,null,"Regulatory depreciation",null,"£m 09/10 prices",null,null,">",null,null,null,null,null,null,null,null,null,null,null,null,null,null,null,{"$f":"(Z80+Z81)/Z87","v":3.6459696805862278},{"$f":"(AA80+AA81)/AA87","v":3.6459696805862278},{"$f":"(AB80+AB81)/AB87","v":3.6459696805862278},{"$f":"(AC80+AC81)/AC87","v":3.6459696805862278},{"$f":"(AD80+AD81)/AD87","v":3.6459696805862278},{"$f":"MIN(AE80/AE87,AD99)","v":6.0418926135428919},6.0418926135428919,6.0418926135428919,6.0418926135428919,6.0418926135428919,6.0418926135428919,6.0418926135428919,6.0418926135428919,6.0418926135428919,6.0418926135428919,6.0418926135428919]
[null,null,null,null,"Removals",null,"£m 09/10 prices",null,null,">",null,null,null,null,null,null,null,null,null,null,null,null,null,null,null,{"$f":"Z82","v":0},0,0,0,0,0,0,0,0,0,0,0,0,0,0,0]
[null,null,null,null,"Closing value carried forward",null,"£m 09/10 prices",null,null,">",null,null,null,null,null,null,null,null,null,null,null,null,null,null,null,{"$f":"Z91+Z92-Z93","v":3.6459696805862278},7.2919393611724557,10.937909041758683,14.583878722344911,18.22984840293114,24.271741016474031,30.313633630016923,36.355526243559815,42.397418857102707,48.439311470645599,54.481204084188491,60.523096697731383,66.564989311274275,72.606881924817174,78.648774538360072,84.690667151902971]
[]
[null,null,null,"Net value after regulatory depreciation"]
[]
[null,null,null,null,"Included in RAV",null,"text",null,null,">",null,null,null,null,null,null,null,null,null,null,null,null,null,null,null,{"$f":"YEAR(Z$4) >= YEAR($Z$4)","v":true},true,true,true,true,true,true,true,true,true,true,true,true,true,true,true]
[null,null,null,null,"Net value after regulatory depreciation",null,"£m 09/10 prices",null,null,">",null,null,null,null,null,null,null,null,null,null,null,null,null,null,null,{"$f":"Z83-Z94","v":102.08715105641437},98.441181375828151,94.795211695241917,91.149242014655698,87.503272334069464,81.461379720526566,75.419487106983681,69.377594493440796,63.335701879897897,57.293809266355005,51.251916652812113,45.210024039269221,39.16813142572633,33.126238812183431,27.084346198640532,21.042453585097633]
[]
[null,null,"Pre-BETTA connections (PLUGS)"]
[null,null,"Note: \"Pre-BETTA connections (PLUGS)\" calculations are kept separate due to their non-standard depreciation profile."]
[]
[null,null,null,"Cost"]
[]
[null,null,null,null,"Opening balance brought forward",null,"£m 09/10 prices",null,null,">",null,null,null,null,null,null,null,null,null,null,null,null,null,null,null,null,{"$f":"Z111","v":0},0,0,0,0,0,0,0,0,0,0,0,0,0,0]
[null,null,null,null,"Transfer",null,"£m 09/10 prices",null,null,">"]
[null,null,null,null,"Opening balance brought forward (after transfer)",null,"£m 09/10 prices",null,null,">",null,null,null,null,null,null,null,null,null,null,null,null,null,null,null,{"$f":"SUM(Z106:Z107)","v":0},0,0,0,0,0,0,0,{"$f":"SUM(AH106:AH107)","v":0},0,0,0,0,0,0,0]
[null,null,null,null,"Net additions (after disposals)",null,"£m 09/10 prices",null,null,">",null,null,null,null,null,null,null,null,null,null,null,null,null,null,null,{"$f":"Input!Z244","v":0},{"$f":"Input!AA244","v":0},{"$f":"Input!AB244","v":0},{"$f":"Input!AC244","v":0},{"$f":"Input!AD244","v":0},{"$f":"Input!AE244","v":0},{"$f":"Input!AF244","v":0},{"$f":"Input!AG244","v":0}]
[null,null,null,null,"Removals",null,"£m 09/10 prices",null,null,">"]
[null,null,null,null,"Balance carried forward",null,"£m 09/10 prices",null,null,">",null,null,null,null,null,null,null,null,null,null,null,null,null,null,null,{"$f":"Z108+Z109-Z110","v":0},0,0,0,0,0,0,0,0,0,0,0,0,0,0,0]
[]
[null,null,null,"Accumulated depreciation"]
[]
[null,null,null,null,"PLUGS asset life",null,"years",null,null,">",null,null,null,null,null,null,null,null,null,null,null,null,null,null,null,{"$f":"Input!Z243","v":30},{"$f":"Input!AA243","v":30},{"$f":"Input!AB243","v":30},{"$f":"Input!AC243","v":30},{"$f":"Input!AD243","v":30},{"$f":"Input!AE243","v":30},{"$f":"Input!AF243","v":30},{"$f":"Input!AG243","v":18},{"$f":"Input!AH243","v":18},{"$f":"Input!AI243","v":18},{"$f":"Input!AJ243","v":18},{"$f":"Input!AK243","v":18},{"$f":"Input!AL243","v":18},{"$f":"Input!AM243","v":18},{"$f":"Input!AN243","v":18},{"$f":"Input!AO243","v":18}]
[]
[null,null,null,null,"Opening balance brought forward",null,"£m 09/10 prices",null,null,">",null,null,null,null,null,null,null,null,null,null,null,null,null,null,null,null,{"$f":"Z122","v":0},0,0,0,0,0,0,0,0,0,0,0,0,0,0]
[null,null,null,null,"Transfer",null,"£m 09/10 prices",null,null,">"]
[null,null,null,null,"Opening balance brought forward (after transfer)",null,"£m 09/10 prices",null,null,">",null,null,null,null,null,null,null,null,null,null,null,null,null,null,null,{"$f":"SUM(Z117:Z118)","v":0},0,0,0,0,0,0,0,0,0,0,0,0,0,0,0]
[null,null,null,null,"Regulatory depreciation",null,"£m 09/10 prices",null,null,">",null,null,null,null,null,null,null,null,null,null,null,null,null,null,null,{"$f":"(Z108+Z109)/Z115","v":0},0,0,0,0,0,0,{"$f":"MIN(AG108/AG115,AF127)","v":0},0,0,0,0,0,0,0,0]
[null,null,null,null,"Removals",null,"£m 09/10 prices",null,null,">",null,null,null,null,null,null,null,null,null,null,null,null,null,null,null,{"$f":"Z110","v":0},0,0,0,0,0,0,0,0,0,0,0,0,0,0,0]
[null,null,null,null,"Closing value carried forward",null,"£m 09/10 prices",null,null,">",null,null,null,null,null,null,null,null,null,null,null,null,null,null,null,{"$f":"Z119+Z120-Z121","v":0},0,0,0,0,0,0,0,0,0,0,0,0,0,0,0]
[]
[null,null,null,"Net value after regulatory depreciation"]
[]
[null,null,null,null,"Included in RAV",null,"text",null,null,">",null,null,null,null,null,null,null,null,null,null,null,null,null,null,null,{"$f":"YEAR(Z$4) >= YEAR($Z$4)","v":true},true,true,true,true,true,true,true,true,true,true,true,true,true,true,true]
[null,null,null,null,"Net value after regulatory depreciation",null,"£m 09/10 prices",null,null,">",null,null,null,null,null,null,null,null,null,null,null,null,null,null,null,{"$f":"Z111-Z122","v":0},0,0,0,0,0,0,0,0,0,0,0,0,0,0,0]
[]
[null,null,"TOI"]
[null,null,"Note: \"TOI\" calculations are kept separate due to their non-standard depreciation profile and deemed depreciation before transfer to RAV."]
[]
[null,null,null,"Cost"]
[]
[null,null,null,null,"Opening balance brought forward",null,"£m 09/10 prices",null,null,">",null,null,null,null,null,null,null,null,null,null,null,null,null,null,null,null,null,null,null,{"$f":"AC139","v":0.77653899278342486},13.066538992783425,121.47597464267675,221.75758792872705,534.92758792872701,534.92758792872701,534.92758792872701,534.92758792872701,534.92758792872701,534.92758792872701,534.92758792872701,534.92758792872701]
[null,null,null,null,"Transfer",null,"£m 09/10 prices",null,null,">"]
[null,null,null,null,"Opening balance brought forward (after transfer)",null,"£m 09/10 prices",null,null,">",null,null,null,null,null,null,null,null,null,null,null,null,null,null,null,null,null,null,{"$f":"SUM(AC134:AC135)","v":0},0.77653899278342486,13.066538992783425,121.47597464267675,221.75758792872705,534.92758792872701,534.92758792872701,534.92758792872701,534.92758792872701,534.92758792872701,534.92758792872701,534.92758792872701,534.92758792872701]
[null,null,null,null,"Net additions (after disposals)",null,"£m 09/10 prices",null,null,">",null,null,null,null,null,null,null,null,null,null,null,null,null,null,null,null,null,null,{"$f":"Input!AC247","v":0.77653899278342486},{"$f":"Input!AD247","v":12.29},{"$f":"Input!AE247","v":108.40943564989333},{"$f":"Input!AF247","v":100.28161328605032},{"$f":"Input!AG247","v":313.17}]
[null,null,null,null,"Removals",null,"£m 09/10 prices",null,null,">"]
[null,null,null,null,"Balance carried forward",null,"£m 09/10 prices",null,null,">",null,null,null,null,null,null,null,null,null,null,null,null,null,null,null,null,null,null,{"$f":"AC136 + AC137 - AC138","v":0.77653899278342486},13.066538992783425,121.47597464267675,221.75758792872705,534.92758792872701,534.92758792872701,534.92758792872701,534.92758792872701,534.92758792872701,534.92758792872701,534.92758792872701,534.92758792872701,534.92758792872701]
[]
[null,null,null,"Accumulated depreciation"]
[]
[null,null,null,null,"TOI asset life",null,"years",null,{"$f":"Input!I246","v":20}]
[]
[null,null,null,null,"Opening balance brought forward",null,"£m 09/10 prices",null,null,">",null,null,null,null,null,null,null,null,null,null,null,null,null,null,null,null,null,null,null,{"$f":"AC150","v":0},0,0.10057144878939689,3.8842889798491411,14.972168376285495,41.718547772721848,68.464927169158202,95.211306565594555,121.95768596203091,148.70406535846726,175.4504447549036,202.19682415133994]
[null,null,null,null,"Transfer",null,"£m 09/10 prices",null,null,">"]
[null,null,null,null,"Opening balance brought forward (after transfer)",null,"£m 09/10 prices",null,null,">",null,null,null,null,null,null,null,null,null,null,null,null,null,null,null,null,null,null,{"$f":"SUM(AC145:AC146)","v":0},0,0,0.10057144878939689,3.8842889798491411,14.972168376285495,41.718547772721848,68.464927169158202,95.211306565594555,121.95768596203091,148.70406535846726,175.4504447549036,202.19682415133994]
[null,null,null,null,"Regulatory depreciation",null,"£m 09/10 prices",null,null,">",null,null,null,null,null,null,null,null,null,null,null,null,null,null,null,null,null,null,null,{"$f":"Input!AD248","v":0},{"$f":"Input!AE248","v":0.10057144878939689},{"$f":"Input!AF248","v":3.7837175310597444},{"$f":"AG134 / $I143","v":11.087879396436353},{"$f":"AH134 / $I143","v":26.74637939643635},26.74637939643635,26.74637939643635,26.74637939643635,26.74637939643635,26.74637939643635,26.74637939643635,26.74637939643635]
[null,null,null,null,"Removals",null,"£m 09/10 prices",null,null,">",null,null,null,null,null,null,null,null,null,null,null,null,null,null,null,null,null,null,null,{"$f":"AD138","v":0},0,0,0,0,0,0,0,0,0,0,0]
[null,null,null,null,"Closing value carried forward",null,"£m 09/10 prices",null,null,">",null,null,null,null,null,null,null,null,null,null,null,null,null,null,null,null,null,null,{"$f":"AC147 + AC148 - AC149","v":0},0,0.10057144878939689,3.8842889798491411,14.972168376285495,41.718547772721848,68.464927169158202,95.211306565594555,121.95768596203091,148.70406535846726,175.4504447549036,202.19682415133994,228.94320354777628]
[]
[null,null,null,"Asset balance"]
[]
[null,null,null,null,"Included in RAV",null,"text",null,null,">",null,null,null,null,null,null,null,null,null,null,null,null,null,null,null,null,null,null,{"$f":"YEAR(AC$4) >= YEAR($AG$4)","v":false},false,false,false,true,true,true,true,true,true,true,true,true]
[null,null,null,null,"Net value after regulatory depreciation",null,"£m 09/10 prices",null,null,">",null,null,null,null,null,null,null,null,null,null,null,null,null,null,null,null,null,null,{"$f":"AC139 - AC150","v":0.77653899278342486},13.066538992783425,121.37540319388735,217.8732989488779,519.95541955244153,493.20904015600513,466.46266075956879,439.71628136313245,412.96990196669611,386.22352257025977,359.47714317382338,332.7307637773871,305.9843843809507]
[]
[null,null,"Retrospective addition of logged-up and security costs"]
[null,null,"Note: Retrospective logged-up and security cost calculations are kept separate due to their non-standard depreciation profile and deemed depreciation before transfer to RAV."]
[]
[null,null,null,"Cost"]
[]
[null,null,null,null,"Opening balance brought forward",null,"£m 09/10 prices",null,null,">",null,null,null,null,null,null,null,null,null,null,null,null,null,null,null,{"$f":"Y167","v":0},0,4.3085115234212479,8.7429729512507386,33.734870832836819,63.042870832836819,94.176721809765837,154.9771487610667,157.4771487610667,157.4771487610667,157.4771487610667,157.4771487610667,157.4771487610667,157.4771487610667,157.4771487610667,157.4771487610667]
[null,null,null,null,"Transfer",null,"£m 09/10 prices",null,null,">"]
[null,null,null,null,"Opening balance brought forward (after transfer)",null,"£m 09/10 prices",null,null,">",null,null,null,null,null,null,null,null,null,null,null,null,null,null,{"$f":"SUM(Y162:Y163)","v":0},{"$f":"SUM(Z162:Z163)","v":0},{"$f":"SUM(AA162:AA163)","v":0},{"$f":"SUM(AB162:AB163)","v":4.3085115234212479},{"$f":"SUM(AC162:AC163)","v":8.7429729512507386},{"$f":"SUM(AD162:AD163)","v":33.734870832836819},63.042870832836819,94.176721809765837,154.9771487610667,157.4771487610667,157.4771487610667,157.4771487610667,157.4771487610667,157.4771487610667,157.4771487610667,157.4771487610667,157.4771487610667]
[null,null,null,null,"Net additions (after disposals)",null,"£m 09/10 prices",null,null,">",null,null,null,null,null,null,null,null,null,null,null,null,null,null,{"$f":"Input!Y255 + Input!Y257","v":0},{"$f":"Input!Z255 + Input!Z257","v":0},{"$f":"Input!AA255 + Input!AA257","v":4.3085115234212479},{"$f":"Input!AB255 + Input!AB257","v":4.4344614278294898},{"$f":"Input!AC255 + Input!AC257","v":24.991897881586084},{"$f":"Input!AD255 + Input!AD257","v":29.308},{"$f":"Input!AE255 + Input!AE257","v":31.133850976929015},{"$f":"Input!AF255 + Input!AF257","v":60.80042695130085},{"$f":"Input!AG255 + Input!AG257","v":2.5}]
[null,null,null,null,"Removals",null,"£m 09/10 prices",null,null,">"]
[null,null,null,null,"Balance carried forward",null,"£m 09/10 prices",null,null,">",null,null,null,null,null,null,null,null,null,null,null,null,null,null,{"$f":"Y164 + Y165 - Y166","v":0},{"$f":"Z164 + Z165 - Z166","v":0},{"$f":"AA164 + AA165 - AA166","v":4.3085115234212479},{"$f":"AB164 + AB165 - AB166","v":8.7429729512507386},{"$f":"AC164 + AC165 - AC166","v":33.734870832836819},{"$f":"AD164 + AD165 - AD166","v":63.042870832836819},94.176721809765837,154.9771487610667,157.4771487610667,157.4771487610667,157.4771487610667,157.4771487610667,157.4771487610667,157.4771487610667,157.4771487610667,157.4771487610667,157.4771487610667]
[]
[null,null,null,"Accumulated depreciation"]
[]
[null,null,null,null,"Logged-up items and secturity costs asset life",null,"years",null,{"$f":"Input!I253","v":20},">"]
[]
[null,null,null,null,"Opening balance brought forward",null,"£m 09/10 prices",null,null,">",null,null,null,null,null,null,null,null,null,null,null,null,null,null,null,{"$f":"Y178","v":0},0,0,0.21542557617106239,0.6525742237335993,2.3393177653754402,5.4914613070172811,10.200297397505572,17.949154835558907,25.823012273612242,33.696869711665578,41.570727149718913,49.444584587772248,57.318442025825583,65.192299463878925,73.06615690193226]
[null,null,null,null,"Transfer",null,"£m 09/10 prices",null,null,">"]
[null,null,null,null,"Opening balance brought forward (after transfer)",null,"£m 09/10 prices",null,null,">",null,null,null,null,null,null,null,null,null,null,null,null,null,null,{"$f":"SUM(Y173:Y174)","v":0},{"$f":"SUM(Z173:Z174)","v":0},{"$f":"SUM(AA173:AA174)","v":0},{"$f":"SUM(AB173:AB174)","v":0},{"$f":"SUM(AC173:AC174)","v":0.21542557617106239},{"$f":"SUM(AD173:AD174)","v":0.6525742237335993},2.3393177653754402,5.4914613070172811,10.200297397505572,17.949154835558907,25.823012273612242,33.696869711665578,41.570727149718913,49.444584587772248,57.318442025825583,65.192299463878925,73.06615690193226]
[null,null,null,null,"Regulatory depreciation",null,"£m 09/10 prices",null,null,">",null,null,null,null,null,null,null,null,null,null,null,null,null,null,null,{"$f":"MIN(Z162 / $I$171, Y183)","v":0},{"$f":"MIN(AA162 / $I$171, Z183)","v":0},0.21542557617106239,0.43714864756253691,1.686743541641841,3.1521435416418409,4.7088360904882922,7.748857438053335,7.873857438053335,7.873857438053335,7.873857438053335,7.873857438053335,7.873857438053335,7.873857438053335,7.873857438053335,7.873857438053335]
[null,null,null,null,"Removals",null,"£m 09/10 prices",null,null,">",null,null,null,null,null,null,null,null,null,null,null,null,null,null,null,{"$f":"Z166","v":0},{"$f":"AA166","v":0},{"$f":"AB166","v":0},{"$f":"AC166","v":0},{"$f":"AD166","v":0},0,0,0,0,0,0,0,0,0,0,0]
[null,null,null,null,"Closing value carried forward",null,"£m 09/10 prices",null,null,">",null,null,null,null,null,null,null,null,null,null,null,null,null,null,{"$f":"Y175 + Y176 - Y177","v":0},{"$f":"Z175 + Z176 - Z177","v":0},{"$f":"AA175 + AA176 - AA177","v":0},{"$f":"AB175 + AB176 - AB177","v":0.21542557617106239},{"$f":"AC175 + AC176 - AC177","v":0.6525742237335993},{"$f":"AD175 + AD176 - AD177","v":2.3393177653754402},5.4914613070172811,10.200297397505572,17.949154835558907,25.823012273612242,33.696869711665578,41.570727149718913,49.444584587772248,57.318442025825583,65.192299463878925,73.06615690193226,80.940014339985595]
[]
[null,null,null,"Asset balance"]
[]
[null,null,null,null,"Included in RAV",null,"text",null,null,">",null,null,null,null,null,null,null,null,null,null,null,null,null,null,{"$f":"YEAR(Y$4) >= YEAR($AG$4)","v":false},{"$f":"YEAR(Z$4) >= YEAR($AG$4)","v":false},{"$f":"YEAR(AA$4) >= YEAR($AG$4)","v":false},{"$f":"YEAR(AB$4) >= YEAR($AG$4)","v":false},{"$f":"YEAR(AC$4) >= YEAR($AG$4)","v":false},{"$f":"YEAR(AD$4) >= YEAR($AG$4)","v":false},false,false,true,true,true,true,true,true,true,true,true]
[null,null,null,null,"Net value after regulatory depreciation",null,"£m 09/10 prices",null,null,">",null,null,null,null,null,null,null,null,null,null,null,null,null,null,{"$f":"Y167 - Y178","v":0},{"$f":"Z167 - Z178","v":0},{"$f":"AA167 - AA178","v":4.3085115234212479},{"$f":"AB167 - AB178","v":8.527547375079676},{"$f":"AC167 - AC178","v":33.082296609103217},{"$f":"AD167 - AD178","v":60.703553067461378},88.685260502748562,144.77685136356112,139.52799392550779,131.65413648745445,123.78027904940112,115.90642161134778,108.03256417329445,100.15870673524111,92.284849297187776,84.410991859134441,76.537134421081106]
[]
[null,null,"TIRG transferred to RAV"]
[null,null,"Note: TIRG assets are transferred to the RAV during the price control. "]
[null,null,"TIRG assets transferred are depreciated over the remaining 15 years of their asset life on transfer, adjusted for deemed depreciation between commissioning and transfer."]
[]
[null,null,null,"Transfer"]
[]
[null,null,null,null,"Cost transferred to RAV",null,"£m 09/10 prices",null,null,null,null,null,null,null,null,null,null,null,null,null,null,null,null,null,null,null,null,null,null,null,null,null,null,null,null,{"$f":"NonCore!AJ11","v":0},{"$f":"NonCore!AK11","v":122.16025140067914},{"$f":"NonCore!AL11","v":0},{"$f":"NonCore!AM11","v":0},{"$f":"NonCore!AN11","v":0},{"$f":"NonCore!AO11","v":0}]
[null,null,null,null,"Accumulated depreciation transferred to RAV",null,"£m 09/10 prices",null,null,null,null,null,null,null,null,null,null,null,null,null,null,null,null,null,null,null,null,null,null,null,null,null,null,null,null,{"$f":"-NonCore!AJ13","v":0},{"$f":"-NonCore!AK13","v":-39.771622926686192},{"$f":"-NonCore!AL13","v":0},{"$f":"-NonCore!AM13","v":0},{"$f":"-NonCore!AN13","v":0},{"$f":"-NonCore!AO13","v":0}]
[null,null,null,null,"Net transfer",null,"£m 09/10 prices",null,null,null,null,null,null,null,null,null,null,null,null,null,null,null,null,null,null,null,null,null,null,null,null,null,null,null,null,{"$f":"SUM(AJ191:AJ192)","v":0},82.388628473992952,0,0,0,0]
[]
[null,null,null,"Cost"]
[]
[null,null,null,null,"Opening balance brought forward",null,"£m 09/10 prices",null,null,null,null,null,null,null,null,null,null,null,null,null,null,null,null,null,null,null,null,null,null,null,null,null,null,null,null,null,{"$f":"AJ199","v":0},{"$f":"AK199","v":82.388628473992952},82.388628473992952,82.388628473992952,82.388628473992952]
[null,null,null,null,"Net transfer",null,"£m 09/10 prices",null,null,null,null,null,null,null,null,null,null,null,null,null,null,null,null,null,null,null,null,null,null,null,null,null,null,null,null,{"$f":"AJ193","v":0},{"$f":"AK193","v":82.388628473992952},0,0,0,0]
[null,null,null,null,"Opening balance brought forward (after transfer)",null,"£m 09/10 prices",null,null,null,null,null,null,null,null,null,null,null,null,null,null,null,null,null,null,null,null,null,null,null,null,null,null,null,null,{"$f":"SUM(AJ197:AJ198)","v":0},82.388628473992952,82.388628473992952,82.388628473992952,82.388628473992952,82.388628473992952]
[]
[null,null,null,"Accumulated depreciation"]
[]
[null,null,null,null,"TIRG asset life",null,{"$f":"Input!G261","v":"years"},null,{"$f":"Input!I261","v":20}]
[null,null,null,null,"Less years from TIRG commissioning to RAV transfer",null,{"$f":"Input!G262","v":"years"},null,{"$f":"-Input!I262","v":-5}]
[null,null,null,null,"TIRG asset life remaining on transfer to RAV",null,"years",null,{"$f":"SUM(I203:I204)","v":15}]
[]
[null,null,null,null,"Opening balance brought forward",null,"£m 09/10 prices",null,null,null,null,null,null,null,null,null,null,null,null,null,null,null,null,null,null,null,null,null,null,null,null,null,null,null,null,null,{"$f":"AJ211","v":0},{"$f":"AK211","v":5.4925752315995302},{"$f":"AL211","v":10.98515046319906},{"$f":"AM211","v":16.47772569479859},{"$f":"AN211","v":21.970300926398121}]
[null,null,null,null,"Transfer",null,"£m 09/10 prices"]
[null,null,null,null,"Opening balance brought forward (after transfer)",null,"£m 09/10 prices",null,null,null,null,null,null,null,null,null,null,null,null,null,null,null,null,null,null,null,null,null,null,null,null,null,null,null,null,{"$f":"SUM(AJ207:AJ208)","v":0},0,5.4925752315995302,10.98515046319906,16.47772569479859,21.970300926398121]
[null,null,null,null,"TIRG depreciation in RAV",null,"£m 09/10 prices",null,null,null,null,null,null,null,null,null,null,null,null,null,null,null,null,null,null,null,null,null,null,null,null,null,null,null,null,{"$f":"AJ199 / $I$205","v":0},5.4925752315995302,5.4925752315995302,5.4925752315995302,5.4925752315995302,5.4925752315995302]
[null,null,null,null,"Closing value carried forward",null,"£m 09/10 prices",null,null,null,null,null,null,null,null,null,null,null,null,null,null,null,null,null,null,null,null,null,null,null,null,null,null,null,null,{"$f":"AJ209 + AJ210","v":0},{"$f":"AK209 + AK210","v":5.4925752315995302},10.98515046319906,16.47772569479859,21.970300926398121,27.462876157997652]
[]
[null,null,null,"Asset balance"]
[]
[null,null,null,null,"Included in RAV",null,"text",null,null,null,null,null,null,null,null,null,null,null,null,null,null,null,null,null,null,null,null,null,null,null,null,null,null,null,null,{"$f":"YEAR(AJ$4) >= YEAR($AJ$4)","v":true},true,true,true,true,true]
[null,null,null,null,"Net value after regulatory depreciation",null,"£m 09/10 prices",null,null,null,null,null,null,null,null,null,null,null,null,null,null,null,null,null,null,null,null,null,null,null,null,null,null,null,null,{"$f":"AJ199 - AJ211","v":0},76.896053242393421,71.40347801079389,65.910902779194359,60.418327547594828,54.925752315995297]
[]
[null,"End of sheet"]

{"sheet":"TaxPools","index":11,"n_rows":132,"n_cols":41,"rows_kept":132,"cut":false,"hidden":false,"merged":[]}
["Tax Pools"]
[null,{"$f":"UserInterface!G25","v":"NGET TO"}]
[null,null,null,null,"Parameter",null,"Units",null,"Constant",null,null,null,null,null,null,null,null,null,null,null,null,null,null,null,null,null,null,null,null,null,null,null,null,"Annual values"]
[null,null,null,null,"PCFM year ending",null,null,null,{"$f":"UserInterface!$G$18","v":"2016-03-31"},null,"1991-03-31","1992-03-31","1993-03-31","1994-03-31","1995-03-31","1996-03-31","1997-03-31","1998-03-31","1999-03-31","2000-03-31","2001-03-31","2002-03-31","2003-03-31","2004-03-31","2005-03-31","2006-03-31","2007-03-31","2008-03-31","2009-03-31","2010-03-31","2011-03-31","2012-03-31","2013-03-31","2014-03-31","2015-03-31","2016-03-31","2017-03-31","2018-03-31","2019-03-31","2020-03-31","2021-03-31"]
[]
[null,"Tax pool additions"]
[null,"Note: Actual totex is combined with other expenditure and allocated to tax pools. Each cost sub-category can have its own percentage split between each pool."]
[]
[null,null,"Expenditure categories allocated to tax pools"]
[]
[null,null,null,"Actual totex"]
[]
[null,null,null,null,"Load related capex expenditure",null,"£m 09/10 prices",null,null,null,null,null,null,null,null,null,null,null,null,null,null,null,null,null,null,null,null,null,null,null,null,null,null,{"$f":"Totex!AH69","v":576.4723599528071},{"$f":"Totex!AI69","v":961.32219838789524},{"$f":"Totex!AJ69","v":873.21209619031458},{"$f":"Totex!AK69","v":744.20328957845561},{"$f":"Totex!AL69","v":444.07577348666393},{"$f":"Totex!AM69","v":332.05116503452598},{"$f":"Totex!AN69","v":126.3643129444215},{"$f":"Totex!AO69","v":58.547442201912972}]
[null,null,null,null,"Asset replacement capex expenditure",null,"£m 09/10 prices",null,null,null,null,null,null,null,null,null,null,null,null,null,null,null,null,null,null,null,null,null,null,null,null,null,null,{"$f":"Totex!AH70","v":217.14268787167353},{"$f":"Totex!AI70","v":464.05399879326387},{"$f":"Totex!AJ70","v":458.96940179907631},{"$f":"Totex!AK70","v":462.20515674748674},{"$f":"Totex!AL70","v":597.39616992865308},{"$f":"Totex!AM70","v":694.95362362794094},{"$f":"Totex!AN70","v":760.47133413278959},{"$f":"Totex!AO70","v":680.37534043694836}]
[null,null,null,null,"Other capex expenditure",null,"£m 09/10 prices",null,null,null,null,null,null,null,null,null,null,null,null,null,null,null,null,null,null,null,null,null,null,null,null,null,null,{"$f":"Totex!AH71","v":174.99178290887571},{"$f":"Totex!AI71","v":7.2568799999999998},{"$f":"Totex!AJ71","v":5.9409999999999998},{"$f":"Totex!AK71","v":8.2522800000000007},{"$f":"Totex!AL71","v":7.9053199999999988},{"$f":"Totex!AM71","v":10.711639999999999},{"$f":"Totex!AN71","v":10.669640000000001},{"$f":"Totex!AO71","v":11.88064}]
[null,null,null,null,"Controllable opex",null,"£m 09/10 prices",null,null,null,null,null,null,null,null,null,null,null,null,null,null,null,null,null,null,null,null,null,null,null,null,null,null,{"$f":"Totex!AH72","v":165.28612902215741},{"$f":"Totex!AI72","v":196.41204072355288},{"$f":"Totex!AJ72","v":203.04710659109347},{"$f":"Totex!AK72","v":204.35171680440774},{"$f":"Totex!AL72","v":205.72203973741003},{"$f":"Totex!AM72","v":206.0644404839947},{"$f":"Totex!AN72","v":207.83890997781467},{"$f":"Totex!AO72","v":208.20405529640865}]
[null,null,null,null,"Non-operational capex",null,"£m 09/10 prices",null,null,null,null,null,null,null,null,null,null,null,null,null,null,null,null,null,null,null,null,null,null,null,null,null,null,{"$f":"Totex!AH73","v":30.724403941398467},{"$f":"Totex!AI73","v":27.893219356255912},{"$f":"Totex!AJ73","v":20.162895818884664},{"$f":"Totex!AK73","v":18.683994860020533},{"$f":"Totex!AL73","v":17.317434737643207},{"$f":"Totex!AM73","v":10.132273565113017},{"$f":"Totex!AN73","v":13.10983633518048},{"$f":"Totex!AO73","v":11.957035518704526}]
[null,null,null,null,"Actual totex",null,"£m 09/10 prices",null,null,null,null,null,null,null,null,null,null,null,null,null,null,null,null,null,null,null,null,null,null,null,null,null,null,{"$f":"SUM(AH13:AH17)","v":1164.6173636969124},1656.9383372609677,1561.3325003993691,1437.6964379903704,1272.4167378903705,1253.9131427115749,1118.4540333902062,970.96451345397452]
[]
[null,null,null,"Actual non-totex"]
[]
[null,null,null,null,"Non-controllable opex",null,"£m 09/10 prices",null,null,null,null,null,null,null,null,null,null,null,null,null,null,null,null,null,null,null,null,null,null,null,null,null,null,{"$f":"Input!AH199","v":94.24723304227993},{"$f":"Input!AI199","v":87.678224204681584},{"$f":"Input!AJ199","v":87.676243763178761},{"$f":"Input!AK199","v":87.677481779017953},{"$f":"Input!AL199","v":87.676244486345595},{"$f":"Input!AM199","v":87.676244488148086},{"$f":"Input!AN199","v":87.676244492723825},{"$f":"Input!AO199","v":87.676244462267519}]
[null,null,null,null,"Actual non-totex",null,"£m 09/10 prices",null,null,null,null,null,null,null,null,null,null,null,null,null,null,null,null,null,null,null,null,null,null,null,null,null,null,{"$f":"SUM(AH22:AH22)","v":94.24723304227993},87.678224204681584,87.676243763178761,87.677481779017953,87.676244486345595,87.676244488148086,87.676244492723825,87.676244462267519]
[]
[null,null,null,"Combined actual totex and non-totex"]
[]
[null,null,null,null,"Load related capex expenditure",null,"£m 09/10 prices",null,null,null,null,null,null,null,null,null,null,null,null,null,null,null,null,null,null,null,null,null,null,null,null,null,null,{"$f":"AH13","v":576.4723599528071},{"$f":"AI13","v":961.32219838789524},873.21209619031458,744.20328957845561,444.07577348666393,332.05116503452598,126.3643129444215,58.547442201912972]
[null,null,null,null,"Asset replacement capex expenditure",null,"£m 09/10 prices",null,null,null,null,null,null,null,null,null,null,null,null,null,null,null,null,null,null,null,null,null,null,null,null,null,null,{"$f":"AH14","v":217.14268787167353},464.05399879326387,458.96940179907631,462.20515674748674,597.39616992865308,694.95362362794094,760.47133413278959,680.37534043694836]
[null,null,null,null,"Other capex expenditure",null,"£m 09/10 prices",null,null,null,null,null,null,null,null,null,null,null,null,null,null,null,null,null,null,null,null,null,null,null,null,null,null,174.99178290887571,7.2568799999999998,5.9409999999999998,8.2522800000000007,7.9053199999999988,10.711639999999999,10.669640000000001,11.88064]
[null,null,null,null,"Opex",null,"£m 09/10 prices",null,null,null,null,null,null,null,null,null,null,null,null,null,null,null,null,null,null,null,null,null,null,null,null,null,null,{"$f":"AH22 + AH16","v":259.53336206443737},284.09026492823443,290.72335035427221,292.02919858342568,293.39828422375564,293.74068497214279,295.5151544705385,295.88029975867619]
[null,null,null,null,"Non-operational capex",null,"£m 09/10 prices",null,null,null,null,null,null,null,null,null,null,null,null,null,null,null,null,null,null,null,null,null,null,null,null,null,null,{"$f":"AH17","v":30.724403941398467},27.893219356255912,20.162895818884664,18.683994860020533,17.317434737643207,10.132273565113017,13.10983633518048,11.957035518704526]
[]
[null,null,"Tax pool allocation"]
[]
[null,null,null,"General pool"]
[]
[null,null,null,null,"Load related capex expenditure allocation",null,"%",null,null,null,null,null,null,null,null,null,null,null,null,null,null,null,null,null,null,null,null,null,null,null,null,null,null,{"$f":"Input!AH321","v":0.10299999999999999},{"$f":"Input!AI321","v":0.10299999999999999},{"$f":"Input!AJ321","v":0.10299999999999999},{"$f":"Input!AK321","v":0.10299999999999999},{"$f":"Input!AL321","v":0.10299999999999999},{"$f":"Input!AM321","v":0.10299999999999999},{"$f":"Input!AN321","v":0.10299999999999999},{"$f":"Input!AO321","v":0.10299999999999999}]
[null,null,null,null,"Asset replacement capex expenditure allocation",null,"%",null,null,null,null,null,null,null,null,null,null,null,null,null,null,null,null,null,null,null,null,null,null,null,null,null,null,{"$f":"Input!AH322","v":0.107},{"$f":"Input!AI322","v":0.107},{"$f":"Input!AJ322","v":0.107},{"$f":"Input!AK322","v":0.107},{"$f":"Input!AL322","v":0.107},{"$f":"Input!AM322","v":0.107},{"$f":"Input!AN322","v":0.107},{"$f":"Input!AO322","v":0.107}]
[null,null,null,null,"Other capex expenditure allocation",null,"%",null,null,null,null,null,null,null,null,null,null,null,null,null,null,null,null,null,null,null,null,null,null,null,null,null,null,{"$f":"Input!AH323","v":0.107},{"$f":"Input!AI323","v":0.107},{"$f":"Input!AJ323","v":0.107},{"$f":"Input!AK323","v":0.107},{"$f":"Input!AL323","v":0.107},{"$f":"Input!AM323","v":0.107},{"$f":"Input!AN323","v":0.107},{"$f":"Input!AO323","v":0.107}]
[null,null,null,null,"Opex allocation",null,"%",null,null,null,null,null,null,null,null,null,null,null,null,null,null,null,null,null,null,null,null,null,null,null,null,null,null,{"$f":"Input!AH324","v":0},{"$f":"Input!AI324","v":0},{"$f":"Input!AJ324","v":0},{"$f":"Input!AK324","v":0},{"$f":"Input!AL324","v":0},{"$f":"Input!AM324","v":0},{"$f":"Input!AN324","v":0},{"$f":"Input!AO324","v":0}]
[null,null,null,null,"Non-operational capex allocation",null,"%",null,null,null,null,null,null,null,null,null,null,null,null,null,null,null,null,null,null,null,null,null,null,null,null,null,null,{"$f":"Input!AH325","v":0.747},{"$f":"Input!AI325","v":0.747},{"$f":"Input!AJ325","v":0.747},{"$f":"Input!AK325","v":0.747},{"$f":"Input!AL325","v":0.747},{"$f":"Input!AM325","v":0.747},{"$f":"Input!AN325","v":0.747},{"$f":"Input!AO325","v":0.747}]
[]
[null,null,null,null,"General pool additions",null,"£m 09/10 prices",null,null,null,null,null,null,null,null,null,null,null,null,null,null,null,null,null,null,null,null,null,null,null,null,null,null,{"$f":"SUMPRODUCT(AH$27:AH$31,AH37:AH41)","v":124.28617119288255},170.2826853239556,154.7479420768104,140.94882871899733,123.44318784051174,117.27626155988528,105.32065620786372,89.033681986022799]
[]
[null,null,null,"Special Rate pool"]
[]
[null,null,null,null,"Load related capex expenditure allocation",null,"%",null,null,null,null,null,null,null,null,null,null,null,null,null,null,null,null,null,null,null,null,null,null,null,null,null,null,{"$f":"Input!AH329","v":0.82},{"$f":"Input!AI329","v":0.82},{"$f":"Input!AJ329","v":0.82},{"$f":"Input!AK329","v":0.82},{"$f":"Input!AL329","v":0.82},{"$f":"Input!AM329","v":0.82},{"$f":"Input!AN329","v":0.82},{"$f":"Input!AO329","v":0.82}]
[null,null,null,null,"Asset replacement capex expenditure allocation",null,"%",null,null,null,null,null,null,null,null,null,null,null,null,null,null,null,null,null,null,null,null,null,null,null,null,null,null,{"$f":"Input!AH330","v":0.47899999999999998},{"$f":"Input!AI330","v":0.47899999999999998},{"$f":"Input!AJ330","v":0.47899999999999998},{"$f":"Input!AK330","v":0.47899999999999998},{"$f":"Input!AL330","v":0.47899999999999998},{"$f":"Input!AM330","v":0.47899999999999998},{"$f":"Input!AN330","v":0.47899999999999998},{"$f":"Input!AO330","v":0.47899999999999998}]
[null,null,null,null,"Other capex expenditure allocation",null,"%",null,null,null,null,null,null,null,null,null,null,null,null,null,null,null,null,null,null,null,null,null,null,null,null,null,null,{"$f":"Input!AH331","v":0.47899999999999998},{"$f":"Input!AI331","v":0.47899999999999998},{"$f":"Input!AJ331","v":0.47899999999999998},{"$f":"Input!AK331","v":0.47899999999999998},{"$f":"Input!AL331","v":0.47899999999999998},{"$f":"Input!AM331","v":0.47899999999999998},{"$f":"Input!AN331","v":0.47899999999999998},{"$f":"Input!AO331","v":0.47899999999999998}]
[null,null,null,null,"Opex allocation",null,"%",null,null,null,null,null,null,null,null,null,null,null,null,null,null,null,null,null,null,null,null,null,null,null,null,null,null,{"$f":"Input!AH332","v":0},{"$f":"Input!AI332","v":0},{"$f":"Input!AJ332","v":0},{"$f":"Input!AK332","v":0},{"$f":"Input!AL332","v":0},{"$f":"Input!AM332","v":0},{"$f":"Input!AN332","v":0},{"$f":"Input!AO332","v":0}]
[null,null,null,null,"Non-operational capex allocation",null,"%",null,null,null,null,null,null,null,null,null,null,null,null,null,null,null,null,null,null,null,null,null,null,null,null,null,null,{"$f":"Input!AH333","v":5.5E-2},{"$f":"Input!AI333","v":5.5E-2},{"$f":"Input!AJ333","v":5.5E-2},{"$f":"Input!AK333","v":5.5E-2},{"$f":"Input!AL333","v":5.5E-2},{"$f":"Input!AM333","v":5.5E-2},{"$f":"Input!AN333","v":5.5E-2},{"$f":"Input!AO333","v":5.5E-2}]
[]
[null,null,null,null,"Special Rate pool additions",null,"£m 09/10 prices",null,null,null,null,null,null,null,null,null,null,null,null,null,null,null,null,null,null,null,null,null,null,null,null,null,null,{"$f":"SUMPRODUCT(AH$27:AH$31,AH47:AH51)","v":662.22958888196183},1015.5762406846414,939.8349606078541,836.62342937368089,655.03400684545954,610.85289165217637,473.71630422246682,380.25715418839565]
[]
[null,null,null,"Deferred revenue pool"]
[]
[null,null,null,null,"Load related capex expenditure allocation",null,"%",null,null,null,null,null,null,null,null,null,null,null,null,null,null,null,null,null,null,null,null,null,null,null,null,null,null,{"$f":"Input!AH337","v":1.9E-2},{"$f":"Input!AI337","v":1.9E-2},{"$f":"Input!AJ337","v":1.9E-2},{"$f":"Input!AK337","v":1.9E-2},{"$f":"Input!AL337","v":1.9E-2},{"$f":"Input!AM337","v":1.9E-2},{"$f":"Input!AN337","v":1.9E-2},{"$f":"Input!AO337","v":1.9E-2}]
[null,null,null,null,"Asset replacement capex expenditure allocation",null,"%",null,null,null,null,null,null,null,null,null,null,null,null,null,null,null,null,null,null,null,null,null,null,null,null,null,null,{"$f":"Input!AH338","v":0.38800000000000001},{"$f":"Input!AI338","v":0.38800000000000001},{"$f":"Input!AJ338","v":0.38800000000000001},{"$f":"Input!AK338","v":0.38800000000000001},{"$f":"Input!AL338","v":0.38800000000000001},{"$f":"Input!AM338","v":0.38800000000000001},{"$f":"Input!AN338","v":0.38800000000000001},{"$f":"Input!AO338","v":0.38800000000000001}]
[null,null,null,null,"Other capex expenditure allocation",null,"%",null,null,null,null,null,null,null,null,null,null,null,null,null,null,null,null,null,null,null,null,null,null,null,null,null,null,{"$f":"Input!AH339","v":0.38800000000000001},{"$f":"Input!AI339","v":0.38800000000000001},{"$f":"Input!AJ339","v":0.38800000000000001},{"$f":"Input!AK339","v":0.38800000000000001},{"$f":"Input!AL339","v":0.38800000000000001},{"$f":"Input!AM339","v":0.38800000000000001},{"$f":"Input!AN339","v":0.38800000000000001},{"$f":"Input!AO339","v":0.38800000000000001}]
[null,null,null,null,"Opex allocation",null,"%",null,null,null,null,null,null,null,null,null,null,null,null,null,null,null,null,null,null,null,null,null,null,null,null,null,null,{"$f":"Input!AH340","v":0},{"$f":"Input!AI340","v":0},{"$f":"Input!AJ340","v":0},{"$f":"Input!AK340","v":0},{"$f":"Input!AL340","v":0},{"$f":"Input!AM340","v":0},{"$f":"Input!AN340","v":0},{"$f":"Input!AO340","v":0}]
[null,null,null,null,"Non-operational capex allocation",null,"%",null,null,null,null,null,null,null,null,null,null,null,null,null,null,null,null,null,null,null,null,null,null,null,null,null,null,{"$f":"Input!AH341","v":0.18},{"$f":"Input!AI341","v":0.18},{"$f":"Input!AJ341","v":0.18},{"$f":"Input!AK341","v":0.18},{"$f":"Input!AL341","v":0.18},{"$f":"Input!AM341","v":0.18},{"$f":"Input!AN341","v":0.18},{"$f":"Input!AO341","v":0.18}]
[]
[null,null,null,null,"Deferred revenue pool additions",null,"£m 09/10 prices",null,null,null,null,null,null,null,null,null,null,null,null,null,null,null,null,null,null,null,null,null,null,null,null,null,null,{"$f":"SUMPRODUCT(AH$27:AH$31,AH57:AH61)","v":168.63154221140817},206.15452222528245,200.60558697305683,200.04046703481922,246.41155604133982,281.93090366501747,303.96339044979885,271.85998820473907]
[]
[null,null,null,"Revenue pool"]
[]
[null,null,null,null,"Load related capex expenditure allocation",null,"%",null,null,null,null,null,null,null,null,null,null,null,null,null,null,null,null,null,null,null,null,null,null,null,null,null,null,{"$f":"Input!AH345","v":1E-3},{"$f":"Input!AI345","v":1E-3},{"$f":"Input!AJ345","v":1E-3},{"$f":"Input!AK345","v":1E-3},{"$f":"Input!AL345","v":1E-3},{"$f":"Input!AM345","v":1E-3},{"$f":"Input!AN345","v":1E-3},{"$f":"Input!AO345","v":1E-3}]
[null,null,null,null,"Asset replacement capex expenditure allocation",null,"%",null,null,null,null,null,null,null,null,null,null,null,null,null,null,null,null,null,null,null,null,null,null,null,null,null,null,{"$f":"Input!AH346","v":0},{"$f":"Input!AI346","v":0},{"$f":"Input!AJ346","v":0},{"$f":"Input!AK346","v":0},{"$f":"Input!AL346","v":0},{"$f":"Input!AM346","v":0},{"$f":"Input!AN346","v":0},{"$f":"Input!AO346","v":0}]
[null,null,null,null,"Other capex expenditure allocation",null,"%",null,null,null,null,null,null,null,null,null,null,null,null,null,null,null,null,null,null,null,null,null,null,null,null,null,null,{"$f":"Input!AH347","v":0},{"$f":"Input!AI347","v":0},{"$f":"Input!AJ347","v":0},{"$f":"Input!AK347","v":0},{"$f":"Input!AL347","v":0},{"$f":"Input!AM347","v":0},{"$f":"Input!AN347","v":0},{"$f":"Input!AO347","v":0}]
[null,null,null,null,"Opex allocation",null,"%",null,null,null,null,null,null,null,null,null,null,null,null,null,null,null,null,null,null,null,null,null,null,null,null,null,null,{"$f":"Input!AH348","v":1},{"$f":"Input!AI348","v":1},{"$f":"Input!AJ348","v":1},{"$f":"Input!AK348","v":1},{"$f":"Input!AL348","v":1},{"$f":"Input!AM348","v":1},{"$f":"Input!AN348","v":1},{"$f":"Input!AO348","v":1}]
[null,null,null,null,"Non-operational capex allocation",null,"%",null,null,null,null,null,null,null,null,null,null,null,null,null,null,null,null,null,null,null,null,null,null,null,null,null,null,{"$f":"Input!AH349","v":1.7999999999999999E-2},{"$f":"Input!AI349","v":1.7999999999999999E-2},{"$f":"Input!AJ349","v":1.7999999999999999E-2},{"$f":"Input!AK349","v":1.7999999999999999E-2},{"$f":"Input!AL349","v":1.7999999999999999E-2},{"$f":"Input!AM349","v":1.7999999999999999E-2},{"$f":"Input!AN349","v":1.7999999999999999E-2},{"$f":"Input!AO349","v":1.7999999999999999E-2}]
[]
[null,null,null,null,"Revenue pool additions",null,"£m 09/10 prices",null,null,null,null,null,null,null,null,null,null,null,null,null,null,null,null,null,null,null,null,null,null,null,null,null,null,{"$f":"SUMPRODUCT(AH$27:AH$31,AH67:AH71)","v":260.66287369533535},{"$f":"SUMPRODUCT(AI$27:AI$31,AI67:AI71)","v":285.55366507503493},291.95949457520243,293.10971378048453,294.15407382251988,294.25511706134932,295.87749583751616,296.15407384021478]
[]
[null,null,null,"Non-qualifying expenditure"]
[]
[null,null,null,null,"Load related capex expenditure allocation",null,"%",null,null,null,null,null,null,null,null,null,null,null,null,null,null,null,null,null,null,null,null,null,null,null,null,null,null,{"$f":"Input!AH353","v":5.7000000000000002E-2},{"$f":"Input!AI353","v":5.7000000000000002E-2},{"$f":"Input!AJ353","v":5.7000000000000002E-2},{"$f":"Input!AK353","v":5.7000000000000002E-2},{"$f":"Input!AL353","v":5.7000000000000002E-2},{"$f":"Input!AM353","v":5.7000000000000002E-2},{"$f":"Input!AN353","v":5.7000000000000002E-2},{"$f":"Input!AO353","v":5.7000000000000002E-2}]
[null,null,null,null,"Asset replacement capex expenditure allocation",null,"%",null,null,null,null,null,null,null,null,null,null,null,null,null,null,null,null,null,null,null,null,null,null,null,null,null,null,{"$f":"Input!AH354","v":2.5999999999999999E-2},{"$f":"Input!AI354","v":2.5999999999999999E-2},{"$f":"Input!AJ354","v":2.5999999999999999E-2},{"$f":"Input!AK354","v":2.5999999999999999E-2},{"$f":"Input!AL354","v":2.5999999999999999E-2},{"$f":"Input!AM354","v":2.5999999999999999E-2},{"$f":"Input!AN354","v":2.5999999999999999E-2},{"$f":"Input!AO354","v":2.5999999999999999E-2}]
[null,null,null,null,"Other capex expenditure allocation",null,"%",null,null,null,null,null,null,null,null,null,null,null,null,null,null,null,null,null,null,null,null,null,null,null,null,null,null,{"$f":"Input!AH355","v":2.5999999999999999E-2},{"$f":"Input!AI355","v":2.5999999999999999E-2},{"$f":"Input!AJ355","v":2.5999999999999999E-2},{"$f":"Input!AK355","v":2.5999999999999999E-2},{"$f":"Input!AL355","v":2.5999999999999999E-2},{"$f":"Input!AM355","v":2.5999999999999999E-2},{"$f":"Input!AN355","v":2.5999999999999999E-2},{"$f":"Input!AO355","v":2.5999999999999999E-2}]
[null,null,null,null,"Opex allocation",null,"%",null,null,null,null,null,null,null,null,null,null,null,null,null,null,null,null,null,null,null,null,null,null,null,null,null,null,{"$f":"Input!AH356","v":0},{"$f":"Input!AI356","v":0},{"$f":"Input!AJ356","v":0},{"$f":"Input!AK356","v":0},{"$f":"Input!AL356","v":0},{"$f":"Input!AM356","v":0},{"$f":"Input!AN356","v":0},{"$f":"Input!AO356","v":0}]
[null,null,null,null,"Non-operational capex allocation",null,"%",null,null,null,null,null,null,null,null,null,null,null,null,null,null,null,null,null,null,null,null,null,null,null,null,null,null,{"$f":"Input!AH357","v":0},{"$f":"Input!AI357","v":0},{"$f":"Input!AJ357","v":0},{"$f":"Input!AK357","v":0},{"$f":"Input!AL357","v":0},{"$f":"Input!AM357","v":0},{"$f":"Input!AN357","v":0},{"$f":"Input!AO357","v":0}]
[]
[null,null,null,null,"Non-qualifying expenditure",null,"£m 09/10 prices",null,null,null,null,null,null,null,null,null,null,null,null,null,null,null,null,null,null,null,null,null,null,null,null,null,null,{"$f":"SUMPRODUCT(AH$27:AH$31,AH77:AH81)","v":43.054420757604291},67.049448156734883,61.860759929623917,54.651480861406625,41.050157826884828,37.274213261294449,27.252431165284552,21.335859696869697]
[]
[null,"Capital allowances"]
[null,"Note: Special, General and deferred revenue capital allowances are calculated for the tax allowance calculation."]
[null,"When \"non-core\" assets are transferred to the RAV their tax book value is moved into the \"Transfer\" line."]
[]
[null,null,"General pool"]
[]
[null,null,null,null,"Capital allowance rate",null,"%",null,null,null,null,null,null,null,null,null,null,null,null,null,null,null,null,null,null,null,null,null,null,null,null,null,null,{"$f":"TaxTrigger!AH134","v":0.18000000000000002},{"$f":"TaxTrigger!AI134","v":0.18000000000000002},{"$f":"TaxTrigger!AJ134","v":0.18000000000000002},{"$f":"TaxTrigger!AK134","v":0.18000000000000002},{"$f":"TaxTrigger!AL134","v":0.18000000000000002},{"$f":"TaxTrigger!AM134","v":0.18000000000000002},{"$f":"TaxTrigger!AN134","v":0.18000000000000002},{"$f":"TaxTrigger!AO134","v":0.18000000000000002}]
[]
[null,null,null,null,"Opening balance brought forward",null,"£m nominal",null,null,null,null,null,null,null,null,null,null,null,null,null,null,null,null,null,null,null,null,null,null,null,null,null,null,{"$f":"Input!AH309","v":435.55077055999999},{"$f":"AH99","v":475.62310857274298},556.8718810267917,612.51940156675926,649.58850010532103,664.07375261564187,672.88226683247262,670.24887731645299]
[null,null,null,null,"Transfer",null,"£m nominal",null,null,null,null,null,null,null,null,null,null,null,null,null,null,null,null,null,null,null,null,null,null,null,null,null,null,{"$f":"-NonCore!AH16","v":0},{"$f":"-NonCore!AI16","v":0},{"$f":"-NonCore!AJ16","v":0},{"$f":"-NonCore!AK16","v":1.6620873154897109},{"$f":"-NonCore!AL16","v":0},{"$f":"-NonCore!AM16","v":0},{"$f":"-NonCore!AN16","v":0},{"$f":"-NonCore!AO16","v":0}]
[null,null,null,null,"Revisions",null,"£m nominal"]
[null,null,null,null,"Capex additions",null,"£m nominal",null,null,null,null,null,null,null,null,null,null,null,null,null,null,null,null,null,null,null,null,null,null,null,null,null,null,{"$f":"AH43*Input!AH$46/Input!$AD$46","v":144.47741062627188},{"$f":"AI43*Input!AI$46/Input!$AD$46","v":203.48894145992989},{"$f":"AJ43*Input!AJ$46/Input!$AD$46","v":190.10299893267086},{"$f":"AK43*Input!AK$46/Input!$AD$46","v":177.99960880716696},{"$f":"AL43*Input!AL$46/Input!$AD$46","v":160.25753966985195},{"$f":"AM43*Input!AM$46/Input!$AD$46","v":156.5143776678614},{"$f":"AN43*Input!AN$46/Input!$AD$46","v":144.49441282173839},{"$f":"AO43*Input!AO$46/Input!$AD$46","v":125.56989606921633}]
[null,null,null,null,"Tax book value pre-depreciation",null,"£m nominal",null,null,null,null,null,null,null,null,null,null,null,null,null,null,null,null,null,null,null,null,null,null,null,null,null,null,{"$f":"SUM(AH93:AH96)","v":580.02818118627192},679.11205003267287,746.97487995946256,792.18109768941588,809.84603977517304,820.58813028350323,817.37667965421099,795.81877338566937]
[null,null,null,null,"General pool capital allowance (reducing balance)",null,"£m nominal",null,null,null,null,null,null,null,null,null,null,null,null,null,null,null,null,null,null,null,null,null,null,null,null,null,null,{"$f":"-AH97*AH91","v":-104.40507261352896},{"$f":"-AI97*AI91","v":-122.24016900588113},-134.45547839270327,-142.59259758409488,-145.77228715953117,-147.70586345103061,-147.127802337758,-143.2473792094205]
[null,null,null,null,"Closing balance carried forward",null,"£m nominal",null,null,null,null,null,null,null,null,null,null,null,null,null,null,null,null,null,null,null,null,null,null,null,null,null,null,{"$f":"AH97+AH98","v":475.62310857274298},556.8718810267917,612.51940156675926,649.58850010532103,664.07375261564187,672.88226683247262,670.24887731645299,652.57139417624887]
[]
[null,null,"Special Rates pool"]
[]
[null,null,null,null,"Capital allowance rate",null,"%",null,null,null,null,null,null,null,null,null,null,null,null,null,null,null,null,null,null,null,null,null,null,null,null,null,null,{"$f":"TaxTrigger!AH144","v":0.08},{"$f":"TaxTrigger!AI144","v":0.08},{"$f":"TaxTrigger!AJ144","v":0.08},{"$f":"TaxTrigger!AK144","v":0.08},{"$f":"TaxTrigger!AL144","v":0.08},{"$f":"TaxTrigger!AM144","v":0.08},{"$f":"TaxTrigger!AN144","v":0.08},{"$f":"TaxTrigger!AO144","v":0.08}]
[]
[null,null,null,null,"Opening balance brought forward",null,"£m nominal",null,null,null,null,null,null,null,null,null,null,null,null,null,null,null,null,null,null,null,null,null,null,null,null,null,null,{"$f":"Input!AH311","v":3353.9846618127199},{"$f":"AH111","v":3793.8946330440772},4606.9137953518457,5300.5538733988924,5898.8263713867873,6209.2737390904385,6462.5444870150104,6543.461723007902]
[null,null,null,null,"Transfer",null,"£m nominal",null,null,null,null,null,null,null,null,null,null,null,null,null,null,null,null,null,null,null,null,null,null,null,null,null,null,{"$f":"-NonCore!AH17","v":0},{"$f":"-NonCore!AI17","v":0},{"$f":"-NonCore!AJ17","v":0},{"$f":"-NonCore!AK17","v":54.669894219783316},{"$f":"-NonCore!AL17","v":0},{"$f":"-NonCore!AM17","v":0},{"$f":"-NonCore!AN17","v":0},{"$f":"-NonCore!AO17","v":0}]
[null,null,null,null,"Revisions",null,"£m nominal"]
[null,null,null,null,"Capex additions",null,"£m nominal",null,null,null,null,null,null,null,null,null,null,null,null,null,null,null,null,null,null,null,null,null,null,null,null,null,null,{"$f":"AH53 * Input!AH$46 / Input!$AD$46","v":769.81385236562437},{"$f":"AI53 * Input!AI$46 / Input!$AD$46","v":1213.6203619035812},{"$f":"AJ53 * Input!AJ$46 / Input!$AD$46","v":1154.5578061686895},{"$f":"AK53 * Input!AK$46 / Input!$AD$46","v":1056.5440273669628},{"$f":"AL53 * Input!AL$46 / Input!$AD$46","v":850.38421458108007},{"$f":"AM53 * Input!AM$46 / Input!$AD$46","v":815.23113809979009},{"$f":"AN53 * Input!AN$46 / Input!$AD$46","v":649.9139075587965},{"$f":"AO53 * Input!AO$46 / Input!$AD$46","v":536.30098481728294}]
[null,null,null,null,"Tax book value pre-depreciation",null,"£m nominal",null,null,null,null,null,null,null,null,null,null,null,null,null,null,null,null,null,null,null,null,null,null,null,null,null,null,{"$f":"SUM(AH105:AH108)","v":4123.7985141783447},5007.5149949476581,5761.4716015205349,6411.7677949856388,6749.2105859678677,7024.5048771902284,7112.4583945738068,7079.7627078251853]
[null,null,null,null,"Special Rates capital allowance (reducing balance)",null,"£m nominal",null,null,null,null,null,null,null,null,null,null,null,null,null,null,null,null,null,null,null,null,null,null,null,null,null,null,{"$f":"-AH109*AH103","v":-329.90388113426758},-400.60119959581266,-460.91772812164282,-512.94142359885109,-539.93684687742939,-561.96039017521832,-568.99667156590453,-566.3810166260148]
[null,null,null,null,"Closing balance carried forward",null,"£m nominal",null,null,null,null,null,null,null,null,null,null,null,null,null,null,null,null,null,null,null,null,null,null,null,null,null,null,{"$f":"AH109 + AH110","v":3793.8946330440772},4606.9137953518457,5300.5538733988924,5898.8263713867873,6209.2737390904385,6462.5444870150104,6543.461723007902,6513.3816911991707]
[]
[null,null,"Deferred revenue expenditure"]
[]
[null,null,null,null,"Capital allowance rate",null,"%",null,null,null,null,null,null,null,null,null,null,null,null,null,null,null,null,null,null,null,null,null,null,null,null,null,null,{"$f":"TaxTrigger!AH154","v":0.03},{"$f":"TaxTrigger!AI154","v":0.03},{"$f":"TaxTrigger!AJ154","v":0.03},{"$f":"TaxTrigger!AK154","v":0.03},{"$f":"TaxTrigger!AL154","v":0.03},{"$f":"TaxTrigger!AM154","v":0.03},{"$f":"TaxTrigger!AN154","v":0.03},{"$f":"TaxTrigger!AO154","v":0.03}]
[]
[null,null,null,null,"Opening balance brought forward",null,"£m nominal",null,null,null,null,null,null,null,null,null,null,null,null,null,null,null,null,null,null,null,null,null,null,null,null,null,null,{"$f":"Input!AH313","v":1051.3958644812201},{"$f":"AH123","v":1215.8810150034028},{"$f":"AI123","v":1424.814353404845},1626.4386649925568,1826.8566493807812,2086.9700717216938,2393.8468033102467,2730.1986625691184]
[null,null,null,null,"Transfer",null,"£m nominal"]
[null,null,null,null,"Revisions",null,"£m nominal"]
[null,null,null,null,"Capex additions",null,"£m nominal",null,null,null,null,null,null,null,null,null,null,null,null,null,null,null,null,null,null,null,null,null,null,null,null,null,null,{"$f":"AH63*Input!AH$46/Input!$AD$46","v":196.02702645661938},{"$f":"AI63*Input!AI$46/Input!$AD$46","v":246.35602512957732},{"$f":"AJ63*Input!AJ$46/Input!$AD$46","v":246.43767906973432},{"$f":"AK63*Input!AK$46/Input!$AD$46","v":252.62448224233881},{"$f":"AL63*Input!AL$46/Input!$AD$46","v":319.8986546622973},{"$f":"AM63*Input!AM$46/Input!$AD$46","v":376.25892354980658},{"$f":"AN63*Input!AN$46/Input!$AD$46","v":417.02181892661952},{"$f":"AO63*Input!AO$46/Input!$AD$46","v":383.42152882778254}]
[null,null,null,null,"Tax book value pre-depreciation",null,"£m nominal",null,null,null,null,null,null,null,null,null,null,null,null,null,null,null,null,null,null,null,null,null,null,null,null,null,null,{"$f":"SUM(AH117:AH120)","v":1247.4228909378394},{"$f":"SUM(AI117:AI120)","v":1462.2370401329802},1671.2520324745792,1879.0631472348957,2146.7553040430785,2463.2289952715005,2810.868622236866,3113.6201913969007]
[null,null,null,null,"Deferred revenue expenditure capital allowance (straight line)",null,"£m nominal",null,null,null,null,null,null,null,null,null,null,null,null,null,null,null,null,null,null,null,null,null,null,null,null,null,null,{"$f":"-($AH$117+SUM($AG120:AG120))*AH115","v":-31.5418759344366},{"$f":"-($AH$117+SUM($AG120:AH120))*AI115","v":-37.422686728135183},{"$f":"-($AH$117+SUM($AG120:AI120))*AJ115","v":-44.8133674820225},{"$f":"-($AH$117+SUM($AG120:AJ120))*AK115","v":-52.206497854114538},{"$f":"-($AH$117+SUM($AG120:AK120))*AL115","v":-59.785232321384697},{"$f":"-($AH$117+SUM($AG120:AL120))*AM115","v":-69.382191961253611},{"$f":"-($AH$117+SUM($AG120:AM120))*AN115","v":-80.669959667747818},{"$f":"-($AH$117+SUM($AG120:AN120))*AO115","v":-93.1806142355464}]
[null,null,null,null,"Closing balance carried forward",null,"£m nominal",null,null,null,null,null,null,null,null,null,null,null,null,null,null,null,null,null,null,null,null,null,null,null,null,null,null,{"$f":"AH121+AH122","v":1215.8810150034028},1424.814353404845,1626.4386649925568,1826.8566493807812,2086.9700717216938,2393.8468033102467,2730.1986625691184,3020.4395771613545]
[]
[null,null,"Total capital allowances"]
[]
[null,null,null,null,"Special Rates pool",null,"£m nominal",null,null,null,null,null,null,null,null,null,null,null,null,null,null,null,null,null,null,null,null,null,null,null,null,null,null,{"$f":"-AH110","v":329.90388113426758},400.60119959581266,460.91772812164282,512.94142359885109,539.93684687742939,561.96039017521832,568.99667156590453,566.3810166260148]
[null,null,null,null,"General pool",null,"£m nominal",null,null,null,null,null,null,null,null,null,null,null,null,null,null,null,null,null,null,null,null,null,null,null,null,null,null,{"$f":"-AH98","v":104.40507261352896},122.24016900588113,134.45547839270327,142.59259758409488,145.77228715953117,147.70586345103061,147.127802337758,143.2473792094205]
[null,null,null,null,"Deferred revenue expenditure",null,"£m nominal",null,null,null,null,null,null,null,null,null,null,null,null,null,null,null,null,null,null,null,null,null,null,null,null,null,null,{"$f":"-AH122","v":31.5418759344366},37.422686728135183,44.8133674820225,52.206497854114538,59.785232321384697,69.382191961253611,80.669959667747818,93.1806142355464]
[null,null,null,null,"Capital allowances",null,"£m nominal",null,null,null,null,null,null,null,null,null,null,null,null,null,null,null,null,null,null,null,null,null,null,null,null,null,null,{"$f":"SUM(AH127:AH129)","v":465.8508296822331},560.26405532982903,640.18657399636857,707.74051903706049,745.49436635834525,779.04844558750256,796.79443357141031,802.80901007098169]
[]
[null,"End of sheet"]

{"sheet":"Finance&Tax","index":12,"n_rows":267,"n_cols":41,"rows_kept":267,"cut":false,"hidden":false,"merged":[]}
["Finance & Tax"]
[null,{"$f":"UserInterface!G25","v":"NGET TO"}]
[null,null,null,null,"Parameter",null,"Units",null,"Constant",null,null,null,null,null,null,null,null,null,null,null,null,null,null,null,null,null,null,null,null,null,null,null,null,"Annual values"]
[null,null,null,null,"PCFM year ending",null,null,null,{"$f":"UserInterface!$G$18","v":"2016-03-31"},null,"1991-03-31","1992-03-31","1993-03-31","1994-03-31","1995-03-31","1996-03-31","1997-03-31","1998-03-31","1999-03-31","2000-03-31","2001-03-31","2002-03-31","2003-03-31","2004-03-31","2005-03-31","2006-03-31","2007-03-31","2008-03-31","2009-03-31","2010-03-31","2011-03-31","2012-03-31","2013-03-31","2014-03-31","2015-03-31","2016-03-31","2017-03-31","2018-03-31","2019-03-31","2020-03-31","2021-03-31"]
[]
[null,"Net debt"]
[null,"Note: Net debt is calculated to generate interest paid (for the tax calculation) and gearing levels (for equity issuance calculations)."]
[null,"\"Core\" net debt is distinct from \"Non-core\" net debt. Non-core net debt relates to assets held outside the main RAV and receiving a pre-tax income."]
[]
[null,null,"Core net debt"]
[null,null,"Note: The company opens the price control at its notionally geared level. Any equity issuance required to reach this level is not shown."]
[null,null,"Equity issuance (if any) occurs at the start of the year and may be followed by transfers to or from non-core net debt (to equalise opening gearing levels across the company)."]
[null,null,"Start of year transfers may also include net debt accompanying non-core assets transferred to core RAV."]
[null,null,"A sub-total is taken before tax and interest on in-year cashflow. This allows the calculation of interest on in-year cashflow to be solved analytically."]
[]
[null,null,null,null,"Opening balance brought forward (before equity issuance and transfers)",null,"£m nominal",null,null,null,null,null,null,null,null,null,null,null,null,null,null,null,null,null,null,null,null,null,null,null,null,null,null,null,{"$f":"AH40","v":-6456.7388467746441},{"$f":"AI40","v":-7500.6351251214646},-8434.2630960779261,-8783.4196429367676,-9366.3809567610933,-9916.2501388609817,-10312.092336901751]
[null,null,null,null,"Equity issuance",null,"£m nominal",null,null,null,null,null,null,null,null,null,null,null,null,null,null,null,null,null,null,null,null,null,null,null,null,null,null,null,{"$f":"AI102","v":0},{"$f":"AJ102","v":0},479.32414509835769,0,0,0,0]
[null,null,null,null,"Opening balance brought forward (after equity issuance, before transfers)",null,"£m nominal",null,null,null,null,null,null,null,null,null,null,null,null,null,null,null,null,null,null,null,null,null,null,null,null,null,null,null,{"$f":"SUM(AI16:AI17)","v":-6456.7388467746441},{"$f":"SUM(AJ16:AJ17)","v":-7500.6351251214646},-7954.9389509795683,-8783.4196429367676,-9366.3809567610933,-9916.2501388609817,-10312.092336901751]
[null,null,null,null,"Transfer from non-core net debt",null,"£m nominal",null,null,null,null,null,null,null,null,null,null,null,null,null,null,null,null,null,null,null,null,null,null,null,null,null,null,null,{"$f":"-AI53","v":5.8644776755460484},{"$f":"-AJ53","v":8.7508547924459492},-56.726869045357752,0,0,0,0]
[null,null,null,null,"Opening balance brought forward (after equity issuance and transfers)",null,"£m nominal",null,null,null,null,null,null,null,null,null,null,null,null,null,null,null,null,null,null,null,null,null,null,null,null,null,null,{"$f":"-AH83 * (AH70 + AH71)","v":-6059.548678708733},{"$f":"SUM(AI18:AI19)","v":-6450.8743690990977},{"$f":"SUM(AJ18:AJ19)","v":-7491.8842703290184},-8011.6658200249258,-8783.4196429367676,-9366.3809567610933,-9916.2501388609817,-10312.092336901751]
[null,null,null,null,"Add Recalculated base revenue (except tax allowance)",null,"£m nominal",null,null,null,null,null,null,null,null,null,null,null,null,null,null,null,null,null,null,null,null,null,null,null,null,null,null,{"$f":"Revenue!AH17*Input!AH$46/Input!$AD$46","v":1435.3981764957296},{"$f":"Revenue!AI17*Input!AI$46/Input!$AD$46","v":1566.0617912455737},{"$f":"Revenue!AJ17*Input!AJ$46/Input!$AD$46","v":1666.85770880942},{"$f":"Revenue!AK17*Input!AK$46/Input!$AD$46","v":1803.7815911440796},{"$f":"Revenue!AL17*Input!AL$46/Input!$AD$46","v":1853.5186137667451},{"$f":"Revenue!AM17*Input!AM$46/Input!$AD$46","v":1948.397862199781},{"$f":"Revenue!AN17*Input!AN$46/Input!$AD$46","v":2002.3721677317394},{"$f":"Revenue!AO17*Input!AO$46/Input!$AD$46","v":2043.459273175557}]
[null,null,null,null,"Add SO Recalculated base revenue (except tax allowance)",null,"£m nominal",null,null,null,null,null,null,null,null,null,null,null,null,null,null,null,null,null,null,null,null,null,null,null,null,null,null,{"$f":" SystemOperator!AH400 * Input!AH$46 / Input!$AD$46","v":137.02997996254507},{"$f":" SystemOperator!AI400 * Input!AI$46 / Input!$AD$46","v":139.46991828019534},{"$f":" SystemOperator!AJ400 * Input!AJ$46 / Input!$AD$46","v":147.35953167713936},{"$f":" SystemOperator!AK400 * Input!AK$46 / Input!$AD$46","v":152.35044896540438},{"$f":" SystemOperator!AL400 * Input!AL$46 / Input!$AD$46","v":163.48424690624947},{"$f":" SystemOperator!AM400 * Input!AM$46 / Input!$AD$46","v":162.40701961105219},{"$f":" SystemOperator!AN400 * Input!AN$46 / Input!$AD$46","v":175.63897058433463},{"$f":" SystemOperator!AO400 * Input!AO$46 / Input!$AD$46","v":182.769437577877}]
[null,null,null,null,"Add net impact of DARTs on core net debt",null,"£m nominal",null,null,null,null,null,null,null,null,null,null,null,null,null,null,null,null,null,null,null,null,null,null,null,null,null,null,{"$f":"DARTs!AH55 * Input!AH$46 / Input!$AD$46","v":99.045980609494478},{"$f":"DARTs!AI55 * Input!AI$46 / Input!$AD$46","v":103.1732263973426},{"$f":"DARTs!AJ55 * Input!AJ$46 / Input!$AD$46","v":110.97524933450622},{"$f":"DARTs!AK55 * Input!AK$46 / Input!$AD$46","v":111.31571376976608},{"$f":"DARTs!AL55 * Input!AL$46 / Input!$AD$46","v":116.90065886872297},{"$f":"DARTs!AM55 * Input!AM$46 / Input!$AD$46","v":122.18366073075582},{"$f":"DARTs!AN55 * Input!AN$46 / Input!$AD$46","v":127.618896865533},{"$f":"DARTs!AO55 * Input!AO$46 / Input!$AD$46","v":133.68451670963023}]
[null,null,null,null,"Add SO net impact of DARTs on core net debt",null,"£m nominal",null,null,null,null,null,null,null,null,null,null,null,null,null,null,null,null,null,null,null,null,null,null,null,null,null,null,{"$f":"(-SUM(SystemOperator!AH50:AH51)) * Input!AH$46 / Input!$AD$46","v":-10.806419454317496},{"$f":"(-SUM(SystemOperator!AI50:AI51)) * Input!AI$46 / Input!$AD$46","v":-10.989500257343565},{"$f":"(-SUM(SystemOperator!AJ50:AJ51)) * Input!AJ$46 / Input!$AD$46","v":-12.647232242931578},{"$f":"(-SUM(SystemOperator!AK50:AK51)) * Input!AK$46 / Input!$AD$46","v":-13.127652695134129},{"$f":"(-SUM(SystemOperator!AL50:AL51)) * Input!AL$46 / Input!$AD$46","v":-13.365424294332966},{"$f":"(-SUM(SystemOperator!AM50:AM51)) * Input!AM$46 / Input!$AD$46","v":-13.739645677480793},{"$f":"(-SUM(SystemOperator!AN50:AN51)) * Input!AN$46 / Input!$AD$46","v":-14.261558905871148},{"$f":"(-SUM(SystemOperator!AO50:AO51)) * Input!AO$46 / Input!$AD$46","v":-14.51986600863383}]
[null,null,null,null,"Less actual totex",null,"£m nominal",null,null,null,null,null,null,null,null,null,null,null,null,null,null,null,null,null,null,null,null,null,null,null,null,null,null,{"$f":"-Totex!AH74 * Input!AH46 / Input!$AD46","v":-1353.818365006973},{"$f":"-Totex!AI74 * Input!AI46 / Input!$AD46","v":-1980.05233281447},{"$f":"-Totex!AJ74 * Input!AJ46 / Input!$AD46","v":-1918.0480636675579},{"$f":"-Totex!AK74 * Input!AK46 / Input!$AD46","v":-1815.6192277123291},{"$f":"-Totex!AL74 * Input!AL46 / Input!$AD46","v":-1651.8884469551003},{"$f":"-Totex!AM74 * Input!AM46 / Input!$AD46","v":-1673.4455257242289},{"$f":"-Totex!AN74 * Input!AN46 / Input!$AD46","v":-1534.4602345038966},{"$f":"-Totex!AO74 * Input!AO46 / Input!$AD46","v":-1369.4133537064472}]
[null,null,null,null,"Less SO actual totex",null,"£m nominal",null,null,null,null,null,null,null,null,null,null,null,null,null,null,null,null,null,null,null,null,null,null,null,null,null,null,{"$f":" - SystemOperator!AH129 * Input!AH$46 / Input!$AD$46","v":-130.09591212438221},{"$f":" - SystemOperator!AI129 * Input!AI$46 / Input!$AD$46","v":-132.38995609450973},{"$f":" - SystemOperator!AJ129 * Input!AJ$46 / Input!$AD$46","v":-133.88507627788502},{"$f":" - SystemOperator!AK129 * Input!AK$46 / Input!$AD$46","v":-133.54463505604619},{"$f":" - SystemOperator!AL129 * Input!AL$46 / Input!$AD$46","v":-141.44492598479999},{"$f":" - SystemOperator!AM129 * Input!AM$46 / Input!$AD$46","v":-133.96024317254222},{"$f":" - SystemOperator!AN129 * Input!AN$46 / Input!$AD$46","v":-147.0513456490628},{"$f":" - SystemOperator!AO129 * Input!AO$46 / Input!$AD$46","v":-153.84427649901849}]
[null,null,null,null,"Less actual non-totex",null,"£m nominal",null,null,null,null,null,null,null,null,null,null,null,null,null,null,null,null,null,null,null,null,null,null,null,null,null,null,{"$f":"-Input!AH199 * Input!AH46 / Input!$AD46","v":-109.55841714286547},{"$f":"-Input!AI199 * Input!AI46 / Input!$AD46","v":-104.77606104551538},{"$f":"-Input!AJ199 * Input!AJ46 / Input!$AD46","v":-107.70751876143919},{"$f":"-Input!AK199 * Input!AK46 / Input!$AD46","v":-110.72498863383051},{"$f":"-Input!AL199 * Input!AL46 / Input!$AD46","v":-113.82385269430773},{"$f":"-Input!AM199 * Input!AM46 / Input!$AD46","v":-117.01083117584315},{"$f":"-Input!AN199 * Input!AN46 / Input!$AD46","v":-120.28720597209305},{"$f":"-Input!AO199 * Input!AO46 / Input!$AD46","v":-123.65541511126646}]
[null,null,null,null,"Less dividends",null,"£m nominal",null,null,null,null,null,null,null,null,null,null,null,null,null,null,null,null,null,null,null,null,null,null,null,null,null,null,{"$f":"-AH185","v":-215.02846714084285},-240.92950358297509,-265.03129035360638,-288.68641579664694,-306.97809661136489,-325.02492746159407,-340.48444941496808,-352.87881948585846]
[null,null,null,null,"Less TO RAV adjustment from previous price controls (share to net debt)",null,"£m nominal",null,null,null,null,null,null,null,null,null,null,null,null,null,null,null,null,null,null,null,null,null,null,null,null,null,null,{"$f":" - ((Input!AH236+Input!AH237) * $AH$83) * Input!AH46 / Input!$AD46","v":115.2532522929661},{"$f":" - ((Input!AI236+Input!AI237) * $AH$83) * Input!AI46 / Input!$AD46","v":0},{"$f":" - ((Input!AJ236+Input!AJ237) * $AH$83) * Input!AJ46 / Input!$AD46","v":0},{"$f":" - ((Input!AK236+Input!AK237) * $AH$83) * Input!AK46 / Input!$AD46","v":0},{"$f":" - ((Input!AL236+Input!AL237) * $AH$83) * Input!AL46 / Input!$AD46","v":0},{"$f":" - ((Input!AM236+Input!AM237) * $AH$83) * Input!AM46 / Input!$AD46","v":0},{"$f":" - ((Input!AN236+Input!AN237) * $AH$83) * Input!AN46 / Input!$AD46","v":0},{"$f":" - ((Input!AO236+Input!AO237) * $AH$83) * Input!AO46 / Input!$AD46","v":0}]
[null,null,null,null,"Less SO RAV adjustment from previous price controls (share to net debt)",null,"£m nominal",null,null,null,null,null,null,null,null,null,null,null,null,null,null,null,null,null,null,null,null,null,null,null,null,null,null,{"$f":" - (SystemOperator!AH79 * $AH$83) * Input!AH46 / Input!$AD46","v":-2.0823763399706832},{"$f":" - (SystemOperator!AI79 * $AH$83) * Input!AI46 / Input!$AD46","v":0},{"$f":" - (SystemOperator!AJ79 * $AH$83) * Input!AJ46 / Input!$AD46","v":0},{"$f":" - (SystemOperator!AK79 * $AH$83) * Input!AK46 / Input!$AD46","v":0},{"$f":" - (SystemOperator!AL79 * $AH$83) * Input!AL46 / Input!$AD46","v":0},{"$f":" - (SystemOperator!AM79 * $AH$83) * Input!AM46 / Input!$AD46","v":0},{"$f":" - (SystemOperator!AN79 * $AH$83) * Input!AN46 / Input!$AD46","v":0},{"$f":" - (SystemOperator!AO79 * $AH$83) * Input!AO46 / Input!$AD46","v":0}]
[null,null,null,null,"Less post-vesting disposal proceeds",null,"£m nominal",null,null,null,null,null,null,null,null,null,null,null,null,null,null,null,null,null,null,null,null,null,null,null,null,null,null,{"$f":"-Input!AH238 * Input!AH46 / Input!$AD46","v":0},{"$f":"-Input!AI238 * Input!AI46 / Input!$AD46","v":0},{"$f":"-Input!AJ238 * Input!AJ46 / Input!$AD46","v":0},{"$f":"-Input!AK238 * Input!AK46 / Input!$AD46","v":0},{"$f":"-Input!AL238 * Input!AL46 / Input!$AD46","v":0},{"$f":"-Input!AM238 * Input!AM46 / Input!$AD46","v":0},{"$f":"-Input!AN238 * Input!AN46 / Input!$AD46","v":0},{"$f":"-Input!AO238 * Input!AO46 / Input!$AD46","v":0}]
[null,null,null,null,"Less equity issuance costs",null,"£m nominal",null,null,null,null,null,null,null,null,null,null,null,null,null,null,null,null,null,null,null,null,null,null,null,null,null,null,{"$f":"-AH175","v":0},{"$f":"-AI175","v":0},0,-23.966207254917887,0,0,0,0]
[null,null,null,null,"Closing net debt (before tax and debt costs)",null,"£m nominal",null,null,null,null,null,null,null,null,null,null,null,null,null,null,null,null,null,null,null,null,null,null,null,null,null,null,{"$f":"SUM(AH20:AH32)","v":-6094.2112465573491},{"$f":"SUM(AI20:AI32)","v":-7111.3067869708011},-8004.0109618113729,-8329.8871932945804,-8877.0168699349579,-9396.5735874311922,-9767.1648981252674,-9966.4908402499113]
[null,null,null,null,"Less net interest paid (interest coupon)",null,"£m nominal",null,null,null,null,null,null,null,null,null,null,null,null,null,null,null,null,null,null,null,null,null,null,null,null,null,null,{"$f":"AH153","v":-308.79217661964384},{"$f":"AI153","v":-330.72275793113545},-364.43774225230436,-384.32215367611894,-415.34419907399456,-441.25680721521979,-462.91426046834829,-476.91750325000197]
[null,null,null,null,"Less net interest paid (inflation coupon)",null,"£m nominal",null,null,null,null,null,null,null,null,null,null,null,null,null,null,null,null,null,null,null,null,null,null,null,null,null,null,{"$f":"AH155","v":-43.782427236919659},{"$f":"AI155","v":-48.759031402861631},-55.621692680838166,-58.655784252098435,-63.391211178293389,-67.343045592256047,-70.650239582257868,-72.78852258043942]
[null,null,null,null,"Add tax allowance",null,"£m nominal",null,null,null,null,null,null,null,null,null,null,null,null,null,null,null,null,null,null,null,null,null,null,null,null,null,null,{"$f":"AH228","v":112.33825899284231},92.710592475862711,84.669308319051098,93.71252455741157,85.825741613783165,92.257627821280067,92.920134135599866,96.224504985135454]
[null,null,null,null,"Add SO tax allowance",null,"£m nominal",null,null,null,null,null,null,null,null,null,null,null,null,null,null,null,null,null,null,null,null,null,null,null,null,null,null,{"$f":"SystemOperator!AH360","v":2.1176206812144707},{"$f":"SystemOperator!AI360","v":1.4536820983874614},{"$f":"SystemOperator!AJ360","v":0.58087874546576146},{"$f":"SystemOperator!AK360","v":0.62348757516490882},{"$f":"SystemOperator!AL360","v":1.7584506945936826},{"$f":"SystemOperator!AM360","v":0.31499022977656299},{"$f":"SystemOperator!AN360","v":1.8238463444455597},{"$f":"SystemOperator!AO360","v":1.6835818672197422}]
[null,null,null,null,"Less tax paid (including cash flow on revenue without a tax allowance)",null,"£m nominal",null,null,null,null,null,null,null,null,null,null,null,null,null,null,null,null,null,null,null,null,null,null,null,null,null,null,{"$f":"-AH257","v":-121.51601084655432},{"$f":"-AI257","v":-101.81576337236361},-94.082560260633898,-103.44261060861577,-95.573299813023297,-102.42004991373986,-103.29664892347118,-106.77682669391717]
[null,null,null,null,"Less SO tax paid",null,"£m nominal",null,null,null,null,null,null,null,null,null,null,null,null,null,null,null,null,null,null,null,null,null,null,null,null,null,null,{"$f":"-SystemOperator!AH389","v":-2.892865188233456},{"$f":"-SystemOperator!AI389","v":-2.1950600185528071},{"$f":"-SystemOperator!AJ389","v":-1.3603261372931938},{"$f":"-SystemOperator!AK389","v":-1.447913237931147},{"$f":"-SystemOperator!AL389","v":-2.6395690692018858},{"$f":"-SystemOperator!AM389","v":-1.2292667596319182},{"$f":"-SystemOperator!AN389","v":-2.810270282452183},{"$f":"-SystemOperator!AO389","v":-2.7348305773384625}]
[null,null,null,null,"Closing value",null,"£m nominal",null,null,null,null,null,null,null,null,null,null,null,null,null,null,null,null,null,null,null,null,null,null,null,null,null,null,{"$f":"SUM(AH33:AH39)","v":-6456.7388467746441},{"$f":"SUM(AI33:AI39)","v":-7500.6351251214646},-8434.2630960779261,-8783.4196429367676,-9366.3809567610933,-9916.2501388609817,-10312.092336901751,-10527.800436499254]
[]
[null,null,"SO net debt"]
[null,null,"Note: Values presented below are a summary for the System Operator. These are NOT used in calculations."]
[]
[null,null,null,null,"Opening balance brought forward (after transfers)",null,"£m nominal",null,null,null,null,null,null,null,null,null,null,null,null,null,null,null,null,null,null,null,null,null,null,null,null,null,null,{"$f":"-AH71*AH83","v":-51.268424131207638},{"$f":"SUM(AH47)","v":-57.748942320317191},{"$f":"SUM(AI47)","v":-63.629451998248371},-70.975183480254699,-71.268207431429971,-73.983940926280113,-73.323481043195983,-72.903746752249532]
[null,null,null,null,"Movement in year",null,"£m nominal",null,null,null,null,null,null,null,null,null,null,null,null,null,null,null,null,null,null,null,null,null,null,null,null,null,null,{"$f":"-(AH47-AH45)","v":6.4805181891095529},{"$f":"-(AI47-AI45)","v":5.8805096779311796},7.3457314820063289,0.29302395117527169,2.7157334948501415,-0.66045988308412973,-0.41973429094645098,-0.70830456207978898]
[null,null,null,null,"Closing net debt",null,"£m nominal",null,null,null,null,null,null,null,null,null,null,null,null,null,null,null,null,null,null,null,null,null,null,null,null,null,null,{"$f":"-SystemOperator!AH286 * AH111","v":-57.748942320317191},{"$f":"-SystemOperator!AI286 * AI111","v":-63.629451998248371},{"$f":"-SystemOperator!AJ286 * AJ111","v":-70.975183480254699},{"$f":"-SystemOperator!AK286 * AK111","v":-71.268207431429971},{"$f":"-SystemOperator!AL286 * AL111","v":-73.983940926280113},{"$f":"-SystemOperator!AM286 * AM111","v":-73.323481043195983},{"$f":"-SystemOperator!AN286 * AN111","v":-72.903746752249532},{"$f":"-SystemOperator!AO286 * AO111","v":-72.195442190169743}]
[]
[null,null,"Non-core net debt"]
[null,null,"Note: Values presented below are a summary of those calculated on the \"NonCore\" sheet."]
[]
[null,null,null,null,"Opening balance brought forward (before transfers)",null,"£m nominal",null,null,null,null,null,null,null,null,null,null,null,null,null,null,null,null,null,null,null,null,null,null,null,null,null,null,null,{"$f":"AH56","v":-60.152066681442626},{"$f":"AI56","v":-57.036241876969342},-56.726869045357752,0,0,0,0]
[null,null,null,null,"Transfer from core net debt",null,"£m nominal",null,null,null,null,null,null,null,null,null,null,null,null,null,null,null,null,null,null,null,null,null,null,null,null,null,null,null,{"$f":"NonCore!AI23","v":-5.8644776755460484},{"$f":"NonCore!AJ23","v":-8.7508547924459492},{"$f":"NonCore!AK23","v":56.726869045357752},{"$f":"NonCore!AL23","v":0},{"$f":"NonCore!AM23","v":0},{"$f":"NonCore!AN23","v":0},{"$f":"NonCore!AO23","v":0}]
[null,null,null,null,"Opening balance brought forward (after transfers)",null,"£m nominal",null,null,null,null,null,null,null,null,null,null,null,null,null,null,null,null,null,null,null,null,null,null,null,null,null,null,{"$f":"-AH72 * AH83","v":-68.967264139511769},{"$f":"SUM(AI52:AI53)","v":-66.016544356988675},-65.787096669415291,0,0,0,0,0]
[null,null,null,null,"Movement in year",null,"£m nominal",null,null,null,null,null,null,null,null,null,null,null,null,null,null,null,null,null,null,null,null,null,null,null,null,null,null,{"$f":"AH56-AH54","v":8.815197458069143},{"$f":"AI56-AI54","v":8.9803024800193327},9.0602276240575392,0,0,0,0,0]
[null,null,null,null,"Closing net debt",null,"£m nominal",null,null,null,null,null,null,null,null,null,null,null,null,null,null,null,null,null,null,null,null,null,null,null,null,null,null,{"$f":"NonCore!AH22","v":-60.152066681442626},{"$f":"NonCore!AI22","v":-57.036241876969342},{"$f":"NonCore!AJ22","v":-56.726869045357752},{"$f":"NonCore!AK22","v":0},{"$f":"NonCore!AL22","v":0},{"$f":"NonCore!AM22","v":0},{"$f":"NonCore!AN22","v":0},{"$f":"NonCore!AO22","v":0}]
[]
[null,null,"Total net debt"]
[]
[null,null,null,null,"Opening total net debt (before equity issuance)",null,"£m nominal",null,null,null,null,null,null,null,null,null,null,null,null,null,null,null,null,null,null,null,null,null,null,null,null,null,null,null,{"$f":"AI16 + AI52","v":-6516.8909134560863},{"$f":"AJ16 + AJ52","v":-7557.6713669984338},-8490.9899651232845,-8783.4196429367676,-9366.3809567610933,-9916.2501388609817,-10312.092336901751]
[null,null,null,null,"Opening total net debt (after equity issuance)",null,"£m nominal",null,null,null,null,null,null,null,null,null,null,null,null,null,null,null,null,null,null,null,null,null,null,null,null,null,null,{"$f":"AH20 + AH54","v":-6128.5159428482448},{"$f":"AI18 + AI52","v":-6516.8909134560863},-7557.6713669984338,-8011.6658200249258,-8783.4196429367676,-9366.3809567610933,-9916.2501388609817,-10312.092336901751]
[]
[null,"Regearing"]
[]
[null,null,"Overall opening gearing"]
[null,null,"Note: Opening values are based on real opening RAV inflated by the previous years prices."]
[]
[null,null,null,null,"Opening total net debt (before equity issuance)",null,"£m nominal",null,null,null,null,null,null,null,null,null,null,null,null,null,null,null,null,null,null,null,null,null,null,null,null,null,null,null,{"$f":"AI60","v":-6516.8909134560863},-7557.6713669984338,-8490.9899651232845,-8783.4196429367676,-9366.3809567610933,-9916.2501388609817,-10312.092336901751]
[]
[null,null,null,null,"Opening core RAV (after transfers)",null,"£m nominal",null,null,null,null,null,null,null,null,null,null,null,null,null,null,null,null,null,null,null,null,null,null,null,null,null,null,{"$f":"('Return&RAV'!AH41)* Input!AG$46 / Input!$AD$46","v":9827.8327281406364},{"$f":"('Return&RAV'!AI41)* Input!AH$46 / Input!$AD$46","v":10641.616680087231},{"$f":"('Return&RAV'!AJ41)* Input!AI$46 / Input!$AD$46","v":11919.746215163303},{"$f":"('Return&RAV'!AK41)* Input!AJ$46 / Input!$AD$46","v":13212.579102229787},{"$f":"('Return&RAV'!AL41)* Input!AK$46 / Input!$AD$46","v":14284.31702418118},{"$f":"('Return&RAV'!AM41)* Input!AL$46 / Input!$AD$46","v":15191.063212540243},{"$f":"('Return&RAV'!AN41)* Input!AM$46 / Input!$AD$46","v":16090.887581154273},{"$f":"('Return&RAV'!AO41)* Input!AN$46 / Input!$AD$46","v":16860.30450799692}]
[null,null,null,null,"Opening SO RAV (after transfers)",null,"£m nominal",null,null,null,null,null,null,null,null,null,null,null,null,null,null,null,null,null,null,null,null,null,null,null,null,null,null,{"$f":"SystemOperator!AH283 * Input!AG$46 / Input!$AD$46","v":83.860518359309879},{"$f":"SystemOperator!AI283 * Input!AH$46 / Input!$AD$46","v":109.80667695491184},{"$f":"SystemOperator!AJ283 * Input!AI$46 / Input!$AD$46","v":126.7289639854511},{"$f":"SystemOperator!AK283 * Input!AJ$46 / Input!$AD$46","v":140.19726447842604},{"$f":"SystemOperator!AL283 * Input!AK$46 / Input!$AD$46","v":150.00376565116696},{"$f":"SystemOperator!AM283 * Input!AL$46 / Input!$AD$46","v":157.84161802800293},{"$f":"SystemOperator!AN283 * Input!AM$46 / Input!$AD$46","v":160.35879192542842},{"$f":"SystemOperator!AO283 * Input!AN$46 / Input!$AD$46","v":163.91796275148212}]
[null,null,null,null,"Opening non-core RAV (after transfers)",null,"£m nominal",null,null,null,null,null,null,null,null,null,null,null,null,null,null,null,null,null,null,null,null,null,null,null,null,null,null,{"$f":"NonCore!AH14 * Input!AG$46 / Input!$AD$46","v":112.81077229448803},{"$f":"NonCore!AI14 * Input!AH$46 / Input!$AD$46","v":110.02722675097769},{"$f":"NonCore!AJ14 * Input!AI$46 / Input!$AD$46","v":105.78148280733744},{"$f":"NonCore!AK14 * Input!AJ$46 / Input!$AD$46","v":0},{"$f":"NonCore!AL14 * Input!AK$46 / Input!$AD$46","v":0},{"$f":"NonCore!AM14 * Input!AL$46 / Input!$AD$46","v":0},{"$f":"NonCore!AN14 * Input!AM$46 / Input!$AD$46","v":0},{"$f":"NonCore!AO14 * Input!AN$46 / Input!$AD$46","v":0}]
[null,null,null,null,"Total opening regulatory assets (after transfers)",null,"£m nominal",null,null,null,null,null,null,null,null,null,null,null,null,null,null,null,null,null,null,null,null,null,null,null,null,null,null,{"$f":"SUM(AH70:AH72)","v":10024.504018794434},10861.450583793119,12152.256661956091,13352.776366708213,14434.320789832347,15348.904830568246,16251.246373079701,17024.222470748402]
[]
[null,null,null,null,"Overall gearing at start of year (before equity issuance)",null,"%",null,null,null,null,null,null,null,null,null,null,null,null,null,null,null,null,null,null,null,null,null,null,null,null,null,null,null,{"$f":" - AI68 / AI$73","v":0.60000189322596054},0.62191505472876596,0.63589696494082171,0.60850938335275739,0.61023122236756555,0.61018397673715152,0.60573059090483217]
[]
[null,null,"Start of price control notional regearing"]
[null,null,"Note: An allowance is given to cover the change in notional gearing from its level in the previous price control. "]
[null,null,"For transmission only, where the Pre-RIIO closing gearing is higher than the notional opening gear the notional gearing at the start of RIIO will be uplifted to reflect this difference."]
[]
[null,null,null,null,"Pre-RIIO closing notional gearing",null,null,null,null,null,null,null,null,null,null,null,null,null,null,null,null,null,null,null,null,null,null,null,null,null,null,null,{"$f":"Input!I44","v":0.61135353243992929}]
[]
[null,null,null,null,"Notional gearing",null,"%",null,null,">",null,null,null,null,null,null,null,null,null,null,null,null,null,null,null,null,null,null,null,null,null,null,{"$f":"Input!AG40","v":0.6},{"$f":"IF(AG81>Input!AH40,IF(AG81<Input!AH40*(1+Input!$I$70),AG81,Input!AH40),AG81)","v":0.61135353243992929}]
[]
[null,null,null,null,"Start of price control change in notional gearing",null,"%",null,null,null,null,null,null,null,null,null,null,null,null,null,null,null,null,null,null,null,null,null,null,null,null,null,null,{"$f":"IF(AG81 >= AG83 + Input!$I$70, AG81 - AG83, 0)","v":0}]
[null,null,null,null,"Total opening regulatory assets (after transfers)",null,"£m nominal",null,null,null,null,null,null,null,null,null,null,null,null,null,null,null,null,null,null,null,null,null,null,null,null,null,null,{"$f":"AH73","v":10024.504018794434}]
[]
[null,null,null,null,"Movement in net debt for notional regearing change",null,"£m nominal",null,null,null,null,null,null,null,null,null,null,null,null,null,null,null,null,null,null,null,null,null,null,null,null,null,null,{"$f":" AH85 * AH$86","v":0}]
[]
[null,null,"Equity issuance"]
[null,null,"Note: If opening overall gearing exceeds its target level beyond a given threshold, an equity issuance is triggered, bringing opening gearing back to its target level. An allowance is calculated for the cost of raising this equity."]
[]
[null,null,null,null,"Total opening regulatory assets (after transfers)",null,"£m nominal",null,null,null,null,null,null,null,null,null,null,null,null,null,null,null,null,null,null,null,null,null,null,null,null,null,null,null,{"$f":"AI73","v":10861.450583793119},{"$f":"AJ73","v":12152.256661956091},13352.776366708213,14434.320789832347,15348.904830568246,16251.246373079701,17024.222470748402]
[]
[null,null,null,null,"Overall gearing at start of year (before equity issuance)",null,"%",null,null,null,null,null,null,null,null,null,null,null,null,null,null,null,null,null,null,null,null,null,null,null,null,null,null,null,{"$f":"AI75","v":0.60000189322596054},{"$f":"AJ75","v":0.62191505472876596},0.63589696494082171,0.60850938335275739,0.61023122236756555,0.61018397673715152,0.60573059090483217]
[null,null,null,null,"Less target gearing for equity issuance",null,"%",null,null,null,null,null,null,null,null,null,null,null,null,null,null,null,null,null,null,null,null,null,null,null,null,null,null,null,{"$f":"-Input!AI74","v":-0.6},{"$f":"-Input!AJ74","v":-0.6},{"$f":"-Input!AK74","v":-0.6},{"$f":"-Input!AL74","v":-0.6},{"$f":"-Input!AM74","v":-0.6},{"$f":"-Input!AN74","v":-0.6},{"$f":"-Input!AO74","v":-0.6}]
[null,null,null,null,"Deviation from equity issuance target gearing",null,"%",null,null,null,null,null,null,null,null,null,null,null,null,null,null,null,null,null,null,null,null,null,null,null,null,null,null,null,{"$f":"SUM(AI95:AI96)","v":1.893225960558631E-6},{"$f":"SUM(AJ95:AJ96)","v":2.1915054728765981E-2},3.589696494082173E-2,8.5093833527574159E-3,1.0231222367565573E-2,1.0183976737151545E-2,5.730590904832189E-3]
[]
[null,null,null,null,"Threshold deviation above target level",null,"%",null,{"$f":"Input!I70","v":2.5000000000000001E-2}]
[null,null,null,null,"Equity issuance threshold met",null,"text",null,null,null,null,null,null,null,null,null,null,null,null,null,null,null,null,null,null,null,null,null,null,null,null,null,null,null,{"$f":"AI97 >= $I99","v":false},{"$f":"AJ97 >= $I99","v":false},true,false,false,false,false]
[]
[null,null,null,null,"Equity issuance",null,"£m nominal",null,null,null,null,null,null,null,null,null,null,null,null,null,null,null,null,null,null,null,null,null,null,null,null,null,null,null,{"$f":"AI93 * AI97 * AI100","v":0},{"$f":"AJ93 * AJ97 * AJ100","v":0},479.32414509835769,0,{"$f":"AM93 * AM97 * AM100","v":0},0,0]
[]
[null,null,"Start of year gearing equalisation between core and non-core net debt"]
[null,null,"Note: Movements in non-core cashflow allow core and non-core gearing levels to diverge within the year. Net debt transfers at the start of the year equalise levels of gearing across the company."]
[null,null,"The overall gearing percentage is exported to the \"NonCore\" sheet to set their opening gearing to that level. Net movements required to reach that level from their net debt brought forward generate a transfer from Core net debt."]
[]
[null,null,null,null,"Opening total net debt (after equity issuance)",null,"£m nominal",null,null,null,null,null,null,null,null,null,null,null,null,null,null,null,null,null,null,null,null,null,null,null,null,null,null,{"$f":"AH61","v":-6128.5159428482448},{"$f":"AI61","v":-6516.8909134560863},{"$f":"AJ61","v":-7557.6713669984338},-8011.6658200249258,-8783.4196429367676,-9366.3809567610933,-9916.2501388609817,-10312.092336901751]
[null,null,null,null,"Total opening regulatory assets (after transfers)",null,"£m nominal",null,null,null,null,null,null,null,null,null,null,null,null,null,null,null,null,null,null,null,null,null,null,null,null,null,null,{"$f":"AH73","v":10024.504018794434},{"$f":"AI73","v":10861.450583793119},12152.256661956091,13352.776366708213,14434.320789832347,15348.904830568246,16251.246373079701,17024.222470748402]
[]
[null,null,null,null,"Overall gearing at start of year (after equity issuance)",null,"%",null,null,null,null,null,null,null,null,null,null,null,null,null,null,null,null,null,null,null,null,null,null,null,null,null,null,{"$f":"-AH108/AH109","v":0.61135353243992929},0.60000189322596054,0.62191505472876596,0.59999999999999987,0.60850938335275739,0.61023122236756555,0.61018397673715152,0.60573059090483217]
[]
[null,"Financing costs"]
[]
[null,null,"Interest"]
[]
[null,null,null,"Forecast cost of debt"]
[null,null,null,"Note: The nominal cost of debt is calculated and adjusted for any portion indexed for inflation."]
[]
[null,null,null,null,"Cost of debt",null,"annual real %",null,null,null,null,null,null,null,null,null,null,null,null,null,null,null,null,null,null,null,null,null,null,null,null,null,null,{"$f":"Input!AH38","v":2.92E-2},{"$f":"Input!AI38","v":2.7199999999999998E-2},{"$f":"Input!AJ38","v":2.5499999999999998E-2},{"$f":"Input!AK38","v":2.5499999999999998E-2},{"$f":"Input!AL38","v":2.5499999999999998E-2},{"$f":"Input!AM38","v":2.5499999999999998E-2},{"$f":"Input!AN38","v":2.5499999999999998E-2},{"$f":"Input!AO38","v":2.5499999999999998E-2}]
[null,null,null,null,"Forecast Debt inflation",null,"annual %",null,null,null,null,null,null,null,null,null,null,null,null,null,null,null,null,null,null,null,null,null,null,null,null,null,null,{"$f":"Input!AH47/Input!AG47-1","v":2.8001377116907422E-2},{"$f":"Input!AI47/Input!AH47-1","v":2.800015947691592E-2},{"$f":"Input!AJ47/Input!AI47-1","v":2.8001535818307888E-2},{"$f":"Input!AK47/Input!AJ47-1","v":2.8000890354368702E-2},{"$f":"Input!AL47/Input!AK47-1","v":2.8001541369249594E-2},{"$f":"Input!AM47/Input!AL47-1","v":2.7999214608285916E-2},{"$f":"Input!AN47/Input!AM47-1","v":2.8000611200244441E-2},{"$f":"Input!AO47/Input!AN47-1","v":2.8001391793149866E-2}]
[]
[null,null,null,null,"Forecast cost of debt",null,"nominal annual %",null,null,null,null,null,null,null,null,null,null,null,null,null,null,null,null,null,null,null,null,null,null,null,null,null,null,{"$f":"(((1 + AH120) * (1 + AH121)) - 1)","v":5.8019017328720945E-2},{"$f":"((1 + AI120) * (1 + AI121)) - 1","v":5.596176381468787E-2},5.4215574981674841E-2,5.421491305840509E-2,5.4215580674165542E-2,5.4213194580797319E-2,5.4214626785850761E-2,5.4215427283875295E-2]
[]
[null,null,null,"Average net debt (except for interest and tax)"]
[]
[null,null,null,null,"Opening net debt",null,"£m nominal",null,null,null,null,null,null,null,null,null,null,null,null,null,null,null,null,null,null,null,null,null,null,null,null,null,null,{"$f":"AH20","v":-6059.548678708733},{"$f":"AI20","v":-6450.8743690990977},{"$f":"AJ20","v":-7491.8842703290184},-8011.6658200249258,-8783.4196429367676,-9366.3809567610933,-9916.2501388609817,-10312.092336901751]
[null,null,null,null,"Closing net debt (except for interest and tax)",null,"£m nominal",null,null,null,null,null,null,null,null,null,null,null,null,null,null,null,null,null,null,null,null,null,null,null,null,null,null,{"$f":"AH33","v":-6094.2112465573491},{"$f":"AI33","v":-7111.3067869708011},-8004.0109618113729,-8329.8871932945804,-8877.0168699349579,-9396.5735874311922,-9767.1648981252674,-9966.4908402499113]
[]
[null,null,null,null,"Average net debt (except for interest and tax)",null,"£m nominal",null,null,null,null,null,null,null,null,null,null,null,null,null,null,null,null,null,null,null,null,null,null,null,null,null,null,{"$f":"AVERAGE(AH127:AH128)","v":-6076.879962633041},{"$f":"AVERAGE(AI127:AI128)","v":-6781.0905780349494},-7747.9476160701961,-8170.7765066597531,-8830.2182564358627,-9381.4772720961428,-9841.7075184931236,-10139.29158857583]
[]
[null,null,null,"Net interest received"]
[]
[null,null,null,null,"Average net debt (except for interest and tax)",null,"£m nominal",null,null,null,null,null,null,null,null,null,null,null,null,null,null,null,null,null,null,null,null,null,null,null,null,null,null,{"$f":"AH130","v":-6076.879962633041},{"$f":"AI130","v":-6781.0905780349494},-7747.9476160701961,-8170.7765066597531,-8830.2182564358627,-9381.4772720961428,-9841.7075184931236,-10139.29158857583]
[null,null,null,null,"Forecast cost of debt",null,"%",null,null,null,null,null,null,null,null,null,null,null,null,null,null,null,null,null,null,null,null,null,null,null,null,null,null,{"$f":"AH123","v":5.8019017328720945E-2},{"$f":"AI123","v":5.596176381468787E-2},5.4215574981674841E-2,5.421491305840509E-2,5.4215580674165542E-2,5.4213194580797319E-2,5.4214626785850761E-2,5.4215427283875295E-2]
[]
[null,null,null,null,"Net interest received",null,"£m nominal",null,null,null,null,null,null,null,null,null,null,null,null,null,null,null,null,null,null,null,null,null,null,null,null,null,null,{"$f":"AH134 * AH135","v":-352.5746038565635},{"$f":"AI134 * AI135","v":-379.48178933399709},-420.05943493314254,-442.97793792821739,-478.73541025228792,-508.59985280747583,-533.56450005060617,-549.70602583044138]
[]
[null,null,null,"Inflation coupon on index linked debt"]
[null,null,null,"Note: The inflation coupon from index linked debt is identified separately from other interest costs."]
[]
[null,null,null,null,"Index-linked debt as a percentage of net debt",null,"%",null,null,null,null,null,null,null,null,null,null,null,null,null,null,null,null,null,null,null,null,null,null,null,null,null,null,{"$f":"Input!AH76","v":0.25},{"$f":"Input!AI76","v":0.25},{"$f":"Input!AJ76","v":0.25},{"$f":"Input!AK76","v":0.25},{"$f":"Input!AL76","v":0.25},{"$f":"Input!AM76","v":0.25},{"$f":"Input!AN76","v":0.25},{"$f":"Input!AO76","v":0.25}]
[null,null,null,null,"Cost of debt",null,"annual real %",null,null,null,null,null,null,null,null,null,null,null,null,null,null,null,null,null,null,null,null,null,null,null,null,null,null,{"$f":"AH120","v":2.92E-2},{"$f":"AI120","v":2.7199999999999998E-2},2.5499999999999998E-2,2.5499999999999998E-2,2.5499999999999998E-2,2.5499999999999998E-2,2.5499999999999998E-2,2.5499999999999998E-2]
[null,null,null,null,"Forecast cost of debt",null,"nominal annual %",null,null,null,null,null,null,null,null,null,null,null,null,null,null,null,null,null,null,null,null,null,null,null,null,null,null,{"$f":"AH123","v":5.8019017328720945E-2},{"$f":"AI123","v":5.596176381468787E-2},5.4215574981674841E-2,5.421491305840509E-2,5.4215580674165542E-2,5.4213194580797319E-2,5.4214626785850761E-2,5.4215427283875295E-2]
[]
[null,null,null,null,"Share of interest as inflation coupon",null,"%",null,null,null,null,null,null,null,null,null,null,null,null,null,null,null,null,null,null,null,null,null,null,null,null,null,null,{"$f":"1 - ((AH142 * AH143) + ((1 - AH142) * AH144)) / AH144","v":0.12417918578937548},{"$f":"1 - ((AI142 * AI143) + ((1 - AI142) * AI144)) / AI144","v":0.12848846182694384},0.13241386350408013,0.1324124278658847,0.13241387585030939,0.13240870051479925,0.1324118069615895,0.13241354316696408]
[]
[null,null,null,"Allocation to interest or inflation coupon"]
[]
[null,null,null,null,"Net interest received",null,"£m nominal",null,null,null,null,null,null,null,null,null,null,null,null,null,null,null,null,null,null,null,null,null,null,null,null,null,null,{"$f":"AH137","v":-352.5746038565635},{"$f":"AI137","v":-379.48178933399709},-420.05943493314254,-442.97793792821739,-478.73541025228792,-508.59985280747583,-533.56450005060617,-549.70602583044138]
[null,null,null,null,"Share of interest as inflation coupon",null,"%",null,null,null,null,null,null,null,null,null,null,null,null,null,null,null,null,null,null,null,null,null,null,null,null,null,null,{"$f":"AH146","v":0.12417918578937548},0.12848846182694384,0.13241386350408013,0.1324124278658847,0.13241387585030939,0.13240870051479925,0.1324118069615895,0.13241354316696408]
[]
[null,null,null,null,"Net interest received (interest coupon)",null,"£m nominal",null,null,null,null,null,null,null,null,null,null,null,null,null,null,null,null,null,null,null,null,null,null,null,null,null,null,{"$f":"AH$150 * (1 - AH$151)","v":-308.79217661964384},{"$f":"AI$150 * (1 - AI$151)","v":-330.72275793113545},-364.43774225230436,-384.32215367611894,-415.34419907399456,-441.25680721521979,-462.91426046834829,-476.91750325000197]
[]
[null,null,null,null,"Net interest received (inflation coupon)",null,"£m nominal",null,null,null,null,null,null,null,null,null,null,null,null,null,null,null,null,null,null,null,null,null,null,null,null,null,null,{"$f":"AH$150 * AH$151","v":-43.782427236919659},{"$f":"AI$150 * AI$151","v":-48.759031402861631},-55.621692680838166,-58.655784252098435,-63.391211178293389,-67.343045592256047,-70.650239582257868,-72.78852258043942]
[]
[null,null,null,"Allocation of interest to SO (if applicable)"]
[null,null,null,"Note: Allocation of interest to SO is based on opening net debt."]
[]
[null,null,null,null,"SO allocation",null,"%",null,null,null,null,null,null,null,null,null,null,null,null,null,null,null,null,null,null,null,null,null,null,null,null,null,null,{"$f":" - (AH71 * AH111) / AH127","v":8.4607661147022492E-3},1.0213222315628458E-2,1.0520003743900646E-2,1.049948419925407E-2,1.0392159619788333E-2,1.0283575262884688E-2,9.8674765149744971E-3,9.62851390324178E-3]
[]
[null,null,null,null,"SO net interest received (interest coupon)",null,"£m nominal",null,null,null,null,null,null,null,null,null,null,null,null,null,null,null,null,null,null,null,null,null,null,null,null,null,null,{"$f":"AH$153 * AH160","v":-2.6126183844286346},{"$f":"AI$153 * AI160","v":-3.3777450515884611},-3.8338864129129404,-4.0351843799457052,-4.3163232139300929,-4.5376975872579122,-4.5677955936182144,-4.5920068107420011]
[]
[null,null,null,null,"SO net interest received (inflation coupon)",null,"£m nominal",null,null,null,null,null,null,null,null,null,null,null,null,null,null,null,null,null,null,null,null,null,null,null,null,null,null,{"$f":"AH$155 * AH160","v":-0.37043287678554665},{"$f":"AI$155 * AI160","v":-0.4979868276121352},-0.58514041524450866,-0.6158554799497632,-0.65877158505653532,-0.69252727777984002,-0.6971395798552511,-0.70084530166218917]
[]
[null,null,"Cost of raising equity"]
[null,null,"Note: If quity issuance is negative, then equity issuance costs are set to zero"]
[]
[null,null,null,null,"Start of price control change in notional gearing",null,"£m nominal",null,null,null,null,null,null,null,null,null,null,null,null,null,null,null,null,null,null,null,null,null,null,null,null,null,null,{"$f":"AH88","v":0}]
[null,null,null,null,"Issue or redeem equity",null,"£m nominal",null,null,null,null,null,null,null,null,null,null,null,null,null,null,null,null,null,null,null,null,null,null,null,null,null,null,null,{"$f":"AI102","v":0},0,{"$f":"AK102","v":479.32414509835769},0,0,0,0]
[null,null,null,null,"Equity issuance with issuance costs allowed",null,"£m nominal",null,null,null,null,null,null,null,null,null,null,null,null,null,null,null,null,null,null,null,null,null,null,null,null,null,null,{"$f":"IF(SUM(AH169:AH170) > 0,SUM(AH169:AH170),0)","v":0},{"$f":"IF(SUM(AI169:AI170) > 0,SUM(AI169:AI170),0)","v":0},0,479.32414509835769,0,0,0,0]
[]
[null,null,null,null,"Equity issuance cost as percentage of new equity",null,"%",null,{"$f":"Input!I71","v":0.05}]
[]
[null,null,null,null,"Equity issuance cost",null,"£m nominal",null,null,null,null,null,null,null,null,null,null,null,null,null,null,null,null,null,null,null,null,null,null,null,null,null,null,{"$f":"AH171 * $I173","v":0},{"$f":"AI171 * $I173","v":0},0,23.966207254917887,0,0,0,0]
[]
[null,null,"Dividends"]
[null,null,"Note: Unlike interest, dividends are based on notional rather than modelled gearing levels."]
[]
[]
[null,null,null,null,"Closing core RAV",null,"£m nominal",null,null,">",null,null,null,null,null,null,null,null,null,null,null,null,null,null,null,null,null,null,null,null,null,null,null,{"$f":"'Return&RAV'!AH44 * Input!AH46 / Input!$AD$46 + SystemOperator!AH286 * Input!AH46 / Input!$AD$46","v":10751.423357042142},{"$f":"'Return&RAV'!AI44 * Input!AI46 / Input!$AD$46 + SystemOperator!AI286 * Input!AI46 / Input!$AD$46","v":12046.475179148754},{"$f":"'Return&RAV'!AJ44 * Input!AJ46 / Input!$AD$46 + SystemOperator!AJ286 * Input!AJ46 / Input!$AD$46","v":13251.564517680317},{"$f":"'Return&RAV'!AK44 * Input!AK46 / Input!$AD$46 + SystemOperator!AK286 * Input!AK46 / Input!$AD$46","v":14434.320789832347},{"$f":"'Return&RAV'!AL44 * Input!AL46 / Input!$AD$46 + SystemOperator!AL286 * Input!AL46 / Input!$AD$46","v":15348.904830568241},{"$f":"'Return&RAV'!AM44 * Input!AM46 / Input!$AD$46 + SystemOperator!AM286 * Input!AM46 / Input!$AD$46","v":16251.246373079701},{"$f":"'Return&RAV'!AN44 * Input!AN46 / Input!$AD$46 + SystemOperator!AN286 * Input!AN46 / Input!$AD$46","v":17024.222470748402},{"$f":"'Return&RAV'!AO44 * Input!AO46 / Input!$AD$46 + SystemOperator!AO286 * Input!AO46 / Input!$AD$46","v":17643.94097429292}]
[null,null,null,null,"Assumed equity portion of RAV",null,"%",null,null,null,null,null,null,null,null,null,null,null,null,null,null,null,null,null,null,null,null,null,null,null,null,null,null,{"$f":"(1-Input!AH40)","v":0.4},{"$f":"(1-Input!AI40)","v":0.4},{"$f":"(1-Input!AJ40)","v":0.4},{"$f":"(1-Input!AK40)","v":0.4},{"$f":"(1-Input!AL40)","v":0.4},{"$f":"(1-Input!AM40)","v":0.4},{"$f":"(1-Input!AN40)","v":0.4},{"$f":"(1-Input!AO40)","v":0.4}]
[null,null,null,null,"Assumed dividends as percentage of notional equity portion of RAV",null,"%",null,null,null,null,null,null,null,null,null,null,null,null,null,null,null,null,null,null,null,null,null,null,null,null,null,null,{"$f":"Input!$I$72","v":0.05},{"$f":"AH183","v":0.05},0.05,0.05,0.05,0.05,0.05,0.05]
[]
[null,null,null,null,"Notional dividends",null,"£m nominal",null,null,null,null,null,null,null,null,null,null,null,null,null,null,null,null,null,null,null,null,null,null,null,null,null,null,{"$f":"AH181 * AH182 * AH183","v":215.02846714084285},{"$f":"AI181 * AI182 * AI183","v":240.92950358297509},265.03129035360638,288.68641579664694,306.97809661136489,325.02492746159407,340.48444941496808,352.87881948585846]
[]
[null,"Tax allowance"]
[]
[null,null,"Tax base"]
[null,null,"Note: The tax charge is calculated before tax on tax. Tax on tax is added after losses are taken into account."]
[]
[null,null,null,null,"Add recalculated base revenue (except tax allowance)",null,"£m nominal",null,null,null,null,null,null,null,null,null,null,null,null,null,null,null,null,null,null,null,null,null,null,null,null,null,null,{"$f":"(Revenue!AH17)* Input!AH$46 / Input!$AD$46","v":1435.3981764957296},{"$f":"Revenue!AI17 * Input!AI$46 / Input!$AD$46","v":1566.0617912455737},{"$f":"Revenue!AJ17 * Input!AJ$46 / Input!$AD$46","v":1666.85770880942},{"$f":"Revenue!AK17 * Input!AK$46 / Input!$AD$46","v":1803.7815911440796},{"$f":"Revenue!AL17 * Input!AL$46 / Input!$AD$46","v":1853.5186137667451},{"$f":"Revenue!AM17 * Input!AM$46 / Input!$AD$46","v":1948.397862199781},{"$f":"Revenue!AN17 * Input!AN$46 / Input!$AD$46","v":2002.3721677317394},{"$f":"Revenue!AO17 * Input!AO$46 / Input!$AD$46","v":2043.459273175557}]
[null,null,null,null,"Add net DART impact on core tax calculation",null,"£m nominal",null,null,null,null,null,null,null,null,null,null,null,null,null,null,null,null,null,null,null,null,null,null,null,null,null,null,{"$f":"DARTs!AH57 * Input!AH46/Input!$AD46","v":76.775155631824958},{"$f":"DARTs!AI57 * Input!AI46/Input!$AD46","v":79.264134445230695},{"$f":"DARTs!AJ57 * Input!AJ46/Input!$AD46","v":85.332413433127925},{"$f":"DARTs!AK57 * Input!AK46/Input!$AD46","v":83.813430474570268},{"$f":"DARTs!AL57 * Input!AL46/Input!$AD46","v":87.40407477960099},{"$f":"DARTs!AM57 * Input!AM46/Input!$AD46","v":90.548232707006505},{"$f":"DARTs!AN57 * Input!AN46/Input!$AD46","v":93.689487857942353},{"$f":"DARTs!AO57 * Input!AO46/Input!$AD46","v":97.294755556854838}]
[null,null,null,null,"Less net interest paid (interest coupon)",null,{"$f":"G153","v":"£m nominal"},null,null,null,null,null,null,null,null,null,null,null,null,null,null,null,null,null,null,null,null,null,null,null,null,null,null,{"$f":"AH153 * (1 - AH160)","v":-306.17955823521521},{"$f":"AI153 * (1 - AI160)","v":-327.34501287954697},{"$f":"AJ153 * (1 - AJ160)","v":-360.60385583939143},-380.28696929617325,-411.02787586006446,-436.71910962796187,-458.34646487473003,-472.32549643925995]
[null,null,null,null,"Less net interest paid (inflation coupon)",null,{"$f":"G155","v":"£m nominal"},null,null,null,null,null,null,null,null,null,null,null,null,null,null,null,null,null,null,null,null,null,null,null,null,null,null,{"$f":"AH155 * (1 -AH160)","v":-43.411994360134109},-48.261044575249493,-55.036552265593656,-58.03992877214867,-62.732439593236855,-66.650518314476201,-69.953100002402607,-72.087677278777221]
[null,null,null,null,"Less revenue tax pool additions",null,"£m nominal",null,null,null,null,null,null,null,null,null,null,null,null,null,null,null,null,null,null,null,null,null,null,null,null,null,null,{"$f":"-TaxPools!AH73*Input!AH46/Input!$AD46","v":-303.00955187894351},{"$f":"-TaxPools!AI73*Input!AI46/Input!$AD46","v":-341.23852889432698},{"$f":"-TaxPools!AJ73*Input!AJ46/Input!$AD46","v":-358.66309264431948},{"$f":"-TaxPools!AK73*Input!AK46/Input!$AD46","v":-370.15855232484734},{"$f":"-TaxPools!AL73*Input!AL46/Input!$AD46","v":-381.87938094701764},{"$f":"-TaxPools!AM73*Input!AM46/Input!$AD46","v":-392.70655382311492},{"$f":"-TaxPools!AN73*Input!AN46/Input!$AD46","v":-405.92839588684734},{"$f":"-TaxPools!AO73*Input!AO46/Input!$AD46","v":-417.68503158646018}]
[null,null,null,null,"Less capital allowances",null,"£m nominal",null,null,null,null,null,null,null,null,null,null,null,null,null,null,null,null,null,null,null,null,null,null,null,null,null,null,{"$f":"-TaxPools!AH130","v":-465.8508296822331},{"$f":"-TaxPools!AI130","v":-560.26405532982903},{"$f":"-TaxPools!AJ130","v":-640.18657399636857},{"$f":"-TaxPools!AK130","v":-707.74051903706049},{"$f":"-TaxPools!AL130","v":-745.49436635834525},{"$f":"-TaxPools!AM130","v":-779.04844558750256},{"$f":"-TaxPools!AN130","v":-796.79443357141031},{"$f":"-TaxPools!AO130","v":-802.80901007098169}]
[null,null,null,null,"Less additional income",null,"£m nominal",null,null,null,null,null,null,null,null,null,null,null,null,null,null,null,null,null,null,null,null,null,null,null,null,null,null,{"$f":"-(TIM!AH77)* Input!AH46/Input!$AD46","v":-17.632443951513093},{"$f":"-(TIM!AI77)* Input!AI46/Input!$AD46","v":-19.448864697892152},{"$f":"-(TIM!AJ77)* Input!AJ46/Input!$AD46","v":-19.182173344254011},{"$f":"-(TIM!AK77)* Input!AK46/Input!$AD46","v":-18.8314598057765},{"$f":"-(TIM!AL77)* Input!AL46/Input!$AD46","v":-16.920359716783132},{"$f":"-(TIM!AM77)* Input!AM46/Input!$AD46","v":-16.757058130821161},{"$f":"-(TIM!AN77)* Input!AN46/Input!$AD46","v":-15.482566172749252},{"$f":"-(TIM!AO77)* Input!AO46/Input!$AD46","v":-13.859389841423225}]
[null,null,null,null,"Profits attributable to corporation tax (before Tax Clawback)",null,"£m nominal",null,null,null,null,null,null,null,null,null,null,null,null,null,null,null,null,null,null,null,null,null,null,null,null,null,null,{"$f":"SUM(AH192:AH198)","v":376.08895401951554},{"$f":"SUM(AI192:AI198)","v":348.76841931395978},318.51787415262083,352.53759238264354,322.86826607089864,347.06440942291078,349.55669508154239,361.98742351550965]
[]
[]
[null,null,"Tax allowance"]
[]
[null,null,null,"Tax losses"]
[]
[null,null,null,null,"Taxable losses brought forward",null,"£m nominal",null,null,null,null,null,null,null,null,null,null,null,null,null,null,null,null,null,null,null,null,null,null,null,null,null,null,{"$f":"-Input!AH315","v":0},{"$f":"SUM(AH211)","v":0},{"$f":"SUM(AI211)","v":0},0,0,0,0,0]
[null,null,null,null,"In-year taxable loss",null,"£m nominal",null,null,null,null,null,null,null,null,null,null,null,null,null,null,null,null,null,null,null,null,null,null,null,null,null,null,{"$f":"MIN(AH199, 0)","v":0},{"$f":"MIN(AI199, 0)","v":0},{"$f":"MIN(AJ199, 0)","v":0},0,0,0,0,0]
[null,null,null,null,"Contributions to losses from clawback",null,"£m nominal",null,null,null,null,null,null,null,null,null,null,null,null,null,null,null,null,null,null,null,null,null,null,null,null,null,null,{"$f":"-Input!AH27*(1/AH217)","v":0},{"$f":"-Input!AI27*(1/AI217)","v":0},{"$f":"-Input!AJ27*(1/AJ217)","v":0},{"$f":"-Input!AK27*(1/AK217)","v":0},{"$f":"-Input!AL27*(1/AL217)","v":0},{"$f":"-Input!AM27*(1/AM217)","v":0},{"$f":"-Input!AN27*(1/AN217)","v":0},{"$f":"-Input!AO27*(1/AO217)","v":0}]
[null,null,null,null,"Adjustment to losses from tax trigger",null,"£m nominal",null,null,null,null,null,null,null,null,null,null,null,null,null,null,null,null,null,null,null,null,null,null,null,null,null,null,{"$f":"-IF(Input!AH28>0,-MIN(Input!AH28*(Input!AH46/Input!$AD46)*((1-AH217)*1/AH217),MAX(-(AH199+SUM(AH206:AH208)),0)),-MIN(Input!AH28*(Input!AH46/Input!$AD46)*((1-AH217)*1/AH217),MAX(AH199+SUM(AH206:AH208),0)))","v":0},{"$f":"-IF(Input!AI28>0,-MIN(Input!AI28*(Input!AI46/Input!$AD46)*((1-AI217)*1/AI217),MAX(-(AI199+SUM(AI206:AI208)),0)),-MIN(Input!AI28*(Input!AI46/Input!$AD46)*((1-AI217)*1/AI217),MAX(AI199+SUM(AI206:AI208),0)))","v":0},{"$f":"-IF(Input!AJ28>0,-MIN(Input!AJ28*(Input!AJ46/Input!$AD46)*((1-AJ217)*1/AJ217),MAX(-(AJ199+SUM(AJ206:AJ208)),0)),-MIN(Input!AJ28*(Input!AJ46/Input!$AD46)*((1-AJ217)*1/AJ217),MAX(AJ199+SUM(AJ206:AJ208),0)))","v":0},{"$f":"-IF(Input!AK28>0,-MIN(Input!AK28*(Input!AK46/Input!$AD46)*((1-AK217)*1/AK217),MAX(-(AK199+SUM(AK206:AK208)),0)),-MIN(Input!AK28*(Input!AK46/Input!$AD46)*((1-AK217)*1/AK217),MAX(AK199+SUM(AK206:AK208),0)))","v":0},{"$f":"-IF(Input!AL28>0,-MIN(Input!AL28*(Input!AL46/Input!$AD46)*((1-AL217)*1/AL217),MAX(-(AL199+SUM(AL206:AL208)),0)),-MIN(Input!AL28*(Input!AL46/Input!$AD46)*((1-AL217)*1/AL217),MAX(AL199+SUM(AL206:AL208),0)))","v":0},{"$f":"-IF(Input!AM28>0,-MIN(Input!AM28*(Input!AM46/Input!$AD46)*((1-AM217)*1/AM217),MAX(-(AM199+SUM(AM206:AM208)),0)),-MIN(Input!AM28*(Input!AM46/Input!$AD46)*((1-AM217)*1/AM217),MAX(AM199+SUM(AM206:AM208),0)))","v":0},{"$f":"-IF(Input!AN28>0,-MIN(Input!AN28*(Input!AN46/Input!$AD46)*((1-AN217)*1/AN217),MAX(-(AN199+SUM(AN206:AN208)),0)),-MIN(Input!AN28*(Input!AN46/Input!$AD46)*((1-AN217)*1/AN217),MAX(AN199+SUM(AN206:AN208),0)))","v":0},{"$f":"-IF(Input!AO28>0,-MIN(Input!AO28*(Input!AO46/Input!$AD46)*((1-AO217)*1/AO217),MAX(-(AO199+SUM(AO206:AO208)),0)),-MIN(Input!AO28*(Input!AO46/Input!$AD46)*((1-AO217)*1/AO217),MAX(AO199+SUM(AO206:AO208),0)))","v":0}]
[null,null,null,null,"Profits attributable to corporation tax (before Tax Clawback)",null,"£m nominal",null,null,null,null,null,null,null,null,null,null,null,null,null,null,null,null,null,null,null,null,null,null,null,null,null,null,{"$f":"IF(AH199 >= 0, MIN(AH199, -AH206-AH208-AH209), 0)","v":0},{"$f":"IF(AI199 >= 0, MIN(AI199, -AI206-AI208-AI209), 0)","v":0},0,0,0,0,0,0]
[null,null,null,null,"Balance carried forward",null,"£m nominal",null,null,null,null,null,null,null,null,null,null,null,null,null,null,null,null,null,null,null,null,null,null,null,null,null,null,{"$f":"SUM(AH206:AH210)","v":0},{"$f":"SUM(AI206:AI210)","v":0},0,0,0,0,0,0]
[]
[null,null,null,"Tax allowance (before Tax Trigger adjustment)"]
[null,null,null,"Note: A \"grossing-up factor\" based on the infinite geometric progression of being taxed on tax is used to move the tax allowance from a post-tax to a pre-tax basis. This can only be applied once tax losses have been taken into account."]
[]
[null,null,null,null,"Profits attributable to corporation tax (after taxable losses)",null,"£m nominal",null,null,null,null,null,null,null,null,null,null,null,null,null,null,null,null,null,null,null,null,null,null,null,null,null,null,{"$f":"MAX(AH199 - AH210,0)","v":376.08895401951554},348.76841931395978,318.51787415262083,352.53759238264354,322.86826607089864,347.06440942291078,349.55669508154239,361.98742351550965]
[null,null,null,null,"Corporation tax rate",null,"%",null,null,null,null,null,null,null,null,null,null,null,null,null,null,null,null,null,null,null,null,null,null,null,null,null,null,{"$f":"TaxTrigger!AH122","v":0.23},{"$f":"TaxTrigger!AI122","v":0.21},{"$f":"TaxTrigger!AJ122","v":0.21},{"$f":"TaxTrigger!AK122","v":0.21},{"$f":"TaxTrigger!AL122","v":0.21},{"$f":"TaxTrigger!AM122","v":0.21},{"$f":"TaxTrigger!AN122","v":0.21},{"$f":"TaxTrigger!AO122","v":0.21}]
[null,null,null,null,"Corporation tax charge after losses",null,"£m nominal",null,null,null,null,null,null,null,null,null,null,null,null,null,null,null,null,null,null,null,null,null,null,null,null,null,null,{"$f":"AH217*AH216","v":86.500459424488582},73.241368055931545,66.888753572050376,74.032894400355147,67.802335874888712,72.883525978811264,73.406905967123905,76.017358938257019]
[]
[null,null,null,null,"\"Grossing-up\" factor for tax on tax charge after losses",null,"scalar",null,null,null,null,null,null,null,null,null,null,null,null,null,null,null,null,null,null,null,null,null,null,null,null,null,null,{"$f":"1 / (1 - AH217)","v":1.2987012987012987},1.2658227848101264,1.2658227848101264,1.2658227848101264,1.2658227848101264,1.2658227848101264,1.2658227848101264,1.2658227848101264]
[]
[null,null,null,null,"Tax allowance (before Tax Trigger adjustment)",null,"£m nominal",null,null,null,null,null,null,null,null,null,null,null,null,null,null,null,null,null,null,null,null,null,null,null,null,null,null,{"$f":"AH218 * AH220","v":112.33825899284231},92.710592475862711,84.669308319051098,93.71252455741157,85.825741613783165,92.257627821280067,92.920134135599866,96.224504985135454]
[]
[null,null,null,"Tax allowance"]
[]
[null,null,null,null,"Tax allowance (before Tax Trigger adjustment)",null,"£m nominal",null,null,null,null,null,null,null,null,null,null,null,null,null,null,null,null,null,null,null,null,null,null,null,null,null,null,{"$f":"AH222","v":112.33825899284231},{"$f":"AI222","v":92.710592475862711},84.669308319051098,93.71252455741157,85.825741613783165,92.257627821280067,92.920134135599866,96.224504985135454]
[null,null,null,null,"Additional allowance where tax trigger positive (over and above that used to offset clawback)",null,"£m nominal",null,null,null,null,null,null,null,null,null,null,null,null,null,null,null,null,null,null,null,null,null,null,null,null,null,null,{"$f":"((Input!AH28*(1-AH217)*(Input!AH46/Input!$AD46))-AH209/(1/AH217))*AH220","v":0},{"$f":"((Input!AI28*(1-AI217)*(Input!AI46/Input!$AD46))-AI209/(1/AI217))*AI220","v":0},{"$f":"((Input!AJ28*(1-AJ217)*(Input!AJ46/Input!$AD46))-AJ209/(1/AJ217))*AJ220","v":0},{"$f":"((Input!AK28*(1-AK217)*(Input!AK46/Input!$AD46))-AK209/(1/AK217))*AK220","v":0},{"$f":"((Input!AL28*(1-AL217)*(Input!AL46/Input!$AD46))-AL209/(1/AL217))*AL220","v":0},{"$f":"((Input!AM28*(1-AM217)*(Input!AM46/Input!$AD46))-AM209/(1/AM217))*AM220","v":0},{"$f":"((Input!AN28*(1-AN217)*(Input!AN46/Input!$AD46))-AN209/(1/AN217))*AN220","v":0},{"$f":"((Input!AO28*(1-AO217)*(Input!AO46/Input!$AD46))-AO209/(1/AO217))*AO220","v":0}]
[null,null,null,null,"Tax allowance",null,"£m nominal",null,null,null,null,null,null,null,null,null,null,null,null,null,null,null,null,null,null,null,null,null,null,null,null,null,null,{"$f":"SUM(AH226:AH227)","v":112.33825899284231},92.710592475862711,84.669308319051098,93.71252455741157,85.825741613783165,92.257627821280067,92.920134135599866,96.224504985135454]
[]
[null,"Tax paid"]
[]
[null,null,"Tax base"]
[]
[]
[null,null,null,null,"Add recalculated base revenue (except tax allowance), incl add. income",null,"£m nominal",null,null,null,null,null,null,null,null,null,null,null,null,null,null,null,null,null,null,null,null,null,null,null,null,null,null,{"$f":"AH192","v":1435.3981764957296},{"$f":"AI192","v":1566.0617912455737},1666.85770880942,1803.7815911440796,1853.5186137667451,1948.397862199781,2002.3721677317394,2043.459273175557]
[null,null,null,null,"Add net DART impact on tax calculation",null,"£m nominal",null,null,null,null,null,null,null,null,null,null,null,null,null,null,null,null,null,null,null,null,null,null,null,null,null,null,{"$f":"AH193","v":76.775155631824958},{"$f":"AI193","v":79.264134445230695},85.332413433127925,83.813430474570268,87.40407477960099,90.548232707006505,93.689487857942353,97.294755556854838]
[null,null,null,null,"Add tax allowance",null,"£m nominal",null,null,null,null,null,null,null,null,null,null,null,null,null,null,null,null,null,null,null,null,null,null,null,null,null,null,{"$f":"AH228","v":112.33825899284231},{"$f":"AI228","v":92.710592475862711},84.669308319051098,93.71252455741157,85.825741613783165,92.257627821280067,92.920134135599866,96.224504985135454]
[null,null,null,null,"Revenue adjustment from previous price controls",null,"£m nominal",null,null,null,null,null,null,null,null,null,null,null,null,null,null,null,null,null,null,null,null,null,null,null,null,null,null,{"$f":"(DARTs!AH28) * Input!AH$46/Input!$AD46","v":22.270824977669527},{"$f":"(DARTs!AI28) * Input!AI$46/Input!$AD46","v":23.909091952111918},{"$f":"(DARTs!AJ28) * Input!AJ$46/Input!$AD46","v":25.642835901378302},{"$f":"(DARTs!AK28) * Input!AK$46/Input!$AD46","v":27.502283295195806},{"$f":"(DARTs!AL28) * Input!AL$46/Input!$AD46","v":29.496584089121949},{"$f":"(DARTs!AM28) * Input!AM$46/Input!$AD46","v":31.63542802374932},{"$f":"(DARTs!AN28) * Input!AN$46/Input!$AD46","v":33.92940900759065},{"$f":"(DARTs!AO28) * Input!AO$46/Input!$AD46","v":36.389761152775428}]
[null,null,null,null,"Less net interest paid (interest coupon)",null,"£m nominal",null,null,null,null,null,null,null,null,null,null,null,null,null,null,null,null,null,null,null,null,null,null,null,null,null,null,{"$f":"AH194","v":-306.17955823521521},{"$f":"AI194","v":-327.34501287954697},-360.60385583939143,-380.28696929617325,-411.02787586006446,-436.71910962796187,-458.34646487473003,-472.32549643925995]
[null,null,null,null,"Less net interest paid (inflation coupon)",null,"£m nominal",null,null,null,null,null,null,null,null,null,null,null,null,null,null,null,null,null,null,null,null,null,null,null,null,null,null,{"$f":"AH195","v":-43.411994360134109},-48.261044575249493,-55.036552265593656,-58.03992877214867,-62.732439593236855,-66.650518314476201,-69.953100002402607,-72.087677278777221]
[null,null,null,null,"Less revenue tax pool additions",null,"£m nominal",null,null,null,null,null,null,null,null,null,null,null,null,null,null,null,null,null,null,null,null,null,null,null,null,null,null,{"$f":"AH196","v":-303.00955187894351},-341.23852889432698,-358.66309264431948,-370.15855232484734,-381.87938094701764,-392.70655382311492,-405.92839588684734,-417.68503158646018]
[null,null,null,null,"Less capital allowances",null,"£m nominal",null,null,null,null,null,null,null,null,null,null,null,null,null,null,null,null,null,null,null,null,null,null,null,null,null,null,{"$f":"AH197","v":-465.8508296822331},-560.26405532982903,-640.18657399636857,-707.74051903706049,-745.49436635834525,-779.04844558750256,-796.79443357141031,-802.80901007098169]
[null,null,null,null,"Profits attributable to corporation tax",null,"£m nominal",null,null,null,null,null,null,null,null,null,null,null,null,null,null,null,null,null,null,null,null,null,null,null,null,null,null,{"$f":"SUM(AH235:AH242)","v":528.33048194154048},484.83696843982671,448.01219171730429,492.58386004102749,455.11095149058713,487.71452339876123,491.88880439748186,508.46107949484372]
[]
[null,null,"Regulatory Tax losses"]
[]
[null,null,null,null,"Taxable losses brought forward",null,"£m nominal",null,null,null,null,null,null,null,null,null,null,null,null,null,null,null,null,null,null,null,null,null,null,null,null,null,null,{"$f":"AH206","v":0},{"$f":"SUM(AH250)","v":0},{"$f":"SUM(AI250)","v":0},0,0,0,0,0]
[null,null,null,null,"In-year taxable loss",null,"£m nominal",null,null,null,null,null,null,null,null,null,null,null,null,null,null,null,null,null,null,null,null,null,null,null,null,null,null,{"$f":"MIN(AH243, 0)","v":0},{"$f":"MIN(AI243, 0)","v":0},{"$f":"MIN(AJ243, 0)","v":0},0,0,0,0,0]
[null,null,null,null,"Profits reduced by tax losses ",null,"£m nominal",null,null,null,null,null,null,null,null,null,null,null,null,null,null,null,null,null,null,null,null,null,null,null,null,null,null,{"$f":"IF(AH243 >= 0, MIN(AH243, -AH247), 0)","v":0},0,0,0,0,0,0,0]
[null,null,null,null,"Balance carried forward",null,"£m nominal",null,null,null,null,null,null,null,null,null,null,null,null,null,null,null,null,null,null,null,null,null,null,null,null,null,null,{"$f":"SUM(AH247:AH249)","v":0},0,0,0,0,0,0,0]
[]
[null,null,null,"Tax paid"]
[]
[]
[null,null,null,null,"Profits attributable to corporation tax (after taxable losses)",null,"£m nominal",null,null,null,null,null,null,null,null,null,null,null,null,null,null,null,null,null,null,null,null,null,null,null,null,null,null,{"$f":"MAX(AH243 - AH249,0)","v":528.33048194154048},484.83696843982671,448.01219171730429,492.58386004102749,455.11095149058713,487.71452339876123,491.88880439748186,508.46107949484372]
[null,null,null,null,"Corporation tax rate",null,"%",null,null,null,null,null,null,null,null,null,null,null,null,null,null,null,null,null,null,null,null,null,null,null,null,null,null,{"$f":"TaxTrigger!AH122","v":0.23},{"$f":"TaxTrigger!AI122","v":0.21},{"$f":"TaxTrigger!AJ122","v":0.21},{"$f":"TaxTrigger!AK122","v":0.21},{"$f":"TaxTrigger!AL122","v":0.21},{"$f":"TaxTrigger!AM122","v":0.21},{"$f":"TaxTrigger!AN122","v":0.21},{"$f":"TaxTrigger!AO122","v":0.21}]
[null,null,null,null,"Corporation tax charge after losses",null,"£m nominal",null,null,null,null,null,null,null,null,null,null,null,null,null,null,null,null,null,null,null,null,null,null,null,null,null,null,{"$f":"AH256*AH255","v":121.51601084655432},101.81576337236361,94.082560260633898,103.44261060861577,95.573299813023297,102.42004991373986,103.29664892347118,106.77682669391717]
[]
[null,null,{"$f":"\"Additional Information for purposes of \"&Input!E27","v":"Additional Information for purposes of Tax liability - gearing/interest costs"}]
[]
[null,null,null,null,"Interest (TO, Non-core)",null,"£m nominal",null,null,null,null,null,null,null,null,null,null,null,null,null,null,null,null,null,null,null,null,null,null,null,null,null,null,{"$f":"-('Finance&Tax'!AH194 + NonCore!AH19 +'Finance&Tax'!AH195 + NonCore!AH20 )","v":353.1912734278057},{"$f":"-('Finance&Tax'!AI194 + NonCore!AI19 +'Finance&Tax'!AI195 + NonCore!AI20 )","v":378.91578629710392},{"$f":"-('Finance&Tax'!AJ194 + NonCore!AJ19 +'Finance&Tax'!AJ195 + NonCore!AJ20 )","v":418.83276396847015},{"$f":"-('Finance&Tax'!AK194 + NonCore!AK19 +'Finance&Tax'!AK195 + NonCore!AK20 )","v":438.32689806832195},{"$f":"-('Finance&Tax'!AL194 + NonCore!AL19 +'Finance&Tax'!AL195 + NonCore!AL20 )","v":473.7603154533013},{"$f":"-('Finance&Tax'!AM194 + NonCore!AM19 +'Finance&Tax'!AM195 + NonCore!AM20 )","v":503.36962794243806},{"$f":"-('Finance&Tax'!AN194 + NonCore!AN19 +'Finance&Tax'!AN195 + NonCore!AN20 )","v":528.29956487713264},{"$f":"-('Finance&Tax'!AO194 + NonCore!AO19 +'Finance&Tax'!AO195 + NonCore!AO20 )","v":544.41317371803711}]
[null,null,null,null,"RAV (TO, Non-core)",null,"£m 09/10 prices",null,null,null,null,null,null,null,null,null,null,null,null,null,null,null,null,null,null,null,null,null,null,null,null,null,null,{"$f":"'Return&RAV'!AH44+NonCore!AH15","v":9249.0628771499869},{"$f":"'Return&RAV'!AI44+NonCore!AI15","v":10063.147088763437},{"$f":"'Return&RAV'!AJ44+NonCore!AJ15","v":10755.324414010309},{"$f":"'Return&RAV'!AK44+NonCore!AK15","v":11311.023474160047},{"$f":"'Return&RAV'!AL44+NonCore!AL15","v":11701.373136676613},{"$f":"'Return&RAV'!AM44+NonCore!AM15","v":12056.906009636523},{"$f":"'Return&RAV'!AN44+NonCore!AN15","v":12289.321780471557},{"$f":"'Return&RAV'!AO44+NonCore!AO15","v":12391.016728188681}]
[]
[null,null,null,null,"Interest (SO)",null,"£m nominal",null,null,null,null,null,null,null,null,null,null,null,null,null,null,null,null,null,null,null,null,null,null,null,null,null,null,{"$f":"-(SystemOperator!AH323+ SystemOperator!AH324)","v":2.9830512612141811},{"$f":"-(SystemOperator!AI323+ SystemOperator!AI324)","v":3.8757318792005964},{"$f":"-(SystemOperator!AJ323+ SystemOperator!AJ324)","v":4.419026828157449},{"$f":"-(SystemOperator!AK323+ SystemOperator!AK324)","v":4.6510398598954685},{"$f":"-(SystemOperator!AL323+ SystemOperator!AL324)","v":4.9750947989866283},{"$f":"-(SystemOperator!AM323+ SystemOperator!AM324)","v":5.2302248650377523},{"$f":"-(SystemOperator!AN323+ SystemOperator!AN324)","v":5.2649351734734653},{"$f":"-(SystemOperator!AO323+ SystemOperator!AO324)","v":5.2928521124041907}]
[null,null,null,null,"RAV (SO)",null,"£m 09/10 prices",null,null,null,null,null,null,null,null,null,null,null,null,null,null,null,null,null,null,null,null,null,null,null,null,null,null,{"$f":"SystemOperator!AH286","v":94.460797649830411},{"$f":"SystemOperator!AI286","v":106.04875203999654},{"$f":"SystemOperator!AJ286","v":114.12359765307323},{"$f":"SystemOperator!AK286","v":118.78034571904999},{"$f":"SystemOperator!AL286","v":121.58225156470772},{"$f":"SystemOperator!AM286","v":120.15688210563314},{"$f":"SystemOperator!AN286","v":119.47830413720324},{"$f":"SystemOperator!AO286","v":119.18738012277895}]
[]
[null,"End of sheet"]

{"sheet":"NonCore","index":13,"n_rows":727,"n_cols":41,"rows_kept":727,"cut":false,"hidden":false,"merged":[]}
["Non-Core Calculations"]
[null,{"$f":"UserInterface!G25","v":"NGET TO"}]
[null,null,null,null,"Parameter",null,"Units",null,"Constant",null,null,null,null,null,null,null,null,null,null,null,null,null,null,null,null,null,null,null,null,null,null,null,null,"Annual values"]
[null,null,null,null,"PCFM year ending",null,null,null,{"$f":"UserInterface!$G$18","v":"2016-03-31"},null,"1991-03-31","1992-03-31","1993-03-31","1994-03-31","1995-03-31","1996-03-31","1997-03-31","1998-03-31","1999-03-31","2000-03-31","2001-03-31","2002-03-31","2003-03-31","2004-03-31","2005-03-31","2006-03-31","2007-03-31","2008-03-31","2009-03-31","2010-03-31","2011-03-31","2012-03-31","2013-03-31","2014-03-31","2015-03-31","2016-03-31","2017-03-31","2018-03-31","2019-03-31","2020-03-31","2021-03-31"]
[]
[null,"Non-Core"]
[]
[null,null,"Exported values"]
[]
[null,null,null,null,"Capex",null,"£m 09/10 prices",null,null,null,null,null,null,null,null,null,null,null,null,null,null,null,null,null,null,null,null,null,null,null,null,null,null,{"$f":"AH60 + AH144 + AH228 + AH312 + AH396 + AH480 + AH564 + AH648","v":0},0,0,0,0,0,0,0]
[null,null,null,null,"Cost transferred to RAV",null,"£m 09/10 prices",null,null,null,null,null,null,null,null,null,null,null,null,null,null,null,null,null,null,null,null,null,null,null,null,null,null,null,null,{"$f":"-(AJ68+AJ152+AJ236+AJ320+AJ404+AJ488+AJ572+AJ656)","v":0},{"$f":"-(AK68+AK152+AK236+AK320+AK404+AK488+AK572+AK656)","v":122.16025140067914},0,0,0,0]
[null,null,null,null,"Regulatory depreciation",null,"£m 09/10 prices",null,null,null,null,null,null,null,null,null,null,null,null,null,null,null,null,null,null,null,null,null,null,null,null,null,null,{"$f":"AH79+AH163+AH247+AH331+AH415+AH499+AH583+AH667","v":5.1119303278452115},6.1309481710615064,6.1309481710615064,0,0,0,0,0]
[null,null,null,null,"Accumulated depreciation transferred to RAV",null,"£m 09/10 prices",null,null,null,null,null,null,null,null,null,null,null,null,null,null,null,null,null,null,null,null,null,null,null,null,null,null,null,null,{"$f":"-(AJ77+AJ161+AJ245+AJ329+AJ413+AJ497+AJ581+AJ665)","v":0},39.771622926686192,0,0,0,0]
[null,null,null,null,"Opening RAV after transfers",null,"£m 09/10 prices",null,null,null,null,null,null,null,null,null,null,null,null,null,null,null,null,null,null,null,null,null,null,null,null,null,null,{"$f":"(AH69-AH78) + (AH153-AH162) + (AH237-AH246) + (AH321-AH330) + (AH405-AH414) + (AH489-AH498) + (AH573-AH582) + (AH657-AH666)","v":99.762455143961176},94.650524816115961,88.519576645054457,0,0,0,0,0]
[null,null,null,null,"Net value after regulatory depreciation",null,"£m 09/10 prices",null,null,null,null,null,null,null,null,null,null,null,null,null,null,null,null,null,null,null,null,null,null,null,null,null,null,{"$f":"AH85+AH169+AH253+AH337+AH421+AH505+AH589+AH673","v":94.650524816115961},88.519576645054457,82.388628473992952,0,0,0,0,0]
[null,null,null,null,"General pool capital allowance transfer",null,"£m nominal",null,null,null,null,null,null,null,null,null,null,null,null,null,null,null,null,null,null,null,null,null,null,null,null,null,null,{"$f":"AH94+AH178+AH262+AH346+AH430+AH514+AH598+AH682","v":0},0,0,-1.6620873154897109,0,0,0,0]
[null,null,null,null,"Special Rate capital allowance transfer ",null,"£m nominal",null,null,null,null,null,null,null,null,null,null,null,null,null,null,null,null,null,null,null,null,null,null,null,null,null,null,{"$f":"AH105 + AH189 + AH273 + AH357 + AH441 + AH525  + AH609  + AH693","v":0},0,0,-54.669894219783316,0,0,0,0]
[null,null,null,null,"Dividends",null,"£m nominal",null,null,null,null,null,null,null,null,null,null,null,null,null,null,null,null,null,null,null,null,null,null,null,null,null,null,{"$f":"AH131+AH215+AH299+AH383+AH467+AH551+AH635+AH719","v":-2.1380846506099198},-2.1156196427342793,-1.9133338200256194,0,0,0,0,0]
[null,null,null,null,"Interest paid (interest coupon)",null,"£m nominal",null,null,null,null,null,null,null,null,null,null,null,null,null,null,null,null,null,null,null,null,null,null,null,null,null,null,{"$f":"AH133+AH217+AH301+AH385+AH469+AH553+AH637+AH721","v":-3.1527104304129017},-2.8844668742950694,-2.769643689921105,0,0,0,0,0]
[null,null,null,null,"Interest paid (inflation coupon)",null,"£m nominal",null,null,null,null,null,null,null,null,null,null,null,null,null,null,null,null,null,null,null,null,null,null,null,null,null,null,-0.4470104020434873,-0.42526196801235222,-0.42271217356396146,0,0,0,0,0]
[null,null,null,null,"Tax",null,"£m nominal",null,null,null,null,null,null,null,null,null,null,null,null,null,null,null,null,null,null,null,null,null,null,null,null,null,null,{"$f":"AH120+AH204+AH288+AH372+AH456+AH540+AH624+AH708","v":1.4319918869610746},1.4576919315025429,1.5563416764470788,0,0,0,0,0]
[null,null,null,null,"Closing total net debt",null,"£m nominal",null,null,null,null,null,null,null,null,null,null,null,null,null,null,null,null,null,null,null,null,null,null,null,null,null,null,{"$f":"AH136+AH220+AH304+AH388+AH472+AH556+AH640+AH724","v":-60.152066681442626},{"$f":"AI136+AI220+AI304+AI388+AI472+AI556+AI640+AI724","v":-57.036241876969342},-56.726869045357752,0,0,0,0,0]
[null,null,null,null,"Net debt transfer from core net debt",null,"£m nominal",null,null,null,null,null,null,null,null,null,null,null,null,null,null,null,null,null,null,null,null,null,null,null,null,null,null,null,{"$f":"AI127+AI211+AI295+AI379+AI463+AI547+AI631+AI715","v":-5.8644776755460484},-8.7508547924459492,56.726869045357752,0,0,0,0]
[]
[null,null,"Non-core RAV summary"]
[]
[null,null,null,null,"Opening RAV (before transfers)",null,"£m 09/10 prices",null,null,null,null,null,null,null,null,null,null,null,null,null,null,null,null,null,null,null,null,null,null,null,null,null,null,{"$f":"AH67-AH76+AH151-AH160+AH235-AH244+AH319-AH328+AH403-AH412+AH487-AH496+AH571-AH580+AH655-AH664","v":99.762455143961176},{"$f":"AH32","v":94.650524816115961},{"$f":"AI32","v":88.519576645054457},82.388628473992952,0,0,0,0]
[null,null,null,null,"Transfers",null,"£m 09/10 prices",null,null,null,null,null,null,null,null,null,null,null,null,null,null,null,null,null,null,null,null,null,null,null,null,null,null,{"$f":"AH68-AH77+AH152-AH161+AH236-AH245+AH320-AH329+AH404-AH413+AH488-AH497+AH572-AH581+AH656-AH665","v":0},{"$f":"AI68-AI77+AI152-AI161+AI236-AI245+AI320-AI329+AI404-AI413+AI488-AI497+AI572-AI581+AI656-AI665","v":0},0,-82.388628473992952,0,0,0,0]
[null,null,null,null,"Opening RAV (after transfers)",null,"£m 09/10 prices",null,null,null,null,null,null,null,null,null,null,null,null,null,null,null,null,null,null,null,null,null,null,null,null,null,null,{"$f":"SUM(AH27:AH28)","v":99.762455143961176},{"$f":"SUM(AI27:AI28)","v":94.650524816115961},88.519576645054457,0,0,0,0,0]
[null,null,null,null,"Net additions (after disposals)",null,"£m 09/10 prices",null,null,null,null,null,null,null,null,null,null,null,null,null,null,null,null,null,null,null,null,null,null,null,null,null,null,{"$f":"AH70+AH154+AH238+AH322+AH406+AH490+AH574+AH658","v":0},{"$f":"AI70+AI154+AI238+AI322+AI406+AI490+AI574+AI658","v":0},0,0,0,0,0,0]
[null,null,null,null,"Depreciation",null,"£m 09/10 prices",null,null,null,null,null,null,null,null,null,null,null,null,null,null,null,null,null,null,null,null,null,null,null,null,null,null,{"$f":"-(AH79+AH163+AH247+AH331+AH415+AH499+AH583+AH667)+(AH80+AH164+AH248+AH332+AH416+AH500+AH584+AH668)","v":-5.1119303278452115},-6.1309481710615064,{"$f":"-(AJ79+AJ163+AJ247+AJ331+AJ415+AJ499+AJ583+AJ667)+(AJ80+AJ164+AJ248+AJ332+AJ416+AJ500+AJ584+AJ668)","v":-6.1309481710615064},{"$f":"-(AK79+AK163+AK247+AK331+AK415+AK499+AK583+AK667)+(AK80+AK164+AK248+AK332+AK416+AK500+AK584+AK668)","v":0},0,0,0,0]
[null,null,null,null,"Closing RAV",null,"£m 09/10 prices",null,null,null,null,null,null,null,null,null,null,null,null,null,null,null,null,null,null,null,null,null,null,null,null,null,null,{"$f":"SUM(AH29:AH31)","v":94.650524816115961},{"$f":"SUM(AI29:AI31)","v":88.519576645054457},82.388628473992952,0,0,0,0,0]
[]
[]
[null,"TIRG"]
[null,"Note: TIRG projects are held outside the RAV. They are transferred into the core based on their commission date with their own RAV, net debt and tax book value."]
[null,"Holding TIRG outside the core allows the core tax calculation to avoid double counting the tax already allowed in the TIRG pre-tax revenues."]
[null,"Grouping projects by year of commission (2010 to 2017) allows values transferred to the core to be identified and moved across at the appropriate time."]
[]
[null,null,"Common imports"]
[]
[null,null,null,null,"TIRG asset life",null,"years",null,{"$f":"Input!I$261","v":20}]
[null,null,null,null,"Years from TIRG commission to RAV transfer",null,"years",null,{"$f":"Input!I$262","v":5}]
[null,null,null,null,"General pool capital allowance rate",null,"%",null,null,">",null,null,null,null,null,null,null,null,null,null,null,{"$f":"Input!V303","v":0.25},{"$f":"Input!W303","v":0.25},{"$f":"Input!X303","v":0.25},{"$f":"Input!Y303","v":0.25},{"$f":"Input!Z303","v":0.25},{"$f":"Input!AA303","v":0.25},{"$f":"Input!AB303","v":0.25},{"$f":"Input!AC303","v":0.2},{"$f":"Input!AD303","v":0.2},{"$f":"Input!AE303","v":0.2},{"$f":"Input!AF303","v":0.2},{"$f":"Input!AG303","v":0.18000000000000002},{"$f":"Input!AH303","v":0.18000000000000002},{"$f":"Input!AI303","v":0.18000000000000002},{"$f":"Input!AJ303","v":0.18000000000000002},{"$f":"Input!AK303","v":0.18000000000000002},{"$f":"Input!AL303","v":0.18000000000000002},{"$f":"Input!AM303","v":0.18000000000000002},{"$f":"Input!AN303","v":0.18000000000000002},{"$f":"Input!AO303","v":0.18000000000000002}]
[null,null,null,null,"Special Rates capital allowance rate",null,"%",null,null,">",null,null,null,null,null,null,null,null,null,null,null,{"$f":"Input!V304","v":0.06},{"$f":"Input!W304","v":0.06},{"$f":"Input!X304","v":0.06},{"$f":"Input!Y304","v":0.06},{"$f":"Input!Z304","v":0.06},{"$f":"Input!AA304","v":0.06},{"$f":"Input!AB304","v":0.06},{"$f":"Input!AC304","v":0.1},{"$f":"Input!AD304","v":0.1},{"$f":"Input!AE304","v":0.1},{"$f":"Input!AF304","v":0.1},{"$f":"Input!AG304","v":0.08},{"$f":"Input!AH304","v":0.08},{"$f":"Input!AI304","v":0.08},{"$f":"Input!AJ304","v":0.08},{"$f":"Input!AK304","v":0.08},{"$f":"Input!AL304","v":0.08},{"$f":"Input!AM304","v":0.08},{"$f":"Input!AN304","v":0.08},{"$f":"Input!AO304","v":0.08}]
[null,null,null,null,"Load related General pool allocation",null,"%",null,null,">",null,null,null,null,null,null,null,null,null,null,null,null,null,null,{"$f":"Input!Y264","v":0},{"$f":"Input!Z264","v":0},{"$f":"Input!AA264","v":0},{"$f":"Input!AB264","v":0},{"$f":"Input!AC264","v":0},{"$f":"Input!AD264","v":2.3474178403755867E-2},{"$f":"Input!AE264","v":0.14960575204025078},{"$f":"Input!AF264","v":2.3630029135963296E-2},{"$f":"Input!AG264","v":2.3630029135963296E-2},{"$f":"Input!AH321","v":0.10299999999999999},{"$f":"Input!AI321","v":0.10299999999999999},{"$f":"Input!AJ321","v":0.10299999999999999},{"$f":"Input!AK321","v":0.10299999999999999},{"$f":"Input!AL321","v":0.10299999999999999},{"$f":"Input!AM321","v":0.10299999999999999},{"$f":"Input!AN321","v":0.10299999999999999},{"$f":"Input!AO321","v":0.10299999999999999}]
[null,null,null,null,"Load related Special Rate allocation",null,"%",null,null,">",null,null,null,null,null,null,null,null,null,null,null,null,null,null,{"$f":"Input!Y265","v":0},{"$f":"Input!Z265","v":0},{"$f":"Input!AA265","v":0},{"$f":"Input!AB265","v":0},{"$f":"Input!AC265","v":1},{"$f":"Input!AD265","v":0.97652582159624413},{"$f":"Input!AE265","v":0.85039424795974927},{"$f":"Input!AF265","v":0.97636997086403665},{"$f":"Input!AG265","v":0.97636997086403665},{"$f":"Input!AH329","v":0.82},{"$f":"Input!AI329","v":0.82},{"$f":"Input!AJ329","v":0.82},{"$f":"Input!AK329","v":0.82},{"$f":"Input!AL329","v":0.82},{"$f":"Input!AM329","v":0.82},{"$f":"Input!AN329","v":0.82},{"$f":"Input!AO329","v":0.82}]
[null,null,null,null,"Corporation tax rate",null,"%",null,null,null,null,null,null,null,null,null,null,null,null,null,null,null,null,null,null,null,null,null,null,null,null,null,null,{"$f":"TaxTrigger!AH$122","v":0.23},{"$f":"TaxTrigger!AI$122","v":0.21},{"$f":"TaxTrigger!AJ$122","v":0.21},{"$f":"TaxTrigger!AK$122","v":0.21},{"$f":"TaxTrigger!AL$122","v":0.21},{"$f":"TaxTrigger!AM$122","v":0.21},{"$f":"TaxTrigger!AN$122","v":0.21},{"$f":"TaxTrigger!AO$122","v":0.21}]
[null,null,null,null,"Overall gearing at start of year (after equity issuance)",null,"%",null,null,null,null,null,null,null,null,null,null,null,null,null,null,null,null,null,null,null,null,null,null,null,null,null,null,{"$f":"'Finance&Tax'!AH$111","v":0.61135353243992929},{"$f":"'Finance&Tax'!AI$111","v":0.60000189322596054},{"$f":"'Finance&Tax'!AJ$111","v":0.62191505472876596},{"$f":"'Finance&Tax'!AK$111","v":0.59999999999999987},{"$f":"'Finance&Tax'!AL$111","v":0.60850938335275739},{"$f":"'Finance&Tax'!AM$111","v":0.61023122236756555},{"$f":"'Finance&Tax'!AN$111","v":0.61018397673715152},{"$f":"'Finance&Tax'!AO$111","v":0.60573059090483217}]
[null,null,null,null,"Forecast cost of debt",null,"nominal annual %",null,null,null,null,null,null,null,null,null,null,null,null,null,null,null,null,null,null,null,null,null,null,null,null,null,null,{"$f":"'Finance&Tax'!AH$123","v":5.8019017328720945E-2},{"$f":"'Finance&Tax'!AI$123","v":5.596176381468787E-2},{"$f":"'Finance&Tax'!AJ$123","v":5.4215574981674841E-2},{"$f":"'Finance&Tax'!AK$123","v":5.421491305840509E-2},{"$f":"'Finance&Tax'!AL$123","v":5.4215580674165542E-2},{"$f":"'Finance&Tax'!AM$123","v":5.4213194580797319E-2},{"$f":"'Finance&Tax'!AN$123","v":5.4214626785850761E-2},{"$f":"'Finance&Tax'!AO$123","v":5.4215427283875295E-2}]
[null,null,null,null,"Share of interest as inflation coupon",null,"%",null,null,null,null,null,null,null,null,null,null,null,null,null,null,null,null,null,null,null,null,null,null,null,null,null,null,{"$f":"'Finance&Tax'!AH$151","v":0.12417918578937548},{"$f":"'Finance&Tax'!AI$151","v":0.12848846182694384},{"$f":"'Finance&Tax'!AJ$151","v":0.13241386350408013},{"$f":"'Finance&Tax'!AK$151","v":0.1324124278658847},{"$f":"'Finance&Tax'!AL$151","v":0.13241387585030939},{"$f":"'Finance&Tax'!AM$151","v":0.13240870051479925},{"$f":"'Finance&Tax'!AN$151","v":0.1324118069615895},{"$f":"'Finance&Tax'!AO$151","v":0.13241354316696408}]
[null,null,null,null,"Assumed dividends as % of notional equity portion of RAV",null,"%",null,{"$f":"Input!I72","v":0.05}]
[]
[null,"TIRG commissioned 2010"]
[]
[null,null,"Commission year specific inputs"]
[]
[null,null,null,null,"Commission year",null,"year ending",null,"2010-03-31"]
[null,null,null,null,"TIRG revenue",null,"£m 09/10 prices",null,null,">",null,null,null,null,null,null,null,null,null,null,null,null,null,null,{"$f":"Input!Y$285","v":0},{"$f":"Input!Z$285","v":0},{"$f":"Input!AA$285","v":0},{"$f":"Input!AB$285","v":0},{"$f":"Input!AC$285","v":0},{"$f":"Input!AD$285","v":0},{"$f":"Input!AE$285","v":0},{"$f":"Input!AF$285","v":0},{"$f":"Input!AG$285","v":0},{"$f":"Input!AH$285","v":0},{"$f":"Input!AI$285","v":0},{"$f":"Input!AJ$285","v":0},{"$f":"Input!AK$285","v":0},{"$f":"Input!AL$285","v":0},{"$f":"Input!AM$285","v":0},{"$f":"Input!AN$285","v":0},{"$f":"Input!AO$285","v":0}]
[null,null,null,null,"Capex",null,"£m 09/10 prices",null,null,">",null,null,null,null,null,null,null,null,null,null,null,null,null,null,{"$f":"Input!Y267","v":0},{"$f":"Input!Z267","v":0},{"$f":"Input!AA267","v":0},{"$f":"Input!AB267","v":0},{"$f":"Input!AC267","v":0},{"$f":"Input!AD267","v":0},{"$f":"Input!AE267","v":0},{"$f":"Input!AF267","v":0},{"$f":"Input!AG267","v":0},{"$f":"Input!AH267","v":0},{"$f":"Input!AI267","v":0},{"$f":"Input!AJ267","v":0},{"$f":"Input!AK267","v":0},{"$f":"Input!AL267","v":0},{"$f":"Input!AM267","v":0},{"$f":"Input!AN267","v":0},{"$f":"Input!AO267","v":0}]
[null,null,null,null,"Deemed depreciation before transfer to RAV",null,"£m 09/10 prices",null,null,">",null,null,null,null,null,null,null,null,null,null,null,null,null,null,{"$f":"Input!Y276","v":0},{"$f":"Input!Z276","v":0},{"$f":"Input!AA276","v":0},{"$f":"Input!AB276","v":0},{"$f":"Input!AC276","v":0},{"$f":"Input!AD276","v":0},{"$f":"Input!AE276","v":0},{"$f":"Input!AF276","v":0},{"$f":"Input!AG276","v":0},{"$f":"Input!AH276","v":0},{"$f":"Input!AI276","v":0},{"$f":"Input!AJ276","v":0},{"$f":"Input!AK276","v":0},{"$f":"Input!AL276","v":0},{"$f":"Input!AM276","v":0},{"$f":"Input!AN276","v":0},{"$f":"Input!AO276","v":0}]
[]
[null,null,"RAV"]
[]
[null,null,null,"Cost"]
[]
[null,null,null,null,"Opening balance brought forward",null,"£m 09/10 prices",null,null,">",null,null,null,null,null,null,null,null,null,null,null,null,null,null,0,{"$f":"Y72","v":0},0,0,0,0,0,0,0,0,0,0,0,0,0,0,0]
[null,null,null,null,"Transfer",null,"£m 09/10 prices",null,null,">",null,null,null,null,null,null,null,null,null,null,null,null,null,null,{"$f":"IF(YEAR(Y$4) = YEAR($I58) + $I$43 + 1, - Y67, 0)","v":0},0,0,0,0,0,0,0,0,0,0,0,0,0,0,0,0]
[null,null,null,null,"Opening balance after transfers",null,"£m 09/10 prices",null,null,">",null,null,null,null,null,null,null,null,null,null,null,null,null,null,{"$f":"SUM(Y67:Y68)","v":0},{"$f":"SUM(Z67:Z68)","v":0},0,0,0,0,0,0,0,0,0,0,0,0,0,0,0]
[null,null,null,null,"Net additions (after disposals)",null,"£m 09/10 prices",null,null,">",null,null,null,null,null,null,null,null,null,null,null,null,null,null,{"$f":"IF(YEAR(Y$4) <= YEAR($I58) + $I$43, Y60, 0)","v":0},0,0,0,0,0,0,0,0,0,0,0,0,0,0,0,0]
[null,null,null,null,"Removals",null,"£m 09/10 prices"]
[null,null,null,null,"Balance carried forward",null,"£m 09/10 prices",null,null,">",null,null,null,null,null,null,null,null,null,null,null,null,null,null,{"$f":"Y69 + Y70 - Y71","v":0},{"$f":"Z69 + Z70 - Z71","v":0},0,0,0,0,0,0,0,0,0,0,0,0,0,0,0]
[]
[null,null,null,"Accumulated depreciation"]
[]
[null,null,null,null,"Opening balance brought forward",null,"£m 09/10 prices",null,null,">",null,null,null,null,null,null,null,null,null,null,null,null,null,null,0,{"$f":"Y81","v":0},0,0,0,0,0,0,0,{"$f":"AG81","v":0},0,0,0,0,0,0,0]
[null,null,null,null,"Transfer",null,"£m 09/10 prices",null,null,">",null,null,null,null,null,null,null,null,null,null,null,null,null,null,{"$f":"IF(YEAR(Y$4) = YEAR($I58) + $I$43 + 1, -Y76, 0)","v":0},0,0,0,0,0,0,0,0,0,0,0,0,0,0,0,0]
[null,null,null,null,"Opening balance after transfers",null,"£m 09/10 prices",null,null,">",null,null,null,null,null,null,null,null,null,null,null,null,null,null,{"$f":"SUM(Y76:Y77)","v":0},{"$f":"SUM(Z76:Z77)","v":0},0,0,0,0,0,0,0,0,0,0,0,0,0,0,0]
[null,null,null,null,"Regulatory depreciation",null,"£m 09/10 prices",null,null,">",null,null,null,null,null,null,null,null,null,null,null,null,null,null,{"$f":"IF(YEAR(Y$4) <= YEAR($I58) + $I$43, Y61, Y69 / $I$42)","v":0},0,0,0,0,0,0,0,0,0,0,0,0,0,0,0,0]
[null,null,null,null,"Removals",null,"£m 09/10 prices",null,null,">",null,null,null,null,null,null,null,null,null,null,null,null,null,null,{"$f":"Y71","v":0},0,0,0,0,0,0,0,0,0,0,0,0,0,0,0,0]
[null,null,null,null,"Closing value carried forward",null,"£m 09/10 prices",null,null,">",null,null,null,null,null,null,null,null,null,null,null,null,null,null,{"$f":"Y78 + Y79 - Y80","v":0},{"$f":"Z78 + Z79 - Z80","v":0},0,0,0,0,0,0,0,0,0,0,0,0,0,0,0]
[]
[null,null,null,"Asset balance"]
[]
[null,null,null,null,"Net value after regulatory depreciation",null,"£m 09/10 prices",null,null,">",null,null,null,null,null,null,null,null,null,null,null,null,null,null,{"$f":"Y72-Y81","v":0},0,0,0,0,0,0,0,0,0,0,0,0,0,0,0,0]
[]
[null,null,"Capital allowances"]
[]
[null,null,null,"General pool capital allowances"]
[]
[null,null,null,null,"General pool allowance rate",null,"%",null,null,">",null,null,null,null,null,null,null,null,null,null,null,null,null,null,{"$f":"Y44","v":0.25},{"$f":"Z44","v":0.25},0.25,0.25,0.2,0.2,0.2,0.2,0.18000000000000002,0.18000000000000002,0.18000000000000002,0.18000000000000002,0.18000000000000002,0.18000000000000002,0.18000000000000002,0.18000000000000002,0.18000000000000002]
[]
[null,null,null,null,"Opening balance brought forward",null,"£m nominal",null,null,">",null,null,null,null,null,null,null,null,null,null,null,null,null,null,0,{"$f":"Y98","v":0},0,0,0,0,0,0,0,0,0,0,0,0,0,0,0]
[null,null,null,null,"Transfer",null,"£m nominal",null,null,">",null,null,null,null,null,null,null,null,null,null,null,null,null,null,{"$f":"IF(YEAR(Y$4) = YEAR($I58) + $I$43 + 1, -Y93, 0)","v":0},0,0,0,0,0,0,0,0,0,0,0,0,0,0,0,0]
[null,null,null,null,"Capex additions",null,"£m nominal",null,null,">",null,null,null,null,null,null,null,null,null,null,null,null,null,null,{"$f":"(Y70 * Y$46) * Input!Y$46 / Input!$AD$46","v":0},{"$f":"(Z70 * Z$46) * Input!Z$46 / Input!$AD$46","v":0},{"$f":"(AA70 * AA$46) * Input!AA$46 / Input!$AD$46","v":0},{"$f":"(AB70 * AB$46) * Input!AB$46 / Input!$AD$46","v":0},{"$f":"(AC70 * AC$46) * Input!AC$46 / Input!$AD$46","v":0},{"$f":"(AD70 * AD$46) * Input!AD$46 / Input!$AD$46","v":0},{"$f":"(AE70 * AE$46) * Input!AE$46 / Input!$AD$46","v":0},{"$f":"(AF70 * AF$46) * Input!AF$46 / Input!$AD$46","v":0},{"$f":"(AG70 * AG$46) * Input!AG$46 / Input!$AD$46","v":0},{"$f":"(AH70 * AH$46) * Input!AH$46 / Input!$AD$46","v":0},{"$f":"(AI70 * AI$46) * Input!AI$46 / Input!$AD$46","v":0},{"$f":"(AJ70 * AJ$46) * Input!AJ$46 / Input!$AD$46","v":0},{"$f":"(AK70 * AK$46) * Input!AK$46 / Input!$AD$46","v":0},{"$f":"(AL70 * AL$46) * Input!AL$46 / Input!$AD$46","v":0},{"$f":"(AM70 * AM$46) * Input!AM$46 / Input!$AD$46","v":0},{"$f":"(AN70 * AN$46) * Input!AN$46 / Input!$AD$46","v":0},{"$f":"(AO70 * AO$46) * Input!AO$46 / Input!$AD$46","v":0}]
[null,null,null,null,"Tax book value pre-depreciation",null,"£m nominal",null,null,">",null,null,null,null,null,null,null,null,null,null,null,null,null,null,{"$f":"SUM(Y93:Y95)","v":0},{"$f":"SUM(Z93:Z95)","v":0},{"$f":"SUM(AA93:AA95)","v":0},{"$f":"SUM(AB93:AB95)","v":0},{"$f":"SUM(AC93:AC95)","v":0},0,0,0,0,0,0,0,0,0,0,0,0]
[null,null,null,null,"General pool capital allowance",null,"£m nominal",null,null,">",null,null,null,null,null,null,null,null,null,null,null,null,null,null,{"$f":"-Y96*Y91","v":0},0,0,0,0,0,0,0,0,0,0,0,0,0,0,0,0]
[null,null,null,null,"Closing balance carried forward",null,null,null,null,">",null,null,null,null,null,null,null,null,null,null,null,null,null,null,{"$f":"SUM(Y96:Y97)","v":0},{"$f":"SUM(Z96:Z97)","v":0},0,0,0,0,0,0,0,0,0,0,0,0,0,0,0]
[]
[null,null,null,"Special Rate"]
[]
[null,null,null,null,"Special Rate capital allowance rate",null,"%",null,null,">",null,null,null,null,null,null,null,null,null,null,null,null,null,null,{"$f":"Y$45","v":0.06},0.06,0.06,0.06,0.1,0.1,0.1,0.1,0.08,{"$f":"AH$45","v":0.08},{"$f":"AI$45","v":0.08},0.08,0.08,0.08,0.08,0.08,0.08]
[]
[null,null,null,null,"Opening balance brought forward",null,"£m nominal",null,null,">",null,null,null,null,null,null,null,null,null,null,null,null,null,null,0,{"$f":"Y109","v":0},0,0,0,0,{"$f":"AD109","v":0},0,0,0,0,0,0,0,0,0,0]
[null,null,null,null,"Transfer",null,"£m nominal",null,null,">",null,null,null,null,null,null,null,null,null,null,null,null,null,null,{"$f":"IF(YEAR(Y$4) = YEAR($I58) + $I$43 + 1, -Y104, 0)","v":0},0,0,0,0,0,0,0,0,0,0,0,0,0,0,0,0]
[null,null,null,null,"Capex additions",null,"£m nominal",null,null,">",null,null,null,null,null,null,null,null,null,null,null,null,null,null,{"$f":"(Y60 * Y$47) * Input!Y$46 / Input!$AD$46","v":0},{"$f":"(Z60 * Z$47) * Input!Z$46 / Input!$AD$46","v":0},{"$f":"(AA60 * AA$47) * Input!AA$46 / Input!$AD$46","v":0},{"$f":"(AB60 * AB$47) * Input!AB$46 / Input!$AD$46","v":0},{"$f":"(AC60 * AC$47) * Input!AC$46 / Input!$AD$46","v":0},{"$f":"(AD60 * AD$47) * Input!AD$46 / Input!$AD$46","v":0},{"$f":"(AE60 * AE$47) * Input!AE$46 / Input!$AD$46","v":0},{"$f":"(AF60 * AF$47) * Input!AF$46 / Input!$AD$46","v":0},{"$f":"(AG60 * AG$47) * Input!AG$46 / Input!$AD$46","v":0},{"$f":"(AH60 * AH$47) * Input!AH$46 / Input!$AD$46","v":0},{"$f":"(AI60 * AI$47) * Input!AI$46 / Input!$AD$46","v":0},{"$f":"(AJ60 * AJ$47) * Input!AJ$46 / Input!$AD$46","v":0},{"$f":"(AK60 * AK$47) * Input!AK$46 / Input!$AD$46","v":0},{"$f":"(AL60 * AL$47) * Input!AL$46 / Input!$AD$46","v":0},{"$f":"(AM60 * AM$47) * Input!AM$46 / Input!$AD$46","v":0},{"$f":"(AN60 * AN$47) * Input!AN$46 / Input!$AD$46","v":0},{"$f":"(AO60 * AO$47) * Input!AO$46 / Input!$AD$46","v":0}]
[null,null,null,null,"Tax book value pre-depreciation",null,"£m nominal",null,null,">",null,null,null,null,null,null,null,null,null,null,null,null,null,null,{"$f":"SUM(Y104:Y106)","v":0},{"$f":"SUM(Z104:Z106)","v":0},{"$f":"SUM(AA104:AA106)","v":0},{"$f":"SUM(AB104:AB106)","v":0},{"$f":"SUM(AC104:AC106)","v":0},0,0,0,0,0,0,0,0,0,0,0,0]
[null,null,null,null,"Special Rate capital allowance",null,"£m nominal",null,null,">",null,null,null,null,null,null,null,null,null,null,null,null,null,null,{"$f":"-Y107*Y102","v":0},0,0,0,0,0,0,0,0,0,0,0,0,0,0,0,0]
[null,null,null,null,"Closing balance carried forward",null,null,null,null,">",null,null,null,null,null,null,null,null,null,null,null,null,null,null,{"$f":"SUM(Y107:Y108)","v":0},{"$f":"SUM(Z107:Z108)","v":0},0,0,0,0,0,0,0,0,0,0,0,0,0,0,0]
[]
[null,null,"Tax"]
[]
[null,null,null,null,"Corporation tax rate",null,"%",null,null,null,null,null,null,null,null,null,null,null,null,null,null,null,null,null,null,null,null,null,null,null,null,null,null,{"$f":"AH$48","v":0.23},{"$f":"AI$48","v":0.21},0.21,0.21,0.21,0.21,0.21,0.21]
[]
[null,null,null,null,"TIRG revenue",null,"£m nominal",null,null,null,null,null,null,null,null,null,null,null,null,null,null,null,null,null,null,null,null,null,null,null,null,null,null,{"$f":"AH59* Input!AH$46 / Input!$AD$46","v":0},{"$f":"AI59* Input!AI$46 / Input!$AD$46","v":0},{"$f":"AJ59* Input!AJ$46 / Input!$AD$46","v":0},{"$f":"AK59* Input!AK$46 / Input!$AD$46","v":0},{"$f":"AL59* Input!AL$46 / Input!$AD$46","v":0},{"$f":"AM59* Input!AM$46 / Input!$AD$46","v":0},{"$f":"AN59* Input!AN$46 / Input!$AD$46","v":0},{"$f":"AO59* Input!AO$46 / Input!$AD$46","v":0}]
[null,null,null,null,"Less interest payable",null,"£m nominal",null,null,null,null,null,null,null,null,null,null,null,null,null,null,null,null,null,null,null,null,null,null,null,null,null,null,{"$f":"((AH128 + AH132) / 2) * AH$50","v":0},{"$f":"((AI128 + AI132) / 2) * AI$50","v":0},0,0,0,0,0,0]
[null,null,null,null,"Less capital allowances",null,"£m nominal",null,null,null,null,null,null,null,null,null,null,null,null,null,null,null,null,null,null,null,null,null,null,null,null,null,null,{"$f":"AH108 + AH97","v":0},{"$f":"AI108 + AI97","v":0},0,0,0,0,0,0]
[null,null,null,null,"Taxable profit",null,"£m nominal",null,null,null,null,null,null,null,null,null,null,null,null,null,null,null,null,null,null,null,null,null,null,null,null,null,null,{"$f":"SUM(AH115:AH117)","v":0},0,0,0,0,0,0,0]
[]
[null,null,null,null,"Tax",null,"£m nominal",null,null,null,null,null,null,null,null,null,null,null,null,null,null,null,null,null,null,null,null,null,null,null,null,null,null,{"$f":"AH118*AH113","v":0},0,0,0,0,0,0,0]
[]
[null,null,"Net debt"]
[]
[null,null,null,null,"Overall gearing after equity issuance",null,"%",null,null,null,null,null,null,null,null,null,null,null,null,null,null,null,null,null,null,null,null,null,null,null,null,null,null,{"$f":"AH$49","v":0.61135353243992929},{"$f":"AI$49","v":0.60000189322596054},0.62191505472876596,0.59999999999999987,0.60850938335275739,0.61023122236756555,0.61018397673715152,0.60573059090483217]
[]
[null,null,null,null,"Opening net debt",null,"£m nominal",null,null,null,null,null,null,null,null,null,null,null,null,null,null,null,null,null,null,null,null,null,null,null,null,null,null,null,{"$f":"AH136","v":0},0,0,0,0,0,0]
[null,null,null,null,"Transfer from core net debt",null,"£m nominal",null,null,null,null,null,null,null,null,null,null,null,null,null,null,null,null,null,null,null,null,null,null,null,null,null,null,null,{"$f":"AI128-AI126","v":0},{"$f":"AJ128-AJ126","v":0},0,0,0,0,0]
[null,null,null,null,"Opening net debt after transfer",null,"£m nominal",null,null,null,null,null,null,null,null,null,null,null,null,null,null,null,null,null,null,null,null,null,null,null,null,null,null,{"$f":"IF(YEAR(AH$4) = YEAR($I58) + $I$43 + 1, 0, (-AH124 * (AH67 - AH76) * Input!AG$46 / Input!$AD$46))","v":0},{"$f":"IF(YEAR(AI$4) = YEAR($I58) + $I$43 + 1, 0, (-AI124 * (AI67 - AI76) * Input!AH$46 / Input!$AD$46))","v":0},{"$f":"IF(YEAR(AJ$4) = YEAR($I58) + $I$43 + 1, 0, (-AJ124 * (AJ67 - AJ76) * Input!AI$46 / Input!$AD$46))","v":0},{"$f":"IF(YEAR(AK$4) = YEAR($I58) + $I$43 + 1, 0, (-AK124 * (AK67 - AK76) * Input!AJ$46 / Input!$AD$46))","v":0},{"$f":"IF(YEAR(AL$4) = YEAR($I58) + $I$43 + 1, 0, (-AL124 * (AL67 - AL76) * Input!AK$46 / Input!$AD$46))","v":0},{"$f":"IF(YEAR(AM$4) = YEAR($I58) + $I$43 + 1, 0, (-AM124 * (AM67 - AM76) * Input!AL$46 / Input!$AD$46))","v":0},{"$f":"IF(YEAR(AN$4) = YEAR($I58) + $I$43 + 1, 0, (-AN124 * (AN67 - AN76) * Input!AM$46 / Input!$AD$46))","v":0},{"$f":"IF(YEAR(AO$4) = YEAR($I58) + $I$43 + 1, 0, (-AO124 * (AO67 - AO76) * Input!AN$46 / Input!$AD$46))","v":0}]
[null,null,null,null,"Add TIRG revenue",null,"£m nominal",null,null,null,null,null,null,null,null,null,null,null,null,null,null,null,null,null,null,null,null,null,null,null,null,null,null,{"$f":"AH59* Input!AH$46 / Input!$AD$46","v":0},{"$f":"AI59* Input!AI$46 / Input!$AD$46","v":0},{"$f":"AJ59* Input!AJ$46 / Input!$AD$46","v":0},{"$f":"AK59* Input!AK$46 / Input!$AD$46","v":0},{"$f":"AL59* Input!AL$46 / Input!$AD$46","v":0},{"$f":"AM59* Input!AM$46 / Input!$AD$46","v":0},{"$f":"AN59* Input!AN$46 / Input!$AD$46","v":0},{"$f":"AO59* Input!AO$46 / Input!$AD$46","v":0}]
[null,null,null,null,"Less capex",null,"£m nominal",null,null,null,null,null,null,null,null,null,null,null,null,null,null,null,null,null,null,null,null,null,null,null,null,null,null,{"$f":"-AH60 * Input!AH$46 / Input!$AD$46","v":0},{"$f":"-AI60 * Input!AI$46 / Input!$AD$46","v":0},{"$f":"-AJ60 * Input!AJ$46 / Input!$AD$46","v":0},{"$f":"-AK60 * Input!AK$46 / Input!$AD$46","v":0},{"$f":"-AL60 * Input!AL$46 / Input!$AD$46","v":0},{"$f":"-AM60 * Input!AM$46 / Input!$AD$46","v":0},{"$f":"-AN60 * Input!AN$46 / Input!$AD$46","v":0},{"$f":"-AO60 * Input!AO$46 / Input!$AD$46","v":0}]
[null,null,null,null,"Less dividends",null,"£m nominal",null,null,null,null,null,null,null,null,null,null,null,null,null,null,null,null,null,null,null,null,null,null,null,null,null,null,{"$f":"-AH85*(1-AH124)*$I$52*Input!AH$46/Input!$AD$46","v":0},{"$f":"-AI85*(1-AI124)*$I$52*Input!AI$46/Input!$AD$46","v":0},{"$f":"-AJ85*(1-AJ124)*$I$52*Input!AJ$46/Input!$AD$46","v":0},{"$f":"-AK85*(1-AK124)*$I$52*Input!AK$46/Input!$AD$46","v":0},{"$f":"-AL85*(1-AL124)*$I$52*Input!AL$46/Input!$AD$46","v":0},{"$f":"-AM85*(1-AM124)*$I$52*Input!AM$46/Input!$AD$46","v":0},{"$f":"-AN85*(1-AN124)*$I$52*Input!AN$46/Input!$AD$46","v":0},{"$f":"-AO85*(1-AO124)*$I$52*Input!AO$46/Input!$AD$46","v":0}]
[null,null,null,null,"Closing net debt (before interest and tax)",null,"£m nominal",null,null,null,null,null,null,null,null,null,null,null,null,null,null,null,null,null,null,null,null,null,null,null,null,null,null,{"$f":"SUM(AH128:AH131)","v":0},{"$f":"SUM(AI128:AI131)","v":0},0,0,0,0,0,0]
[null,null,null,null,"Less net interest paid (interest coupon)",null,"£m nominal",null,null,null,null,null,null,null,null,null,null,null,null,null,null,null,null,null,null,null,null,null,null,null,null,null,null,{"$f":"AH116 * (1 - AH$51)","v":0},{"$f":"AI116 * (1 - AI$51)","v":0},0,0,0,0,0,0]
[null,null,null,null,"Less net interest paid (inflation coupon)",null,"£m nominal",null,null,null,null,null,null,null,null,null,null,null,null,null,null,null,null,null,null,null,null,null,null,null,null,null,null,{"$f":"AH116 * AH$51","v":0},0,0,0,0,0,0,0]
[null,null,null,null,"Less tax",null,"£m nominal",null,null,null,null,null,null,null,null,null,null,null,null,null,null,null,null,null,null,null,null,null,null,null,null,null,null,{"$f":"-AH120","v":0},{"$f":"-AI120","v":0},0,0,0,0,0,0]
[null,null,null,null,"Closing net debt",null,"£m nominal",null,null,null,null,null,null,null,null,null,null,null,null,null,null,null,null,null,null,null,null,null,null,null,null,null,null,{"$f":"SUM(AH132:AH135)","v":0},{"$f":"SUM(AI132:AI135)","v":0},0,0,0,0,0,0]
[]
[null,"TIRG commissioned 2011"]
[]
[null,null,"Commission year specific inputs"]
[]
[null,null,null,null,"Commission year",null,"year",null,"2011-03-31"]
[null,null,null,null,"TIRG revenue",null,"£m 09/10 prices",null,null,">",null,null,null,null,null,null,null,null,null,null,null,null,null,null,{"$f":"Input!Y$286","v":0},{"$f":"Input!Z$286","v":0},{"$f":"Input!AA$286","v":0},{"$f":"Input!AB$286","v":3.0644265612861856},{"$f":"Input!AC$286","v":7.3479343460373006},{"$f":"Input!AD$286","v":12.083623286163521},{"$f":"Input!AE$286","v":14.2},{"$f":"Input!AF$286","v":14.422489625046804},{"$f":"Input!AG$286","v":14.227466197970648},{"$f":"Input!AH$286","v":13.751034124367685},{"$f":"Input!AI$286","v":13.274690050778315},{"$f":"Input!AJ$286","v":12.798257977175346},{"$f":"Input!AK$286","v":0},{"$f":"Input!AL$286","v":0},{"$f":"Input!AM$286","v":0},{"$f":"Input!AN$286","v":0},{"$f":"Input!AO$286","v":0}]
[null,null,null,null,"Capex",null,"£m 09/10 prices",null,null,">",null,null,null,null,null,null,null,null,null,null,null,null,null,null,{"$f":"Input!Y268","v":0},{"$f":"Input!Z268","v":0},{"$f":"Input!AA268","v":1.2925534570263746},{"$f":"Input!AB268","v":14.984279972833683},{"$f":"Input!AC268","v":25.276193528361905},{"$f":"Input!AD268","v":42.616},{"$f":"Input!AE268","v":29.784803179158846},{"$f":"Input!AF268","v":8.2064212632983367},{"$f":"Input!AG268","v":0},{"$f":"Input!AH268","v":0},{"$f":"Input!AI268","v":0},{"$f":"Input!AJ268","v":0},{"$f":"Input!AK268","v":0},{"$f":"Input!AL268","v":0},{"$f":"Input!AM268","v":0},{"$f":"Input!AN268","v":0},{"$f":"Input!AO268","v":0}]
[null,null,null,null,"Deemed depreciation before transfer to RAV",null,"£m 09/10 prices",null,null,">",null,null,null,null,null,null,null,null,null,null,null,null,null,null,{"$f":"Input!Y277","v":2.2935601027548939E-2},{"$f":"Input!Z277","v":0},{"$f":"Input!AA277","v":0},{"$f":"Input!AB277","v":0.69299999999999995},{"$f":"Input!AC277","v":2.1800000000000002},{"$f":"Input!AD277","v":4.0739999999999998},{"$f":"Input!AE277","v":5.2039999999999997},{"$f":"Input!AF277","v":5.1119303278452115},{"$f":"Input!AG277","v":5.1119303278452115},{"$f":"Input!AH277","v":5.1119303278452115},{"$f":"Input!AI277","v":6.1309481710615064},{"$f":"Input!AJ277","v":6.1309481710615064},{"$f":"Input!AK277","v":0},{"$f":"Input!AL277","v":0},{"$f":"Input!AM277","v":0},{"$f":"Input!AN277","v":0},{"$f":"Input!AO277","v":0}]
[]
[null,null,"RAV"]
[]
[null,null,null,"Cost"]
[]
[null,null,null,null,"Opening balance brought forward",null,"£m 09/10 prices",null,null,">",null,null,null,null,null,null,null,null,null,null,null,null,null,null,0,{"$f":"Y156","v":0},0,1.2925534570263746,16.276833429860059,41.553026958221963,84.169026958221963,113.95383013738081,122.16025140067914,122.16025140067914,122.16025140067914,122.16025140067914,122.16025140067914,0,0,0,0]
[null,null,null,null,"Transfer",null,"£m 09/10 prices",null,null,">",null,null,null,null,null,null,null,null,null,null,null,null,null,null,{"$f":"IF(YEAR(Y$4) = YEAR($I142) + $I$43 + 1, - Y151, 0)","v":0},0,0,0,0,0,0,0,0,0,0,0,-122.16025140067914,0,0,0,0]
[null,null,null,null,"Opening balance after transfers",null,"£m 09/10 prices",null,null,">",null,null,null,null,null,null,null,null,null,null,null,null,null,null,{"$f":"SUM(Y151:Y152)","v":0},{"$f":"SUM(Z151:Z152)","v":0},0,1.2925534570263746,16.276833429860059,41.553026958221963,84.169026958221963,113.95383013738081,122.16025140067914,122.16025140067914,122.16025140067914,122.16025140067914,0,0,0,0,0]
[null,null,null,null,"Net additions (after disposals)",null,"£m 09/10 prices",null,null,">",null,null,null,null,null,null,null,null,null,null,null,null,null,null,{"$f":"IF(YEAR(Y$4) <= YEAR($I142) + $I$43, Y144, 0)","v":0},0,1.2925534570263746,14.984279972833683,25.276193528361905,42.616,29.784803179158846,8.2064212632983367,0,0,0,0,0,0,0,0,0]
[null,null,null,null,"Removals",null,"£m 09/10 prices"]
[null,null,null,null,"Balance carried forward",null,"£m 09/10 prices",null,null,">",null,null,null,null,null,null,null,null,null,null,null,null,null,null,{"$f":"Y153 + Y154 - Y155","v":0},{"$f":"Z153 + Z154 - Z155","v":0},1.2925534570263746,16.276833429860059,41.553026958221963,84.169026958221963,113.95383013738081,122.16025140067914,122.16025140067914,122.16025140067914,122.16025140067914,122.16025140067914,0,0,0,0,0]
[]
[null,null,null,"Accumulated depreciation"]
[]
[null,null,null,null,"Opening balance brought forward",null,"£m 09/10 prices",null,null,">",null,null,null,null,null,null,null,null,null,null,null,null,null,null,0,{"$f":"Y165","v":2.2935601027548939E-2},2.2935601027548939E-2,2.2935601027548939E-2,0.71593560102754894,2.8959356010275492,6.9699356010275491,12.173935601027548,17.285865928872759,22.397796256717971,27.509726584563182,33.640674755624687,39.771622926686192,0,0,0,0]
[null,null,null,null,"Transfer",null,"£m 09/10 prices",null,null,">",null,null,null,null,null,null,null,null,null,null,null,null,null,null,{"$f":"IF(YEAR(Y$4) = YEAR($I142) + $I$43 + 1, -Y160, 0)","v":0},0,0,0,0,0,0,0,0,0,0,0,-39.771622926686192,0,0,0,0]
[null,null,null,null,"Opening balance after transfers",null,"£m 09/10 prices",null,null,">",null,null,null,null,null,null,null,null,null,null,null,null,null,null,{"$f":"SUM(Y160:Y161)","v":0},{"$f":"SUM(Z160:Z161)","v":2.2935601027548939E-2},2.2935601027548939E-2,2.2935601027548939E-2,0.71593560102754894,2.8959356010275492,6.9699356010275491,12.173935601027548,17.285865928872759,22.397796256717971,27.509726584563182,33.640674755624687,0,0,0,0,0]
[null,null,null,null,"Regulatory depreciation",null,"£m 09/10 prices",null,null,">",null,null,null,null,null,null,null,null,null,null,null,null,null,null,{"$f":"IF(YEAR(Y$4) <= YEAR($I142) + $I$43, Y145, Y153 / $I$42)","v":2.2935601027548939E-2},0,0,0.69299999999999995,2.1800000000000002,4.0739999999999998,5.2039999999999997,5.1119303278452115,5.1119303278452115,5.1119303278452115,6.1309481710615064,6.1309481710615064,0,0,0,0,0]
[null,null,null,null,"Removals",null,"£m 09/10 prices",null,null,">",null,null,null,null,null,null,null,null,null,null,null,null,null,null,{"$f":"Y155","v":0},0,0,0,0,0,0,0,0,0,0,0,0,0,0,0,0]
[null,null,null,null,"Closing value carried forward",null,"£m 09/10 prices",null,null,">",null,null,null,null,null,null,null,null,null,null,null,null,null,null,{"$f":"Y162 + Y163 - Y164","v":2.2935601027548939E-2},{"$f":"Z162 + Z163 - Z164","v":2.2935601027548939E-2},2.2935601027548939E-2,0.71593560102754894,2.8959356010275492,6.9699356010275491,12.173935601027548,17.285865928872759,22.397796256717971,27.509726584563182,33.640674755624687,39.771622926686192,0,0,0,0,0]
[]
[null,null,null,"Asset balance"]
[]
[null,null,null,null,"Net value after regulatory depreciation",null,"£m 09/10 prices",null,null,">",null,null,null,null,null,null,null,null,null,null,null,null,null,null,{"$f":"Y156-Y165","v":-2.2935601027548939E-2},-2.2935601027548939E-2,1.2696178559988256,15.560897828832509,38.657091357194417,77.199091357194419,101.77989453635325,104.87438547180639,99.762455143961176,94.650524816115961,88.519576645054457,82.388628473992952,0,0,0,0,0]
[]
[null,null,"Capital allowances"]
[]
[null,null,null,"General pool capital allowances"]
[]
[null,null,null,null,"General pool allowance rate",null,"%",null,null,">",null,null,null,null,null,null,null,null,null,null,null,null,null,null,{"$f":"Y$44","v":0.25},{"$f":"Z$44","v":0.25},0.25,0.25,0.2,0.2,0.2,0.2,0.18000000000000002,0.18000000000000002,0.18000000000000002,0.18000000000000002,0.18000000000000002,0.18000000000000002,0.18000000000000002,0.18000000000000002,0.18000000000000002]
[]
[null,null,null,null,"Opening balance brought forward",null,"£m nominal",null,null,">",null,null,null,null,null,null,null,null,null,null,null,null,null,null,0,{"$f":"Y182","v":0},0,0,0,0,0.80030046948356792,4.3819342959510017,3.6761940312045822,3.0144791055877573,2.4718728665819611,2.0269357505972083,1.6620873154897109,0,0,0,0]
[null,null,null,null,"Transfer",null,"£m nominal",null,null,">",null,null,null,null,null,null,null,null,null,null,null,null,null,null,{"$f":"IF(YEAR(Y$4) = YEAR($I142) + $I$43 + 1, -Y177, 0)","v":0},0,0,0,0,0,0,0,0,0,0,0,-1.6620873154897109,0,0,0,0]
[null,null,null,null,"Capex additions",null,"£m nominal",null,null,">",null,null,null,null,null,null,null,null,null,null,null,null,null,null,{"$f":"(Y154 * Y$46) * Input!Y$46 / Input!$AD$46","v":0},{"$f":"(Z154 * Z$46) * Input!Z$46 / Input!$AD$46","v":0},{"$f":"(AA154 * AA$46) * Input!AA$46 / Input!$AD$46","v":0},{"$f":"(AB154 * AB$46) * Input!AB$46 / Input!$AD$46","v":0},{"$f":"(AC154 * AC$46) * Input!AC$46 / Input!$AD$46","v":0},{"$f":"(AD154 * AD$46) * Input!AD$46 / Input!$AD$46","v":1.0003755868544599},{"$f":"(AE154 * AE$46) * Input!AE$46 / Input!$AD$46","v":4.6771174004551845},{"$f":"(AF154 * AF$46) * Input!AF$46 / Input!$AD$46","v":0.21330824305472576},{"$f":"(AG154 * AG$46) * Input!AG$46 / Input!$AD$46","v":0},{"$f":"(AH154 * AH$46) * Input!AH$46 / Input!$AD$46","v":0},{"$f":"(AI154 * AI$46) * Input!AI$46 / Input!$AD$46","v":0},{"$f":"(AJ154 * AJ$46) * Input!AJ$46 / Input!$AD$46","v":0},{"$f":"(AK154 * AK$46) * Input!AK$46 / Input!$AD$46","v":0},{"$f":"(AL154 * AL$46) * Input!AL$46 / Input!$AD$46","v":0},{"$f":"(AM154 * AM$46) * Input!AM$46 / Input!$AD$46","v":0},{"$f":"(AN154 * AN$46) * Input!AN$46 / Input!$AD$46","v":0},{"$f":"(AO154 * AO$46) * Input!AO$46 / Input!$AD$46","v":0}]
[null,null,null,null,"Tax book value pre-depreciation",null,"£m nominal",null,null,">",null,null,null,null,null,null,null,null,null,null,null,null,null,null,{"$f":"SUM(Y177:Y179)","v":0},{"$f":"SUM(Z177:Z179)","v":0},{"$f":"SUM(AA177:AA179)","v":0},{"$f":"SUM(AB177:AB179)","v":0},{"$f":"SUM(AC177:AC179)","v":0},1.0003755868544599,5.4774178699387521,4.5952425390057279,3.6761940312045822,3.0144791055877573,2.4718728665819611,2.0269357505972083,0,0,0,0,0]
[null,null,null,null,"General pool capital allowance",null,"£m nominal",null,null,">",null,null,null,null,null,null,null,null,null,null,null,null,null,null,{"$f":"-Y180*Y175","v":0},0,0,0,0,-0.20007511737089201,-1.0954835739877504,-0.91904850780114566,-0.66171492561682488,-0.54260623900579641,-0.44493711598475305,-0.36484843510749754,0,0,0,0,0]
[null,null,null,null,"Closing balance carried forward",null,null,null,null,">",null,null,null,null,null,null,null,null,null,null,null,null,null,null,{"$f":"SUM(Y180:Y181)","v":0},{"$f":"SUM(Z180:Z181)","v":0},0,0,0,0.80030046948356792,4.3819342959510017,3.6761940312045822,3.0144791055877573,2.4718728665819611,2.0269357505972083,1.6620873154897109,0,0,0,0,0]
[]
[null,null,null,"Special Rate"]
[]
[null,null,null,null,"Special Rate capital allowance rate",null,"%",null,null,">",null,null,null,null,null,null,null,null,null,null,null,null,null,null,{"$f":"Y$45","v":0.06},0.06,0.06,0.06,0.1,0.1,0.1,0.1,0.08,{"$f":"AH$45","v":0.08},{"$f":"AI$45","v":0.08},0.08,0.08,0.08,0.08,0.08,0.08]
[]
[null,null,null,null,"Opening balance brought forward",null,"£m nominal",null,null,">",null,null,null,null,null,null,null,null,null,null,null,null,null,null,0,{"$f":"Y193","v":0},0,0,0,22.644829872695727,57.834408857257138,75.978218843399631,76.312718399386995,70.207700927436036,64.591084853241156,59.423798064981867,54.669894219783316,0,0,0,0]
[null,null,null,null,"Transfer",null,"£m nominal",null,null,">",null,null,null,null,null,null,null,null,null,null,null,null,null,null,{"$f":"IF(YEAR(Y$4) = YEAR($I142) + $I$43 + 1, -Y188, 0)","v":0},0,0,0,0,0,0,0,0,0,0,0,-54.669894219783316,0,0,0,0]
[null,null,null,null,"Capex additions",null,"£m nominal",null,null,">",null,null,null,null,null,null,null,null,null,null,null,null,null,null,{"$f":"(Y144 * Y$47) * Input!Y$46 / Input!$AD$46","v":0},{"$f":"(Z144 * Z$47) * Input!Z$46 / Input!$AD$46","v":0},{"$f":"(AA144 * AA$47) * Input!AA$46 / Input!$AD$46","v":0},{"$f":"(AB144 * AB$47) * Input!AB$46 / Input!$AD$46","v":0},{"$f":"(AC144 * AC$47) * Input!AC$46 / Input!$AD$46","v":25.16092208077303},{"$f":"(AD144 * AD$47) * Input!AD$46 / Input!$AD$46","v":41.615624413145532},{"$f":"(AE144 * AE$47) * Input!AE$46 / Input!$AD$46","v":26.585834302075785},{"$f":"(AF144 * AF$47) * Input!AF$46 / Input!$AD$46","v":8.8136904892525969},{"$f":"(AG144 * AG$47) * Input!AG$46 / Input!$AD$46","v":0},{"$f":"(AH144 * AH$47) * Input!AH$46 / Input!$AD$46","v":0},{"$f":"(AI144 * AI$47) * Input!AI$46 / Input!$AD$46","v":0},{"$f":"(AJ144 * AJ$47) * Input!AJ$46 / Input!$AD$46","v":0},{"$f":"(AK144 * AK$47) * Input!AK$46 / Input!$AD$46","v":0},{"$f":"(AL144 * AL$47) * Input!AL$46 / Input!$AD$46","v":0},{"$f":"(AM144 * AM$47) * Input!AM$46 / Input!$AD$46","v":0},{"$f":"(AN144 * AN$47) * Input!AN$46 / Input!$AD$46","v":0},{"$f":"(AO144 * AO$47) * Input!AO$46 / Input!$AD$46","v":0}]
[null,null,null,null,"Tax book value pre-depreciation",null,"£m nominal",null,null,">",null,null,null,null,null,null,null,null,null,null,null,null,null,null,{"$f":"SUM(Y188:Y190)","v":0},{"$f":"SUM(Z188:Z190)","v":0},{"$f":"SUM(AA188:AA190)","v":0},{"$f":"SUM(AB188:AB190)","v":0},{"$f":"SUM(AC188:AC190)","v":25.16092208077303},64.260454285841263,84.420243159332927,84.791909332652224,76.312718399386995,70.207700927436036,64.591084853241156,59.423798064981867,0,0,0,0,0]
[null,null,null,null,"Special Rate capital allowance",null,"£m nominal",null,null,">",null,null,null,null,null,null,null,null,null,null,null,null,null,null,{"$f":"-Y191*Y186","v":0},0,0,0,-2.5160922080773034,-6.4260454285841266,-8.4420243159332937,-8.4791909332652224,-6.1050174719509593,-5.6166160741948827,-5.1672867882592923,-4.7539038451985496,0,0,0,0,0]
[null,null,null,null,"Closing balance carried forward",null,null,null,null,">",null,null,null,null,null,null,null,null,null,null,null,null,null,null,{"$f":"SUM(Y191:Y192)","v":0},{"$f":"SUM(Z191:Z192)","v":0},0,0,22.644829872695727,57.834408857257138,75.978218843399631,76.312718399386995,70.207700927436036,64.591084853241156,59.423798064981867,54.669894219783316,0,0,0,0,0]
[]
[null,null,"Tax"]
[]
[null,null,null,null,"Corporation tax rate",null,"%",null,null,null,null,null,null,null,null,null,null,null,null,null,null,null,null,null,null,null,null,null,null,null,null,null,null,{"$f":"AH$48","v":0.23},{"$f":"AI$48","v":0.21},0.21,0.21,0.21,0.21,0.21,0.21]
[]
[null,null,null,null,"TIRG revenue",null,"£m nominal",null,null,null,null,null,null,null,null,null,null,null,null,null,null,null,null,null,null,null,null,null,null,null,null,null,null,{"$f":"AH143 * Input!AH$46 / Input!$AD$46","v":15.984994828096523},{"$f":"AI143 * Input!AI$46 / Input!$AD$46","v":15.863342896563577},{"$f":"AJ143 * Input!AJ$46 / Input!$AD$46","v":15.722258984015298},{"$f":"AK143 * Input!AK$46 / Input!$AD$46","v":0},{"$f":"AL143 * Input!AL$46 / Input!$AD$46","v":0},{"$f":"AM143 * Input!AM$46 / Input!$AD$46","v":0},{"$f":"AN143 * Input!AN$46 / Input!$AD$46","v":0},{"$f":"AO143 * Input!AO$46 / Input!$AD$46","v":0}]
[null,null,null,null,"Less interest payable",null,"£m nominal",null,null,null,null,null,null,null,null,null,null,null,null,null,null,null,null,null,null,null,null,null,null,null,null,null,null,{"$f":"((AH212 + AH216) / 2) * AH$50","v":-3.5997208324563892},{"$f":"((AI212 + AI216) / 2) * AI$50","v":-3.3097288423074218},{"$f":"((AJ212 + AJ216) / 2) * AJ$50","v":-3.1923558634850666},0,0,0,0,0]
[null,null,null,null,"Less capital allowances",null,"£m nominal",null,null,null,null,null,null,null,null,null,null,null,null,null,null,null,null,null,null,null,null,null,null,null,null,null,null,{"$f":"AH192 + AH181","v":-6.1592223132006794},{"$f":"AI192 + AI181","v":-5.6122239042440452},-5.1187522803060475,0,0,0,0,0]
[null,null,null,null,"Taxable profit",null,"£m nominal",null,null,null,null,null,null,null,null,null,null,null,null,null,null,null,null,null,null,null,null,null,null,null,null,null,null,{"$f":"SUM(AH199:AH201)","v":6.2260516824394543},6.9413901500121096,7.4111508402241846,0,0,0,0,0]
[]
[null,null,null,null,"Tax",null,"£m nominal",null,null,null,null,null,null,null,null,null,null,null,null,null,null,null,null,null,null,null,null,null,null,null,null,null,null,{"$f":"AH202*AH197","v":1.4319918869610746},1.4576919315025429,1.5563416764470788,0,0,0,0,0]
[]
[null,null,"Net debt"]
[]
[null,null,null,null,"Overall gearing after equity issuance",null,"%",null,null,null,null,null,null,null,null,null,null,null,null,null,null,null,null,null,null,null,null,null,null,null,null,null,null,{"$f":"AH$49","v":0.61135353243992929},{"$f":"AI$49","v":0.60000189322596054},0.62191505472876596,0.59999999999999987,0.60850938335275739,0.61023122236756555,0.61018397673715152,0.60573059090483217]
[]
[null,null,null,null,"Opening net debt",null,"£m nominal",null,null,null,null,null,null,null,null,null,null,null,null,null,null,null,null,null,null,null,null,null,null,null,null,null,null,null,{"$f":"AH220","v":-60.152066681442626},-57.036241876969342,-56.726869045357752,0,0,0,0]
[null,null,null,null,"Transfer from core net debt",null,"£m nominal",null,null,null,null,null,null,null,null,null,null,null,null,null,null,null,null,null,null,null,null,null,null,null,null,null,null,null,{"$f":"AI212-AI210","v":-5.8644776755460484},{"$f":"AJ212-AJ210","v":-8.7508547924459492},56.726869045357752,0,0,0,0]
[null,null,null,null,"Opening net debt after transfer",null,"£m nominal",null,null,null,null,null,null,null,null,null,null,null,null,null,null,null,null,null,null,null,null,null,null,null,null,null,null,{"$f":"IF(YEAR(AH$4) = YEAR($I142) + $I$43 + 1, 0, (-AH208 * (AH151 - AH160) * Input!AG$46 / Input!$AD$46))","v":-68.967264139511769},{"$f":"IF(YEAR(AI$4) = YEAR($I142) + $I$43 + 1, 0, (-AI208 * (AI151 - AI160) * Input!AH$46 / Input!$AD$46))","v":-66.016544356988675},{"$f":"IF(YEAR(AJ$4) = YEAR($I142) + $I$43 + 1, 0, (-AJ208 * (AJ151 - AJ160) * Input!AI$46 / Input!$AD$46))","v":-65.787096669415291},{"$f":"IF(YEAR(AK$4) = YEAR($I142) + $I$43 + 1, 0, (-AK208 * (AK151 - AK160) * Input!AJ$46 / Input!$AD$46))","v":0},{"$f":"IF(YEAR(AL$4) = YEAR($I142) + $I$43 + 1, 0, (-AL208 * (AL151 - AL160) * Input!AK$46 / Input!$AD$46))","v":0},{"$f":"IF(YEAR(AM$4) = YEAR($I142) + $I$43 + 1, 0, (-AM208 * (AM151 - AM160) * Input!AL$46 / Input!$AD$46))","v":0},{"$f":"IF(YEAR(AN$4) = YEAR($I142) + $I$43 + 1, 0, (-AN208 * (AN151 - AN160) * Input!AM$46 / Input!$AD$46))","v":0},{"$f":"IF(YEAR(AO$4) = YEAR($I142) + $I$43 + 1, 0, (-AO208 * (AO151 - AO160) * Input!AN$46 / Input!$AD$46))","v":0}]
[null,null,null,null,"Add TIRG revenue",null,"£m nominal",null,null,null,null,null,null,null,null,null,null,null,null,null,null,null,null,null,null,null,null,null,null,null,null,null,null,{"$f":"AH143 * Input!AH$46 / Input!$AD$46","v":15.984994828096523},{"$f":"AI143 * Input!AI$46 / Input!$AD$46","v":15.863342896563577},{"$f":"AJ143 * Input!AJ$46 / Input!$AD$46","v":15.722258984015298},{"$f":"AK143 * Input!AK$46 / Input!$AD$46","v":0},{"$f":"AL143 * Input!AL$46 / Input!$AD$46","v":0},{"$f":"AM143 * Input!AM$46 / Input!$AD$46","v":0},{"$f":"AN143 * Input!AN$46 / Input!$AD$46","v":0},{"$f":"AO143 * Input!AO$46 / Input!$AD$46","v":0}]
[null,null,null,null,"Less capex",null,"£m nominal",null,null,null,null,null,null,null,null,null,null,null,null,null,null,null,null,null,null,null,null,null,null,null,null,null,null,{"$f":"-AH144 * Input!AH$46 / Input!$AD$46","v":0},{"$f":"-AI144 * Input!AI$46 / Input!$AD$46","v":0},{"$f":"-AJ144 * Input!AJ$46 / Input!$AD$46","v":0},{"$f":"-AK144 * Input!AK$46 / Input!$AD$46","v":0},{"$f":"-AL144 * Input!AL$46 / Input!$AD$46","v":0},{"$f":"-AM144 * Input!AM$46 / Input!$AD$46","v":0},{"$f":"-AN144 * Input!AN$46 / Input!$AD$46","v":0},{"$f":"-AO144 * Input!AO$46 / Input!$AD$46","v":0}]
[null,null,null,null,"Less dividends",null,"£m nominal",null,null,null,null,null,null,null,null,null,null,null,null,null,null,null,null,null,null,null,null,null,null,null,null,null,null,{"$f":"-AH169*(1-AH208)*$I$52*Input!AH$46/Input!$AD$46","v":-2.1380846506099198},{"$f":"-AI169*(1-AI208)*$I$52*Input!AI$46/Input!$AD$46","v":-2.1156196427342793},{"$f":"-AJ169*(1-AJ208)*$I$52*Input!AJ$46/Input!$AD$46","v":-1.9133338200256194},{"$f":"-AK169*(1-AK208)*$I$52*Input!AK$46/Input!$AD$46","v":0},{"$f":"-AL169*(1-AL208)*$I$52*Input!AL$46/Input!$AD$46","v":0},{"$f":"-AM169*(1-AM208)*$I$52*Input!AM$46/Input!$AD$46","v":0},{"$f":"-AN169*(1-AN208)*$I$52*Input!AN$46/Input!$AD$46","v":0},{"$f":"-AO169*(1-AO208)*$I$52*Input!AO$46/Input!$AD$46","v":0}]
[null,null,null,null,"Closing net debt (before interest and tax)",null,"£m nominal",null,null,null,null,null,null,null,null,null,null,null,null,null,null,null,null,null,null,null,null,null,null,null,null,null,null,{"$f":"SUM(AH212:AH215)","v":-55.120353962025163},{"$f":"SUM(AI212:AI215)","v":-52.268821103159375},-51.978171505425614,0,0,0,0,0]
[null,null,null,null,"Less net interest paid (interest coupon)",null,"£m nominal",null,null,null,null,null,null,null,null,null,null,null,null,null,null,null,null,null,null,null,null,null,null,null,null,null,null,{"$f":"AH200 * (1 - AH$51)","v":-3.1527104304129017},-2.8844668742950694,-2.769643689921105,0,0,0,0,0]
[null,null,null,null,"Less net interest paid (inflation coupon)",null,"£m nominal",null,null,null,null,null,null,null,null,null,null,null,null,null,null,null,null,null,null,null,null,null,null,null,null,null,null,{"$f":"AH200 * AH$51","v":-0.4470104020434873},-0.42526196801235222,-0.42271217356396146,0,0,0,0,0]
[null,null,null,null,"Less tax",null,"£m nominal",null,null,null,null,null,null,null,null,null,null,null,null,null,null,null,null,null,null,null,null,null,null,null,null,null,null,{"$f":"-AH204","v":-1.4319918869610746},-1.4576919315025429,-1.5563416764470788,0,0,0,0,0]
[null,null,null,null,"Closing net debt",null,"£m nominal",null,null,null,null,null,null,null,null,null,null,null,null,null,null,null,null,null,null,null,null,null,null,null,null,null,null,{"$f":"SUM(AH216:AH219)","v":-60.152066681442626},{"$f":"SUM(AI216:AI219)","v":-57.036241876969342},-56.726869045357752,0,0,0,0,0]
[]
[null,"TIRG commissioned 2012"]
[]
[null,null,"Commission year specific inputs"]
[]
[null,null,null,null,"Commission year",null,"year",null,"2012-03-31"]
[null,null,null,null,"TIRG revenue",null,"£m 09/10 prices",null,null,">",null,null,null,null,null,null,null,null,null,null,null,null,null,null,{"$f":"Input!Y$287","v":0},{"$f":"Input!Z$287","v":0},{"$f":"Input!AA$287","v":0},{"$f":"Input!AB$287","v":0},{"$f":"Input!AC$287","v":0},{"$f":"Input!AD$287","v":0},{"$f":"Input!AE$287","v":0},{"$f":"Input!AF$287","v":0},{"$f":"Input!AG$287","v":0},{"$f":"Input!AH$287","v":0},{"$f":"Input!AI$287","v":0},{"$f":"Input!AJ$287","v":0},{"$f":"Input!AK$287","v":0},{"$f":"Input!AL$287","v":0},{"$f":"Input!AM$287","v":0},{"$f":"Input!AN$287","v":0},{"$f":"Input!AO$287","v":0}]
[null,null,null,null,"Capex",null,"£m 09/10 prices",null,null,">",null,null,null,null,null,null,null,null,null,null,null,null,null,null,{"$f":"Input!Y269","v":0},{"$f":"Input!Z269","v":0},{"$f":"Input!AA269","v":0},{"$f":"Input!AB269","v":0},{"$f":"Input!AC269","v":0},{"$f":"Input!AD269","v":0},{"$f":"Input!AE269","v":0},{"$f":"Input!AF269","v":0},{"$f":"Input!AG269","v":0},{"$f":"Input!AH269","v":0},{"$f":"Input!AI269","v":0},{"$f":"Input!AJ269","v":0},{"$f":"Input!AK269","v":0},{"$f":"Input!AL269","v":0},{"$f":"Input!AM269","v":0},{"$f":"Input!AN269","v":0},{"$f":"Input!AO269","v":0}]
[null,null,null,null,"Deemed depreciation before transfer to RAV",null,"£m 09/10 prices",null,null,">",null,null,null,null,null,null,null,null,null,null,null,null,null,null,{"$f":"Input!Y278","v":0},{"$f":"Input!Z278","v":0},{"$f":"Input!AA278","v":0},{"$f":"Input!AB278","v":0},{"$f":"Input!AC278","v":0},{"$f":"Input!AD278","v":0},{"$f":"Input!AE278","v":0},{"$f":"Input!AF278","v":0},{"$f":"Input!AG278","v":0},{"$f":"Input!AH278","v":0},{"$f":"Input!AI278","v":0},{"$f":"Input!AJ278","v":0},{"$f":"Input!AK278","v":0},{"$f":"Input!AL278","v":0},{"$f":"Input!AM278","v":0},{"$f":"Input!AN278","v":0},{"$f":"Input!AO278","v":0}]
[]
[null,null,"RAV"]
[]
[null,null,null,"Cost"]
[]
[null,null,null,null,"Opening balance brought forward",null,"£m 09/10 prices",null,null,">",null,null,null,null,null,null,null,null,null,null,null,null,null,null,0,{"$f":"Y240","v":0},0,0,0,0,0,0,0,0,0,0,0,0,0,0,0]
[null,null,null,null,"Transfer",null,"£m 09/10 prices",null,null,">",null,null,null,null,null,null,null,null,null,null,null,null,null,null,{"$f":"IF(YEAR(Y$4) = YEAR($I226) + $I$43 + 1, - Y235, 0)","v":0},0,0,0,0,0,0,0,0,0,0,0,0,0,0,0,0]
[null,null,null,null,"Opening balance after transfers",null,"£m 09/10 prices",null,null,">",null,null,null,null,null,null,null,null,null,null,null,null,null,null,{"$f":"SUM(Y235:Y236)","v":0},{"$f":"SUM(Z235:Z236)","v":0},0,0,0,0,0,0,0,0,0,0,0,0,0,0,0]
[null,null,null,null,"Net additions (after disposals)",null,"£m 09/10 prices",null,null,">",null,null,null,null,null,null,null,null,null,null,null,null,null,null,{"$f":"IF(YEAR(Y$4) <= YEAR($I226) + $I$43, Y228, 0)","v":0},0,0,0,0,0,0,0,0,0,0,0,0,0,0,0,0]
[null,null,null,null,"Removals",null,"£m 09/10 prices"]
[null,null,null,null,"Balance carried forward",null,"£m 09/10 prices",null,null,">",null,null,null,null,null,null,null,null,null,null,null,null,null,null,{"$f":"Y237 + Y238 - Y239","v":0},{"$f":"Z237 + Z238 - Z239","v":0},0,0,0,0,0,0,0,0,0,0,0,0,0,0,0]
[]
[null,null,null,"Accumulated depreciation"]
[]
[null,null,null,null,"Opening balance brought forward",null,"£m 09/10 prices",null,null,">",null,null,null,null,null,null,null,null,null,null,null,null,null,null,0,{"$f":"Y249","v":0},0,0,0,0,0,0,0,0,0,0,0,0,0,0,0]
[null,null,null,null,"Transfer",null,"£m 09/10 prices",null,null,">",null,null,null,null,null,null,null,null,null,null,null,null,null,null,{"$f":"IF(YEAR(Y$4) = YEAR($I226) + $I$43 + 1, -Y244, 0)","v":0},0,0,0,0,0,0,0,0,0,0,0,0,0,0,0,0]
[null,null,null,null,"Opening balance after transfers",null,"£m 09/10 prices",null,null,">",null,null,null,null,null,null,null,null,null,null,null,null,null,null,{"$f":"SUM(Y244:Y245)","v":0},{"$f":"SUM(Z244:Z245)","v":0},0,0,0,0,0,0,0,0,0,0,0,0,0,0,0]
[null,null,null,null,"Regulatory depreciation",null,"£m 09/10 prices",null,null,">",null,null,null,null,null,null,null,null,null,null,null,null,null,null,{"$f":"IF(YEAR(Y$4) <= YEAR($I226) + $I$43, Y229, Y237 / $I$42)","v":0},0,0,0,0,0,0,0,0,0,0,0,0,0,0,0,0]
[null,null,null,null,"Removals",null,"£m 09/10 prices",null,null,">",null,null,null,null,null,null,null,null,null,null,null,null,null,null,{"$f":"Y239","v":0},0,0,0,0,0,0,0,0,0,0,0,0,0,0,0,0]
[null,null,null,null,"Closing value carried forward",null,"£m 09/10 prices",null,null,">",null,null,null,null,null,null,null,null,null,null,null,null,null,null,{"$f":"Y246 + Y247 - Y248","v":0},{"$f":"Z246 + Z247 - Z248","v":0},0,0,0,0,0,0,0,0,0,0,0,0,0,0,0]
[]
[null,null,null,"Asset balance"]
[]
[null,null,null,null,"Net value after regulatory depreciation",null,"£m 09/10 prices",null,null,">",null,null,null,null,null,null,null,null,null,null,null,null,null,null,{"$f":"Y240-Y249","v":0},0,0,0,0,0,0,0,0,0,0,0,0,0,0,0,0]
[]
[null,null,"Capital allowances"]
[]
[null,null,null,"General pool capital allowances"]
[]
[null,null,null,null,"General pool allowance rate",null,"%",null,null,">",null,null,null,null,null,null,null,null,null,null,null,null,null,null,{"$f":"Y$44","v":0.25},{"$f":"Z$44","v":0.25},0.25,0.25,0.2,0.2,0.2,0.2,0.18000000000000002,0.18000000000000002,0.18000000000000002,0.18000000000000002,0.18000000000000002,0.18000000000000002,0.18000000000000002,0.18000000000000002,0.18000000000000002]
[]
[null,null,null,null,"Opening balance brought forward",null,"£m nominal",null,null,">",null,null,null,null,null,null,null,null,null,null,null,null,null,null,0,{"$f":"Y266","v":0},0,0,0,0,0,0,0,0,0,0,0,0,0,0,0]
[null,null,null,null,"Transfer",null,"£m nominal",null,null,">",null,null,null,null,null,null,null,null,null,null,null,null,null,null,{"$f":"IF(YEAR(Y$4) = YEAR($I226) + $I$43 + 1, -Y261, 0)","v":0},0,0,0,0,0,0,0,0,0,0,0,0,0,0,0,0]
[null,null,null,null,"Capex additions",null,"£m nominal",null,null,">",null,null,null,null,null,null,null,null,null,null,null,null,null,null,{"$f":"(Y238 * Y$46) * Input!Y$46 / Input!$AD$46","v":0},{"$f":"(Z238 * Z$46) * Input!Z$46 / Input!$AD$46","v":0},{"$f":"(AA238 * AA$46) * Input!AA$46 / Input!$AD$46","v":0},{"$f":"(AB238 * AB$46) * Input!AB$46 / Input!$AD$46","v":0},{"$f":"(AC238 * AC$46) * Input!AC$46 / Input!$AD$46","v":0},{"$f":"(AD238 * AD$46) * Input!AD$46 / Input!$AD$46","v":0},{"$f":"(AE238 * AE$46) * Input!AE$46 / Input!$AD$46","v":0},{"$f":"(AF238 * AF$46) * Input!AF$46 / Input!$AD$46","v":0},{"$f":"(AG238 * AG$46) * Input!AG$46 / Input!$AD$46","v":0},{"$f":"(AH238 * AH$46) * Input!AH$46 / Input!$AD$46","v":0},{"$f":"(AI238 * AI$46) * Input!AI$46 / Input!$AD$46","v":0},{"$f":"(AJ238 * AJ$46) * Input!AJ$46 / Input!$AD$46","v":0},{"$f":"(AK238 * AK$46) * Input!AK$46 / Input!$AD$46","v":0},{"$f":"(AL238 * AL$46) * Input!AL$46 / Input!$AD$46","v":0},{"$f":"(AM238 * AM$46) * Input!AM$46 / Input!$AD$46","v":0},{"$f":"(AN238 * AN$46) * Input!AN$46 / Input!$AD$46","v":0},{"$f":"(AO238 * AO$46) * Input!AO$46 / Input!$AD$46","v":0}]
[null,null,null,null,"Tax book value pre-depreciation",null,"£m nominal",null,null,">",null,null,null,null,null,null,null,null,null,null,null,null,null,null,{"$f":"SUM(Y261:Y263)","v":0},{"$f":"SUM(Z261:Z263)","v":0},{"$f":"SUM(AA261:AA263)","v":0},{"$f":"SUM(AB261:AB263)","v":0},{"$f":"SUM(AC261:AC263)","v":0},0,0,0,0,0,0,0,0,0,0,0,0]
[null,null,null,null,"General pool capital allowance",null,"£m nominal",null,null,">",null,null,null,null,null,null,null,null,null,null,null,null,null,null,{"$f":"-Y264*Y259","v":0},0,0,0,0,0,0,0,0,0,0,0,0,0,0,0,0]
[null,null,null,null,"Closing balance carried forward",null,null,null,null,">",null,null,null,null,null,null,null,null,null,null,null,null,null,null,{"$f":"SUM(Y264:Y265)","v":0},{"$f":"SUM(Z264:Z265)","v":0},0,0,0,0,0,0,0,0,0,0,0,0,0,0,0]
[]
[null,null,null,"Special Rate"]
[]
[null,null,null,null,"Special Rate capital allowance rate",null,"%",null,null,">",null,null,null,null,null,null,null,null,null,null,null,null,null,null,{"$f":"Y$45","v":0.06},0.06,0.06,0.06,0.1,0.1,0.1,0.1,0.08,{"$f":"AH$45","v":0.08},{"$f":"AI$45","v":0.08},0.08,0.08,0.08,0.08,0.08,0.08]
[]
[null,null,null,null,"Opening balance brought forward",null,"£m nominal",null,null,">",null,null,null,null,null,null,null,null,null,null,null,null,null,null,0,{"$f":"Y277","v":0},0,0,0,0,0,0,0,0,0,0,0,0,0,0,0]
[null,null,null,null,"Transfer",null,"£m nominal",null,null,">",null,null,null,null,null,null,null,null,null,null,null,null,null,null,{"$f":"IF(YEAR(Y$4) = YEAR($I226) + $I$43 + 1, -Y272, 0)","v":0},0,0,0,0,0,0,0,0,0,0,0,0,0,0,0,0]
[null,null,null,null,"Capex additions",null,"£m nominal",null,null,">",null,null,null,null,null,null,null,null,null,null,null,null,null,null,{"$f":"(Y228 * Y$47) * Input!Y$46 / Input!$AD$46","v":0},{"$f":"(Z228 * Z$47) * Input!Z$46 / Input!$AD$46","v":0},{"$f":"(AA228 * AA$47) * Input!AA$46 / Input!$AD$46","v":0},{"$f":"(AB228 * AB$47) * Input!AB$46 / Input!$AD$46","v":0},{"$f":"(AC228 * AC$47) * Input!AC$46 / Input!$AD$46","v":0},{"$f":"(AD228 * AD$47) * Input!AD$46 / Input!$AD$46","v":0},{"$f":"(AE228 * AE$47) * Input!AE$46 / Input!$AD$46","v":0},{"$f":"(AF228 * AF$47) * Input!AF$46 / Input!$AD$46","v":0},{"$f":"(AG228 * AG$47) * Input!AG$46 / Input!$AD$46","v":0},{"$f":"(AH228 * AH$47) * Input!AH$46 / Input!$AD$46","v":0},{"$f":"(AI228 * AI$47) * Input!AI$46 / Input!$AD$46","v":0},{"$f":"(AJ228 * AJ$47) * Input!AJ$46 / Input!$AD$46","v":0},{"$f":"(AK228 * AK$47) * Input!AK$46 / Input!$AD$46","v":0},{"$f":"(AL228 * AL$47) * Input!AL$46 / Input!$AD$46","v":0},{"$f":"(AM228 * AM$47) * Input!AM$46 / Input!$AD$46","v":0},{"$f":"(AN228 * AN$47) * Input!AN$46 / Input!$AD$46","v":0},{"$f":"(AO228 * AO$47) * Input!AO$46 / Input!$AD$46","v":0}]
[null,null,null,null,"Tax book value pre-depreciation",null,"£m nominal",null,null,">",null,null,null,null,null,null,null,null,null,null,null,null,null,null,{"$f":"SUM(Y272:Y274)","v":0},{"$f":"SUM(Z272:Z274)","v":0},{"$f":"SUM(AA272:AA274)","v":0},{"$f":"SUM(AB272:AB274)","v":0},{"$f":"SUM(AC272:AC274)","v":0},0,0,0,0,0,0,0,0,0,0,0,0]
[null,null,null,null,"Special Rate capital allowance",null,"£m nominal",null,null,">",null,null,null,null,null,null,null,null,null,null,null,null,null,null,{"$f":"-Y275*Y270","v":0},0,0,0,0,0,0,0,0,0,0,0,0,0,0,0,0]
[null,null,null,null,"Closing balance carried forward",null,null,null,null,">",null,null,null,null,null,null,null,null,null,null,null,null,null,null,{"$f":"SUM(Y275:Y276)","v":0},{"$f":"SUM(Z275:Z276)","v":0},0,0,0,0,0,0,0,0,0,0,0,0,0,0,0]
[]
[null,null,"Tax"]
[]
[null,null,null,null,"Corporation tax rate",null,"%",null,null,null,null,null,null,null,null,null,null,null,null,null,null,null,null,null,null,null,null,null,null,null,null,null,null,{"$f":"AH$48","v":0.23},{"$f":"AI$48","v":0.21},0.21,0.21,0.21,0.21,0.21,0.21]
[]
[null,null,null,null,"TIRG revenue",null,"£m nominal",null,null,null,null,null,null,null,null,null,null,null,null,null,null,null,null,null,null,null,null,null,null,null,null,null,null,{"$f":"AH227 * Input!AH$46 / Input!$AD$46","v":0},{"$f":"AI227 * Input!AI$46 / Input!$AD$46","v":0},{"$f":"AJ227 * Input!AJ$46 / Input!$AD$46","v":0},{"$f":"AK227 * Input!AK$46 / Input!$AD$46","v":0},{"$f":"AL227 * Input!AL$46 / Input!$AD$46","v":0},{"$f":"AM227 * Input!AM$46 / Input!$AD$46","v":0},{"$f":"AN227 * Input!AN$46 / Input!$AD$46","v":0},{"$f":"AO227 * Input!AO$46 / Input!$AD$46","v":0}]
[null,null,null,null,"Less interest payable",null,"£m nominal",null,null,null,null,null,null,null,null,null,null,null,null,null,null,null,null,null,null,null,null,null,null,null,null,null,null,{"$f":"((AH296 + AH300) / 2) * AH$50","v":0},{"$f":"((AI296 + AI300) / 2) * AI$50","v":0},0,0,0,0,0,0]
[null,null,null,null,"Less capital allowances",null,"£m nominal",null,null,null,null,null,null,null,null,null,null,null,null,null,null,null,null,null,null,null,null,null,null,null,null,null,null,{"$f":"AH276 + AH265","v":0},{"$f":"AI276 + AI265","v":0},0,0,0,0,0,0]
[null,null,null,null,"Taxable profit",null,"£m nominal",null,null,null,null,null,null,null,null,null,null,null,null,null,null,null,null,null,null,null,null,null,null,null,null,null,null,{"$f":"SUM(AH283:AH285)","v":0},0,0,0,0,0,0,0]
[]
[null,null,null,null,"Tax",null,"£m nominal",null,null,null,null,null,null,null,null,null,null,null,null,null,null,null,null,null,null,null,null,null,null,null,null,null,null,{"$f":"AH286*AH281","v":0},0,0,0,0,0,0,0]
[]
[null,null,"Net debt"]
[]
[null,null,null,null,"Overall gearing after equity issuance",null,"%",null,null,null,null,null,null,null,null,null,null,null,null,null,null,null,null,null,null,null,null,null,null,null,null,null,null,{"$f":"AH$49","v":0.61135353243992929},{"$f":"AI$49","v":0.60000189322596054},0.62191505472876596,0.59999999999999987,0.60850938335275739,0.61023122236756555,0.61018397673715152,0.60573059090483217]
[]
[null,null,null,null,"Opening net debt",null,"£m nominal",null,null,null,null,null,null,null,null,null,null,null,null,null,null,null,null,null,null,null,null,null,null,null,null,null,null,null,{"$f":"AH304","v":0},0,0,0,0,0,0]
[null,null,null,null,"Transfer from core net debt",null,"£m nominal",null,null,null,null,null,null,null,null,null,null,null,null,null,null,null,null,null,null,null,null,null,null,null,null,null,null,null,{"$f":"AI296-AI294","v":0},{"$f":"AJ296-AJ294","v":0},0,0,0,0,0]
[null,null,null,null,"Opening net debt after transfer",null,"£m nominal",null,null,null,null,null,null,null,null,null,null,null,null,null,null,null,null,null,null,null,null,null,null,null,null,null,null,{"$f":"IF(YEAR(AH$4) = YEAR($I226) + $I$43 + 1, 0, (-AH292 * (AH235 - AH244) * Input!AG$46 / Input!$AD$46))","v":0},{"$f":"IF(YEAR(AI$4) = YEAR($I226) + $I$43 + 1, 0, (-AI292 * (AI235 - AI244) * Input!AH$46 / Input!$AD$46))","v":0},{"$f":"IF(YEAR(AJ$4) = YEAR($I226) + $I$43 + 1, 0, (-AJ292 * (AJ235 - AJ244) * Input!AI$46 / Input!$AD$46))","v":0},{"$f":"IF(YEAR(AK$4) = YEAR($I226) + $I$43 + 1, 0, (-AK292 * (AK235 - AK244) * Input!AJ$46 / Input!$AD$46))","v":0},{"$f":"IF(YEAR(AL$4) = YEAR($I226) + $I$43 + 1, 0, (-AL292 * (AL235 - AL244) * Input!AK$46 / Input!$AD$46))","v":0},{"$f":"IF(YEAR(AM$4) = YEAR($I226) + $I$43 + 1, 0, (-AM292 * (AM235 - AM244) * Input!AL$46 / Input!$AD$46))","v":0},{"$f":"IF(YEAR(AN$4) = YEAR($I226) + $I$43 + 1, 0, (-AN292 * (AN235 - AN244) * Input!AM$46 / Input!$AD$46))","v":0},{"$f":"IF(YEAR(AO$4) = YEAR($I226) + $I$43 + 1, 0, (-AO292 * (AO235 - AO244) * Input!AN$46 / Input!$AD$46))","v":0}]
[null,null,null,null,"Add TIRG revenue",null,"£m nominal",null,null,null,null,null,null,null,null,null,null,null,null,null,null,null,null,null,null,null,null,null,null,null,null,null,null,{"$f":"AH227 * Input!AH$46 / Input!$AD$46","v":0},{"$f":"AI227 * Input!AI$46 / Input!$AD$46","v":0},{"$f":"AJ227 * Input!AJ$46 / Input!$AD$46","v":0},{"$f":"AK227 * Input!AK$46 / Input!$AD$46","v":0},{"$f":"AL227 * Input!AL$46 / Input!$AD$46","v":0},{"$f":"AM227 * Input!AM$46 / Input!$AD$46","v":0},{"$f":"AN227 * Input!AN$46 / Input!$AD$46","v":0},{"$f":"AO227 * Input!AO$46 / Input!$AD$46","v":0}]
[null,null,null,null,"Less capex",null,"£m nominal",null,null,null,null,null,null,null,null,null,null,null,null,null,null,null,null,null,null,null,null,null,null,null,null,null,null,{"$f":"-AH228 * Input!AH$46 / Input!$AD$46","v":0},{"$f":"-AI228 * Input!AI$46 / Input!$AD$46","v":0},{"$f":"-AJ228 * Input!AJ$46 / Input!$AD$46","v":0},{"$f":"-AK228 * Input!AK$46 / Input!$AD$46","v":0},{"$f":"-AL228 * Input!AL$46 / Input!$AD$46","v":0},{"$f":"-AM228 * Input!AM$46 / Input!$AD$46","v":0},{"$f":"-AN228 * Input!AN$46 / Input!$AD$46","v":0},{"$f":"-AO228 * Input!AO$46 / Input!$AD$46","v":0}]
[null,null,null,null,"Less dividends",null,"£m nominal",null,null,null,null,null,null,null,null,null,null,null,null,null,null,null,null,null,null,null,null,null,null,null,null,null,null,{"$f":"-AH253*(1-AH292)*$I$52*Input!AH$46/Input!$AD$46","v":0},{"$f":"-AI253*(1-AI292)*$I$52*Input!AI$46/Input!$AD$46","v":0},{"$f":"-AJ253*(1-AJ292)*$I$52*Input!AJ$46/Input!$AD$46","v":0},{"$f":"-AK253*(1-AK292)*$I$52*Input!AK$46/Input!$AD$46","v":0},{"$f":"-AL253*(1-AL292)*$I$52*Input!AL$46/Input!$AD$46","v":0},{"$f":"-AM253*(1-AM292)*$I$52*Input!AM$46/Input!$AD$46","v":0},{"$f":"-AN253*(1-AN292)*$I$52*Input!AN$46/Input!$AD$46","v":0},{"$f":"-AO253*(1-AO292)*$I$52*Input!AO$46/Input!$AD$46","v":0}]
[null,null,null,null,"Closing net debt (before interest and tax)",null,"£m nominal",null,null,null,null,null,null,null,null,null,null,null,null,null,null,null,null,null,null,null,null,null,null,null,null,null,null,{"$f":"SUM(AH296:AH299)","v":0},{"$f":"SUM(AI296:AI299)","v":0},0,0,0,0,0,0]
[null,null,null,null,"Less net interest paid (interest coupon)",null,"£m nominal",null,null,null,null,null,null,null,null,null,null,null,null,null,null,null,null,null,null,null,null,null,null,null,null,null,null,{"$f":"AH284 * (1 - AH$51)","v":0},0,0,0,0,0,0,0]
[null,null,null,null,"Less net interest paid (inflation coupon)",null,"£m nominal",null,null,null,null,null,null,null,null,null,null,null,null,null,null,null,null,null,null,null,null,null,null,null,null,null,null,{"$f":"AH284 * AH$51","v":0},0,0,0,0,0,0,0]
[null,null,null,null,"Less tax",null,"£m nominal",null,null,null,null,null,null,null,null,null,null,null,null,null,null,null,null,null,null,null,null,null,null,null,null,null,null,{"$f":"-AH288","v":0},{"$f":"-AI288","v":0},0,0,0,0,0,0]
[null,null,null,null,"Closing net debt",null,"£m nominal",null,null,null,null,null,null,null,null,null,null,null,null,null,null,null,null,null,null,null,null,null,null,null,null,null,null,{"$f":"SUM(AH300:AH303)","v":0},{"$f":"SUM(AI300:AI303)","v":0},0,0,0,0,0,0]
[]
[null,"TIRG commissioned 2013"]
[]
[null,null,"Commission year specific inputs"]
[]
[null,null,null,null,"Commission year",null,"year",null,"2013-03-31"]
[null,null,null,null,"TIRG revenue",null,"£m 09/10 prices",null,null,">",null,null,null,null,null,null,null,null,null,null,null,null,null,null,{"$f":"Input!Y$288","v":0},{"$f":"Input!Z$288","v":0},{"$f":"Input!AA$288","v":0},{"$f":"Input!AB$288","v":0},{"$f":"Input!AC$288","v":0},{"$f":"Input!AD$288","v":0},{"$f":"Input!AE$288","v":0},{"$f":"Input!AF$288","v":0},{"$f":"Input!AG$288","v":0},{"$f":"Input!AH$288","v":0},{"$f":"Input!AI$288","v":0},{"$f":"Input!AJ$288","v":0},{"$f":"Input!AK$288","v":0},{"$f":"Input!AL$288","v":0},{"$f":"Input!AM$288","v":0},{"$f":"Input!AN$288","v":0},{"$f":"Input!AO$288","v":0}]
[null,null,null,null,"Capex",null,"£m 09/10 prices",null,null,">",null,null,null,null,null,null,null,null,null,null,null,null,null,null,{"$f":"Input!Y270","v":0},{"$f":"Input!Z270","v":0},{"$f":"Input!AA270","v":0},{"$f":"Input!AB270","v":0},{"$f":"Input!AC270","v":0},{"$f":"Input!AD270","v":0},{"$f":"Input!AE270","v":0},{"$f":"Input!AF270","v":0},{"$f":"Input!AG270","v":0},{"$f":"Input!AH270","v":0},{"$f":"Input!AI270","v":0},{"$f":"Input!AJ270","v":0},{"$f":"Input!AK270","v":0},{"$f":"Input!AL270","v":0},{"$f":"Input!AM270","v":0},{"$f":"Input!AN270","v":0},{"$f":"Input!AO270","v":0}]
[null,null,null,null,"Deemed depreciation before transfer to RAV",null,"£m 09/10 prices",null,null,">",null,null,null,null,null,null,null,null,null,null,null,null,null,null,{"$f":"Input!Y279","v":0},{"$f":"Input!Z279","v":0},{"$f":"Input!AA279","v":0},{"$f":"Input!AB279","v":0},{"$f":"Input!AC279","v":0},{"$f":"Input!AD279","v":0},{"$f":"Input!AE279","v":0},{"$f":"Input!AF279","v":0},{"$f":"Input!AG279","v":0},{"$f":"Input!AH279","v":0},{"$f":"Input!AI279","v":0},{"$f":"Input!AJ279","v":0},{"$f":"Input!AK279","v":0},{"$f":"Input!AL279","v":0},{"$f":"Input!AM279","v":0},{"$f":"Input!AN279","v":0},{"$f":"Input!AO279","v":0}]
[]
[null,null,"RAV"]
[]
[null,null,null,"Cost"]
[]
[null,null,null,null,"Opening balance brought forward",null,"£m 09/10 prices",null,null,">",null,null,null,null,null,null,null,null,null,null,null,null,null,null,0,{"$f":"Y324","v":0},0,0,0,0,0,0,0,0,0,0,0,0,0,0,0]
[null,null,null,null,"Transfer",null,"£m 09/10 prices",null,null,">",null,null,null,null,null,null,null,null,null,null,null,null,null,null,{"$f":"IF(YEAR(Y$4) = YEAR($I310) + $I$43 + 1, - Y319, 0)","v":0},0,0,0,0,0,0,0,0,0,0,0,0,0,0,0,0]
[null,null,null,null,"Opening balance after transfers",null,"£m 09/10 prices",null,null,">",null,null,null,null,null,null,null,null,null,null,null,null,null,null,{"$f":"SUM(Y319:Y320)","v":0},{"$f":"SUM(Z319:Z320)","v":0},0,0,0,0,0,0,0,0,0,0,0,0,0,0,0]
[null,null,null,null,"Net additions (after disposals)",null,"£m 09/10 prices",null,null,">",null,null,null,null,null,null,null,null,null,null,null,null,null,null,{"$f":"IF(YEAR(Y$4) <= YEAR($I310) + $I$43, Y312, 0)","v":0},0,0,0,0,0,0,0,0,0,0,0,0,0,0,0,0]
[null,null,null,null,"Removals",null,"£m 09/10 prices"]
[null,null,null,null,"Balance carried forward",null,"£m 09/10 prices",null,null,">",null,null,null,null,null,null,null,null,null,null,null,null,null,null,{"$f":"Y321 + Y322 - Y323","v":0},{"$f":"Z321 + Z322 - Z323","v":0},0,0,0,0,0,0,0,0,0,0,0,0,0,0,0]
[]
[null,null,null,"Accumulated depreciation"]
[]
[null,null,null,null,"Opening balance brought forward",null,"£m 09/10 prices",null,null,">",null,null,null,null,null,null,null,null,null,null,null,null,null,null,0,{"$f":"Y333","v":0},0,0,0,0,0,0,0,0,0,0,0,0,0,0,0]
[null,null,null,null,"Transfer",null,"£m 09/10 prices",null,null,">",null,null,null,null,null,null,null,null,null,null,null,null,null,null,{"$f":"IF(YEAR(Y$4) = YEAR($I310) + $I$43 + 1, -Y328, 0)","v":0},0,0,0,0,0,0,0,0,0,0,0,0,0,0,0,0]
[null,null,null,null,"Opening balance after transfers",null,"£m 09/10 prices",null,null,">",null,null,null,null,null,null,null,null,null,null,null,null,null,null,{"$f":"SUM(Y328:Y329)","v":0},{"$f":"SUM(Z328:Z329)","v":0},0,0,0,0,0,0,0,0,0,0,0,0,0,0,0]
[null,null,null,null,"Regulatory depreciation",null,"£m 09/10 prices",null,null,">",null,null,null,null,null,null,null,null,null,null,null,null,null,null,{"$f":"IF(YEAR(Y$4) <= YEAR($I310) + $I$43, Y313, Y321 / $I$42)","v":0},0,0,0,0,0,0,0,0,0,0,0,0,0,0,0,0]
[null,null,null,null,"Removals",null,"£m 09/10 prices",null,null,">",null,null,null,null,null,null,null,null,null,null,null,null,null,null,{"$f":"Y323","v":0},0,0,0,0,0,0,0,0,0,0,0,0,0,0,0,0]
[null,null,null,null,"Closing value carried forward",null,"£m 09/10 prices",null,null,">",null,null,null,null,null,null,null,null,null,null,null,null,null,null,{"$f":"Y330 + Y331 - Y332","v":0},{"$f":"Z330 + Z331 - Z332","v":0},0,0,0,0,0,0,0,0,0,0,0,0,0,0,0]
[]
[null,null,null,"Asset balance"]
[]
[null,null,null,null,"Net value after regulatory depreciation",null,"£m 09/10 prices",null,null,">",null,null,null,null,null,null,null,null,null,null,null,null,null,null,{"$f":"Y324-Y333","v":0},0,0,0,0,0,0,0,0,0,0,0,0,0,0,0,0]
[]
[null,null,"Capital allowances"]
[]
[null,null,null,"General pool capital allowances"]
[]
[null,null,null,null,"General pool allowance rate",null,"%",null,null,">",null,null,null,null,null,null,null,null,null,null,null,null,null,null,{"$f":"Y$44","v":0.25},{"$f":"Z$44","v":0.25},0.25,0.25,0.2,0.2,0.2,0.2,0.18000000000000002,0.18000000000000002,0.18000000000000002,0.18000000000000002,0.18000000000000002,0.18000000000000002,0.18000000000000002,0.18000000000000002,0.18000000000000002]
[]
[null,null,null,null,"Opening balance brought forward",null,"£m nominal",null,null,">",null,null,null,null,null,null,null,null,null,null,null,null,null,null,0,{"$f":"Y350","v":0},0,0,0,0,0,0,0,0,0,0,0,0,0,0,0]
[null,null,null,null,"Transfer",null,"£m nominal",null,null,">",null,null,null,null,null,null,null,null,null,null,null,null,null,null,{"$f":"IF(YEAR(Y$4) = YEAR($I310) + $I$43 + 1, -Y345, 0)","v":0},0,0,0,0,0,0,0,0,0,0,0,0,0,0,0,0]
[null,null,null,null,"Capex additions",null,"£m nominal",null,null,">",null,null,null,null,null,null,null,null,null,null,null,null,null,null,{"$f":"(Y322 * Y$46) * Input!Y$46 / Input!$AD$46","v":0},{"$f":"(Z322 * Z$46) * Input!Z$46 / Input!$AD$46","v":0},{"$f":"(AA322 * AA$46) * Input!AA$46 / Input!$AD$46","v":0},{"$f":"(AB322 * AB$46) * Input!AB$46 / Input!$AD$46","v":0},{"$f":"(AC322 * AC$46) * Input!AC$46 / Input!$AD$46","v":0},{"$f":"(AD322 * AD$46) * Input!AD$46 / Input!$AD$46","v":0},{"$f":"(AE322 * AE$46) * Input!AE$46 / Input!$AD$46","v":0},{"$f":"(AF322 * AF$46) * Input!AF$46 / Input!$AD$46","v":0},{"$f":"(AG322 * AG$46) * Input!AG$46 / Input!$AD$46","v":0},{"$f":"(AH322 * AH$46) * Input!AH$46 / Input!$AD$46","v":0},{"$f":"(AI322 * AI$46) * Input!AI$46 / Input!$AD$46","v":0},{"$f":"(AJ322 * AJ$46) * Input!AJ$46 / Input!$AD$46","v":0},{"$f":"(AK322 * AK$46) * Input!AK$46 / Input!$AD$46","v":0},{"$f":"(AL322 * AL$46) * Input!AL$46 / Input!$AD$46","v":0},{"$f":"(AM322 * AM$46) * Input!AM$46 / Input!$AD$46","v":0},{"$f":"(AN322 * AN$46) * Input!AN$46 / Input!$AD$46","v":0},{"$f":"(AO322 * AO$46) * Input!AO$46 / Input!$AD$46","v":0}]
[null,null,null,null,"Tax book value pre-depreciation",null,"£m nominal",null,null,">",null,null,null,null,null,null,null,null,null,null,null,null,null,null,{"$f":"SUM(Y345:Y347)","v":0},{"$f":"SUM(Z345:Z347)","v":0},{"$f":"SUM(AA345:AA347)","v":0},{"$f":"SUM(AB345:AB347)","v":0},{"$f":"SUM(AC345:AC347)","v":0},0,0,0,0,0,0,0,0,0,0,0,0]
[null,null,null,null,"General pool capital allowance",null,"£m nominal",null,null,">",null,null,null,null,null,null,null,null,null,null,null,null,null,null,{"$f":"-Y348*Y343","v":0},0,0,0,0,0,0,0,0,0,0,0,0,0,0,0,0]
[null,null,null,null,"Closing balance carried forward",null,null,null,null,">",null,null,null,null,null,null,null,null,null,null,null,null,null,null,{"$f":"SUM(Y348:Y349)","v":0},{"$f":"SUM(Z348:Z349)","v":0},0,0,0,0,0,0,0,0,0,0,0,0,0,0,0]
[]
[null,null,null,"Special Rate"]
[]
[null,null,null,null,"Special Rate capital allowance rate",null,"%",null,null,">",null,null,null,null,null,null,null,null,null,null,null,null,null,null,{"$f":"Y$45","v":0.06},0.06,0.06,0.06,0.1,0.1,0.1,0.1,0.08,{"$f":"AH$45","v":0.08},{"$f":"AI$45","v":0.08},0.08,0.08,0.08,0.08,0.08,0.08]
[]
[null,null,null,null,"Opening balance brought forward",null,"£m nominal",null,null,">",null,null,null,null,null,null,null,null,null,null,null,null,null,null,0,{"$f":"Y361","v":0},0,0,0,0,0,0,0,0,0,0,0,0,0,0,0]
[null,null,null,null,"Transfer",null,"£m nominal",null,null,">",null,null,null,null,null,null,null,null,null,null,null,null,null,null,{"$f":"IF(YEAR(Y$4) = YEAR($I310) + $I$43 + 1, -Y356, 0)","v":0},0,0,0,0,0,0,0,0,0,0,0,0,0,0,0,0]
[null,null,null,null,"Capex additions",null,"£m nominal",null,null,">",null,null,null,null,null,null,null,null,null,null,null,null,null,null,{"$f":"(Y312 * Y$47) * Input!Y$46 / Input!$AD$46","v":0},{"$f":"(Z312 * Z$47) * Input!Z$46 / Input!$AD$46","v":0},{"$f":"(AA312 * AA$47) * Input!AA$46 / Input!$AD$46","v":0},{"$f":"(AB312 * AB$47) * Input!AB$46 / Input!$AD$46","v":0},{"$f":"(AC312 * AC$47) * Input!AC$46 / Input!$AD$46","v":0},{"$f":"(AD312 * AD$47) * Input!AD$46 / Input!$AD$46","v":0},{"$f":"(AE312 * AE$47) * Input!AE$46 / Input!$AD$46","v":0},{"$f":"(AF312 * AF$47) * Input!AF$46 / Input!$AD$46","v":0},{"$f":"(AG312 * AG$47) * Input!AG$46 / Input!$AD$46","v":0},{"$f":"(AH312 * AH$47) * Input!AH$46 / Input!$AD$46","v":0},{"$f":"(AI312 * AI$47) * Input!AI$46 / Input!$AD$46","v":0},{"$f":"(AJ312 * AJ$47) * Input!AJ$46 / Input!$AD$46","v":0},{"$f":"(AK312 * AK$47) * Input!AK$46 / Input!$AD$46","v":0},{"$f":"(AL312 * AL$47) * Input!AL$46 / Input!$AD$46","v":0},{"$f":"(AM312 * AM$47) * Input!AM$46 / Input!$AD$46","v":0},{"$f":"(AN312 * AN$47) * Input!AN$46 / Input!$AD$46","v":0},{"$f":"(AO312 * AO$47) * Input!AO$46 / Input!$AD$46","v":0}]
[null,null,null,null,"Tax book value pre-depreciation",null,"£m nominal",null,null,">",null,null,null,null,null,null,null,null,null,null,null,null,null,null,{"$f":"SUM(Y356:Y358)","v":0},{"$f":"SUM(Z356:Z358)","v":0},{"$f":"SUM(AA356:AA358)","v":0},{"$f":"SUM(AB356:AB358)","v":0},{"$f":"SUM(AC356:AC358)","v":0},0,0,0,0,0,0,0,0,0,0,0,0]
[null,null,null,null,"Special Rate capital allowance",null,"£m nominal",null,null,">",null,null,null,null,null,null,null,null,null,null,null,null,null,null,{"$f":"-Y359*Y354","v":0},0,0,0,0,0,0,0,0,0,0,0,0,0,0,0,0]
[null,null,null,null,"Closing balance carried forward",null,null,null,null,">",null,null,null,null,null,null,null,null,null,null,null,null,null,null,{"$f":"SUM(Y359:Y360)","v":0},{"$f":"SUM(Z359:Z360)","v":0},0,0,0,0,0,0,0,0,0,0,0,0,0,0,0]
[]
[null,null,"Tax"]
[]
[null,null,null,null,"Corporation tax rate",null,"%",null,null,null,null,null,null,null,null,null,null,null,null,null,null,null,null,null,null,null,null,null,null,null,null,null,null,{"$f":"AH$48","v":0.23},{"$f":"AI$48","v":0.21},0.21,0.21,0.21,0.21,0.21,0.21]
[]
[null,null,null,null,"TIRG revenue",null,"£m nominal",null,null,null,null,null,null,null,null,null,null,null,null,null,null,null,null,null,null,null,null,null,null,null,null,null,null,{"$f":"AH311 * Input!AH$46 / Input!$AD$46","v":0},{"$f":"AI311 * Input!AI$46 / Input!$AD$46","v":0},{"$f":"AJ311 * Input!AJ$46 / Input!$AD$46","v":0},{"$f":"AK311 * Input!AK$46 / Input!$AD$46","v":0},{"$f":"AL311 * Input!AL$46 / Input!$AD$46","v":0},{"$f":"AM311 * Input!AM$46 / Input!$AD$46","v":0},{"$f":"AN311 * Input!AN$46 / Input!$AD$46","v":0},{"$f":"AO311 * Input!AO$46 / Input!$AD$46","v":0}]
[null,null,null,null,"Less interest payable",null,"£m nominal",null,null,null,null,null,null,null,null,null,null,null,null,null,null,null,null,null,null,null,null,null,null,null,null,null,null,{"$f":"((AH380 + AH384) / 2) * AH$50","v":0},{"$f":"((AI380 + AI384) / 2) * AI$50","v":0},0,0,0,0,0,0]
[null,null,null,null,"Less capital allowances",null,"£m nominal",null,null,null,null,null,null,null,null,null,null,null,null,null,null,null,null,null,null,null,null,null,null,null,null,null,null,{"$f":"AH360 + AH349","v":0},{"$f":"AI360 + AI349","v":0},0,0,0,0,0,0]
[null,null,null,null,"Taxable profit",null,"£m nominal",null,null,null,null,null,null,null,null,null,null,null,null,null,null,null,null,null,null,null,null,null,null,null,null,null,null,{"$f":"SUM(AH367:AH369)","v":0},0,0,0,0,0,0,0]
[]
[null,null,null,null,"Tax",null,"£m nominal",null,null,null,null,null,null,null,null,null,null,null,null,null,null,null,null,null,null,null,null,null,null,null,null,null,null,{"$f":"AH370*AH365","v":0},0,0,0,0,0,0,0]
[]
[null,null,"Net debt"]
[]
[null,null,null,null,"Overall gearing after equity issuance",null,"%",null,null,null,null,null,null,null,null,null,null,null,null,null,null,null,null,null,null,null,null,null,null,null,null,null,null,{"$f":"AH$49","v":0.61135353243992929},{"$f":"AI$49","v":0.60000189322596054},0.62191505472876596,0.59999999999999987,0.60850938335275739,0.61023122236756555,0.61018397673715152,0.60573059090483217]
[]
[null,null,null,null,"Opening net debt",null,"£m nominal",null,null,null,null,null,null,null,null,null,null,null,null,null,null,null,null,null,null,null,null,null,null,null,null,null,null,null,{"$f":"AH388","v":0},0,0,0,0,0,0]
[null,null,null,null,"Transfer from core net debt",null,"£m nominal",null,null,null,null,null,null,null,null,null,null,null,null,null,null,null,null,null,null,null,null,null,null,null,null,null,null,null,{"$f":"AI380-AI378","v":0},{"$f":"AJ380-AJ378","v":0},0,0,0,0,0]
[null,null,null,null,"Opening net debt after transfer",null,"£m nominal",null,null,null,null,null,null,null,null,null,null,null,null,null,null,null,null,null,null,null,null,null,null,null,null,null,null,{"$f":"IF(YEAR(AH$4) = YEAR($I310) + $I$43 + 1, 0, (-AH376 * (AH319 - AH328) * Input!AG$46 / Input!$AD$46))","v":0},{"$f":"IF(YEAR(AI$4) = YEAR($I310) + $I$43 + 1, 0, (-AI376 * (AI319 - AI328) * Input!AH$46 / Input!$AD$46))","v":0},{"$f":"IF(YEAR(AJ$4) = YEAR($I310) + $I$43 + 1, 0, (-AJ376 * (AJ319 - AJ328) * Input!AI$46 / Input!$AD$46))","v":0},{"$f":"IF(YEAR(AK$4) = YEAR($I310) + $I$43 + 1, 0, (-AK376 * (AK319 - AK328) * Input!AJ$46 / Input!$AD$46))","v":0},{"$f":"IF(YEAR(AL$4) = YEAR($I310) + $I$43 + 1, 0, (-AL376 * (AL319 - AL328) * Input!AK$46 / Input!$AD$46))","v":0},{"$f":"IF(YEAR(AM$4) = YEAR($I310) + $I$43 + 1, 0, (-AM376 * (AM319 - AM328) * Input!AL$46 / Input!$AD$46))","v":0},{"$f":"IF(YEAR(AN$4) = YEAR($I310) + $I$43 + 1, 0, (-AN376 * (AN319 - AN328) * Input!AM$46 / Input!$AD$46))","v":0},{"$f":"IF(YEAR(AO$4) = YEAR($I310) + $I$43 + 1, 0, (-AO376 * (AO319 - AO328) * Input!AN$46 / Input!$AD$46))","v":0}]
[null,null,null,null,"Add TIRG revenue",null,"£m nominal",null,null,null,null,null,null,null,null,null,null,null,null,null,null,null,null,null,null,null,null,null,null,null,null,null,null,{"$f":"AH311 * Input!AH$46 / Input!$AD$46","v":0},{"$f":"AI311 * Input!AI$46 / Input!$AD$46","v":0},{"$f":"AJ311 * Input!AJ$46 / Input!$AD$46","v":0},{"$f":"AK311 * Input!AK$46 / Input!$AD$46","v":0},{"$f":"AL311 * Input!AL$46 / Input!$AD$46","v":0},{"$f":"AM311 * Input!AM$46 / Input!$AD$46","v":0},{"$f":"AN311 * Input!AN$46 / Input!$AD$46","v":0},{"$f":"AO311 * Input!AO$46 / Input!$AD$46","v":0}]
[null,null,null,null,"Less capex",null,"£m nominal",null,null,null,null,null,null,null,null,null,null,null,null,null,null,null,null,null,null,null,null,null,null,null,null,null,null,{"$f":"-AH312 * Input!AH$46 / Input!$AD$46","v":0},{"$f":"-AI312 * Input!AI$46 / Input!$AD$46","v":0},{"$f":"-AJ312 * Input!AJ$46 / Input!$AD$46","v":0},{"$f":"-AK312 * Input!AK$46 / Input!$AD$46","v":0},{"$f":"-AL312 * Input!AL$46 / Input!$AD$46","v":0},{"$f":"-AM312 * Input!AM$46 / Input!$AD$46","v":0},{"$f":"-AN312 * Input!AN$46 / Input!$AD$46","v":0},{"$f":"-AO312 * Input!AO$46 / Input!$AD$46","v":0}]
[null,null,null,null,"Less dividends",null,"£m nominal",null,null,null,null,null,null,null,null,null,null,null,null,null,null,null,null,null,null,null,null,null,null,null,null,null,null,{"$f":"-AH337*(1-AH376)*$I$52*Input!AH$46/Input!$AD$46","v":0},{"$f":"-AI337*(1-AI376)*$I$52*Input!AI$46/Input!$AD$46","v":0},{"$f":"-AJ337*(1-AJ376)*$I$52*Input!AJ$46/Input!$AD$46","v":0},{"$f":"-AK337*(1-AK376)*$I$52*Input!AK$46/Input!$AD$46","v":0},{"$f":"-AL337*(1-AL376)*$I$52*Input!AL$46/Input!$AD$46","v":0},{"$f":"-AM337*(1-AM376)*$I$52*Input!AM$46/Input!$AD$46","v":0},{"$f":"-AN337*(1-AN376)*$I$52*Input!AN$46/Input!$AD$46","v":0},{"$f":"-AO337*(1-AO376)*$I$52*Input!AO$46/Input!$AD$46","v":0}]
[null,null,null,null,"Closing net debt (before interest and tax)",null,"£m nominal",null,null,null,null,null,null,null,null,null,null,null,null,null,null,null,null,null,null,null,null,null,null,null,null,null,null,{"$f":"SUM(AH380:AH383)","v":0},{"$f":"SUM(AI380:AI383)","v":0},0,0,0,0,0,0]
[null,null,null,null,"Less net interest paid (interest coupon)",null,"£m nominal",null,null,null,null,null,null,null,null,null,null,null,null,null,null,null,null,null,null,null,null,null,null,null,null,null,null,{"$f":"AH368 * (1 - AH$51)","v":0},0,0,0,0,0,0,0]
[null,null,null,null,"Less net interest paid (inflation coupon)",null,"£m nominal",null,null,null,null,null,null,null,null,null,null,null,null,null,null,null,null,null,null,null,null,null,null,null,null,null,null,{"$f":"AH368 * AH$51","v":0},0,0,0,0,0,0,0]
[null,null,null,null,"Less tax",null,"£m nominal",null,null,null,null,null,null,null,null,null,null,null,null,null,null,null,null,null,null,null,null,null,null,null,null,null,null,{"$f":"-AH372","v":0},{"$f":"-AI372","v":0},0,0,0,0,0,0]
[null,null,null,null,"Closing net debt",null,"£m nominal",null,null,null,null,null,null,null,null,null,null,null,null,null,null,null,null,null,null,null,null,null,null,null,null,null,null,{"$f":"SUM(AH384:AH387)","v":0},{"$f":"SUM(AI384:AI387)","v":0},0,0,0,0,0,0]
[]
[null,"TIRG commissioned 2014"]
[]
[null,null,"Commission year specific inputs"]
[]
[null,null,null,null,"Commission year",null,"year",null,"2014-03-31"]
[null,null,null,null,"TIRG revenue",null,"£m 09/10 prices",null,null,">",null,null,null,null,null,null,null,null,null,null,null,null,null,null,{"$f":"Input!Y$289","v":0},{"$f":"Input!Z$289","v":0},{"$f":"Input!AA$289","v":0},{"$f":"Input!AB$289","v":0},{"$f":"Input!AC$289","v":0},{"$f":"Input!AD$289","v":0},{"$f":"Input!AE$289","v":0},{"$f":"Input!AF$289","v":0},{"$f":"Input!AG$289","v":0},{"$f":"Input!AH$289","v":0},{"$f":"Input!AI$289","v":0},{"$f":"Input!AJ$289","v":0},{"$f":"Input!AK$289","v":0},{"$f":"Input!AL$289","v":0},{"$f":"Input!AM$289","v":0},{"$f":"Input!AN$289","v":0},{"$f":"Input!AO$289","v":0}]
[null,null,null,null,"Capex",null,"£m 09/10 prices",null,null,">",null,null,null,null,null,null,null,null,null,null,null,null,null,null,{"$f":"Input!Y271","v":0},{"$f":"Input!Z271","v":0},{"$f":"Input!AA271","v":0},{"$f":"Input!AB271","v":0},{"$f":"Input!AC271","v":0},{"$f":"Input!AD271","v":0},{"$f":"Input!AE271","v":0},{"$f":"Input!AF271","v":0},{"$f":"Input!AG271","v":0},{"$f":"Input!AH271","v":0},{"$f":"Input!AI271","v":0},{"$f":"Input!AJ271","v":0},{"$f":"Input!AK271","v":0},{"$f":"Input!AL271","v":0},{"$f":"Input!AM271","v":0},{"$f":"Input!AN271","v":0},{"$f":"Input!AO271","v":0}]
[null,null,null,null,"Deemed depreciation before transfer to RAV",null,"£m 09/10 prices",null,null,null,null,null,null,null,null,null,null,null,null,null,null,null,null,null,{"$f":"Input!Y280","v":0},{"$f":"Input!Z280","v":0},{"$f":"Input!AA280","v":0},{"$f":"Input!AB280","v":0},{"$f":"Input!AC280","v":0},{"$f":"Input!AD280","v":0},{"$f":"Input!AE280","v":0},{"$f":"Input!AF280","v":0},{"$f":"Input!AG280","v":0},{"$f":"Input!AH280","v":0},{"$f":"Input!AI280","v":0},{"$f":"Input!AJ280","v":0},{"$f":"Input!AK280","v":0},{"$f":"Input!AL280","v":0},{"$f":"Input!AM280","v":0},{"$f":"Input!AN280","v":0},{"$f":"Input!AO280","v":0}]
[]
[null,null,"RAV"]
[]
[null,null,null,"Cost"]
[]
[null,null,null,null,"Opening balance brought forward",null,"£m 09/10 prices",null,null,">",null,null,null,null,null,null,null,null,null,null,null,null,null,null,0,{"$f":"Y408","v":0},0,0,0,0,0,0,0,0,0,0,0,0,0,0,0]
[null,null,null,null,"Transfer",null,"£m 09/10 prices",null,null,">",null,null,null,null,null,null,null,null,null,null,null,null,null,null,{"$f":"IF(YEAR(Y$4) = YEAR($I394) + $I$43 + 1, - Y403, 0)","v":0},0,0,0,0,0,0,0,0,0,0,0,0,0,0,0,0]
[null,null,null,null,"Opening balance after transfers",null,"£m 09/10 prices",null,null,">",null,null,null,null,null,null,null,null,null,null,null,null,null,null,{"$f":"SUM(Y403:Y404)","v":0},{"$f":"SUM(Z403:Z404)","v":0},0,0,0,0,0,0,0,0,0,0,0,0,0,0,0]
[null,null,null,null,"Net additions (after disposals)",null,"£m 09/10 prices",null,null,">",null,null,null,null,null,null,null,null,null,null,null,null,null,null,{"$f":"IF(YEAR(Y$4) <= YEAR($I394) + $I$43, Y396, 0)","v":0},0,0,0,0,0,0,0,0,0,0,0,0,0,0,0,0]
[null,null,null,null,"Removals",null,"£m 09/10 prices"]
[null,null,null,null,"Balance carried forward",null,"£m 09/10 prices",null,null,">",null,null,null,null,null,null,null,null,null,null,null,null,null,null,{"$f":"Y405 + Y406 - Y407","v":0},{"$f":"Z405 + Z406 - Z407","v":0},0,0,0,0,0,0,0,0,0,0,0,0,0,0,0]
[]
[null,null,null,"Accumulated depreciation"]
[]
[null,null,null,null,"Opening balance brought forward",null,"£m 09/10 prices",null,null,">",null,null,null,null,null,null,null,null,null,null,null,null,null,null,0,{"$f":"Y417","v":0},0,0,0,0,0,0,0,0,0,0,0,0,0,0,0]
[null,null,null,null,"Transfer",null,"£m 09/10 prices",null,null,">",null,null,null,null,null,null,null,null,null,null,null,null,null,null,{"$f":"IF(YEAR(Y$4) = YEAR($I394) + $I$43 + 1, -Y412, 0)","v":0},0,0,0,0,0,0,0,0,0,0,0,0,0,0,0,0]
[null,null,null,null,"Opening balance after transfers",null,"£m 09/10 prices",null,null,">",null,null,null,null,null,null,null,null,null,null,null,null,null,null,{"$f":"SUM(Y412:Y413)","v":0},{"$f":"SUM(Z412:Z413)","v":0},0,0,0,0,0,0,0,0,0,0,0,0,0,0,0]
[null,null,null,null,"Regulatory depreciation",null,"£m 09/10 prices",null,null,">",null,null,null,null,null,null,null,null,null,null,null,null,null,null,{"$f":"IF(YEAR(Y$4) <= YEAR($I394) + $I$43, Y397, Y405 / $I$42)","v":0},0,0,0,0,0,0,0,0,0,0,0,0,0,0,0,0]
[null,null,null,null,"Removals",null,"£m 09/10 prices",null,null,">",null,null,null,null,null,null,null,null,null,null,null,null,null,null,{"$f":"Y407","v":0},0,0,0,0,0,0,0,0,0,0,0,0,0,0,0,0]
[null,null,null,null,"Closing value carried forward",null,"£m 09/10 prices",null,null,">",null,null,null,null,null,null,null,null,null,null,null,null,null,null,{"$f":"Y414 + Y415 - Y416","v":0},{"$f":"Z414 + Z415 - Z416","v":0},0,0,0,0,0,0,0,0,0,0,0,0,0,0,0]
[]
[null,null,null,"Asset balance"]
[]
[null,null,null,null,"Net value after regulatory depreciation",null,"£m 09/10 prices",null,null,">",null,null,null,null,null,null,null,null,null,null,null,null,null,null,{"$f":"Y408-Y417","v":0},0,0,0,0,0,0,0,0,0,0,0,0,0,0,0,0]
[]
[null,null,"Capital allowances"]
[]
[null,null,null,"General pool capital allowances"]
[]
[null,null,null,null,"General pool allowance rate",null,"%",null,null,">",null,null,null,null,null,null,null,null,null,null,null,null,null,null,{"$f":"Y$44","v":0.25},{"$f":"Z$44","v":0.25},0.25,0.25,0.2,0.2,0.2,0.2,0.18000000000000002,0.18000000000000002,0.18000000000000002,0.18000000000000002,0.18000000000000002,0.18000000000000002,0.18000000000000002,0.18000000000000002,0.18000000000000002]
[]
[null,null,null,null,"Opening balance brought forward",null,"£m nominal",null,null,">",null,null,null,null,null,null,null,null,null,null,null,null,null,null,0,{"$f":"Y434","v":0},0,0,0,0,0,0,0,0,0,0,0,0,0,0,0]
[null,null,null,null,"Transfer",null,"£m nominal",null,null,">",null,null,null,null,null,null,null,null,null,null,null,null,null,null,{"$f":"IF(YEAR(Y$4) = YEAR($I394) + $I$43 + 1, -Y429, 0)","v":0},0,0,0,0,0,0,0,0,0,0,0,0,0,0,0,0]
[null,null,null,null,"Capex additions",null,"£m nominal",null,null,">",null,null,null,null,null,null,null,null,null,null,null,null,null,null,{"$f":"(Y406 * Y$46) * Input!Y$46 / Input!$AD$46","v":0},{"$f":"(Z406 * Z$46) * Input!Z$46 / Input!$AD$46","v":0},{"$f":"(AA406 * AA$46) * Input!AA$46 / Input!$AD$46","v":0},{"$f":"(AB406 * AB$46) * Input!AB$46 / Input!$AD$46","v":0},{"$f":"(AC406 * AC$46) * Input!AC$46 / Input!$AD$46","v":0},{"$f":"(AD406 * AD$46) * Input!AD$46 / Input!$AD$46","v":0},{"$f":"(AE406 * AE$46) * Input!AE$46 / Input!$AD$46","v":0},{"$f":"(AF406 * AF$46) * Input!AF$46 / Input!$AD$46","v":0},{"$f":"(AG406 * AG$46) * Input!AG$46 / Input!$AD$46","v":0},{"$f":"(AH406 * AH$46) * Input!AH$46 / Input!$AD$46","v":0},{"$f":"(AI406 * AI$46) * Input!AI$46 / Input!$AD$46","v":0},{"$f":"(AJ406 * AJ$46) * Input!AJ$46 / Input!$AD$46","v":0},{"$f":"(AK406 * AK$46) * Input!AK$46 / Input!$AD$46","v":0},{"$f":"(AL406 * AL$46) * Input!AL$46 / Input!$AD$46","v":0},{"$f":"(AM406 * AM$46) * Input!AM$46 / Input!$AD$46","v":0},{"$f":"(AN406 * AN$46) * Input!AN$46 / Input!$AD$46","v":0},{"$f":"(AO406 * AO$46) * Input!AO$46 / Input!$AD$46","v":0}]
[null,null,null,null,"Tax book value pre-depreciation",null,"£m nominal",null,null,">",null,null,null,null,null,null,null,null,null,null,null,null,null,null,{"$f":"SUM(Y429:Y431)","v":0},{"$f":"SUM(Z429:Z431)","v":0},{"$f":"SUM(AA429:AA431)","v":0},{"$f":"SUM(AB429:AB431)","v":0},{"$f":"SUM(AC429:AC431)","v":0},0,0,0,0,0,0,0,0,0,0,0,0]
[null,null,null,null,"General pool capital allowance",null,"£m nominal",null,null,">",null,null,null,null,null,null,null,null,null,null,null,null,null,null,{"$f":"-Y432*Y427","v":0},0,0,0,0,0,0,0,0,0,0,0,0,0,0,0,0]
[null,null,null,null,"Closing balance carried forward",null,null,null,null,">",null,null,null,null,null,null,null,null,null,null,null,null,null,null,{"$f":"SUM(Y432:Y433)","v":0},{"$f":"SUM(Z432:Z433)","v":0},0,0,0,0,0,0,0,0,0,0,0,0,0,0,0]
[]
[null,null,null,"Special Rate"]
[]
[null,null,null,null,"Special Rate capital allowance rate",null,"%",null,null,">",null,null,null,null,null,null,null,null,null,null,null,null,null,null,{"$f":"Y$45","v":0.06},0.06,0.06,0.06,0.1,0.1,0.1,0.1,0.08,{"$f":"AH$45","v":0.08},{"$f":"AI$45","v":0.08},0.08,0.08,0.08,0.08,0.08,0.08]
[]
[null,null,null,null,"Opening balance brought forward",null,"£m nominal",null,null,">",null,null,null,null,null,null,null,null,null,null,null,null,null,null,0,{"$f":"Y445","v":0},0,0,0,0,0,0,0,0,0,0,0,0,0,0,0]
[null,null,null,null,"Transfer",null,"£m nominal",null,null,">",null,null,null,null,null,null,null,null,null,null,null,null,null,null,{"$f":"IF(YEAR(Y$4) = YEAR($I394) + $I$43 + 1, -Y440, 0)","v":0},0,0,0,0,0,0,0,0,0,0,0,0,0,0,0,0]
[null,null,null,null,"Capex additions",null,"£m nominal",null,null,">",null,null,null,null,null,null,null,null,null,null,null,null,null,null,{"$f":"(Y396 * Y$47) * Input!Y$46 / Input!$AD$46","v":0},{"$f":"(Z396 * Z$47) * Input!Z$46 / Input!$AD$46","v":0},{"$f":"(AA396 * AA$47) * Input!AA$46 / Input!$AD$46","v":0},{"$f":"(AB396 * AB$47) * Input!AB$46 / Input!$AD$46","v":0},{"$f":"(AC396 * AC$47) * Input!AC$46 / Input!$AD$46","v":0},{"$f":"(AD396 * AD$47) * Input!AD$46 / Input!$AD$46","v":0},{"$f":"(AE396 * AE$47) * Input!AE$46 / Input!$AD$46","v":0},{"$f":"(AF396 * AF$47) * Input!AF$46 / Input!$AD$46","v":0},{"$f":"(AG396 * AG$47) * Input!AG$46 / Input!$AD$46","v":0},{"$f":"(AH396 * AH$47) * Input!AH$46 / Input!$AD$46","v":0},{"$f":"(AI396 * AI$47) * Input!AI$46 / Input!$AD$46","v":0},{"$f":"(AJ396 * AJ$47) * Input!AJ$46 / Input!$AD$46","v":0},{"$f":"(AK396 * AK$47) * Input!AK$46 / Input!$AD$46","v":0},{"$f":"(AL396 * AL$47) * Input!AL$46 / Input!$AD$46","v":0},{"$f":"(AM396 * AM$47) * Input!AM$46 / Input!$AD$46","v":0},{"$f":"(AN396 * AN$47) * Input!AN$46 / Input!$AD$46","v":0},{"$f":"(AO396 * AO$47) * Input!AO$46 / Input!$AD$46","v":0}]
[null,null,null,null,"Tax book value pre-depreciation",null,"£m nominal",null,null,">",null,null,null,null,null,null,null,null,null,null,null,null,null,null,{"$f":"SUM(Y440:Y442)","v":0},{"$f":"SUM(Z440:Z442)","v":0},{"$f":"SUM(AA440:AA442)","v":0},{"$f":"SUM(AB440:AB442)","v":0},{"$f":"SUM(AC440:AC442)","v":0},0,0,0,0,0,0,0,0,0,0,0,0]
[null,null,null,null,"Special Rate capital allowance",null,"£m nominal",null,null,">",null,null,null,null,null,null,null,null,null,null,null,null,null,null,{"$f":"-Y443*Y438","v":0},0,0,0,0,0,0,0,0,0,0,0,0,0,0,0,0]
[null,null,null,null,"Closing balance carried forward",null,null,null,null,">",null,null,null,null,null,null,null,null,null,null,null,null,null,null,{"$f":"SUM(Y443:Y444)","v":0},{"$f":"SUM(Z443:Z444)","v":0},0,0,0,0,0,0,0,0,0,0,0,0,0,0,0]
[]
[null,null,"Tax"]
[]
[null,null,null,null,"Corporation tax rate",null,"%",null,null,null,null,null,null,null,null,null,null,null,null,null,null,null,null,null,null,null,null,null,null,null,null,null,null,{"$f":"AH$48","v":0.23},{"$f":"AI$48","v":0.21},0.21,0.21,0.21,0.21,0.21,0.21]
[]
[null,null,null,null,"TIRG revenue",null,"£m nominal",null,null,null,null,null,null,null,null,null,null,null,null,null,null,null,null,null,null,null,null,null,null,null,null,null,null,{"$f":"AH395 * Input!AH$46 / Input!$AD$46","v":0},{"$f":"AI395 * Input!AI$46 / Input!$AD$46","v":0},{"$f":"AJ395 * Input!AJ$46 / Input!$AD$46","v":0},{"$f":"AK395 * Input!AK$46 / Input!$AD$46","v":0},{"$f":"AL395 * Input!AL$46 / Input!$AD$46","v":0},{"$f":"AM395 * Input!AM$46 / Input!$AD$46","v":0},{"$f":"AN395 * Input!AN$46 / Input!$AD$46","v":0},{"$f":"AO395 * Input!AO$46 / Input!$AD$46","v":0}]
[null,null,null,null,"Less interest payable",null,"£m nominal",null,null,null,null,null,null,null,null,null,null,null,null,null,null,null,null,null,null,null,null,null,null,null,null,null,null,{"$f":"((AH464 + AH468) / 2) * AH$50","v":0},{"$f":"((AI464 + AI468) / 2) * AI$50","v":0},0,0,0,0,0,0]
[null,null,null,null,"Less capital allowances",null,"£m nominal",null,null,null,null,null,null,null,null,null,null,null,null,null,null,null,null,null,null,null,null,null,null,null,null,null,null,{"$f":"AH444 + AH433","v":0},{"$f":"AI444 + AI433","v":0},0,0,0,0,0,0]
[null,null,null,null,"Taxable profit",null,"£m nominal",null,null,null,null,null,null,null,null,null,null,null,null,null,null,null,null,null,null,null,null,null,null,null,null,null,null,{"$f":"SUM(AH451:AH453)","v":0},0,0,0,0,0,0,0]
[]
[null,null,null,null,"Tax",null,"£m nominal",null,null,null,null,null,null,null,null,null,null,null,null,null,null,null,null,null,null,null,null,null,null,null,null,null,null,{"$f":"AH454*AH449","v":0},0,0,0,0,0,0,0]
[]
[null,null,"Net debt"]
[]
[null,null,null,null,"Overall gearing after equity issuance",null,"%",null,null,null,null,null,null,null,null,null,null,null,null,null,null,null,null,null,null,null,null,null,null,null,null,null,null,{"$f":"AH$49","v":0.61135353243992929},{"$f":"AI$49","v":0.60000189322596054},0.62191505472876596,0.59999999999999987,0.60850938335275739,0.61023122236756555,0.61018397673715152,0.60573059090483217]
[]
[null,null,null,null,"Opening net debt",null,"£m nominal",null,null,null,null,null,null,null,null,null,null,null,null,null,null,null,null,null,null,null,null,null,null,null,null,null,null,null,{"$f":"AH472","v":0},0,0,0,0,0,0]
[null,null,null,null,"Transfer from core net debt",null,"£m nominal",null,null,null,null,null,null,null,null,null,null,null,null,null,null,null,null,null,null,null,null,null,null,null,null,null,null,null,{"$f":"AI464-AI462","v":0},{"$f":"AJ464-AJ462","v":0},0,0,0,0,0]
[null,null,null,null,"Opening net debt after transfer",null,"£m nominal",null,null,null,null,null,null,null,null,null,null,null,null,null,null,null,null,null,null,null,null,null,null,null,null,null,null,{"$f":"IF(YEAR(AH$4) = YEAR($I394) + $I$43 + 1, 0, (-AH460 * (AH403 - AH412) * Input!AG$46 / Input!$AD$46))","v":0},{"$f":"IF(YEAR(AI$4) = YEAR($I394) + $I$43 + 1, 0, (-AI460 * (AI403 - AI412) * Input!AH$46 / Input!$AD$46))","v":0},{"$f":"IF(YEAR(AJ$4) = YEAR($I394) + $I$43 + 1, 0, (-AJ460 * (AJ403 - AJ412) * Input!AI$46 / Input!$AD$46))","v":0},{"$f":"IF(YEAR(AK$4) = YEAR($I394) + $I$43 + 1, 0, (-AK460 * (AK403 - AK412) * Input!AJ$46 / Input!$AD$46))","v":0},{"$f":"IF(YEAR(AL$4) = YEAR($I394) + $I$43 + 1, 0, (-AL460 * (AL403 - AL412) * Input!AK$46 / Input!$AD$46))","v":0},{"$f":"IF(YEAR(AM$4) = YEAR($I394) + $I$43 + 1, 0, (-AM460 * (AM403 - AM412) * Input!AL$46 / Input!$AD$46))","v":0},{"$f":"IF(YEAR(AN$4) = YEAR($I394) + $I$43 + 1, 0, (-AN460 * (AN403 - AN412) * Input!AM$46 / Input!$AD$46))","v":0},{"$f":"IF(YEAR(AO$4) = YEAR($I394) + $I$43 + 1, 0, (-AO460 * (AO403 - AO412) * Input!AN$46 / Input!$AD$46))","v":0}]
[null,null,null,null,"Add TIRG revenue",null,"£m nominal",null,null,null,null,null,null,null,null,null,null,null,null,null,null,null,null,null,null,null,null,null,null,null,null,null,null,{"$f":"AH395 * Input!AH$46 / Input!$AD$46","v":0},{"$f":"AI395 * Input!AI$46 / Input!$AD$46","v":0},{"$f":"AJ395 * Input!AJ$46 / Input!$AD$46","v":0},{"$f":"AK395 * Input!AK$46 / Input!$AD$46","v":0},{"$f":"AL395 * Input!AL$46 / Input!$AD$46","v":0},{"$f":"AM395 * Input!AM$46 / Input!$AD$46","v":0},{"$f":"AN395 * Input!AN$46 / Input!$AD$46","v":0},{"$f":"AO395 * Input!AO$46 / Input!$AD$46","v":0}]
[null,null,null,null,"Less capex",null,"£m nominal",null,null,null,null,null,null,null,null,null,null,null,null,null,null,null,null,null,null,null,null,null,null,null,null,null,null,{"$f":"-AH396 * Input!AH$46 / Input!$AD$46","v":0},{"$f":"-AI396 * Input!AI$46 / Input!$AD$46","v":0},{"$f":"-AJ396 * Input!AJ$46 / Input!$AD$46","v":0},{"$f":"-AK396 * Input!AK$46 / Input!$AD$46","v":0},{"$f":"-AL396 * Input!AL$46 / Input!$AD$46","v":0},{"$f":"-AM396 * Input!AM$46 / Input!$AD$46","v":0},{"$f":"-AN396 * Input!AN$46 / Input!$AD$46","v":0},{"$f":"-AO396 * Input!AO$46 / Input!$AD$46","v":0}]
[null,null,null,null,"Less dividends",null,"£m nominal",null,null,null,null,null,null,null,null,null,null,null,null,null,null,null,null,null,null,null,null,null,null,null,null,null,null,{"$f":"-AH421*(1-AH460)*$I$52*Input!AH$46/Input!$AD$46","v":0},{"$f":"-AI421*(1-AI460)*$I$52*Input!AI$46/Input!$AD$46","v":0},{"$f":"-AJ421*(1-AJ460)*$I$52*Input!AJ$46/Input!$AD$46","v":0},{"$f":"-AK421*(1-AK460)*$I$52*Input!AK$46/Input!$AD$46","v":0},{"$f":"-AL421*(1-AL460)*$I$52*Input!AL$46/Input!$AD$46","v":0},{"$f":"-AM421*(1-AM460)*$I$52*Input!AM$46/Input!$AD$46","v":0},{"$f":"-AN421*(1-AN460)*$I$52*Input!AN$46/Input!$AD$46","v":0},{"$f":"-AO421*(1-AO460)*$I$52*Input!AO$46/Input!$AD$46","v":0}]
[null,null,null,null,"Closing net debt (before interest and tax)",null,"£m nominal",null,null,null,null,null,null,null,null,null,null,null,null,null,null,null,null,null,null,null,null,null,null,null,null,null,null,{"$f":"SUM(AH464:AH467)","v":0},{"$f":"SUM(AI464:AI467)","v":0},0,0,0,0,0,0]
[null,null,null,null,"Less net interest paid (interest coupon)",null,"£m nominal",null,null,null,null,null,null,null,null,null,null,null,null,null,null,null,null,null,null,null,null,null,null,null,null,null,null,{"$f":"AH452 * (1 - AH$51)","v":0},0,0,0,0,0,0,0]
[null,null,null,null,"Less net interest paid (inflation coupon)",null,"£m nominal",null,null,null,null,null,null,null,null,null,null,null,null,null,null,null,null,null,null,null,null,null,null,null,null,null,null,{"$f":"AH452 * AH$51","v":0},0,0,0,0,0,0,0]
[null,null,null,null,"Less tax",null,"£m nominal",null,null,null,null,null,null,null,null,null,null,null,null,null,null,null,null,null,null,null,null,null,null,null,null,null,null,{"$f":"-AH456","v":0},{"$f":"-AI456","v":0},0,0,0,0,0,0]
[null,null,null,null,"Closing net debt",null,"£m nominal",null,null,null,null,null,null,null,null,null,null,null,null,null,null,null,null,null,null,null,null,null,null,null,null,null,null,{"$f":"SUM(AH468:AH471)","v":0},{"$f":"SUM(AI468:AI471)","v":0},0,0,0,0,0,0]
[]
[null,"TIRG commissioned 2015"]
[]
[null,null,"Commission year specific inputs"]
[]
[null,null,null,null,"Commission year",null,"year",null,"2015-03-31"]
[null,null,null,null,"TIRG revenue",null,"£m 09/10 prices",null,null,">",null,null,null,null,null,null,null,null,null,null,null,null,null,null,{"$f":"Input!Y$290","v":0},{"$f":"Input!Z$290","v":0},{"$f":"Input!AA$290","v":0},{"$f":"Input!AB$290","v":0},{"$f":"Input!AC$290","v":0},{"$f":"Input!AD$290","v":0},{"$f":"Input!AE$290","v":0},{"$f":"Input!AF$290","v":0},{"$f":"Input!AG$290","v":0},{"$f":"Input!AH$290","v":0},{"$f":"Input!AI$290","v":0},{"$f":"Input!AJ$290","v":0},{"$f":"Input!AK$290","v":0},{"$f":"Input!AL$290","v":0},{"$f":"Input!AM$290","v":0},{"$f":"Input!AN$290","v":0},{"$f":"Input!AO$290","v":0}]
[null,null,null,null,"Capex",null,"£m 09/10 prices",null,null,">",null,null,null,null,null,null,null,null,null,null,null,null,null,null,{"$f":"Input!Y272","v":0},{"$f":"Input!Z272","v":0},{"$f":"Input!AA272","v":0},{"$f":"Input!AB272","v":0},{"$f":"Input!AC272","v":0},{"$f":"Input!AD272","v":0},{"$f":"Input!AE272","v":0},{"$f":"Input!AF272","v":0},{"$f":"Input!AG272","v":0},{"$f":"Input!AH272","v":0},{"$f":"Input!AI272","v":0},{"$f":"Input!AJ272","v":0},{"$f":"Input!AK272","v":0},{"$f":"Input!AL272","v":0},{"$f":"Input!AM272","v":0},{"$f":"Input!AN272","v":0},{"$f":"Input!AO272","v":0}]
[null,null,null,null,"Deemed depreciation before transfer to RAV",null,"£m 09/10 prices",null,null,">",null,null,null,null,null,null,null,null,null,null,null,null,null,null,{"$f":"Input!Y281","v":0},{"$f":"Input!Z281","v":0},{"$f":"Input!AA281","v":0},{"$f":"Input!AB281","v":0},{"$f":"Input!AC281","v":0},{"$f":"Input!AD281","v":0},{"$f":"Input!AE281","v":0},{"$f":"Input!AF281","v":0},{"$f":"Input!AG281","v":0},{"$f":"Input!AH281","v":0},{"$f":"Input!AI281","v":0},{"$f":"Input!AJ281","v":0},{"$f":"Input!AK281","v":0},{"$f":"Input!AL281","v":0},{"$f":"Input!AM281","v":0},{"$f":"Input!AN281","v":0},{"$f":"Input!AO281","v":0}]
[]
[null,null,"RAV"]
[]
[null,null,null,"Cost"]
[]
[null,null,null,null,"Opening balance brought forward",null,"£m 09/10 prices",null,null,">",null,null,null,null,null,null,null,null,null,null,null,null,null,null,0,{"$f":"Y492","v":0},0,0,0,0,0,0,0,0,0,0,0,0,0,0,0]
[null,null,null,null,"Transfer",null,"£m 09/10 prices",null,null,">",null,null,null,null,null,null,null,null,null,null,null,null,null,null,{"$f":"IF(YEAR(Y$4) = YEAR($I478) + $I$43 + 1, - Y487, 0)","v":0},0,0,0,0,0,0,0,0,0,0,0,0,0,0,0,0]
[null,null,null,null,"Opening balance after transfers",null,"£m 09/10 prices",null,null,">",null,null,null,null,null,null,null,null,null,null,null,null,null,null,{"$f":"SUM(Y487:Y488)","v":0},{"$f":"SUM(Z487:Z488)","v":0},0,0,0,0,0,0,0,0,0,0,0,0,0,0,0]
[null,null,null,null,"Net additions (after disposals)",null,"£m 09/10 prices",null,null,">",null,null,null,null,null,null,null,null,null,null,null,null,null,null,{"$f":"IF(YEAR(Y$4) <= YEAR($I478) + $I$43, Y480, 0)","v":0},0,0,0,0,0,0,0,0,0,0,0,0,0,0,0,0]
[null,null,null,null,"Removals",null,"£m 09/10 prices"]
[null,null,null,null,"Balance carried forward",null,"£m 09/10 prices",null,null,">",null,null,null,null,null,null,null,null,null,null,null,null,null,null,{"$f":"Y489 + Y490 - Y491","v":0},{"$f":"Z489 + Z490 - Z491","v":0},0,0,0,0,0,0,0,0,0,0,0,0,0,0,0]
[]
[null,null,null,"Accumulated depreciation"]
[]
[null,null,null,null,"Opening balance brought forward",null,"£m 09/10 prices",null,null,">",null,null,null,null,null,null,null,null,null,null,null,null,null,null,0,{"$f":"Y501","v":0},0,0,0,0,0,0,0,0,0,0,0,0,0,0,0]
[null,null,null,null,"Transfer",null,"£m 09/10 prices",null,null,">",null,null,null,null,null,null,null,null,null,null,null,null,null,null,{"$f":"IF(YEAR(Y$4) = YEAR($I478) + $I$43 + 1, -Y496, 0)","v":0},0,0,0,0,0,0,0,0,0,0,0,0,0,0,0,0]
[null,null,null,null,"Opening balance after transfers",null,"£m 09/10 prices",null,null,">",null,null,null,null,null,null,null,null,null,null,null,null,null,null,{"$f":"SUM(Y496:Y497)","v":0},{"$f":"SUM(Z496:Z497)","v":0},0,0,0,0,0,0,0,0,0,0,0,0,0,0,0]
[null,null,null,null,"Regulatory depreciation",null,"£m 09/10 prices",null,null,">",null,null,null,null,null,null,null,null,null,null,null,null,null,null,{"$f":"IF(YEAR(Y$4) <= YEAR($I478) + $I$43, Y481, Y489 / $I$42)","v":0},0,0,0,0,0,0,0,0,0,0,0,0,0,0,0,0]
[null,null,null,null,"Removals",null,"£m 09/10 prices",null,null,">",null,null,null,null,null,null,null,null,null,null,null,null,null,null,{"$f":"Y491","v":0},0,0,0,0,0,0,0,0,0,0,0,0,0,0,0,0]
[null,null,null,null,"Closing value carried forward",null,"£m 09/10 prices",null,null,">",null,null,null,null,null,null,null,null,null,null,null,null,null,null,{"$f":"Y498 + Y499 - Y500","v":0},{"$f":"Z498 + Z499 - Z500","v":0},0,0,0,0,0,0,0,0,0,0,0,0,0,0,0]
[]
[null,null,null,"Asset balance"]
[]
[null,null,null,null,"Net value after regulatory depreciation",null,"£m 09/10 prices",null,null,">",null,null,null,null,null,null,null,null,null,null,null,null,null,null,{"$f":"Y492-Y501","v":0},0,0,0,0,0,0,0,0,0,0,0,0,0,0,0,0]
[]
[null,null,"Capital allowances"]
[]
[null,null,null,"General pool capital allowances"]
[]
[null,null,null,null,"General pool allowance rate",null,"%",null,null,">",null,null,null,null,null,null,null,null,null,null,null,null,null,null,{"$f":"Y$44","v":0.25},{"$f":"Z$44","v":0.25},0.25,0.25,0.2,0.2,0.2,0.2,0.18000000000000002,0.18000000000000002,0.18000000000000002,0.18000000000000002,0.18000000000000002,0.18000000000000002,0.18000000000000002,0.18000000000000002,0.18000000000000002]
[]
[null,null,null,null,"Opening balance brought forward",null,"£m nominal",null,null,">",null,null,null,null,null,null,null,null,null,null,null,null,null,null,0,{"$f":"Y518","v":0},0,0,0,0,0,0,0,0,0,0,0,0,0,0,0]
[null,null,null,null,"Transfer",null,"£m nominal",null,null,">",null,null,null,null,null,null,null,null,null,null,null,null,null,null,{"$f":"IF(YEAR(Y$4) = YEAR($I478) + $I$43 + 1, -Y513, 0)","v":0},0,0,0,0,0,0,0,0,0,0,0,0,0,0,0,0]
[null,null,null,null,"Capex additions",null,"£m nominal",null,null,">",null,null,null,null,null,null,null,null,null,null,null,null,null,null,{"$f":"(Y490 * Y$46) * Input!Y$46 / Input!$AD$46","v":0},{"$f":"(Z490 * Z$46) * Input!Z$46 / Input!$AD$46","v":0},{"$f":"(AA490 * AA$46) * Input!AA$46 / Input!$AD$46","v":0},{"$f":"(AB490 * AB$46) * Input!AB$46 / Input!$AD$46","v":0},{"$f":"(AC490 * AC$46) * Input!AC$46 / Input!$AD$46","v":0},{"$f":"(AD490 * AD$46) * Input!AD$46 / Input!$AD$46","v":0},{"$f":"(AE490 * AE$46) * Input!AE$46 / Input!$AD$46","v":0},{"$f":"(AF490 * AF$46) * Input!AF$46 / Input!$AD$46","v":0},{"$f":"(AG490 * AG$46) * Input!AG$46 / Input!$AD$46","v":0},{"$f":"(AH490 * AH$46) * Input!AH$46 / Input!$AD$46","v":0},{"$f":"(AI490 * AI$46) * Input!AI$46 / Input!$AD$46","v":0},{"$f":"(AJ490 * AJ$46) * Input!AJ$46 / Input!$AD$46","v":0},{"$f":"(AK490 * AK$46) * Input!AK$46 / Input!$AD$46","v":0},{"$f":"(AL490 * AL$46) * Input!AL$46 / Input!$AD$46","v":0},{"$f":"(AM490 * AM$46) * Input!AM$46 / Input!$AD$46","v":0},{"$f":"(AN490 * AN$46) * Input!AN$46 / Input!$AD$46","v":0},{"$f":"(AO490 * AO$46) * Input!AO$46 / Input!$AD$46","v":0}]
[null,null,null,null,"Tax book value pre-depreciation",null,"£m nominal",null,null,">",null,null,null,null,null,null,null,null,null,null,null,null,null,null,{"$f":"SUM(Y513:Y515)","v":0},{"$f":"SUM(Z513:Z515)","v":0},{"$f":"SUM(AA513:AA515)","v":0},{"$f":"SUM(AB513:AB515)","v":0},{"$f":"SUM(AC513:AC515)","v":0},0,0,0,0,0,0,0,0,0,0,0,0]
[null,null,null,null,"General pool capital allowance",null,"£m nominal",null,null,">",null,null,null,null,null,null,null,null,null,null,null,null,null,null,{"$f":"-Y516*Y511","v":0},0,0,0,0,0,0,0,0,0,0,0,0,0,0,0,0]
[null,null,null,null,"Closing balance carried forward",null,null,null,null,">",null,null,null,null,null,null,null,null,null,null,null,null,null,null,{"$f":"SUM(Y516:Y517)","v":0},{"$f":"SUM(Z516:Z517)","v":0},0,0,0,0,0,0,0,0,0,0,0,0,0,0,0]
[]
[null,null,null,"Special Rate"]
[]
[null,null,null,null,"Special Rate capital allowance rate",null,"%",null,null,">",null,null,null,null,null,null,null,null,null,null,null,null,null,null,{"$f":"Y$45","v":0.06},0.06,0.06,0.06,0.1,0.1,0.1,0.1,0.08,{"$f":"AH$45","v":0.08},{"$f":"AI$45","v":0.08},0.08,0.08,0.08,0.08,0.08,0.08]
[]
[null,null,null,null,"Opening balance brought forward",null,"£m nominal",null,null,">",null,null,null,null,null,null,null,null,null,null,null,null,null,null,0,{"$f":"Y529","v":0},0,0,0,0,0,0,0,0,0,0,0,0,0,0,0]
[null,null,null,null,"Transfer",null,"£m nominal",null,null,">",null,null,null,null,null,null,null,null,null,null,null,null,null,null,{"$f":"IF(YEAR(Y$4) = YEAR($I478) + $I$43 + 1, -Y524, 0)","v":0},0,0,0,0,0,0,0,0,0,0,0,0,0,0,0,0]
[null,null,null,null,"Capex additions",null,"£m nominal",null,null,">",null,null,null,null,null,null,null,null,null,null,null,null,null,null,{"$f":"(Y480 * Y$47) * Input!Y$46 / Input!$AD$46","v":0},{"$f":"(Z480 * Z$47) * Input!Z$46 / Input!$AD$46","v":0},{"$f":"(AA480 * AA$47) * Input!AA$46 / Input!$AD$46","v":0},{"$f":"(AB480 * AB$47) * Input!AB$46 / Input!$AD$46","v":0},{"$f":"(AC480 * AC$47) * Input!AC$46 / Input!$AD$46","v":0},{"$f":"(AD480 * AD$47) * Input!AD$46 / Input!$AD$46","v":0},{"$f":"(AE480 * AE$47) * Input!AE$46 / Input!$AD$46","v":0},{"$f":"(AF480 * AF$47) * Input!AF$46 / Input!$AD$46","v":0},{"$f":"(AG480 * AG$47) * Input!AG$46 / Input!$AD$46","v":0},{"$f":"(AH480 * AH$47) * Input!AH$46 / Input!$AD$46","v":0},{"$f":"(AI480 * AI$47) * Input!AI$46 / Input!$AD$46","v":0},{"$f":"(AJ480 * AJ$47) * Input!AJ$46 / Input!$AD$46","v":0},{"$f":"(AK480 * AK$47) * Input!AK$46 / Input!$AD$46","v":0},{"$f":"(AL480 * AL$47) * Input!AL$46 / Input!$AD$46","v":0},{"$f":"(AM480 * AM$47) * Input!AM$46 / Input!$AD$46","v":0},{"$f":"(AN480 * AN$47) * Input!AN$46 / Input!$AD$46","v":0},{"$f":"(AO480 * AO$47) * Input!AO$46 / Input!$AD$46","v":0}]
[null,null,null,null,"Tax book value pre-depreciation",null,"£m nominal",null,null,">",null,null,null,null,null,null,null,null,null,null,null,null,null,null,{"$f":"SUM(Y524:Y526)","v":0},{"$f":"SUM(Z524:Z526)","v":0},{"$f":"SUM(AA524:AA526)","v":0},{"$f":"SUM(AB524:AB526)","v":0},{"$f":"SUM(AC524:AC526)","v":0},0,0,0,0,0,0,0,0,0,0,0,0]
[null,null,null,null,"Special Rate capital allowance",null,"£m nominal",null,null,">",null,null,null,null,null,null,null,null,null,null,null,null,null,null,{"$f":"-Y527*Y522","v":0},0,0,0,0,0,0,0,0,0,0,0,0,0,0,0,0]
[null,null,null,null,"Closing balance carried forward",null,null,null,null,">",null,null,null,null,null,null,null,null,null,null,null,null,null,null,{"$f":"SUM(Y527:Y528)","v":0},{"$f":"SUM(Z527:Z528)","v":0},0,0,0,0,0,0,0,0,0,0,0,0,0,0,0]
[]
[null,null,"Tax"]
[]
[null,null,null,null,"Corporation tax rate",null,"%",null,null,null,null,null,null,null,null,null,null,null,null,null,null,null,null,null,null,null,null,null,null,null,null,null,null,{"$f":"AH$48","v":0.23},{"$f":"AI$48","v":0.21},0.21,0.21,0.21,0.21,0.21,0.21]
[]
[null,null,null,null,"TIRG revenue",null,"£m nominal",null,null,null,null,null,null,null,null,null,null,null,null,null,null,null,null,null,null,null,null,null,null,null,null,null,null,{"$f":"AH479 * Input!AH$46 / Input!$AD$46","v":0},{"$f":"AI479 * Input!AI$46 / Input!$AD$46","v":0},{"$f":"AJ479 * Input!AJ$46 / Input!$AD$46","v":0},{"$f":"AK479 * Input!AK$46 / Input!$AD$46","v":0},{"$f":"AL479 * Input!AL$46 / Input!$AD$46","v":0},{"$f":"AM479 * Input!AM$46 / Input!$AD$46","v":0},{"$f":"AN479 * Input!AN$46 / Input!$AD$46","v":0},{"$f":"AO479 * Input!AO$46 / Input!$AD$46","v":0}]
[null,null,null,null,"Less interest payable",null,"£m nominal",null,null,null,null,null,null,null,null,null,null,null,null,null,null,null,null,null,null,null,null,null,null,null,null,null,null,{"$f":"((AH548 + AH552) / 2) * AH$50","v":0},{"$f":"((AI548 + AI552) / 2) * AI$50","v":0},0,0,0,0,0,0]
[null,null,null,null,"Less capital allowances",null,"£m nominal",null,null,null,null,null,null,null,null,null,null,null,null,null,null,null,null,null,null,null,null,null,null,null,null,null,null,{"$f":"AH528 + AH517","v":0},{"$f":"AI528 + AI517","v":0},0,0,0,0,0,0]
[null,null,null,null,"Taxable profit",null,"£m nominal",null,null,null,null,null,null,null,null,null,null,null,null,null,null,null,null,null,null,null,null,null,null,null,null,null,null,{"$f":"SUM(AH535:AH537)","v":0},0,0,0,0,0,0,0]
[]
[null,null,null,null,"Tax",null,"£m nominal",null,null,null,null,null,null,null,null,null,null,null,null,null,null,null,null,null,null,null,null,null,null,null,null,null,null,{"$f":"AH538*AH533","v":0},0,0,0,0,0,0,0]
[]
[null,null,"Net debt"]
[]
[null,null,null,null,"Overall gearing after equity issuance",null,"%",null,null,null,null,null,null,null,null,null,null,null,null,null,null,null,null,null,null,null,null,null,null,null,null,null,null,{"$f":"AH$49","v":0.61135353243992929},{"$f":"AI$49","v":0.60000189322596054},0.62191505472876596,0.59999999999999987,0.60850938335275739,0.61023122236756555,0.61018397673715152,0.60573059090483217]
[]
[null,null,null,null,"Opening net debt",null,"£m nominal",null,null,null,null,null,null,null,null,null,null,null,null,null,null,null,null,null,null,null,null,null,null,null,null,null,null,null,{"$f":"AH556","v":0},0,0,0,0,0,0]
[null,null,null,null,"Transfer from core net debt",null,"£m nominal",null,null,null,null,null,null,null,null,null,null,null,null,null,null,null,null,null,null,null,null,null,null,null,null,null,null,null,{"$f":"AI548-AI546","v":0},{"$f":"AJ548-AJ546","v":0},0,0,0,0,0]
[null,null,null,null,"Opening net debt after transfer",null,"£m nominal",null,null,null,null,null,null,null,null,null,null,null,null,null,null,null,null,null,null,null,null,null,null,null,null,null,null,{"$f":"IF(YEAR(AH$4) = YEAR($I478) + $I$43 + 1, 0, (-AH544 * (AH487 - AH496) * Input!AG$46 / Input!$AD$46))","v":0},{"$f":"IF(YEAR(AI$4) = YEAR($I478) + $I$43 + 1, 0, (-AI544 * (AI487 - AI496) * Input!AH$46 / Input!$AD$46))","v":0},{"$f":"IF(YEAR(AJ$4) = YEAR($I478) + $I$43 + 1, 0, (-AJ544 * (AJ487 - AJ496) * Input!AI$46 / Input!$AD$46))","v":0},{"$f":"IF(YEAR(AK$4) = YEAR($I478) + $I$43 + 1, 0, (-AK544 * (AK487 - AK496) * Input!AJ$46 / Input!$AD$46))","v":0},{"$f":"IF(YEAR(AL$4) = YEAR($I478) + $I$43 + 1, 0, (-AL544 * (AL487 - AL496) * Input!AK$46 / Input!$AD$46))","v":0},{"$f":"IF(YEAR(AM$4) = YEAR($I478) + $I$43 + 1, 0, (-AM544 * (AM487 - AM496) * Input!AL$46 / Input!$AD$46))","v":0},{"$f":"IF(YEAR(AN$4) = YEAR($I478) + $I$43 + 1, 0, (-AN544 * (AN487 - AN496) * Input!AM$46 / Input!$AD$46))","v":0},{"$f":"IF(YEAR(AO$4) = YEAR($I478) + $I$43 + 1, 0, (-AO544 * (AO487 - AO496) * Input!AN$46 / Input!$AD$46))","v":0}]
[null,null,null,null,"Add TIRG revenue",null,"£m nominal",null,null,null,null,null,null,null,null,null,null,null,null,null,null,null,null,null,null,null,null,null,null,null,null,null,null,{"$f":"AH479 * Input!AH$46 / Input!$AD$46","v":0},{"$f":"AI479 * Input!AI$46 / Input!$AD$46","v":0},{"$f":"AJ479 * Input!AJ$46 / Input!$AD$46","v":0},{"$f":"AK479 * Input!AK$46 / Input!$AD$46","v":0},{"$f":"AL479 * Input!AL$46 / Input!$AD$46","v":0},{"$f":"AM479 * Input!AM$46 / Input!$AD$46","v":0},{"$f":"AN479 * Input!AN$46 / Input!$AD$46","v":0},{"$f":"AO479 * Input!AO$46 / Input!$AD$46","v":0}]
[null,null,null,null,"Less capex",null,"£m nominal",null,null,null,null,null,null,null,null,null,null,null,null,null,null,null,null,null,null,null,null,null,null,null,null,null,null,{"$f":"-AH480 * Input!AH$46 / Input!$AD$46","v":0},{"$f":"-AI480 * Input!AI$46 / Input!$AD$46","v":0},{"$f":"-AJ480 * Input!AJ$46 / Input!$AD$46","v":0},{"$f":"-AK480 * Input!AK$46 / Input!$AD$46","v":0},{"$f":"-AL480 * Input!AL$46 / Input!$AD$46","v":0},{"$f":"-AM480 * Input!AM$46 / Input!$AD$46","v":0},{"$f":"-AN480 * Input!AN$46 / Input!$AD$46","v":0},{"$f":"-AO480 * Input!AO$46 / Input!$AD$46","v":0}]
[null,null,null,null,"Less dividends",null,"£m nominal",null,null,null,null,null,null,null,null,null,null,null,null,null,null,null,null,null,null,null,null,null,null,null,null,null,null,{"$f":"-AH505*(1-AH544)*$I$52*Input!AH$46/Input!$AD$46","v":0},{"$f":"-AI505*(1-AI544)*$I$52*Input!AI$46/Input!$AD$46","v":0},{"$f":"-AJ505*(1-AJ544)*$I$52*Input!AJ$46/Input!$AD$46","v":0},{"$f":"-AK505*(1-AK544)*$I$52*Input!AK$46/Input!$AD$46","v":0},{"$f":"-AL505*(1-AL544)*$I$52*Input!AL$46/Input!$AD$46","v":0},{"$f":"-AM505*(1-AM544)*$I$52*Input!AM$46/Input!$AD$46","v":0},{"$f":"-AN505*(1-AN544)*$I$52*Input!AN$46/Input!$AD$46","v":0},{"$f":"-AO505*(1-AO544)*$I$52*Input!AO$46/Input!$AD$46","v":0}]
[null,null,null,null,"Closing net debt (before interest and tax)",null,"£m nominal",null,null,null,null,null,null,null,null,null,null,null,null,null,null,null,null,null,null,null,null,null,null,null,null,null,null,{"$f":"SUM(AH548:AH551)","v":0},{"$f":"SUM(AI548:AI551)","v":0},0,0,0,0,0,0]
[null,null,null,null,"Less net interest paid (interest coupon)",null,"£m nominal",null,null,null,null,null,null,null,null,null,null,null,null,null,null,null,null,null,null,null,null,null,null,null,null,null,null,{"$f":"AH536 * (1 - AH$51)","v":0},0,0,0,0,0,0,0]
[null,null,null,null,"Less net interest paid (inflation coupon)",null,"£m nominal",null,null,null,null,null,null,null,null,null,null,null,null,null,null,null,null,null,null,null,null,null,null,null,null,null,null,{"$f":"AH536 * AH$51","v":0},0,0,0,0,0,0,0]
[null,null,null,null,"Less tax",null,"£m nominal",null,null,null,null,null,null,null,null,null,null,null,null,null,null,null,null,null,null,null,null,null,null,null,null,null,null,{"$f":"-AH540","v":0},{"$f":"-AI540","v":0},0,0,0,0,0,0]
[null,null,null,null,"Closing net debt",null,"£m nominal",null,null,null,null,null,null,null,null,null,null,null,null,null,null,null,null,null,null,null,null,null,null,null,null,null,null,{"$f":"SUM(AH552:AH555)","v":0},{"$f":"SUM(AI552:AI555)","v":0},0,0,0,0,0,0]
[]
[null,"TIRG commissioned 2016"]
[]
[null,null,"Commission year specific inputs"]
[]
[null,null,null,null,"Commission year",null,"year",null,"2016-03-31"]
[null,null,null,null,"TIRG revenue",null,"£m 09/10 prices",null,null,">",null,null,null,null,null,null,null,null,null,null,null,null,null,null,{"$f":"Input!Y$291","v":0},{"$f":"Input!Z$291","v":0},{"$f":"Input!AA$291","v":0},{"$f":"Input!AB$291","v":0},{"$f":"Input!AC$291","v":0},{"$f":"Input!AD$291","v":0},{"$f":"Input!AE$291","v":0},{"$f":"Input!AF$291","v":0},{"$f":"Input!AG$291","v":0},{"$f":"Input!AH$291","v":0},{"$f":"Input!AI$291","v":0},{"$f":"Input!AJ$291","v":0},{"$f":"Input!AK$291","v":0},{"$f":"Input!AL$291","v":0},{"$f":"Input!AM$291","v":0},{"$f":"Input!AN$291","v":0},{"$f":"Input!AO$291","v":0}]
[null,null,null,null,"Capex",null,"£m 09/10 prices",null,null,">",null,null,null,null,null,null,null,null,null,null,null,null,null,null,{"$f":"Input!Y273","v":0},{"$f":"Input!Z273","v":0},{"$f":"Input!AA273","v":0},{"$f":"Input!AB273","v":0},{"$f":"Input!AC273","v":0},{"$f":"Input!AD273","v":0},{"$f":"Input!AE273","v":0},{"$f":"Input!AF273","v":0},{"$f":"Input!AG273","v":0},{"$f":"Input!AH273","v":0},{"$f":"Input!AI273","v":0},{"$f":"Input!AJ273","v":0},{"$f":"Input!AK273","v":0},{"$f":"Input!AL273","v":0},{"$f":"Input!AM273","v":0},{"$f":"Input!AN273","v":0},{"$f":"Input!AO273","v":0}]
[null,null,null,null,"Deemed depreciation before transfer to RAV",null,"£m 09/10 prices",null,null,">",null,null,null,null,null,null,null,null,null,null,null,null,null,null,{"$f":"Input!Y282","v":0},{"$f":"Input!Z282","v":0},{"$f":"Input!AA282","v":0},{"$f":"Input!AB282","v":0},{"$f":"Input!AC282","v":0},{"$f":"Input!AD282","v":0},{"$f":"Input!AE282","v":0},{"$f":"Input!AF282","v":0},{"$f":"Input!AG282","v":0},{"$f":"Input!AH282","v":0},{"$f":"Input!AI282","v":0},{"$f":"Input!AJ282","v":0},{"$f":"Input!AK282","v":0},{"$f":"Input!AL282","v":0},{"$f":"Input!AM282","v":0},{"$f":"Input!AN282","v":0},{"$f":"Input!AO282","v":0}]
[]
[null,null,"RAV"]
[]
[null,null,null,"Cost"]
[]
[null,null,null,null,"Opening balance brought forward",null,"£m 09/10 prices",null,null,">",null,null,null,null,null,null,null,null,null,null,null,null,null,null,0,{"$f":"Y576","v":0},0,0,0,0,0,0,0,0,0,0,0,0,0,0,0]
[null,null,null,null,"Transfer",null,"£m 09/10 prices",null,null,">",null,null,null,null,null,null,null,null,null,null,null,null,null,null,{"$f":"IF(YEAR(Y$4) = YEAR($I562) + $I$43 + 1, - Y571, 0)","v":0},0,0,0,0,0,0,0,0,0,0,0,0,0,0,0,0]
[null,null,null,null,"Opening balance after transfers",null,"£m 09/10 prices",null,null,">",null,null,null,null,null,null,null,null,null,null,null,null,null,null,{"$f":"SUM(Y571:Y572)","v":0},{"$f":"SUM(Z571:Z572)","v":0},0,0,0,0,0,0,0,0,0,0,0,0,0,0,0]
[null,null,null,null,"Net additions (after disposals)",null,"£m 09/10 prices",null,null,">",null,null,null,null,null,null,null,null,null,null,null,null,null,null,{"$f":"IF(YEAR(Y$4) <= YEAR($I562) + $I$43, Y564, 0)","v":0},0,0,0,0,0,0,0,0,0,0,0,0,0,0,0,0]
[null,null,null,null,"Removals",null,"£m 09/10 prices"]
[null,null,null,null,"Balance carried forward",null,"£m 09/10 prices",null,null,">",null,null,null,null,null,null,null,null,null,null,null,null,null,null,{"$f":"Y573 + Y574 - Y575","v":0},{"$f":"Z573 + Z574 - Z575","v":0},0,0,0,0,0,0,0,0,0,0,0,0,0,0,0]
[]
[null,null,null,"Accumulated depreciation"]
[]
[null,null,null,null,"Opening balance brought forward",null,"£m 09/10 prices",null,null,">",null,null,null,null,null,null,null,null,null,null,null,null,null,null,0,{"$f":"Y585","v":0},0,0,0,0,0,0,0,0,0,0,0,0,0,0,0]
[null,null,null,null,"Transfer",null,"£m 09/10 prices",null,null,">",null,null,null,null,null,null,null,null,null,null,null,null,null,null,{"$f":"IF(YEAR(Y$4) = YEAR($I562) + $I$43 + 1, -Y580, 0)","v":0},0,0,0,0,0,0,0,0,0,0,0,0,0,0,0,0]
[null,null,null,null,"Opening balance after transfers",null,"£m 09/10 prices",null,null,">",null,null,null,null,null,null,null,null,null,null,null,null,null,null,{"$f":"SUM(Y580:Y581)","v":0},{"$f":"SUM(Z580:Z581)","v":0},0,0,0,0,0,0,0,0,0,0,0,0,0,0,0]
[null,null,null,null,"Regulatory depreciation",null,"£m 09/10 prices",null,null,">",null,null,null,null,null,null,null,null,null,null,null,null,null,null,{"$f":"IF(YEAR(Y$4) <= YEAR($I562) + $I$43, Y565, Y573 / $I$42)","v":0},0,0,0,0,0,0,0,0,0,0,0,0,0,0,0,0]
[null,null,null,null,"Removals",null,"£m 09/10 prices",null,null,">",null,null,null,null,null,null,null,null,null,null,null,null,null,null,{"$f":"Y575","v":0},0,0,0,0,0,0,0,0,0,0,0,0,0,0,0,0]
[null,null,null,null,"Closing value carried forward",null,"£m 09/10 prices",null,null,">",null,null,null,null,null,null,null,null,null,null,null,null,null,null,{"$f":"Y582 + Y583 - Y584","v":0},{"$f":"Z582 + Z583 - Z584","v":0},0,0,0,0,0,0,0,0,0,0,0,0,0,0,0]
[]
[null,null,null,"Asset balance"]
[]
[null,null,null,null,"Net value after regulatory depreciation",null,"£m 09/10 prices",null,null,">",null,null,null,null,null,null,null,null,null,null,null,null,null,null,{"$f":"Y576-Y585","v":0},0,0,0,0,0,0,0,0,0,0,0,0,0,0,0,0]
[]
[null,null,"Capital allowances"]
[]
[null,null,null,"General pool capital allowances"]
[]
[null,null,null,null,"General pool allowance rate",null,"%",null,null,">",null,null,null,null,null,null,null,null,null,null,null,null,null,null,{"$f":"Y$44","v":0.25},{"$f":"Z$44","v":0.25},0.25,0.25,0.2,0.2,0.2,0.2,0.18000000000000002,0.18000000000000002,0.18000000000000002,0.18000000000000002,0.18000000000000002,0.18000000000000002,0.18000000000000002,0.18000000000000002,0.18000000000000002]
[]
[null,null,null,null,"Opening balance brought forward",null,"£m nominal",null,null,">",null,null,null,null,null,null,null,null,null,null,null,null,null,null,0,{"$f":"Y602","v":0},0,0,0,0,0,0,0,0,0,0,0,0,0,0,0]
[null,null,null,null,"Transfer",null,"£m nominal",null,null,">",null,null,null,null,null,null,null,null,null,null,null,null,null,null,{"$f":"IF(YEAR(Y$4) = YEAR($I562) + $I$43 + 1, -Y597, 0)","v":0},0,0,0,0,0,0,0,0,0,0,0,0,0,0,0,0]
[null,null,null,null,"Capex additions",null,"£m nominal",null,null,">",null,null,null,null,null,null,null,null,null,null,null,null,null,null,{"$f":"(Y574 * Y$46) * Input!Y$46 / Input!$AD$46","v":0},{"$f":"(Z574 * Z$46) * Input!Z$46 / Input!$AD$46","v":0},{"$f":"(AA574 * AA$46) * Input!AA$46 / Input!$AD$46","v":0},{"$f":"(AB574 * AB$46) * Input!AB$46 / Input!$AD$46","v":0},{"$f":"(AC574 * AC$46) * Input!AC$46 / Input!$AD$46","v":0},{"$f":"(AD574 * AD$46) * Input!AD$46 / Input!$AD$46","v":0},{"$f":"(AE574 * AE$46) * Input!AE$46 / Input!$AD$46","v":0},{"$f":"(AF574 * AF$46) * Input!AF$46 / Input!$AD$46","v":0},{"$f":"(AG574 * AG$46) * Input!AG$46 / Input!$AD$46","v":0},{"$f":"(AH574 * AH$46) * Input!AH$46 / Input!$AD$46","v":0},{"$f":"(AI574 * AI$46) * Input!AI$46 / Input!$AD$46","v":0},{"$f":"(AJ574 * AJ$46) * Input!AJ$46 / Input!$AD$46","v":0},{"$f":"(AK574 * AK$46) * Input!AK$46 / Input!$AD$46","v":0},{"$f":"(AL574 * AL$46) * Input!AL$46 / Input!$AD$46","v":0},{"$f":"(AM574 * AM$46) * Input!AM$46 / Input!$AD$46","v":0},{"$f":"(AN574 * AN$46) * Input!AN$46 / Input!$AD$46","v":0},{"$f":"(AO574 * AO$46) * Input!AO$46 / Input!$AD$46","v":0}]
[null,null,null,null,"Tax book value pre-depreciation",null,"£m nominal",null,null,">",null,null,null,null,null,null,null,null,null,null,null,null,null,null,{"$f":"SUM(Y597:Y599)","v":0},{"$f":"SUM(Z597:Z599)","v":0},{"$f":"SUM(AA597:AA599)","v":0},{"$f":"SUM(AB597:AB599)","v":0},{"$f":"SUM(AC597:AC599)","v":0},0,0,0,0,0,0,0,0,0,0,0,0]
[null,null,null,null,"General pool capital allowance",null,"£m nominal",null,null,">",null,null,null,null,null,null,null,null,null,null,null,null,null,null,{"$f":"-Y600*Y595","v":0},0,0,0,0,0,0,0,0,0,0,0,0,0,0,0,0]
[null,null,null,null,"Closing balance carried forward",null,null,null,null,">",null,null,null,null,null,null,null,null,null,null,null,null,null,null,{"$f":"SUM(Y600:Y601)","v":0},{"$f":"SUM(Z600:Z601)","v":0},0,0,0,0,0,0,0,0,0,0,0,0,0,0,0]
[]
[null,null,null,"Special Rate"]
[]
[null,null,null,null,"Special Rate capital allowance rate",null,"%",null,null,">",null,null,null,null,null,null,null,null,null,null,null,null,null,null,{"$f":"Y$45","v":0.06},0.06,0.06,0.06,0.1,0.1,0.1,0.1,0.08,{"$f":"AH$45","v":0.08},{"$f":"AI$45","v":0.08},0.08,0.08,0.08,0.08,0.08,0.08]
[]
[null,null,null,null,"Opening balance brought forward",null,"£m nominal",null,null,">",null,null,null,null,null,null,null,null,null,null,null,null,null,null,0,{"$f":"Y613","v":0},0,0,0,0,0,0,0,0,0,0,0,0,0,0,0]
[null,null,null,null,"Transfer",null,"£m nominal",null,null,">",null,null,null,null,null,null,null,null,null,null,null,null,null,null,{"$f":"IF(YEAR(Y$4) = YEAR($I562) + $I$43 + 1, -Y608, 0)","v":0},0,0,0,0,0,0,0,0,0,0,0,0,0,0,0,0]
[null,null,null,null,"Capex additions",null,"£m nominal",null,null,">",null,null,null,null,null,null,null,null,null,null,null,null,null,null,{"$f":"(Y564 * Y$47) * Input!Y$46 / Input!$AD$46","v":0},{"$f":"(Z564 * Z$47) * Input!Z$46 / Input!$AD$46","v":0},{"$f":"(AA564 * AA$47) * Input!AA$46 / Input!$AD$46","v":0},{"$f":"(AB564 * AB$47) * Input!AB$46 / Input!$AD$46","v":0},{"$f":"(AC564 * AC$47) * Input!AC$46 / Input!$AD$46","v":0},{"$f":"(AD564 * AD$47) * Input!AD$46 / Input!$AD$46","v":0},{"$f":"(AE564 * AE$47) * Input!AE$46 / Input!$AD$46","v":0},{"$f":"(AF564 * AF$47) * Input!AF$46 / Input!$AD$46","v":0},{"$f":"(AG564 * AG$47) * Input!AG$46 / Input!$AD$46","v":0},{"$f":"(AH564 * AH$47) * Input!AH$46 / Input!$AD$46","v":0},{"$f":"(AI564 * AI$47) * Input!AI$46 / Input!$AD$46","v":0},{"$f":"(AJ564 * AJ$47) * Input!AJ$46 / Input!$AD$46","v":0},{"$f":"(AK564 * AK$47) * Input!AK$46 / Input!$AD$46","v":0},{"$f":"(AL564 * AL$47) * Input!AL$46 / Input!$AD$46","v":0},{"$f":"(AM564 * AM$47) * Input!AM$46 / Input!$AD$46","v":0},{"$f":"(AN564 * AN$47) * Input!AN$46 / Input!$AD$46","v":0},{"$f":"(AO564 * AO$47) * Input!AO$46 / Input!$AD$46","v":0}]
[null,null,null,null,"Tax book value pre-depreciation",null,"£m nominal",null,null,">",null,null,null,null,null,null,null,null,null,null,null,null,null,null,{"$f":"SUM(Y608:Y610)","v":0},{"$f":"SUM(Z608:Z610)","v":0},{"$f":"SUM(AA608:AA610)","v":0},{"$f":"SUM(AB608:AB610)","v":0},{"$f":"SUM(AC608:AC610)","v":0},0,0,0,0,0,0,0,0,0,0,0,0]
[null,null,null,null,"Special Rate capital allowance",null,"£m nominal",null,null,">",null,null,null,null,null,null,null,null,null,null,null,null,null,null,{"$f":"-Y611*Y606","v":0},0,0,0,0,0,0,0,0,0,0,0,0,0,0,0,0]
[null,null,null,null,"Closing balance carried forward",null,null,null,null,">",null,null,null,null,null,null,null,null,null,null,null,null,null,null,{"$f":"SUM(Y611:Y612)","v":0},{"$f":"SUM(Z611:Z612)","v":0},0,0,0,0,0,0,0,0,0,0,0,0,0,0,0]
[]
[null,null,"Tax"]
[]
[null,null,null,null,"Corporation tax rate",null,"%",null,null,null,null,null,null,null,null,null,null,null,null,null,null,null,null,null,null,null,null,null,null,null,null,null,null,{"$f":"AH$48","v":0.23},{"$f":"AI$48","v":0.21},0.21,0.21,0.21,0.21,0.21,0.21]
[]
[null,null,null,null,"TIRG revenue",null,"£m nominal",null,null,null,null,null,null,null,null,null,null,null,null,null,null,null,null,null,null,null,null,null,null,null,null,null,null,{"$f":"AH563 * Input!AH$46 / Input!$AD$46","v":0},{"$f":"AI563 * Input!AI$46 / Input!$AD$46","v":0},{"$f":"AJ563 * Input!AJ$46 / Input!$AD$46","v":0},{"$f":"AK563 * Input!AK$46 / Input!$AD$46","v":0},{"$f":"AL563 * Input!AL$46 / Input!$AD$46","v":0},{"$f":"AM563 * Input!AM$46 / Input!$AD$46","v":0},{"$f":"AN563 * Input!AN$46 / Input!$AD$46","v":0},{"$f":"AO563 * Input!AO$46 / Input!$AD$46","v":0}]
[null,null,null,null,"Less interest payable",null,"£m nominal",null,null,null,null,null,null,null,null,null,null,null,null,null,null,null,null,null,null,null,null,null,null,null,null,null,null,{"$f":"((AH632 + AH636) / 2) * AH$50","v":0},{"$f":"((AI632 + AI636) / 2) * AI$50","v":0},0,0,0,0,0,0]
[null,null,null,null,"Less capital allowances",null,"£m nominal",null,null,null,null,null,null,null,null,null,null,null,null,null,null,null,null,null,null,null,null,null,null,null,null,null,null,{"$f":"AH612 + AH601","v":0},{"$f":"AI612 + AI601","v":0},0,0,0,0,0,0]
[null,null,null,null,"Taxable profit",null,"£m nominal",null,null,null,null,null,null,null,null,null,null,null,null,null,null,null,null,null,null,null,null,null,null,null,null,null,null,{"$f":"SUM(AH619:AH621)","v":0},0,0,0,0,0,0,0]
[]
[null,null,null,null,"Tax",null,"£m nominal",null,null,null,null,null,null,null,null,null,null,null,null,null,null,null,null,null,null,null,null,null,null,null,null,null,null,{"$f":"AH622*AH617","v":0},0,0,0,0,0,0,0]
[]
[null,null,"Net debt"]
[]
[null,null,null,null,"Overall gearing after equity issuance",null,"%",null,null,null,null,null,null,null,null,null,null,null,null,null,null,null,null,null,null,null,null,null,null,null,null,null,null,{"$f":"AH$49","v":0.61135353243992929},{"$f":"AI$49","v":0.60000189322596054},0.62191505472876596,0.59999999999999987,0.60850938335275739,0.61023122236756555,0.61018397673715152,0.60573059090483217]
[]
[null,null,null,null,"Opening net debt",null,"£m nominal",null,null,null,null,null,null,null,null,null,null,null,null,null,null,null,null,null,null,null,null,null,null,null,null,null,null,null,{"$f":"AH640","v":0},0,0,0,0,0,0]
[null,null,null,null,"Transfer from core net debt",null,"£m nominal",null,null,null,null,null,null,null,null,null,null,null,null,null,null,null,null,null,null,null,null,null,null,null,null,null,null,null,{"$f":"AI632-AI630","v":0},{"$f":"AJ632-AJ630","v":0},0,0,0,0,0]
[null,null,null,null,"Opening net debt after transfer",null,"£m nominal",null,null,null,null,null,null,null,null,null,null,null,null,null,null,null,null,null,null,null,null,null,null,null,null,null,null,{"$f":"IF(YEAR(AH$4) = YEAR($I562) + $I$43 + 1, 0, (-AH628 * (AH571 - AH580) * Input!AG$46 / Input!$AD$46))","v":0},{"$f":"IF(YEAR(AI$4) = YEAR($I562) + $I$43 + 1, 0, (-AI628 * (AI571 - AI580) * Input!AH$46 / Input!$AD$46))","v":0},{"$f":"IF(YEAR(AJ$4) = YEAR($I562) + $I$43 + 1, 0, (-AJ628 * (AJ571 - AJ580) * Input!AI$46 / Input!$AD$46))","v":0},{"$f":"IF(YEAR(AK$4) = YEAR($I562) + $I$43 + 1, 0, (-AK628 * (AK571 - AK580) * Input!AJ$46 / Input!$AD$46))","v":0},{"$f":"IF(YEAR(AL$4) = YEAR($I562) + $I$43 + 1, 0, (-AL628 * (AL571 - AL580) * Input!AK$46 / Input!$AD$46))","v":0},{"$f":"IF(YEAR(AM$4) = YEAR($I562) + $I$43 + 1, 0, (-AM628 * (AM571 - AM580) * Input!AL$46 / Input!$AD$46))","v":0},{"$f":"IF(YEAR(AN$4) = YEAR($I562) + $I$43 + 1, 0, (-AN628 * (AN571 - AN580) * Input!AM$46 / Input!$AD$46))","v":0},{"$f":"IF(YEAR(AO$4) = YEAR($I562) + $I$43 + 1, 0, (-AO628 * (AO571 - AO580) * Input!AN$46 / Input!$AD$46))","v":0}]
[null,null,null,null,"Add TIRG revenue",null,"£m nominal",null,null,null,null,null,null,null,null,null,null,null,null,null,null,null,null,null,null,null,null,null,null,null,null,null,null,{"$f":"AH563 * Input!AH$46 / Input!$AD$46","v":0},{"$f":"AI563 * Input!AI$46 / Input!$AD$46","v":0},{"$f":"AJ563 * Input!AJ$46 / Input!$AD$46","v":0},{"$f":"AK563 * Input!AK$46 / Input!$AD$46","v":0},{"$f":"AL563 * Input!AL$46 / Input!$AD$46","v":0},{"$f":"AM563 * Input!AM$46 / Input!$AD$46","v":0},{"$f":"AN563 * Input!AN$46 / Input!$AD$46","v":0},{"$f":"AO563 * Input!AO$46 / Input!$AD$46","v":0}]
[null,null,null,null,"Less capex",null,"£m nominal",null,null,null,null,null,null,null,null,null,null,null,null,null,null,null,null,null,null,null,null,null,null,null,null,null,null,{"$f":"-AH564 * Input!AH$46 / Input!$AD$46","v":0},{"$f":"-AI564 * Input!AI$46 / Input!$AD$46","v":0},{"$f":"-AJ564 * Input!AJ$46 / Input!$AD$46","v":0},{"$f":"-AK564 * Input!AK$46 / Input!$AD$46","v":0},{"$f":"-AL564 * Input!AL$46 / Input!$AD$46","v":0},{"$f":"-AM564 * Input!AM$46 / Input!$AD$46","v":0},{"$f":"-AN564 * Input!AN$46 / Input!$AD$46","v":0},{"$f":"-AO564 * Input!AO$46 / Input!$AD$46","v":0}]
[null,null,null,null,"Less dividends",null,"£m nominal",null,null,null,null,null,null,null,null,null,null,null,null,null,null,null,null,null,null,null,null,null,null,null,null,null,null,{"$f":"-AH589*(1-AH628)*$I$52*Input!AH$46/Input!$AD$46","v":0},{"$f":"-AI589*(1-AI628)*$I$52*Input!AI$46/Input!$AD$46","v":0},{"$f":"-AJ589*(1-AJ628)*$I$52*Input!AJ$46/Input!$AD$46","v":0},{"$f":"-AK589*(1-AK628)*$I$52*Input!AK$46/Input!$AD$46","v":0},{"$f":"-AL589*(1-AL628)*$I$52*Input!AL$46/Input!$AD$46","v":0},{"$f":"-AM589*(1-AM628)*$I$52*Input!AM$46/Input!$AD$46","v":0},{"$f":"-AN589*(1-AN628)*$I$52*Input!AN$46/Input!$AD$46","v":0},{"$f":"-AO589*(1-AO628)*$I$52*Input!AO$46/Input!$AD$46","v":0}]
[null,null,null,null,"Closing net debt (before interest and tax)",null,"£m nominal",null,null,null,null,null,null,null,null,null,null,null,null,null,null,null,null,null,null,null,null,null,null,null,null,null,null,{"$f":"SUM(AH632:AH635)","v":0},{"$f":"SUM(AI632:AI635)","v":0},0,0,0,0,0,0]
[null,null,null,null,"Less net interest paid (interest coupon)",null,"£m nominal",null,null,null,null,null,null,null,null,null,null,null,null,null,null,null,null,null,null,null,null,null,null,null,null,null,null,{"$f":"AH620 * (1 - AH$51)","v":0},0,0,0,0,0,0,0]
[null,null,null,null,"Less net interest paid (inflation coupon)",null,"£m nominal",null,null,null,null,null,null,null,null,null,null,null,null,null,null,null,null,null,null,null,null,null,null,null,null,null,null,{"$f":"AH620 * AH$51","v":0},0,0,0,0,0,0,0]
[null,null,null,null,"Less tax",null,"£m nominal",null,null,null,null,null,null,null,null,null,null,null,null,null,null,null,null,null,null,null,null,null,null,null,null,null,null,{"$f":"-AH624","v":0},{"$f":"-AI624","v":0},0,0,0,0,0,0]
[null,null,null,null,"Closing net debt",null,"£m nominal",null,null,null,null,null,null,null,null,null,null,null,null,null,null,null,null,null,null,null,null,null,null,null,null,null,null,{"$f":"SUM(AH636:AH639)","v":0},{"$f":"SUM(AI636:AI639)","v":0},0,0,0,0,0,0]
[]
[null,"TIRG commissioned 2017"]
[]
[null,null,"Commission year specific inputs"]
[]
[null,null,null,null,"Commission year",null,"year",null,"2017-03-31"]
[null,null,null,null,"TIRG revenue",null,"£m 09/10 prices",null,null,">",null,null,null,null,null,null,null,null,null,null,null,null,null,null,{"$f":"Input!Y$292","v":0},{"$f":"Input!Z$292","v":0},{"$f":"Input!AA$292","v":0},{"$f":"Input!AB$292","v":0},{"$f":"Input!AC$292","v":0},{"$f":"Input!AD$292","v":0},{"$f":"Input!AE$292","v":0},{"$f":"Input!AF$292","v":0},{"$f":"Input!AG$292","v":0},{"$f":"Input!AH$292","v":0},{"$f":"Input!AI$292","v":0},{"$f":"Input!AJ$292","v":0},{"$f":"Input!AK$292","v":0},{"$f":"Input!AL$292","v":0},{"$f":"Input!AM$292","v":0},{"$f":"Input!AN$292","v":0},{"$f":"Input!AO$292","v":0}]
[null,null,null,null,"Capex",null,"£m 09/10 prices",null,null,">",null,null,null,null,null,null,null,null,null,null,null,null,null,null,{"$f":"Input!Y274","v":0},{"$f":"Input!Z274","v":0},{"$f":"Input!AA274","v":0},{"$f":"Input!AB274","v":0},{"$f":"Input!AC274","v":0},{"$f":"Input!AD274","v":0},{"$f":"Input!AE274","v":0},{"$f":"Input!AF274","v":0},{"$f":"Input!AG274","v":0},{"$f":"Input!AH274","v":0},{"$f":"Input!AI274","v":0},{"$f":"Input!AJ274","v":0},{"$f":"Input!AK274","v":0},{"$f":"Input!AL274","v":0},{"$f":"Input!AM274","v":0},{"$f":"Input!AN274","v":0},{"$f":"Input!AO274","v":0}]
[null,null,null,null,"Deemed depreciation before transfer to RAV",null,"£m 09/10 prices",null,null,">",null,null,null,null,null,null,null,null,null,null,null,null,null,null,{"$f":"Input!Y283","v":0},{"$f":"Input!Z283","v":0},{"$f":"Input!AA283","v":0},{"$f":"Input!AB283","v":0},{"$f":"Input!AC283","v":0},{"$f":"Input!AD283","v":0},{"$f":"Input!AE283","v":0},{"$f":"Input!AF283","v":0},{"$f":"Input!AG283","v":0},{"$f":"Input!AH283","v":0},{"$f":"Input!AI283","v":0},{"$f":"Input!AJ283","v":0},{"$f":"Input!AK283","v":0},{"$f":"Input!AL283","v":0},{"$f":"Input!AM283","v":0},{"$f":"Input!AN283","v":0},{"$f":"Input!AO283","v":0}]
[]
[null,null,"RAV"]
[]
[null,null,null,"Cost"]
[]
[null,null,null,null,"Opening balance brought forward",null,"£m 09/10 prices",null,null,">",null,null,null,null,null,null,null,null,null,null,null,null,null,null,0,{"$f":"Y660","v":0},0,0,0,0,0,0,0,0,0,0,0,0,0,0,0]
[null,null,null,null,"Transfer",null,"£m 09/10 prices",null,null,">",null,null,null,null,null,null,null,null,null,null,null,null,null,null,{"$f":"IF(YEAR(Y$4) = YEAR($I646) + $I$43 + 1, - Y655, 0)","v":0},0,0,0,0,0,0,0,0,0,0,0,0,0,0,0,0]
[null,null,null,null,"Opening balance after transfers",null,"£m 09/10 prices",null,null,">",null,null,null,null,null,null,null,null,null,null,null,null,null,null,{"$f":"SUM(Y655:Y656)","v":0},{"$f":"SUM(Z655:Z656)","v":0},0,0,0,0,0,0,0,0,0,0,0,0,0,0,0]
[null,null,null,null,"Net additions (after disposals)",null,"£m 09/10 prices",null,null,">",null,null,null,null,null,null,null,null,null,null,null,null,null,null,{"$f":"IF(YEAR(Y$4) <= YEAR($I646) + $I$43, Y648, 0)","v":0},0,0,0,0,0,0,0,0,0,0,0,0,0,0,0,0]
[null,null,null,null,"Removals",null,"£m 09/10 prices"]
[null,null,null,null,"Balance carried forward",null,"£m 09/10 prices",null,null,">",null,null,null,null,null,null,null,null,null,null,null,null,null,null,{"$f":"Y657 + Y658 - Y659","v":0},{"$f":"Z657 + Z658 - Z659","v":0},0,0,0,0,0,0,0,0,0,0,0,0,0,0,0]
[]
[null,null,null,"Accumulated depreciation"]
[]
[null,null,null,null,"Opening balance brought forward",null,"£m 09/10 prices",null,null,">",null,null,null,null,null,null,null,null,null,null,null,null,null,null,0,{"$f":"Y669","v":0},0,0,0,0,0,0,0,0,0,0,0,0,0,0,0]
[null,null,null,null,"Transfer",null,"£m 09/10 prices",null,null,">",null,null,null,null,null,null,null,null,null,null,null,null,null,null,{"$f":"IF(YEAR(Y$4) = YEAR($I646) + $I$43 + 1, -Y664, 0)","v":0},0,0,0,0,0,0,0,0,0,0,0,0,0,0,0,0]
[null,null,null,null,"Opening balance after transfers",null,"£m 09/10 prices",null,null,">",null,null,null,null,null,null,null,null,null,null,null,null,null,null,{"$f":"SUM(Y664:Y665)","v":0},{"$f":"SUM(Z664:Z665)","v":0},0,0,0,0,0,0,0,0,0,0,0,0,0,0,0]
[null,null,null,null,"Regulatory depreciation",null,"£m 09/10 prices",null,null,">",null,null,null,null,null,null,null,null,null,null,null,null,null,null,{"$f":"IF(YEAR(Y$4) <= YEAR($I646) + $I$43, Y649, Y657 / $I$42)","v":0},0,0,0,0,0,0,0,0,0,0,0,0,0,0,0,0]
[null,null,null,null,"Removals",null,"£m 09/10 prices",null,null,">",null,null,null,null,null,null,null,null,null,null,null,null,null,null,{"$f":"Y659","v":0},0,0,0,0,0,0,0,0,0,0,0,0,0,0,0,0]
[null,null,null,null,"Closing value carried forward",null,"£m 09/10 prices",null,null,">",null,null,null,null,null,null,null,null,null,null,null,null,null,null,{"$f":"Y666 + Y667 - Y668","v":0},{"$f":"Z666 + Z667 - Z668","v":0},0,0,0,0,0,0,0,0,0,0,0,0,0,0,0]
[]
[null,null,null,"Asset balance"]
[]
[null,null,null,null,"Net value after regulatory depreciation",null,"£m 09/10 prices",null,null,">",null,null,null,null,null,null,null,null,null,null,null,null,null,null,{"$f":"Y660-Y669","v":0},0,0,0,0,0,0,0,0,0,0,0,0,0,0,0,0]
[]
[null,null,"Capital allowances"]
[]
[null,null,null,"General pool capital allowances"]
[]
[null,null,null,null,"General pool allowance rate",null,"%",null,null,">",null,null,null,null,null,null,null,null,null,null,null,null,null,null,{"$f":"Y$44","v":0.25},{"$f":"Z$44","v":0.25},0.25,0.25,0.2,0.2,0.2,0.2,0.18000000000000002,0.18000000000000002,0.18000000000000002,0.18000000000000002,0.18000000000000002,0.18000000000000002,0.18000000000000002,0.18000000000000002,0.18000000000000002]
[]
[null,null,null,null,"Opening balance brought forward",null,"£m nominal",null,null,">",null,null,null,null,null,null,null,null,null,null,null,null,null,null,0,{"$f":"Y686","v":0},0,0,0,0,0,0,0,0,0,0,0,0,0,0,0]
[null,null,null,null,"Transfer",null,"£m nominal",null,null,">",null,null,null,null,null,null,null,null,null,null,null,null,null,null,{"$f":"IF(YEAR(Y$4) = YEAR($I646) + $I$43 + 1, -Y681, 0)","v":0},0,0,0,0,0,0,0,0,0,0,0,0,0,0,0,0]
[null,null,null,null,"Capex additions",null,"£m nominal",null,null,">",null,null,null,null,null,null,null,null,null,null,null,null,null,null,{"$f":"(Y658 * Y$46) * Input!Y$46 / Input!$AD$46","v":0},{"$f":"(Z658 * Z$46) * Input!Z$46 / Input!$AD$46","v":0},{"$f":"(AA658 * AA$46) * Input!AA$46 / Input!$AD$46","v":0},{"$f":"(AB658 * AB$46) * Input!AB$46 / Input!$AD$46","v":0},{"$f":"(AC658 * AC$46) * Input!AC$46 / Input!$AD$46","v":0},{"$f":"(AD658 * AD$46) * Input!AD$46 / Input!$AD$46","v":0},{"$f":"(AE658 * AE$46) * Input!AE$46 / Input!$AD$46","v":0},{"$f":"(AF658 * AF$46) * Input!AF$46 / Input!$AD$46","v":0},{"$f":"(AG658 * AG$46) * Input!AG$46 / Input!$AD$46","v":0},{"$f":"(AH658 * AH$46) * Input!AH$46 / Input!$AD$46","v":0},{"$f":"(AI658 * AI$46) * Input!AI$46 / Input!$AD$46","v":0},{"$f":"(AJ658 * AJ$46) * Input!AJ$46 / Input!$AD$46","v":0},{"$f":"(AK658 * AK$46) * Input!AK$46 / Input!$AD$46","v":0},{"$f":"(AL658 * AL$46) * Input!AL$46 / Input!$AD$46","v":0},{"$f":"(AM658 * AM$46) * Input!AM$46 / Input!$AD$46","v":0},{"$f":"(AN658 * AN$46) * Input!AN$46 / Input!$AD$46","v":0},{"$f":"(AO658 * AO$46) * Input!AO$46 / Input!$AD$46","v":0}]
[null,null,null,null,"Tax book value pre-depreciation",null,"£m nominal",null,null,">",null,null,null,null,null,null,null,null,null,null,null,null,null,null,{"$f":"SUM(Y681:Y683)","v":0},{"$f":"SUM(Z681:Z683)","v":0},{"$f":"SUM(AA681:AA683)","v":0},{"$f":"SUM(AB681:AB683)","v":0},{"$f":"SUM(AC681:AC683)","v":0},0,0,0,0,0,0,0,0,0,0,0,0]
[null,null,null,null,"General pool capital allowance",null,"£m nominal",null,null,">",null,null,null,null,null,null,null,null,null,null,null,null,null,null,{"$f":"-Y684*Y679","v":0},0,0,0,0,0,0,0,0,0,0,0,0,0,0,0,0]
[null,null,null,null,"Closing balance carried forward",null,null,null,null,">",null,null,null,null,null,null,null,null,null,null,null,null,null,null,{"$f":"SUM(Y684:Y685)","v":0},{"$f":"SUM(Z684:Z685)","v":0},0,0,0,0,0,0,0,0,0,0,0,0,0,0,0]
[]
[null,null,null,"Special Rate"]
[]
[null,null,null,null,"Special Rate capital allowance rate",null,"%",null,null,">",null,null,null,null,null,null,null,null,null,null,null,null,null,null,{"$f":"Y$45","v":0.06},0.06,0.06,0.06,0.1,0.1,0.1,0.1,0.08,{"$f":"AH$45","v":0.08},{"$f":"AI$45","v":0.08},0.08,0.08,0.08,0.08,0.08,0.08]
[]
[null,null,null,null,"Opening balance brought forward",null,"£m nominal",null,null,">",null,null,null,null,null,null,null,null,null,null,null,null,null,null,0,{"$f":"Y697","v":0},0,0,0,0,0,0,0,0,0,0,0,0,0,0,0]
[null,null,null,null,"Transfer",null,"£m nominal",null,null,">",null,null,null,null,null,null,null,null,null,null,null,null,null,null,{"$f":"IF(YEAR(Y$4) = YEAR($I646) + $I$43 + 1, -Y692, 0)","v":0},0,0,0,0,0,0,0,0,0,0,0,0,0,0,0,0]
[null,null,null,null,"Capex additions",null,"£m nominal",null,null,">",null,null,null,null,null,null,null,null,null,null,null,null,null,null,{"$f":"(Y648 * Y$47) * Input!Y$46 / Input!$AD$46","v":0},{"$f":"(Z648 * Z$47) * Input!Z$46 / Input!$AD$46","v":0},{"$f":"(AA648 * AA$47) * Input!AA$46 / Input!$AD$46","v":0},{"$f":"(AB648 * AB$47) * Input!AB$46 / Input!$AD$46","v":0},{"$f":"(AC648 * AC$47) * Input!AC$46 / Input!$AD$46","v":0},{"$f":"(AD648 * AD$47) * Input!AD$46 / Input!$AD$46","v":0},{"$f":"(AE648 * AE$47) * Input!AE$46 / Input!$AD$46","v":0},{"$f":"(AF648 * AF$47) * Input!AF$46 / Input!$AD$46","v":0},{"$f":"(AG648 * AG$47) * Input!AG$46 / Input!$AD$46","v":0},{"$f":"(AH648 * AH$47) * Input!AH$46 / Input!$AD$46","v":0},{"$f":"(AI648 * AI$47) * Input!AI$46 / Input!$AD$46","v":0},{"$f":"(AJ648 * AJ$47) * Input!AJ$46 / Input!$AD$46","v":0},{"$f":"(AK648 * AK$47) * Input!AK$46 / Input!$AD$46","v":0},{"$f":"(AL648 * AL$47) * Input!AL$46 / Input!$AD$46","v":0},{"$f":"(AM648 * AM$47) * Input!AM$46 / Input!$AD$46","v":0},{"$f":"(AN648 * AN$47) * Input!AN$46 / Input!$AD$46","v":0},{"$f":"(AO648 * AO$47) * Input!AO$46 / Input!$AD$46","v":0}]
[null,null,null,null,"Tax book value pre-depreciation",null,"£m nominal",null,null,">",null,null,null,null,null,null,null,null,null,null,null,null,null,null,{"$f":"SUM(Y692:Y694)","v":0},{"$f":"SUM(Z692:Z694)","v":0},{"$f":"SUM(AA692:AA694)","v":0},{"$f":"SUM(AB692:AB694)","v":0},{"$f":"SUM(AC692:AC694)","v":0},0,0,0,0,0,0,0,0,0,0,0,0]
[null,null,null,null,"Special Rate capital allowance",null,"£m nominal",null,null,">",null,null,null,null,null,null,null,null,null,null,null,null,null,null,{"$f":"-Y695*Y690","v":0},0,0,0,0,0,0,0,0,0,0,0,0,0,0,0,0]
[null,null,null,null,"Closing balance carried forward",null,null,null,null,">",null,null,null,null,null,null,null,null,null,null,null,null,null,null,{"$f":"SUM(Y695:Y696)","v":0},{"$f":"SUM(Z695:Z696)","v":0},0,0,0,0,0,0,0,0,0,0,0,0,0,0,0]
[]
[null,null,"Tax"]
[]
[null,null,null,null,"Corporation tax rate",null,"%",null,null,null,null,null,null,null,null,null,null,null,null,null,null,null,null,null,null,null,null,null,null,null,null,null,null,{"$f":"AH$48","v":0.23},{"$f":"AI$48","v":0.21},0.21,0.21,0.21,0.21,0.21,0.21]
[]
[null,null,null,null,"TIRG revenue",null,"£m nominal",null,null,null,null,null,null,null,null,null,null,null,null,null,null,null,null,null,null,null,null,null,null,null,null,null,null,{"$f":"AH647 * Input!AH$46 / Input!$AD$46","v":0},{"$f":"AI647 * Input!AI$46 / Input!$AD$46","v":0},{"$f":"AJ647 * Input!AJ$46 / Input!$AD$46","v":0},{"$f":"AK647 * Input!AK$46 / Input!$AD$46","v":0},{"$f":"AL647 * Input!AL$46 / Input!$AD$46","v":0},{"$f":"AM647 * Input!AM$46 / Input!$AD$46","v":0},{"$f":"AN647 * Input!AN$46 / Input!$AD$46","v":0},{"$f":"AO647 * Input!AO$46 / Input!$AD$46","v":0}]
[null,null,null,null,"Less interest payable",null,"£m nominal",null,null,null,null,null,null,null,null,null,null,null,null,null,null,null,null,null,null,null,null,null,null,null,null,null,null,{"$f":"((AH716 + AH720) / 2) * AH$50","v":0},{"$f":"((AI716 + AI720) / 2) * AI$50","v":0},0,0,0,0,0,0]
[null,null,null,null,"Less capital allowances",null,"£m nominal",null,null,null,null,null,null,null,null,null,null,null,null,null,null,null,null,null,null,null,null,null,null,null,null,null,null,{"$f":"AH696 + AH685","v":0},{"$f":"AI696 + AI685","v":0},0,0,0,0,0,0]
[null,null,null,null,"Taxable profit",null,"£m nominal",null,null,null,null,null,null,null,null,null,null,null,null,null,null,null,null,null,null,null,null,null,null,null,null,null,null,{"$f":"SUM(AH703:AH705)","v":0},0,0,0,0,0,0,0]
[]
[null,null,null,null,"Tax",null,"£m nominal",null,null,null,null,null,null,null,null,null,null,null,null,null,null,null,null,null,null,null,null,null,null,null,null,null,null,{"$f":"AH706*AH701","v":0},0,0,0,0,0,0,0]
[]
[null,null,"Net debt"]
[]
[null,null,null,null,"Overall gearing after equity issuance",null,"%",null,null,null,null,null,null,null,null,null,null,null,null,null,null,null,null,null,null,null,null,null,null,null,null,null,null,{"$f":"AH$49","v":0.61135353243992929},{"$f":"AI$49","v":0.60000189322596054},0.62191505472876596,0.59999999999999987,0.60850938335275739,0.61023122236756555,0.61018397673715152,0.60573059090483217]
[]
[null,null,null,null,"Opening net debt",null,"£m nominal",null,null,null,null,null,null,null,null,null,null,null,null,null,null,null,null,null,null,null,null,null,null,null,null,null,null,null,{"$f":"AH724","v":0},0,0,0,0,0,0]
[null,null,null,null,"Transfer from core net debt",null,"£m nominal",null,null,null,null,null,null,null,null,null,null,null,null,null,null,null,null,null,null,null,null,null,null,null,null,null,null,null,{"$f":"AI716-AI714","v":0},{"$f":"AJ716-AJ714","v":0},0,0,0,0,0]
[null,null,null,null,"Opening net debt after transfer",null,"£m nominal",null,null,null,null,null,null,null,null,null,null,null,null,null,null,null,null,null,null,null,null,null,null,null,null,null,null,{"$f":"IF(YEAR(AH$4) = YEAR($I646) + $I$43 + 1, 0, (-AH712 * (AH655 - AH664) * Input!AG$46 / Input!$AD$46))","v":0},{"$f":"IF(YEAR(AI$4) = YEAR($I646) + $I$43 + 1, 0, (-AI712 * (AI655 - AI664) * Input!AH$46 / Input!$AD$46))","v":0},{"$f":"IF(YEAR(AJ$4) = YEAR($I646) + $I$43 + 1, 0, (-AJ712 * (AJ655 - AJ664) * Input!AI$46 / Input!$AD$46))","v":0},{"$f":"IF(YEAR(AK$4) = YEAR($I646) + $I$43 + 1, 0, (-AK712 * (AK655 - AK664) * Input!AJ$46 / Input!$AD$46))","v":0},{"$f":"IF(YEAR(AL$4) = YEAR($I646) + $I$43 + 1, 0, (-AL712 * (AL655 - AL664) * Input!AK$46 / Input!$AD$46))","v":0},{"$f":"IF(YEAR(AM$4) = YEAR($I646) + $I$43 + 1, 0, (-AM712 * (AM655 - AM664) * Input!AL$46 / Input!$AD$46))","v":0},{"$f":"IF(YEAR(AN$4) = YEAR($I646) + $I$43 + 1, 0, (-AN712 * (AN655 - AN664) * Input!AM$46 / Input!$AD$46))","v":0},{"$f":"IF(YEAR(AO$4) = YEAR($I646) + $I$43 + 1, 0, (-AO712 * (AO655 - AO664) * Input!AN$46 / Input!$AD$46))","v":0}]
[null,null,null,null,"Add TIRG revenue",null,"£m nominal",null,null,null,null,null,null,null,null,null,null,null,null,null,null,null,null,null,null,null,null,null,null,null,null,null,null,{"$f":"AH647 * Input!AH$46 / Input!$AD$46","v":0},{"$f":"AI647 * Input!AI$46 / Input!$AD$46","v":0},{"$f":"AJ647 * Input!AJ$46 / Input!$AD$46","v":0},{"$f":"AK647 * Input!AK$46 / Input!$AD$46","v":0},{"$f":"AL647 * Input!AL$46 / Input!$AD$46","v":0},{"$f":"AM647 * Input!AM$46 / Input!$AD$46","v":0},{"$f":"AN647 * Input!AN$46 / Input!$AD$46","v":0},{"$f":"AO647 * Input!AO$46 / Input!$AD$46","v":0}]
[null,null,null,null,"Less capex",null,"£m nominal",null,null,null,null,null,null,null,null,null,null,null,null,null,null,null,null,null,null,null,null,null,null,null,null,null,null,{"$f":"-AH648 * Input!AH$46 / Input!$AD$46","v":0},{"$f":"-AI648 * Input!AI$46 / Input!$AD$46","v":0},{"$f":"-AJ648 * Input!AJ$46 / Input!$AD$46","v":0},{"$f":"-AK648 * Input!AK$46 / Input!$AD$46","v":0},{"$f":"-AL648 * Input!AL$46 / Input!$AD$46","v":0},{"$f":"-AM648 * Input!AM$46 / Input!$AD$46","v":0},{"$f":"-AN648 * Input!AN$46 / Input!$AD$46","v":0},{"$f":"-AO648 * Input!AO$46 / Input!$AD$46","v":0}]
[null,null,null,null,"Less dividends",null,"£m nominal",null,null,null,null,null,null,null,null,null,null,null,null,null,null,null,null,null,null,null,null,null,null,null,null,null,null,{"$f":"-AH673*(1-AH712)*$I$52*Input!AH$46/Input!$AD$46","v":0},{"$f":"-AI673*(1-AI712)*$I$52*Input!AI$46/Input!$AD$46","v":0},{"$f":"-AJ673*(1-AJ712)*$I$52*Input!AJ$46/Input!$AD$46","v":0},{"$f":"-AK673*(1-AK712)*$I$52*Input!AK$46/Input!$AD$46","v":0},{"$f":"-AL673*(1-AL712)*$I$52*Input!AL$46/Input!$AD$46","v":0},{"$f":"-AM673*(1-AM712)*$I$52*Input!AM$46/Input!$AD$46","v":0},{"$f":"-AN673*(1-AN712)*$I$52*Input!AN$46/Input!$AD$46","v":0},{"$f":"-AO673*(1-AO712)*$I$52*Input!AO$46/Input!$AD$46","v":0}]
[null,null,null,null,"Closing net debt (before interest and tax)",null,"£m nominal",null,null,null,null,null,null,null,null,null,null,null,null,null,null,null,null,null,null,null,null,null,null,null,null,null,null,{"$f":"SUM(AH716:AH719)","v":0},{"$f":"SUM(AI716:AI719)","v":0},0,0,0,0,0,0]
[null,null,null,null,"Less net interest paid (interest coupon)",null,"£m nominal",null,null,null,null,null,null,null,null,null,null,null,null,null,null,null,null,null,null,null,null,null,null,null,null,null,null,{"$f":"AH704 * (1 - AH$51)","v":0},0,0,0,0,0,0,0]
[null,null,null,null,"Less net interest paid (inflation coupon)",null,"£m nominal",null,null,null,null,null,null,null,null,null,null,null,null,null,null,null,null,null,null,null,null,null,null,null,null,null,null,{"$f":"AH704 * AH$51","v":0},0,0,0,0,0,0,0]
[null,null,null,null,"Less tax",null,"£m nominal",null,null,null,null,null,null,null,null,null,null,null,null,null,null,null,null,null,null,null,null,null,null,null,null,null,null,{"$f":"-AH708","v":0},{"$f":"-AI708","v":0},0,0,0,0,0,0]
[null,null,null,null,"Closing net debt",null,"£m nominal",null,null,null,null,null,null,null,null,null,null,null,null,null,null,null,null,null,null,null,null,null,null,null,null,null,null,{"$f":"SUM(AH720:AH723)","v":0},{"$f":"SUM(AI720:AI723)","v":0},0,0,0,0,0,0]
[]
[]
[null,"End of sheet"]

{"sheet":"Revenue","index":14,"n_rows":70,"n_cols":41,"rows_kept":70,"cut":false,"hidden":false,"merged":[]}
["Revenue"]
[null,{"$f":"UserInterface!G25","v":"NGET TO"}]
[null,null,null,null,"Parameter",null,"Units",null,"Constant",null,null,null,null,null,null,null,null,null,null,null,null,null,null,null,null,null,null,null,null,null,null,null,null,"Annual values"]
[null,null,null,null,"PCFM year ending",null,null,null,{"$f":"UserInterface!$G$18","v":"2016-03-31"},null,"1991-03-31","1992-03-31","1993-03-31","1994-03-31","1995-03-31","1996-03-31","1997-03-31","1998-03-31","1999-03-31","2000-03-31","2001-03-31","2002-03-31","2003-03-31","2004-03-31","2005-03-31","2006-03-31","2007-03-31","2008-03-31","2009-03-31","2010-03-31","2011-03-31","2012-03-31","2013-03-31","2014-03-31","2015-03-31","2016-03-31","2017-03-31","2018-03-31","2019-03-31","2020-03-31","2021-03-31"]
[]
[null,"Recalculated base revenue"]
[null,"Note: \"Recalculated base revenue\" calculates the Base Revenue that would have been allowed if the current inputs were known at Final Proposals."]
[null,"Its values feed into the MOD calculation below and are saved via functionality on the \"LiveResults\" sheet so it can be recalled in the MOD calculation in the following year."]
[null,"Note: Base revenue referred to in the PCFM is not the BRt terms quoted in the licence as this also includes the terms TRUE and RPIFt which relate to retail price index adjustments"]
[null,null,null,null,"Fast pot expenditure",null,"£m 09/10 prices",null,null,null,null,null,null,null,null,null,null,null,null,null,null,null,null,null,null,null,null,null,null,null,null,null,null,{"$f":"TIM!AH63","v":209.86641378298268},{"$f":"TIM!AI63","v":248.54075058914538},{"$f":"TIM!AJ63","v":234.19987505990539},{"$f":"TIM!AK63","v":215.65446569855544},{"$f":"TIM!AL63","v":190.86251068355574},{"$f":"TIM!AM63","v":188.08697140673627},{"$f":"TIM!AN63","v":167.76810500853094},{"$f":"TIM!AO63","v":145.64467701809619}]
[null,null,null,null,"Non-controllable opex",null,"£m 09/10 prices",null,null,null,null,null,null,null,null,null,null,null,null,null,null,null,null,null,null,null,null,null,null,null,null,null,null,{"$f":"Input!AH199","v":94.24723304227993},{"$f":"Input!AI199","v":87.678224204681584},{"$f":"Input!AJ199","v":87.676243763178761},{"$f":"Input!AK199","v":87.677481779017953},{"$f":"Input!AL199","v":87.676244486345595},{"$f":"Input!AM199","v":87.676244488148086},{"$f":"Input!AN199","v":87.676244492723825},{"$f":"Input!AO199","v":87.676244462267519}]
[null,null,null,null,"RAV depreciation",null,"£m 09/10 prices",null,null,null,null,null,null,null,null,null,null,null,null,null,null,null,null,null,null,null,null,null,null,null,null,null,null,{"$f":"-'Return&RAV'!AH43","v":563.74706552727753},{"$f":"-'Return&RAV'!AI43","v":588.18242688731129},{"$f":"-'Return&RAV'!AJ43","v":628.82435192153071},{"$f":"-'Return&RAV'!AK43","v":666.34291214207735},{"$f":"-'Return&RAV'!AL43","v":691.2045646902485},{"$f":"-'Return&RAV'!AM43","v":710.29329834492921},{"$f":"-'Return&RAV'!AN43","v":718.27015754664114},{"$f":"-'Return&RAV'!AO43","v":723.62488871875473}]
[null,null,null,null,"Return",null,"£m 09/10 prices",null,null,null,null,null,null,null,null,null,null,null,null,null,null,null,null,null,null,null,null,null,null,null,null,null,null,{"$f":"'Return&RAV'!AH32","v":397.09229823896078},{"$f":"'Return&RAV'!AI32","v":414.51888059709137},{"$f":"'Return&RAV'!AJ32","v":437.42970390330885},{"$f":"'Return&RAV'!AK32","v":467.57304406611729},{"$f":"'Return&RAV'!AL32","v":487.70425479281869},{"$f":"'Return&RAV'!AM32","v":503.53315178548002},{"$f":"'Return&RAV'!AN32","v":516.05340545389026},{"$f":"'Return&RAV'!AO32","v":523.19552570592191}]
[null,null,null,null,"Equity issuance cost",null,"£m 09/10 prices",null,null,null,null,null,null,null,null,null,null,null,null,null,null,null,null,null,null,null,null,null,null,null,null,null,null,{"$f":"'Finance&Tax'!AH175*Input!$AD$46/Input!AH$46","v":0},{"$f":"'Finance&Tax'!AI175*Input!$AD$46/Input!AI$46","v":0},{"$f":"'Finance&Tax'!AJ175*Input!$AD$46/Input!AJ$46","v":0},{"$f":"'Finance&Tax'!AK175*Input!$AD$46/Input!AK$46","v":18.977619468124363},{"$f":"'Finance&Tax'!AL175*Input!$AD$46/Input!AL$46","v":0},{"$f":"'Finance&Tax'!AM175*Input!$AD$46/Input!AM$46","v":0},{"$f":"'Finance&Tax'!AN175*Input!$AD$46/Input!AN$46","v":0},{"$f":"'Finance&Tax'!AO175*Input!$AD$46/Input!AO$46","v":0}]
[null,null,null,null,"Additional income",null,"£m 09/10 prices",null,null,null,null,null,null,null,null,null,null,null,null,null,null,null,null,null,null,null,null,null,null,null,null,null,null,{"$f":"TIM!AH77","v":15.168246288518162},{"$f":"TIM!AI77","v":16.275110005972994},{"$f":"TIM!AJ77","v":15.614702904478012},{"$f":"TIM!AK77","v":14.911674359737152},{"$f":"TIM!AL77","v":13.033415757853545},{"$f":"TIM!AM77","v":12.556067765830047},{"$f":"TIM!AN77","v":11.285100906339711},{"$f":"TIM!AO77","v":9.8268179419485548}]
[null,null,null,null,"Core DARTs",null,"£m 09/10 prices",null,null,null,null,null,null,null,null,null,null,null,null,null,null,null,null,null,null,null,null,null,null,null,null,null,null,{"$f":"DARTs!AH51","v":-45.325154703342264},{"$f":"DARTs!AI51","v":-44.690726609029554},{"$f":"DARTs!AJ51","v":-46.886744743665048},{"$f":"DARTs!AK51","v":-42.814381298481848},{"$f":"DARTs!AL51","v":-42.752554816122256},{"$f":"DARTs!AM51","v":-42.210737947076467},{"$f":"DARTs!AN51","v":-41.542250607601019},{"$f":"DARTs!AO51","v":-41.080253366326289}]
[null,null,null,null,"Recalculated base revenue (except tax allowance)",null,"£m 09/10 prices",null,null,null,null,null,null,null,null,null,null,null,null,null,null,null,null,null,null,null,null,null,null,null,null,null,null,{"$f":"SUM(AH10:AH16)","v":1234.7961021766769},1310.5046656751731,1356.8581328087366,1428.3228162151479,1427.7284355946997,1459.9349958440471,1459.5107628005248,1448.8879004806624]
[null,null,null,null,"Tax allowance",null,"£m 09/10 prices",null,null,null,null,null,null,null,null,null,null,null,null,null,null,null,null,null,null,null,null,null,null,null,null,null,null,{"$f":"'Finance&Tax'!AH228*Input!$AD$46/Input!AH$46","v":96.63858196359385},{"$f":"'Finance&Tax'!AI228*Input!$AD$46/Input!AI$46","v":77.581653978349095},{"$f":"'Finance&Tax'!AJ228*Input!$AD$46/Input!AJ$46","v":68.922643477500444},{"$f":"'Finance&Tax'!AK228*Input!$AD$46/Input!AK$46","v":74.206177537035146},{"$f":"'Finance&Tax'!AL228*Input!$AD$46/Input!AL$46","v":66.109857704089933},{"$f":"'Finance&Tax'!AM228*Input!$AD$46/Input!AM$46","v":69.12866314571616},{"$f":"'Finance&Tax'!AN228*Input!$AD$46/Input!AN$46","v":67.728636083372379},{"$f":"'Finance&Tax'!AO228*Input!$AD$46/Input!AO$46","v":68.226718698457887}]
[null,null,null,null,"Recalculated base revenue",null,"£m 09/10 prices",null,null,null,null,null,null,null,null,null,null,null,null,null,null,null,null,null,null,null,null,null,null,null,null,null,null,{"$f":"SUM(AH17:AH18)","v":1331.4346841402707},1388.0863196535222,1425.7807762862371,1502.5289937521829,1493.8382932987897,1529.0636589897633,1527.2393988838971,1517.1146191791204]
[]
[null,"MOD"]
[]
[null,null,"Catch-up"]
[null,null,"Note: \"Catch-up\" calculates the revenue adjustment required to compensate for the impact of new information on previous year allowances."]
[]
[null,null,null,"Recalculated base revenue delta"]
[null,null,null,"Note: New changes to recalculated base revenue in earlier years are identified as \"recalculated base revenue deltas\" to be brought forward."]
[null,null,null,"The previous recalculated base revenue value is recalled via functionality on the \"LiveResults\" sheet saving information to and recalling it from the \"SavedResults\" sheet."]
[]
[null,null,null,null,"Current recalculated base revenue for years < t",null,"£m 09/10 prices",null,null,null,null,null,null,null,null,null,null,null,null,null,null,null,null,null,null,null,null,null,null,null,null,null,null,{"$f":"IF(AH$4 < $I$4, AH19, 0 )","v":1331.4346841402707},{"$f":"IF(AI$4 < $I$4, AI19, 0 )","v":1388.0863196535222},0,0,0,0,0]
[null,null,null,null,"Less previous recalculated base revenue for years < t",null,"£m 09/10 prices",null,null,null,null,null,null,null,null,null,null,null,null,null,null,null,null,null,null,null,null,null,null,null,null,null,null,{"$f":"IF(AH$4 < $I$4, -LiveResults!F62, 0 )","v":-1351.1261049786092},{"$f":"IF(AI$4 < $I$4, -LiveResults!G62, 0 )","v":-1429.1347880160697},{"$f":"IF(AJ$4 < $I$4, -LiveResults!H62, 0 )","v":0},{"$f":"IF(AK$4 < $I$4, -LiveResults!I62, 0 )","v":0},{"$f":"IF(AL$4 < $I$4, -LiveResults!J62, 0 )","v":0},{"$f":"IF(AM$4 < $I$4, -LiveResults!K62, 0 )","v":0},{"$f":"IF(AN$4 < $I$4, -LiveResults!L62, 0 )","v":0}]
[null,null,null,null,"Recalculated base revenue delta",null,"£m 09/10 prices",null,null,null,null,null,null,null,null,null,null,null,null,null,null,null,null,null,null,null,null,null,null,null,null,null,null,{"$f":"SUM(AH30:AH31)","v":-19.691420838338445},-41.04846836254751,0,0,0,0,0]
[]
[null,null,null,"Catch-up for year t"]
[null,null,null,"Note: Recalculated base revenue deltas are brought forward using the WACC-based carrying factor to provide \"catch-up\" for year t."]
[null,null,null,"The WACC-based time value of money factor applies the WACC for the appropriate number of years delay between the new delta and recovery in year t MOD. Be aware that the calculation of this value uses an offset function."]
[]
[null,null,null,null,"WACC",null,"real annual %",null,null,null,null,null,null,null,null,null,null,null,null,null,null,null,null,null,null,null,null,null,null,null,null,null,null,{"$f":"Input!AH$42","v":4.5520000000000005E-2},{"$f":"Input!AI$42","v":4.4319999999999998E-2},{"$f":"Input!AJ$42","v":4.3300000000000005E-2},{"$f":"Input!AK$42","v":4.3300000000000005E-2},{"$f":"Input!AL$42","v":4.3300000000000005E-2},{"$f":"Input!AM$42","v":4.3300000000000005E-2},{"$f":"Input!AN$42","v":4.3300000000000005E-2}]
[null,null,null,null,"1 + WACC",null,"scalar",null,null,null,null,null,null,null,null,null,null,null,null,null,null,null,null,null,null,null,null,null,null,null,null,null,null,{"$f":"1 + AH38","v":1.04552},1.0443199999999999,1.0432999999999999,1.0432999999999999,1.0432999999999999,1.0432999999999999,1.0432999999999999]
[null,null,null,null,"WACC-based time value of money factor",null,"scalar",null,null,null,null,null,null,null,null,null,null,null,null,null,null,null,null,null,null,null,null,null,null,null,null,null,null,{"$f":"IF(AH$4 < $I$4, PRODUCT(OFFSET(AH39, 0, 0, 1, YEAR($I$4) - YEAR(AH$4))), 0)","v":1.0918574463999999},{"$f":"IF(AI$4 < $I$4, PRODUCT(OFFSET(AI39, 0, 0, 1, YEAR($I$4) - YEAR(AI$4))), 0)","v":1.0443199999999999},0,0,0,0,0]
[]
[null,null,null,null,"Recalculated base revenue delta",null,"£m 09/10 prices",null,null,null,null,null,null,null,null,null,null,null,null,null,null,null,null,null,null,null,null,null,null,null,null,null,null,{"$f":"AH32","v":-19.691420838338445},-41.04846836254751,0,0,0,0,0]
[]
[null,null,null,null,"Catch-up for year t",null,"£m 09/10 prices",null,null,null,null,null,null,null,null,null,null,null,null,null,null,null,null,null,null,null,null,null,null,null,null,null,null,null,{"$f":"IF(AI$4 = $I$4, SUMPRODUCT($AH42:AH42, $AH40:AH40), 0)","v":0},{"$f":"IF(AJ$4 = $I$4, SUMPRODUCT($AH42:AI42, $AH40:AI40), 0)","v":-64.367960952911574},{"$f":"IF(AK$4 = $I$4, SUMPRODUCT($AH42:AJ42, $AH40:AJ40), 0)","v":0},{"$f":"IF(AL$4 = $I$4, SUMPRODUCT($AH42:AK42, $AH40:AK40), 0)","v":0},{"$f":"IF(AM$4 = $I$4, SUMPRODUCT($AH42:AL42, $AH40:AL40), 0)","v":0},{"$f":"IF(AN$4 = $I$4, SUMPRODUCT($AH42:AM42, $AH40:AM40), 0)","v":0},{"$f":"IF(AO$4 = $I$4, SUMPRODUCT($AH42:AN42, $AH40:AN40), 0)","v":0}]
[]
[null,null,"Base Revenue"]
[null,null,"Note: Base Revenue is only calculated for one year t at a time in the model."]
[]
[null,null,null,null,"Recalculated base revenue for year t",null,"£m 09/10 prices",null,null,null,null,null,null,null,null,null,null,null,null,null,null,null,null,null,null,null,null,null,null,null,null,null,null,{"$f":"IF(AH$4 = $I4, AH19, 0 )","v":0},0,{"$f":"IF(AJ$4 = $I4, AJ19, 0 )","v":1425.7807762862371},{"$f":"IF(AK$4 = $I4, AK19, 0 )","v":0},0,0,0,0]
[null,null,null,null,"Catch-up for year t",null,"£m 09/10 prices",null,null,null,null,null,null,null,null,null,null,null,null,null,null,null,null,null,null,null,null,null,null,null,null,null,null,null,{"$f":"AI44","v":0},-64.367960952911574,0,0,0,0,0]
[null,null,null,null,"Base Revenue for year t",null,"£m 09/10 prices",null,null,null,null,null,null,null,null,null,null,null,null,null,null,null,null,null,null,null,null,null,null,null,null,null,null,{"$f":"SUM(AH49:AH50)","v":0},0,1361.4128153333256,0,0,0,0,0]
[]
[null,null,"MOD"]
[null,null,"Note: MOD for year t is identified as the difference between Base Revenue and its opening value calculated at Final Proposals."]
[]
[null,null,null,null,"Base revenue for year t",null,"£m 09/10 prices",null,null,null,null,null,null,null,null,null,null,null,null,null,null,null,null,null,null,null,null,null,null,null,null,null,null,null,{"$f":"AI51","v":0},{"$f":"AJ51","v":1361.4128153333256},0,0,0,0,0]
[null,null,null,null,"Less Final Proposals base revenue for year t",null,"£m 09/10 prices",null,null,null,null,null,null,null,null,null,null,null,null,null,null,null,null,null,null,null,null,null,null,null,null,null,null,null,{"$f":"IF(AI$4 = $I$4, -AI64, 0 )","v":0},{"$f":"IF(AJ$4 = $I$4, -AJ64, 0 )","v":-1475.5925732296025},0,0,0,0,0]
[null,null,null,null,"MOD",null,"£m 09/10 prices",null,null,null,null,null,null,null,null,null,null,null,null,null,null,null,null,null,null,null,null,null,null,null,null,null,null,null,{"$f":"SUM(AI56:AI57)","v":0},-114.1797578962769,0,0,0,0,0]
[]
[null,"Total revenue"]
[null,"Note: Non-Core DARTs are added to Base Revenue to give Total Revenue. Non-Core DARTs are not included in the MOD calculation and therefore revisions to their values in earlier years must be processed as true-ups to year t."]
[null,"MOD from previous years is recalled via functionality on the \"LiveResults\" sheet saving information to and recalling it from the \"SavedResults\" sheet."]
[]
[null,null,null,null,"Final Proposals base revenue",null,"£m 09/10 prices",null,null,null,null,null,null,null,null,null,null,null,null,null,null,null,null,null,null,null,null,null,null,null,null,null,null,{"$f":"LiveResults!F53","v":1342.2812908140818},{"$f":"LiveResults!G53","v":1443.8294617348479},{"$f":"LiveResults!H53","v":1475.5925732296025},{"$f":"LiveResults!I53","v":1571.3868096928727},{"$f":"LiveResults!J53","v":1554.9421422395978},{"$f":"LiveResults!K53","v":1587.6274208238706},{"$f":"LiveResults!L53","v":1585.2281224827718},{"$f":"LiveResults!M53","v":1571.5841090397205}]
[null,null,null,null,"MOD",null,"£m 09/10 prices",null,null,null,null,null,null,null,null,null,null,null,null,null,null,null,null,null,null,null,null,null,null,null,null,null,null,null,{"$f":"IF(AI$4 = $I$4, AI58, LiveResults!G54)","v":-5.4472436134815325},{"$f":"IF(AJ$4 = $I$4, AJ58, LiveResults!H54)","v":-114.1797578962769},{"$f":"IF(AK$4 = $I$4, AK58, LiveResults!I54)","v":0},{"$f":"IF(AL$4 = $I$4, AL58, LiveResults!J54)","v":0},{"$f":"IF(AM$4 = $I$4, AM58, LiveResults!K54)","v":0},{"$f":"IF(AN$4 = $I$4, AN58, LiveResults!L54)","v":0},{"$f":"IF(AO$4 = $I$4, AO58, LiveResults!M54)","v":0}]
[null,null,null,null,"Base revenue",null,"£m 09/10 prices",null,null,null,null,null,null,null,null,null,null,null,null,null,null,null,null,null,null,null,null,null,null,null,null,null,null,{"$f":"SUM(AH64:AH65)","v":1342.2812908140818},{"$f":"SUM(AI64:AI65)","v":1438.3822181213663},1361.4128153333256,1571.3868096928727,1554.9421422395978,1587.6274208238706,1585.2281224827718,1571.5841090397205]
[null,null,null,null,"Non-core DARTs",null,"£m 09/10 prices",null,null,null,null,null,null,null,null,null,null,null,null,null,null,null,null,null,null,null,null,null,null,null,null,null,null,{"$f":"DARTs!AH53","v":129.38403412436767},{"$f":"DARTs!AI53","v":129.84069005077831},{"$f":"DARTs!AJ53","v":137.02025797717536},{"$f":"DARTs!AK53","v":122.23099999999999},{"$f":"DARTs!AL53","v":123.932},{"$f":"DARTs!AM53","v":125.43799999999999},{"$f":"DARTs!AN53","v":127.10599999999999},{"$f":"DARTs!AO53","v":128.673}]
[null,null,null,null,"Total revenue (Base Revenue Plus net Darts)",null,"£m 09/10 prices",null,null,null,null,null,null,null,null,null,null,null,null,null,null,null,null,null,null,null,null,null,null,null,null,null,null,{"$f":"SUM(AH66:AH67)","v":1471.6653249384494},{"$f":"SUM(AI66:AI67)","v":1568.2229081721446},1498.433073310501,1693.6178096928727,1678.8741422395979,1713.0654208238707,1712.3341224827718,1700.2571090397205]
[]
[null,"End of sheet"]

{"sheet":"LiveResults","index":15,"n_rows":92,"n_cols":15,"rows_kept":92,"cut":false,"hidden":false,"merged":[]}
["Live Results"]
[]
[null,"Live results"]
[null,"Note: This sheet displays the output of the PCFM for the live company in the selected year."]
[null,"As well as displaying output it performs the role of recalling results generated with data at earlier stages from the \"SavedResults\" sheet required for the MOD calculation."]
[]
[null,null,"Offset settings"]
[null,null,"Note: This sheet uses Offset functions to recall saved data for the live company on the \"SavedResults\" sheet, and to place recalculated base revenue values into a row where the year of calculation can be identified."]
[]
[null,null,null,null,"Company number",{"$f":"UserInterface!E57","v":3}]
[null,null,null,null,"Number of rows per company on \"SavedResults\"",{"$f":"ROW(m_live_results_end) - ROW(m_live_results)","v":77}]
[null,null,null,null,"Year number",{"$f":"UserInterface!G62","v":3}]
[]
[null,null,"Adjacent named range: m_live_results"]
[null,null,{"$f":"\"Values for \"&E19","v":"Values for NGET TO"}]
[]
[]
[null,null,null,null,"Company","Calculated for MOD year ending",null,"File"]
[null,null,null,null,{"$f":"UserInterface!G25","v":"NGET TO"},{"$f":"UserInterface!G18","v":"2016-03-31"},null,{"$f":"MID(CELL(\"filename\"),SEARCH(\"[\",CELL(\"filename\"))+1,SEARCH(\"]\",CELL(\"filename\"))-SEARCH(\"[\",CELL(\"filename\"))-1)","v":"ET1 PCFM November 2014 change control 18 (SO Data Centre).xlsm"}]
[]
[null,null,null,null,"PCFM year ending","2014-03-31","2015-03-31","2016-03-31","2017-03-31","2018-03-31","2019-03-31","2020-03-31","2021-03-31","RIIO Total","RIIO average"]
[null,null,null,null,"Price base","£m 09/10 prices","£m 09/10 prices","£m 09/10 prices","£m 09/10 prices","£m 09/10 prices","£m 09/10 prices","£m 09/10 prices","£m 09/10 prices","£m 09/10 prices","£m 09/10 prices"]
[null,null,null,null,"Totex"]
[null,null,null,1,"Slow pot",{"$f":"TIM!AH65","v":1189.2430114369006},{"$f":"TIM!AI65","v":1408.3975866718224},{"$f":"TIM!AJ65","v":1327.1326253394636},{"$f":"TIM!AK65","v":1222.041972291815},{"$f":"TIM!AL65","v":1081.5542272068149},{"$f":"TIM!AM65","v":1065.8261713048387},{"$f":"TIM!AN65","v":950.68592838167524},{"$f":"TIM!AO65","v":825.3198364358783},{"$f":"SUM(F24:M24)","v":9070.2013590692077},{"$f":"IFERROR(AVERAGE(F24:M24), 0 )","v":1133.775169883651}]
[null,null,null,{"$f":"+D24+1","v":2},"Fast pot",{"$f":"TIM!AH63","v":209.86641378298268},{"$f":"TIM!AI63","v":248.54075058914538},{"$f":"TIM!AJ63","v":234.19987505990539},{"$f":"TIM!AK63","v":215.65446569855544},{"$f":"TIM!AL63","v":190.86251068355574},{"$f":"TIM!AM63","v":188.08697140673627},{"$f":"TIM!AN63","v":167.76810500853094},{"$f":"TIM!AO63","v":145.64467701809619},{"$f":"SUM(F25:M25)","v":1600.6237692475079},{"$f":"IFERROR(AVERAGE(F25:M25), 0 )","v":200.07797115593849}]
[null,null,null,{"$f":"+D25+1","v":3},"Post-TIM totex allowance",{"$f":"TIM!AH52","v":1399.1094252198832},{"$f":"TIM!AI52","v":1656.9383372609677},{"$f":"TIM!AJ52","v":1561.3325003993691},{"$f":"TIM!AK52","v":1437.6964379903704},{"$f":"TIM!AL52","v":1272.4167378903705},{"$f":"TIM!AM52","v":1253.9131427115749},{"$f":"TIM!AN52","v":1118.4540333902062},{"$f":"TIM!AO52","v":970.96451345397452},{"$f":"SUM(F26:M26)","v":10670.825128316717},{"$f":"IFERROR(AVERAGE(F26:M26), 0 )","v":1333.8531410395897}]
[null,null,null,null,"Regulatory Asset Value (RAV)"]
[null,null,null,{"$f":"D26+1","v":4},"Opening asset value (before transfers)",{"$f":"'Return&RAV'!AH39","v":8691.0913006079008},{"$f":"'Return&RAV'!AI39","v":9154.4123523338712},{"$f":"'Return&RAV'!AJ39","v":9974.6275121183826},{"$f":"'Return&RAV'!AK39","v":10672.935785536316},{"$f":"'Return&RAV'!AL39","v":11311.023474160047},{"$f":"'Return&RAV'!AM39","v":11701.373136676615},{"$f":"'Return&RAV'!AN39","v":12056.906009636523},{"$f":"'Return&RAV'!AO39","v":12289.321780471557},null,{"$f":"IFERROR(AVERAGE(F28:M28), 0 )","v":10731.461418942652}]
[null,null,null,{"$f":"+D28+1","v":5},"Transfers",{"$f":"'Return&RAV'!AH40","v":0},{"$f":"'Return&RAV'!AI40","v":0},{"$f":"'Return&RAV'!AJ40","v":0},{"$f":"'Return&RAV'!AK40","v":82.388628473992952},{"$f":"'Return&RAV'!AL40","v":0},{"$f":"'Return&RAV'!AM40","v":0},{"$f":"'Return&RAV'!AN40","v":0},{"$f":"'Return&RAV'!AO40","v":0},{"$f":"SUM(F29:M29)","v":82.388628473992952},10.298578559249119]
[null,null,null,{"$f":"+D29+1","v":6},"Opening asset value (after transfers)",{"$f":"'Return&RAV'!AH41","v":8691.0913006079008},{"$f":"'Return&RAV'!AI41","v":9154.4123523338712},{"$f":"'Return&RAV'!AJ41","v":9974.6275121183826},{"$f":"'Return&RAV'!AK41","v":10755.324414010309},{"$f":"'Return&RAV'!AL41","v":11311.023474160047},{"$f":"'Return&RAV'!AM41","v":11701.373136676615},{"$f":"'Return&RAV'!AN41","v":12056.906009636523},{"$f":"'Return&RAV'!AO41","v":12289.321780471557},null,10741.7599975019]
[null,null,null,{"$f":"+D30+1","v":7},"RAV additions (after disposals)",{"$f":"'Return&RAV'!AH42","v":1027.0681172532477},{"$f":"'Return&RAV'!AI42","v":1408.3975866718224},{"$f":"'Return&RAV'!AJ42","v":1327.1326253394636},{"$f":"'Return&RAV'!AK42","v":1222.041972291815},{"$f":"'Return&RAV'!AL42","v":1081.5542272068149},{"$f":"'Return&RAV'!AM42","v":1065.8261713048387},{"$f":"'Return&RAV'!AN42","v":950.68592838167524},{"$f":"'Return&RAV'!AO42","v":825.3198364358783},{"$f":"SUM(F31:M31)","v":8908.0264648855555},1113.5033081106944]
[null,null,null,{"$f":"+D31+1","v":8},"Depreciation",{"$f":"'Return&RAV'!AH43","v":-563.74706552727753},{"$f":"'Return&RAV'!AI43","v":-588.18242688731129},{"$f":"'Return&RAV'!AJ43","v":-628.82435192153071},{"$f":"'Return&RAV'!AK43","v":-666.34291214207735},{"$f":"'Return&RAV'!AL43","v":-691.2045646902485},{"$f":"'Return&RAV'!AM43","v":-710.29329834492921},{"$f":"'Return&RAV'!AN43","v":-718.27015754664114},{"$f":"'Return&RAV'!AO43","v":-723.62488871875473},{"$f":"SUM(F32:M32)","v":-5290.4896657787704},-661.31120822234629]
[null,null,null,{"$f":"+D32+1","v":9},"Closing asset value",{"$f":"+F30+F31+F32","v":9154.4123523338712},{"$f":"+G30+G31+G32","v":9974.6275121183826},10672.935785536316,11311.023474160047,11701.373136676613,12056.906009636523,12289.321780471557,12391.016728188681,null,11193.952097390249]
[null,null,null,null,"Final Proposals allowances"]
[null,null,null,{"$f":"D33+1","v":10},{"$f":"E44","v":"Fast pot expenditure"},{"$f":"IF($F$19 = $F$21, F44, OFFSET(m_results_01, ($F$11 * ($F$10 - 1)) + ROW($D35) - ROW(m_live_results), COLUMN(F$21) - COLUMN(m_live_results)))","v":237.40620856945091},258.79192954230029,247.54958686774498,235.53222598536234,202.1447606835556,194.23112140673624,171.88650500853097,146.13577701809621,{"$f":"SUM(F35:M35)","v":1693.6781150817776},{"$f":"IFERROR(AVERAGE(F35:M35), 0 )","v":211.7097643852222}]
[null,null,null,{"$f":"+D35+1","v":11},{"$f":"E45","v":"Non-controllable opex"},94.24723304227993,87.678224204681584,87.676243763178761,87.677481779017953,87.676244486345595,87.676244488148086,87.676244492723825,87.676244462267519,707.98416071864324,88.498020089830405]
[null,null,null,12,"RAV depreciation",563.74706552727753,601.9438855384235,644.79876348951439,684.89258726448122,713.22010570881355,734.1034428722661,742.97880142881684,748.89084842182604,5434.5755002514197,679.32193753142747]
[null,null,null,13,"Return",404.01995120068966,440.62845231569594,476.8060368721554,511.8717273328827,536.07099692325698,553.88861733710439,567.26068740369476,574.24363467064757,4064.7901040561273,508.09876300701592]
[null,null,null,14,"Equity issuance cost",0,16.036529091209541,0,22.217944632295964,0,0,0,0,38.254473723505505,4.7818092154381882]
[null,null,null,15,"Additional income",15.168246288518162,16.275110005972994,15.614702904478012,14.911674359737152,13.033415757853545,12.556067765830047,11.285100906339711,9.8268179419485548,108.67113593067819,13.583891991334774]
[null,null,null,16,"Core DARTs",-57.649451741429942,-57.528171097000921,-63.872795597637484,-60.310726285543012,-60.778245898362016,-60.785513483956521,-60.686558770047299,-60.81527627756094,-482.42673915153813,-60.303342393942266]
[null,null,null,17,"Tax allowance",85.34203792729511,80.003502133565092,67.020034930168393,74.593894624638367,63.574864578134445,65.957440437742321,64.827342012712734,65.626062802495454,566.94517944675192,70.86814743084399]
[null,null,null,null,"Recalculated allowances"]
[null,null,null,{"$f":"D42+1","v":18},{"$f":"Revenue!E10","v":"Fast pot expenditure"},{"$f":"Revenue!AH10","v":209.86641378298268},{"$f":"Revenue!AI10","v":248.54075058914538},{"$f":"Revenue!AJ10","v":234.19987505990539},{"$f":"Revenue!AK10","v":215.65446569855544},{"$f":"Revenue!AL10","v":190.86251068355574},{"$f":"Revenue!AM10","v":188.08697140673627},{"$f":"Revenue!AN10","v":167.76810500853094},{"$f":"Revenue!AO10","v":145.64467701809619},{"$f":"SUM(F44:M44)","v":1600.6237692475079},{"$f":"IFERROR(AVERAGE(F44:M44), 0 )","v":200.07797115593849}]
[null,null,null,{"$f":"+D44+1","v":19},{"$f":"Revenue!E11","v":"Non-controllable opex"},{"$f":"Revenue!AH11","v":94.24723304227993},{"$f":"Revenue!AI11","v":87.678224204681584},{"$f":"Revenue!AJ11","v":87.676243763178761},{"$f":"Revenue!AK11","v":87.677481779017953},{"$f":"Revenue!AL11","v":87.676244486345595},{"$f":"Revenue!AM11","v":87.676244488148086},{"$f":"Revenue!AN11","v":87.676244492723825},{"$f":"Revenue!AO11","v":87.676244462267519},707.98416071864324,88.498020089830405]
[null,null,null,20,{"$f":"Revenue!E12","v":"RAV depreciation"},{"$f":"Revenue!AH12","v":563.74706552727753},{"$f":"Revenue!AI12","v":588.18242688731129},{"$f":"Revenue!AJ12","v":628.82435192153071},{"$f":"Revenue!AK12","v":666.34291214207735},{"$f":"Revenue!AL12","v":691.2045646902485},{"$f":"Revenue!AM12","v":710.29329834492921},{"$f":"Revenue!AN12","v":718.27015754664114},{"$f":"Revenue!AO12","v":723.62488871875473},5290.4896657787704,661.31120822234629]
[null,null,null,21,{"$f":"Revenue!E13","v":"Return"},{"$f":"Revenue!AH13","v":397.09229823896078},{"$f":"Revenue!AI13","v":414.51888059709137},{"$f":"Revenue!AJ13","v":437.42970390330885},{"$f":"Revenue!AK13","v":467.57304406611729},{"$f":"Revenue!AL13","v":487.70425479281869},{"$f":"Revenue!AM13","v":503.53315178548002},{"$f":"Revenue!AN13","v":516.05340545389026},{"$f":"Revenue!AO13","v":523.19552570592191},3747.1002645435892,468.38753306794865]
[null,null,null,22,{"$f":"Revenue!E14","v":"Equity issuance cost"},{"$f":"Revenue!AH14","v":0},{"$f":"Revenue!AI14","v":0},{"$f":"Revenue!AJ14","v":0},{"$f":"Revenue!AK14","v":18.977619468124363},{"$f":"Revenue!AL14","v":0},{"$f":"Revenue!AM14","v":0},{"$f":"Revenue!AN14","v":0},{"$f":"Revenue!AO14","v":0},18.977619468124363,2.3722024335155454]
[null,null,null,23,{"$f":"Revenue!E15","v":"Additional income"},{"$f":"Revenue!AH15","v":15.168246288518162},{"$f":"Revenue!AI15","v":16.275110005972994},{"$f":"Revenue!AJ15","v":15.614702904478012},{"$f":"Revenue!AK15","v":14.911674359737152},{"$f":"Revenue!AL15","v":13.033415757853545},{"$f":"Revenue!AM15","v":12.556067765830047},{"$f":"Revenue!AN15","v":11.285100906339711},{"$f":"Revenue!AO15","v":9.8268179419485548},108.67113593067819,13.583891991334774]
[null,null,null,24,{"$f":"Revenue!E16","v":"Core DARTs"},{"$f":"Revenue!AH16","v":-45.325154703342264},{"$f":"Revenue!AI16","v":-44.690726609029554},{"$f":"Revenue!AJ16","v":-46.886744743665048},{"$f":"Revenue!AK16","v":-42.814381298481848},{"$f":"Revenue!AL16","v":-42.752554816122256},{"$f":"Revenue!AM16","v":-42.210737947076467},{"$f":"Revenue!AN16","v":-41.542250607601019},{"$f":"Revenue!AO16","v":-41.080253366326289},-347.30280409164482,-43.412850511455602]
[null,null,null,25,{"$f":"Revenue!E18","v":"Tax allowance"},{"$f":"Revenue!AH18","v":96.63858196359385},{"$f":"Revenue!AI18","v":77.581653978349095},{"$f":"Revenue!AJ18","v":68.922643477500444},{"$f":"Revenue!AK18","v":74.206177537035146},{"$f":"Revenue!AL18","v":66.109857704089933},{"$f":"Revenue!AM18","v":69.12866314571616},{"$f":"Revenue!AN18","v":67.728636083372379},{"$f":"Revenue!AO18","v":68.226718698457887},588.54293258811481,73.567866573514351]
[null,null,null,null,"Price Control Revenue"]
[null,null,null,{"$f":"D51+1","v":26},"Final proposals base revenue",{"$f":"F64","v":1342.2812908140818},{"$f":"G64","v":1443.8294617348479},1475.5925732296025,1571.3868096928727,1554.9421422395978,1587.6274208238706,1585.2281224827718,1571.5841090397205,{"$f":"SUM(F53:M53)","v":12132.471930057365},{"$f":"IFERROR(AVERAGE(F53:M53), 0 )","v":1516.5589912571706}]
[null,null,null,{"$f":"+D53+1","v":27},"MOD",{"$f":"IF(F$21=$F$19,Revenue!AH58,IF(F$21 < $F$19,OFFSET(m_results_01, ($F$11 * ($F$10 - 1)) + ROW($D73) + ((F$21 - $F$21)/365) - ROW(m_live_results), COLUMN(F$21) - COLUMN(m_live_results)), 0))","v":0},{"$f":"IF(G$21=$F$19,Revenue!AI58,IF(G$21 < $F$19,OFFSET(m_results_01, ($F$11 * ($F$10 - 1)) + ROW($D73) + ((G$21 - $F$21)/365) - ROW(m_live_results), COLUMN(G$21) - COLUMN(m_live_results)), 0))","v":-5.4472436134815325},{"$f":"IF(H$21=$F$19,Revenue!AJ58,IF(H$21 < $F$19,OFFSET(m_results_01, ($F$11 * ($F$10 - 1)) + ROW($D73) + ((H$21 - $F$21)/365) - ROW(m_live_results), COLUMN(H$21) - COLUMN(m_live_results)), 0))","v":-114.1797578962769},{"$f":"IF(I$21=$F$19,Revenue!AK58,IF(I$21 < $F$19,OFFSET(m_results_01, ($F$11 * ($F$10 - 1)) + ROW($D73) + ((I$21 - $F$21)/365) - ROW(m_live_results), COLUMN(I$21) - COLUMN(m_live_results)), 0))","v":0},{"$f":"IF(J$21=$F$19,Revenue!AL58,IF(J$21 < $F$19,OFFSET(m_results_01, ($F$11 * ($F$10 - 1)) + ROW($D73) + ((J$21 - $F$21)/365) - ROW(m_live_results), COLUMN(J$21) - COLUMN(m_live_results)), 0))","v":0},{"$f":"IF(K$21=$F$19,Revenue!AM58,IF(K$21 < $F$19,OFFSET(m_results_01, ($F$11 * ($F$10 - 1)) + ROW($D73) + ((K$21 - $F$21)/365) - ROW(m_live_results), COLUMN(K$21) - COLUMN(m_live_results)), 0))","v":0},{"$f":"IF(L$21=$F$19,Revenue!AN58,IF(L$21 < $F$19,OFFSET(m_results_01, ($F$11 * ($F$10 - 1)) + ROW($D73) + ((L$21 - $F$21)/365) - ROW(m_live_results), COLUMN(L$21) - COLUMN(m_live_results)), 0))","v":0},{"$f":"IF(M$21=$F$19,Revenue!AO58,IF(M$21 < $F$19,OFFSET(m_results_01, ($F$11 * ($F$10 - 1)) + ROW($D73) + ((M$21 - $F$21)/365) - ROW(m_live_results), COLUMN(M$21) - COLUMN(m_live_results)), 0))","v":0},-119.62700150975843,-14.953375188719804]
[null,null,null,28,"Base revenue",{"$f":"IF(F$21 = $F$19, Revenue!AH51, IF(F$21 < $F$19, OFFSET(m_results_01, ($F$11 * ($F$10 - 1)) + ROW($D55) - ROW(m_live_results), COLUMN(F$21) - COLUMN(m_live_results)), F53))","v":1342.2812908140818},{"$f":"IF(G$21 = $F$19, Revenue!AI51, IF(G$21 < $F$19, OFFSET(m_results_01, ($F$11 * ($F$10 - 1)) + ROW($D55) - ROW(m_live_results), COLUMN(G$21) - COLUMN(m_live_results)), G53))","v":1438.3822181213663},{"$f":"IF(H$21 = $F$19, Revenue!AJ51, IF(H$21 < $F$19, OFFSET(m_results_01, ($F$11 * ($F$10 - 1)) + ROW($D55) - ROW(m_live_results), COLUMN(H$21) - COLUMN(m_live_results)), H53))","v":1361.4128153333256},{"$f":"IF(I$21 = $F$19, Revenue!AK51, IF(I$21 < $F$19, OFFSET(m_results_01, ($F$11 * ($F$10 - 1)) + ROW($D55) - ROW(m_live_results), COLUMN(I$21) - COLUMN(m_live_results)), I53))","v":1571.3868096928727},{"$f":"IF(J$21 = $F$19, Revenue!AL51, IF(J$21 < $F$19, OFFSET(m_results_01, ($F$11 * ($F$10 - 1)) + ROW($D55) - ROW(m_live_results), COLUMN(J$21) - COLUMN(m_live_results)), J53))","v":1554.9421422395978},{"$f":"IF(K$21 = $F$19, Revenue!AM51, IF(K$21 < $F$19, OFFSET(m_results_01, ($F$11 * ($F$10 - 1)) + ROW($D55) - ROW(m_live_results), COLUMN(K$21) - COLUMN(m_live_results)), K53))","v":1587.6274208238706},{"$f":"IF(L$21 = $F$19, Revenue!AN51, IF(L$21 < $F$19, OFFSET(m_results_01, ($F$11 * ($F$10 - 1)) + ROW($D55) - ROW(m_live_results), COLUMN(L$21) - COLUMN(m_live_results)), L53))","v":1585.2281224827718},{"$f":"IF(M$21 = $F$19, Revenue!AO51, IF(M$21 < $F$19, OFFSET(m_results_01, ($F$11 * ($F$10 - 1)) + ROW($D55) - ROW(m_live_results), COLUMN(M$21) - COLUMN(m_live_results)), M53))","v":1571.5841090397205},12012.844928547607,1501.6056160684509]
[null,null,null,29,"TIRG revenue",{"$f":"DARTs!AH35","v":13.751034124367685},{"$f":"DARTs!AI35","v":13.274690050778315},{"$f":"DARTs!AJ35","v":12.798257977175346},{"$f":"DARTs!AK35","v":0},{"$f":"DARTs!AL35","v":0},{"$f":"DARTs!AM35","v":0},{"$f":"DARTs!AN35","v":0},{"$f":"DARTs!AO35","v":0},39.823982152321349,4.9779977690401687]
[null,null,null,{"$f":"+D56+1","v":30},"Not Used"]
[null,null,null,{"$f":"+D57+1","v":31},"Excluded services revenue",{"$f":"Input!AH213","v":123},{"$f":"Input!AI213","v":122.8},{"$f":"Input!AJ213","v":129.80000000000001},{"$f":"Input!AK213","v":125.6},{"$f":"Input!AL213","v":127.3},{"$f":"Input!AM213","v":128.6},{"$f":"Input!AN213","v":130.19999999999999},{"$f":"Input!AO213","v":131.69999999999999},1019,127.375]
[null,null,null,32,"Total revenue",{"$f":"SUM(F55:F58)","v":1479.0323249384494},{"$f":"SUM(G55:G58)","v":1574.4569081721447},1504.0110733105009,1696.9868096928726,1682.2421422395978,1716.2274208238705,1715.4281224827719,1703.2841090397205,13071.668910699929,1633.9586138374912]
[null,null,null,null,"Recalculated base revenue"]
[null,null,null,{"$f":"D59+1","v":33},"Recalculated base revenue",{"$f":"Revenue!AH19","v":1331.4346841402707},{"$f":"Revenue!AI19","v":1388.0863196535222},{"$f":"Revenue!AJ19","v":1425.7807762862371},{"$f":"Revenue!AK19","v":1502.5289937521829},{"$f":"Revenue!AL19","v":1493.8382932987897},{"$f":"Revenue!AM19","v":1529.0636589897633},{"$f":"Revenue!AN19","v":1527.2393988838971},{"$f":"Revenue!AO19","v":1517.1146191791204},{"$f":"SUM(F61:M61)","v":11715.086744183784},{"$f":"IFERROR(AVERAGE(F61:M61), 0 )","v":1464.3858430229729}]
[null,null,null,{"$f":"+D61+1","v":34},"Previous year recalculated base revenue",{"$f":"IF($F$12=1, 0,  OFFSET(F64, $F$12 - 2, 0))","v":1351.1261049786092},{"$f":"IF($F$12=1, 0,  OFFSET(G64, $F$12 - 2, 0))","v":1429.1347880160697},1462.0086804414825,1556.4385291950655,1541.5803660033087,1574.9318791583714,1573.331994601642,1560.6623383935998,{"$f":"SUM(F62:M62)","v":12049.214680788149},{"$f":"IFERROR(AVERAGE(F62:M62), 0 )","v":1506.1518350985186}]
[null,null,null,null,"Recorded recalculated base revenue"]
[null,null,null,{"$f":"D62+1","v":35},"2014-03-31",{"$f":"IF($E64 = $F$19, F$61, IF($E64 < $F$19,OFFSET(m_results_01, ($F$11 * ($F$10 - 1)) + ROW($D64) - ROW(m_live_results), COLUMN(F$21) - COLUMN(m_live_results)), \"\"))","v":1342.2812908140818},1443.8294617348479,1475.5925732296025,1571.3868096928727,1554.9421422395978,1587.6274208238706,1585.2281224827718,1571.5841090397205,{"$f":"SUM(F64:M64)","v":12132.471930057365},{"$f":"IFERROR(AVERAGE(F64:M64), 0 )","v":1516.5589912571706}]
[null,null,null,{"$f":"+D64+1","v":36},"2015-03-31",1351.1261049786092,1429.1347880160697,1462.0086804414825,1556.4385291950655,1541.5803660033087,1574.9318791583714,1573.331994601642,1560.6623383935998,12049.214680788149,1506.1518350985186]
[null,null,null,{"$f":"+D65+1","v":37},"2016-03-31",1331.4346841402707,1388.0863196535222,1425.7807762862371,1502.5289937521829,1493.8382932987897,1529.0636589897633,1527.2393988838971,1517.1146191791204,11715.086744183784,1464.3858430229729]
[null,null,null,{"$f":"D66+1","v":38},"2017-03-31","","","","","","","","",0,0]
[null,null,null,{"$f":"D67+1","v":39},"2018-03-31","","","","","","","","",0,0]
[null,null,null,{"$f":"D68+1","v":40},"2019-03-31","","","","","","","","",0,0]
[null,null,null,{"$f":"D69+1","v":41},"2020-03-31","","","","","","","","",0,0]
[null,null,null,{"$f":"D70+1","v":42},"2021-03-31","","","","","","","","",0,0]
[null,null,null,null,"Recorded MOD"]
[null,null,null,{"$f":"D71+1","v":43},"2014-03-31",{"$f":"IF($E73 = $F$19, F$54, IF($E73 < $F$19,OFFSET(m_results_01, ($F$11 * ($F$10 - 1)) + ROW($D73) - ROW(m_live_results), COLUMN(F$21) - COLUMN(m_live_results)), \"\"))","v":0},0,0,0,0,0,0,0,0]
[null,null,null,{"$f":"+D73+1","v":44},"2015-03-31",0,-5.4472436134815325,0,0,0,0,0,0,-5.4472436134815325]
[null,null,null,{"$f":"+D74+1","v":45},"2016-03-31",0,-5.4472436134815325,-114.1797578962769,0,0,0,0,0,-119.62700150975843]
[null,null,null,{"$f":"D75+1","v":46},"2017-03-31","","","","","","","","",0]
[null,null,null,{"$f":"D76+1","v":47},"2018-03-31","","","","","","","","",0]
[null,null,null,{"$f":"D77+1","v":48},"2019-03-31","","","","","","","","",0]
[null,null,null,{"$f":"D78+1","v":49},"2020-03-31","","","","","","","","",0]
[null,null,null,{"$f":"D79+1","v":50},"2021-03-31","","","","","","","","",{"$f":"SUM(F80:M80)","v":0}]
[null,null,null,null,"Inputs to RoRE"]
[null,null,null,{"$f":"D80+1","v":51},"Average RAV",{"$f":"AVERAGE(F28 +F29, (F33*'Return&RAV'!AH14))","v":8723.4687662337601},{"$f":"AVERAGE(G28 +G29, (G33*'Return&RAV'!AI14))","v":9352.8628293567544},{"$f":"AVERAGE(H28 +H29, (H33*'Return&RAV'!AJ14))","v":10102.302630561404},{"$f":"AVERAGE(I28 +I29, (I33*'Return&RAV'!AK14))","v":10798.453673582384},{"$f":"AVERAGE(J28 +J29, (J33*'Return&RAV'!AL14))","v":11263.377708841077},{"$f":"AVERAGE(K28 +K29, (K33*'Return&RAV'!AM14))","v":11628.941149780137},{"$f":"AVERAGE(L28 +L29, (L33*'Return&RAV'!AN14))","v":11918.09250470878},{"$f":"AVERAGE(M28 +M29, (M33*'Return&RAV'!AO14))","v":12083.037545171406},{"$f":"SUM(F82:M82)","v":85870.536808235702},{"$f":"IFERROR(AVERAGE(F82:M82), 0 )","v":10733.817101029463}]
[null,null,null,{"$f":"D82+1","v":52},"Gearing",{"$f":"Input!AH40","v":0.6},{"$f":"Input!AI40","v":0.6},{"$f":"Input!AJ40","v":0.6},{"$f":"Input!AK40","v":0.6},{"$f":"Input!AL40","v":0.6},{"$f":"Input!AM40","v":0.6},{"$f":"Input!AN40","v":0.6},{"$f":"Input!AO40","v":0.6},{"$f":"1- (N84 /N82)","v":0.6},{"$f":"IFERROR(AVERAGE(F83:M83), 0 )","v":0.6}]
[null,null,null,{"$f":"D83+1","v":53},"Regulated equity",{"$f":"F82 * (1 - F83)","v":3489.3875064935041},{"$f":"G82 * (1 - G83)","v":3741.1451317427018},4040.9210522245617,4319.381469432954,4505.3510835364314,4651.5764599120548,4767.2370018835127,4833.215018068563,{"$f":"SUM(F84:M84)","v":34348.214723294281},{"$f":"IFERROR(AVERAGE(F84:M84), 0 )","v":4293.5268404117851}]
[null,null,null,{"$f":"D84+1","v":54},"Regulated debt return",{"$f":"(F82 * F83) * Input!AH8","v":152.83517278441548},{"$f":"(G82 * G83) * Input!AI8","v":152.63872137510222},{"$f":"(H82 * H83) * Input!AJ8","v":154.56523024758945},{"$f":"(I82 * I83) * Input!AK8","v":165.21634120581047},{"$f":"(J82 * J83) * Input!AL8","v":172.32967894526845},{"$f":"(K82 * K83) * Input!AM8","v":177.92279959163611},{"$f":"(L82 * L83) * Input!AN8","v":182.34681532204431},{"$f":"(M82 * M83) * Input!AO8","v":184.8704744411225},{"$f":"SUM(F85:M85)","v":1342.7252339129891},{"$f":"IFERROR(AVERAGE(F85:M85), 0 )","v":167.84065423912364}]
[null,null,null,{"$f":"D85+1","v":55},"Regulated equity return",{"$f":"F47-F85","v":244.2571254545453},261.88015922198917,282.86447365571939,302.35670286030683,315.3745758475502,325.61035219384394,333.70659013184593,338.32505126479941,{"$f":"SUM(F86:M86)","v":2404.3750306306001},{"$f":"IFERROR(AVERAGE(F86:M86), 0 )","v":300.54687882882502}]
[]
[]
[]
[]
[]
[null,null,"End of sheet"]

{"sheet":"LiveResults(SO)","index":16,"n_rows":92,"n_cols":15,"rows_kept":92,"cut":false,"hidden":false,"merged":[]}
["Live Results"]
[]
[null,"Live results"]
[null,"Note: This sheet displays the output of the PCFM for the live company in the selected year."]
[null,"As well as displaying output it performs the role of recalling results generated with data at earlier stages from the \"SavedResults\" sheet required for the MOD calculation."]
[]
[null,null,"Offset settings"]
[null,null,"Note: This sheet uses Offset functions to recall saved data for the live company on the \"SavedResults\" sheet, and to place recalculated base revenue values into a row where the year of calculation can be identified."]
[]
[null,null,null,null,"Company number",{"$f":"4","v":4}]
[null,null,null,null,"Number of rows per company on \"SavedResults\"",{"$f":"LiveResults!F11","v":77}]
[null,null,null,null,"Year number",{"$f":"UserInterface!G62","v":3}]
[]
[null,null,"Adjacent named range: m_live_results_02"]
[null,null,{"$f":"\"Values for \"&E19","v":"Values for NGET SO"}]
[]
[]
[null,null,null,null,"Company","Calculated for MOD year ending",null,"File"]
[null,null,null,null,{"$f":"IF(UserInterface!$G$25 = \"NGGT TO\", \"NGGT SO\", IF(UserInterface!$G$25 = \"NGET TO\", \"NGET SO\", \"Not applicable\"))","v":"NGET SO"},{"$f":"LiveResults!F19","v":"2016-03-31"},null,{"$f":"MID(CELL(\"filename\"),SEARCH(\"[\",CELL(\"filename\"))+1,SEARCH(\"]\",CELL(\"filename\"))-SEARCH(\"[\",CELL(\"filename\"))-1)","v":"ET1 PCFM November 2014 change control 18 (SO Data Centre).xlsm"}]
[]
[null,null,null,null,"PCFM year ending","2014-03-31","2015-03-31","2016-03-31","2017-03-31","2018-03-31","2019-03-31","2020-03-31","2021-03-31","RIIO Total","RIIO average"]
[null,null,null,null,"Price base","£m 09/10 prices","£m 09/10 prices","£m 09/10 prices","£m 09/10 prices","£m 09/10 prices","£m 09/10 prices","£m 09/10 prices","£m 09/10 prices","£m 09/10 prices","£m 09/10 prices"]
[null,null,null,null,"Totex"]
[null,null,null,1,"Slow pot",{"$f":"SystemOperator!AH162","v":33.015222829182463},{"$f":"SystemOperator!AI162","v":30.909282160864159},{"$f":"SystemOperator!AJ162","v":30.406909940870158},{"$f":"SystemOperator!AK162","v":29.503468267708236},{"$f":"SystemOperator!AL162","v":30.397665634630393},{"$f":"SystemOperator!AM162","v":28.005027611742573},{"$f":"SystemOperator!AN162","v":29.904442344862396},{"$f":"SystemOperator!AO162","v":30.433671335330679},{"$f":"SUM(F24:M24)","v":242.57569012519104},{"$f":"IFERROR(AVERAGE(F24:M24), 0 )","v":30.321961265648881}]
[null,null,null,{"$f":"+D24+1","v":2},"Fast pot",{"$f":"SystemOperator!AH160","v":85.318909175055737},{"$f":"SystemOperator!AI160","v":79.876675404957183},{"$f":"SystemOperator!AJ160","v":78.578430348987027},{"$f":"SystemOperator!AK160","v":76.243729824435974},{"$f":"SystemOperator!AL160","v":78.55454094110577},{"$f":"SystemOperator!AM160","v":72.371415441098179},{"$f":"SystemOperator!AN160","v":77.279938819518947},{"$f":"SystemOperator!AO160","v":78.647587931087514},{"$f":"SUM(F25:M25)","v":626.87122788624629},{"$f":"IFERROR(AVERAGE(F25:M25), 0 )","v":78.358903485780786}]
[null,null,null,{"$f":"+D25+1","v":3},"Post-TIM totex allowance",{"$f":"SystemOperator!AH149","v":118.3341320042382},{"$f":"SystemOperator!AI149","v":110.78595756582135},{"$f":"SystemOperator!AJ149","v":108.98534028985719},{"$f":"SystemOperator!AK149","v":105.7471980921442},{"$f":"SystemOperator!AL149","v":108.95220657573617},{"$f":"SystemOperator!AM149","v":100.37644305284076},{"$f":"SystemOperator!AN149","v":107.18438116438134},{"$f":"SystemOperator!AO149","v":109.0812592664182},{"$f":"SUM(F26:M26)","v":869.44691801143733},{"$f":"IFERROR(AVERAGE(F26:M26), 0 )","v":108.68086475142967}]
[null,null,null,null,"Regulatory Asset Value (RAV)"]
[null,null,null,{"$f":"D26+1","v":4},"Opening asset value including transfers",{"$f":"SystemOperator!AH281","v":74.160747515587701},{"$f":"SystemOperator!AI281","v":94.460797649830411},{"$f":"SystemOperator!AJ281","v":106.04875203999654},{"$f":"SystemOperator!AK281","v":114.12359765307323},{"$f":"SystemOperator!AL281","v":118.78034571904999},{"$f":"SystemOperator!AM281","v":121.58225156470772},{"$f":"SystemOperator!AN281","v":120.15688210563314},{"$f":"SystemOperator!AO281","v":119.47830413720324},null,{"$f":"IFERROR(AVERAGE(F28:M28), 0 )","v":108.59895979813525}]
[null,null,null,{"$f":"+D28+1","v":5},"Transfers",{"$f":"SystemOperator!AH282","v":0},{"$f":"SystemOperator!AI282","v":0},{"$f":"SystemOperator!AJ282","v":0},{"$f":"SystemOperator!AK282","v":0},{"$f":"SystemOperator!AL282","v":0},{"$f":"SystemOperator!AM282","v":0},{"$f":"SystemOperator!AN282","v":0},{"$f":"SystemOperator!AO282","v":0},{"$f":"SUM(F29:M29)","v":0},0]
[null,null,null,{"$f":"+D29+1","v":6},"Opening asset value (after transfers)",{"$f":"SystemOperator!AH283","v":74.160747515587701},{"$f":"SystemOperator!AI283","v":94.460797649830411},{"$f":"SystemOperator!AJ283","v":106.04875203999654},{"$f":"SystemOperator!AK283","v":114.12359765307323},{"$f":"SystemOperator!AL283","v":118.78034571904999},{"$f":"SystemOperator!AM283","v":121.58225156470772},{"$f":"SystemOperator!AN283","v":120.15688210563314},{"$f":"SystemOperator!AO283","v":119.47830413720324},null,108.59895979813525]
[null,null,null,{"$f":"+D30+1","v":7},"RAV additions (after disposals)",{"$f":"SystemOperator!AH284","v":35.945371487606899},{"$f":"SystemOperator!AI284","v":30.909282160864159},{"$f":"SystemOperator!AJ284","v":30.406909940870158},{"$f":"SystemOperator!AK284","v":29.503468267708236},{"$f":"SystemOperator!AL284","v":30.397665634630393},{"$f":"SystemOperator!AM284","v":28.005027611742573},{"$f":"SystemOperator!AN284","v":29.904442344862396},{"$f":"SystemOperator!AO284","v":30.433671335330679},{"$f":"SUM(F31:M31)","v":245.50583878361547},30.688229847951934]
[null,null,null,{"$f":"+D31+1","v":8},"Depreciation",{"$f":"SystemOperator!AH285","v":-15.645321353364194},{"$f":"SystemOperator!AI285","v":-19.321327770698026},{"$f":"SystemOperator!AJ285","v":-22.332064327793461},{"$f":"SystemOperator!AK285","v":-24.846720201731472},{"$f":"SystemOperator!AL285","v":-27.595759788972654},{"$f":"SystemOperator!AM285","v":-29.430397070817143},{"$f":"SystemOperator!AN285","v":-30.583020313292298},{"$f":"SystemOperator!AO285","v":-30.724595349754974},{"$f":"SUM(F32:M32)","v":-200.47920617642424},-25.05990077205303]
[null,null,null,{"$f":"+D32+1","v":9},"Closing asset value",{"$f":"+F28+F31+F32","v":94.460797649830411},106.04875203999654,114.12359765307323,118.78034571904999,121.58225156470772,120.15688210563314,119.47830413720324,119.18738012277895,null,114.22728887403416]
[null,null,null,null,"Final Proposals allowances"]
[null,null,null,{"$f":"D33+1","v":10},"Fast pot expenditure",{"$f":"IF($F$19 = $F$21, F44, OFFSET(m_results_01, ($F$11 * ($F$10 - 1)) + ROW($D35) - ROW(m_live_results_02), COLUMN(F$21) - COLUMN(m_live_results_02)))","v":81.476813877328894},78.636555404957193,76.725460348987028,76.243729824435974,78.55454094110577,72.371415441098179,77.279938819518947,78.647587931087514,{"$f":"SUM(F35:M35)","v":619.93604258851951},{"$f":"IFERROR(AVERAGE(F35:M35), 0 )","v":77.492005323564939}]
[null,null,null,{"$f":"+D35+1","v":11},"Non-controllable opex",0,0,0,0,0,0,0,0,0,0]
[null,null,null,12,"RAV depreciation",15.645321353364194,18.690342676426219,21.632524947807369,24.044747964602518,26.793787551843703,28.628424833688189,29.781048076163348,29.92262311262602,195.13882051652158,24.392352564565197]
[null,null,null,13,"Return",3.6480707854751642,4.2651198106724255,4.7077019442984573,5.0099186184247326,5.2126121734441337,5.2810656596930992,5.2695633176227323,5.2834968166568972,38.677549126287644,4.8346936407859555]
[null,null,null,14,"Equity issuance cost",0,0,0,0,0,0,0,0,0,0]
[null,null,null,15,"Additional income",0.93219394583370041,0.89969793099769935,0.87783267686821986,0.87232109317784745,0.89875958568159287,0.82801710222961211,0.88417658562860901,0.89982415652833225,7.0928230769456135,0.88660288461820169]
[null,null,null,16,"Core DARTs",10.271521977223172,10.215919391797028,10.262337776682289,10.410869126447524,10.361609623254074,10.414659827475258,10.57012487699259,10.528114695563952,83.035157295435894,10.379394661929487]
[null,null,null,17,"Tax allowance",2.0016092127672556,0.82522992535408668,0.15069905537749376,0.12384729257669767,1.0117778450783115,0,0.94578803093084196,0.90950595778206589,5.9684573198667525,0.74605716498334407]
[null,null,null,null,"Recalculated allowances"]
[null,null,null,{"$f":"D42+1","v":18},"Fast pot expenditure",{"$f":"SystemOperator!AH160","v":85.318909175055737},{"$f":"SystemOperator!AI160","v":79.876675404957183},{"$f":"SystemOperator!AJ160","v":78.578430348987027},{"$f":"SystemOperator!AK160","v":76.243729824435974},{"$f":"SystemOperator!AL160","v":78.55454094110577},{"$f":"SystemOperator!AM160","v":72.371415441098179},{"$f":"SystemOperator!AN160","v":77.279938819518947},{"$f":"SystemOperator!AO160","v":78.647587931087514},{"$f":"SUM(F44:M44)","v":626.87122788624629},{"$f":"IFERROR(AVERAGE(F44:M44), 0 )","v":78.358903485780786}]
[null,null,null,{"$f":"+D44+1","v":19},"Non-controllable opex",null,null,null,null,null,null,null,null,0,0]
[null,null,null,20,"RAV depreciation",{"$f":"-SystemOperator!AH285","v":15.645321353364194},{"$f":"-SystemOperator!AI285","v":19.321327770698026},{"$f":"-SystemOperator!AJ285","v":22.332064327793461},{"$f":"-SystemOperator!AK285","v":24.846720201731472},{"$f":"-SystemOperator!AL285","v":27.595759788972654},{"$f":"-SystemOperator!AM285","v":29.430397070817143},{"$f":"-SystemOperator!AN285","v":30.583020313292298},{"$f":"-SystemOperator!AO285","v":30.724595349754974},200.47920617642424,25.05990077205303]
[null,null,null,21,"Return",{"$f":"SystemOperator!AH314","v":3.7442225044469524},{"$f":"SystemOperator!AI314","v":4.3435580259645992},{"$f":"SystemOperator!AJ314","v":4.664186948347643},{"$f":"SystemOperator!AK314","v":4.9356416850458675},{"$f":"SystemOperator!AL314","v":5.0946039225399691},{"$f":"SystemOperator!AM314","v":5.1256866843486613},{"$f":"SystemOperator!AN314","v":5.0807459508319024},{"$f":"SystemOperator!AO314","v":5.0600176392701197},38.048663360795715,4.7560829200994643]
[null,null,null,22,"Equity issuance cost",null,null,null,null,null,null,null,null,0,0]
[null,null,null,23,"Additional income",{"$f":"SystemOperator!AH174","v":0.93219394583370041},{"$f":"SystemOperator!AI174","v":0.89969793099769935},{"$f":"SystemOperator!AJ174","v":0.87783267686821986},{"$f":"SystemOperator!AK174","v":0.87232109317784745},{"$f":"SystemOperator!AL174","v":0.89875958568159287},{"$f":"SystemOperator!AM174","v":0.82801710222961211},{"$f":"SystemOperator!AN174","v":0.88417658562860901},{"$f":"SystemOperator!AO174","v":0.89982415652833225},7.0928230769456135,0.88660288461820169]
[null,null,null,24,"Core DARTs",{"$f":"SystemOperator!AH399","v":12.238898857271282},{"$f":"SystemOperator!AI399","v":12.269320008809279},{"$f":"SystemOperator!AJ399","v":13.501323356904841},{"$f":"SystemOperator!AK399","v":13.740151967682184},{"$f":"SystemOperator!AL399","v":13.784991857306188},{"$f":"SystemOperator!AM399","v":13.936103314150911},{"$f":"SystemOperator!AN399","v":14.193757897077006},{"$f":"SystemOperator!AO399","v":14.258238923443807},107.9227861826455,13.490348272830687]
[null,null,null,25,"Tax allowance",{"$f":"SystemOperator!AH401","v":1.8216755502894615},{"$f":"SystemOperator!AI401","v":1.216463605072728},{"$f":"SystemOperator!AJ401","v":0.47284782965902805},{"$f":"SystemOperator!AK401","v":0.49370807064831779},{"$f":"SystemOperator!AL401","v":1.3544995127729507},{"$f":"SystemOperator!AM401","v":0.23602225639919591},{"$f":"SystemOperator!AN401","v":1.3293849226980012},{"$f":"SystemOperator!AO401","v":1.1937215626972564},8.1183233102369403,1.0147904137796175]
[null,null,null,null,"Price Control Revenue"]
[null,null,null,{"$f":"D51+1","v":26},"Final proposals base revenue",{"$f":"F64","v":113.97553115199239},{"$f":"G64","v":113.53286514020465},114.35655675002086,116.7054339196653,122.83308772040758,117.52358286418433,124.73063970685706,126.19115267024478,{"$f":"SUM(F53:M53)","v":949.84884992357684},{"$f":"IFERROR(AVERAGE(F53:M53), 0 )","v":118.7311062404471}]
[null,null,null,{"$f":"+D53+1","v":27},"SOMOD",{"$f":"IF(F$21=$F$19,SystemOperator!AH448,IF(F$21 < $F$19,OFFSET(m_results_01, ($F$11 * ($F$10 - 1)) + ROW($D73) + ((F$21 - $F$21)/365) - ROW(m_live_results_02), COLUMN(F$21) - COLUMN(m_live_results_02)), 0))","v":0},{"$f":"IF(G$21=$F$19,SystemOperator!AI448,IF(G$21 < $F$19,OFFSET(m_results_01, ($F$11 * ($F$10 - 1)) + ROW($D73) + ((G$21 - $F$21)/365) - ROW(m_live_results_02), COLUMN(G$21) - COLUMN(m_live_results_02)), 0))","v":3.7106038241035293},{"$f":"IF(H$21=$F$19,SystemOperator!AJ448,IF(H$21 < $F$19,OFFSET(m_results_01, ($F$11 * ($F$10 - 1)) + ROW($D73) + ((H$21 - $F$21)/365) - ROW(m_live_results_02), COLUMN(H$21) - COLUMN(m_live_results_02)), 0))","v":13.035636028823731},{"$f":"IF(I$21=$F$19,SystemOperator!AK448,IF(I$21 < $F$19,OFFSET(m_results_01, ($F$11 * ($F$10 - 1)) + ROW($D73) + ((I$21 - $F$21)/365) - ROW(m_live_results_02), COLUMN(I$21) - COLUMN(m_live_results_02)), 0))","v":0},{"$f":"IF(J$21=$F$19,SystemOperator!AL448,IF(J$21 < $F$19,OFFSET(m_results_01, ($F$11 * ($F$10 - 1)) + ROW($D73) + ((J$21 - $F$21)/365) - ROW(m_live_results_02), COLUMN(J$21) - COLUMN(m_live_results_02)), 0))","v":0},{"$f":"IF(K$21=$F$19,SystemOperator!AM448,IF(K$21 < $F$19,OFFSET(m_results_01, ($F$11 * ($F$10 - 1)) + ROW($D73) + ((K$21 - $F$21)/365) - ROW(m_live_results_02), COLUMN(K$21) - COLUMN(m_live_results_02)), 0))","v":0},{"$f":"IF(L$21=$F$19,SystemOperator!AN448,IF(L$21 < $F$19,OFFSET(m_results_01, ($F$11 * ($F$10 - 1)) + ROW($D73) + ((L$21 - $F$21)/365) - ROW(m_live_results_02), COLUMN(L$21) - COLUMN(m_live_results_02)), 0))","v":0},{"$f":"IF(M$21=$F$19,SystemOperator!AO448,IF(M$21 < $F$19,OFFSET(m_results_01, ($F$11 * ($F$10 - 1)) + ROW($D73) + ((M$21 - $F$21)/365) - ROW(m_live_results_02), COLUMN(M$21) - COLUMN(m_live_results_02)), 0))","v":0},16.74623985292726,2.0932799816159076]
[null,null,null,28,"Base revenue",{"$f":"IF(F$21=$F$19,SystemOperator!AH449,IF(F$21 < $F$19,OFFSET(m_results_01, ($F$11 * ($F$10 - 1)) + ROW($D55) - ROW(m_live_results_02), COLUMN(F$21) - COLUMN(m_live_results_02)), F53))","v":113.97553115199239},{"$f":"IF(G$21=$F$19,SystemOperator!AI449,IF(G$21 < $F$19,OFFSET(m_results_01, ($F$11 * ($F$10 - 1)) + ROW($D55) - ROW(m_live_results_02), COLUMN(G$21) - COLUMN(m_live_results_02)), G53))","v":117.24346896430818},{"$f":"IF(H$21=$F$19,SystemOperator!AJ449,IF(H$21 < $F$19,OFFSET(m_results_01, ($F$11 * ($F$10 - 1)) + ROW($D55) - ROW(m_live_results_02), COLUMN(H$21) - COLUMN(m_live_results_02)), H53))","v":127.39219277884459},{"$f":"IF(I$21=$F$19,SystemOperator!AK449,IF(I$21 < $F$19,OFFSET(m_results_01, ($F$11 * ($F$10 - 1)) + ROW($D55) - ROW(m_live_results_02), COLUMN(I$21) - COLUMN(m_live_results_02)), I53))","v":116.7054339196653},{"$f":"IF(J$21=$F$19,SystemOperator!AL449,IF(J$21 < $F$19,OFFSET(m_results_01, ($F$11 * ($F$10 - 1)) + ROW($D55) - ROW(m_live_results_02), COLUMN(J$21) - COLUMN(m_live_results_02)), J53))","v":122.83308772040758},{"$f":"IF(K$21=$F$19,SystemOperator!AM449,IF(K$21 < $F$19,OFFSET(m_results_01, ($F$11 * ($F$10 - 1)) + ROW($D55) - ROW(m_live_results_02), COLUMN(K$21) - COLUMN(m_live_results_02)), K53))","v":117.52358286418433},{"$f":"IF(L$21=$F$19,SystemOperator!AN449,IF(L$21 < $F$19,OFFSET(m_results_01, ($F$11 * ($F$10 - 1)) + ROW($D55) - ROW(m_live_results_02), COLUMN(L$21) - COLUMN(m_live_results_02)), L53))","v":124.73063970685706},{"$f":"IF(M$21=$F$19,SystemOperator!AO449,IF(M$21 < $F$19,OFFSET(m_results_01, ($F$11 * ($F$10 - 1)) + ROW($D55) - ROW(m_live_results_02), COLUMN(M$21) - COLUMN(m_live_results_02)), M53))","v":126.19115267024478},966.59508977650421,120.82438622206303]
[null,null,null,29,"TIRG revenue",null,null,null,null,null,null,null,null,0,0]
[null,null,null,{"$f":"D56+1","v":30},"Not Used"]
[null,null,null,{"$f":"D57+1","v":31},"Excluded services revenue",null,null,null,null,null,null,null,null,0,0]
[null,null,null,32,"Total revenue",{"$f":"SystemOperator!AH450","v":113.97553115199239},{"$f":"SystemOperator!AI450","v":117.24346896430818},{"$f":"SystemOperator!AJ450","v":127.39219277884459},{"$f":"SystemOperator!AK450","v":116.7054339196653},{"$f":"SystemOperator!AL450","v":122.83308772040758},{"$f":"SystemOperator!AM450","v":117.52358286418433},{"$f":"SystemOperator!AN450","v":124.73063970685706},{"$f":"SystemOperator!AO450","v":126.19115267024478},966.59508977650421,120.82438622206303]
[null,null,null,null,"Recalculated base revenue"]
[null,null,null,{"$f":"D59+1","v":33},"Recalculated base revenue",{"$f":"SystemOperator!AH402","v":119.70122138626132},{"$f":"SystemOperator!AI402","v":117.92704274649951},{"$f":"SystemOperator!AJ402","v":120.42668548856022},{"$f":"SystemOperator!AK402","v":121.13227284272166},{"$f":"SystemOperator!AL402","v":127.28315560837913},{"$f":"SystemOperator!AM402","v":121.92764186904371},{"$f":"SystemOperator!AN402","v":129.35102448904678},{"$f":"SystemOperator!AO402","v":130.78398556278199},{"$f":"SUM(F61:M61)","v":988.53302999329412},{"$f":"IFERROR(AVERAGE(F61:M61), 0 )","v":123.56662874916177}]
[null,null,null,{"$f":"+D61+1","v":34},"Previous year recalculated base revenue",{"$f":"IF($F$12=1, 0,  OFFSET(F64, $F$12 - 2, 0))","v":115.53670799497685},{"$f":"IF($F$12=1, 0,  OFFSET(G64, $F$12 - 2, 0))","v":115.61122735143105},116.47439523516735,118.86672348468946,125.04587518183425,119.71032959263032,127.14773990713464,128.59194647511799,{"$f":"SUM(F62:M62)","v":966.98494522298199},{"$f":"IFERROR(AVERAGE(F62:M62), 0 )","v":120.87311815287275}]
[null,null,null,null,"Recorded recalculated base revenue"]
[null,null,null,{"$f":"D62+1","v":35},"2014-03-31",{"$f":"IF($E64 = $F$19, F$61, IF($E64 < $F$19,OFFSET(m_results_01, ($F$11 * ($F$10 - 1)) + ROW($D64) - ROW(m_live_results_02), COLUMN(F$21) - COLUMN(m_live_results_02)), \"\"))","v":113.97553115199239},113.53286514020465,114.35655675002086,116.7054339196653,122.83308772040758,117.52358286418433,124.73063970685706,126.19115267024478,{"$f":"SUM(F64:M64)","v":949.84884992357684},{"$f":"IFERROR(AVERAGE(F64:M64), 0 )","v":118.7311062404471}]
[null,null,null,{"$f":"+D64+1","v":36},"2015-03-31",115.53670799497685,115.61122735143105,116.47439523516735,118.86672348468946,125.04587518183425,119.71032959263032,127.14773990713464,128.59194647511799,966.98494522298199,120.87311815287275]
[null,null,null,{"$f":"+D65+1","v":37},"2016-03-31",119.70122138626132,117.92704274649951,120.42668548856022,121.13227284272166,127.28315560837913,121.92764186904371,129.35102448904678,130.78398556278199,988.53302999329412,123.56662874916177]
[null,null,null,{"$f":"D66+1","v":38},"2017-03-31","","","","","","","","",0,0]
[null,null,null,{"$f":"D67+1","v":39},"2018-03-31","","","","","","","","",0,0]
[null,null,null,{"$f":"D68+1","v":40},"2019-03-31","","","","","","","","",0,0]
[null,null,null,{"$f":"D69+1","v":41},"2020-03-31","","","","","","","","",0,0]
[null,null,null,{"$f":"D70+1","v":42},"2021-03-31","","","","","","","","",0,0]
[null,null,null,null,"Recorded SOMOD"]
[null,null,null,{"$f":"D71+1","v":43},"2014-03-31",{"$f":"IF($E73 = $F$19, F$54, IF($E73 < $F$19,OFFSET(m_results_01, ($F$11 * ($F$10 - 1)) + ROW($D73) - ROW(m_live_results), COLUMN(F$21) - COLUMN(m_live_results)), \"\"))","v":0},0,0,0,0,0,0,0,{"$f":"SUM(F73:M73)","v":0}]
[null,null,null,{"$f":"+D73+1","v":44},"2015-03-31",0,3.7106038241035293,0,0,0,0,0,0,3.7106038241035293]
[null,null,null,{"$f":"+D74+1","v":45},"2016-03-31",0,3.7106038241035293,13.035636028823731,0,0,0,0,0,16.74623985292726]
[null,null,null,{"$f":"D75+1","v":46},"2017-03-31","","","","","","","","",0]
[null,null,null,{"$f":"D76+1","v":47},"2018-03-31","","","","","","","","",0]
[null,null,null,{"$f":"D77+1","v":48},"2019-03-31","","","","","","","","",0]
[null,null,null,{"$f":"D78+1","v":49},"2020-03-31","","","","","","","","",0]
[null,null,null,{"$f":"D79+1","v":50},"2021-03-31","","","","","","","","",0]
[null,null,null,null,"RORE"]
[null,null,null,{"$f":"D80+1","v":51},"Average RAV",{"$f":"AVERAGE(F28 +F29, (F33*'Return&RAV'!AH14))","v":82.254448691716874},{"$f":"AVERAGE(G28 +G29, (G33*'Return&RAV'!AI14))","v":98.004468094869125},{"$f":"AVERAGE(H28 +H29, (H33*'Return&RAV'!AJ14))","v":107.71794337985318},{"$f":"AVERAGE(I28 +I29, (I33*'Return&RAV'!AK14))","v":113.98710589020479},{"$f":"AVERAGE(J28 +J29, (J33*'Return&RAV'!AL14))","v":117.65828920415632},{"$f":"AVERAGE(K28 +K29, (K33*'Return&RAV'!AM14))","v":118.3761358971977},{"$f":"AVERAGE(L28 +L29, (L33*'Return&RAV'!AN14))","v":117.33824366817325},{"$f":"AVERAGE(M28 +M29, (M33*'Return&RAV'!AO14))","v":116.85952977529143},{"$f":"SUM(F82:M82)","v":872.19616460146267},{"$f":"IFERROR(AVERAGE(F82:M82), 0 )","v":109.02452057518283}]
[null,null,null,{"$f":"D82+1","v":52},"Gearing",{"$f":"Input!AH40","v":0.6},{"$f":"Input!AI40","v":0.6},{"$f":"Input!AJ40","v":0.6},{"$f":"Input!AK40","v":0.6},{"$f":"Input!AL40","v":0.6},{"$f":"Input!AM40","v":0.6},{"$f":"Input!AN40","v":0.6},{"$f":"Input!AO40","v":0.6},{"$f":"1- (N84 /N82)","v":0.6},{"$f":"IFERROR(AVERAGE(F83:M83), 0 )","v":0.6}]
[null,null,null,{"$f":"D83+1","v":53},"Regulated equity",{"$f":"F82 * (1 - F83)","v":32.901779476686748},{"$f":"G82 * (1 - G83)","v":39.201787237947656},43.087177351941278,45.594842356081919,47.06331568166253,47.350454358879084,46.935297467269301,46.743811910116577,{"$f":"SUM(F84:M84)","v":348.87846584058508},{"$f":"IFERROR(AVERAGE(F84:M84), 0 )","v":43.609808230073135}]
[null,null,null,{"$f":"D84+1","v":54},"Regulated debt return",{"$f":"(F82 * F83) * Input!AH8","v":1.4410979410788798},{"$f":"(G82 * G83) * Input!AI8","v":1.5994329193082639},{"$f":"(H82 * H83) * Input!AJ8","v":1.6480845337117533},{"$f":"(I82 * I83) * Input!AK8","v":1.7440027201201331},{"$f":"(J82 * J83) * Input!AL8","v":1.8001718248235914},{"$f":"(K82 * K83) * Input!AM8","v":1.8111548792271248},{"$f":"(L82 * L83) * Input!AN8","v":1.7952751281230503},{"$f":"(M82 * M83) * Input!AO8","v":1.7879508055619588},{"$f":"SUM(F85:M85)","v":13.627170751954756},{"$f":"IFERROR(AVERAGE(F85:M85), 0 )","v":1.7033963439943445}]
[null,null,null,{"$f":"D85+1","v":55},"Regulated equity return",{"$f":"F47-F85","v":2.3031245633680726},2.7441251066563352,3.0161024146358897,3.1916389649257342,3.2944320977163777,3.3145318051215362,3.2854708227088523,3.2720668337081609,{"$f":"SUM(F86:M86)","v":24.421492608840957},{"$f":"IFERROR(AVERAGE(F86:M86), 0 )","v":3.0526865761051196}]
[]
[]
[]
[]
[]
[null,null,"End of sheet"]

{"sheet":"SavedResults","index":17,"n_rows":323,"n_cols":15,"rows_kept":323,"cut":false,"hidden":false,"merged":[]}
["Saved Results"]
[]
[null,"Links to saved results"]
[null,"Note: The \"Run_for_one\" and \"RunForAll\" macros save output on the \"LiveResults\" sheet to points on this sheet designated by named ranges. The hyperlinks below lead to the saved output for each company."]
[null,"The \"LiveResults\" sheet recalls values generated in earlier iterations (Final Proposals allowances and recalculated base revenue) from this sheet."]
[null,"For \"LiveResults\" to recall data correctly, there must be an equal number of rows between each named ranges marking the start of each company's section. There must also be sufficient rows to hold the output generated on the \"LiveResults\" sheet."]
[]
[null,null,null,null,{"$f":"UserInterface!E54","v":"SHE-Transmission PLC"}]
[null,null,null,null,{"$f":"UserInterface!E55","v":"SPTL"}]
[null,null,null,null,{"$f":"UserInterface!$E$56","v":"NGET TO"}]
[null,null,null,null,"NGET SO"]
[]
[null,"Saved results"]
[]
[null,null,"Values for SHE-Transmission PLC"]
[]
[]
[null,null,null,null,"Company","Calculated for MOD year ending",null,"File"]
[null,null,null,null,"SHE-Transmission PLC","2016-03-31",null,"ET1 PCFM November 2014 FULL.xlsm"]
[]
[null,null,null,null,"PCFM year ending","2014-03-31","2015-03-31","2016-03-31","2017-03-31","2018-03-31","2019-03-31","2020-03-31","2021-03-31","RIIO Total","RIIO average"]
[null,null,null,null,"Price base","£m 09/10 prices","£m 09/10 prices","£m 09/10 prices","£m 09/10 prices","£m 09/10 prices","£m 09/10 prices","£m 09/10 prices","£m 09/10 prices","£m 09/10 prices","£m 09/10 prices"]
[null,null,null,null,"Totex"]
[null,null,null,1,"Slow pot",150.13001545205415,296.22547742543441,579.55634119670128,463.6669524441412,238.94852568130437,92.013934627131164,77.255771090253688,73.940359950531814,1971.7373778675519,246.46717223344399]
[null,null,null,2,"Fast pot",16.681112828006011,32.913941936159333,64.395149021855687,51.518550271571236,26.549836186811593,10.22377051412567,8.5839745655837412,8.215595550059108,219.08193087417237,27.385241359271546]
[null,null,null,3,"Post-TIM totex allowance",166.81112828006016,329.13941936159375,643.95149021855696,515.18550271571246,265.49836186811598,102.23770514125684,85.839745655837433,82.15595550059092,2190.8193087417249,273.85241359271561]
[null,null,null,null,"Regulatory Asset Value (RAV)"]
[null,null,null,4,"Opening asset value (before transfers)",681.6764568111023,718.34824336577003,969.61757874692864,1503.6411643736042,1886.3522510187727,2027.3588900154798,2013.6495384689701,1982.6470100883071,null,1472.9113916111169]
[null,null,null,5,"Transfers",0,0,12.513995486713274,0,0,0,0,0,12.513995486713274,1.5642494358391592]
[null,null,null,6,"Opening asset value (after transfers)",681.6764568111023,718.34824336577003,982.13157423364191,1503.6411643736042,1886.3522510187727,2027.3588900154798,2013.6495384689701,1982.6470100883071,null,1474.4756410469561]
[null,null,null,7,"RAV additions (after disposals)",79.272140221811156,296.22547742543441,579.55634119670128,463.6669524441412,238.94852568130437,92.013934627131164,77.255771090253688,73.940359950531814,1900.8795026373091,237.60993782966364]
[null,null,null,8,"Depreciation",-42.60035366714343,-44.956142044275659,-58.046751056738941,-80.955865798972667,-97.941886684597591,-105.72328617364074,-108.25829947091714,-109.66592159335971,-648.14850648964591,-81.018563311205739]
[null,null,null,9,"Closing asset value",718.34824336577003,969.61757874692876,1503.6411643736044,1886.3522510187729,2027.3588900154796,2013.6495384689701,1982.6470100883068,1946.9214484454792,null,1631.0670155654138]
[null,null,null,null,"Final Proposals allowances"]
[null,null,null,10,"Fast pot expenditure",14.743446731917865,16.262472465439206,22.229578588932252,15.114922397648575,9.1370458835311741,8.3492764232190346,7.8731745655837413,7.6338955500590977,101.34381260633094,12.667976575791368]
[null,null,null,11,"Non-controllable opex",9.3999999999999986,9.3999999999999986,12.7,12.7,12.7,12.7,12.7,12.7,95,11.875]
[null,null,null,12,"RAV depreciation",42.60035366714343,47.433539394557378,54.043576504902546,61.580938988045162,66.085716031182329,68.232414837815654,70.193115051920628,71.393958992545024,481.56361346811218,60.195451683514023]
[null,null,null,13,"Return",33.729665702256654,38.117740183712897,44.366687922754664,49.52922499025474,51.666284653618213,52.207160802589669,52.386612216388521,52.341397756799815,374.34477422837517,46.793096778546897]
[null,null,null,14,"Equity issuance cost",2.3750463446856509,3.175886175961355,1.7042655628805763,2.1364748134744378,0,0,0,0,9.3916728970020209,1.1739591121252526]
[null,null,null,15,"Additional income",4.7850556060781999,4.9736597194598335,5.6988662496343032,3.7921077312788807,2.8512563802087829,2.8799765245720623,2.9074703511454074,2.8191074376225309,30.707499999999996,3.8384374999999995]
[null,null,null,16,"Core DARTs",-9.5785784301405705,-13.215250935762434,-21.590558673217519,-25.664692046665966,-26.737595203355621,-29.409209634177436,-30.279474047329138,-31.648324235970332,-188.12368320661901,-23.515460400827376]
[null,null,null,17,"Tax allowance",6.4844240033873213,5.3673067816882361,4.9862123317614628,4.4455500461627322,3.8945775310934234,5.0403037689491086,6.3162840289367939,7.2854504118163579,43.820108903795429,5.4775136129744286]
[null,null,null,null,"Recalculated allowances"]
[null,null,null,18,"Fast pot expenditure",16.681112828006011,32.913941936159333,64.395149021855687,51.518550271571236,26.549836186811593,10.22377051412567,8.5839745655837412,8.215595550059108,219.08193087417237,27.385241359271546]
[null,null,null,19,"Non-controllable opex",9.3999999999999986,9.3999999999999986,12.7,12.7,12.7,12.7,12.7,12.7,95,11.875]
[null,null,null,20,"RAV depreciation",42.60035366714343,44.956142044275659,58.046751056738941,80.955865798972667,97.941886684597591,105.72328617364074,108.25829947091714,109.66592159335971,648.14850648964591,81.018563311205739]
[null,null,null,21,"Return",32.517037332434981,37.328840047861547,52.365444894633306,71.560833476344982,82.750851033431786,85.513698233410764,84.575336245859233,83.16548652399814,529.7775277879748,66.222190973496851]
[null,null,null,22,"Equity issuance cost",2.3750463446856509,1.944842003214686,5.2273998423934778,10.718279457014434,6.4984670960114839,0.8504943408485095,0,0,27.614529084168243,3.4518161355210304]
[null,null,null,23,"Additional income",4.7850556060781999,4.9736597194598335,5.6988662496343032,3.7921077312788807,2.8512563802087829,2.8799765245720623,2.9074703511454074,2.8191074376225309,30.707499999999996,3.8384374999999995]
[null,null,null,24,"Core DARTs",8.9461157853373869,-13.216341277944414,-20.57119696597924,-24.647840111684317,-25.723473890931043,-28.398054683947915,-29.271536985935011,-30.643873325602478,-163.52620145668703,-20.440775182085879]
[null,null,null,25,"Tax allowance",7.4879607070453407,4.8050858177208555,6.2496713494831369,4.9972581435371781,2.0053703055551964,1.1908693854066623,4.055343008116699,6.8159383874779165,37.607497104342983,4.7009371380428728]
[null,null,null,null,"Price Control Revenue"]
[null,null,null,26,"Final proposals base revenue",104.53941362532855,111.51535378505646,124.1386284876483,123.63452692019858,119.5972852762783,119.99992272296811,122.09718216664595,122.52548591287248,948.04779889699671,118.50597486212459]
[null,null,null,27,"MOD",0,8.7134165734709512,85.160270936109498,0,0,0,0,0,93.873687509580449,11.734210938697556]
[null,null,null,28,"Base revenue",104.53941362532855,120.22877035852741,209.2988994237578,123.63452692019858,119.5972852762783,119.99992272296811,122.09718216664595,122.52548591287248,1041.9214864065771,130.24018580082213]
[null,null,null,29,"TIRG revenue",46.838528000000004,61.31666929,67.049446733499991,63.831753044737546,61.763699314038135,59.695484142766446,57.627268971494786,55.559053800223097,473.68190329675997,59.210237912094996]
[null,null,null,30,"Not Used"]
[null,null,null,31,"Excluded services revenue",10.8,14.2,22.6,26.7,27.8,30.5,31.4,32.799999999999997,196.8,24.6]
[null,null,null,32,"Total revenue",162.17794162532857,195.74543964852739,298.94834615725779,214.16627996493611,209.16098459031645,210.19540686573455,211.12445113814076,210.88453971309559,1712.4033897033373,214.05042371291717]
[null,null,null,null,"Recalculated base revenue"]
[null,null,null,33,"Recalculated base revenue",124.79268227073101,123.1061702907475,184.11208544875961,211.59505476703504,205.5741937956854,190.68404048805652,191.80888665568722,192.73817616691494,1424.4112898836172,178.05141123545215]
[null,null,null,34,"Previous year recalculated base revenue",122.09629384318715,101.83688491750745,115.63076873284649,115.17078653892774,111.11434053881388,111.63489981445866,113.85537118707434,114.40979907879121,905.74914465160691,113.21864308145086]
[null,null,null,null,"Recorded recalculated base revenue"]
[null,null,null,35,"2014-03-31",104.53941362532855,111.51535378505646,124.1386284876483,123.63452692019858,119.5972852762783,119.99992272296811,122.09718216664595,122.52548591287248,948.04779889699671,118.50597486212459]
[null,null,null,36,"2015-03-31",122.09629384318715,101.83688491750745,115.63076873284649,115.17078653892774,111.11434053881388,111.63489981445866,113.85537118707434,114.40979907879121,905.74914465160691,113.21864308145086]
[null,null,null,37,"2016-03-31",124.79268227073101,123.1061702907475,184.11208544875961,211.59505476703504,205.5741937956854,190.68404048805652,191.80888665568722,192.73817616691494,1424.4112898836172,178.05141123545215]
[null,null,null,38,"2017-03-31","","","","","","","","",0,0]
[null,null,null,39,"2018-03-31","","","","","","","","",0,0]
[null,null,null,40,"2019-03-31","","","","","","","","",0,0]
[null,null,null,41,"2020-03-31","","","","","","","","",0,0]
[null,null,null,42,"2021-03-31","","","","","","","","",0,0]
[null,null,null,null,"Recorded MOD"]
[null,null,null,43,"2014-03-31",0,0,0,0,0,0,0,0,0]
[null,null,null,44,"2015-03-31",0,8.7134165734709512,0,0,0,0,0,0,8.7134165734709512]
[null,null,null,45,"2016-03-31",0,8.7134165734709512,85.160270936109498,0,0,0,0,0,93.873687509580449]
[null,null,null,46,"2017-03-31","","","","","","","","",0]
[null,null,null,47,"2018-03-31","","","","","","","","",0]
[null,null,null,48,"2019-03-31","","","","","","","","",0]
[null,null,null,49,"2020-03-31","","","","","","","","",0]
[null,null,null,50,"2021-03-31","","","","","","","","",0]
[null,null,null,null,"Inputs to RoRE"]
[null,null,null,51,"Average RAV",683.70557889896918,822.94620916802353,1211.7423323992434,1655.9258006790462,1914.8640757475825,1978.7966732248237,1957.0828704352475,1924.4587880133781,12149.522328566314,1518.6902910707893]
[null,null,null,52,"Gearing",0.55000000000000004,0.55000000000000004,0.55000000000000004,0.55000000000000004,0.55000000000000004,0.55000000000000004,0.55000000000000004,0.55000000000000004,0.55000000000000004,0.54999999999999993]
[null,null,null,53,"Regulated equity",307.6675105045361,370.32579412561057,545.2840495796595,745.16661030557077,861.68883408641204,890.45850295117054,880.68729169586129,866.00645460602004,5467.2850478548407,683.41063098185509]
[null,null,null,54,"Regulated debt return",10.980311597117446,11.406034459068806,14.195561424057138,19.399170754955026,22.432632647382931,23.18160302682881,22.927225827148924,22.545034701576725,147.06757443813581,18.383446804766976]
[null,null,null,55,"Regulated equity return",21.536725735317535,25.922805588792741,38.169883470576167,52.161662721389959,60.318218386048855,62.332095206581954,61.64811041871031,60.620451822421415,382.70995334983888,47.83874416872986]
[]
[]
[]
[]
[]
[null,null,"Values for SPTL"]
[]
[]
[null,null,null,null,"Company","Calculated for MOD year ending",null,"File"]
[null,null,null,null,"SPTL","2016-03-31",null,"ET1 PCFM November 2014 FULL.xlsm"]
[]
[null,null,null,null,"PCFM year ending","2014-03-31","2015-03-31","2016-03-31","2017-03-31","2018-03-31","2019-03-31","2020-03-31","2021-03-31","RIIO Total","RIIO average"]
[null,null,null,null,"Price base","£m 09/10 prices","£m 09/10 prices","£m 09/10 prices","£m 09/10 prices","£m 09/10 prices","£m 09/10 prices","£m 09/10 prices","£m 09/10 prices","£m 09/10 prices","£m 09/10 prices"]
[null,null,null,null,"Totex"]
[null,null,null,1,"Slow pot",234.18929589567054,348.91736312226431,262.84288975484571,116.36513255330232,114.78680389393755,119.5257702464791,134.23596754633357,106.91799134057378,1437.7812143534068,179.72265179417585]
[null,null,null,2,"Fast pot",26.021032877296722,38.768595902473756,29.204765528316219,12.929459172589128,12.754089321548614,13.280641138497675,14.915107505148171,11.879776815619307,159.75346826148959,19.969183532686198]
[null,null,null,3,"Post-TIM totex allowance",260.21032877296727,387.68595902473805,292.04765528316193,129.29459172589145,127.54089321548616,132.80641138497677,149.15107505148174,118.79776815619309,1597.5346826148966,199.69183532686208]
[null,null,null,null,"Regulatory Asset Value (RAV)"]
[null,null,null,4,"Opening asset value (before transfers)",1093.7563406645438,1218.1823063765471,1479.1472560378886,1641.5398299012722,1713.3946871360008,1719.9093036385361,1721.2148904141548,1736.4776830498115,null,1540.4527871523444]
[null,null,null,5,"Transfers",0,0,0,68.521626053717185,8.0710551923917446,0,0,0,76.592681246108924,9.5740851557636155]
[null,null,null,6,"Opening asset value (after transfers)",1093.7563406645438,1218.1823063765471,1479.1472560378886,1710.0614559549895,1721.4657423283925,1719.9093036385361,1721.2148904141548,1736.4776830498115,null,1550.0268723081081]
[null,null,null,7,"RAV additions (after disposals)",205.2465248061651,348.91736312226431,262.84288975484571,116.36513255330232,114.78680389393755,119.5257702464791,134.23596754633357,106.91799134057378,1408.8384432639014,176.10480540798767]
[null,null,null,8,"Depreciation",-80.820559094161808,-87.952413460922742,-100.45031589146214,-113.03190137229066,-116.34324258379401,-118.22018347086058,-118.97317491067678,-120.93920548806922,-856.73099627223792,-107.09137453402974]
[null,null,null,9,"Closing asset value",1218.1823063765471,1479.1472560378886,1641.5398299012722,1713.3946871360013,1719.9093036385359,1721.2148904141548,1736.4776830498115,1722.4564689023159,null,1619.0403031820658]
[null,null,null,null,"Final Proposals allowances"]
[null,null,null,10,"Fast pot expenditure",30.938910112272556,38.768595902473756,29.204765528316219,12.929459172589128,12.754089321548614,13.280641138497675,14.915107505148171,11.879776815619307,164.67134549646542,20.583918187058178]
[null,null,null,11,"Non-controllable opex",24.1,24.1,24.1,24.1,24.1,24.1,24.1,24.1,192.79999999999998,24.099999999999998]
[null,null,null,12,"RAV depreciation",80.820559094161808,91.117977404891931,103.61587983543134,116.19746531625987,119.50880652776321,121.38574741482978,122.13873885464598,124.10476943203842,878.88994388002232,109.86124298500279]
[null,null,null,13,"Return",55.324465667951813,65.876239855605391,75.621221348353671,82.596356310945396,82.868297863833973,82.713786470573311,82.944167785437386,82.841693655333046,610.78622895803403,76.348278619754254]
[null,null,null,14,"Equity issuance cost",3.0099916116168268,7.8719986824224994,0.63715909448100916,0,0,0,0,0,11.519149388520335,1.4398936735650418]
[null,null,null,15,"Additional income",10.952751093909903,1.3412683602121493,22.190179414419269,7.0488483253947072,6.9020695692988534,6.9425238085580094,7.0785069781779111,5.2688524500291916,67.724999999999994,8.4656249999999993]
[null,null,null,16,"Core DARTs",7.5251093741412882,-5.2706251187548405,-5.5938173470696952,-5.8666303579926034,-6.1369554884524575,-6.5247555115965223,-6.7445610523810249,-6.8995229474619588,-35.511758449567814,-4.4389698061959768]
[null,null,null,17,"Tax allowance",12.450583455664983,13.144221380286638,8.8578493506649441,7.6495425349146746,9.4423491068932659,11.166666248070994,12.013209090553888,12.942515162824868,87.666936329874261,10.958367041234283]
[null,null,null,null,"Recalculated allowances"]
[null,null,null,18,"Fast pot expenditure",26.021032877296722,38.768595902473756,29.204765528316219,12.929459172589128,12.754089321548614,13.280641138497675,14.915107505148171,11.879776815619307,159.75346826148959,19.969183532686198]
[null,null,null,19,"Non-controllable opex",24.1,24.1,24.1,24.1,24.1,24.1,24.1,24.1,192.79999999999998,24.099999999999998]
[null,null,null,20,"RAV depreciation",80.820559094161808,87.952413460922742,100.45031589146214,113.03190137229066,116.34324258379401,118.22018347086058,118.97317491067678,120.93920548806922,856.73099627223792,107.09137453402974]
[null,null,null,21,"Return",53.662715331610265,61.133448231489666,69.407642179128786,76.228204539350514,76.629626661810889,76.622622624382743,76.98463277944667,77.026791211583642,567.69568355880313,70.961960444850391]
[null,null,null,22,"Equity issuance cost",3.0099916116168268,3.5557268812612914,0.98131602533871642,0,0,0,0,0,7.5470345182168348,0.94337931477710435]
[null,null,null,23,"Additional income",10.952751093909903,1.3412683602121493,22.190179414419269,7.0488483253947072,6.9020695692988534,6.9425238085580094,7.0785069781779111,5.2688524500291916,67.724999999999994,8.4656249999999993]
[null,null,null,24,"Core DARTs",18.993977644672047,-5.2710187461430653,-3.6284189773265059,-3.9020845776746649,-4.1733391180900412,-4.5621506765587672,-4.7830555103474284,-4.9392104348906916,-12.265300396359118,-1.5331625495448897]
[null,null,null,25,"Tax allowance",12.688223150880459,12.750018395388144,9.629528747274021,8.1497518720818523,9.7466951127863073,11.282869385384757,11.958031160120923,12.723479636515229,88.928597460431689,11.116074682553961]
[null,null,null,null,"Price Control Revenue"]
[null,null,null,26,"Final proposals base revenue",225.12237040971922,236.94967646713749,258.63323722459677,244.65504130211119,249.43865690088543,253.06460956893324,256.44516916158233,254.23808456838287,1978.5468456033484,247.31835570041855]
[null,null,null,27,"MOD",0,6.1549196397411094,-20.324060513099141,0,0,0,0,0,-14.169140873358032,-1.771142609169754]
[null,null,null,28,"Base revenue",225.12237040971922,243.1045961068786,238.30917671149763,244.65504130211119,249.43865690088543,253.06460956893324,256.44516916158233,254.23808456838287,1964.3777047299905,245.54721309124881]
[null,null,null,29,"TIRG revenue",24.278497981580735,24.81475386570235,23.969784804208942,12.464964219457293,19.900632403314276,19.25100454161749,18.601376679920719,17.951748818223933,161.23276331402573,20.154095414253216]
[null,null,null,30,"Not Used"]
[null,null,null,31,"Excluded services revenue",5.3675577561683783,5.8660255516733004,6.2070462213261655,6.4985355942571195,6.788425334502123,7.1967204602727186,7.4379958507646684,7.6154487016051373,52.977755470569612,6.6222194338212015]
[null,null,null,32,"Total revenue",254.76842614746832,273.78537552425428,268.48600773703271,263.61854111582562,276.12771463870183,279.51233457082344,282.48454169226773,279.80528208821192,2178.5882235145855,272.32352793932318]
[null,null,null,null,"Recalculated base revenue"]
[null,null,null,33,"Recalculated base revenue",230.24925080414803,224.3304524856047,252.33532880861267,237.58608070403221,242.30238413114861,245.886689751125,249.22639782322304,246.99889516692588,1928.9154796748201,241.11443495935251]
[null,null,null,34,"Previous year recalculated base revenue",235.97524320701444,231.73556067934402,254.18079500263752,239.93559354392005,244.75515905891024,248.42196818095744,251.83570505253505,249.66552520265461,1956.5055499279736,244.5631937409967]
[null,null,null,null,"Recorded recalculated base revenue"]
[null,null,null,35,"2014-03-31",225.12237040971922,236.94967646713749,258.63323722459677,244.65504130211119,249.43865690088543,253.06460956893324,256.44516916158233,254.23808456838287,1978.5468456033484,247.31835570041855]
[null,null,null,36,"2015-03-31",235.97524320701444,231.73556067934402,254.18079500263752,239.93559354392005,244.75515905891024,248.42196818095744,251.83570505253505,249.66552520265461,1956.5055499279736,244.5631937409967]
[null,null,null,37,"2016-03-31",230.24925080414803,224.3304524856047,252.33532880861267,237.58608070403221,242.30238413114861,245.886689751125,249.22639782322304,246.99889516692588,1928.9154796748201,241.11443495935251]
[null,null,null,38,"2017-03-31","","","","","","","","",0,0]
[null,null,null,39,"2018-03-31","","","","","","","","",0,0]
[null,null,null,40,"2019-03-31","","","","","","","","",0,0]
[null,null,null,41,"2020-03-31","","","","","","","","",0,0]
[null,null,null,42,"2021-03-31","","","","","","","","",0,0]
[null,null,null,null,"Recorded MOD"]
[null,null,null,43,"2014-03-31",0,0,0,0,0,0,0,0,0]
[null,null,null,44,"2015-03-31",0,6.1549196397411094,0,0,0,0,0,0,6.1549196397411094]
[null,null,null,45,"2016-03-31",0,6.1549196397411094,-20.324060513099141,0,0,0,0,0,-14.169140873358032]
[null,null,null,46,"2017-03-31","","","","","","","","",0]
[null,null,null,47,"2018-03-31","","","","","","","","",0]
[null,null,null,48,"2019-03-31","","","","","","","","",0]
[null,null,null,49,"2020-03-31","","","","","","","","",0]
[null,null,null,50,"2021-03-31","","","","","","","","",0]
[null,null,null,null,"Inputs to RoRE"]
[null,null,null,51,"Average RAV",1128.3161339699382,1315.8297079528554,1524.604990206014,1674.4251408973203,1683.2427602814032,1683.0889099260348,1691.0408078955886,1691.9668580249013,12392.515309154056,1549.064413644257]
[null,null,null,52,"Gearing",0.55000000000000004,0.55000000000000004,0.55000000000000004,0.55000000000000004,0.55000000000000004,0.55000000000000004,0.55000000000000004,0.55000000000000004,0.55000000000000004,0.54999999999999993]
[null,null,null,53,"Regulated equity",507.74226028647212,592.12336857878483,686.07224559270628,753.49131340379404,757.45924212663135,757.39000946671558,760.9683635530148,761.38508611120551,5576.6318891193241,697.07898613991551]
[null,null,null,54,"Regulated debt return",18.120757111557207,19.68481243097472,21.382584987639344,23.483812601084917,23.607479712946681,23.60532196171264,23.716847330735632,23.729835183799242,177.33145132045041,22.166431415056302]
[null,null,null,55,"Regulated equity return",35.541958220053061,41.44863580051495,48.025057191489438,52.744391938265593,53.022146948864204,53.017300662670102,53.267785448711038,53.296956027784404,390.36423223835277,48.795529029794096]
[]
[]
[]
[]
[]
[null,null,"Values for NGET TO"]
[]
[]
[null,null,null,null,"Company","Calculated for MOD year ending",null,"File"]
[null,null,null,null,"NGET TO","2016-03-31",null,"ET1 PCFM November 2014 FULL.xlsm"]
[]
[null,null,null,null,"PCFM year ending","2014-03-31","2015-03-31","2016-03-31","2017-03-31","2018-03-31","2019-03-31","2020-03-31","2021-03-31","RIIO Total","RIIO average"]
[null,null,null,null,"Price base","£m 09/10 prices","£m 09/10 prices","£m 09/10 prices","£m 09/10 prices","£m 09/10 prices","£m 09/10 prices","£m 09/10 prices","£m 09/10 prices","£m 09/10 prices","£m 09/10 prices"]
[null,null,null,null,"Totex"]
[null,null,null,1,"Slow pot",1189.2430114369006,1408.3975866718224,1327.1326253394636,1222.041972291815,1081.5542272068149,1065.8261713048387,950.68592838167524,825.3198364358783,9070.2013590692077,1133.775169883651]
[null,null,null,2,"Fast pot",209.86641378298268,248.54075058914538,234.19987505990539,215.65446569855544,190.86251068355574,188.08697140673627,167.76810500853094,145.64467701809619,1600.6237692475079,200.07797115593849]
[null,null,null,3,"Post-TIM totex allowance",1399.1094252198832,1656.9383372609677,1561.3325003993691,1437.6964379903704,1272.4167378903705,1253.9131427115749,1118.4540333902062,970.96451345397452,10670.825128316717,1333.8531410395897]
[null,null,null,null,"Regulatory Asset Value (RAV)"]
[null,null,null,4,"Opening asset value (before transfers)",8691.0913006079008,9154.4123523338712,9974.6275121183826,10672.935785536316,11311.023474160047,11701.373136676615,12056.906009636523,12289.321780471557,null,10731.461418942652]
[null,null,null,5,"Transfers",0,0,0,82.388628473992952,0,0,0,0,82.388628473992952,10.298578559249119]
[null,null,null,6,"Opening asset value (after transfers)",8691.0913006079008,9154.4123523338712,9974.6275121183826,10755.324414010309,11311.023474160047,11701.373136676615,12056.906009636523,12289.321780471557,null,10741.7599975019]
[null,null,null,7,"RAV additions (after disposals)",1027.0681172532477,1408.3975866718224,1327.1326253394636,1222.041972291815,1081.5542272068149,1065.8261713048387,950.68592838167524,825.3198364358783,8908.0264648855555,1113.5033081106944]
[null,null,null,8,"Depreciation",-563.74706552727753,-588.18242688731129,-628.82435192153071,-666.34291214207735,-691.2045646902485,-710.29329834492921,-718.27015754664114,-723.62488871875473,-5290.4896657787704,-661.31120822234629]
[null,null,null,9,"Closing asset value",9154.4123523338712,9974.6275121183826,10672.935785536316,11311.023474160047,11701.373136676613,12056.906009636523,12289.321780471557,12391.016728188681,null,11193.952097390249]
[null,null,null,null,"Final Proposals allowances"]
[null,null,null,10,"Fast pot expenditure",237.40620856945091,258.79192954230029,247.54958686774498,235.53222598536234,202.1447606835556,194.23112140673624,171.88650500853097,146.13577701809621,1693.6781150817776,211.7097643852222]
[null,null,null,11,"Non-controllable opex",94.24723304227993,87.678224204681584,87.676243763178761,87.677481779017953,87.676244486345595,87.676244488148086,87.676244492723825,87.676244462267519,707.98416071864324,88.498020089830405]
[null,null,null,12,"RAV depreciation",563.74706552727753,601.9438855384235,644.79876348951439,684.89258726448122,713.22010570881355,734.1034428722661,742.97880142881684,748.89084842182604,5434.5755002514197,679.32193753142747]
[null,null,null,13,"Return",404.01995120068966,440.62845231569594,476.8060368721554,511.8717273328827,536.07099692325698,553.88861733710439,567.26068740369476,574.24363467064757,4064.7901040561273,508.09876300701592]
[null,null,null,14,"Equity issuance cost",0,16.036529091209541,0,22.217944632295964,0,0,0,0,38.254473723505505,4.7818092154381882]
[null,null,null,15,"Additional income",15.168246288518162,16.275110005972994,15.614702904478012,14.911674359737152,13.033415757853545,12.556067765830047,11.285100906339711,9.8268179419485548,108.67113593067819,13.583891991334774]
[null,null,null,16,"Core DARTs",-57.649451741429942,-57.528171097000921,-63.872795597637484,-60.310726285543012,-60.778245898362016,-60.785513483956521,-60.686558770047299,-60.81527627756094,-482.42673915153813,-60.303342393942266]
[null,null,null,17,"Tax allowance",85.34203792729511,80.003502133565092,67.020034930168393,74.593894624638367,63.574864578134445,65.957440437742321,64.827342012712734,65.626062802495454,566.94517944675192,70.86814743084399]
[null,null,null,null,"Recalculated allowances"]
[null,null,null,18,"Fast pot expenditure",209.86641378298268,248.54075058914538,234.19987505990539,215.65446569855544,190.86251068355574,188.08697140673627,167.76810500853094,145.64467701809619,1600.6237692475079,200.07797115593849]
[null,null,null,19,"Non-controllable opex",94.24723304227993,87.678224204681584,87.676243763178761,87.677481779017953,87.676244486345595,87.676244488148086,87.676244492723825,87.676244462267519,707.98416071864324,88.498020089830405]
[null,null,null,20,"RAV depreciation",563.74706552727753,588.18242688731129,628.82435192153071,666.34291214207735,691.2045646902485,710.29329834492921,718.27015754664114,723.62488871875473,5290.4896657787704,661.31120822234629]
[null,null,null,21,"Return",397.09229823896078,414.51888059709137,437.42970390330885,467.57304406611729,487.70425479281869,503.53315178548002,516.05340545389026,523.19552570592191,3747.1002645435892,468.38753306794865]
[null,null,null,22,"Equity issuance cost",0,0,0,19.263784250501491,0,0,0,0,19.263784250501491,2.4079730313126864]
[null,null,null,23,"Additional income",15.168246288518162,16.275110005972994,15.614702904478012,14.911674359737152,13.033415757853545,12.556067765830047,11.285100906339711,9.8268179419485548,108.67113593067819,13.583891991334774]
[null,null,null,24,"Core DARTs",-45.325154703342264,-44.690726609029554,-46.886744743665048,-42.814381298481848,-42.752554816122256,-42.210737947076467,-41.542250607601019,-41.080253366326289,-347.30280409164482,-43.412850511455602]
[null,null,null,25,"Tax allowance",96.601957554126471,77.502688543666494,68.842447373180065,74.280186000346205,66.106356690065709,69.123710778979657,67.722245612627177,68.218853774063078,588.39844632705478,73.549805790881848]
[null,null,null,null,"Price Control Revenue"]
[null,null,null,26,"Final proposals base revenue",1342.2812908140818,1443.8294617348479,1475.5925732296025,1571.3868096928727,1554.9421422395978,1587.6274208238706,1585.2281224827718,1571.5841090397205,12132.471930057365,1516.5589912571706]
[null,null,null,27,"MOD",0,-5.4472436134815325,-114.38240781754212,0,0,0,0,0,-119.82965143102365,-14.978706428877956]
[null,null,null,28,"Base revenue",1342.2812908140818,1438.3822181213663,1361.2101654120604,1571.3868096928727,1554.9421422395978,1587.6274208238706,1585.2281224827718,1571.5841090397205,12012.642278626341,1501.5802848282926]
[null,null,null,29,"TIRG revenue",13.751034124367685,13.274690050778315,12.798257977175346,0,0,0,0,0,39.823982152321349,4.9779977690401687]
[null,null,null,30,"Not Used"]
[null,null,null,31,"Excluded services revenue",123,122.8,129.80000000000001,125.6,127.3,128.6,130.19999999999999,131.69999999999999,1019,127.375]
[null,null,null,32,"Total revenue",1479.0323249384494,1574.4569081721447,1503.8084233892357,1696.9868096928726,1682.2421422395978,1716.2274208238705,1715.4281224827719,1703.2841090397205,13071.466260778663,1633.9332825973329]
[null,null,null,null,"Recalculated base revenue"]
[null,null,null,33,"Recalculated base revenue",1331.3980597308034,1388.0073542188395,1425.7005801819166,1502.8891669978711,1493.8347922847654,1529.0587066230266,1527.233008413152,1517.1067542547255,11715.2284227051,1464.4035528381376]
[null,null,null,34,"Previous year recalculated base revenue",1351.1261049786092,1429.1347880160697,1462.0086804414825,1556.4385291950655,1541.5803660033087,1574.9318791583714,1573.331994601642,1560.6623383935998,12049.214680788149,1506.1518350985186]
[null,null,null,null,"Recorded recalculated base revenue"]
[null,null,null,35,"2014-03-31",1342.2812908140818,1443.8294617348479,1475.5925732296025,1571.3868096928727,1554.9421422395978,1587.6274208238706,1585.2281224827718,1571.5841090397205,12132.471930057365,1516.5589912571706]
[null,null,null,36,"2015-03-31",1351.1261049786092,1429.1347880160697,1462.0086804414825,1556.4385291950655,1541.5803660033087,1574.9318791583714,1573.331994601642,1560.6623383935998,12049.214680788149,1506.1518350985186]
[null,null,null,37,"2016-03-31",1331.3980597308034,1388.0073542188395,1425.7005801819166,1502.8891669978711,1493.8347922847654,1529.0587066230266,1527.233008413152,1517.1067542547255,11715.2284227051,1464.4035528381376]
[null,null,null,38,"2017-03-31","","","","","","","","",0,0]
[null,null,null,39,"2018-03-31","","","","","","","","",0,0]
[null,null,null,40,"2019-03-31","","","","","","","","",0,0]
[null,null,null,41,"2020-03-31","","","","","","","","",0,0]
[null,null,null,42,"2021-03-31","","","","","","","","",0,0]
[null,null,null,null,"Recorded MOD"]
[null,null,null,43,"2014-03-31",0,0,0,0,0,0,0,0,0]
[null,null,null,44,"2015-03-31",0,-5.4472436134815325,0,0,0,0,0,0,-5.4472436134815325]
[null,null,null,45,"2016-03-31",0,-5.4472436134815325,-114.38240781754212,0,0,0,0,0,-119.82965143102365]
[null,null,null,46,"2017-03-31","","","","","","","","",0]
[null,null,null,47,"2018-03-31","","","","","","","","",0]
[null,null,null,48,"2019-03-31","","","","","","","","",0]
[null,null,null,49,"2020-03-31","","","","","","","","",0]
[null,null,null,50,"2021-03-31","","","","","","","","",0]
[null,null,null,null,"Inputs to RoRE"]
[null,null,null,51,"Average RAV",8723.4687662337601,9352.8628293567544,10102.302630561404,10798.453673582384,11263.377708841077,11628.941149780137,11918.09250470878,12083.037545171406,85870.536808235702,10733.817101029463]
[null,null,null,52,"Gearing",0.6,0.6,0.6,0.6,0.6,0.6,0.6,0.6,0.6,0.6]
[null,null,null,53,"Regulated equity",3489.3875064935041,3741.1451317427018,4040.9210522245617,4319.381469432954,4505.3510835364314,4651.5764599120548,4767.2370018835127,4833.215018068563,34348.214723294281,4293.5268404117851]
[null,null,null,54,"Regulated debt return",152.83517278441548,152.63872137510222,154.56523024758945,165.21634120581047,172.32967894526845,177.92279959163611,182.34681532204431,184.8704744411225,1342.7252339129891,167.84065423912364]
[null,null,null,55,"Regulated equity return",244.2571254545453,261.88015922198917,282.86447365571939,302.35670286030683,315.3745758475502,325.61035219384394,333.70659013184593,338.32505126479941,2404.3750306306001,300.54687882882502]
[]
[]
[]
[]
[]
[null,null,"Values for NGET SO"]
[]
[]
[null,null,null,null,"Company","Calculated for MOD year ending",null,"File"]
[null,null,null,null,"NGET SO","2016-03-31",null,"ET1 PCFM November 2014 FULL.xlsm"]
[]
[null,null,null,null,"PCFM year ending","2014-03-31","2015-03-31","2016-03-31","2017-03-31","2018-03-31","2019-03-31","2020-03-31","2021-03-31","RIIO Total","RIIO average"]
[null,null,null,null,"Price base","£m 09/10 prices","£m 09/10 prices","£m 09/10 prices","£m 09/10 prices","£m 09/10 prices","£m 09/10 prices","£m 09/10 prices","£m 09/10 prices","£m 09/10 prices","£m 09/10 prices"]
[null,null,null,null,"Totex"]
[null,null,null,1,"Slow pot",31.366851769182464,30.909282160864159,30.406909940870154,29.503468267708236,30.397665634630393,28.005027611742573,29.904442344862396,30.433671335330679,240.92731906519103,30.115914883148879]
[null,null,null,2,"Fast pot",81.05914023505575,79.876675404957183,78.578430348987027,76.243729824435974,78.55454094110577,72.371415441098179,77.279938819518947,78.647587931087514,622.61145894624633,77.826432368280791]
[null,null,null,3,"Post-TIM totex allowance",112.42599200423821,110.78595756582135,108.98534028985718,105.7471980921442,108.95220657573617,100.37644305284076,107.18438116438134,109.0812592664182,863.53877801143733,107.94234725142967]
[null,null,null,null,"Regulatory Asset Value (RAV)"]
[null,null,null,4,"Opening asset value including transfers",74.160747515587701,92.812426589830409,104.63586255999655,112.94618975307324,117.83841939905,120.87580682470772,119.68591894563316,119.24282255720327,null,107.77477426813525]
[null,null,null,5,"Transfers",0,0,0,0,0,0,0,0,0,0]
[null,null,null,6,"Opening asset value (after transfers)",74.160747515587701,92.812426589830409,104.63586255999655,112.94618975307324,117.83841939905,120.87580682470772,119.68591894563316,119.24282255720327,null,107.77477426813525]
[null,null,null,7,"RAV additions (after disposals)",34.297000427606903,30.909282160864159,30.406909940870154,29.503468267708236,30.397665634630393,28.005027611742573,29.904442344862396,30.433671335330679,243.85746772361546,30.482183465451932]
[null,null,null,8,"Depreciation",-15.645321353364194,-19.085846190698028,-22.096582747793462,-24.611238621731466,-27.360278208972655,-29.194915490817138,-30.3475387332923,-30.489113769754972,-198.83083511642423,-24.853854389553028]
[null,null,null,9,"Closing asset value",92.812426589830409,104.63586255999655,112.94618975307324,117.83841939905,120.87580682470772,119.68591894563316,119.24282255720327,119.18738012277899,null,113.40310334403416]
[null,null,null,null,"Final Proposals allowances"]
[null,null,null,10,"Fast pot expenditure",81.476813877328894,78.636555404957193,76.725460348987028,76.243729824435974,78.55454094110577,72.371415441098179,77.279938819518947,78.647587931087514,619.93604258851951,77.492005323564939]
[null,null,null,11,"Non-controllable opex",0,0,0,0,0,0,0,0,0,0]
[null,null,null,12,"RAV depreciation",15.645321353364194,18.690342676426219,21.632524947807369,24.044747964602518,26.793787551843703,28.628424833688189,29.781048076163348,29.92262311262602,195.13882051652158,24.392352564565197]
[null,null,null,13,"Return",3.6480707854751642,4.2651198106724255,4.7077019442984573,5.0099186184247326,5.2126121734441337,5.2810656596930992,5.2695633176227323,5.2834968166568972,38.677549126287644,4.8346936407859555]
[null,null,null,14,"Equity issuance cost",0,0,0,0,0,0,0,0,0,0]
[null,null,null,15,"Additional income",0.93219394583370041,0.89969793099769935,0.87783267686821986,0.87232109317784745,0.89875958568159287,0.82801710222961211,0.88417658562860901,0.89982415652833225,7.0928230769456135,0.88660288461820169]
[null,null,null,16,"Core DARTs",10.271521977223172,10.215919391797028,10.262337776682289,10.410869126447524,10.361609623254074,10.414659827475258,10.57012487699259,10.528114695563952,83.035157295435894,10.379394661929487]
[null,null,null,17,"Tax allowance",2.0016092127672556,0.82522992535408668,0.15069905537749376,0.12384729257669767,1.0117778450783115,0,0.94578803093084196,0.90950595778206589,5.9684573198667525,0.74605716498334407]
[null,null,null,null,"Recalculated allowances"]
[null,null,null,18,"Fast pot expenditure",81.05914023505575,79.876675404957183,78.578430348987027,76.243729824435974,78.55454094110577,72.371415441098179,77.279938819518947,78.647587931087514,622.61145894624633,77.826432368280791]
[null,null,null,19,"Non-controllable opex",null,null,null,null,null,null,null,null,0,0]
[null,null,null,20,"RAV depreciation",15.645321353364194,19.085846190698028,22.096582747793462,24.611238621731466,27.360278208972655,29.194915490817138,30.3475387332923,30.489113769754972,198.83083511642423,24.853854389553028]
[null,null,null,21,"Return",3.708338996407317,4.2770492449266007,4.6091649561540473,4.8906044560495907,5.059551456741012,5.1006189817470222,5.0656630114275849,5.0549194630631211,37.765910566516297,4.7207388208145371]
[null,null,null,22,"Equity issuance cost",null,null,null,null,null,null,null,null,0,0]
[null,null,null,23,"Additional income",0.93219394583370041,0.89969793099769935,0.87783267686821986,0.87232109317784745,0.89875958568159287,0.82801710222961211,0.88417658562860901,0.89982415652833225,7.0928230769456135,0.88660288461820169]
[null,null,null,24,"Core DARTs",12.238898857271282,12.269320008809279,13.501323356904841,13.740151967682184,13.784991857306188,13.936103314150911,14.193757897077006,14.258238923443807,107.9227861826455,13.490348272830687]
[null,null,null,25,"Tax allowance",0.53824607061444085,1.0795724238040505,0.31405412757210804,0.45765402898979524,1.31330914047599,0.19085691484758149,1.2811460150494176,1.1431716306887876,6.3180103520421707,0.78975129400527133]
[null,null,null,null,"Price Control Revenue"]
[null,null,null,26,"Final proposals base revenue",113.97553115199239,113.53286514020465,114.35655675002086,116.7054339196653,122.83308772040758,117.52358286418433,124.73063970685706,126.19115267024478,949.84884992357684,118.7311062404471]
[null,null,null,27,"SOMOD",0,3.7106038241035293,6.0364438354306174,0,0,0,0,0,9.7470476595341466,1.2183809574417683]
[null,null,null,28,"Base revenue",113.97553115199239,117.24346896430818,120.39300058545147,116.7054339196653,122.83308772040758,117.52358286418433,124.73063970685706,126.19115267024478,959.59589758311108,119.94948719788889]
[null,null,null,29,"TIRG revenue",null,null,null,null,null,null,null,null,0,0]
[null,null,null,30,"Not Used"]
[null,null,null,31,"Excluded services revenue",null,null,null,null,null,null,null,null,0,0]
[null,null,null,32,"Total revenue",113.97553115199239,117.24346896430818,120.39300058545147,116.7054339196653,122.83308772040758,117.52358286418433,124.73063970685706,126.19115267024478,959.59589758311108,119.94948719788889]
[null,null,null,null,"Recalculated base revenue"]
[null,null,null,33,"Recalculated base revenue",114.12213945854668,117.48816120419283,119.97738821427971,120.81569999206685,126.97143119028321,121.62192724489044,129.05222106199386,130.49285587456652,980.54182424082012,122.56772803010251]
[null,null,null,34,"Previous year recalculated base revenue",115.53670799497685,115.61122735143105,116.47439523516735,118.86672348468946,125.04587518183425,119.71032959263032,127.14773990713464,128.59194647511799,966.98494522298199,120.87311815287275]
[null,null,null,null,"Recorded recalculated base revenue"]
[null,null,null,35,"2014-03-31",113.97553115199239,113.53286514020465,114.35655675002086,116.7054339196653,122.83308772040758,117.52358286418433,124.73063970685706,126.19115267024478,949.84884992357684,118.7311062404471]
[null,null,null,36,"2015-03-31",115.53670799497685,115.61122735143105,116.47439523516735,118.86672348468946,125.04587518183425,119.71032959263032,127.14773990713464,128.59194647511799,966.98494522298199,120.87311815287275]
[null,null,null,37,"2016-03-31",114.12213945854668,117.48816120419283,119.97738821427971,120.81569999206685,126.97143119028321,121.62192724489044,129.05222106199386,130.49285587456652,980.54182424082012,122.56772803010251]
[null,null,null,38,"2017-03-31","","","","","","","","",0,0]
[null,null,null,39,"2018-03-31","","","","","","","","",0,0]
[null,null,null,40,"2019-03-31","","","","","","","","",0,0]
[null,null,null,41,"2020-03-31","","","","","","","","",0,0]
[null,null,null,42,"2021-03-31","","","","","","","","",0,0]
[null,null,null,null,"Recorded SOMOD"]
[null,null,null,43,"2014-03-31",0,0,0,0,0,0,0,0,0]
[null,null,null,44,"2015-03-31",0,3.7106038241035293,0,0,0,0,0,0,3.7106038241035293]
[null,null,null,45,"2016-03-31",0,3.7106038241035293,6.0364438354306174,0,0,0,0,0,9.7470476595341466]
[null,null,null,46,"2017-03-31","","","","","","","","",0]
[null,null,null,47,"2018-03-31","","","","","","","","",0]
[null,null,null,48,"2019-03-31","","","","","","","","",0]
[null,null,null,49,"2020-03-31","","","","","","","","",0]
[null,null,null,50,"2021-03-31","","","","","","","","",0]
[null,null,null,null,"RORE"]
[null,null,null,51,"Average RAV",81.466146669756512,96.503818703217519,106.44722762480478,112.94698512816606,116.84876343512728,117.79720512117834,116.9899078851636,116.74178898529146,865.7418435527054,108.21773044408818]
[null,null,null,52,"Gearing",0.6,0.6,0.6,0.6,0.6,0.6,0.6,0.6,0.59999999999999987,0.6]
[null,null,null,53,"Regulated equity",32.586458667902605,38.601527481287008,42.578891049921914,45.178794051266429,46.739505374050914,47.118882048471335,46.795963154065447,46.69671559411659,346.29673742108224,43.28709217763528]
[null,null,null,54,"Regulated debt return",1.4272868896541342,1.5749423212365099,1.628642582659513,1.7280888724609407,1.787786080557447,1.8022972383540283,1.7899455906430028,1.7861493714749594,13.525138947040533,1.6906423683800667]
[null,null,null,55,"Regulated equity return",2.281052106753183,2.7021069236900908,2.9805223734945345,3.1625155835886503,3.271765376183565,3.2983217433929939,3.2757174207845821,3.2687700915881619,24.240771619475762,3.0300964524344702]
[]
[]
[]
[]
[]
[null,null,"End of sheet"]

{"sheet":"SHE-Transmission PLC","index":18,"n_rows":377,"n_cols":42,"rows_kept":377,"cut":false,"hidden":false,"merged":[]}
["Input"]
[null,"SHE-Transmission PLC"]
[null,null,null,null,"Parameter","Licence condition","Units","Term","Constant",null,null,null,null,null,null,null,null,null,null,null,null,null,null,null,null,null,null,null,null,null,null,null,null,"Annual values"]
[null,null,null,null,"PCFM year ending",{"$f":"Cover!C3","v":"ET1 PCFM November 2014 change control 18 (SO Data Centre).xlsm"},null,null,{"$f":"UserInterface!$G$18","v":"2016-03-31"},null,"1991-03-31","1992-03-31","1993-03-31","1994-03-31","1995-03-31","1996-03-31","1997-03-31","1998-03-31","1999-03-31","2000-03-31","2001-03-31","2002-03-31","2003-03-31","2004-03-31","2005-03-31","2006-03-31","2007-03-31","2008-03-31","2009-03-31","2010-03-31","2011-03-31","2012-03-31","2013-03-31","2014-03-31","2015-03-31","2016-03-31","2017-03-31","2018-03-31","2019-03-31","2020-03-31","2021-03-31"]
[]
[null,"PCFM Variable Values Table"]
[]
[null,null,null,null,{"$f":"Input!E8","v":"Allowed percentage cost of debt"},{"$f":"Input!F8","v":"6D"},"annual real %",{"$f":"Input!H8","v":"CDE / SO CDE"},null,null,null,null,null,null,null,null,null,null,null,null,null,null,null,null,null,null,null,null,null,null,null,null,null,2.92E-2,2.52E-2,2.1299999999999999E-2,2.1299999999999999E-2,2.1299999999999999E-2,2.1299999999999999E-2,2.1299999999999999E-2,2.1299999999999999E-2]
[null,null,null,null,{"$f":"Input!E9","v":"Actual load related capex expenditure"},{"$f":"Input!F9","v":"6C"},"£m 09/10 prices",{"$f":"Input!H9","v":"ALC"},null,null,null,null,null,null,null,null,null,null,null,null,null,null,null,null,null,null,null,null,null,null,null,null,null,121.11196029126098,0,0,0,0,0,0,0]
[null,null,null,null,{"$f":"Input!E10","v":"Actual asset replacement capex expenditure"},{"$f":"Input!F10","v":"6C"},"£m 09/10 prices",{"$f":"Input!H10","v":"ARC"},null,null,null,null,null,null,null,null,null,null,null,null,null,null,null,null,null,null,null,null,null,null,null,null,null,16.456826876094908,0,0,0,0,0,0,0]
[null,null,null,null,{"$f":"Input!E11","v":"Actual other capex expenditure"},{"$f":"Input!F11","v":"6C"},"£m 09/10 prices",{"$f":"Input!H11","v":"AOC"},null,null,null,null,null,null,null,null,null,null,null,null,null,null,null,null,null,null,null,null,null,null,null,null,null,0.51427583987796599,0,0,0,0,0,0,0]
[null,null,null,null,{"$f":"Input!E12","v":"Actual controllable opex"},{"$f":"Input!F12","v":"6C"},"£m 09/10 prices",{"$f":"Input!H12","v":"ACO"},null,null,null,null,null,null,null,null,null,null,null,null,null,null,null,null,null,null,null,null,null,null,null,null,null,11.228355837335588,0,0,0,0,0,0,0]
[null,null,null,null,{"$f":"Input!E13","v":"Actual non-operational capex"},{"$f":"Input!F13","v":"6C"},"£m 09/10 prices",{"$f":"Input!H13","v":"ANC"},null,null,null,null,null,null,null,null,null,null,null,null,null,null,null,null,null,null,null,null,null,null,null,null,null,0.25713791993898294,0,0,0,0,0,0,0]
[null,null,null,null,{"$f":"Input!E14","v":"Uncertain costs - enhanced security"},{"$f":"Input!F14","v":"6H"},"£m 09/10 prices",{"$f":"Input!H14","v":"IAEEPS"},null,null,null,null,null,null,null,null,null,null,null,null,null,null,null,null,null,null,null,null,null,null,null,null,null,0,0,0,0,0,0,0,0]
[null,null,null,null,{"$f":"Input!E15","v":"Uncertain costs – workforce renewal (SPTL only)"},{"$f":"Input!F15","v":"6H"},"£m 09/10 prices",{"$f":"Input!H15","v":"IAEWR"},null,null,null,null,null,null,null,null,null,null,null,null,null,null,null,null,null,null,null,null,null,null,null,null,null,0,0,0,0,0,0,0,0]
[null,null,null,null,{"$f":"Input!E16","v":"Uncertain costs – BT 21st Century (SHETPLC only)"},{"$f":"Input!F16","v":"6H"},"£m 09/10 prices",{"$f":"Input!H16","v":"IAEBT"},null,null,null,null,null,null,null,null,null,null,null,null,null,null,null,null,null,null,null,null,null,null,null,null,null,0,0,0,0,0,0,0,0]
[null,null,null,null,{"$f":"Input!E17","v":"Uncertain costs – compensation costs for landowners for wayleave (SHETPLC only)"},{"$f":"Input!F17","v":"6H"},"£m 09/10 prices",{"$f":"Input!H17","v":"IAEWL"},null,null,null,null,null,null,null,null,null,null,null,null,null,null,null,null,null,null,null,null,null,null,null,null,null,0,0,0,0,0,0,0,0]
[null,null,null,null,{"$f":"Input!E18","v":"Baseline and strategic wider works outputs"},{"$f":"Input!F18","v":"6I"},"£m 09/10 prices",{"$f":"Input!H18","v":"WWE"},null,null,null,null,null,null,null,null,null,null,null,null,null,null,null,null,null,null,null,null,null,null,null,null,null,35.33,164.10499999999999,415.69799999999998,359.286,172.34800000000001,18.047999999999998,7.1079999999999997,5.8170000000000002]
[null,null,null,null,{"$f":"Input!E19","v":"Network development and wider works volume driver (NGET only)"},{"$f":"Input!F19","v":"6J"},"£m 09/10 prices",{"$f":"Input!H19","v":"WWI"},null,null,null,null,null,null,null,null,null,null,null,null,null,null,null,null,null,null,null,null,null,null,null,null,null,0,0,0,0,0,0,0,0]
[null,null,null,null,{"$f":"Input!E20","v":"Enhancements to pre-existing infrastructure"},{"$f":"Input!F20","v":"6G"},"£m 09/10 prices",{"$f":"Input!H20","v":"EPIE"},null,null,null,null,null,null,null,null,null,null,null,null,null,null,null,null,null,null,null,null,null,null,null,null,null,0,0,0,0,0,0,0,0]
[null,null,null,null,{"$f":"Input!E21","v":"Demand related infrastructure volume driver"},{"$f":"Input!F21","v":"6L"},"£m 09/10 prices",{"$f":"Input!H21","v":"DRI"},null,null,null,null,null,null,null,null,null,null,null,null,null,null,null,null,null,null,null,null,null,null,null,null,null,0,0,0,0,0,0,0,0]
[null,null,null,null,{"$f":"Input!E22","v":"Undergrounding volume driver"},{"$f":"Input!F22","v":"6K"},"£m 09/10 prices",{"$f":"Input!H22","v":"UCE"},null,null,null,null,null,null,null,null,null,null,null,null,null,null,null,null,null,null,null,null,null,null,null,null,null,0,0,0,0,0,0,0,0]
[null,null,null,null,{"$f":"Input!E23","v":"Generation connections volume driver"},{"$f":"Input!F23","v":"6F"},"£m 09/10 prices",{"$f":"Input!H23","v":"GCE"},null,null,null,null,null,null,null,null,null,null,null,null,null,null,null,null,null,null,null,null,null,null,null,null,null,19.14859311279687,30.35207879811076,73.933193223581696,53.212553120176558,15.940841214622365,6.2024681817937539,0,0]
[null,null,null,null,{"$f":"Input!E24","v":"Innovation roll out mechanism"},{"$f":"Input!F24","v":"6E"},"£m 09/10 prices",{"$f":"Input!H24","v":"IRM"},null,null,null,null,null,null,null,null,null,null,null,null,null,null,null,null,null,null,null,null,null,null,null,null,null,0,0,0,0,0,0,0,0]
[null,null,null,null,{"$f":"Input!E25","v":"Exceptional Sub Sea Cable Faults"},{"$f":"Input!F25","v":"6H"},"£m 09/10 prices",{"$f":"Input!H25","v":"IAESSCM"},null,null,null,null,null,null,null,null,null,null,null,null,null,null,null,null,null,null,null,null,null,null,null,null,null,0,0,0,0,0,0,0,0]
[null,null,null,null,{"$f":"Input!E26","v":"Non-load Related Work Costs"},{"$f":"Input!F26","v":"6H"},"£m 09/10 prices",{"$f":"Input!H26","v":"IAENLUM"},null,null,null,null,null,null,null,null,null,null,null,null,null,null,null,null,null,null,null,null,null,null,null,null,null,0,0,0,0,0,0,0,0]
[null,null,null,null,{"$f":"Input!E27","v":"Tax liability - gearing/interest costs"},{"$f":"Input!F27","v":"6D"},"£m nominal",{"$f":"Input!H27","v":"TGIE"},null,null,null,null,null,null,null,null,null,null,null,null,null,null,null,null,null,null,null,null,null,null,null,null,null,0,0,0,0,0,0,0,0]
[null,null,null,null,{"$f":"Input!E28","v":"Tax liability - tax trigger events"},{"$f":"Input!F28","v":"6D"},"£m 09/10 prices",{"$f":"Input!H28","v":"TTE"},null,null,null,null,null,null,null,null,null,null,null,null,null,null,null,null,null,null,null,null,null,null,null,null,null,0,0,0,0,0,0,0,0]
[null,null,null,null,{"$f":"Input!E29","v":"Pension scheme administration and Pension Protection Fund Levy"},{"$f":"Input!F29","v":"6D"},"£m 09/10 prices",{"$f":"Input!H29","v":"APFE"},null,null,null,null,null,null,null,null,null,null,null,null,null,null,null,null,null,null,null,null,null,null,null,null,null,0,0,0,0,0,0,0,0]
[null,null,null,null,{"$f":"Input!E30","v":"Pension Scheme Established Deficit"},{"$f":"Input!F30","v":"6D"},"£m 09/10 prices",{"$f":"Input!H30","v":"EDE"},null,null,null,null,null,null,null,null,null,null,null,null,null,null,null,null,null,null,null,null,null,null,null,null,null,0.46556776598449501,0.46556776598449529,1.4883227772830612,1.4883227772830612,1.4883227772830612,1.4883227772830612,1.4883227772830612,1.4883227772830612,0.46556776598449529]
[null,null,null,null,{"$f":"Input!E31","v":"Legacy price control adjustments to allowed revenue"},{"$f":"Input!F31","v":"6A"},"£m 09/10 prices",{"$f":"Input!H31","v":"LAR"},null,null,null,null,null,null,null,null,null,null,null,null,null,null,null,null,null,null,null,null,null,null,null,null,null,18.524694215477957]
[null,null,null,null,{"$f":"Input!E32","v":"Legacy price control adjustments to RAV"},{"$f":"Input!F32","v":"6A"},"£m 09/10 prices",{"$f":"Input!H32","v":"LRAV"},null,null,null,null,null,null,null,null,null,null,null,null,null,null,null,null,null,null,null,null,null,null,null,null,null,-70.857875230242996]
[]
[null,"Policy"]
[]
[null,null,"Cost of capital"]
[]
[null,null,null,null,"Cost of debt",null,"annual real %",null,null,null,null,null,null,null,null,null,null,null,null,null,null,null,null,null,null,null,null,null,null,null,null,null,null,{"$f":"AH8","v":2.92E-2},2.52E-2,2.1299999999999999E-2,2.1299999999999999E-2,2.1299999999999999E-2,2.1299999999999999E-2,2.1299999999999999E-2,2.1299999999999999E-2]
[null,null,null,null,"Cost of equity",null,"annual real %",null,null,null,null,null,null,null,null,null,null,null,null,null,null,null,null,null,null,null,null,null,null,null,null,null,null,7.0000000000000007E-2,7.0000000000000007E-2,7.0000000000000007E-2,7.0000000000000007E-2,7.0000000000000007E-2,7.0000000000000007E-2,7.0000000000000007E-2,7.0000000000000007E-2]
[null,null,null,null,"Notional gearing",null,"%",null,null,">",null,null,null,null,null,null,null,null,null,null,null,null,null,null,null,null,null,null,null,null,null,null,0.55000000000000004,0.55000000000000004,0.55000000000000004,0.55000000000000004,0.55000000000000004,0.55000000000000004,0.55000000000000004,0.55000000000000004,0.55000000000000004]
[]
[null,null,null,null,"Vanilla WACC",null,"annual real %",null,null,">",null,null,null,null,null,null,null,null,null,null,null,null,null,null,null,null,null,null,null,null,null,null,null,{"$f":"(AH38 * AH40) + (AH39 * (1 - AH40))","v":4.7560000000000005E-2},4.5359999999999998E-2,4.3215000000000003E-2,4.3215000000000003E-2,4.3215000000000003E-2,4.3215000000000003E-2,4.3215000000000003E-2,4.3215000000000003E-2]
[]
[null,null,null,null,"Closing gearing",null,"%",null,0.6]
[]
[null,null,null,null,"Forecast RPI (simple average year to March)",null,"index value",null,null,">",null,null,null,null,null,null,null,null,null,null,null,173.875,177.517,182.47499999999999,188.15,193.108,200.31700000000001,208.59200000000001,214.78299999999999,215.767,226.47499999999999,{"$f":"ROUND(AVERAGE(234.4,235.2,235.2,234.7,236.1,237.9,238,238.5,239.4,238,239.9,240.8),3)","v":237.34200000000001},{"$f":"ROUND(AF46*(1+2.8%),3)","v":243.988},{"$f":"ROUND(AG46*(1+2.8%),3)","v":250.82},257.84300000000002,265.06299999999999,272.48500000000001,280.11500000000001,287.95800000000003,296.02100000000002,304.31]
[null,null,null,null,"Cost of Debt Inflation",null,"index value",null,null,">",null,null,null,null,null,null,null,null,null,null,null,173.875,177.517,182.47499999999999,188.15,193.108,200.31700000000001,208.59200000000001,214.78299999999999,215.767,226.47499999999999,{"$f":"ROUND(AVERAGE(234.4,235.2,235.2,234.7,236.1,237.9,238,238.5,239.4,238,239.9,240.8),3)","v":237.34200000000001},{"$f":"ROUND(AF47*(1+2.8%),3)","v":243.988},250.82,257.84300000000002,265.06299999999999,272.48500000000001,280.11500000000001,287.95800000000003,296.02100000000002,304.31]
[null,null,"TIM and capitalisation"]
[]
[null,null,null,null,"Years from t until normal reporting of actual costs",null,"years",null,2]
[]
[null,null,null,null,"Capitalised share of totex",null,"%",null,null,null,null,null,null,null,null,null,null,null,null,null,null,null,null,null,null,null,null,null,null,null,null,null,null,0.9,0.9,0.9,0.9,0.9,0.9,0.9,0.9]
[null,null,null,null,"Capitalised share of wider works",null,"%",null,null,null,null,null,null,null,null,null,null,null,null,null,null,null,null,null,null,null,null,null,null,null,null,null,null,0.9,0.9,0.9,0.9,0.9,0.9,0.9,0.9]
[]
[null,null,null,null,"Incentive rate (slope)",null,"scalar",null,-2.5000000000000001E-3]
[null,null,null,null,"Incentive rate (intercept)",null,"scalar",null,0.75]
[null,null,null,null,"Additional income (intercept)",null,"scalar",null,8.75]
[null,null,null,null,"Additional Income (adjustment)",null,"£m 09/10 prices",null,null,null,null,null,null,null,null,null,null,null,null,null,null,null,null,null,null,null,null,null,null,null,null,null,null,0,0,0,0,0,0,0,0]
[null,null,null,null,"Weight of Ofgem's view on price control totex",null,"%",null,0.75]
[null,null,null,null,"Weight of operator's view on price control totex",null,"%",null,0.25]
[]
[null,null,null,null,"Ofgem's view of  licencee totex",null,"£m 09/10 prices",null,1228.3]
[null,null,null,null,"Operator's view of licencee totex",null,"£m 09/10 prices",null,1228.3]
[]
[null,null,null,null,"Ofgem's view of group price control totex",null,"£m 09/10 prices",null,1228.3]
[null,null,null,null,"Operator's view of group price control totex",null,"£m 09/10 prices",null,1228.3]
[]
[null,null,"Finance"]
[]
[null,null,null,null,"Minimum equity issuance threshold",null,"%",null,0]
[null,null,null,null,"Equity issuance costs",null,"%",null,0.05]
[null,null,null,null,"Assumed dividends as % of notional equity portion of RAV",null,"%",null,0.05]
[]
[null,null,null,null,"Equity issuance gearing target",null,"%",null,null,null,null,null,null,null,null,null,null,null,null,null,null,null,null,null,null,null,null,null,null,null,null,null,null,{"$f":"AH40","v":0.55000000000000004},{"$f":"AI40","v":0.55000000000000004},0.55000000000000004,0.55000000000000004,0.55000000000000004,0.55000000000000004,0.55000000000000004,0.55000000000000004]
[]
[null,null,null,null,"Index-linked debt as a percentage of net debt",null,"%",null,null,null,null,null,null,null,null,null,null,null,null,null,null,null,null,null,null,null,null,null,null,null,null,null,null,0,0,0,0,0,0,0,0]
[]
[null,"Expenditure"]
[]
[null,null,"Totex"]
[]
[null,null,null,"Non-variant allowances"]
[]
[null,null,null,null,{"$f":"Input!E84","v":"Non-variant allowed load related capex expenditure"},null,"£m 09/10 prices",null,null,null,null,null,null,null,null,null,null,null,null,null,null,null,null,null,null,null,null,null,null,null,null,null,null,94.445861432623545,96.314681411115558,110.31243380541886,54.561819272949634,25.669942400112681,24.958249469926685,22.310162687980494,22.089554011572872]
[null,null,null,null,{"$f":"Input!E85","v":"Non-variant allowed asset replacement capex expenditure"},null,"£m 09/10 prices",null,null,null,null,null,null,null,null,null,null,null,null,null,null,null,null,null,null,null,null,null,null,null,null,null,null,0,0,0,0,0,0,0,0]
[null,null,null,null,{"$f":"Input!E86","v":"Non-variant allowed other capex expenditure"},null,"£m 09/10 prices",null,null,null,null,null,null,null,null,null,null,null,null,null,null,null,null,null,null,null,null,null,null,null,null,null,null,21.723136550463241,20.127050409695428,23.108801786948639,27.429896302645815,28.61656634931532,28.985777327813313,31.337189030509993,27.7646037536385]
[null,null,null,null,{"$f":"Input!E87","v":"Non-variant allowed controllable opex"},null,"£m 09/10 prices",null,null,null,null,null,null,null,null,null,null,null,null,null,null,null,null,null,null,null,null,null,null,null,null,null,null,12.700581338728249,15.387456094788041,18.123045774525401,20.48693003244065,22.711999964728285,23.829455067174404,24.867860026569126,26.265448883761607]
[null,null,null,null,{"$f":"Input!E88","v":"Non-variant allowed non-operational capex"},null,"£m 09/10 prices",null,null,null,null,null,null,null,null,null,null,null,null,null,null,null,null,null,null,null,null,null,null,null,null,null,null,0.7055273609999998,2.8531526478839995,2.7760156280822779,0.2083039874998035,0.21101193933730089,0.2137550945486858,0.21653391077781869,0.21934885161793027]
[]
[null,null,null,"Variant allowances"]
[]
[null,null,null,null,{"$f":"Input!E92","v":"Uncertain costs - enhanced security"},null,"£m 09/10 prices",null,null,null,null,null,null,null,null,null,null,null,null,null,null,null,null,null,null,null,null,null,null,null,null,null,null,{"$f":"AH14","v":0},{"$f":"AI14","v":0},0,0,0,0,0,0]
[null,null,null,null,{"$f":"Input!E93","v":"Allocation to load related capex expenditure"},null,"%",null,null,null,null,null,null,null,null,null,null,null,null,null,null,null,null,null,null,null,null,null,null,null,null,null,null,0,0,0,0,0,0,0,0]
[null,null,null,null,{"$f":"Input!E94","v":"Allocation to asset replacement capex expenditure"},null,"%",null,null,null,null,null,null,null,null,null,null,null,null,null,null,null,null,null,null,null,null,null,null,null,null,null,null,0,0,0,0,0,0,0,0]
[null,null,null,null,{"$f":"Input!E95","v":"Allocation to other capex expenditure"},null,"%",null,null,null,null,null,null,null,null,null,null,null,null,null,null,null,null,null,null,null,null,null,null,null,null,null,null,1,1,1,1,1,1,1,1]
[null,null,null,null,{"$f":"Input!E96","v":"Allocation to controllable opex"},null,"%",null,null,null,null,null,null,null,null,null,null,null,null,null,null,null,null,null,null,null,null,null,null,null,null,null,null,0,0,0,0,0,0,0,0]
[null,null,null,null,{"$f":"Input!E97","v":"Allocation to non-operational capex"},null,"%",null,null,null,null,null,null,null,null,null,null,null,null,null,null,null,null,null,null,null,null,null,null,null,null,null,null,0,0,0,0,0,0,0,0]
[]
[null,null,null,null,{"$f":"Input!E99","v":"Uncertain costs – workforce renewal (SPTL only)"},null,"£m 09/10 prices",null,null,null,null,null,null,null,null,null,null,null,null,null,null,null,null,null,null,null,null,null,null,null,null,null,null,{"$f":"AH15","v":0},{"$f":"AI15","v":0},{"$f":"AJ15","v":0},0,0,0,0,0]
[null,null,null,null,{"$f":"Input!E100","v":"Allocation to load related capex expenditure"},null,"%",null,null,null,null,null,null,null,null,null,null,null,null,null,null,null,null,null,null,null,null,null,null,null,null,null,null,0,0,0,0,0,0,0,0]
[null,null,null,null,{"$f":"Input!E101","v":"Allocation to asset replacement capex expenditure"},null,"%",null,null,null,null,null,null,null,null,null,null,null,null,null,null,null,null,null,null,null,null,null,null,null,null,null,null,0,0,0,0,0,0,0,0]
[null,null,null,null,{"$f":"Input!E102","v":"Allocation to other capex expenditure"},null,"%",null,null,null,null,null,null,null,null,null,null,null,null,null,null,null,null,null,null,null,null,null,null,null,null,null,null,1,1,1,1,1,1,1,1]
[null,null,null,null,{"$f":"Input!E103","v":"Allocation to controllable opex"},null,"%",null,null,null,null,null,null,null,null,null,null,null,null,null,null,null,null,null,null,null,null,null,null,null,null,null,null,0,0,0,0,0,0,0,0]
[null,null,null,null,{"$f":"Input!E104","v":"Allocation to non-operational capex"},null,"%",null,null,null,null,null,null,null,null,null,null,null,null,null,null,null,null,null,null,null,null,null,null,null,null,null,null,0,0,0,0,0,0,0,0]
[]
[null,null,null,null,{"$f":"Input!E106","v":"Uncertain costs – BT 21st Century (SHETPLC only)"},null,"£m 09/10 prices",null,null,null,null,null,null,null,null,null,null,null,null,null,null,null,null,null,null,null,null,null,null,null,null,null,null,{"$f":"AH16","v":0},{"$f":"AI16","v":0},0,0,0,0,0,0]
[null,null,null,null,{"$f":"Input!E107","v":"Allocation to load related capex expenditure"},null,"%",null,null,null,null,null,null,null,null,null,null,null,null,null,null,null,null,null,null,null,null,null,null,null,null,null,null,0,0,0,0,0,0,0,0]
[null,null,null,null,{"$f":"Input!E108","v":"Allocation to asset replacement capex expenditure"},null,"%",null,null,null,null,null,null,null,null,null,null,null,null,null,null,null,null,null,null,null,null,null,null,null,null,null,null,0,0,0,0,0,0,0,0]
[null,null,null,null,{"$f":"Input!E109","v":"Allocation to other capex expenditure"},null,"%",null,null,null,null,null,null,null,null,null,null,null,null,null,null,null,null,null,null,null,null,null,null,null,null,null,null,1,1,1,1,1,1,1,1]
[null,null,null,null,{"$f":"Input!E110","v":"Allocation to controllable opex"},null,"%",null,null,null,null,null,null,null,null,null,null,null,null,null,null,null,null,null,null,null,null,null,null,null,null,null,null,0,0,0,0,0,0,0,0]
[null,null,null,null,{"$f":"Input!E111","v":"Allocation to non-operational capex"},null,"%",null,null,null,null,null,null,null,null,null,null,null,null,null,null,null,null,null,null,null,null,null,null,null,null,null,null,0,0,0,0,0,0,0,0]
[]
[null,null,null,null,{"$f":"Input!E113","v":"Uncertain costs – compensation costs for landowners for wayleave (SHETPLC only)"},null,"£m 09/10 prices",null,null,null,null,null,null,null,null,null,null,null,null,null,null,null,null,null,null,null,null,null,null,null,null,null,null,{"$f":"AH17","v":0},{"$f":"AI17","v":0},0,0,0,0,0,0]
[null,null,null,null,{"$f":"Input!E114","v":"Allocation to load related capex expenditure"},null,"%",null,null,null,null,null,null,null,null,null,null,null,null,null,null,null,null,null,null,null,null,null,null,null,null,null,null,0,0,0,0,0,0,0,0]
[null,null,null,null,{"$f":"Input!E115","v":"Allocation to asset replacement capex expenditure"},null,"%",null,null,null,null,null,null,null,null,null,null,null,null,null,null,null,null,null,null,null,null,null,null,null,null,null,null,0,0,0,0,0,0,0,0]
[null,null,null,null,{"$f":"Input!E116","v":"Allocation to other capex expenditure"},null,"%",null,null,null,null,null,null,null,null,null,null,null,null,null,null,null,null,null,null,null,null,null,null,null,null,null,null,1,1,1,1,1,1,1,1]
[null,null,null,null,{"$f":"Input!E117","v":"Allocation to controllable opex"},null,"%",null,null,null,null,null,null,null,null,null,null,null,null,null,null,null,null,null,null,null,null,null,null,null,null,null,null,0,0,0,0,0,0,0,0]
[null,null,null,null,{"$f":"Input!E118","v":"Allocation to non-operational capex"},null,"%",null,null,null,null,null,null,null,null,null,null,null,null,null,null,null,null,null,null,null,null,null,null,null,null,null,null,0,0,0,0,0,0,0,0]
[]
[null,null,null,null,{"$f":"Input!E120","v":"Baseline and strategic wider works outputs"},null,"£m 09/10 prices",null,null,null,null,null,null,null,null,null,null,null,null,null,null,null,null,null,null,null,null,null,null,null,null,null,null,{"$f":"AH18","v":35.33},{"$f":"AI18","v":164.10499999999999},415.69799999999998,359.286,172.34800000000001,18.047999999999998,7.1079999999999997,5.8170000000000002]
[null,null,null,null,{"$f":"Input!E121","v":"Allocation to load related capex expenditure"},null,"%",null,null,null,null,null,null,null,null,null,null,null,null,null,null,null,null,null,null,null,null,null,null,null,null,null,null,1,1,1,1,1,1,1,1]
[null,null,null,null,{"$f":"Input!E122","v":"Allocation to asset replacement capex expenditure"},null,"%",null,null,null,null,null,null,null,null,null,null,null,null,null,null,null,null,null,null,null,null,null,null,null,null,null,null,0,0,0,0,0,0,0,0]
[null,null,null,null,{"$f":"Input!E123","v":"Allocation to other capex expenditure"},null,"%",null,null,null,null,null,null,null,null,null,null,null,null,null,null,null,null,null,null,null,null,null,null,null,null,null,null,0,0,0,0,0,0,0,0]
[null,null,null,null,{"$f":"Input!E124","v":"Allocation to controllable opex"},null,"%",null,null,null,null,null,null,null,null,null,null,null,null,null,null,null,null,null,null,null,null,null,null,null,null,null,null,0,0,0,0,0,0,0,0]
[null,null,null,null,{"$f":"Input!E125","v":"Allocation to non-operational capex"},null,"%",null,null,null,null,null,null,null,null,null,null,null,null,null,null,null,null,null,null,null,null,null,null,null,null,null,null,0,0,0,0,0,0,0,0]
[]
[null,null,null,null,{"$f":"Input!E127","v":"Network development and wider works volume driver (NGET only)"},null,"£m 09/10 prices",null,null,null,null,null,null,null,null,null,null,null,null,null,null,null,null,null,null,null,null,null,null,null,null,null,null,{"$f":"AH19","v":0},0,0,0,0,0,0,0]
[null,null,null,null,{"$f":"Input!E128","v":"Allocation to load related capex expenditure"},null,"%",null,null,null,null,null,null,null,null,null,null,null,null,null,null,null,null,null,null,null,null,null,null,null,null,null,null,1,1,1,1,1,1,1,1]
[null,null,null,null,{"$f":"Input!E129","v":"Allocation to asset replacement capex expenditure"},null,"%",null,null,null,null,null,null,null,null,null,null,null,null,null,null,null,null,null,null,null,null,null,null,null,null,null,null,0,0,0,0,0,0,0,0]
[null,null,null,null,{"$f":"Input!E130","v":"Allocation to other capex expenditure"},null,"%",null,null,null,null,null,null,null,null,null,null,null,null,null,null,null,null,null,null,null,null,null,null,null,null,null,null,0,0,0,0,0,0,0,0]
[null,null,null,null,{"$f":"Input!E131","v":"Allocation to controllable opex"},null,"%",null,null,null,null,null,null,null,null,null,null,null,null,null,null,null,null,null,null,null,null,null,null,null,null,null,null,0,0,0,0,0,0,0,0]
[null,null,null,null,{"$f":"Input!E132","v":"Allocation to non-operational capex"},null,"%",null,null,null,null,null,null,null,null,null,null,null,null,null,null,null,null,null,null,null,null,null,null,null,null,null,null,0,0,0,0,0,0,0,0]
[]
[null,null,null,null,{"$f":"Input!E134","v":"Enhancements to pre-existing infrastructure"},null,"£m 09/10 prices",null,null,null,null,null,null,null,null,null,null,null,null,null,null,null,null,null,null,null,null,null,null,null,null,null,null,{"$f":"AH20","v":0},0,0,0,0,0,0,0]
[null,null,null,null,{"$f":"Input!E135","v":"Allocation to load related capex expenditure"},null,"%",null,null,null,null,null,null,null,null,null,null,null,null,null,null,null,null,null,null,null,null,null,null,null,null,null,null,1,1,1,1,1,1,1,1]
[null,null,null,null,{"$f":"Input!E136","v":"Allocation to asset replacement capex expenditure"},null,"%",null,null,null,null,null,null,null,null,null,null,null,null,null,null,null,null,null,null,null,null,null,null,null,null,null,null,0,0,0,0,0,0,0,0]
[null,null,null,null,{"$f":"Input!E137","v":"Allocation to other capex expenditure"},null,"%",null,null,null,null,null,null,null,null,null,null,null,null,null,null,null,null,null,null,null,null,null,null,null,null,null,null,0,0,0,0,0,0,0,0]
[null,null,null,null,{"$f":"Input!E138","v":"Allocation to controllable opex"},null,"%",null,null,null,null,null,null,null,null,null,null,null,null,null,null,null,null,null,null,null,null,null,null,null,null,null,null,0,0,0,0,0,0,0,0]
[null,null,null,null,{"$f":"Input!E139","v":"Allocation to non-operational capex"},null,"%",null,null,null,null,null,null,null,null,null,null,null,null,null,null,null,null,null,null,null,null,null,null,null,null,null,null,0,0,0,0,0,0,0,0]
[]
[null,null,null,null,{"$f":"Input!E141","v":"Demand related infrastructure volume driver"},null,"£m 09/10 prices",null,null,null,null,null,null,null,null,null,null,null,null,null,null,null,null,null,null,null,null,null,null,null,null,null,null,{"$f":"AH21","v":0},{"$f":"AI21","v":0},0,0,0,0,0,0]
[null,null,null,null,{"$f":"Input!E142","v":"Allocation to load related capex expenditure"},null,"%",null,null,null,null,null,null,null,null,null,null,null,null,null,null,null,null,null,null,null,null,null,null,null,null,null,null,1,1,1,1,1,1,1,1]
[null,null,null,null,{"$f":"Input!E143","v":"Allocation to asset replacement capex expenditure"},null,"%",null,null,null,null,null,null,null,null,null,null,null,null,null,null,null,null,null,null,null,null,null,null,null,null,null,null,0,0,0,0,0,0,0,0]
[null,null,null,null,{"$f":"Input!E144","v":"Allocation to other capex expenditure"},null,"%",null,null,null,null,null,null,null,null,null,null,null,null,null,null,null,null,null,null,null,null,null,null,null,null,null,null,0,0,0,0,0,0,0,0]
[null,null,null,null,{"$f":"Input!E145","v":"Allocation to controllable opex"},null,"%",null,null,null,null,null,null,null,null,null,null,null,null,null,null,null,null,null,null,null,null,null,null,null,null,null,null,0,0,0,0,0,0,0,0]
[null,null,null,null,{"$f":"Input!E146","v":"Allocation to non-operational capex"},null,"%",null,null,null,null,null,null,null,null,null,null,null,null,null,null,null,null,null,null,null,null,null,null,null,null,null,null,0,0,0,0,0,0,0,0]
[]
[null,null,null,null,{"$f":"Input!E148","v":"Undergrounding volume driver"},null,"£m 09/10 prices",null,null,null,null,null,null,null,null,null,null,null,null,null,null,null,null,null,null,null,null,null,null,null,null,null,null,{"$f":"AH22","v":0},{"$f":"AI22","v":0},0,0,0,0,0,0]
[null,null,null,null,{"$f":"Input!E149","v":"Allocation to load related capex expenditure"},null,"%",null,null,null,null,null,null,null,null,null,null,null,null,null,null,null,null,null,null,null,null,null,null,null,null,null,null,1,1,1,1,1,1,1,1]
[null,null,null,null,{"$f":"Input!E150","v":"Allocation to asset replacement capex expenditure"},null,"%",null,null,null,null,null,null,null,null,null,null,null,null,null,null,null,null,null,null,null,null,null,null,null,null,null,null,0,0,0,0,0,0,0,0]
[null,null,null,null,{"$f":"Input!E151","v":"Allocation to other capex expenditure"},null,"%",null,null,null,null,null,null,null,null,null,null,null,null,null,null,null,null,null,null,null,null,null,null,null,null,null,null,0,0,0,0,0,0,0,0]
[null,null,null,null,{"$f":"Input!E152","v":"Allocation to controllable opex"},null,"%",null,null,null,null,null,null,null,null,null,null,null,null,null,null,null,null,null,null,null,null,null,null,null,null,null,null,0,0,0,0,0,0,0,0]
[null,null,null,null,{"$f":"Input!E153","v":"Allocation to non-operational capex"},null,"%",null,null,null,null,null,null,null,null,null,null,null,null,null,null,null,null,null,null,null,null,null,null,null,null,null,null,0,0,0,0,0,0,0,0]
[]
[null,null,null,null,{"$f":"Input!E155","v":"Generation connections volume driver"},null,"£m 09/10 prices",null,null,null,null,null,null,null,null,null,null,null,null,null,null,null,null,null,null,null,null,null,null,null,null,null,null,{"$f":"AH23","v":19.14859311279687},{"$f":"AI23","v":30.35207879811076},{"$f":"AJ23","v":73.933193223581696},53.212553120176558,{"$f":"AL23","v":15.940841214622365},6.2024681817937539,0,0]
[null,null,null,null,{"$f":"Input!E156","v":"Allocation to load related capex expenditure"},null,"%",null,null,null,null,null,null,null,null,null,null,null,null,null,null,null,null,null,null,null,null,null,null,null,null,null,null,1,1,1,1,1,1,1,1]
[null,null,null,null,{"$f":"Input!E157","v":"Allocation to asset replacement capex expenditure"},null,"%",null,null,null,null,null,null,null,null,null,null,null,null,null,null,null,null,null,null,null,null,null,null,null,null,null,null,0,0,0,0,0,0,0,0]
[null,null,null,null,{"$f":"Input!E158","v":"Allocation to other capex expenditure"},null,"%",null,null,null,null,null,null,null,null,null,null,null,null,null,null,null,null,null,null,null,null,null,null,null,null,null,null,0,0,0,0,0,0,0,0]
[null,null,null,null,{"$f":"Input!E159","v":"Allocation to controllable opex"},null,"%",null,null,null,null,null,null,null,null,null,null,null,null,null,null,null,null,null,null,null,null,null,null,null,null,null,null,0,0,0,0,0,0,0,0]
[null,null,null,null,{"$f":"Input!E160","v":"Allocation to non-operational capex"},null,"%",null,null,null,null,null,null,null,null,null,null,null,null,null,null,null,null,null,null,null,null,null,null,null,null,null,null,0,0,0,0,0,0,0,0]
[]
[null,null,null,null,{"$f":"Input!E162","v":"Innovation roll out mechanism"},null,"£m 09/10 prices",null,null,null,null,null,null,null,null,null,null,null,null,null,null,null,null,null,null,null,null,null,null,null,null,null,null,{"$f":"AH24","v":0},{"$f":"AI24","v":0},0,0,0,0,0,0]
[null,null,null,null,{"$f":"Input!E163","v":"Allocation to load related capex expenditure"},null,"%",null,null,null,null,null,null,null,null,null,null,null,null,null,null,null,null,null,null,null,null,null,null,null,null,null,null,0.3,0.3,0.3,0.3,0.3,0.3,0.3,0.3]
[null,null,null,null,{"$f":"Input!E164","v":"Allocation to asset replacement capex expenditure"},null,"%",null,null,null,null,null,null,null,null,null,null,null,null,null,null,null,null,null,null,null,null,null,null,null,null,null,null,0.1,0.1,0.1,0.1,0.1,0.1,0.1,0.1]
[null,null,null,null,{"$f":"Input!E165","v":"Allocation to other capex expenditure"},null,"%",null,null,null,null,null,null,null,null,null,null,null,null,null,null,null,null,null,null,null,null,null,null,null,null,null,null,0.5,0.5,0.5,0.5,0.5,0.5,0.5,0.5]
[null,null,null,null,{"$f":"Input!E166","v":"Allocation to controllable opex"},null,"%",null,null,null,null,null,null,null,null,null,null,null,null,null,null,null,null,null,null,null,null,null,null,null,null,null,null,0.1,0.1,0.1,0.1,0.1,0.1,0.1,0.1]
[null,null,null,null,{"$f":"Input!E167","v":"Allocation to non-operational capex"},null,"%",null,null,null,null,null,null,null,null,null,null,null,null,null,null,null,null,null,null,null,null,null,null,null,null,null,null,0,0,0,0,0,0,0,0]
[]
[null,null,null,null,{"$f":"Input!E169","v":"Exceptional Sub Sea Cable Faults"},null,"£m 09/10 prices",null,null,null,null,null,null,null,null,null,null,null,null,null,null,null,null,null,null,null,null,null,null,null,null,null,null,{"$f":"AH25","v":0},{"$f":"AI25","v":0},0,0,0,0,0,0]
[null,null,null,null,{"$f":"Input!E170","v":"Allocation to load related capex expenditure"},null,"%",null,null,null,null,null,null,null,null,null,null,null,null,null,null,null,null,null,null,null,null,null,null,null,null,null,null,0,0,0,0,0,0,0,0]
[null,null,null,null,{"$f":"Input!E171","v":"Allocation to asset replacement capex expenditure"},null,"%",null,null,null,null,null,null,null,null,null,null,null,null,null,null,null,null,null,null,null,null,null,null,null,null,null,null,0,0,0,0,0,0,0,0]
[null,null,null,null,{"$f":"Input!E172","v":"Allocation to other capex expenditure"},null,"%",null,null,null,null,null,null,null,null,null,null,null,null,null,null,null,null,null,null,null,null,null,null,null,null,null,null,1,1,1,1,1,1,1,1]
[null,null,null,null,{"$f":"Input!E173","v":"Allocation to controllable opex"},null,"%",null,null,null,null,null,null,null,null,null,null,null,null,null,null,null,null,null,null,null,null,null,null,null,null,null,null,0,0,0,0,0,0,0,0]
[null,null,null,null,{"$f":"Input!E174","v":"Allocation to non-operational capex"},null,"%",null,null,null,null,null,null,null,null,null,null,null,null,null,null,null,null,null,null,null,null,null,null,null,null,null,null,0,0,0,0,0,0,0,0]
[]
[null,null,null,null,{"$f":"Input!E176","v":"Non-load Related Work Costs"},null,"£m 09/10 prices",null,null,null,null,null,null,null,null,null,null,null,null,null,null,null,null,null,null,null,null,null,null,null,null,null,null,{"$f":"AH26","v":0},{"$f":"AI26","v":0},0,0,0,0,0,0]
[null,null,null,null,{"$f":"Input!E177","v":"Allocation to load related capex expenditure"},null,"%",null,null,null,null,null,null,null,null,null,null,null,null,null,null,null,null,null,null,null,null,null,null,null,null,null,null,0,0,0,0,0,0,0,0]
[null,null,null,null,{"$f":"Input!E178","v":"Allocation to asset replacement capex expenditure"},null,"%",null,null,null,null,null,null,null,null,null,null,null,null,null,null,null,null,null,null,null,null,null,null,null,null,null,null,0,0,0,0,0,0,0,0]
[null,null,null,null,{"$f":"Input!E179","v":"Allocation to other capex expenditure"},null,"%",null,null,null,null,null,null,null,null,null,null,null,null,null,null,null,null,null,null,null,null,null,null,null,null,null,null,1,1,1,1,1,1,1,1]
[null,null,null,null,{"$f":"Input!E180","v":"Allocation to controllable opex"},null,"%",null,null,null,null,null,null,null,null,null,null,null,null,null,null,null,null,null,null,null,null,null,null,null,null,null,null,0,0,0,0,0,0,0,0]
[null,null,null,null,{"$f":"Input!E181","v":"Allocation to non-operational capex"},null,"%",null,null,null,null,null,null,null,null,null,null,null,null,null,null,null,null,null,null,null,null,null,null,null,null,null,null,0,0,0,0,0,0,0,0]
[]
[null,null,null,null,"Variant allowed load related capex",null,"£m 09/10 prices",null,null,null,null,null,null,null,null,null,null,null,null,null,null,null,null,null,null,null,null,null,null,null,null,null,null,{"$f":"(AH$92*AH93)     + (AH$99*AH100) + (AH$106*AH107) + (AH$113*AH114) + (AH$120*AH121) + (AH$127*AH128) + (AH$134*AH135) + (AH$141*AH142) + (AH$148*AH149) + (AH$155*AH156) + (AH$162*AH163) + (AH$169*AH170) + (AH$176*AH177)","v":54.478593112796872},{"$f":"(AI$92*AI93)     + (AI$99*AI100) + (AI$106*AI107) + (AI$113*AI114) + (AI$120*AI121) + (AI$127*AI128) + (AI$134*AI135) + (AI$141*AI142) + (AI$148*AI149) + (AI$155*AI156) + (AI$162*AI163) + (AI$169*AI170) + (AI$176*AI177)","v":194.45707879811076},489.6311932235817,412.49855312017655,188.28884121462238,24.250468181793753,7.1079999999999997,5.8170000000000002]
[null,null,null,null,"Variant allowed non-load related capex - asset replacement",null,"£m 09/10 prices",null,null,null,null,null,null,null,null,null,null,null,null,null,null,null,null,null,null,null,null,null,null,null,null,null,null,{"$f":"(AH$92*AH94)     + (AH$99*AH101) + (AH$106*AH108) + (AH$113*AH115) + (AH$120*AH122) + (AH$127*AH129) + (AH$134*AH136) + (AH$141*AH143) + (AH$148*AH150) + (AH$155*AH157) + (AH$162*AH164) + (AH$169*AH171) + (AH$176*AH178)","v":0},0,0,0,0,0,0,0]
[null,null,null,null,"Variant allowed non-load related capex - other",null,"£m 09/10 prices",null,null,null,null,null,null,null,null,null,null,null,null,null,null,null,null,null,null,null,null,null,null,null,null,null,null,{"$f":"(AH$92*AH95)     + (AH$99*AH102) + (AH$106*AH109) + (AH$113*AH116) + (AH$120*AH123) + (AH$127*AH130) + (AH$134*AH137) + (AH$141*AH144) + (AH$148*AH151) + (AH$155*AH158) + (AH$162*AH165) + (AH$169*AH172) + (AH$176*AH179)","v":0},0,0,0,0,0,0,0]
[null,null,null,null,"Variant allowed controllable opex",null,"£m 09/10 prices",null,null,null,null,null,null,null,null,null,null,null,null,null,null,null,null,null,null,null,null,null,null,null,null,null,null,{"$f":"(AH$92*AH96)     + (AH$99*AH103) + (AH$106*AH110) + (AH$113*AH117) + (AH$120*AH124) + (AH$127*AH131) + (AH$134*AH138) + (AH$141*AH145) + (AH$148*AH152) + (AH$155*AH159) + (AH$162*AH166) + (AH$169*AH173) + (AH$176*AH180)","v":0},0,0,0,0,0,0,0]
[null,null,null,null,"Variant allowed non-operational capex",null,"£m 09/10 prices",null,null,null,null,null,null,null,null,null,null,null,null,null,null,null,null,null,null,null,null,null,null,null,null,null,null,{"$f":"(AH$92*AH97)     + (AH$99*AH104) + (AH$106*AH111) + (AH$113*AH118) + (AH$120*AH125) + (AH$127*AH132) + (AH$134*AH139) + (AH$141*AH146) + (AH$148*AH153) + (AH$155*AH160) + (AH$162*AH167) + (AH$169*AH174) + (AH$176*AH181)","v":0},0,0,0,0,0,0,0]
[]
[null,null,null,"Actual"]
[]
[null,null,null,null,"Actual load related capex",null,"£m 09/10 prices",null,null,null,null,null,null,null,null,null,null,null,null,null,null,null,null,null,null,null,null,null,null,null,null,null,null,{"$f":"AH9","v":121.11196029126098},0,0,0,0,0,0,0]
[null,null,null,null,"Actual non-load related capex - asset replacement",null,"£m 09/10 prices",null,null,null,null,null,null,null,null,null,null,null,null,null,null,null,null,null,null,null,null,null,null,null,null,null,null,16.456826876094908,0,0,0,0,0,0,0]
[null,null,null,null,"Actual non-load related capex - other",null,"£m 09/10 prices",null,null,null,null,null,null,null,null,null,null,null,null,null,null,null,null,null,null,null,null,null,null,null,null,null,null,0.51427583987796599,0,0,0,0,0,0,0]
[null,null,null,null,"Actual controllable opex",null,"£m 09/10 prices",null,null,null,null,null,null,null,null,null,null,null,null,null,null,null,null,null,null,null,null,null,null,null,null,null,null,11.228355837335588,0,0,0,0,0,0,0]
[null,null,null,null,"Actual non-operational capex",null,"£m 09/10 prices",null,null,null,null,null,null,null,null,null,null,null,null,null,null,null,null,null,null,null,null,null,null,null,null,null,null,{"$f":"AH13","v":0.25713791993898294},0,0,0,0,0,0,0]
[]
[null,null,"Non-totex"]
[]
[null,null,null,null,"Non-controllable opex",null,"£m 09/10 prices",null,null,null,null,null,null,null,null,null,null,null,null,null,null,null,null,null,null,null,null,null,null,null,null,null,null,9.3999999999999986,9.3999999999999986,12.7,12.7,12.7,12.7,12.7,12.7]
[]
[null,"Direct allowed revenue terms (DARTs)"]
[]
[null,null,null,null,{"$f":"E29","v":"Pension scheme administration and Pension Protection Fund Levy"},null,"£m 09/10 prices",null,null,null,null,null,null,null,null,null,null,null,null,null,null,null,null,null,null,null,null,null,null,null,null,null,null,{"$f":"AH29","v":0},0,0,0,0,0,0,0]
[null,null,null,null,{"$f":"E30","v":"Pension Scheme Established Deficit"},null,"£m 09/10 prices",null,null,null,null,null,null,null,null,null,null,null,null,null,null,null,null,null,null,null,null,null,null,null,null,null,null,{"$f":"AH30","v":0.46556776598449501},0.46556776598449529,1.4883227772830612,1.4883227772830612,1.4883227772830612,1.4883227772830612,1.4883227772830612,1.4883227772830612]
[]
[null,null,null,null,"Pension true-up from previous price controls",null,"£m 09/10 prices",null,4.2579811604782698,null,null,null,null,null,null,null,null,null,null,null,null,null,null,null,null,null,null,null,null,null,null,null,null,{"$f":"($I$206/9)*(1+$AH$42)","v":0.4956100827189574},{"$f":"($I$206/9)*(1+$AH$42)*(1+$AI$42)","v":0.51809095607108935},{"$f":"($I$206/9)*(1+$AH$42)*(1+$AI$42)*(1+$AJ$42)","v":0.5404802567377015},{"$f":"($I$206/9)*(1+$AH$42)*(1+$AI$42)*(1+$AJ$42)*(1+$AK$42)","v":0.56383711103262124},{"$f":"($I$206/9)*(1+$AH$42)*(1+$AI$42)*(1+$AJ$42)*(1+$AK$42)*(1+$AL$42)","v":0.58820333178589601},{"$f":"($I$206/9)*(1+$AH$42)*(1+$AI$42)*(1+$AJ$42)*(1+$AK$42)*(1+$AL$42)*(1+$AM$42)","v":0.61362253876902351},{"$f":"($I$206/9)*(1+$AH$42)*(1+$AI$42)*(1+$AJ$42)*(1+$AK$42)*(1+$AL$42)*(1+$AM$42)*(1+$AN$42)","v":0.64014023678192689},{"$f":"($I$206/9)*(1+$AH$42)*(1+$AI$42)*(1+$AJ$42)*(1+$AK$42)*(1+$AL$42)*(1+$AM$42)*(1+$AN$42)*(1+$AO$42)","v":0.66780389711445787}]
[null,null,null,null,"NGET TO Capital Expenditure Incentive and Safety Net",null,"£m 09/10 prices",null,null,null,null,null,null,null,null,null,null,null,null,null,null,null,null,null,null,null,null,null,null,null,null,null,null,0,0,0,0,0,0,0,0,0]
[]
[null,null,null,null,{"$f":"Input!E209","v":"Revenue adjustment from previous controls (Base)"},null,"£m 09/10 prices",null,null,null,null,null,null,null,null,null,null,null,null,null,null,null,null,null,null,null,null,null,null,null,null,null,null,0.26024372115597799]
[null,null,null,null,{"$f":"E31","v":"Legacy price control adjustments to allowed revenue"},null,"£m 09/10 prices",null,null,null,null,null,null,null,null,null,null,null,null,null,null,null,null,null,null,null,null,null,null,null,null,null,null,{"$f":"IF(OR(m_identity=1,m_identity=2),AH31,0)","v":0},0,0,0,0,0,0,0]
[null,null,null,null,{"$f":"Input!E211","v":"Revenue adjustment from previous controls"},null,"£m 09/10 prices",null,null,null,null,null,null,null,null,null,null,null,null,null,null,null,null,null,null,null,null,null,null,null,null,null,null,{"$f":"AH209+AH210","v":0.26024372115597799},{"$f":"AI209+AI210","v":0},0,0,0,0,0,0]
[]
[null,null,null,null,"Excluded services revenue",null,"£m 09/10 prices",null,null,null,null,null,null,null,null,null,null,null,null,null,null,null,null,null,null,null,null,null,null,null,null,null,null,10.8,14.2,22.6,26.7,27.8,30.5,31.4,32.799999999999997,32.799999999999997]
[null,null,null,null,"Identified excluded services costs",null,"£m 09/10 prices",null,null,null,null,null,null,null,null,null,null,null,null,null,null,null,null,null,null,null,null,null,null,null,null,null,null,0,0,0,0,0,0,0,0]
[null,null,null,null,"Excluded services",null,"£m 09/10 prices",null,null,null,null,null,null,null,null,null,null,null,null,null,null,null,null,null,null,null,null,null,null,null,null,null,null,{"$f":"SUM(AH213, -AH214)","v":10.8},{"$f":"SUM(AI213, -AI214)","v":14.2},22.6,26.7,27.8,30.5,31.4,32.799999999999997]
[]
[null,"RAV and assets"]
[]
[null,null,"Pre-vesting assets"]
[]
[null,null,null,null,"Pre-vesting RAV cost opening balance brought forward (before transfers)",null,"£m 09/10 prices",null,null,null,null,null,null,null,null,null,null,null,null,null,null,null,null,null,null,null,null,null,null,null,null,null,null,0]
[null,null,null,null,"Pre-vesting RAV cumulative depreciation opening balance brought forward (before transfers)",null,"£m 09/10 prices",null,null,null,null,null,null,null,null,null,null,null,null,null,null,null,null,null,null,null,null,null,null,null,null,null,null,0]
[]
[null,null,null,null,"Pre-vesting asset life",null,"years",null,22]
[]
[null,null,null,null,"Years of pre-vesting depreciation remaining",null,"years",null,null,null,null,null,null,null,null,null,null,null,null,null,null,null,null,null,null,null,null,null,null,null,null,null,null,45,44,43,42,41,40,39,38]
[]
[null,null,"Post-vesting assets"]
[]
[null,null,null,null,{"$f":"Input!E230","v":"Transmission"}]
[null,null,null,null,{"$f":"Input!E231","v":"Post-vesting asset life"},null,"years",null,null,">",48,48,48,48,48,48,48,48,48,48,48,48,48,48,48,48,48,48,48,48,48,48,48,21.5625,23.125,24.6875,26.25,27.8125,29.375,30.9375,32.5]
[null,null,null,null,{"$f":"Input!E232","v":"Accelerated post-vesting asset life"},null,"years",null,null,">",20,20,20,20,20,20,20,20,20,20,20,20,20,20,20,20,20,20,20,20,20,20,20,21.5625,23.125,24.6875,26.25,27.8125,29.375,30.9375,32.5]
[null,null,null,null,{"$f":"Input!E233","v":"Smoothing period following full depreciation of pre-vesting assets"},null,"years",null,30]
[null,null,null,null,{"$f":"Input!E234","v":"Start of smoothing period"},null,"year ending",null,"1991-03-31"]
[null,null,null,null,{"$f":"Input!E235","v":"Pre-RIIO net additions to RAV"},null,"£m 09/10 prices",null,null,">",26.348371283182601,23.754902370647166,2.3278228794272784,26.412014692079225,11.06815456943011,11.331703086831,13.549641292561263,16.200163518052051,11.947519332519331,21.790682296363087,11.334516182378051,8.2762855542601788,9.5188405493871038,10.217499235076829,48.467244081422507,22.224949254804265,26.578130460104823,46.560661181912188,54.245216730037995,39.447999999999986,33.451311107181802,28.9431123345388,76.399999999999991]
[null,null,null,null,"LRAV",null,"£m 09/10 prices",null,null,null,null,null,null,null,null,null,null,null,null,null,null,null,null,null,null,null,null,null,null,null,null,null,null,{"$f":"AH32","v":-70.857875230242996}]
[null,null,null,null,"RIIO post-vesting RAV additions",null,"£m 09/10 prices",null,null,null,null,null,null,null,null,null,null,null,null,null,null,null,null,null,null,null,null,null,null,null,null,null,null,0,0,0,0,0,0,0,0]
[null,null,null,null,"RIIO post-vesting RAV disposals",null,"£m 09/10 prices",null,null,null,null,null,null,null,null,null,null,null,null,null,null,null,null,null,null,null,null,null,null,null,null,null,null,0,0,0,0,0,0,0,0]
[null,null,null,null,{"$f":"Input!E239","v":"Pre-RIIO transfers to depreciation"},null,"£m 09/10 prices",null,null,">",0,0,0,0,0,0,0,0,0,0,0,0,0,0,0,0,0,0,0,0,0,0,0]
[]
[null,null,"Project assets (except TIRG)"]
[]
[null,null,null,null,"PLUGS asset life",null,"years",null,null,">",null,null,null,null,null,null,null,null,null,null,null,null,null,null,null,30,30,30,30,30,30,30,18,18,18,18,18,18,18,18,18]
[null,null,null,null,"PLUGS net additions (after disposals)",null,"£m 09/10 prices",null,null,">",null,null,null,null,null,null,null,null,null,null,null,null,null,null,null,15.022818673044553,0,0,0,0,0,0,0]
[]
[null,null,null,null,"TOI accelerated post-vesting asset life",null,"years",null,20]
[null,null,null,null,"TOI net additions (after disposals)",null,"£m 09/10 prices",null,null,">",null,null,null,null,null,null,null,null,null,null,null,null,null,null,null,null,null,null,0,8.6999999999999993,36.890060354839697,43.182121414276168,101.8]
[null,null,null,null,"TOI deemed depreciation",null,"£m 09/10 prices",null,null,">",null,null,null,null,null,null,null,null,null,null,null,null,null,null,null,null,null,null,null,0,0.54996225992332037,3.5570244880530728]
[]
[null,null,null,null,"England-Scotland interconnector asset life applied",null,"years",null,null,">",null,null,null,null,null,null,null,null,null,null,null,null,null,null,null,29,29,29,29,29,29,29,17.5,17.5,17.5,17.5,17.5,17.5,17.5,17.5,17.5]
[null,null,null,null,"England-Scotland Interconnector net additions (after disposals)",null,"£m 09/10 prices",null,null,">",null,null,null,null,null,null,null,null,null,null,null,null,null,null,null,28.784179289573917,0,0,0,0,0,0,0]
[]
[null,null,null,null,"Logged-up items and secturity costs asset life",null,"years",null,20,">"]
[]
[null,null,null,null,"Logged-up items net additions (after disposals)",null,"£m 09/10 prices",null,null,">",null,null,null,null,null,null,null,null,null,null,null,null,null,null,0,0,0,0,0,0,0,0,0]
[]
[null,null,null,null,"Security costs net additions (after disposals)",null,"£m 09/10 prices",null,null,">",null,null,null,null,null,null,null,null,null,null,null,null,null,null,0,0,0,0,0.20091565143167525,5.7735040000000001E-2,0.89783322898038753,1.8181945858642599,0]
[]
[null,null,"TIRG"]
[]
[null,null,null,null,"TIRG asset life before transfer to RAV",null,"years",null,20]
[null,null,null,null,"Years from TIRG commissioning to RAV transfer",null,"years",null,5]
[]
[null,null,null,null,"Pre-RIIO TIRG allocation to \"General\" pool",null,"%",null,null,">",null,null,null,null,null,null,null,null,null,null,null,null,null,null,4.2000000000000003E-2,4.2000000000000003E-2,4.2000000000000003E-2,4.2000000000000003E-2,4.2000000000000003E-2,4.2000000000000003E-2,4.2000000000000003E-2,4.2000000000000003E-2,4.2000000000000003E-2]
[null,null,null,null,"Pre-RIIO TIRG allocation to \"Special Rate\" pool",null,"%",null,null,">",null,null,null,null,null,null,null,null,null,null,null,null,null,null,0.89100000000000001,0.89100000000000001,0.89100000000000001,0.89100000000000001,0.89100000000000001,0.89100000000000001,0.89100000000000001,0.89100000000000001,0.89100000000000001]
[]
[null,null,null,null,"TIRG commissioned in 2010 net additions (after disposals)",null,"£m 09/10 prices",null,null,">",null,null,null,null,null,null,null,null,null,null,null,null,null,null,4.7332122345374703,-4.1888882751478009,0.53856394042765598,1.5515960209340411,9.7444090944362483,5.2,0.11478741888950213,-0.31203155477686867]
[null,null,null,null,"TIRG commissioned in 2011 net additions (after disposals)",null,"£m 09/10 prices",null,null,">",null,null,null,null,null,null,null,null,null,null,null,null,null,null,0,0,0,0,0,0,0,0]
[null,null,null,null,"TIRG commissioned in 2012 net additions (after disposals)",null,"£m 09/10 prices",null,null,">",null,null,null,null,null,null,null,null,null,null,null,null,null,null,0,0,0,0,0,0,0,0,0]
[null,null,null,null,"TIRG commissioned in 2013 net additions (after disposals)",null,"£m 09/10 prices",null,null,">",null,null,null,null,null,null,null,null,null,null,null,null,null,null,0,0,0,0,0,0,0,0,0,0]
[null,null,null,null,"TIRG commissioned in 2014 net additions (after disposals)",null,"£m 09/10 prices",null,null,">",null,null,null,null,null,null,null,null,null,null,null,null,null,null,0,0,0,0,0,0,0,0,0,0,0]
[null,null,null,null,"TIRG commissioned in 2015 net additions (after disposals)",null,"£m 09/10 prices",null,null,">",null,null,null,null,null,null,null,null,null,null,null,null,null,null,0,0,0,0,0,0,0,0,0,0,0,0]
[null,null,null,null,"TIRG commissioned in 2016 net additions (after disposals)",null,"£m 09/10 prices",null,null,">",null,null,null,null,null,null,null,null,null,null,null,null,null,null,0,0,0,0,0,0,29.058157065606945,113.5,149.6,119.9,70.8,41.8,0]
[null,null,null,null,"TIRG commissioned in 2017 net additions (after disposals)",null,"£m 09/10 prices",null,null,">",null,null,null,null,null,null,null,null,null,null,null,null,null,null,0,0,0,0,0,0,0,0,0,0,0,0,0,0]
[]
[null,null,null,null,"TIRG commissioned in 2010 deemed depreciation",null,"£m 09/10 prices",null,null,">",null,null,null,null,null,null,null,null,null,null,null,null,null,null,0,0,0,0,0.13172419603756833,0.49884932234918933,0.84741597484004283,0.84741597484004283,0.84741597484004283,0.84741597484004283,0.84741597484004283]
[null,null,null,null,"TIRG commissioned in 2011 deemed depreciation",null,"£m 09/10 prices",null,null,">",null,null,null,null,null,null,null,null,null,null,null,null,null,null,0,0,0,0,0,0,0,0,0,0,0,0]
[null,null,null,null,"TIRG commissioned in 2012 deemed depreciation",null,"£m 09/10 prices",null,null,">",null,null,null,null,null,null,null,null,null,null,null,null,null,null,0,0,0,0,0,0,0,0,0,0,0,0,0]
[null,null,null,null,"TIRG commissioned in 2013 deemed depreciation",null,"£m 09/10 prices",null,null,">",null,null,null,null,null,null,null,null,null,null,null,null,null,null,0,0,0,0,0,0,0,0,0,0,0,0,0,0]
[null,null,null,null,"TIRG commissioned in 2014 deemed depreciation",null,"£m 09/10 prices",null,null,">",null,null,null,null,null,null,null,null,null,null,null,null,null,null,0,0,0,0,0,0,0,0,0,0,0,0,0,0,0]
[null,null,null,null,"TIRG commissioned in 2015 deemed depreciation",null,"£m 09/10 prices",null,null,">",null,null,null,null,null,null,null,null,null,null,null,null,null,null,0,0,0,0,0,0,0,0,0,0,0,0,0,0,0,0]
[null,null,null,null,"TIRG commissioned in 2016 deemed depreciation",null,"£m 09/10 prices",null,null,">",null,null,null,null,null,null,null,null,null,null,null,null,null,null,0,0,0,0,0,0,0,2.844587917441757,8.5784881743289905,13.45230339268314,12.781924444149169,23.772907853280348,22.096397264186173,22.096397264186173,22.096397264186173,22.096397264186173,22.096397264186173]
[null,null,null,null,"TIRG commissioned in 2017 deemed depreciation",null,"£m 09/10 prices",null,null,">",null,null,null,null,null,null,null,null,null,null,null,null,null,null,0,0,0,0,0,0,0,0,0,0,0,0,0,0,0,0,0]
[]
[null,null,null,null,"TIRG commissioned in 2010 revenue",null,"£m 09/10 prices",null,null,">",null,null,null,null,null,null,null,null,null,null,null,null,null,null,0,0,0,0,0.62130580666488677,1.5693494675319999,1.0450273311603191,1.013182909813432,0.99461293821442287,0.96324000000000431,0.92874400000000001]
[null,null,null,null,"TIRG commissioned in 2011 revenue",null,"£m 09/10 prices",null,null,">",null,null,null,null,null,null,null,null,null,null,null,null,null,null,0,0,0,0,0,0,0,0,0,0,0,0]
[null,null,null,null,"TIRG commissioned in 2012 revenue",null,"£m 09/10 prices",null,null,">",null,null,null,null,null,null,null,null,null,null,null,null,null,null,0,0,0,0,0,0,0,0,0,0,0,0,0]
[null,null,null,null,"TIRG commissioned in 2013 revenue",null,"£m 09/10 prices",null,null,">",null,null,null,null,null,null,null,null,null,null,null,null,null,null,0,0,0,0,0,0,0,0,0,0,0,0,0,0]
[null,null,null,null,"TIRG commissioned in 2014 revenue",null,"£m 09/10 prices",null,null,">",null,null,null,null,null,null,null,null,null,null,null,null,null,null,0,0,0,0,0,0,0,0,0,0,0,0,0,0,0]
[null,null,null,null,"TIRG commissioned in 2015 revenue",null,"£m 09/10 prices",null,null,">",null,null,null,null,null,null,null,null,null,null,null,null,null,null,0,0,0,0,0,0,0,0,0,0,0,0,0,0,0,0]
[null,null,null,null,"TIRG commissioned in 2016 revenue",null,"£m 09/10 prices",null,null,">",null,null,null,null,null,null,null,null,null,null,null,null,null,null,0,0,2.2511960861469325,3.4911926249210965,1.0253308347947538,4.8670929999999997,2.4820379118254401,12.06423626395399,30.426392161037352,45.875287999999998,60.387925289999998,67.049446733499991,63.831753044737546,61.763699314038135,59.695484142766446,57.627268971494786,55.559053800223097]
[null,null,null,null,"TIRG commissioned in 2017 revenue",null,"£m 09/10 prices",null,null,">",null,null,null,null,null,null,null,null,null,null,null,null,null,null,0,0,0,0,0,0,0,0,0,0,0,0,0,0,0,0,0]
[]
[null,"Tax"]
[]
[null,null,"Tax policy"]
[]
[null,null,null,null,{"$f":"E27","v":"Tax liability - gearing/interest costs"},null,"£m nominal",null,null,null,null,null,null,null,null,null,null,null,null,null,null,null,null,null,null,null,null,null,null,null,null,null,null,{"$f":"AH27","v":0},{"$f":"AI27","v":0},0,0,0,0,0,0]
[null,null,null,null,{"$f":"E28","v":"Tax liability - tax trigger events"},null,"£m 09/10 prices",null,null,null,null,null,null,null,null,null,null,null,null,null,null,null,null,null,null,null,null,null,null,null,null,null,null,{"$f":"AH28","v":0},0,0,0,0,0,0,0]
[]
[null,null,null,null,"Corporation tax rate",null,"%",null,null,">",null,null,null,null,null,null,null,null,null,null,null,null,null,null,0.3,0.3,0.3,0.3,0.28000000000000003,0.28000000000000003,0.28000000000000003,0.26,0.24,0.23,0.21,0.21,0.21,0.21,0.21,0.21,0.21]
[]
[null,null,null,null,"General pool capital allowance rate",null,"%",null,null,">",null,null,null,null,null,null,null,null,null,null,null,0.25,0.25,0.25,0.25,0.25,0.25,0.25,0.2,0.2,0.2,0.2,0.18000000000000002,0.18000000000000002,0.18000000000000002,0.18000000000000002,0.18000000000000002,0.18000000000000002,0.18000000000000002,0.18000000000000002,0.18000000000000002]
[null,null,null,null,"Special Rates capital allowance rate",null,"%",null,null,">",null,null,null,null,null,null,null,null,null,null,null,0.06,0.06,0.06,0.06,0.06,0.06,0.06,0.1,0.1,0.1,0.1,0.08,0.08,0.08,0.08,0.08,0.08,0.08,0.08,0.08]
[null,null,null,null,"Deferred Revenue Expenditure capital allowance rate",null,"%",null,null,">",null,null,null,null,null,null,null,null,null,null,null,null,null,null,null,null,null,null,null,null,null,null,null,0.03,0.03,0.03,0.03,0.03,0.03,0.03,0.03]
[]
[null,null,"Capital allowances and tax losses"]
[]
[null,null,null,null,"General pool capital allowance opening balance brought forward",null,"£m nominal",null,null,null,null,null,null,null,null,null,null,null,null,null,null,null,null,null,null,null,null,null,null,null,null,null,null,8.5366666049784907]
[]
[null,null,null,null,"Special Rate capital allowance opening balance brought forward",null,"£m nominal",null,null,null,null,null,null,null,null,null,null,null,null,null,null,null,null,null,null,null,null,null,null,null,null,null,null,335.82704723112369]
[]
[null,null,null,null,"Deferred revenue expenditure opening balance brought forward",null,"£m nominal",null,null,null,null,null,null,null,null,null,null,null,null,null,null,null,null,null,null,null,null,null,null,null,null,null,null,95.142559427112431]
[]
[null,null,null,null,"Tax loss brought forward",null,"£m nominal",null,null,null,null,null,null,null,null,null,null,null,null,null,null,null,null,null,null,null,null,null,null,null,null,null,null,0]
[]
[null,null,"Tax pool allocation"]
[]
[null,null,null,"Allocation to \"General\" pool"]
[]
[null,null,null,null,{"$f":"Input!E321","v":"Load related capex expenditure"},null,"%",null,null,null,null,null,null,null,null,null,null,null,null,null,null,null,null,null,null,null,null,null,null,null,null,null,null,4.2000000000000003E-2,4.2000000000000003E-2,4.2000000000000003E-2,4.2000000000000003E-2,4.2000000000000003E-2,4.2000000000000003E-2,4.2000000000000003E-2,4.2000000000000003E-2]
[null,null,null,null,{"$f":"Input!E322","v":"Asset replacement capex expenditure"},null,"%",null,null,null,null,null,null,null,null,null,null,null,null,null,null,null,null,null,null,null,null,null,null,null,null,null,null,9.9000000000000005E-2,9.9000000000000005E-2,9.9000000000000005E-2,9.9000000000000005E-2,9.9000000000000005E-2,9.9000000000000005E-2,9.9000000000000005E-2,9.9000000000000005E-2]
[null,null,null,null,{"$f":"Input!E323","v":"Other capex expenditure"},null,"%",null,null,null,null,null,null,null,null,null,null,null,null,null,null,null,null,null,null,null,null,null,null,null,null,null,null,9.9000000000000005E-2,9.9000000000000005E-2,9.9000000000000005E-2,9.9000000000000005E-2,9.9000000000000005E-2,9.9000000000000005E-2,9.9000000000000005E-2,9.9000000000000005E-2]
[null,null,null,null,{"$f":"Input!E324","v":"Opex"},null,"%",null,null,null,null,null,null,null,null,null,null,null,null,null,null,null,null,null,null,null,null,null,null,null,null,null,null,0,0,0,0,0,0,0,0]
[null,null,null,null,{"$f":"Input!E325","v":"Non Operational Capex"},null,"%",null,null,null,null,null,null,null,null,null,null,null,null,null,null,null,null,null,null,null,null,null,null,null,null,null,null,0.97799999999999998,0.97799999999999998,0.97799999999999998,0.97799999999999998,0.97799999999999998,0.97799999999999998,0.97799999999999998,0.97799999999999998]
[]
[null,null,null,"Allocation to \"Special Rate\" pool"]
[]
[null,null,null,null,{"$f":"Input!E329","v":"Load related capex expenditure"},null,"%",null,null,null,null,null,null,null,null,null,null,null,null,null,null,null,null,null,null,null,null,null,null,null,null,null,null,0.8909999999999999,0.8909999999999999,0.8909999999999999,0.8909999999999999,0.8909999999999999,0.8909999999999999,0.8909999999999999,0.8909999999999999]
[null,null,null,null,{"$f":"Input!E330","v":"Asset replacement capex expenditure"},null,"%",null,null,null,null,null,null,null,null,null,null,null,null,null,null,null,null,null,null,null,null,null,null,null,null,null,null,8.2000000000000003E-2,8.2000000000000003E-2,8.2000000000000003E-2,8.2000000000000003E-2,8.2000000000000003E-2,8.2000000000000003E-2,8.2000000000000003E-2,8.2000000000000003E-2]
[null,null,null,null,{"$f":"Input!E331","v":"Other capex expenditure"},null,"%",null,null,null,null,null,null,null,null,null,null,null,null,null,null,null,null,null,null,null,null,null,null,null,null,null,null,8.2000000000000003E-2,8.2000000000000003E-2,8.2000000000000003E-2,8.2000000000000003E-2,8.2000000000000003E-2,8.2000000000000003E-2,8.2000000000000003E-2,8.2000000000000003E-2]
[null,null,null,null,{"$f":"Input!E332","v":"Opex"},null,"%",null,null,null,null,null,null,null,null,null,null,null,null,null,null,null,null,null,null,null,null,null,null,null,null,null,null,0,0,0,0,0,0,0,0]
[null,null,null,null,{"$f":"Input!E333","v":"Non Operational Capex"},null,"%",null,null,null,null,null,null,null,null,null,null,null,null,null,null,null,null,null,null,null,null,null,null,null,null,null,null,0,0,0,0,0,0,0,0]
[]
[null,null,null,"Allocation to \"Deferred Revenue\" pool"]
[]
[null,null,null,null,{"$f":"Input!E337","v":"Load related capex expenditure"},null,"%",null,null,null,null,null,null,null,null,null,null,null,null,null,null,null,null,null,null,null,null,null,null,null,null,null,null,0,0,0,0,0,0,0,0]
[null,null,null,null,{"$f":"Input!E338","v":"Asset replacement capex expenditure"},null,"%",null,null,null,null,null,null,null,null,null,null,null,null,null,null,null,null,null,null,null,null,null,null,null,null,null,null,0.80200000000000005,0.80200000000000005,0.80200000000000005,0.80200000000000005,0.80200000000000005,0.80200000000000005,0.80200000000000005,0.80200000000000005]
[null,null,null,null,{"$f":"Input!E339","v":"Other capex expenditure"},null,"%",null,null,null,null,null,null,null,null,null,null,null,null,null,null,null,null,null,null,null,null,null,null,null,null,null,null,0.80200000000000005,0.80200000000000005,0.80200000000000005,0.80200000000000005,0.80200000000000005,0.80200000000000005,0.80200000000000005,0.80200000000000005]
[null,null,null,null,{"$f":"Input!E340","v":"Opex"},null,"%",null,null,null,null,null,null,null,null,null,null,null,null,null,null,null,null,null,null,null,null,null,null,null,null,null,null,0,0,0,0,0,0,0,0]
[null,null,null,null,{"$f":"Input!E341","v":"Non Operational Capex"},null,"%",null,null,null,null,null,null,null,null,null,null,null,null,null,null,null,null,null,null,null,null,null,null,null,null,null,null,0,0,0,0,0,0,0,0]
[]
[null,null,null,"Allocation to \"Revenue\" pool"]
[]
[null,null,null,null,{"$f":"Input!E345","v":"Load related capex expenditure"},null,"%",null,null,null,null,null,null,null,null,null,null,null,null,null,null,null,null,null,null,null,null,null,null,null,null,null,null,0,0,0,0,0,0,0,0]
[null,null,null,null,{"$f":"Input!E346","v":"Asset replacement capex expenditure"},null,"%",null,null,null,null,null,null,null,null,null,null,null,null,null,null,null,null,null,null,null,null,null,null,null,null,null,null,0,0,0,0,0,0,0,0]
[null,null,null,null,{"$f":"Input!E347","v":"Other capex expenditure"},null,"%",null,null,null,null,null,null,null,null,null,null,null,null,null,null,null,null,null,null,null,null,null,null,null,null,null,null,0,0,0,0,0,0,0,0]
[null,null,null,null,{"$f":"Input!E348","v":"Opex"},null,"%",null,null,null,null,null,null,null,null,null,null,null,null,null,null,null,null,null,null,null,null,null,null,null,null,null,null,1,1,1,1,1,1,1,1]
[null,null,null,null,{"$f":"Input!E349","v":"Non Operational Capex"},null,"%",null,null,null,null,null,null,null,null,null,null,null,null,null,null,null,null,null,null,null,null,null,null,null,null,null,null,0,0,0,0,0,0,0,0]
[]
[null,null,null,"Allocation to \"Non Qualifying\" pool"]
[]
[null,null,null,null,{"$f":"Input!E353","v":"Load related capex expenditure"},null,"%",null,null,null,null,null,null,null,null,null,null,null,null,null,null,null,null,null,null,null,null,null,null,null,null,null,null,6.7000000000000004E-2,6.7000000000000004E-2,6.7000000000000004E-2,6.7000000000000004E-2,6.7000000000000004E-2,6.7000000000000004E-2,6.7000000000000004E-2,6.7000000000000004E-2]
[null,null,null,null,{"$f":"Input!E354","v":"Asset replacement capex expenditure"},null,"%",null,null,null,null,null,null,null,null,null,null,null,null,null,null,null,null,null,null,null,null,null,null,null,null,null,null,1.7000000000000001E-2,1.7000000000000001E-2,1.7000000000000001E-2,1.7000000000000001E-2,1.7000000000000001E-2,1.7000000000000001E-2,1.7000000000000001E-2,1.7000000000000001E-2]
[null,null,null,null,{"$f":"Input!E355","v":"Other capex expenditure"},null,"%",null,null,null,null,null,null,null,null,null,null,null,null,null,null,null,null,null,null,null,null,null,null,null,null,null,null,1.7000000000000001E-2,1.7000000000000001E-2,1.7000000000000001E-2,1.7000000000000001E-2,1.7000000000000001E-2,1.7000000000000001E-2,1.7000000000000001E-2,1.7000000000000001E-2]
[null,null,null,null,{"$f":"Input!E356","v":"Opex"},null,"%",null,null,null,null,null,null,null,null,null,null,null,null,null,null,null,null,null,null,null,null,null,null,null,null,null,null,0,0,0,0,0,0,0,0]
[null,null,null,null,{"$f":"Input!E357","v":"Non Operational Capex"},null,"%",null,null,null,null,null,null,null,null,null,null,null,null,null,null,null,null,null,null,null,null,null,null,null,null,null,null,2.1999999999999999E-2,2.1999999999999999E-2,2.1999999999999999E-2,2.1999999999999999E-2,2.1999999999999999E-2,2.1999999999999999E-2,2.1999999999999999E-2,2.1999999999999999E-2]
[]
[null,null,null,"Allocation check"]
[null,null,null,"Note: All categories should equal 100%"]
[]
[null,null,null,null,{"$f":"Input!E362","v":"Load related capex expenditure"},null,"%",null,null,null,null,null,null,null,null,null,null,null,null,null,null,null,null,null,null,null,null,null,null,null,null,null,null,{"$f":"AH321+AH329+AH337+AH345+AH353","v":1},1,1,1,1,1,1,1]
[null,null,null,null,{"$f":"Input!E363","v":"Asset replacement capex expenditure"},null,"%",null,null,null,null,null,null,null,null,null,null,null,null,null,null,null,null,null,null,null,null,null,null,null,null,null,null,1,1,1,1,1,1,1,1]
[null,null,null,null,{"$f":"Input!E364","v":"Other capex expenditure"},null,"%",null,null,null,null,null,null,null,null,null,null,null,null,null,null,null,null,null,null,null,null,null,null,null,null,null,null,1,1,1,1,1,1,1,1]
[null,null,null,null,{"$f":"Input!E365","v":"Opex"},null,"%",null,null,null,null,null,null,null,null,null,null,null,null,null,null,null,null,null,null,null,null,null,null,null,null,null,null,1,1,1,1,1,1,1,1]
[null,null,null,null,{"$f":"Input!E366","v":"Non Operational Capex"},null,"%",null,null,null,null,null,null,null,null,null,null,null,null,null,null,null,null,null,null,null,null,null,null,null,null,null,null,1,1,1,1,1,1,1,1]
[]
[null,null,null,"Tax Trigger Deadbands"]
[]
[null,null,null,null,"Tax Trigger Deadband",null,null,null,null,null,null,null,null,null,null,null,null,null,null,null,null,null,null,null,null,null,null,null,null,null,null,null,null,0.53301284394067427,0.77005073153817072,0.91811698903634509,0.98402739521523697,1.019281906400145,1.0702234046885168,1.1367784542223225,1.2276774950292959]
[]
[null,null,null,"Additional Income Workings"]
[]
[null,null,null,null,"Original allowed totex",null,null,null,null,null,null,null,null,null,null,null,null,null,null,null,null,null,null,null,null,null,null,null,null,null,null,null,null,129.57510668281503,134.68234056348302,154.32029699497519,102.68694959553591,77.209520653493584,77.98723695946309,78.731745655837429,76.338955500590913]
[null,null,null,null,"Total allowed totex",null,null,null,831.53215260619413]
[]
[null,"End of sheet"]

{"sheet":"SHE-Transmission PLC (Blank - )","index":19,"n_rows":0,"n_cols":0,"rows_kept":0,"cut":false,"hidden":true,"merged":[]}

{"sheet":"SPTL","index":20,"n_rows":377,"n_cols":41,"rows_kept":377,"cut":false,"hidden":false,"merged":[]}
["Input"]
[null,"SPTL"]
[null,null,null,null,"Parameter","Licence condition","Units","Term","Constant",null,null,null,null,null,null,null,null,null,null,null,null,null,null,null,null,null,null,null,null,null,null,null,null,"Annual values"]
[null,null,null,null,"PCFM year ending",{"$f":"Cover!C3","v":"ET1 PCFM November 2014 change control 18 (SO Data Centre).xlsm"},null,null,{"$f":"UserInterface!$G$18","v":"2016-03-31"},null,"1991-03-31","1992-03-31","1993-03-31","1994-03-31","1995-03-31","1996-03-31","1997-03-31","1998-03-31","1999-03-31","2000-03-31","2001-03-31","2002-03-31","2003-03-31","2004-03-31","2005-03-31","2006-03-31","2007-03-31","2008-03-31","2009-03-31","2010-03-31","2011-03-31","2012-03-31","2013-03-31","2014-03-31","2015-03-31","2016-03-31","2017-03-31","2018-03-31","2019-03-31","2020-03-31","2021-03-31"]
[]
[null,"PCFM Variable Values Table"]
[]
[null,null,null,null,{"$f":"Input!E8","v":"Allowed percentage cost of debt"},{"$f":"Input!F8","v":"6D"},"annual real %",{"$f":"Input!H8","v":"CDE / SO CDE"},null,null,null,null,null,null,null,null,null,null,null,null,null,null,null,null,null,null,null,null,null,null,null,null,null,2.92E-2,2.7199999999999998E-2,2.5499999999999998E-2,2.5499999999999998E-2,2.5499999999999998E-2,2.5499999999999998E-2,2.5499999999999998E-2,2.5499999999999998E-2]
[null,null,null,null,{"$f":"Input!E9","v":"Actual load related capex expenditure"},{"$f":"Input!F9","v":"6C"},"£m 09/10 prices",{"$f":"Input!H9","v":"ALC"},null,null,null,null,null,null,null,null,null,null,null,null,null,null,null,null,null,null,null,null,null,null,null,null,null,104.41316928102405,0,0,0,0,0,0,0]
[null,null,null,null,{"$f":"Input!E10","v":"Actual asset replacement capex expenditure"},{"$f":"Input!F10","v":"6C"},"£m 09/10 prices",{"$f":"Input!H10","v":"ARC"},null,null,null,null,null,null,null,null,null,null,null,null,null,null,null,null,null,null,null,null,null,null,null,null,null,64.553796849725117,0,0,0,0,0,0,0]
[null,null,null,null,{"$f":"Input!E11","v":"Actual other capex expenditure"},{"$f":"Input!F11","v":"6C"},"£m 09/10 prices",{"$f":"Input!H11","v":"AOC"},null,null,null,null,null,null,null,null,null,null,null,null,null,null,null,null,null,null,null,null,null,null,null,null,null,15.986544609315883,0,0,0,0,0,0,0]
[null,null,null,null,{"$f":"Input!E12","v":"Actual controllable opex"},{"$f":"Input!F12","v":"6C"},"£m 09/10 prices",{"$f":"Input!H12","v":"ACO"},null,null,null,null,null,null,null,null,null,null,null,null,null,null,null,null,null,null,null,null,null,null,null,null,null,21.945954800408128,0,0,0,0,0,0,0]
[null,null,null,null,{"$f":"Input!E13","v":"Actual non-operational capex"},{"$f":"Input!F13","v":"6C"},"£m 09/10 prices",{"$f":"Input!H13","v":"ANC"},null,null,null,null,null,null,null,null,null,null,null,null,null,null,null,null,null,null,null,null,null,null,null,null,null,1.1927569128155358,0,0,0,0,0,0,0]
[null,null,null,null,{"$f":"Input!E14","v":"Uncertain costs - enhanced security"},{"$f":"Input!F14","v":"6H"},"£m 09/10 prices",{"$f":"Input!H14","v":"IAEEPS"},null,null,null,null,null,null,null,null,null,null,null,null,null,null,null,null,null,null,null,null,null,null,null,null,null,0,0,0,0,0,0,0,0]
[null,null,null,null,{"$f":"Input!E15","v":"Uncertain costs – workforce renewal (SPTL only)"},{"$f":"Input!F15","v":"6H"},"£m 09/10 prices",{"$f":"Input!H15","v":"IAEWR"},null,null,null,null,null,null,null,null,null,null,null,null,null,null,null,null,null,null,null,null,null,null,null,null,null,0,0,0,0,0,0,0,0]
[null,null,null,null,{"$f":"Input!E16","v":"Uncertain costs – BT 21st Century (SHETPLC only)"},{"$f":"Input!F16","v":"6H"},"£m 09/10 prices",{"$f":"Input!H16","v":"IAEBT"},null,null,null,null,null,null,null,null,null,null,null,null,null,null,null,null,null,null,null,null,null,null,null,null,null,0,0,0,0,0,0,0,0]
[null,null,null,null,{"$f":"Input!E17","v":"Uncertain costs – compensation costs for landowners for wayleave (SHETPLC only)"},{"$f":"Input!F17","v":"6H"},"£m 09/10 prices",{"$f":"Input!H17","v":"IAEWL"},null,null,null,null,null,null,null,null,null,null,null,null,null,null,null,null,null,null,null,null,null,null,null,null,null,0,0,0,0,0,0,0,0]
[null,null,null,null,{"$f":"Input!E18","v":"Baseline and strategic wider works outputs"},{"$f":"Input!F18","v":"6I"},"£m 09/10 prices",{"$f":"Input!H18","v":"WWE"},null,null,null,null,null,null,null,null,null,null,null,null,null,null,null,null,null,null,null,null,null,null,null,null,null,85.573505518264014,122.42618674967096,111.1344941866744,12.453095388965583,0,0,0,0]
[null,null,null,null,{"$f":"Input!E19","v":"Network development and wider works volume driver (NGET only)"},{"$f":"Input!F19","v":"6J"},"£m 09/10 prices",{"$f":"Input!H19","v":"WWI"},null,null,null,null,null,null,null,null,null,null,null,null,null,null,null,null,null,null,null,null,null,null,null,null,null,0,0,0,0,0,0,0,0]
[null,null,null,null,{"$f":"Input!E20","v":"Enhancements to pre-existing infrastructure"},{"$f":"Input!F20","v":"6G"},"£m 09/10 prices",{"$f":"Input!H20","v":"EPIE"},null,null,null,null,null,null,null,null,null,null,null,null,null,null,null,null,null,null,null,null,null,null,null,null,null,0,0,0,0,0,0,0,0]
[null,null,null,null,{"$f":"Input!E21","v":"Demand related infrastructure volume driver"},{"$f":"Input!F21","v":"6L"},"£m 09/10 prices",{"$f":"Input!H21","v":"DRI"},null,null,null,null,null,null,null,null,null,null,null,null,null,null,null,null,null,null,null,null,null,null,null,null,null,0,0,0,0,0,0,0,0]
[null,null,null,null,{"$f":"Input!E22","v":"Undergrounding volume driver"},{"$f":"Input!F22","v":"6K"},"£m 09/10 prices",{"$f":"Input!H22","v":"UCE"},null,null,null,null,null,null,null,null,null,null,null,null,null,null,null,null,null,null,null,null,null,null,null,null,null,0,0,0,0,0,0,0,0]
[null,null,null,null,{"$f":"Input!E23","v":"Generation connections volume driver"},{"$f":"Input!F23","v":"6F"},"£m 09/10 prices",{"$f":"Input!H23","v":"GCE"},null,null,null,null,null,null,null,null,null,null,null,null,null,null,null,null,null,null,null,null,null,null,null,null,null,66.83207800000001,62.404211534858305,32.716809463771142,2.941879610898035,4.5687612111703304,5.4516061692453244,5.9137244522768881,2.7966359128457778]
[null,null,null,null,{"$f":"Input!E24","v":"Innovation roll out mechanism"},{"$f":"Input!F24","v":"6E"},"£m 09/10 prices",{"$f":"Input!H24","v":"IRM"},null,null,null,null,null,null,null,null,null,null,null,null,null,null,null,null,null,null,null,null,null,null,null,null,null,0,0,0,0,0,0,0,0]
[null,null,null,null,{"$f":"Input!E25","v":"Exceptional Sub Sea Cable Faults"},{"$f":"Input!F25","v":"6H"},"£m 09/10 prices",{"$f":"Input!H25","v":"IAESSCM"},null,null,null,null,null,null,null,null,null,null,null,null,null,null,null,null,null,null,null,null,null,null,null,null,null,0,0,0,0,0,0,0,0]
[null,null,null,null,{"$f":"Input!E26","v":"Non-load Related Work Costs"},{"$f":"Input!F26","v":"6H"},"£m 09/10 prices",{"$f":"Input!H26","v":"IAENLUM"},null,null,null,null,null,null,null,null,null,null,null,null,null,null,null,null,null,null,null,null,null,null,null,null,null,0,0,0,0,0,0,0,0]
[null,null,null,null,{"$f":"Input!E27","v":"Tax liability - gearing/interest costs"},{"$f":"Input!F27","v":"6D"},"£m nominal",{"$f":"Input!H27","v":"TGIE"},null,null,null,null,null,null,null,null,null,null,null,null,null,null,null,null,null,null,null,null,null,null,null,null,null,0,0,0,0,0,0,0,0]
[null,null,null,null,{"$f":"Input!E28","v":"Tax liability - tax trigger events"},{"$f":"Input!F28","v":"6D"},"£m 09/10 prices",{"$f":"Input!H28","v":"TTE"},null,null,null,null,null,null,null,null,null,null,null,null,null,null,null,null,null,null,null,null,null,null,null,null,null,0,0,0,0,0,0,0,0]
[null,null,null,null,{"$f":"Input!E29","v":"Pension scheme administration and Pension Protection Fund Levy"},{"$f":"Input!F29","v":"6D"},"£m 09/10 prices",{"$f":"Input!H29","v":"APFE"},null,null,null,null,null,null,null,null,null,null,null,null,null,null,null,null,null,null,null,null,null,null,null,null,null,5.5843547983858599E-2,5.5843547983858585E-2,5.5843547983858585E-2,5.5843547983858585E-2,5.5843547983858585E-2,5.5843547983858585E-2,5.5843547983858585E-2,5.5843547983858585E-2]
[null,null,null,null,{"$f":"Input!E30","v":"Pension Scheme Established Deficit"},{"$f":"Input!F30","v":"6D"},"£m 09/10 prices",{"$f":"Input!H30","v":"EDE"},null,null,null,null,null,null,null,null,null,null,null,null,null,null,null,null,null,null,null,null,null,null,null,null,null,0.16469478783598299,0.16469478783598263,2.1312675492218407,2.1312675492218407,2.1312675492218407,2.1312675492218407,2.1312675492218407,2.1312675492218407]
[null,null,null,null,{"$f":"Input!E31","v":"Legacy price control adjustments to allowed revenue"},{"$f":"Input!F31","v":"6A"},"£m 09/10 prices",{"$f":"Input!H31","v":"LAR"},null,null,null,null,null,null,null,null,null,null,null,null,null,null,null,null,null,null,null,null,null,null,null,null,null,11.468868270530757]
[null,null,null,null,{"$f":"Input!E32","v":"Legacy price control adjustments to RAV"},{"$f":"Input!F32","v":"6A"},"£m 09/10 prices",{"$f":"Input!H32","v":"LRAV"},null,null,null,null,null,null,null,null,null,null,null,null,null,null,null,null,null,null,null,null,null,null,null,null,null,-28.942771089505438]
[]
[null,"Policy"]
[]
[null,null,"Cost of capital"]
[]
[null,null,null,null,"Cost of debt",null,"annual real %",null,null,">",null,null,null,null,null,null,null,null,null,null,null,null,null,null,null,null,null,null,null,null,null,null,null,{"$f":"AH8","v":2.92E-2},2.7199999999999998E-2,2.5499999999999998E-2,2.5499999999999998E-2,2.5499999999999998E-2,2.5499999999999998E-2,2.5499999999999998E-2,2.5499999999999998E-2]
[null,null,null,null,"Cost of equity",null,"annual real %",null,null,">",null,null,null,null,null,null,null,null,null,null,null,null,null,null,null,null,null,null,null,null,null,null,null,7.0000000000000007E-2,7.0000000000000007E-2,7.0000000000000007E-2,7.0000000000000007E-2,7.0000000000000007E-2,7.0000000000000007E-2,7.0000000000000007E-2,7.0000000000000007E-2]
[null,null,null,null,"Notional gearing",null,"%",null,null,">",null,null,null,null,null,null,null,null,null,null,null,null,null,null,null,null,null,null,null,null,null,null,0.55000000000000004,0.55000000000000004,0.55000000000000004,0.55000000000000004,0.55000000000000004,0.55000000000000004,0.55000000000000004,0.55000000000000004,0.55000000000000004]
[]
[null,null,null,null,"Vanilla WACC",null,"annual real %",null,null,">",null,null,null,null,null,null,null,null,null,null,null,null,null,null,null,null,null,null,null,null,null,null,null,{"$f":"(AH38 * AH40) + (AH39 * (1 - AH40))","v":4.7560000000000005E-2},4.6460000000000001E-2,4.5525000000000003E-2,4.5525000000000003E-2,4.5525000000000003E-2,4.5525000000000003E-2,4.5525000000000003E-2,4.5525000000000003E-2]
[]
[null,null,null,null,"Closing gearing",null,"%",null,0.6]
[]
[null,null,null,null,"Forecast RPI (simple average year to March)",null,"index value",null,null,">",null,null,null,null,null,null,null,null,null,null,null,173.875,177.517,182.47499999999999,188.15,193.108,200.31700000000001,208.59200000000001,214.78299999999999,215.767,226.47499999999999,{"$f":"ROUND(AVERAGE(234.4,235.2,235.2,234.7,236.1,237.9,238,238.5,239.4,238,239.9,240.8),3)","v":237.34200000000001},{"$f":"ROUND(AF46*(1+2.8%),3)","v":243.988},{"$f":"ROUND(AG46*(1+2.8%),3)","v":250.82},257.84300000000002,265.06299999999999,272.48500000000001,280.11500000000001,287.95800000000003,296.02100000000002,304.31]
[null,null,null,null,"Cost of Debt Inflation",null,"index value",null,null,">",null,null,null,null,null,null,null,null,null,null,null,173.875,177.517,182.47499999999999,188.15,193.108,200.31700000000001,208.59200000000001,214.78299999999999,215.767,226.47499999999999,{"$f":"ROUND(AVERAGE(234.4,235.2,235.2,234.7,236.1,237.9,238,238.5,239.4,238,239.9,240.8),3)","v":237.34200000000001},{"$f":"ROUND(AF47*(1+2.8%),3)","v":243.988},250.82,257.84300000000002,265.06299999999999,272.48500000000001,280.11500000000001,287.95800000000003,296.02100000000002,304.31]
[null,null,"TIM and capitalisation"]
[]
[null,null,null,null,"Years from t until normal reporting of actual costs",null,"years",null,2]
[]
[null,null,null,null,"Capitalised share of totex",null,"%",null,null,null,null,null,null,null,null,null,null,null,null,null,null,null,null,null,null,null,null,null,null,null,null,null,null,0.9,0.9,0.9,0.9,0.9,0.9,0.9,0.9]
[null,null,null,null,"Capitalised share of wider works",null,"%",null,null,null,null,null,null,null,null,null,null,null,null,null,null,null,null,null,null,null,null,null,null,null,null,null,null,0.9,0.9,0.9,0.9,0.9,0.9,0.9,0.9]
[]
[null,null,null,null,"Incentive rate (slope)",null,"scalar",null,-2.5000000000000001E-3]
[null,null,null,null,"Incentive rate (intercept)",null,"scalar",null,0.75]
[null,null,null,null,"Additional income (intercept)",null,"scalar",null,8.75]
[null,null,null,null,"Additional Income (adjustment)",null,"£m 09/10 prices",null,null,null,null,null,null,null,null,null,null,null,null,null,null,null,null,null,null,null,null,null,null,null,null,null,null,2.7,-9,14.4,3.6,3.5,3.4,3.1,2.1]
[null,null,null,null,"Weight of Ofgem's view on price control totex",null,"%",null,0.75]
[null,null,null,null,"Weight of operator's view on price control totex",null,"%",null,0.25]
[]
[null,null,null,null,"Ofgem's view of  licencee totex",null,"£m 09/10 prices",null,1757]
[null,null,null,null,"Operator's view of licencee totex",null,"£m 09/10 prices",null,1757]
[]
[null,null,null,null,"Ofgem's view of group price control totex",null,"£m 09/10 prices",null,1757]
[null,null,null,null,"Operator's view of group price control totex",null,"£m 09/10 prices",null,1757]
[]
[null,null,"Finance"]
[]
[null,null,null,null,"Minimum equity issuance threshold",null,"%",null,0]
[null,null,null,null,"Equity issuance costs",null,"%",null,0.05]
[null,null,null,null,"Assumed dividends as % of notional equity portion of RAV",null,"%",null,0.05]
[]
[null,null,null,null,"Equity issuance gearing target",null,"%",null,null,null,null,null,null,null,null,null,null,null,null,null,null,null,null,null,null,null,null,null,null,null,null,null,null,0.55000000000000004,0.49125000000000002,0.55910000000000004,0.58379999999999999,0.59399999999999997,0.59909999999999997,0.60399999999999998,0.60499999999999998]
[]
[null,null,null,null,"Index-linked debt as a percentage of net debt",null,"%",null,null,null,null,null,null,null,null,null,null,null,null,null,null,null,null,null,null,null,null,null,null,null,null,null,null,0,0,0,0,0,0,0,0]
[]
[null,"Expenditure"]
[]
[null,null,"Totex"]
[]
[null,null,null,"Non-variant allowances"]
[]
[null,null,null,null,{"$f":"Input!E84","v":"Non-variant allowed load related capex expenditure"},null,"£m 09/10 prices",null,null,null,null,null,null,null,null,null,null,null,null,null,null,null,null,null,null,null,null,null,null,null,null,null,null,74.801022335228481,115.58798925210138,58.859204390599359,11.558166669448887,11.651971525440176,17.056850728146827,24.447150527708153,15.37540871274012]
[null,null,null,null,{"$f":"Input!E85","v":"Non-variant allowed asset replacement capex expenditure"},null,"£m 09/10 prices",null,null,null,null,null,null,null,null,null,null,null,null,null,null,null,null,null,null,null,null,null,null,null,null,null,null,0,0,0,0,0,0,0,0]
[null,null,null,null,{"$f":"Input!E86","v":"Non-variant allowed other capex expenditure"},null,"£m 09/10 prices",null,null,null,null,null,null,null,null,null,null,null,null,null,null,null,null,null,null,null,null,null,null,null,null,null,null,66.805627624948158,68.905466320196169,70.499902871065302,81.810894137936117,90.590422547469544,89.876775789529205,96.857250488888141,78.323132925190052]
[null,null,null,null,{"$f":"Input!E87","v":"Non-variant allowed controllable opex"},null,"£m 09/10 prices",null,null,null,null,null,null,null,null,null,null,null,null,null,null,null,null,null,null,null,null,null,null,null,null,null,null,17.416201614205271,17.462105167911197,17.93724437105174,19.630555918642816,19.829737931406093,19.521178698055422,21.032949582608545,21.402590605417135]
[null,null,null,null,{"$f":"Input!E88","v":"Non-variant allowed non-operational capex"},null,"£m 09/10 prices",null,null,null,null,null,null,null,null,null,null,null,null,null,null,null,null,null,null,null,null,null,null,null,null,null,null,0.89999999999999991,0.89999999999999991,0.89999999999999991,0.89999999999999991,0.89999999999999991,0.89999999999999991,0.89999999999999991,0.89999999999999991]
[]
[null,null,null,"Variant allowances"]
[]
[null,null,null,null,{"$f":"Input!E92","v":"Uncertain costs - enhanced security"},null,"£m 09/10 prices",null,null,null,null,null,null,null,null,null,null,null,null,null,null,null,null,null,null,null,null,null,null,null,null,null,null,{"$f":"AH14","v":0},{"$f":"AI14","v":0},0,0,0,0,0,0]
[null,null,null,null,{"$f":"Input!E93","v":"Allocation to load related capex expenditure"},null,"%",null,null,null,null,null,null,null,null,null,null,null,null,null,null,null,null,null,null,null,null,null,null,null,null,null,null,0,0,0,0,0,0,0,0]
[null,null,null,null,{"$f":"Input!E94","v":"Allocation to asset replacement capex expenditure"},null,"%",null,null,null,null,null,null,null,null,null,null,null,null,null,null,null,null,null,null,null,null,null,null,null,null,null,null,0,0,0,0,0,0,0,0]
[null,null,null,null,{"$f":"Input!E95","v":"Allocation to other capex expenditure"},null,"%",null,null,null,null,null,null,null,null,null,null,null,null,null,null,null,null,null,null,null,null,null,null,null,null,null,null,1,1,1,1,1,1,1,1]
[null,null,null,null,{"$f":"Input!E96","v":"Allocation to controllable opex"},null,"%",null,null,null,null,null,null,null,null,null,null,null,null,null,null,null,null,null,null,null,null,null,null,null,null,null,null,0,0,0,0,0,0,0,0]
[null,null,null,null,{"$f":"Input!E97","v":"Allocation to non-operational capex"},null,"%",null,null,null,null,null,null,null,null,null,null,null,null,null,null,null,null,null,null,null,null,null,null,null,null,null,null,0,0,0,0,0,0,0,0]
[]
[null,null,null,null,{"$f":"Input!E99","v":"Uncertain costs – workforce renewal (SPTL only)"},null,"£m 09/10 prices",null,null,null,null,null,null,null,null,null,null,null,null,null,null,null,null,null,null,null,null,null,null,null,null,null,null,{"$f":"AH15","v":0},{"$f":"AI15","v":0},{"$f":"AJ15","v":0},0,0,0,0,0]
[null,null,null,null,{"$f":"Input!E100","v":"Allocation to load related capex expenditure"},null,"%",null,null,null,null,null,null,null,null,null,null,null,null,null,null,null,null,null,null,null,null,null,null,null,null,null,null,0,0,0,0,0,0,0,0]
[null,null,null,null,{"$f":"Input!E101","v":"Allocation to asset replacement capex expenditure"},null,"%",null,null,null,null,null,null,null,null,null,null,null,null,null,null,null,null,null,null,null,null,null,null,null,null,null,null,0,0,0,0,0,0,0,0]
[null,null,null,null,{"$f":"Input!E102","v":"Allocation to other capex expenditure"},null,"%",null,null,null,null,null,null,null,null,null,null,null,null,null,null,null,null,null,null,null,null,null,null,null,null,null,null,1,1,1,1,1,1,1,1]
[null,null,null,null,{"$f":"Input!E103","v":"Allocation to controllable opex"},null,"%",null,null,null,null,null,null,null,null,null,null,null,null,null,null,null,null,null,null,null,null,null,null,null,null,null,null,0,0,0,0,0,0,0,0]
[null,null,null,null,{"$f":"Input!E104","v":"Allocation to non-operational capex"},null,"%",null,null,null,null,null,null,null,null,null,null,null,null,null,null,null,null,null,null,null,null,null,null,null,null,null,null,0,0,0,0,0,0,0,0]
[]
[null,null,null,null,{"$f":"Input!E106","v":"Uncertain costs – BT 21st Century (SHETPLC only)"},null,"£m 09/10 prices",null,null,null,null,null,null,null,null,null,null,null,null,null,null,null,null,null,null,null,null,null,null,null,null,null,null,{"$f":"AH16","v":0},{"$f":"AI16","v":0},0,0,0,0,0,0]
[null,null,null,null,{"$f":"Input!E107","v":"Allocation to load related capex expenditure"},null,"%",null,null,null,null,null,null,null,null,null,null,null,null,null,null,null,null,null,null,null,null,null,null,null,null,null,null,0,0,0,0,0,0,0,0]
[null,null,null,null,{"$f":"Input!E108","v":"Allocation to asset replacement capex expenditure"},null,"%",null,null,null,null,null,null,null,null,null,null,null,null,null,null,null,null,null,null,null,null,null,null,null,null,null,null,0,0,0,0,0,0,0,0]
[null,null,null,null,{"$f":"Input!E109","v":"Allocation to other capex expenditure"},null,"%",null,null,null,null,null,null,null,null,null,null,null,null,null,null,null,null,null,null,null,null,null,null,null,null,null,null,1,1,1,1,1,1,1,1]
[null,null,null,null,{"$f":"Input!E110","v":"Allocation to controllable opex"},null,"%",null,null,null,null,null,null,null,null,null,null,null,null,null,null,null,null,null,null,null,null,null,null,null,null,null,null,0,0,0,0,0,0,0,0]
[null,null,null,null,{"$f":"Input!E111","v":"Allocation to non-operational capex"},null,"%",null,null,null,null,null,null,null,null,null,null,null,null,null,null,null,null,null,null,null,null,null,null,null,null,null,null,0,0,0,0,0,0,0,0]
[]
[null,null,null,null,{"$f":"Input!E113","v":"Uncertain costs – compensation costs for landowners for wayleave (SHETPLC only)"},null,"£m 09/10 prices",null,null,null,null,null,null,null,null,null,null,null,null,null,null,null,null,null,null,null,null,null,null,null,null,null,null,{"$f":"AH17","v":0},{"$f":"AI17","v":0},0,0,0,0,0,0]
[null,null,null,null,{"$f":"Input!E114","v":"Allocation to load related capex expenditure"},null,"%",null,null,null,null,null,null,null,null,null,null,null,null,null,null,null,null,null,null,null,null,null,null,null,null,null,null,0,0,0,0,0,0,0,0]
[null,null,null,null,{"$f":"Input!E115","v":"Allocation to asset replacement capex expenditure"},null,"%",null,null,null,null,null,null,null,null,null,null,null,null,null,null,null,null,null,null,null,null,null,null,null,null,null,null,0,0,0,0,0,0,0,0]
[null,null,null,null,{"$f":"Input!E116","v":"Allocation to other capex expenditure"},null,"%",null,null,null,null,null,null,null,null,null,null,null,null,null,null,null,null,null,null,null,null,null,null,null,null,null,null,1,1,1,1,1,1,1,1]
[null,null,null,null,{"$f":"Input!E117","v":"Allocation to controllable opex"},null,"%",null,null,null,null,null,null,null,null,null,null,null,null,null,null,null,null,null,null,null,null,null,null,null,null,null,null,0,0,0,0,0,0,0,0]
[null,null,null,null,{"$f":"Input!E118","v":"Allocation to non-operational capex"},null,"%",null,null,null,null,null,null,null,null,null,null,null,null,null,null,null,null,null,null,null,null,null,null,null,null,null,null,0,0,0,0,0,0,0,0]
[]
[null,null,null,null,{"$f":"Input!E120","v":"Baseline and strategic wider works outputs"},null,"£m 09/10 prices",null,null,null,null,null,null,null,null,null,null,null,null,null,null,null,null,null,null,null,null,null,null,null,null,null,null,{"$f":"AH18","v":85.573505518264014},{"$f":"AI18","v":122.42618674967096},111.1344941866744,12.453095388965583,0,0,0,0]
[null,null,null,null,{"$f":"Input!E121","v":"Allocation to load related capex expenditure"},null,"%",null,null,null,null,null,null,null,null,null,null,null,null,null,null,null,null,null,null,null,null,null,null,null,null,null,null,1,1,1,1,1,1,1,1]
[null,null,null,null,{"$f":"Input!E122","v":"Allocation to asset replacement capex expenditure"},null,"%",null,null,null,null,null,null,null,null,null,null,null,null,null,null,null,null,null,null,null,null,null,null,null,null,null,null,0,0,0,0,0,0,0,0]
[null,null,null,null,{"$f":"Input!E123","v":"Allocation to other capex expenditure"},null,"%",null,null,null,null,null,null,null,null,null,null,null,null,null,null,null,null,null,null,null,null,null,null,null,null,null,null,0,0,0,0,0,0,0,0]
[null,null,null,null,{"$f":"Input!E124","v":"Allocation to controllable opex"},null,"%",null,null,null,null,null,null,null,null,null,null,null,null,null,null,null,null,null,null,null,null,null,null,null,null,null,null,0,0,0,0,0,0,0,0]
[null,null,null,null,{"$f":"Input!E125","v":"Allocation to non-operational capex"},null,"%",null,null,null,null,null,null,null,null,null,null,null,null,null,null,null,null,null,null,null,null,null,null,null,null,null,null,0,0,0,0,0,0,0,0]
[]
[null,null,null,null,{"$f":"Input!E127","v":"Network development and wider works volume driver (NGET only)"},null,"£m 09/10 prices",null,null,null,null,null,null,null,null,null,null,null,null,null,null,null,null,null,null,null,null,null,null,null,null,null,null,{"$f":"AH19","v":0},0,0,0,0,0,0,0]
[null,null,null,null,{"$f":"Input!E128","v":"Allocation to load related capex expenditure"},null,"%",null,null,null,null,null,null,null,null,null,null,null,null,null,null,null,null,null,null,null,null,null,null,null,null,null,null,1,1,1,1,1,1,1,1]
[null,null,null,null,{"$f":"Input!E129","v":"Allocation to asset replacement capex expenditure"},null,"%",null,null,null,null,null,null,null,null,null,null,null,null,null,null,null,null,null,null,null,null,null,null,null,null,null,null,0,0,0,0,0,0,0,0]
[null,null,null,null,{"$f":"Input!E130","v":"Allocation to other capex expenditure"},null,"%",null,null,null,null,null,null,null,null,null,null,null,null,null,null,null,null,null,null,null,null,null,null,null,null,null,null,0,0,0,0,0,0,0,0]
[null,null,null,null,{"$f":"Input!E131","v":"Allocation to controllable opex"},null,"%",null,null,null,null,null,null,null,null,null,null,null,null,null,null,null,null,null,null,null,null,null,null,null,null,null,null,0,0,0,0,0,0,0,0]
[null,null,null,null,{"$f":"Input!E132","v":"Allocation to non-operational capex"},null,"%",null,null,null,null,null,null,null,null,null,null,null,null,null,null,null,null,null,null,null,null,null,null,null,null,null,null,0,0,0,0,0,0,0,0]
[]
[null,null,null,null,{"$f":"Input!E134","v":"Enhancements to pre-existing infrastructure"},null,"£m 09/10 prices",null,null,null,null,null,null,null,null,null,null,null,null,null,null,null,null,null,null,null,null,null,null,null,null,null,null,{"$f":"AH20","v":0},0,0,0,0,0,0,0]
[null,null,null,null,{"$f":"Input!E135","v":"Allocation to load related capex expenditure"},null,"%",null,null,null,null,null,null,null,null,null,null,null,null,null,null,null,null,null,null,null,null,null,null,null,null,null,null,1,1,1,1,1,1,1,1]
[null,null,null,null,{"$f":"Input!E136","v":"Allocation to asset replacement capex expenditure"},null,"%",null,null,null,null,null,null,null,null,null,null,null,null,null,null,null,null,null,null,null,null,null,null,null,null,null,null,0,0,0,0,0,0,0,0]
[null,null,null,null,{"$f":"Input!E137","v":"Allocation to other capex expenditure"},null,"%",null,null,null,null,null,null,null,null,null,null,null,null,null,null,null,null,null,null,null,null,null,null,null,null,null,null,0,0,0,0,0,0,0,0]
[null,null,null,null,{"$f":"Input!E138","v":"Allocation to controllable opex"},null,"%",null,null,null,null,null,null,null,null,null,null,null,null,null,null,null,null,null,null,null,null,null,null,null,null,null,null,0,0,0,0,0,0,0,0]
[null,null,null,null,{"$f":"Input!E139","v":"Allocation to non-operational capex"},null,"%",null,null,null,null,null,null,null,null,null,null,null,null,null,null,null,null,null,null,null,null,null,null,null,null,null,null,0,0,0,0,0,0,0,0]
[]
[null,null,null,null,{"$f":"Input!E141","v":"Demand related infrastructure volume driver"},null,"£m 09/10 prices",null,null,null,null,null,null,null,null,null,null,null,null,null,null,null,null,null,null,null,null,null,null,null,null,null,null,{"$f":"AH21","v":0},{"$f":"AI21","v":0},0,0,0,0,0,0]
[null,null,null,null,{"$f":"Input!E142","v":"Allocation to load related capex expenditure"},null,"%",null,null,null,null,null,null,null,null,null,null,null,null,null,null,null,null,null,null,null,null,null,null,null,null,null,null,1,1,1,1,1,1,1,1]
[null,null,null,null,{"$f":"Input!E143","v":"Allocation to asset replacement capex expenditure"},null,"%",null,null,null,null,null,null,null,null,null,null,null,null,null,null,null,null,null,null,null,null,null,null,null,null,null,null,0,0,0,0,0,0,0,0]
[null,null,null,null,{"$f":"Input!E144","v":"Allocation to other capex expenditure"},null,"%",null,null,null,null,null,null,null,null,null,null,null,null,null,null,null,null,null,null,null,null,null,null,null,null,null,null,0,0,0,0,0,0,0,0]
[null,null,null,null,{"$f":"Input!E145","v":"Allocation to controllable opex"},null,"%",null,null,null,null,null,null,null,null,null,null,null,null,null,null,null,null,null,null,null,null,null,null,null,null,null,null,0,0,0,0,0,0,0,0]
[null,null,null,null,{"$f":"Input!E146","v":"Allocation to non-operational capex"},null,"%",null,null,null,null,null,null,null,null,null,null,null,null,null,null,null,null,null,null,null,null,null,null,null,null,null,null,0,0,0,0,0,0,0,0]
[]
[null,null,null,null,{"$f":"Input!E148","v":"Undergrounding volume driver"},null,"£m 09/10 prices",null,null,null,null,null,null,null,null,null,null,null,null,null,null,null,null,null,null,null,null,null,null,null,null,null,null,{"$f":"AH22","v":0},{"$f":"AI22","v":0},0,0,0,0,0,0]
[null,null,null,null,{"$f":"Input!E149","v":"Allocation to load related capex expenditure"},null,"%",null,null,null,null,null,null,null,null,null,null,null,null,null,null,null,null,null,null,null,null,null,null,null,null,null,null,1,1,1,1,1,1,1,1]
[null,null,null,null,{"$f":"Input!E150","v":"Allocation to asset replacement capex expenditure"},null,"%",null,null,null,null,null,null,null,null,null,null,null,null,null,null,null,null,null,null,null,null,null,null,null,null,null,null,0,0,0,0,0,0,0,0]
[null,null,null,null,{"$f":"Input!E151","v":"Allocation to other capex expenditure"},null,"%",null,null,null,null,null,null,null,null,null,null,null,null,null,null,null,null,null,null,null,null,null,null,null,null,null,null,0,0,0,0,0,0,0,0]
[null,null,null,null,{"$f":"Input!E152","v":"Allocation to controllable opex"},null,"%",null,null,null,null,null,null,null,null,null,null,null,null,null,null,null,null,null,null,null,null,null,null,null,null,null,null,0,0,0,0,0,0,0,0]
[null,null,null,null,{"$f":"Input!E153","v":"Allocation to non-operational capex"},null,"%",null,null,null,null,null,null,null,null,null,null,null,null,null,null,null,null,null,null,null,null,null,null,null,null,null,null,0,0,0,0,0,0,0,0]
[]
[null,null,null,null,{"$f":"Input!E155","v":"Generation connections volume driver"},null,"£m 09/10 prices",null,null,null,null,null,null,null,null,null,null,null,null,null,null,null,null,null,null,null,null,null,null,null,null,null,null,{"$f":"AH23","v":66.83207800000001},{"$f":"AI23","v":62.404211534858305},{"$f":"AJ23","v":32.716809463771142},2.941879610898035,{"$f":"AL23","v":4.5687612111703304},5.4516061692453244,5.9137244522768881,2.7966359128457778]
[null,null,null,null,{"$f":"Input!E156","v":"Allocation to load related capex expenditure"},null,"%",null,null,null,null,null,null,null,null,null,null,null,null,null,null,null,null,null,null,null,null,null,null,null,null,null,null,1,1,1,1,1,1,1,1]
[null,null,null,null,{"$f":"Input!E157","v":"Allocation to asset replacement capex expenditure"},null,"%",null,null,null,null,null,null,null,null,null,null,null,null,null,null,null,null,null,null,null,null,null,null,null,null,null,null,0,0,0,0,0,0,0,0]
[null,null,null,null,{"$f":"Input!E158","v":"Allocation to other capex expenditure"},null,"%",null,null,null,null,null,null,null,null,null,null,null,null,null,null,null,null,null,null,null,null,null,null,null,null,null,null,0,0,0,0,0,0,0,0]
[null,null,null,null,{"$f":"Input!E159","v":"Allocation to controllable opex"},null,"%",null,null,null,null,null,null,null,null,null,null,null,null,null,null,null,null,null,null,null,null,null,null,null,null,null,null,0,0,0,0,0,0,0,0]
[null,null,null,null,{"$f":"Input!E160","v":"Allocation to non-operational capex"},null,"%",null,null,null,null,null,null,null,null,null,null,null,null,null,null,null,null,null,null,null,null,null,null,null,null,null,null,0,0,0,0,0,0,0,0]
[]
[null,null,null,null,{"$f":"Input!E162","v":"Innovation roll out mechanism"},null,"£m 09/10 prices",null,null,null,null,null,null,null,null,null,null,null,null,null,null,null,null,null,null,null,null,null,null,null,null,null,null,{"$f":"AH24","v":0},{"$f":"AI24","v":0},0,0,0,0,0,0]
[null,null,null,null,{"$f":"Input!E163","v":"Allocation to load related capex expenditure"},null,"%",null,null,null,null,null,null,null,null,null,null,null,null,null,null,null,null,null,null,null,null,null,null,null,null,null,null,0.3,0.3,0.3,0.3,0.3,0.3,0.3,0.3]
[null,null,null,null,{"$f":"Input!E164","v":"Allocation to asset replacement capex expenditure"},null,"%",null,null,null,null,null,null,null,null,null,null,null,null,null,null,null,null,null,null,null,null,null,null,null,null,null,null,0.1,0.1,0.1,0.1,0.1,0.1,0.1,0.1]
[null,null,null,null,{"$f":"Input!E165","v":"Allocation to other capex expenditure"},null,"%",null,null,null,null,null,null,null,null,null,null,null,null,null,null,null,null,null,null,null,null,null,null,null,null,null,null,0.5,0.5,0.5,0.5,0.5,0.5,0.5,0.5]
[null,null,null,null,{"$f":"Input!E166","v":"Allocation to controllable opex"},null,"%",null,null,null,null,null,null,null,null,null,null,null,null,null,null,null,null,null,null,null,null,null,null,null,null,null,null,0.1,0.1,0.1,0.1,0.1,0.1,0.1,0.1]
[null,null,null,null,{"$f":"Input!E167","v":"Allocation to non-operational capex"},null,"%",null,null,null,null,null,null,null,null,null,null,null,null,null,null,null,null,null,null,null,null,null,null,null,null,null,null,0,0,0,0,0,0,0,0]
[]
[null,null,null,null,{"$f":"Input!E169","v":"Exceptional Sub Sea Cable Faults"},null,"£m 09/10 prices",null,null,null,null,null,null,null,null,null,null,null,null,null,null,null,null,null,null,null,null,null,null,null,null,null,null,{"$f":"AH25","v":0},{"$f":"AI25","v":0},0,0,0,0,0,0]
[null,null,null,null,{"$f":"Input!E170","v":"Allocation to load related capex expenditure"},null,"%",null,null,null,null,null,null,null,null,null,null,null,null,null,null,null,null,null,null,null,null,null,null,null,null,null,null,0,0,0,0,0,0,0,0]
[null,null,null,null,{"$f":"Input!E171","v":"Allocation to asset replacement capex expenditure"},null,"%",null,null,null,null,null,null,null,null,null,null,null,null,null,null,null,null,null,null,null,null,null,null,null,null,null,null,0,0,0,0,0,0,0,0]
[null,null,null,null,{"$f":"Input!E172","v":"Allocation to other capex expenditure"},null,"%",null,null,null,null,null,null,null,null,null,null,null,null,null,null,null,null,null,null,null,null,null,null,null,null,null,null,1,1,1,1,1,1,1,1]
[null,null,null,null,{"$f":"Input!E173","v":"Allocation to controllable opex"},null,"%",null,null,null,null,null,null,null,null,null,null,null,null,null,null,null,null,null,null,null,null,null,null,null,null,null,null,0,0,0,0,0,0,0,0]
[null,null,null,null,{"$f":"Input!E174","v":"Allocation to non-operational capex"},null,"%",null,null,null,null,null,null,null,null,null,null,null,null,null,null,null,null,null,null,null,null,null,null,null,null,null,null,0,0,0,0,0,0,0,0]
[]
[null,null,null,null,{"$f":"Input!E176","v":"Non-load Related Work Costs"},null,"£m 09/10 prices",null,null,null,null,null,null,null,null,null,null,null,null,null,null,null,null,null,null,null,null,null,null,null,null,null,null,{"$f":"AH26","v":0},{"$f":"AI26","v":0},0,0,0,0,0,0]
[null,null,null,null,{"$f":"Input!E177","v":"Allocation to load related capex expenditure"},null,"%",null,null,null,null,null,null,null,null,null,null,null,null,null,null,null,null,null,null,null,null,null,null,null,null,null,null,0,0,0,0,0,0,0,0]
[null,null,null,null,{"$f":"Input!E178","v":"Allocation to asset replacement capex expenditure"},null,"%",null,null,null,null,null,null,null,null,null,null,null,null,null,null,null,null,null,null,null,null,null,null,null,null,null,null,0,0,0,0,0,0,0,0]
[null,null,null,null,{"$f":"Input!E179","v":"Allocation to other capex expenditure"},null,"%",null,null,null,null,null,null,null,null,null,null,null,null,null,null,null,null,null,null,null,null,null,null,null,null,null,null,1,1,1,1,1,1,1,1]
[null,null,null,null,{"$f":"Input!E180","v":"Allocation to controllable opex"},null,"%",null,null,null,null,null,null,null,null,null,null,null,null,null,null,null,null,null,null,null,null,null,null,null,null,null,null,0,0,0,0,0,0,0,0]
[null,null,null,null,{"$f":"Input!E181","v":"Allocation to non-operational capex"},null,"%",null,null,null,null,null,null,null,null,null,null,null,null,null,null,null,null,null,null,null,null,null,null,null,null,null,null,0,0,0,0,0,0,0,0]
[]
[null,null,null,null,"Variant allowed load related capex",null,"£m 09/10 prices",null,null,null,null,null,null,null,null,null,null,null,null,null,null,null,null,null,null,null,null,null,null,null,null,null,null,{"$f":"(AH$92*AH93)     + (AH$99*AH100) + (AH$106*AH107) + (AH$113*AH114) + (AH$120*AH121) + (AH$127*AH128) + (AH$134*AH135) + (AH$141*AH142) + (AH$148*AH149) + (AH$155*AH156) + (AH$162*AH163) + (AH$169*AH170) + (AH$176*AH177)","v":152.40558351826402},{"$f":"(AI$92*AI93)     + (AI$99*AI100) + (AI$106*AI107) + (AI$113*AI114) + (AI$120*AI121) + (AI$127*AI128) + (AI$134*AI135) + (AI$141*AI142) + (AI$148*AI149) + (AI$155*AI156) + (AI$162*AI163) + (AI$169*AI170) + (AI$176*AI177)","v":184.83039828452928},143.85130365044554,15.394974999863617,4.5687612111703304,5.4516061692453244,5.9137244522768881,2.7966359128457778]
[null,null,null,null,"Variant allowed non-load related capex - asset replacement",null,"£m 09/10 prices",null,null,null,null,null,null,null,null,null,null,null,null,null,null,null,null,null,null,null,null,null,null,null,null,null,null,{"$f":"(AH$92*AH94)     + (AH$99*AH101) + (AH$106*AH108) + (AH$113*AH115) + (AH$120*AH122) + (AH$127*AH129) + (AH$134*AH136) + (AH$141*AH143) + (AH$148*AH150) + (AH$155*AH157) + (AH$162*AH164) + (AH$169*AH171) + (AH$176*AH178)","v":0},0,0,0,0,0,0,0]
[null,null,null,null,"Variant allowed non-load related capex - other",null,"£m 09/10 prices",null,null,null,null,null,null,null,null,null,null,null,null,null,null,null,null,null,null,null,null,null,null,null,null,null,null,{"$f":"(AH$92*AH95)     + (AH$99*AH102) + (AH$106*AH109) + (AH$113*AH116) + (AH$120*AH123) + (AH$127*AH130) + (AH$134*AH137) + (AH$141*AH144) + (AH$148*AH151) + (AH$155*AH158) + (AH$162*AH165) + (AH$169*AH172) + (AH$176*AH179)","v":0},0,0,0,0,0,0,0]
[null,null,null,null,"Variant allowed controllable opex",null,"£m 09/10 prices",null,null,null,null,null,null,null,null,null,null,null,null,null,null,null,null,null,null,null,null,null,null,null,null,null,null,{"$f":"(AH$92*AH96)     + (AH$99*AH103) + (AH$106*AH110) + (AH$113*AH117) + (AH$120*AH124) + (AH$127*AH131) + (AH$134*AH138) + (AH$141*AH145) + (AH$148*AH152) + (AH$155*AH159) + (AH$162*AH166) + (AH$169*AH173) + (AH$176*AH180)","v":0},0,0,0,0,0,0,0]
[null,null,null,null,"Variant allowed non-operational capex",null,"£m 09/10 prices",null,null,null,null,null,null,null,null,null,null,null,null,null,null,null,null,null,null,null,null,null,null,null,null,null,null,{"$f":"(AH$92*AH97)     + (AH$99*AH104) + (AH$106*AH111) + (AH$113*AH118) + (AH$120*AH125) + (AH$127*AH132) + (AH$134*AH139) + (AH$141*AH146) + (AH$148*AH153) + (AH$155*AH160) + (AH$162*AH167) + (AH$169*AH174) + (AH$176*AH181)","v":0},0,0,0,0,0,0,0]
[]
[null,null,null,"Actual"]
[]
[null,null,null,null,"Actual load related capex",null,"£m 09/10 prices",null,null,null,null,null,null,null,null,null,null,null,null,null,null,null,null,null,null,null,null,null,null,null,null,null,null,{"$f":"AH9","v":104.41316928102405},0,0,0,0,0,0,0]
[null,null,null,null,"Actual non-load related capex - asset replacement",null,"£m 09/10 prices",null,null,null,null,null,null,null,null,null,null,null,null,null,null,null,null,null,null,null,null,null,null,null,null,null,null,64.553796849725117,0,0,0,0,0,0,0]
[null,null,null,null,"Actual non-load related capex - other",null,"£m 09/10 prices",null,null,null,null,null,null,null,null,null,null,null,null,null,null,null,null,null,null,null,null,null,null,null,null,null,null,15.986544609315883,0,0,0,0,0,0,0]
[null,null,null,null,"Actual controllable opex",null,"£m 09/10 prices",null,null,null,null,null,null,null,null,null,null,null,null,null,null,null,null,null,null,null,null,null,null,null,null,null,null,21.945954800408128,0,0,0,0,0,0,0]
[null,null,null,null,"Actual non-operational capex",null,"£m 09/10 prices",null,null,null,null,null,null,null,null,null,null,null,null,null,null,null,null,null,null,null,null,null,null,null,null,null,null,{"$f":"AH13","v":1.1927569128155358},0,0,0,0,0,0,0]
[]
[null,null,"Non-totex"]
[]
[null,null,null,null,"Non-controllable opex",null,"£m 09/10 prices",null,null,null,null,null,null,null,null,null,null,null,null,null,null,null,null,null,null,null,null,null,null,null,null,null,null,24.1,24.1,24.1,24.1,24.1,24.1,24.1,24.1]
[]
[null,"Direct allowed revenue terms (DARTs)"]
[]
[null,null,null,null,{"$f":"E29","v":"Pension scheme administration and Pension Protection Fund Levy"},null,"£m 09/10 prices",null,null,null,null,null,null,null,null,null,null,null,null,null,null,null,null,null,null,null,null,null,null,null,null,null,null,{"$f":"AH29","v":5.5843547983858599E-2},5.5843547983858585E-2,5.5843547983858585E-2,5.5843547983858585E-2,5.5843547983858585E-2,5.5843547983858585E-2,5.5843547983858585E-2,5.5843547983858585E-2]
[null,null,null,null,{"$f":"E30","v":"Pension Scheme Established Deficit"},null,"£m 09/10 prices",null,null,null,null,null,null,null,null,null,null,null,null,null,null,null,null,null,null,null,null,null,null,null,null,null,null,{"$f":"AH30","v":0.16469478783598299},0.16469478783598263,2.1312675492218407,2.1312675492218407,2.1312675492218407,2.1312675492218407,2.1312675492218407,2.1312675492218407]
[]
[null,null,null,null,"Pension true-up from previous price controls",null,"£m 09/10 prices",null,3.0743706535539754,null,null,null,null,null,null,null,null,null,null,null,null,null,null,null,null,null,null,null,null,null,null,null,null,{"$f":"($I$206/9)*(1+$AH$42)","v":0.35784308020411137},{"$f":"($I$206/9)*(1+$AH$42)*(1+$AI$42)","v":0.37446846971039438},{"$f":"($I$206/9)*(1+$AH$42)*(1+$AI$42)*(1+$AJ$42)","v":0.39151614679396007},{"$f":"($I$206/9)*(1+$AH$42)*(1+$AI$42)*(1+$AJ$42)*(1+$AK$42)","v":0.40933991937675512},{"$f":"($I$206/9)*(1+$AH$42)*(1+$AI$42)*(1+$AJ$42)*(1+$AK$42)*(1+$AL$42)","v":0.42797511920638193},{"$f":"($I$206/9)*(1+$AH$42)*(1+$AI$42)*(1+$AJ$42)*(1+$AK$42)*(1+$AL$42)*(1+$AM$42)","v":0.44745868650825249},{"$f":"($I$206/9)*(1+$AH$42)*(1+$AI$42)*(1+$AJ$42)*(1+$AK$42)*(1+$AL$42)*(1+$AM$42)*(1+$AN$42)","v":0.46782924321154068},{"$f":"($I$206/9)*(1+$AH$42)*(1+$AI$42)*(1+$AJ$42)*(1+$AK$42)*(1+$AL$42)*(1+$AM$42)*(1+$AN$42)*(1+$AO$42)","v":0.48912716950874607}]
[null,null,null,null,"NGET TO Capital Expenditure Incentive and Safety Net",null,"£m 09/10 prices",null,null,null,null,null,null,null,null,null,null,null,null,null,null,null,null,null,null,null,null,null,null,null,null,null,null,0,0,0,0,0,0,0,0]
[]
[null,null,null,null,{"$f":"Input!E209","v":"Revenue adjustment from previous controls (Base)"},null,"£m 09/10 prices",null,null,null,null,null,null,null,null,null,null,null,null,null,null,null,null,null,null,null,null,null,null,null,null,null,null,12.314285714285713]
[null,null,null,null,{"$f":"E31","v":"Legacy price control adjustments to allowed revenue"},null,"£m 09/10 prices",null,null,null,null,null,null,null,null,null,null,null,null,null,null,null,null,null,null,null,null,null,null,null,null,null,null,{"$f":"IF(OR(m_identity=1,m_identity=2),AH31,0)","v":0},0,0,0,0,0,0,0]
[null,null,null,null,{"$f":"Input!E211","v":"Revenue adjustment from previous controls"},null,"£m 09/10 prices",null,null,null,null,null,null,null,null,null,null,null,null,null,null,null,null,null,null,null,null,null,null,null,null,null,null,{"$f":"AH209+AH210","v":12.314285714285713},{"$f":"AI209+AI210","v":0},0,0,0,0,0,0]
[]
[null,null,null,null,"Excluded services revenue",null,"£m 09/10 prices",null,null,null,null,null,null,null,null,null,null,null,null,null,null,null,null,null,null,null,null,null,null,null,null,null,null,5.3675577561683783,5.8660255516733004,6.2070462213261655,6.4985355942571195,6.788425334502123,7.1967204602727186,7.4379958507646684,7.6154487016051373]
[null,null,null,null,"Identified excluded services costs",null,"£m 09/10 prices",null,null,null,null,null,null,null,null,null,null,null,null,null,null,null,null,null,null,null,null,null,null,null,null,null,null,0,0,0,0,0,0,0,0]
[null,null,null,null,"Excluded services",null,"£m 09/10 prices",null,null,null,null,null,null,null,null,null,null,null,null,null,null,null,null,null,null,null,null,null,null,null,null,null,null,{"$f":"SUM(AH213, -AH214)","v":5.3675577561683783},{"$f":"SUM(AI213, -AI214)","v":5.8660255516733004},6.2070462213261655,6.4985355942571195,6.788425334502123,7.1967204602727186,7.4379958507646684,7.6154487016051373]
[]
[null,"RAV and assets"]
[]
[null,null,"Pre-vesting assets"]
[]
[null,null,null,null,"Pre-vesting RAV cost opening balance brought forward (before transfers)",null,"£m 09/10 prices",null,null,null,null,null,null,null,null,null,null,null,null,null,null,null,null,null,null,null,null,null,null,null,null,null,null,0]
[null,null,null,null,"Pre-vesting RAV cumulative depreciation opening balance brought forward (before transfers)",null,"£m 09/10 prices",null,null,null,null,null,null,null,null,null,null,null,null,null,null,null,null,null,null,null,null,null,null,null,null,null,null,0]
[]
[null,null,null,null,"Pre-vesting asset life",null,"years",null,20]
[]
[null,null,null,null,"Years of pre-vesting depreciation remaining",null,"years",null,null,null,null,null,null,null,null,null,null,null,null,null,null,null,null,null,null,null,null,null,null,null,null,null,null,45,44,43,42,41,40,39,38]
[]
[null,null,"Post-vesting assets"]
[]
[null,null,null,null,{"$f":"Input!E230","v":"Transmission"}]
[null,null,null,null,{"$f":"Input!E231","v":"Post-vesting asset life"},null,"years",null,null,">",40,40,40,40,40,40,40,40,40,40,40,40,40,40,40,40,40,40,40,40,40,40,40,23.125,26.25,29.375,32.5,35.625,38.75,41.875,45]
[null,null,null,null,{"$f":"Input!E232","v":"Accelerated post-vesting asset life"},null,"years",null,null,">",20,20,20,20,20,20,20,20,20,20,20,20,20,20,20,20,20,20,20,20,20,20,20,23.125,26.25,29.375,32.5,35.625,38.75,41.875,45]
[null,null,null,null,{"$f":"Input!E233","v":"Smoothing period following full depreciation of pre-vesting assets"},null,"years",null,15]
[null,null,null,null,{"$f":"Input!E234","v":"Start of smoothing period"},null,"year ending",null,"1991-03-31"]
[null,null,null,null,{"$f":"Input!E235","v":"Pre-RIIO net additions to RAV"},null,"£m 09/10 prices",null,null,">",17.151368294133562,51.916821652925869,31.726946565676926,34.873420605248192,15.883751863318423,18.687319564734619,16.143895033615262,26.902896725440797,46.630891330891316,24.792089369802618,28.378933986437598,17.714968897535783,41.760860372262371,53.32709083436086,37.756586411551062,51.834458322260595,86.385656044596033,83.273375837756944,106.98416868533707,69.995859886802833,87.492782296467681,106.70365838278148,113.65172495181169]
[null,null,null,null,"LRAV",null,"£m 09/10 prices",null,null,null,null,null,null,null,null,null,null,null,null,null,null,null,null,null,null,null,null,null,null,null,null,null,null,{"$f":"AH32","v":-28.942771089505438}]
[null,null,null,null,"RIIO post-vesting RAV additions",null,"£m 09/10 prices",null,null,null,null,null,null,null,null,null,null,null,null,null,null,null,null,null,null,null,null,null,null,null,null,null,null,0,0,0,0,0,0,0,0]
[null,null,null,null,"RIIO post-vesting RAV disposals",null,"£m 09/10 prices",null,null,null,null,null,null,null,null,null,null,null,null,null,null,null,null,null,null,null,null,null,null,null,null,null,null,0,0,0,0,0,0,0,0]
[null,null,null,null,{"$f":"Input!E239","v":"Pre-RIIO transfers to depreciation"},null,"£m 09/10 prices",null,null,">",0,0,0,0,0,0,0,0,0,0,0,0,0,0,0,0,0,0,0,0,0,0,0]
[]
[null,null,"Project assets (except TIRG)"]
[]
[null,null,null,null,"PLUGS asset life",null,"years",null,null,">",null,null,null,null,null,null,null,null,null,null,null,null,null,null,null,30,30,30,30,30,18,18,18,18,18,18,18,18,18,18,18]
[null,null,null,null,"PLUGS net additions (after disposals)",null,"£m 09/10 prices",null,null,">",null,null,null,null,null,null,null,null,null,null,null,null,null,null,null,75.114093365222757,0,0,0,0,0,0,0]
[]
[null,null,null,null,"TOI accelerated post-vesting asset life",null,"years",null,20]
[null,null,null,null,"TOI net additions (after disposals)",null,"£m 09/10 prices",null,null,">",null,null,null,null,null,null,null,null,null,null,null,null,null,null,null,null,null,null,0,0,4.9830748123750634,5.3636740282995667,84.6]
[null,null,null,null,"TOI deemed depreciation",null,"£m 09/10 prices",null,null,">",null,null,null,null,null,null,null,null,null,null,null,null,null,null,null,null,null,null,null,0,0,0.5416864940421211]
[]
[null,null,null,null,"England-Scotland interconnector asset life applied",null,"years",null,null,">",null,null,null,null,null,null,null,null,null,null,null,null,null,null,null,29,29,29,29,29,17.5,17.5,17.5,17.5,17.5,17.5,17.5,17.5,17.5,17.5,17.5]
[null,null,null,null,"England-Scotland Interconnector net additions (after disposals)",null,"£m 09/10 prices",null,null,">",null,null,null,null,null,null,null,null,null,null,null,null,null,null,null,124.99902560014171,0,0,0,0,0,0,0]
[]
[null,null,null,null,"Logged-up items and secturity costs asset life",null,"years",null,20,">"]
[]
[null,null,null,null,"Logged-up items net additions (after disposals)",null,"£m 09/10 prices",null,null,">",null,null,null,null,null,null,null,null,null,null,null,null,null,null,0,0,1.077127880855312,4.0341496544285071,2.6119034686117781,0.3,2.7530497262693157,2.000014044450686,3.7]
[]
[null,null,null,null,"Security costs net additions (after disposals)",null,"£m 09/10 prices",null,null,">",null,null,null,null,null,null,null,null,null,null,null,null,null,null,0,0,0,0,3.4155660743384786,2.9000000000000004,0.29354840712900376,-9.0909729293213004E-2]
[]
[null,null,"TIRG"]
[]
[null,null,null,null,"TIRG asset life before transfer to RAV",null,"years",null,20]
[null,null,null,null,"Years from TIRG commissioning to RAV transfer",null,"years",null,5]
[]
[null,null,null,null,"Pre-RIIO TIRG allocation to \"General\" pool",null,"%",null,null,">",null,null,null,null,null,null,null,null,null,null,null,null,null,null,5.4423896301426774E-3,5.4423896301426774E-3,5.4423896301426774E-3,5.4423896301426774E-3,5.4423896301426774E-3,5.4423896301426774E-3,5.4423896301426774E-3,5.4423896301426774E-3,5.4423896301426774E-3]
[null,null,null,null,"Pre-RIIO TIRG allocation to \"Special Rate\" pool",null,"%",null,null,">",null,null,null,null,null,null,null,null,null,null,null,null,null,null,0.9813260277590351,0.9813260277590351,0.9813260277590351,0.9813260277590351,0.9813260277590351,0.9813260277590351,0.9813260277590351,0.9813260277590351,0.9813260277590351]
[]
[null,null,null,null,"TIRG commissioned in 2010 net additions (after disposals)",null,"£m 09/10 prices",null,null,">",null,null,null,null,null,null,null,null,null,null,null,null,null,null,0,0,0,0,0,0,0]
[null,null,null,null,"TIRG commissioned in 2011 net additions (after disposals)",null,"£m 09/10 prices",null,null,">",null,null,null,null,null,null,null,null,null,null,null,null,null,null,0,0,9.5864381396122766,30.411282010307207,31.945588577636361,23.1,6.3808593440670665,0]
[null,null,null,null,"TIRG commissioned in 2012 net additions (after disposals)",null,"£m 09/10 prices",null,null,">",null,null,null,null,null,null,null,null,null,null,null,null,null,null,0,0,0,1.3447165514761692,2.7123612943276161,3.2,3.5250542738344923,0.8572733925610333,0]
[null,null,null,null,"TIRG commissioned in 2013 net additions (after disposals)",null,"£m 09/10 prices",null,null,">",null,null,null,null,null,null,null,null,null,null,null,null,null,null,0,0,0,0,0,0,0,0,0,0]
[null,null,null,null,"TIRG commissioned in 2014 net additions (after disposals)",null,"£m 09/10 prices",null,null,">",null,null,null,null,null,null,null,null,null,null,null,null,null,null,0,0,0,0,0,0,0,0,0,0,0]
[null,null,null,null,"TIRG commissioned in 2015 net additions (after disposals)",null,"£m 09/10 prices",null,null,">",null,null,null,null,null,null,null,null,null,null,null,null,null,null,0,0,0,0,0,0,0,0,0,0,0,0]
[null,null,null,null,"TIRG commissioned in 2016 net additions (after disposals)",null,"£m 09/10 prices",null,null,">",null,null,null,null,null,null,null,null,null,null,null,null,null,null,0,0,0.32313836425659365,0.93095761256042475,0.20091565143167525,0.6,0.65737498620156731,1.1449216809324949,4.8041907499518288,15.764531425105293,13.238507438763484,3.4263328248778677,0]
[null,null,null,null,"TIRG commissioned in 2017 net additions (after disposals)",null,"£m 09/10 prices",null,null,">",null,null,null,null,null,null,null,null,null,null,null,null,null,null,0,0,0.32313836425659365,0,0.10045782571583763,1.7000000000000002,2.1340869117268273,1.3415666581717773,41.099109436306506,28.145570194133523,23.928574894123098,20.509530673060645,4.0606572112104029,0]
[]
[null,null,null,null,"TIRG commissioned in 2010 deemed depreciation",null,"£m 09/10 prices",null,null,">",null,null,null,null,null,null,null,null,null,null,null,null,null,null,0,0,0,0,0,0,0,0,0,0,0]
[null,null,null,null,"TIRG commissioned in 2011 deemed depreciation",null,"£m 09/10 prices",null,null,">",null,null,null,null,null,null,null,null,null,null,null,null,null,null,0,0,0,0.53200000000000003,2.1480000000000001,3.11,4.2720000000000002,4.5681084035811459,4.5681084035811459,4.5681084035811459,4.5681084035811459,4.5681084035811459]
[null,null,null,null,"TIRG commissioned in 2012 deemed depreciation",null,"£m 09/10 prices",null,null,">",null,null,null,null,null,null,null,null,null,null,null,null,null,null,0,0,0,0,6.7235827573808457E-2,0.2028538922901893,0.17799999999999999,0.54900000000000004,0.51425211998871401,0.51425211998871401,0.51425211998871401,0.51425211998871401,0.51425211998871401]
[null,null,null,null,"TIRG commissioned in 2013 deemed depreciation",null,"£m 09/10 prices",null,null,">",null,null,null,null,null,null,null,null,null,null,null,null,null,null,0,0,0,0,0,0,0,0,0,0,0,0,0,0]
[null,null,null,null,"TIRG commissioned in 2014 deemed depreciation",null,"£m 09/10 prices",null,null,">",null,null,null,null,null,null,null,null,null,null,null,null,null,null,0,0,0,0,0,0,0,0,0,0,0,0,0,0,0]
[null,null,null,null,"TIRG commissioned in 2015 deemed depreciation",null,"£m 09/10 prices",null,null,">",null,null,null,null,null,null,null,null,null,null,null,null,null,null,0,0,0,0,0,0,0,0,0,0,0,0,0,0,0,0]
[null,null,null,null,"TIRG commissioned in 2016 deemed depreciation",null,"£m 09/10 prices",null,null,">",null,null,null,null,null,null,null,null,null,null,null,null,null,null,0,0,0,0,6.2704798840850923E-2,7.2750581412434678E-2,0.10275058141243468,0.13561933072251303,1.0999999999999999E-2,1.319,2.0609999999999999,2.0609999999999999,1.7287804543924774,1.7287804543924774,1.7287804543924774,1.7287804543924774,1.7287804543924774]
[null,null,null,null,"TIRG commissioned in 2017 deemed depreciation",null,"£m 09/10 prices",null,null,">",null,null,null,null,null,null,null,null,null,null,null,null,null,null,0,0,0,0,0,0,0.10617980949862157,1.05,2.2189999999999999,2.855,2.6739999999999999,2.6739999999999999,2.6739999999999999,5.7974472850517413,5.7974472850517413,5.7974472850517413,5.7974472850517413]
[]
[null,null,null,null,"TIRG commissioned in 2010 revenue",null,"£m 09/10 prices",null,null,">",null,null,null,null,null,null,null,null,null,null,null,null,null,null,0,0,0,0,0,0,0,0,0,0,0]
[null,null,null,null,"TIRG commissioned in 2011 revenue",null,"£m 09/10 prices",null,null,">",null,null,null,null,null,null,null,null,null,null,null,null,null,null,0,0,0,2.8464354547298178,7.0317331120480038,10.615338154068134,12.049621254727025,12.089729933480642,11.698015561556383,11.306301189632123,10.914586817707859,10.522872445783596]
[null,null,null,null,"TIRG commissioned in 2012 revenue",null,"£m 09/10 prices",null,null,">",null,null,null,null,null,null,null,null,null,null,null,null,null,null,0,0,0,0,0,0.16279758322122412,0.77406456660638545,1.4594796592536625,1.372974585744519,1.3284894003448438,1.2840042149451687,1.2395190295454936,1.1950338441458186]
[null,null,null,null,"TIRG commissioned in 2013 revenue",null,"£m 09/10 prices",null,null,">",null,null,null,null,null,null,null,null,null,null,null,null,null,null,0,0,0,0,0,0,0,0,0,0,0,0,0,0]
[null,null,null,null,"TIRG commissioned in 2014 revenue",null,"£m 09/10 prices",null,null,">",null,null,null,null,null,null,null,null,null,null,null,null,null,null,0,0,0,0,0,0,0,0,0,0,0,0,0,0,0]
[null,null,null,null,"TIRG commissioned in 2015 revenue",null,"£m 09/10 prices",null,null,">",null,null,null,null,null,null,null,null,null,null,null,null,null,null,0,0,0,0,0,0,0,0,0,0,0,0,0,0,0,0]
[null,null,null,null,"TIRG commissioned in 2016 revenue",null,"£m 09/10 prices",null,null,">",null,null,null,null,null,null,null,null,null,null,null,null,null,null,0,0,0,0,0,0,0,9.8999637725713241E-3,1.1591507582621126,4.2107695913218928,5.490762907378838,5.3128605583857311,4.6062647599937163,4.4570190682118858,4.307773376430057,4.1585276846482291,4.0092819928663994]
[null,null,null,null,"TIRG commissioned in 2017 revenue",null,"£m 09/10 prices",null,null,">",null,null,null,null,null,null,null,null,null,null,null,null,null,null,0,0,0,0,0,0,0.92381513466855503,3.8469279227457642,6.3693036924909485,7.4329378002818789,7.1253999256704841,6.8945327704941226,6.6636656153177576,15.443613335102391,14.943231165187434,14.442848995272488,13.942466825357535]
[]
[null,"Tax"]
[]
[null,null,"Tax policy"]
[]
[null,null,null,null,{"$f":"E27","v":"Tax liability - gearing/interest costs"},null,"£m nominal",null,null,null,null,null,null,null,null,null,null,null,null,null,null,null,null,null,null,null,null,null,null,null,null,null,null,{"$f":"AH27","v":0},{"$f":"AI27","v":0},0,0,0,0,0,0]
[null,null,null,null,{"$f":"E28","v":"Tax liability - tax trigger events"},null,"£m 09/10 prices",null,null,null,null,null,null,null,null,null,null,null,null,null,null,null,null,null,null,null,null,null,null,null,null,null,null,{"$f":"AH28","v":0},0,0,0,0,0,0,0]
[]
[null,null,null,null,"Corporation tax rate",null,"%",null,null,">",null,null,null,null,null,null,null,null,null,null,null,null,null,null,0.3,0.3,0.3,0.3,0.28000000000000003,0.28000000000000003,0.28000000000000003,0.26,0.24,0.23,0.21,0.21,0.21,0.21,0.21,0.21,0.21]
[]
[null,null,null,null,"General pool capital allowance rate",null,"%",null,null,">",null,null,null,null,null,null,null,null,null,null,null,0.25,0.25,0.25,0.25,0.25,0.25,0.25,0.2,0.2,0.2,0.2,0.18000000000000002,0.18000000000000002,0.18000000000000002,0.18000000000000002,0.18000000000000002,0.18000000000000002,0.18000000000000002,0.18000000000000002,0.18000000000000002]
[null,null,null,null,"Special Rates capital allowance rate",null,"%",null,null,">",null,null,null,null,null,null,null,null,null,null,null,0.06,0.06,0.06,0.06,0.06,0.06,0.06,0.1,0.1,0.1,0.1,0.08,0.08,0.08,0.08,0.08,0.08,0.08,0.08,0.08]
[null,null,null,null,"Deferred Revenue Expenditure capital allowance rate",null,"%",null,null,">",null,null,null,null,null,null,null,null,null,null,null,null,null,null,null,null,null,null,null,null,null,null,null,2.2200000000000001E-2,2.2200000000000001E-2,2.2200000000000001E-2,2.2200000000000001E-2,2.2200000000000001E-2,2.2200000000000001E-2,2.2200000000000001E-2,2.2200000000000001E-2]
[]
[null,null,"Capital allowances and tax losses"]
[]
[null,null,null,null,"General pool capital allowance opening balance brought forward",null,"£m nominal",null,null,null,null,null,null,null,null,null,null,null,null,null,null,null,null,null,null,null,null,null,null,null,null,null,null,23.71259976140702]
[]
[null,null,null,null,"Special Rate capital allowance opening balance brought forward",null,"£m nominal",null,null,null,null,null,null,null,null,null,null,null,null,null,null,null,null,null,null,null,null,null,null,null,null,null,null,665.77357388991663]
[]
[null,null,null,null,"Deferred revenue expenditure opening balance brought forward",null,"£m nominal",null,null,null,null,null,null,null,null,null,null,null,null,null,null,null,null,null,null,null,null,null,null,null,null,null,null,0]
[]
[null,null,null,null,"Tax loss brought forward",null,"£m nominal",null,null,null,null,null,null,null,null,null,null,null,null,null,null,null,null,null,null,null,null,null,null,null,null,null,null,0]
[]
[null,null,"Tax pool allocation"]
[]
[null,null,null,"Allocation to \"General\" pool"]
[]
[null,null,null,null,{"$f":"Input!E321","v":"Load related capex expenditure"},null,"%",null,null,null,null,null,null,null,null,null,null,null,null,null,null,null,null,null,null,null,null,null,null,null,null,null,null,5.4423896301426774E-3,5.4423896301426774E-3,5.4423896301426774E-3,5.4423896301426774E-3,5.4423896301426774E-3,5.4423896301426774E-3,5.4423896301426774E-3,5.4423896301426774E-3]
[null,null,null,null,{"$f":"Input!E322","v":"Asset replacement capex expenditure"},null,"%",null,null,null,null,null,null,null,null,null,null,null,null,null,null,null,null,null,null,null,null,null,null,null,null,null,null,0.10954875936750175,0.10954875936750175,0.10954875936750175,0.10954875936750175,0.10954875936750175,0.10954875936750175,0.10954875936750175,0.10954875936750175]
[null,null,null,null,{"$f":"Input!E323","v":"Other capex expenditure"},null,"%",null,null,null,null,null,null,null,null,null,null,null,null,null,null,null,null,null,null,null,null,null,null,null,null,null,null,0.10954875936750175,0.10954875936750175,0.10954875936750175,0.10954875936750175,0.10954875936750175,0.10954875936750175,0.10954875936750175,0.10954875936750175]
[null,null,null,null,{"$f":"Input!E324","v":"Opex"},null,"%",null,null,null,null,null,null,null,null,null,null,null,null,null,null,null,null,null,null,null,null,null,null,null,null,null,null,0,0,0,0,0,0,0,0]
[null,null,null,null,{"$f":"Input!E325","v":"Non Operational Capex"},null,"%",null,null,null,null,null,null,null,null,null,null,null,null,null,null,null,null,null,null,null,null,null,null,null,null,null,null,1,1,1,1,1,1,1,1]
[]
[null,null,null,"Allocation to \"Special Rate\" pool"]
[]
[null,null,null,null,{"$f":"Input!E329","v":"Load related capex expenditure"},null,"%",null,null,null,null,null,null,null,null,null,null,null,null,null,null,null,null,null,null,null,null,null,null,null,null,null,null,0.98133000000000004,0.98133000000000004,0.98133000000000004,0.98133000000000004,0.98133000000000004,0.98133000000000004,0.98133000000000004,0.98133000000000004]
[null,null,null,null,{"$f":"Input!E330","v":"Asset replacement capex expenditure"},null,"%",null,null,null,null,null,null,null,null,null,null,null,null,null,null,null,null,null,null,null,null,null,null,null,null,null,null,0.80837000000000003,0.80837000000000003,0.80837000000000003,0.80837000000000003,0.80837000000000003,0.80837000000000003,0.80837000000000003,0.80837000000000003]
[null,null,null,null,{"$f":"Input!E331","v":"Other capex expenditure"},null,"%",null,null,null,null,null,null,null,null,null,null,null,null,null,null,null,null,null,null,null,null,null,null,null,null,null,null,0.80837000000000003,0.80837000000000003,0.80837000000000003,0.80837000000000003,0.80837000000000003,0.80837000000000003,0.80837000000000003,0.80837000000000003]
[null,null,null,null,{"$f":"Input!E332","v":"Opex"},null,"%",null,null,null,null,null,null,null,null,null,null,null,null,null,null,null,null,null,null,null,null,null,null,null,null,null,null,0,0,0,0,0,0,0,0]
[null,null,null,null,{"$f":"Input!E333","v":"Non Operational Capex"},null,"%",null,null,null,null,null,null,null,null,null,null,null,null,null,null,null,null,null,null,null,null,null,null,null,null,null,null,0,0,0,0,0,0,0,0]
[]
[null,null,null,"Allocation to \"Deferred Revenue\" pool"]
[]
[null,null,null,null,{"$f":"Input!E337","v":"Load related capex expenditure"},null,"%",null,null,null,null,null,null,null,null,null,null,null,null,null,null,null,null,null,null,null,null,null,null,null,null,null,null,0,0,0,0,0,0,0,0]
[null,null,null,null,{"$f":"Input!E338","v":"Asset replacement capex expenditure"},null,"%",null,null,null,null,null,null,null,null,null,null,null,null,null,null,null,null,null,null,null,null,null,null,null,null,null,null,0,0,0,0,0,0,0,0]
[null,null,null,null,{"$f":"Input!E339","v":"Other capex expenditure"},null,"%",null,null,null,null,null,null,null,null,null,null,null,null,null,null,null,null,null,null,null,null,null,null,null,null,null,null,0,0,0,0,0,0,0,0]
[null,null,null,null,{"$f":"Input!E340","v":"Opex"},null,"%",null,null,null,null,null,null,null,null,null,null,null,null,null,null,null,null,null,null,null,null,null,null,null,null,null,null,0,0,0,0,0,0,0,0]
[null,null,null,null,{"$f":"Input!E341","v":"Non Operational Capex"},null,"%",null,null,null,null,null,null,null,null,null,null,null,null,null,null,null,null,null,null,null,null,null,null,null,null,null,null,0,0,0,0,0,0,0,0]
[]
[null,null,null,"Allocation to \"Revenue\" pool"]
[]
[null,null,null,null,{"$f":"Input!E345","v":"Load related capex expenditure"},null,"%",null,null,null,null,null,null,null,null,null,null,null,null,null,null,null,null,null,null,null,null,null,null,null,null,null,null,0,0,0,0,0,0,0,0]
[null,null,null,null,{"$f":"Input!E346","v":"Asset replacement capex expenditure"},null,"%",null,null,null,null,null,null,null,null,null,null,null,null,null,null,null,null,null,null,null,null,null,null,null,null,null,null,0,0,0,0,0,0,0,0]
[null,null,null,null,{"$f":"Input!E347","v":"Other capex expenditure"},null,"%",null,null,null,null,null,null,null,null,null,null,null,null,null,null,null,null,null,null,null,null,null,null,null,null,null,null,0,0,0,0,0,0,0,0]
[null,null,null,null,{"$f":"Input!E348","v":"Opex"},null,"%",null,null,null,null,null,null,null,null,null,null,null,null,null,null,null,null,null,null,null,null,null,null,null,null,null,null,1,1,1,1,1,1,1,1]
[null,null,null,null,{"$f":"Input!E349","v":"Non Operational Capex"},null,"%",null,null,null,null,null,null,null,null,null,null,null,null,null,null,null,null,null,null,null,null,null,null,null,null,null,null,0,0,0,0,0,0,0,0]
[]
[null,null,null,"Allocation to \"Non Qualifying\" pool"]
[]
[null,null,null,null,{"$f":"Input!E353","v":"Load related capex expenditure"},null,"%",null,null,null,null,null,null,null,null,null,null,null,null,null,null,null,null,null,null,null,null,null,null,null,null,null,null,1.323E-2,1.323E-2,1.323E-2,1.323E-2,1.323E-2,1.323E-2,1.323E-2,1.323E-2]
[null,null,null,null,{"$f":"Input!E354","v":"Asset replacement capex expenditure"},null,"%",null,null,null,null,null,null,null,null,null,null,null,null,null,null,null,null,null,null,null,null,null,null,null,null,null,null,8.208E-2,8.208E-2,8.208E-2,8.208E-2,8.208E-2,8.208E-2,8.208E-2,8.208E-2]
[null,null,null,null,{"$f":"Input!E355","v":"Other capex expenditure"},null,"%",null,null,null,null,null,null,null,null,null,null,null,null,null,null,null,null,null,null,null,null,null,null,null,null,null,null,8.208E-2,8.208E-2,8.208E-2,8.208E-2,8.208E-2,8.208E-2,8.208E-2,8.208E-2]
[null,null,null,null,{"$f":"Input!E356","v":"Opex"},null,"%",null,null,null,null,null,null,null,null,null,null,null,null,null,null,null,null,null,null,null,null,null,null,null,null,null,null,0,0,0,0,0,0,0,0]
[null,null,null,null,{"$f":"Input!E357","v":"Non Operational Capex"},null,"%",null,null,null,null,null,null,null,null,null,null,null,null,null,null,null,null,null,null,null,null,null,null,null,null,null,null,0,0,0,0,0,0,0,0]
[]
[null,null,null,"Allocation check"]
[null,null,null,"Note: All categories should equal 100%"]
[]
[null,null,null,null,{"$f":"Input!E362","v":"Load related capex expenditure"},null,"%",null,null,null,null,null,null,null,null,null,null,null,null,null,null,null,null,null,null,null,null,null,null,null,null,null,null,{"$f":"AH321+AH329+AH337+AH345+AH353","v":1.0000023896301427},1.0000023896301427,1.0000023896301427,1.0000023896301427,1.0000023896301427,1.0000023896301427,1.0000023896301427,1.0000023896301427]
[null,null,null,null,{"$f":"Input!E363","v":"Asset replacement capex expenditure"},null,"%",null,null,null,null,null,null,null,null,null,null,null,null,null,null,null,null,null,null,null,null,null,null,null,null,null,null,0.99999875936750182,0.99999875936750182,0.99999875936750182,0.99999875936750182,0.99999875936750182,0.99999875936750182,0.99999875936750182,0.99999875936750182]
[null,null,null,null,{"$f":"Input!E364","v":"Other capex expenditure"},null,"%",null,null,null,null,null,null,null,null,null,null,null,null,null,null,null,null,null,null,null,null,null,null,null,null,null,null,0.99999875936750182,0.99999875936750182,0.99999875936750182,0.99999875936750182,0.99999875936750182,0.99999875936750182,0.99999875936750182,0.99999875936750182]
[null,null,null,null,{"$f":"Input!E365","v":"Opex"},null,"%",null,null,null,null,null,null,null,null,null,null,null,null,null,null,null,null,null,null,null,null,null,null,null,null,null,null,1,1,1,1,1,1,1,1]
[null,null,null,null,{"$f":"Input!E366","v":"Non Operational Capex"},null,"%",null,null,null,null,null,null,null,null,null,null,null,null,null,null,null,null,null,null,null,null,null,null,null,null,null,null,1,1,1,1,1,1,1,1]
[]
[null,null,null,"Tax Trigger Deadbands"]
[]
[null,null,null,null,"Tax Trigger Deadband",null,null,null,null,null,null,null,null,null,null,null,null,null,null,null,null,null,null,null,null,null,null,null,null,null,null,null,null,0.74484340555439421,0.7939215701994341,0.88700961397791545,0.87250608023690179,0.9092160731470198,0.93946392035967863,0.95782903535328134,0.93462597019936156]
[]
[null,null,null,"Additional Income Workings"]
[]
[null,null,null,null,"Original allowed totex",null,null,null,null,null,null,null,null,null,null,null,null,null,null,null,null,null,null,null,null,null,null,null,null,null,null,null,null,309.38910112272532,387.68595902473805,292.04765528316193,129.29459172589145,127.54089321548615,132.8064113849768,149.15107505148174,118.79776815619309]
[null,null,null,null,"Total allowed totex",null,null,null,1646.7134549646546]
[]
[null,"End of sheet"]

{"sheet":"SPTL (Blank - not used)","index":21,"n_rows":0,"n_cols":0,"rows_kept":0,"cut":false,"hidden":true,"merged":[]}

{"sheet":"NGET TO","index":22,"n_rows":377,"n_cols":41,"rows_kept":377,"cut":false,"hidden":false,"merged":[]}
["Input"]
[null,"NGET TO"]
[null,null,null,null,"Parameter","Licence condition","Units","Term","Constant",null,null,null,null,null,null,null,null,null,null,null,null,null,null,null,null,null,null,null,null,null,null,null,null,"Annual values"]
[null,null,null,null,"PCFM year ending",{"$f":"Cover!C3","v":"ET1 PCFM November 2014 change control 18 (SO Data Centre).xlsm"},null,null,{"$f":"UserInterface!$G$18","v":"2016-03-31"},null,"1991-03-31","1992-03-31","1993-03-31","1994-03-31","1995-03-31","1996-03-31","1997-03-31","1998-03-31","1999-03-31","2000-03-31","2001-03-31","2002-03-31","2003-03-31","2004-03-31","2005-03-31","2006-03-31","2007-03-31","2008-03-31","2009-03-31","2010-03-31","2011-03-31","2012-03-31","2013-03-31","2014-03-31","2015-03-31","2016-03-31","2017-03-31","2018-03-31","2019-03-31","2020-03-31","2021-03-31"]
[]
[null,"PCFM Variable Values Table"]
[]
[null,null,null,null,{"$f":"Input!E8","v":"Allowed percentage cost of debt"},{"$f":"Input!F8","v":"6D"},"annual real %",{"$f":"Input!H8","v":"CDE / SO CDE"},null,null,null,null,null,null,null,null,null,null,null,null,null,null,null,null,null,null,null,null,null,null,null,null,null,2.92E-2,2.7199999999999998E-2,2.5499999999999998E-2,2.5499999999999998E-2,2.5499999999999998E-2,2.5499999999999998E-2,2.5499999999999998E-2,2.5499999999999998E-2]
[null,null,null,null,{"$f":"Input!E9","v":"Actual load related capex expenditure"},{"$f":"Input!F9","v":"6C"},"£m 09/10 prices",{"$f":"Input!H9","v":"ALC"},null,null,null,null,null,null,null,null,null,null,null,null,null,null,null,null,null,null,null,null,null,null,null,null,null,576.4723599528071,0,0,0,0,0,0,0]
[null,null,null,null,{"$f":"Input!E10","v":"Actual asset replacement capex expenditure"},{"$f":"Input!F10","v":"6C"},"£m 09/10 prices",{"$f":"Input!H10","v":"ARC"},null,null,null,null,null,null,null,null,null,null,null,null,null,null,null,null,null,null,null,null,null,null,null,null,null,217.14268787167353,0,0,0,0,0,0,0]
[null,null,null,null,{"$f":"Input!E11","v":"Actual other capex expenditure"},{"$f":"Input!F11","v":"6C"},"£m 09/10 prices",{"$f":"Input!H11","v":"AOC"},null,null,null,null,null,null,null,null,null,null,null,null,null,null,null,null,null,null,null,null,null,null,null,null,null,174.99178290887571,0,0,0,0,0,0,0]
[null,null,null,null,{"$f":"Input!E12","v":"Actual controllable opex"},{"$f":"Input!F12","v":"6C"},"£m 09/10 prices",{"$f":"Input!H12","v":"ACO"},null,null,null,null,null,null,null,null,null,null,null,null,null,null,null,null,null,null,null,null,null,null,null,null,null,165.28612902215741,0,0,0,0,0,0,0]
[null,null,null,null,{"$f":"Input!E13","v":"Actual non-operational capex"},{"$f":"Input!F13","v":"6C"},"£m 09/10 prices",{"$f":"Input!H13","v":"ANC"},null,null,null,null,null,null,null,null,null,null,null,null,null,null,null,null,null,null,null,null,null,null,null,null,null,30.724403941398467,0,0,0,0,0,0,0]
[null,null,null,null,{"$f":"Input!E14","v":"Uncertain costs - enhanced security"},{"$f":"Input!F14","v":"6H"},"£m 09/10 prices",{"$f":"Input!H14","v":"IAEEPS"},null,null,null,null,null,null,null,null,null,null,null,null,null,null,null,null,null,null,null,null,null,null,null,null,null,0,0,0,0,0,0,0,0]
[null,null,null,null,{"$f":"Input!E15","v":"Uncertain costs – workforce renewal (SPTL only)"},{"$f":"Input!F15","v":"6H"},"£m 09/10 prices",{"$f":"Input!H15","v":"IAEWR"},null,null,null,null,null,null,null,null,null,null,null,null,null,null,null,null,null,null,null,null,null,null,null,null,null,0,0,0,0,0,0,0,0]
[null,null,null,null,{"$f":"Input!E16","v":"Uncertain costs – BT 21st Century (SHETPLC only)"},{"$f":"Input!F16","v":"6H"},"£m 09/10 prices",{"$f":"Input!H16","v":"IAEBT"},null,null,null,null,null,null,null,null,null,null,null,null,null,null,null,null,null,null,null,null,null,null,null,null,null,0,0,0,0,0,0,0,0]
[null,null,null,null,{"$f":"Input!E17","v":"Uncertain costs – compensation costs for landowners for wayleave (SHETPLC only)"},{"$f":"Input!F17","v":"6H"},"£m 09/10 prices",{"$f":"Input!H17","v":"IAEWL"},null,null,null,null,null,null,null,null,null,null,null,null,null,null,null,null,null,null,null,null,null,null,null,null,null,0,0,0,0,0,0,0,0]
[null,null,null,null,{"$f":"Input!E18","v":"Baseline and strategic wider works outputs"},{"$f":"Input!F18","v":"6I"},"£m 09/10 prices",{"$f":"Input!H18","v":"WWE"},null,null,null,null,null,null,null,null,null,null,null,null,null,null,null,null,null,null,null,null,null,null,null,null,null,161.69999999999999,230.4,208.9,20.100000000000001,0,0,0,0]
[null,null,null,null,{"$f":"Input!E19","v":"Network development and wider works volume driver (NGET only)"},{"$f":"Input!F19","v":"6J"},"£m 09/10 prices",{"$f":"Input!H19","v":"WWI"},null,null,null,null,null,null,null,null,null,null,null,null,null,null,null,null,null,null,null,null,null,null,null,null,null,397.10976000000005,303.28366650003596,264.33553004596803,283.1637443656266,133.19506189144005,70.252237682919812,27.324729352097304,8.5693141994208588]
[null,null,null,null,{"$f":"Input!E20","v":"Enhancements to pre-existing infrastructure"},{"$f":"Input!F20","v":"6G"},"£m 09/10 prices",{"$f":"Input!H20","v":"EPIE"},null,null,null,null,null,null,null,null,null,null,null,null,null,null,null,null,null,null,null,null,null,null,null,null,null,0,0,0,0,0,0,0,0]
[null,null,null,null,{"$f":"Input!E21","v":"Demand related infrastructure volume driver"},{"$f":"Input!F21","v":"6L"},"£m 09/10 prices",{"$f":"Input!H21","v":"DRI"},null,null,null,null,null,null,null,null,null,null,null,null,null,null,null,null,null,null,null,null,null,null,null,null,null,31.787715383222817,36.187416312851781,32.387791310196604,32.828105188428069,50.58957488491852,41.373058819084775,12.47368774024774,0.9330676836534848]
[null,null,null,null,{"$f":"Input!E22","v":"Undergrounding volume driver"},{"$f":"Input!F22","v":"6K"},"£m 09/10 prices",{"$f":"Input!H22","v":"UCE"},null,null,null,null,null,null,null,null,null,null,null,null,null,null,null,null,null,null,null,null,null,null,null,null,null,0,0,0,0,0,0,0,0]
[null,null,null,null,{"$f":"Input!E23","v":"Generation connections volume driver"},{"$f":"Input!F23","v":"6F"},"£m 09/10 prices",{"$f":"Input!H23","v":"GCE"},null,null,null,null,null,null,null,null,null,null,null,null,null,null,null,null,null,null,null,null,null,null,null,null,null,133.86004855000002,185.22825752485659,184.11220513019714,220.70970463254625,117.36407774335473,95.964578816260541,42.49354524228189,20.661511677719247]
[null,null,null,null,{"$f":"Input!E24","v":"Innovation roll out mechanism"},{"$f":"Input!F24","v":"6E"},"£m 09/10 prices",{"$f":"Input!H24","v":"IRM"},null,null,null,null,null,null,null,null,null,null,null,null,null,null,null,null,null,null,null,null,null,null,null,null,null,0,0,0,0,0,0,0,0]
[null,null,null,null,{"$f":"Input!E25","v":"Exceptional Sub Sea Cable Faults"},{"$f":"Input!F25","v":"6H"},"£m 09/10 prices",{"$f":"Input!H25","v":"IAESSCM"},null,null,null,null,null,null,null,null,null,null,null,null,null,null,null,null,null,null,null,null,null,null,null,null,null,0,0,0,0,0,0,0,0]
[null,null,null,null,{"$f":"Input!E26","v":"Non-load Related Work Costs"},{"$f":"Input!F26","v":"6H"},"£m 09/10 prices",{"$f":"Input!H26","v":"IAENLUM"},null,null,null,null,null,null,null,null,null,null,null,null,null,null,null,null,null,null,null,null,null,null,null,null,null,0,0,0,0,0,0,0,0]
[null,null,null,null,{"$f":"Input!E27","v":"Tax liability - gearing/interest costs"},{"$f":"Input!F27","v":"6D"},"£m nominal",{"$f":"Input!H27","v":"TGIE"},null,null,null,null,null,null,null,null,null,null,null,null,null,null,null,null,null,null,null,null,null,null,null,null,null,0,0,0,0,0,0,0,0]
[null,null,null,null,{"$f":"Input!E28","v":"Tax liability - tax trigger events"},{"$f":"Input!F28","v":"6D"},"£m 09/10 prices",{"$f":"Input!H28","v":"TTE"},null,null,null,null,null,null,null,null,null,null,null,null,null,null,null,null,null,null,null,null,null,null,null,null,null,0,0,0,0,0,0,0,0]
[null,null,null,null,{"$f":"Input!E29","v":"Pension scheme administration and Pension Protection Fund Levy"},{"$f":"Input!F29","v":"6D"},"£m 09/10 prices",{"$f":"Input!H29","v":"APFE"},null,null,null,null,null,null,null,null,null,null,null,null,null,null,null,null,null,null,null,null,null,null,null,null,null,1.5,1.3,1.3,1.5,1.3,1.3,1.5,1.3]
[null,null,null,null,{"$f":"Input!E30","v":"Pension Scheme Established Deficit"},{"$f":"Input!F30","v":"6D"},"£m 09/10 prices",{"$f":"Input!H30","v":"EDE"},null,null,null,null,null,null,null,null,null,null,null,null,null,null,null,null,null,null,null,null,null,null,null,null,null,28.929052554944597,28.929052554944597,32.585753058109198,32.585753058109198,32.585753058109198,32.585753058109198,32.585753058109198,32.585753058109198]
[null,null,null,null,{"$f":"Input!E31","v":"Legacy price control adjustments to allowed revenue"},{"$f":"Input!F31","v":"6A"},"£m 09/10 prices",{"$f":"Input!H31","v":"LAR"},null,null,null,null,null,null,null,null,null,null,null,null,null,null,null,null,null,null,null,null,null,null,null,null,null,98.594376304701441]
[null,null,null,null,{"$f":"Input!E32","v":"Legacy price control adjustments to RAV"},{"$f":"Input!F32","v":"6A"},"£m 09/10 prices",{"$f":"Input!H32","v":"LRAV"},null,null,null,null,null,null,null,null,null,null,null,null,null,null,null,null,null,null,null,null,null,null,null,null,null,-162.17489418365281]
[]
[null,"Policy"]
[]
[null,null,"Cost of capital"]
[]
[null,null,null,null,"Cost of debt",null,"annual real %",null,null,">",null,null,null,null,null,null,null,null,null,null,null,null,null,null,null,null,null,null,null,null,null,null,null,{"$f":"AH8","v":2.92E-2},{"$f":"AI8","v":2.7199999999999998E-2},2.5499999999999998E-2,2.5499999999999998E-2,2.5499999999999998E-2,2.5499999999999998E-2,2.5499999999999998E-2,2.5499999999999998E-2]
[null,null,null,null,"Cost of equity",null,"annual real %",null,null,">",null,null,null,null,null,null,null,null,null,null,null,null,null,null,null,null,null,null,null,null,null,null,null,7.0000000000000007E-2,7.0000000000000007E-2,7.0000000000000007E-2,7.0000000000000007E-2,7.0000000000000007E-2,7.0000000000000007E-2,7.0000000000000007E-2,7.0000000000000007E-2]
[null,null,null,null,"Notional gearing",null,"%",null,null,">",null,null,null,null,null,null,null,null,null,null,null,null,null,null,null,null,null,null,null,null,null,null,0.6,0.6,0.6,0.6,0.6,0.6,0.6,0.6,0.6]
[]
[null,null,null,null,"Vanilla WACC",null,"annual real %",null,null,">",null,null,null,null,null,null,null,null,null,null,null,null,null,null,null,null,null,null,null,null,null,null,null,{"$f":"(AH38 * AH40) + (AH39 * (1 - AH40))","v":4.5520000000000005E-2},4.4319999999999998E-2,4.3300000000000005E-2,4.3300000000000005E-2,4.3300000000000005E-2,4.3300000000000005E-2,4.3300000000000005E-2,4.3300000000000005E-2]
[]
[null,null,null,null,"Closing gearing",null,"%",null,0.61135353243992929]
[]
[null,null,null,null,"Forecast RPI (simple average year to March)",null,"index value",null,null,">",null,null,null,null,null,null,null,null,null,null,null,173.875,177.517,182.47499999999999,188.15,193.108,200.31700000000001,208.59200000000001,214.78299999999999,215.767,226.47499999999999,{"$f":"ROUND(AVERAGE(234.4,235.2,235.2,234.7,236.1,237.9,238,238.5,239.4,238,239.9,240.8),3)","v":237.34200000000001},{"$f":"ROUND(AF46*(1+2.8%),3)","v":243.988},{"$f":"ROUND(AG46*(1+2.8%),3)","v":250.82},257.84300000000002,265.06299999999999,272.48500000000001,280.11500000000001,287.95800000000003,296.02100000000002,304.31]
[null,null,null,null,"Cost of Debt Inflation",null,"index value",null,null,">",null,null,null,null,null,null,null,null,null,null,null,173.875,177.517,182.47499999999999,188.15,193.108,200.31700000000001,208.59200000000001,214.78299999999999,215.767,226.47499999999999,{"$f":"ROUND(AVERAGE(234.4,235.2,235.2,234.7,236.1,237.9,238,238.5,239.4,238,239.9,240.8),3)","v":237.34200000000001},{"$f":"ROUND(AF47*(1+2.8%),3)","v":243.988},250.82,257.84300000000002,265.06299999999999,272.48500000000001,280.11500000000001,287.95800000000003,296.02100000000002,304.31]
[null,null,"TIM and capitalisation"]
[]
[null,null,null,null,"Years from t until normal reporting of actual costs",null,"years",null,2]
[]
[null,null,null,null,"Capitalised share of totex",null,"%",null,null,null,null,null,null,null,null,null,null,null,null,null,null,null,null,null,null,null,null,null,null,null,null,null,null,0.85,0.85,0.85,0.85,0.85,0.85,0.85,0.85]
[null,null,null,null,"Capitalised share of wider works",null,"%",null,null,null,null,null,null,null,null,null,null,null,null,null,null,null,null,null,null,null,null,null,null,null,null,null,null,0.85,0.85,0.85,0.85,0.85,0.85,0.85,0.85]
[]
[null,null,null,null,"Incentive rate (slope)",null,"scalar",null,-2.5000000000000001E-3]
[null,null,null,null,"Incentive rate (intercept)",null,"scalar",null,0.75]
[null,null,null,null,"Additional income (intercept)",null,"scalar",null,8.75]
[null,null,null,null,"Additional Income (adjustment)",null,"£m 09/10 prices",null,null,null,null,null,null,null,null,null,null,null,null,null,null,null,null,null,null,null,null,null,null,null,null,null,null,2.112301095779221,2.0430759374999998,2.0009315624999999,1.9587871875,1.9166428125000003,1.8744984375,1.8323540625000001,1.7902096875000004]
[null,null,null,null,"Weight of Ofgem's view on price control totex",null,"%",null,0.75]
[null,null,null,null,"Weight of operator's view on price control totex",null,"%",null,0.25]
[]
[null,null,null,null,"Ofgem's view of  licencee totex",null,"£m 09/10 prices",null,10961.973161856522]
[null,null,null,null,"Operator's view of licencee totex",null,"£m 09/10 prices",null,12278.830249944474]
[]
[null,null,null,null,"Ofgem's view of group price control totex",null,"£m 09/10 prices",null,11784.975392745635]
[null,null,null,null,"Operator's view of group price control totex",null,"£m 09/10 prices",null,13249.135860126062]
[]
[null,null,"Finance"]
[]
[null,null,null,null,"Minimum equity issuance threshold",null,"%",null,2.5000000000000001E-2]
[null,null,null,null,"Equity issuance costs",null,"%",null,0.05]
[null,null,null,null,"Assumed dividends as % of notional equity portion of RAV",null,"%",null,0.05]
[]
[null,null,null,null,"Equity issuance gearing target",null,"%",null,null,null,null,null,null,null,null,null,null,null,null,null,null,null,null,null,null,null,null,null,null,null,null,null,null,{"$f":"AH40","v":0.6},{"$f":"AI40","v":0.6},0.6,0.6,0.6,0.6,0.6,0.6]
[]
[null,null,null,null,"Index-linked debt as a percentage of net debt",null,"%",null,null,null,null,null,null,null,null,null,null,null,null,null,null,null,null,null,null,null,null,null,null,null,null,null,null,0.25,0.25,0.25,0.25,0.25,0.25,0.25,0.25]
[]
[null,"Expenditure"]
[]
[null,null,"Totex"]
[]
[null,null,null,"Non-variant allowances"]
[]
[null,null,null,null,{"$f":"Input!E84","v":"Non-variant allowed load related capex expenditure"},null,"£m 09/10 prices",null,null,null,null,null,null,null,null,null,null,null,null,null,null,null,null,null,null,null,null,null,null,null,null,null,null,241.91835100747039,206.22285805015076,183.4765697039528,187.40173539185469,142.92705896695065,124.46128971626086,44.072350609794569,28.383548641119383]
[null,null,null,null,{"$f":"Input!E85","v":"Non-variant allowed asset replacement capex expenditure"},null,"£m 09/10 prices",null,null,null,null,null,null,null,null,null,null,null,null,null,null,null,null,null,null,null,null,null,null,null,null,null,null,468.80843213925681,464.05399879326387,458.96940179907631,462.20515674748674,597.39616992865308,694.95362362794094,760.47133413278959,680.37534043694836]
[null,null,null,null,{"$f":"Input!E86","v":"Non-variant allowed other capex expenditure"},null,"£m 09/10 prices",null,null,null,null,null,null,null,null,null,null,null,null,null,null,null,null,null,null,null,null,null,null,null,null,null,null,8.8076800000000013,7.2568799999999998,5.9409999999999998,8.2522800000000007,7.9053199999999988,10.711639999999999,10.669640000000001,11.88064]
[null,null,null,null,{"$f":"Input!E87","v":"Non-variant allowed controllable opex"},null,"£m 09/10 prices",null,null,null,null,null,null,null,null,null,null,null,null,null,null,null,null,null,null,null,null,null,null,null,null,null,null,192.21282629439594,196.41204072355288,203.04710659109347,204.35171680440774,205.72203973741003,206.0644404839947,207.83890997781467,208.20405529640865]
[null,null,null,null,{"$f":"Input!E88","v":"Non-variant allowed non-operational capex"},null,"£m 09/10 prices",null,null,null,null,null,null,null,null,null,null,null,null,null,null,null,null,null,null,null,null,null,null,null,null,null,null,28.502252866756592,27.893219356255912,20.162895818884664,18.683994860020533,17.317434737643207,10.132273565113017,13.10983633518048,11.957035518704526]
[]
[null,null,null,"Variant allowances"]
[]
[null,null,null,null,{"$f":"Input!E92","v":"Uncertain costs - enhanced security"},null,"£m 09/10 prices",null,null,null,null,null,null,null,null,null,null,null,null,null,null,null,null,null,null,null,null,null,null,null,null,null,null,{"$f":"AH14","v":0},{"$f":"AI14","v":0},0,0,0,0,0,0]
[null,null,null,null,{"$f":"Input!E93","v":"Allocation to load related capex expenditure"},null,"%",null,null,null,null,null,null,null,null,null,null,null,null,null,null,null,null,null,null,null,null,null,null,null,null,null,null,0,0,0,0,0,0,0,0]
[null,null,null,null,{"$f":"Input!E94","v":"Allocation to asset replacement capex expenditure"},null,"%",null,null,null,null,null,null,null,null,null,null,null,null,null,null,null,null,null,null,null,null,null,null,null,null,null,null,0,0,0,0,0,0,0,0]
[null,null,null,null,{"$f":"Input!E95","v":"Allocation to other capex expenditure"},null,"%",null,null,null,null,null,null,null,null,null,null,null,null,null,null,null,null,null,null,null,null,null,null,null,null,null,null,0.93796642505420025,0.87522948607442352,0.48875840454230463,0.62965160441781109,0.25797691305801901,0.25821327848662673,0.25817001505351456,0.25811540847402803]
[null,null,null,null,{"$f":"Input!E96","v":"Allocation to controllable opex"},null,"%",null,null,null,null,null,null,null,null,null,null,null,null,null,null,null,null,null,null,null,null,null,null,null,null,null,null,6.2033574945799752E-2,0.12477051392557648,0.51124159545769543,0.37034839558218891,0.74202308694198105,0.74178672151337333,0.74182998494648544,0.74188459152597197]
[null,null,null,null,{"$f":"Input!E97","v":"Allocation to non-operational capex"},null,"%",null,null,null,null,null,null,null,null,null,null,null,null,null,null,null,null,null,null,null,null,null,null,null,null,null,null,0,0,0,0,0,0,0,0]
[]
[null,null,null,null,{"$f":"Input!E99","v":"Uncertain costs – workforce renewal (SPTL only)"},null,"£m 09/10 prices",null,null,null,null,null,null,null,null,null,null,null,null,null,null,null,null,null,null,null,null,null,null,null,null,null,null,{"$f":"AH15","v":0},{"$f":"AI15","v":0},{"$f":"AJ15","v":0},0,0,0,0,0]
[null,null,null,null,{"$f":"Input!E100","v":"Allocation to load related capex expenditure"},null,"%",null,null,null,null,null,null,null,null,null,null,null,null,null,null,null,null,null,null,null,null,null,null,null,null,null,null,0,0,0,0,0,0,0,0]
[null,null,null,null,{"$f":"Input!E101","v":"Allocation to asset replacement capex expenditure"},null,"%",null,null,null,null,null,null,null,null,null,null,null,null,null,null,null,null,null,null,null,null,null,null,null,null,null,null,0,0,0,0,0,0,0,0]
[null,null,null,null,{"$f":"Input!E102","v":"Allocation to other capex expenditure"},null,"%",null,null,null,null,null,null,null,null,null,null,null,null,null,null,null,null,null,null,null,null,null,null,null,null,null,null,1,1,1,1,1,1,1,1]
[null,null,null,null,{"$f":"Input!E103","v":"Allocation to controllable opex"},null,"%",null,null,null,null,null,null,null,null,null,null,null,null,null,null,null,null,null,null,null,null,null,null,null,null,null,null,0,0,0,0,0,0,0,0]
[null,null,null,null,{"$f":"Input!E104","v":"Allocation to non-operational capex"},null,"%",null,null,null,null,null,null,null,null,null,null,null,null,null,null,null,null,null,null,null,null,null,null,null,null,null,null,0,0,0,0,0,0,0,0]
[]
[null,null,null,null,{"$f":"Input!E106","v":"Uncertain costs – BT 21st Century (SHETPLC only)"},null,"£m 09/10 prices",null,null,null,null,null,null,null,null,null,null,null,null,null,null,null,null,null,null,null,null,null,null,null,null,null,null,{"$f":"AH16","v":0},{"$f":"AI16","v":0},0,0,0,0,0,0]
[null,null,null,null,{"$f":"Input!E107","v":"Allocation to load related capex expenditure"},null,"%",null,null,null,null,null,null,null,null,null,null,null,null,null,null,null,null,null,null,null,null,null,null,null,null,null,null,0,0,0,0,0,0,0,0]
[null,null,null,null,{"$f":"Input!E108","v":"Allocation to asset replacement capex expenditure"},null,"%",null,null,null,null,null,null,null,null,null,null,null,null,null,null,null,null,null,null,null,null,null,null,null,null,null,null,0,0,0,0,0,0,0,0]
[null,null,null,null,{"$f":"Input!E109","v":"Allocation to other capex expenditure"},null,"%",null,null,null,null,null,null,null,null,null,null,null,null,null,null,null,null,null,null,null,null,null,null,null,null,null,null,1,1,1,1,1,1,1,1]
[null,null,null,null,{"$f":"Input!E110","v":"Allocation to controllable opex"},null,"%",null,null,null,null,null,null,null,null,null,null,null,null,null,null,null,null,null,null,null,null,null,null,null,null,null,null,0,0,0,0,0,0,0,0]
[null,null,null,null,{"$f":"Input!E111","v":"Allocation to non-operational capex"},null,"%",null,null,null,null,null,null,null,null,null,null,null,null,null,null,null,null,null,null,null,null,null,null,null,null,null,null,0,0,0,0,0,0,0,0]
[]
[null,null,null,null,{"$f":"Input!E113","v":"Uncertain costs – compensation costs for landowners for wayleave (SHETPLC only)"},null,"£m 09/10 prices",null,null,null,null,null,null,null,null,null,null,null,null,null,null,null,null,null,null,null,null,null,null,null,null,null,null,{"$f":"AH17","v":0},{"$f":"AI17","v":0},0,0,0,0,0,0]
[null,null,null,null,{"$f":"Input!E114","v":"Allocation to load related capex expenditure"},null,"%",null,null,null,null,null,null,null,null,null,null,null,null,null,null,null,null,null,null,null,null,null,null,null,null,null,null,0,0,0,0,0,0,0,0]
[null,null,null,null,{"$f":"Input!E115","v":"Allocation to asset replacement capex expenditure"},null,"%",null,null,null,null,null,null,null,null,null,null,null,null,null,null,null,null,null,null,null,null,null,null,null,null,null,null,0,0,0,0,0,0,0,0]
[null,null,null,null,{"$f":"Input!E116","v":"Allocation to other capex expenditure"},null,"%",null,null,null,null,null,null,null,null,null,null,null,null,null,null,null,null,null,null,null,null,null,null,null,null,null,null,1,1,1,1,1,1,1,1]
[null,null,null,null,{"$f":"Input!E117","v":"Allocation to controllable opex"},null,"%",null,null,null,null,null,null,null,null,null,null,null,null,null,null,null,null,null,null,null,null,null,null,null,null,null,null,0,0,0,0,0,0,0,0]
[null,null,null,null,{"$f":"Input!E118","v":"Allocation to non-operational capex"},null,"%",null,null,null,null,null,null,null,null,null,null,null,null,null,null,null,null,null,null,null,null,null,null,null,null,null,null,0,0,0,0,0,0,0,0]
[]
[null,null,null,null,{"$f":"Input!E120","v":"Baseline and strategic wider works outputs"},null,"£m 09/10 prices",null,null,null,null,null,null,null,null,null,null,null,null,null,null,null,null,null,null,null,null,null,null,null,null,null,null,{"$f":"AH18","v":161.69999999999999},{"$f":"AI18","v":230.4},208.9,20.100000000000001,0,0,0,0]
[null,null,null,null,{"$f":"Input!E121","v":"Allocation to load related capex expenditure"},null,"%",null,null,null,null,null,null,null,null,null,null,null,null,null,null,null,null,null,null,null,null,null,null,null,null,null,null,1,1,1,1,1,1,1,1]
[null,null,null,null,{"$f":"Input!E122","v":"Allocation to asset replacement capex expenditure"},null,"%",null,null,null,null,null,null,null,null,null,null,null,null,null,null,null,null,null,null,null,null,null,null,null,null,null,null,0,0,0,0,0,0,0,0]
[null,null,null,null,{"$f":"Input!E123","v":"Allocation to other capex expenditure"},null,"%",null,null,null,null,null,null,null,null,null,null,null,null,null,null,null,null,null,null,null,null,null,null,null,null,null,null,0,0,0,0,0,0,0,0]
[null,null,null,null,{"$f":"Input!E124","v":"Allocation to controllable opex"},null,"%",null,null,null,null,null,null,null,null,null,null,null,null,null,null,null,null,null,null,null,null,null,null,null,null,null,null,0,0,0,0,0,0,0,0]
[null,null,null,null,{"$f":"Input!E125","v":"Allocation to non-operational capex"},null,"%",null,null,null,null,null,null,null,null,null,null,null,null,null,null,null,null,null,null,null,null,null,null,null,null,null,null,0,0,0,0,0,0,0,0]
[]
[null,null,null,null,{"$f":"Input!E127","v":"Network development and wider works volume driver (NGET only)"},null,"£m 09/10 prices",null,null,null,null,null,null,null,null,null,null,null,null,null,null,null,null,null,null,null,null,null,null,null,null,null,null,{"$f":"AH19","v":397.10976000000005},303.28366650003596,264.33553004596803,283.1637443656266,133.19506189144005,70.252237682919812,27.324729352097304,8.5693141994208588]
[null,null,null,null,{"$f":"Input!E128","v":"Allocation to load related capex expenditure"},null,"%",null,null,null,null,null,null,null,null,null,null,null,null,null,null,null,null,null,null,null,null,null,null,null,null,null,null,1,1,1,1,1,1,1,1]
[null,null,null,null,{"$f":"Input!E129","v":"Allocation to asset replacement capex expenditure"},null,"%",null,null,null,null,null,null,null,null,null,null,null,null,null,null,null,null,null,null,null,null,null,null,null,null,null,null,0,0,0,0,0,0,0,0]
[null,null,null,null,{"$f":"Input!E130","v":"Allocation to other capex expenditure"},null,"%",null,null,null,null,null,null,null,null,null,null,null,null,null,null,null,null,null,null,null,null,null,null,null,null,null,null,0,0,0,0,0,0,0,0]
[null,null,null,null,{"$f":"Input!E131","v":"Allocation to controllable opex"},null,"%",null,null,null,null,null,null,null,null,null,null,null,null,null,null,null,null,null,null,null,null,null,null,null,null,null,null,0,0,0,0,0,0,0,0]
[null,null,null,null,{"$f":"Input!E132","v":"Allocation to non-operational capex"},null,"%",null,null,null,null,null,null,null,null,null,null,null,null,null,null,null,null,null,null,null,null,null,null,null,null,null,null,0,0,0,0,0,0,0,0]
[]
[null,null,null,null,{"$f":"Input!E134","v":"Enhancements to pre-existing infrastructure"},null,"£m 09/10 prices",null,null,null,null,null,null,null,null,null,null,null,null,null,null,null,null,null,null,null,null,null,null,null,null,null,null,{"$f":"AH20","v":0},0,0,0,0,0,0,0]
[null,null,null,null,{"$f":"Input!E135","v":"Allocation to load related capex expenditure"},null,"%",null,null,null,null,null,null,null,null,null,null,null,null,null,null,null,null,null,null,null,null,null,null,null,null,null,null,0,0,0,0,0,0,0,0]
[null,null,null,null,{"$f":"Input!E136","v":"Allocation to asset replacement capex expenditure"},null,"%",null,null,null,null,null,null,null,null,null,null,null,null,null,null,null,null,null,null,null,null,null,null,null,null,null,null,0,0,0,0,0,0,0,0]
[null,null,null,null,{"$f":"Input!E137","v":"Allocation to other capex expenditure"},null,"%",null,null,null,null,null,null,null,null,null,null,null,null,null,null,null,null,null,null,null,null,null,null,null,null,null,null,1,1,1,1,1,1,1,1]
[null,null,null,null,{"$f":"Input!E138","v":"Allocation to controllable opex"},null,"%",null,null,null,null,null,null,null,null,null,null,null,null,null,null,null,null,null,null,null,null,null,null,null,null,null,null,0,0,0,0,0,0,0,0]
[null,null,null,null,{"$f":"Input!E139","v":"Allocation to non-operational capex"},null,"%",null,null,null,null,null,null,null,null,null,null,null,null,null,null,null,null,null,null,null,null,null,null,null,null,null,null,0,0,0,0,0,0,0,0]
[]
[null,null,null,null,{"$f":"Input!E141","v":"Demand related infrastructure volume driver"},null,"£m 09/10 prices",null,null,null,null,null,null,null,null,null,null,null,null,null,null,null,null,null,null,null,null,null,null,null,null,null,null,{"$f":"AH21","v":31.787715383222817},{"$f":"AI21","v":36.187416312851781},32.387791310196604,32.828105188428069,50.58957488491852,41.373058819084775,12.47368774024774,0.9330676836534848]
[null,null,null,null,{"$f":"Input!E142","v":"Allocation to load related capex expenditure"},null,"%",null,null,null,null,null,null,null,null,null,null,null,null,null,null,null,null,null,null,null,null,null,null,null,null,null,null,1,1,1,1,1,1,1,1]
[null,null,null,null,{"$f":"Input!E143","v":"Allocation to asset replacement capex expenditure"},null,"%",null,null,null,null,null,null,null,null,null,null,null,null,null,null,null,null,null,null,null,null,null,null,null,null,null,null,0,0,0,0,0,0,0,0]
[null,null,null,null,{"$f":"Input!E144","v":"Allocation to other capex expenditure"},null,"%",null,null,null,null,null,null,null,null,null,null,null,null,null,null,null,null,null,null,null,null,null,null,null,null,null,null,0,0,0,0,0,0,0,0]
[null,null,null,null,{"$f":"Input!E145","v":"Allocation to controllable opex"},null,"%",null,null,null,null,null,null,null,null,null,null,null,null,null,null,null,null,null,null,null,null,null,null,null,null,null,null,0,0,0,0,0,0,0,0]
[null,null,null,null,{"$f":"Input!E146","v":"Allocation to non-operational capex"},null,"%",null,null,null,null,null,null,null,null,null,null,null,null,null,null,null,null,null,null,null,null,null,null,null,null,null,null,0,0,0,0,0,0,0,0]
[]
[null,null,null,null,{"$f":"Input!E148","v":"Undergrounding volume driver"},null,"£m 09/10 prices",null,null,null,null,null,null,null,null,null,null,null,null,null,null,null,null,null,null,null,null,null,null,null,null,null,null,{"$f":"AH22","v":0},{"$f":"AI22","v":0},0,0,0,0,0,0]
[null,null,null,null,{"$f":"Input!E149","v":"Allocation to load related capex expenditure"},null,"%",null,null,null,null,null,null,null,null,null,null,null,null,null,null,null,null,null,null,null,null,null,null,null,null,null,null,1,1,1,1,1,1,1,1]
[null,null,null,null,{"$f":"Input!E150","v":"Allocation to asset replacement capex expenditure"},null,"%",null,null,null,null,null,null,null,null,null,null,null,null,null,null,null,null,null,null,null,null,null,null,null,null,null,null,0,0,0,0,0,0,0,0]
[null,null,null,null,{"$f":"Input!E151","v":"Allocation to other capex expenditure"},null,"%",null,null,null,null,null,null,null,null,null,null,null,null,null,null,null,null,null,null,null,null,null,null,null,null,null,null,0,0,0,0,0,0,0,0]
[null,null,null,null,{"$f":"Input!E152","v":"Allocation to controllable opex"},null,"%",null,null,null,null,null,null,null,null,null,null,null,null,null,null,null,null,null,null,null,null,null,null,null,null,null,null,0,0,0,0,0,0,0,0]
[null,null,null,null,{"$f":"Input!E153","v":"Allocation to non-operational capex"},null,"%",null,null,null,null,null,null,null,null,null,null,null,null,null,null,null,null,null,null,null,null,null,null,null,null,null,null,0,0,0,0,0,0,0,0]
[]
[null,null,null,null,{"$f":"Input!E155","v":"Generation connections volume driver"},null,"£m 09/10 prices",null,null,null,null,null,null,null,null,null,null,null,null,null,null,null,null,null,null,null,null,null,null,null,null,null,null,{"$f":"AH23","v":133.86004855000002},{"$f":"AI23","v":185.22825752485659},{"$f":"AJ23","v":184.11220513019714},220.70970463254625,{"$f":"AL23","v":117.36407774335473},95.964578816260541,42.49354524228189,20.661511677719247]
[null,null,null,null,{"$f":"Input!E156","v":"Allocation to load related capex expenditure"},null,"%",null,null,null,null,null,null,null,null,null,null,null,null,null,null,null,null,null,null,null,null,null,null,null,null,null,null,1,1,1,1,1,1,1,1]
[null,null,null,null,{"$f":"Input!E157","v":"Allocation to asset replacement capex expenditure"},null,"%",null,null,null,null,null,null,null,null,null,null,null,null,null,null,null,null,null,null,null,null,null,null,null,null,null,null,0,0,0,0,0,0,0,0]
[null,null,null,null,{"$f":"Input!E158","v":"Allocation to other capex expenditure"},null,"%",null,null,null,null,null,null,null,null,null,null,null,null,null,null,null,null,null,null,null,null,null,null,null,null,null,null,0,0,0,0,0,0,0,0]
[null,null,null,null,{"$f":"Input!E159","v":"Allocation to controllable opex"},null,"%",null,null,null,null,null,null,null,null,null,null,null,null,null,null,null,null,null,null,null,null,null,null,null,null,null,null,0,0,0,0,0,0,0,0]
[null,null,null,null,{"$f":"Input!E160","v":"Allocation to non-operational capex"},null,"%",null,null,null,null,null,null,null,null,null,null,null,null,null,null,null,null,null,null,null,null,null,null,null,null,null,null,0,0,0,0,0,0,0,0]
[]
[null,null,null,null,{"$f":"Input!E162","v":"Innovation roll out mechanism"},null,"£m 09/10 prices",null,null,null,null,null,null,null,null,null,null,null,null,null,null,null,null,null,null,null,null,null,null,null,null,null,null,{"$f":"AH24","v":0},{"$f":"AI24","v":0},0,0,0,0,0,0]
[null,null,null,null,{"$f":"Input!E163","v":"Allocation to load related capex expenditure"},null,"%",null,null,null,null,null,null,null,null,null,null,null,null,null,null,null,null,null,null,null,null,null,null,null,null,null,null,0.3,0.3,0.3,0.3,0.3,0.3,0.3,0.3]
[null,null,null,null,{"$f":"Input!E164","v":"Allocation to asset replacement capex expenditure"},null,"%",null,null,null,null,null,null,null,null,null,null,null,null,null,null,null,null,null,null,null,null,null,null,null,null,null,null,0.1,0.1,0.1,0.1,0.1,0.1,0.1,0.1]
[null,null,null,null,{"$f":"Input!E165","v":"Allocation to other capex expenditure"},null,"%",null,null,null,null,null,null,null,null,null,null,null,null,null,null,null,null,null,null,null,null,null,null,null,null,null,null,0.5,0.5,0.5,0.5,0.5,0.5,0.5,0.5]
[null,null,null,null,{"$f":"Input!E166","v":"Allocation to controllable opex"},null,"%",null,null,null,null,null,null,null,null,null,null,null,null,null,null,null,null,null,null,null,null,null,null,null,null,null,null,0.1,0.1,0.1,0.1,0.1,0.1,0.1,0.1]
[null,null,null,null,{"$f":"Input!E167","v":"Allocation to non-operational capex"},null,"%",null,null,null,null,null,null,null,null,null,null,null,null,null,null,null,null,null,null,null,null,null,null,null,null,null,null,0,0,0,0,0,0,0,0]
[]
[null,null,null,null,{"$f":"Input!E169","v":"Exceptional Sub Sea Cable Faults"},null,"£m 09/10 prices",null,null,null,null,null,null,null,null,null,null,null,null,null,null,null,null,null,null,null,null,null,null,null,null,null,null,{"$f":"AH25","v":0},{"$f":"AI25","v":0},0,0,0,0,0,0]
[null,null,null,null,{"$f":"Input!E170","v":"Allocation to load related capex expenditure"},null,"%",null,null,null,null,null,null,null,null,null,null,null,null,null,null,null,null,null,null,null,null,null,null,null,null,null,null,0,0,0,0,0,0,0,0]
[null,null,null,null,{"$f":"Input!E171","v":"Allocation to asset replacement capex expenditure"},null,"%",null,null,null,null,null,null,null,null,null,null,null,null,null,null,null,null,null,null,null,null,null,null,null,null,null,null,0,0,0,0,0,0,0,0]
[null,null,null,null,{"$f":"Input!E172","v":"Allocation to other capex expenditure"},null,"%",null,null,null,null,null,null,null,null,null,null,null,null,null,null,null,null,null,null,null,null,null,null,null,null,null,null,1,1,1,1,1,1,1,1]
[null,null,null,null,{"$f":"Input!E173","v":"Allocation to controllable opex"},null,"%",null,null,null,null,null,null,null,null,null,null,null,null,null,null,null,null,null,null,null,null,null,null,null,null,null,null,0,0,0,0,0,0,0,0]
[null,null,null,null,{"$f":"Input!E174","v":"Allocation to non-operational capex"},null,"%",null,null,null,null,null,null,null,null,null,null,null,null,null,null,null,null,null,null,null,null,null,null,null,null,null,null,0,0,0,0,0,0,0,0]
[]
[null,null,null,null,{"$f":"Input!E176","v":"Non-load Related Work Costs"},null,"£m 09/10 prices",null,null,null,null,null,null,null,null,null,null,null,null,null,null,null,null,null,null,null,null,null,null,null,null,null,null,{"$f":"AH26","v":0},{"$f":"AI26","v":0},0,0,0,0,0,0]
[null,null,null,null,{"$f":"Input!E177","v":"Allocation to load related capex expenditure"},null,"%",null,null,null,null,null,null,null,null,null,null,null,null,null,null,null,null,null,null,null,null,null,null,null,null,null,null,0,0,0,0,0,0,0,0]
[null,null,null,null,{"$f":"Input!E178","v":"Allocation to asset replacement capex expenditure"},null,"%",null,null,null,null,null,null,null,null,null,null,null,null,null,null,null,null,null,null,null,null,null,null,null,null,null,null,0,0,0,0,0,0,0,0]
[null,null,null,null,{"$f":"Input!E179","v":"Allocation to other capex expenditure"},null,"%",null,null,null,null,null,null,null,null,null,null,null,null,null,null,null,null,null,null,null,null,null,null,null,null,null,null,1,1,1,1,1,1,1,1]
[null,null,null,null,{"$f":"Input!E180","v":"Allocation to controllable opex"},null,"%",null,null,null,null,null,null,null,null,null,null,null,null,null,null,null,null,null,null,null,null,null,null,null,null,null,null,0,0,0,0,0,0,0,0]
[null,null,null,null,{"$f":"Input!E181","v":"Allocation to non-operational capex"},null,"%",null,null,null,null,null,null,null,null,null,null,null,null,null,null,null,null,null,null,null,null,null,null,null,null,null,null,0,0,0,0,0,0,0,0]
[]
[null,null,null,null,"Variant allowed load related capex",null,"£m 09/10 prices",null,null,null,null,null,null,null,null,null,null,null,null,null,null,null,null,null,null,null,null,null,null,null,null,null,null,{"$f":"(AH$92*AH93)     + (AH$99*AH100) + (AH$106*AH107) + (AH$113*AH114) + (AH$120*AH121) + (AH$127*AH128) + (AH$134*AH135) + (AH$141*AH142) + (AH$148*AH149) + (AH$155*AH156) + (AH$162*AH163) + (AH$169*AH170) + (AH$176*AH177)","v":724.45752393322289},{"$f":"(AI$92*AI93)     + (AI$99*AI100) + (AI$106*AI107) + (AI$113*AI114) + (AI$120*AI121) + (AI$127*AI128) + (AI$134*AI135) + (AI$141*AI142) + (AI$148*AI149) + (AI$155*AI156) + (AI$162*AI163) + (AI$169*AI170) + (AI$176*AI177)","v":755.09934033774448},689.73552648636178,556.80155418660092,301.14871451971328,207.58987531826511,82.29196233462693,30.163893560793589]
[null,null,null,null,"Variant allowed non-load related capex - asset replacement",null,"£m 09/10 prices",null,null,null,null,null,null,null,null,null,null,null,null,null,null,null,null,null,null,null,null,null,null,null,null,null,null,{"$f":"(AH$92*AH94)     + (AH$99*AH101) + (AH$106*AH108) + (AH$113*AH115) + (AH$120*AH122) + (AH$127*AH129) + (AH$134*AH136) + (AH$141*AH143) + (AH$148*AH150) + (AH$155*AH157) + (AH$162*AH164) + (AH$169*AH171) + (AH$176*AH178)","v":0},0,0,0,0,0,0,0]
[null,null,null,null,"Variant allowed non-load related capex - other",null,"£m 09/10 prices",null,null,null,null,null,null,null,null,null,null,null,null,null,null,null,null,null,null,null,null,null,null,null,null,null,null,{"$f":"(AH$92*AH95)     + (AH$99*AH102) + (AH$106*AH109) + (AH$113*AH116) + (AH$120*AH123) + (AH$127*AH130) + (AH$134*AH137) + (AH$141*AH144) + (AH$148*AH151) + (AH$155*AH158) + (AH$162*AH165) + (AH$169*AH172) + (AH$176*AH179)","v":0},0,0,0,0,0,0,0]
[null,null,null,null,"Variant allowed controllable opex",null,"£m 09/10 prices",null,null,null,null,null,null,null,null,null,null,null,null,null,null,null,null,null,null,null,null,null,null,null,null,null,null,{"$f":"(AH$92*AH96)     + (AH$99*AH103) + (AH$106*AH110) + (AH$113*AH117) + (AH$120*AH124) + (AH$127*AH131) + (AH$134*AH138) + (AH$141*AH145) + (AH$148*AH152) + (AH$155*AH159) + (AH$162*AH166) + (AH$169*AH173) + (AH$176*AH180)","v":0},0,0,0,0,0,0,0]
[null,null,null,null,"Variant allowed non-operational capex",null,"£m 09/10 prices",null,null,null,null,null,null,null,null,null,null,null,null,null,null,null,null,null,null,null,null,null,null,null,null,null,null,{"$f":"(AH$92*AH97)     + (AH$99*AH104) + (AH$106*AH111) + (AH$113*AH118) + (AH$120*AH125) + (AH$127*AH132) + (AH$134*AH139) + (AH$141*AH146) + (AH$148*AH153) + (AH$155*AH160) + (AH$162*AH167) + (AH$169*AH174) + (AH$176*AH181)","v":0},0,0,0,0,0,0,0]
[]
[null,null,null,"Actual"]
[]
[null,null,null,null,"Actual load related capex",null,"£m 09/10 prices",null,null,null,null,null,null,null,null,null,null,null,null,null,null,null,null,null,null,null,null,null,null,null,null,null,null,{"$f":"AH9","v":576.4723599528071},0,0,0,0,0,0,0]
[null,null,null,null,"Actual non-load related capex - asset replacement",null,"£m 09/10 prices",null,null,null,null,null,null,null,null,null,null,null,null,null,null,null,null,null,null,null,null,null,null,null,null,null,null,217.14268787167353,0,0,0,0,0,0,0]
[null,null,null,null,"Actual non-load related capex - other",null,"£m 09/10 prices",null,null,null,null,null,null,null,null,null,null,null,null,null,null,null,null,null,null,null,null,null,null,null,null,null,null,174.99178290887571,0,0,0,0,0,0,0]
[null,null,null,null,"Actual controllable opex",null,"£m 09/10 prices",null,null,null,null,null,null,null,null,null,null,null,null,null,null,null,null,null,null,null,null,null,null,null,null,null,null,165.28612902215741,0,0,0,0,0,0,0]
[null,null,null,null,"Actual non-operational capex",null,"£m 09/10 prices",null,null,null,null,null,null,null,null,null,null,null,null,null,null,null,null,null,null,null,null,null,null,null,null,null,null,{"$f":"AH13","v":30.724403941398467},0,0,0,0,0,0,0]
[]
[null,null,"Non-totex"]
[]
[null,null,null,null,"Non-controllable opex",null,"£m 09/10 prices",null,null,null,null,null,null,null,null,null,null,null,null,null,null,null,null,null,null,null,null,null,null,null,null,null,null,94.24723304227993,87.678224204681584,87.676243763178761,87.677481779017953,87.676244486345595,87.676244488148086,87.676244492723825,87.676244462267519]
[]
[null,"Direct allowed revenue terms (DARTs)"]
[]
[null,null,null,null,{"$f":"E29","v":"Pension scheme administration and Pension Protection Fund Levy"},null,"£m 09/10 prices",null,null,null,null,null,null,null,null,null,null,null,null,null,null,null,null,null,null,null,null,null,null,null,null,null,null,{"$f":"AH29","v":1.5},1.3,1.3,1.5,1.3,1.3,1.5,1.3]
[null,null,null,null,{"$f":"E30","v":"Pension Scheme Established Deficit"},null,"£m 09/10 prices",null,null,null,null,null,null,null,null,null,null,null,null,null,null,null,null,null,null,null,null,null,null,null,null,null,null,{"$f":"AH30","v":28.929052554944597},28.929052554944597,32.585753058109198,32.585753058109198,32.585753058109198,32.585753058109198,32.585753058109198,32.585753058109198]
[]
[null,null,null,null,"Pension true-up from previous price controls",null,"£m 09/10 prices",null,14.015566160913416,null,null,null,null,null,null,null,null,null,null,null,null,null,null,null,null,null,null,null,null,null,null,null,null,{"$f":"($I$206/9)*(1+$AH$42)","v":1.6281727480620216},{"$f":"($I$206/9)*(1+$AH$42)*(1+$AI$42)","v":1.7003333642561302},{"$f":"($I$206/9)*(1+$AH$42)*(1+$AI$42)*(1+$AJ$42)","v":1.7739577989284205},{"$f":"($I$206/9)*(1+$AH$42)*(1+$AI$42)*(1+$AJ$42)*(1+$AK$42)","v":1.8507701716220211},{"$f":"($I$206/9)*(1+$AH$42)*(1+$AI$42)*(1+$AJ$42)*(1+$AK$42)*(1+$AL$42)","v":1.9309085200532543},{"$f":"($I$206/9)*(1+$AH$42)*(1+$AI$42)*(1+$AJ$42)*(1+$AK$42)*(1+$AL$42)*(1+$AM$42)","v":2.0145168589715601},{"$f":"($I$206/9)*(1+$AH$42)*(1+$AI$42)*(1+$AJ$42)*(1+$AK$42)*(1+$AL$42)*(1+$AM$42)*(1+$AN$42)","v":2.1017454389650285},{"$f":"($I$206/9)*(1+$AH$42)*(1+$AI$42)*(1+$AJ$42)*(1+$AK$42)*(1+$AL$42)*(1+$AM$42)*(1+$AN$42)*(1+$AO$42)","v":2.1927510164722142}]
[null,null,null,null,"NGET TO Capital Expenditure Incentive and Safety Net",null,"£m 09/10 prices",null,152.73778530741575,null,null,null,null,null,null,null,null,null,null,null,null,null,null,null,null,null,null,null,null,null,null,null,null,{"$f":"$I$207/8","v":19.092223163426969},{"$f":"$I$207/8*(1+$AI$42)","v":19.938390494030049},{"$f":"$I$207/8*(1+$AI$42)*(1+$AJ$42)","v":20.801722802421548},{"$f":"$I$207/8*(1+$AI$42)*(1+$AJ$42)*(1+$AK$42)","v":21.702437399766399},{"$f":"$I$207/8*(1+$AI$42)*(1+$AJ$42)*(1+$AK$42)*(1+$AL$42)","v":22.642152939176281},{"$f":"$I$207/8*(1+$AI$42)*(1+$AJ$42)*(1+$AK$42)*(1+$AL$42)*(1+$AM$42)","v":23.622558161442612},{"$f":"$I$207/8*(1+$AI$42)*(1+$AJ$42)*(1+$AK$42)*(1+$AL$42)*(1+$AM$42)*(1+$AN$42)","v":24.645414929833073},{"$f":"$I$207/8*(1+$AI$42)*(1+$AJ$42)*(1+$AK$42)*(1+$AL$42)*(1+$AM$42)*(1+$AN$42)*(1+$AO$42)","v":25.712561396294841}]
[]
[null,null,null,null,{"$f":"Input!E209","v":"Revenue adjustment from previous controls (Base)"},null,"£m 09/10 prices",null,54.672798337091734,null,null,null,null,null,null,null,null,null,null,null,null,null,null,null,null,null,null,null,null,null,null,null,null,{"$f":"$I$209/8","v":6.8340997921364668},{"$f":"$I$209/8*(1+$AI$42)","v":7.1369870949239544},{"$f":"$I$209/8*(1+$AI$42)*(1+$AJ$42)","v":7.4460186361341609},{"$f":"$I$209/8*(1+$AI$42)*(1+$AJ$42)*(1+$AK$42)","v":7.7684312430787692},{"$f":"$I$209/8*(1+$AI$42)*(1+$AJ$42)*(1+$AK$42)*(1+$AL$42)","v":8.1048043159040795},{"$f":"$I$209/8*(1+$AI$42)*(1+$AJ$42)*(1+$AK$42)*(1+$AL$42)*(1+$AM$42)","v":8.4557423427827256},{"$f":"$I$209/8*(1+$AI$42)*(1+$AJ$42)*(1+$AK$42)*(1+$AL$42)*(1+$AM$42)*(1+$AN$42)","v":8.8218759862252174},{"$f":"$I$209/8*(1+$AI$42)*(1+$AJ$42)*(1+$AK$42)*(1+$AL$42)*(1+$AM$42)*(1+$AN$42)*(1+$AO$42)","v":9.2038632164287684}]
[null,null,null,null,{"$f":"E31","v":"Legacy price control adjustments to allowed revenue"},null,"£m 09/10 prices",null,null,null,null,null,null,null,null,null,null,null,null,null,null,null,null,null,null,null,null,null,null,null,null,null,null,{"$f":"$AH$31/8","v":12.32429703808768},{"$f":"$AH$31/8*(1+$AI$42)","v":12.870509882815725},{"$f":"$AH$31/8*(1+$AI$42)*(1+$AJ$42)","v":13.427802960741644},{"$f":"$AH$31/8*(1+$AI$42)*(1+$AJ$42)*(1+$AK$42)","v":14.009226828941756},{"$f":"$AH$31/8*(1+$AI$42)*(1+$AJ$42)*(1+$AK$42)*(1+$AL$42)","v":14.615826350634933},{"$f":"$AH$31/8*(1+$AI$42)*(1+$AJ$42)*(1+$AK$42)*(1+$AL$42)*(1+$AM$42)","v":15.248691631617424},{"$f":"$AH$31/8*(1+$AI$42)*(1+$AJ$42)*(1+$AK$42)*(1+$AL$42)*(1+$AM$42)*(1+$AN$42)","v":15.908959979266458},{"$f":"$AH$31/8*(1+$AI$42)*(1+$AJ$42)*(1+$AK$42)*(1+$AL$42)*(1+$AM$42)*(1+$AN$42)*(1+$AO$42)","v":16.597817946368693}]
[null,null,null,null,{"$f":"Input!E211","v":"Revenue adjustment from previous controls"},null,"£m 09/10 prices",null,null,null,null,null,null,null,null,null,null,null,null,null,null,null,null,null,null,null,null,null,null,null,null,null,null,{"$f":"AH209+AH210","v":19.158396830224149},{"$f":"AI209+AI210","v":20.007496977739677},20.873821596875807,21.777658072020525,22.720630666539012,23.70443397440015,24.730835965491675,25.801681162797461]
[]
[null,null,null,null,"Excluded services revenue",null,"£m 09/10 prices",null,null,null,null,null,null,null,null,null,null,null,null,null,null,null,null,null,null,null,null,null,null,null,null,null,null,123,122.8,129.80000000000001,125.6,127.3,128.6,130.19999999999999,131.69999999999999]
[null,null,null,null,"Identified excluded services costs",null,"£m 09/10 prices",null,null,null,null,null,null,null,null,null,null,null,null,null,null,null,null,null,null,null,null,null,null,null,null,null,null,7.367,6.234,5.5780000000000003,3.3689999999999998,3.3680000000000003,3.1619999999999999,3.0940000000000003,3.0270000000000001]
[null,null,null,null,"Excluded services",null,"£m 09/10 prices",null,null,null,null,null,null,null,null,null,null,null,null,null,null,null,null,null,null,null,null,null,null,null,null,null,null,{"$f":"SUM(AH213, -AH214)","v":115.633},{"$f":"SUM(AI213, -AI214)","v":116.566},124.22200000000001,122.23099999999999,123.932,125.43799999999999,127.10599999999999,128.673]
[]
[null,"RAV and assets"]
[]
[null,null,"Pre-vesting assets"]
[]
[null,null,null,null,"Pre-vesting RAV cost opening balance brought forward (before transfers)",null,"£m 09/10 prices",null,null,null,null,null,null,null,null,null,null,null,null,null,null,null,null,null,null,null,null,null,null,null,null,null,null,0]
[null,null,null,null,"Pre-vesting RAV cumulative depreciation opening balance brought forward (before transfers)",null,"£m 09/10 prices",null,null,null,null,null,null,null,null,null,null,null,null,null,null,null,null,null,null,null,null,null,null,null,null,null,null,0]
[]
[null,null,null,null,"Pre-vesting asset life",null,"years",null,20]
[]
[null,null,null,null,"Years of pre-vesting depreciation remaining",null,"years",null,null,null,null,null,null,null,null,null,null,null,null,null,null,null,null,null,null,null,null,null,null,null,null,null,null,45,44,43,42,41,40,39,38]
[]
[null,null,"Post-vesting assets"]
[]
[null,null,null,null,{"$f":"Input!E230","v":"Transmission"}]
[null,null,null,null,{"$f":"Input!E231","v":"Post-vesting asset life"},null,"years",null,null,">",40,40,40,40,40,40,40,40,40,40,40,40,40,40,40,40,40,40,40,40,40,40,40,23.125,26.25,29.375,32.5,35.625,38.75,41.875,45]
[null,null,null,null,{"$f":"Input!E232","v":"Accelerated post-vesting asset life"},null,"years",null,null,">",20,20,20,20,20,20,20,20,20,20,20,20,20,20,20,20,20,20,20,20,20,20,20,23.125,26.25,29.375,32.5,35.625,38.75,41.875,45]
[null,null,null,null,{"$f":"Input!E233","v":"Smoothing period following full depreciation of pre-vesting assets"},null,"years",null,50]
[null,null,null,null,{"$f":"Input!E234","v":"Start of smoothing period"},null,"year ending",null,"1991-03-31"]
[null,null,null,null,{"$f":"Input!E235","v":"Pre-RIIO net additions to RAV"},null,"£m 09/10 prices",null,null,">",379.44363316244619,470.09452478062036,554.81084513454573,399.56790123456784,260.22632725604859,263.05996002664887,254.79277813923224,225.41366498740547,390.5666463166462,346.96432742658243,294.61484247298233,407.70883134746407,378.11716061760876,321.33438328493975,422.59647639294877,580.37086035691379,556.6596888260251,696.07018609532179,665.03634688976456,812.1919300000003,656.72036516023195,927.74885273201085,902.96161798967933]
[null,null,null,null,"LRAV",null,"£m 09/10 prices",null,null,null,null,null,null,null,null,null,null,null,null,null,null,null,null,null,null,null,null,null,null,null,null,null,null,{"$f":" AH32","v":-162.17489418365281}]
[null,null,null,null,"RIIO post-vesting RAV additions",null,"£m 09/10 prices",null,null,null,null,null,null,null,null,null,null,null,null,null,null,null,null,null,null,null,null,null,null,null,null,null,null,0,0,0,0,0,0,0,0]
[null,null,null,null,"RIIO post-vesting RAV disposals",null,"£m 09/10 prices",null,null,null,null,null,null,null,null,null,null,null,null,null,null,null,null,null,null,null,null,null,null,null,null,null,null,0,0,0,0,0,0,0,0]
[null,null,null,null,{"$f":"Input!E239","v":"Pre-RIIO transfers to depreciation"},null,"£m 09/10 prices",null,null,">",0,0,0,0,0,0,0,0,0,0,0,0,0,-40.436923865811004,0,0,0,0,0,0,0,0,0]
[]
[null,null,"Project assets (except TIRG)"]
[]
[null,null,null,null,"PLUGS asset life",null,"years",null,null,">",null,null,null,null,null,null,null,null,null,null,null,null,null,null,null,30,30,30,30,30,30,30,18,18,18,18,18,18,18,18,18]
[null,null,null,null,"PLUGS net additions (after disposals)",null,"£m 09/10 prices",null,null,">",null,null,null,null,null,null,null,null,null,null,null,null,null,null,null,0,0,0,0,0,0,0,0]
[]
[null,null,null,null,"TOI accelerated post-vesting asset life",null,"years",null,20]
[null,null,null,null,"TOI net additions (after disposals)",null,"£m 09/10 prices",null,null,">",null,null,null,null,null,null,null,null,null,null,null,null,null,null,null,null,null,null,0.77653899278342486,12.29,108.40943564989333,100.28161328605032,313.17]
[null,null,null,null,"TOI deemed depreciation",null,"£m 09/10 prices",null,null,">",null,null,null,null,null,null,null,null,null,null,null,null,null,null,null,null,null,null,null,0,0.10057144878939689,3.7837175310597444]
[]
[null,null,null,null,"England-Scotland interconnector asset life applied",null,"years",null,null,">",null,null,null,null,null,null,null,null,null,null,null,null,null,null,null,29,29,29,29,29,17.5,17.5,17.5,17.5,17.5,17.5,17.5,17.5,17.5,17.5,17.5]
[null,null,null,null,"England-Scotland Interconnector net additions (after disposals)",null,"£m 09/10 prices",null,null,">",null,null,null,null,null,null,null,null,null,null,null,null,null,null,null,105.7331207370006,0,0,0,0,0,0,0]
[]
[null,null,null,null,"Logged-up items and secturity costs asset life",null,"years",null,20,">"]
[]
[null,null,null,null,"Logged-up items net additions (after disposals)",null,"£m 09/10 prices",null,null,">",null,null,null,null,null,null,null,null,null,null,null,null,null,null,0,0,0,0.87096256641764169,19.678683479475431,17.951000000000001,0.96129182764837884,29.344751518556222,2.5]
[]
[null,null,null,null,"Security costs net additions (after disposals)",null,"£m 09/10 prices",null,null,">",null,null,null,null,null,null,null,null,null,null,null,null,null,null,0,0,4.3085115234212479,3.5634988614118481,5.3132144021106509,11.356999999999999,30.172559149280637,31.455675432744627]
[]
[null,null,"TIRG"]
[]
[null,null,null,null,"TIRG asset life before transfer to RAV",null,"years",null,20]
[null,null,null,null,"Years from TIRG commissioning to RAV transfer",null,"years",null,5]
[]
[null,null,null,null,"Pre-RIIO TIRG allocation to \"General\" pool",null,"%",null,null,">",null,null,null,null,null,null,null,null,null,null,null,null,null,null,0,0,0,0,0,2.3474178403755867E-2,0.14960575204025078,2.3630029135963296E-2,2.3630029135963296E-2]
[null,null,null,null,"Pre-RIIO TIRG allocation to \"Special Rate\" pool",null,"%",null,null,">",null,null,null,null,null,null,null,null,null,null,null,null,null,null,0,0,0,0,1,0.97652582159624413,0.85039424795974927,0.97636997086403665,0.97636997086403665]
[]
[null,null,null,null,"TIRG commissioned in 2010 net additions (after disposals)",null,"£m 09/10 prices",null,null,">",null,null,null,null,null,null,null,null,null,null,null,null,null,null,0,0,0,0,0,0,0]
[null,null,null,null,"TIRG commissioned in 2011 net additions (after disposals)",null,"£m 09/10 prices",null,null,">",null,null,null,null,null,null,null,null,null,null,null,null,null,null,0,0,1.2925534570263746,14.984279972833683,25.276193528361905,42.616,29.784803179158846,8.2064212632983367]
[null,null,null,null,"TIRG commissioned in 2012 net additions (after disposals)",null,"£m 09/10 prices",null,null,">",null,null,null,null,null,null,null,null,null,null,null,null,null,null,0,0,0,0,0,0,0,0,0]
[null,null,null,null,"TIRG commissioned in 2013 net additions (after disposals)",null,"£m 09/10 prices",null,null,">",null,null,null,null,null,null,null,null,null,null,null,null,null,null,0,0,0,0,0,0,0,0,0,0]
[null,null,null,null,"TIRG commissioned in 2014 net additions (after disposals)",null,"£m 09/10 prices",null,null,">",null,null,null,null,null,null,null,null,null,null,null,null,null,null,0,0,0,0,0,0,0,0,0,0,0]
[null,null,null,null,"TIRG commissioned in 2015 net additions (after disposals)",null,"£m 09/10 prices",null,null,">",null,null,null,null,null,null,null,null,null,null,null,null,null,null,0,0,0,0,0,0,0,0,0,0,0,0]
[null,null,null,null,"TIRG commissioned in 2016 net additions (after disposals)",null,"£m 09/10 prices",null,null,">",null,null,null,null,null,null,null,null,null,null,null,null,null,null,0,0,0,0,0,0,0,0,0,0,0,0,0]
[null,null,null,null,"TIRG commissioned in 2017 net additions (after disposals)",null,"£m 09/10 prices",null,null,">",null,null,null,null,null,null,null,null,null,null,null,null,null,null,0,0,0,0,0,0,0,0,0,0,0,0,0,0]
[]
[null,null,null,null,"TIRG commissioned in 2010 deemed depreciation",null,"£m 09/10 prices",null,null,">",null,null,null,null,null,null,null,null,null,null,null,null,null,null,0,0,0,0,0,0,0,0,0,0,0]
[null,null,null,null,"TIRG commissioned in 2011 deemed depreciation",null,"£m 09/10 prices",null,null,">",null,null,null,null,null,null,null,null,null,null,null,null,null,null,2.2935601027548939E-2,0,0,0.69299999999999995,2.1800000000000002,4.0739999999999998,5.2039999999999997,5.1119303278452115,5.1119303278452115,5.1119303278452115,6.1309481710615064,6.1309481710615064]
[null,null,null,null,"TIRG commissioned in 2012 deemed depreciation",null,"£m 09/10 prices",null,null,">",null,null,null,null,null,null,null,null,null,null,null,null,null,null,0,0,0,0,0,0,0,0,0,0,0,0,0]
[null,null,null,null,"TIRG commissioned in 2013 deemed depreciation",null,"£m 09/10 prices",null,null,">",null,null,null,null,null,null,null,null,null,null,null,null,null,null,0,0,0,0,0,0,0,0,0,0,0,0,0,0]
[null,null,null,null,"TIRG commissioned in 2014 deemed depreciation",null,"£m 09/10 prices",null,null,">",null,null,null,null,null,null,null,null,null,null,null,null,null,null,0,0,0,0,0,0,0,0,0,0,0,0,0,0,0]
[null,null,null,null,"TIRG commissioned in 2015 deemed depreciation",null,"£m 09/10 prices",null,null,">",null,null,null,null,null,null,null,null,null,null,null,null,null,null,0,0,0,0,0,0,0,0,0,0,0,0,0,0,0,0]
[null,null,null,null,"TIRG commissioned in 2016 deemed depreciation",null,"£m 09/10 prices",null,null,">",null,null,null,null,null,null,null,null,null,null,null,null,null,null,0,0,0,0,0,0,0,0,0,0,0,0,0,0,0,0,0]
[null,null,null,null,"TIRG commissioned in 2017 deemed depreciation",null,"£m 09/10 prices",null,null,">",null,null,null,null,null,null,null,null,null,null,null,null,null,null,0,0,0,0,0,0,0,0,0,0,0,0,0,0,0,0,0]
[]
[null,null,null,null,"TIRG commissioned in 2010 revenue",null,"£m 09/10 prices",null,null,">",null,null,null,null,null,null,null,null,null,null,null,null,null,null,0,0,0,0,0,0,0,0,0,0,0]
[null,null,null,null,"TIRG commissioned in 2011 revenue",null,"£m 09/10 prices",null,null,">",null,null,null,null,null,null,null,null,null,null,null,null,null,null,0,0,0,3.0644265612861856,7.3479343460373006,12.083623286163521,14.2,14.422489625046804,14.227466197970648,13.751034124367685,13.274690050778315,12.798257977175346]
[null,null,null,null,"TIRG commissioned in 2012 revenue",null,"£m 09/10 prices",null,null,">",null,null,null,null,null,null,null,null,null,null,null,null,null,null,0,0,0,0,0,0,0,0,0,0,0,0,0]
[null,null,null,null,"TIRG commissioned in 2013 revenue",null,"£m 09/10 prices",null,null,">",null,null,null,null,null,null,null,null,null,null,null,null,null,null,0,0,0,0,0,0,0,0,0,0,0,0,0,0]
[null,null,null,null,"TIRG commissioned in 2014 revenue",null,"£m 09/10 prices",null,null,">",null,null,null,null,null,null,null,null,null,null,null,null,null,null,0,0,0,0,0,0,0,0,0,0,0,0,0,0,0]
[null,null,null,null,"TIRG commissioned in 2015 revenue",null,"£m 09/10 prices",null,null,">",null,null,null,null,null,null,null,null,null,null,null,null,null,null,0,0,0,0,0,0,0,0,0,0,0,0,0,0,0,0]
[null,null,null,null,"TIRG commissioned in 2016 revenue",null,"£m 09/10 prices",null,null,">",null,null,null,null,null,null,null,null,null,null,null,null,null,null,0,0,0,0,0,0,0,0,0,0,0,0,0,0,0,0,0]
[null,null,null,null,"TIRG commissioned in 2017 revenue",null,"£m 09/10 prices",null,null,">",null,null,null,null,null,null,null,null,null,null,null,null,null,null,0,0,0,0,0,0,0,0,0,0,0,0,0,0,0,0,0]
[]
[null,"Tax"]
[]
[null,null,"Tax policy"]
[]
[null,null,null,null,{"$f":"E27","v":"Tax liability - gearing/interest costs"},null,"£m nominal",null,null,null,null,null,null,null,null,null,null,null,null,null,null,null,null,null,null,null,null,null,null,null,null,null,null,{"$f":"AH27","v":0},{"$f":"AI27","v":0},0,0,0,0,0,0]
[null,null,null,null,{"$f":"E28","v":"Tax liability - tax trigger events"},null,"£m 09/10 prices",null,null,null,null,null,null,null,null,null,null,null,null,null,null,null,null,null,null,null,null,null,null,null,null,null,null,{"$f":"AH28","v":0},0,0,0,0,0,0,0]
[]
[null,null,null,null,"Corporation tax rate",null,"%",null,null,">",null,null,null,null,null,null,null,null,null,null,null,null,null,null,0.3,0.3,0.3,0.3,0.28000000000000003,0.28000000000000003,0.28000000000000003,0.26,0.24,0.23,0.21,0.21,0.21,0.21,0.21,0.21,0.21]
[]
[null,null,null,null,"General pool capital allowance rate",null,"%",null,null,">",null,null,null,null,null,null,null,null,null,null,null,0.25,0.25,0.25,0.25,0.25,0.25,0.25,0.2,0.2,0.2,0.2,0.18000000000000002,0.18000000000000002,0.18000000000000002,0.18000000000000002,0.18000000000000002,0.18000000000000002,0.18000000000000002,0.18000000000000002,0.18000000000000002]
[null,null,null,null,"Special Rates capital allowance rate",null,"%",null,null,">",null,null,null,null,null,null,null,null,null,null,null,0.06,0.06,0.06,0.06,0.06,0.06,0.06,0.1,0.1,0.1,0.1,0.08,0.08,0.08,0.08,0.08,0.08,0.08,0.08,0.08]
[null,null,null,null,"Deferred Revenue Expenditure capital allowance rate",null,"%",null,null,null,null,null,null,null,null,null,null,null,null,null,null,null,null,null,null,null,null,null,null,null,null,null,null,0.03,0.03,0.03,0.03,0.03,0.03,0.03,0.03]
[]
[null,null,"Capital allowances and tax losses"]
[]
[null,null,null,null,"General pool capital allowance opening balance brought forward",null,"£m nominal",null,null,null,null,null,null,null,null,null,null,null,null,null,null,null,null,null,null,null,null,null,null,null,null,null,null,435.55077055999999]
[]
[null,null,null,null,"Special Rate capital allowance opening balance brought forward",null,"£m nominal",null,null,null,null,null,null,null,null,null,null,null,null,null,null,null,null,null,null,null,null,null,null,null,null,null,null,3353.9846618127199]
[]
[null,null,null,null,"Deferred revenue expenditure opening balance brought forward",null,"£m nominal",null,null,null,null,null,null,null,null,null,null,null,null,null,null,null,null,null,null,null,null,null,null,null,null,null,null,1051.3958644812201]
[]
[null,null,null,null,"Tax loss brought forward",null,"£m nominal",null,null,null,null,null,null,null,null,null,null,null,null,null,null,null,null,null,null,null,null,null,null,null,null,null,null,0]
[]
[null,null,"Tax pool allocation"]
[]
[null,null,null,"Allocation to \"General\" pool"]
[]
[null,null,null,null,{"$f":"Input!E321","v":"Load related capex expenditure"},null,"%",null,null,null,null,null,null,null,null,null,null,null,null,null,null,null,null,null,null,null,null,null,null,null,null,null,null,0.10299999999999999,0.10299999999999999,0.10299999999999999,0.10299999999999999,0.10299999999999999,0.10299999999999999,0.10299999999999999,0.10299999999999999]
[null,null,null,null,{"$f":"Input!E322","v":"Asset replacement capex expenditure"},null,"%",null,null,null,null,null,null,null,null,null,null,null,null,null,null,null,null,null,null,null,null,null,null,null,null,null,null,0.107,0.107,0.107,0.107,0.107,0.107,0.107,0.107]
[null,null,null,null,{"$f":"Input!E323","v":"Other capex expenditure"},null,"%",null,null,null,null,null,null,null,null,null,null,null,null,null,null,null,null,null,null,null,null,null,null,null,null,null,null,0.107,0.107,0.107,0.107,0.107,0.107,0.107,0.107]
[null,null,null,null,{"$f":"Input!E324","v":"Opex"},null,"%",null,null,null,null,null,null,null,null,null,null,null,null,null,null,null,null,null,null,null,null,null,null,null,null,null,null,0,0,0,0,0,0,0,0]
[null,null,null,null,{"$f":"Input!E325","v":"Non Operational Capex"},null,"%",null,null,null,null,null,null,null,null,null,null,null,null,null,null,null,null,null,null,null,null,null,null,null,null,null,null,0.747,0.747,0.747,0.747,0.747,0.747,0.747,0.747]
[]
[null,null,null,"Allocation to \"Special Rate\" pool"]
[]
[null,null,null,null,{"$f":"Input!E329","v":"Load related capex expenditure"},null,"%",null,null,null,null,null,null,null,null,null,null,null,null,null,null,null,null,null,null,null,null,null,null,null,null,null,null,0.82,0.82,0.82,0.82,0.82,0.82,0.82,0.82]
[null,null,null,null,{"$f":"Input!E330","v":"Asset replacement capex expenditure"},null,"%",null,null,null,null,null,null,null,null,null,null,null,null,null,null,null,null,null,null,null,null,null,null,null,null,null,null,0.47899999999999998,0.47899999999999998,0.47899999999999998,0.47899999999999998,0.47899999999999998,0.47899999999999998,0.47899999999999998,0.47899999999999998]
[null,null,null,null,{"$f":"Input!E331","v":"Other capex expenditure"},null,"%",null,null,null,null,null,null,null,null,null,null,null,null,null,null,null,null,null,null,null,null,null,null,null,null,null,null,0.47899999999999998,0.47899999999999998,0.47899999999999998,0.47899999999999998,0.47899999999999998,0.47899999999999998,0.47899999999999998,0.47899999999999998]
[null,null,null,null,{"$f":"Input!E332","v":"Opex"},null,"%",null,null,null,null,null,null,null,null,null,null,null,null,null,null,null,null,null,null,null,null,null,null,null,null,null,null,0,0,0,0,0,0,0,0]
[null,null,null,null,{"$f":"Input!E333","v":"Non Operational Capex"},null,"%",null,null,null,null,null,null,null,null,null,null,null,null,null,null,null,null,null,null,null,null,null,null,null,null,null,null,5.5E-2,5.5E-2,5.5E-2,5.5E-2,5.5E-2,5.5E-2,5.5E-2,5.5E-2]
[]
[null,null,null,"Allocation to \"Deferred Revenue\" pool"]
[]
[null,null,null,null,{"$f":"Input!E337","v":"Load related capex expenditure"},null,"%",null,null,null,null,null,null,null,null,null,null,null,null,null,null,null,null,null,null,null,null,null,null,null,null,null,null,1.9E-2,1.9E-2,1.9E-2,1.9E-2,1.9E-2,1.9E-2,1.9E-2,1.9E-2]
[null,null,null,null,{"$f":"Input!E338","v":"Asset replacement capex expenditure"},null,"%",null,null,null,null,null,null,null,null,null,null,null,null,null,null,null,null,null,null,null,null,null,null,null,null,null,null,0.38800000000000001,0.38800000000000001,0.38800000000000001,0.38800000000000001,0.38800000000000001,0.38800000000000001,0.38800000000000001,0.38800000000000001]
[null,null,null,null,{"$f":"Input!E339","v":"Other capex expenditure"},null,"%",null,null,null,null,null,null,null,null,null,null,null,null,null,null,null,null,null,null,null,null,null,null,null,null,null,null,0.38800000000000001,0.38800000000000001,0.38800000000000001,0.38800000000000001,0.38800000000000001,0.38800000000000001,0.38800000000000001,0.38800000000000001]
[null,null,null,null,{"$f":"Input!E340","v":"Opex"},null,"%",null,null,null,null,null,null,null,null,null,null,null,null,null,null,null,null,null,null,null,null,null,null,null,null,null,null,0,0,0,0,0,0,0,0]
[null,null,null,null,{"$f":"Input!E341","v":"Non Operational Capex"},null,"%",null,null,null,null,null,null,null,null,null,null,null,null,null,null,null,null,null,null,null,null,null,null,null,null,null,null,0.18,0.18,0.18,0.18,0.18,0.18,0.18,0.18]
[]
[null,null,null,"Allocation to \"Revenue\" pool"]
[]
[null,null,null,null,{"$f":"Input!E345","v":"Load related capex expenditure"},null,"%",null,null,null,null,null,null,null,null,null,null,null,null,null,null,null,null,null,null,null,null,null,null,null,null,null,null,1E-3,1E-3,1E-3,1E-3,1E-3,1E-3,1E-3,1E-3]
[null,null,null,null,{"$f":"Input!E346","v":"Asset replacement capex expenditure"},null,"%",null,null,null,null,null,null,null,null,null,null,null,null,null,null,null,null,null,null,null,null,null,null,null,null,null,null,0,0,0,0,0,0,0,0]
[null,null,null,null,{"$f":"Input!E347","v":"Other capex expenditure"},null,"%",null,null,null,null,null,null,null,null,null,null,null,null,null,null,null,null,null,null,null,null,null,null,null,null,null,null,0,0,0,0,0,0,0,0]
[null,null,null,null,{"$f":"Input!E348","v":"Opex"},null,"%",null,null,null,null,null,null,null,null,null,null,null,null,null,null,null,null,null,null,null,null,null,null,null,null,null,null,1,1,1,1,1,1,1,1]
[null,null,null,null,{"$f":"Input!E349","v":"Non Operational Capex"},null,"%",null,null,null,null,null,null,null,null,null,null,null,null,null,null,null,null,null,null,null,null,null,null,null,null,null,null,1.7999999999999999E-2,1.7999999999999999E-2,1.7999999999999999E-2,1.7999999999999999E-2,1.7999999999999999E-2,1.7999999999999999E-2,1.7999999999999999E-2,1.7999999999999999E-2]
[]
[null,null,null,"Allocation to \"Non Qualifying\" pool"]
[]
[null,null,null,null,{"$f":"Input!E353","v":"Load related capex expenditure"},null,"%",null,null,null,null,null,null,null,null,null,null,null,null,null,null,null,null,null,null,null,null,null,null,null,null,null,null,5.7000000000000002E-2,5.7000000000000002E-2,5.7000000000000002E-2,5.7000000000000002E-2,5.7000000000000002E-2,5.7000000000000002E-2,5.7000000000000002E-2,5.7000000000000002E-2]
[null,null,null,null,{"$f":"Input!E354","v":"Asset replacement capex expenditure"},null,"%",null,null,null,null,null,null,null,null,null,null,null,null,null,null,null,null,null,null,null,null,null,null,null,null,null,null,2.5999999999999999E-2,2.5999999999999999E-2,2.5999999999999999E-2,2.5999999999999999E-2,2.5999999999999999E-2,2.5999999999999999E-2,2.5999999999999999E-2,2.5999999999999999E-2]
[null,null,null,null,{"$f":"Input!E355","v":"Other capex expenditure"},null,"%",null,null,null,null,null,null,null,null,null,null,null,null,null,null,null,null,null,null,null,null,null,null,null,null,null,null,2.5999999999999999E-2,2.5999999999999999E-2,2.5999999999999999E-2,2.5999999999999999E-2,2.5999999999999999E-2,2.5999999999999999E-2,2.5999999999999999E-2,2.5999999999999999E-2]
[null,null,null,null,{"$f":"Input!E356","v":"Opex"},null,"%",null,null,null,null,null,null,null,null,null,null,null,null,null,null,null,null,null,null,null,null,null,null,null,null,null,null,0,0,0,0,0,0,0,0]
[null,null,null,null,{"$f":"Input!E357","v":"Non Operational Capex"},null,"%",null,null,null,null,null,null,null,null,null,null,null,null,null,null,null,null,null,null,null,null,null,null,null,null,null,null,0,0,0,0,0,0,0,0]
[]
[null,null,null,"Allocation check"]
[null,null,null,"Note: All categories should equal 100%"]
[]
[null,null,null,null,{"$f":"Input!E362","v":"Load related capex expenditure"},null,"%",null,null,null,null,null,null,null,null,null,null,null,null,null,null,null,null,null,null,null,null,null,null,null,null,null,null,{"$f":"AH321+AH329+AH337+AH345+AH353","v":1},1,1,1,1,1,1,1]
[null,null,null,null,{"$f":"Input!E363","v":"Asset replacement capex expenditure"},null,"%",null,null,null,null,null,null,null,null,null,null,null,null,null,null,null,null,null,null,null,null,null,null,null,null,null,null,1,1,1,1,1,1,1,1]
[null,null,null,null,{"$f":"Input!E364","v":"Other capex expenditure"},null,"%",null,null,null,null,null,null,null,null,null,null,null,null,null,null,null,null,null,null,null,null,null,null,null,null,null,null,1,1,1,1,1,1,1,1]
[null,null,null,null,{"$f":"Input!E365","v":"Opex"},null,"%",null,null,null,null,null,null,null,null,null,null,null,null,null,null,null,null,null,null,null,null,null,null,null,null,null,null,1,1,1,1,1,1,1,1]
[null,null,null,null,{"$f":"Input!E366","v":"Non Operational Capex"},null,"%",null,null,null,null,null,null,null,null,null,null,null,null,null,null,null,null,null,null,null,null,null,null,null,null,null,null,1,1,1,1,1,1,1,1]
[]
[null,null,null,"Tax Trigger Deadbands"]
[]
[null,null,null,null,"Tax Trigger Deadband",null,null,null,null,null,null,null,null,null,null,null,null,null,null,null,null,null,null,null,null,null,null,null,null,null,null,null,null,4.4960765320968576,4.9308742400311196,5.2197545237258787,5.5253695432128369,5.5677774394135779,5.8969222568250137,5.779975933381202,5.7361649378867847]
[]
[null,null,null,"Additional Income Workings"]
[]
[null,null,null,null,"Original allowed totex",null,null,null,null,null,null,null,null,null,null,null,null,null,null,null,null,null,null,null,null,null,null,null,null,null,null,null,null,1582.7080571296715,1725.2795302820005,1650.3305791182984,1570.2148399024168,1347.6317378903702,1294.8741427115747,1145.9100333902061,974.23851345397452]
[null,null,null,null,"Total allowed totex",null,null,null,11291.187433878515]
[]
[null,"End of sheet"]

{"sheet":"NGET TO (Blank - not used)","index":23,"n_rows":0,"n_cols":0,"rows_kept":0,"cut":false,"hidden":true,"merged":[]}

{"sheet":"NGET SO","index":24,"n_rows":115,"n_cols":41,"rows_kept":115,"cut":false,"hidden":false,"merged":[]}
["Input"]
[null,"NGET SO"]
[null,null,null,null,"Parameter","Licence condition","Units","Term","Constant",null,null,null,null,null,null,null,null,null,null,null,null,null,null,null,null,null,null,null,null,null,null,null,null,"Annual values"]
[null,null,null,null,"PCFM year ending",{"$f":"Cover!C3","v":"ET1 PCFM November 2014 change control 18 (SO Data Centre).xlsm"},null,null,{"$f":"UserInterface!$G$18","v":"2016-03-31"},null,"1991-03-31","1992-03-31","1993-03-31","1994-03-31","1995-03-31","1996-03-31","1997-03-31","1998-03-31","1999-03-31","2000-03-31","2001-03-31","2002-03-31","2003-03-31","2004-03-31","2005-03-31","2006-03-31","2007-03-31","2008-03-31","2009-03-31","2010-03-31","2011-03-31","2012-03-31","2013-03-31","2014-03-31","2015-03-31","2016-03-31","2017-03-31","2018-03-31","2019-03-31","2020-03-31","2021-03-31"]
[]
[null,"PCFM Variable Values Table"]
[]
[null,null,null,null,"Actual non-operational capex","7B","£m 09/10 prices","SOANC",null,null,null,null,null,null,null,null,null,null,null,null,null,null,null,null,null,null,null,null,null,null,null,null,null,32.211091901803051,0,0,0,0,0,0,0]
[null,null,null,null,"Actual controllable opex","7B","£m 09/10 prices","SOACO",null,null,null,null,null,null,null,null,null,null,null,null,null,null,null,null,null,null,null,null,null,null,null,null,null,79.703447095651597,0,0,0,0,0,0,0]
[null,null,null,null,"Uncertain costs - enhanced security","7D","£m 09/10 prices","SOIAEEPS",null,null,null,null,null,null,null,null,null,null,null,null,null,null,null,null,null,null,null,null,null,null,null,null,null,12.6,0,0,0,0,0,0,0]
[null,null,null,null,{"$f":"SystemOperator!E11","v":"Uncertain costs - Electricity Market Reform Enduring Solution"},{"$f":"SystemOperator!F11","v":"7D"},{"$f":"SystemOperator!G11","v":"£m 09/10 prices"},{"$f":"SystemOperator!H11","v":"SOEMRES"},null,null,null,null,null,null,null,null,null,null,null,null,null,null,null,null,null,null,null,null,null,null,null,null,null,0,1.72,2.57,0,0,0,0,0]
[null,null,null,null,"Tax liability - gearing/interest costs","7C","£m nominal","SOTGIE",null,null,null,null,null,null,null,null,null,null,null,null,null,null,null,null,null,null,null,null,null,null,null,null,null,0,0,0,0,0,0,0,0]
[null,null,null,null,"Tax liability - tax trigger events","7C","£m 09/10 prices","SOTTE",null,null,null,null,null,null,null,null,null,null,null,null,null,null,null,null,null,null,null,null,null,null,null,null,null,0,0,0,0,0,0,0,0]
[null,null,null,null,"Pension scheme administration and Pension Protection Fund Levy","7C","£m 09/10 prices","SOAPFE",null,null,null,null,null,null,null,null,null,null,null,null,null,null,null,null,null,null,null,null,null,null,null,null,null,0.5,0.4,0.4,0.5,0.4,0.4,0.5,0.4]
[null,null,null,null,"Pension Scheme Established Deficit","7C","£m 09/10 prices","SOEDE",null,null,null,null,null,null,null,null,null,null,null,null,null,null,null,null,null,null,null,null,null,null,null,null,null,8.7961833442298172,8.7961833442298172,9.8951198747490885,9.8951198747490885,9.8951198747490885,9.8951198747490885,9.8951198747490885,9.8951198747490885]
[null,null,null,null,"Legacy price control adjustments to allowed revenue","7C","£m 09/10 prices","SOLAR",null,null,null,null,null,null,null,null,null,null,null,null,null,null,null,null,null,null,null,null,null,null,null,null,null,15.739015040384885]
[null,null,null,null,"Legacy price control adjustments to RAV","7C","£m 09/10 prices","SOLRAV",null,null,null,null,null,null,null,null,null,null,null,null,null,null,null,null,null,null,null,null,null,null,null,null,null,2.9301486584244367]
[]
[null,"Expenditure"]
[]
[null,null,"Totex"]
[]
[null,null,null,"Non-variant allowances"]
[]
[null,null,null,null,"Non-variant allowed non-operational capex",null,"£m 09/10 prices",null,null,null,null,null,null,null,null,null,null,null,null,null,null,null,null,null,null,null,null,null,null,null,null,null,null,39.230261993822481,34.208586772300464,29.40934615713995,27.165060319864111,29.591699211758403,20.377561078577621,25.429651204161818,25.40838563392731]
[null,null,null,null,"Non-variant allowed controllable opex",null,"£m 09/10 prices",null,null,null,null,null,null,null,null,null,null,null,null,null,null,null,null,null,null,null,null,null,null,null,null,null,null,73.775027711210655,74.857370793520886,77.005994132717234,78.582137772280092,79.36050736397776,79.998881974263142,81.754729960219521,83.672873632490891]
[]
[null,null,null,"Variant allowances"]
[]
[null,null,null,null,{"$f":"E10","v":"Uncertain costs - enhanced security"},null,"£m 09/10 prices",null,null,null,null,null,null,null,null,null,null,null,null,null,null,null,null,null,null,null,null,null,null,null,null,null,null,{"$f":"AH10","v":12.6},0,0,0,0,0,0,0]
[null,null,null,null,"Allocation to non-operational capex",null,"%",null,null,null,null,null,null,null,null,null,null,null,null,null,null,null,null,null,null,null,null,null,null,null,null,null,null,1,1,1,1,1,1,1,1]
[null,null,null,null,"Allocation to controllable opex",null,"%",null,null,null,null,null,null,null,null,null,null,null,null,null,null,null,null,null,null,null,null,null,null,null,null,null,null,0,0,0,0,0,0,0,0]
[]
[null,null,null,null,{"$f":"E11","v":"Uncertain costs - Electricity Market Reform Enduring Solution"},null,"£m 09/10 prices",null,null,null,null,null,null,null,null,null,null,null,null,null,null,null,null,null,null,null,null,null,null,null,null,null,null,{"$f":"AH11","v":0},{"$f":"AI11","v":1.72},2.57,0,0,0,0,0]
[null,null,null,null,"Allocation to non-operational capex",null,"%",null,null,null,null,null,null,null,null,null,null,null,null,null,null,null,null,null,null,null,null,null,null,null,null,null,null,0.189,0.189,0.189,0.189,0.189,0.189,0.189,0.189]
[null,null,null,null,"Allocation to controllable opex",null,"%",null,null,null,null,null,null,null,null,null,null,null,null,null,null,null,null,null,null,null,null,null,null,null,null,null,null,0.81100000000000005,0.81100000000000005,0.81100000000000005,0.81100000000000005,0.81100000000000005,0.81100000000000005,0.81100000000000005,0.81100000000000005]
[]
[null,null,null,"Variant"]
[null,null,null,"Note: Licence conditions may allow for non-baseline allowances to be granted. These are added to the baseline to generate the allowed sub-categories and thereby the overall allowed totex."]
[]
[null,null,null,null,"Non-operational capex",null,"£m 09/10 prices",null,null,null,null,null,null,null,null,null,null,null,null,null,null,null,null,null,null,null,null,null,null,null,null,null,null,{"$f":"AH$30*AH31+AH$34*AH35","v":12.6},{"$f":"AI$30*AI31+AI$34*AI35","v":0.32507999999999998},0.48573,0,0,0,0,0]
[null,null,null,null,"Controllable opex",null,"£m 09/10 prices",null,null,null,null,null,null,null,null,null,null,null,null,null,null,null,null,null,null,null,null,null,null,null,null,null,null,{"$f":"AH$30*AH32+AH$34*AH36","v":0},{"$f":"AI$30*AI32+AI$34*AI36","v":1.3949200000000002},2.0842700000000001,0,0,0,0,0]
[]
[null,"Direct allowed revenue terms (DARTs)"]
[]
[null,null,"Base Revenue"]
[]
[null,null,null,"No impact on net debt or tax"]
[]
[null,null,null,null,{"$f":"E14","v":"Pension scheme administration and Pension Protection Fund Levy"},null,"£m 09/10 prices",null,null,null,null,null,null,null,null,null,null,null,null,null,null,null,null,null,null,null,null,null,null,null,null,null,null,{"$f":"AH14","v":0.5},0.4,0.4,0.5,0.4,0.4,0.5,0.4]
[null,null,null,null,{"$f":"E15","v":"Pension Scheme Established Deficit"},null,"£m 09/10 prices",null,null,null,null,null,null,null,null,null,null,null,null,null,null,null,null,null,null,null,null,null,null,null,null,null,null,8.7961833442298172,8.7961833442298172,9.8951198747490885,9.8951198747490885,9.8951198747490885,9.8951198747490885,9.8951198747490885,9.8951198747490885]
[]
[null,null,null,"Impact net debt and tax"]
[]
[null,null,null,null,"Pension true-up from previous price controls",null,"£m 09/10 prices",null,8.395867794915624,null,null,null,null,null,null,null,null,null,null,null,null,null,null,null,null,null,null,null,null,null,null,null,null,{"$f":"$I$55/9*(1+SystemOperator!$AH$295)","v":0.97533863299335366},{"$f":"$I$55/9*(1+SystemOperator!$AH$295)*(1+SystemOperator!$AI$295)","v":1.0185656412076189},{"$f":"$I$55/9*(1+SystemOperator!$AH$295)*(1+SystemOperator!$AI$295)*(1+SystemOperator!$AJ$295)","v":1.0626695334719087},{"$f":"$I$55/9*(1+SystemOperator!$AH$295)*(1+SystemOperator!$AI$295)*(1+SystemOperator!$AJ$295)*(1+SystemOperator!$AK$295)","v":1.1086831242712423},{"$f":"$I$55/9*(1+SystemOperator!$AH$295)*(1+SystemOperator!$AI$295)*(1+SystemOperator!$AJ$295)*(1+SystemOperator!$AK$295)*(1+SystemOperator!$AL$295)","v":1.1566891035521869},{"$f":"$I$55/9*(1+SystemOperator!$AH$295)*(1+SystemOperator!$AI$295)*(1+SystemOperator!$AJ$295)*(1+SystemOperator!$AK$295)*(1+SystemOperator!$AL$295)*(1+SystemOperator!$AM$295)","v":1.2067737417359965},{"$f":"$I$55/9*(1+SystemOperator!$AH$295)*(1+SystemOperator!$AI$295)*(1+SystemOperator!$AJ$295)*(1+SystemOperator!$AK$295)*(1+SystemOperator!$AL$295)*(1+SystemOperator!$AM$295)*(1+SystemOperator!$AN$295)","v":1.2590270447531651},{"$f":"$I$55/9*(1+SystemOperator!$AH$295)*(1+SystemOperator!$AI$295)*(1+SystemOperator!$AJ$295)*(1+SystemOperator!$AK$295)*(1+SystemOperator!$AL$295)*(1+SystemOperator!$AM$295)*(1+SystemOperator!$AN$295)*(1+SystemOperator!$AO$295)","v":1.313542915790977}]
[]
[null,null,null,"Impact net debt, no impact on tax"]
[]
[null,null,null,null,{"$f":"E16","v":"Legacy price control adjustments to allowed revenue"},null,"£m 09/10 prices",null,null,null,null,null,null,null,null,null,null,null,null,null,null,null,null,null,null,null,null,null,null,null,null,null,null,{"$f":"$AH$16/8","v":1.9673768800481106},{"$f":"$AH$16/8*(1+SystemOperator!$AI$295)","v":2.0545710233718428},{"$f":"$AH$16/8*(1+SystemOperator!$AI$295)*(1+SystemOperator!$AJ$295)","v":2.1435339486838436},{"$f":"$AH$16/8*(1+SystemOperator!$AI$295)*(1+SystemOperator!$AJ$295)*(1+SystemOperator!$AK$295)","v":2.2363489686618538},{"$f":"$AH$16/8*(1+SystemOperator!$AI$295)*(1+SystemOperator!$AJ$295)*(1+SystemOperator!$AK$295)*(1+SystemOperator!$AL$295)","v":2.3331828790049118},{"$f":"$AH$16/8*(1+SystemOperator!$AI$295)*(1+SystemOperator!$AJ$295)*(1+SystemOperator!$AK$295)*(1+SystemOperator!$AL$295)*(1+SystemOperator!$AM$295)","v":2.4342096976658243},{"$f":"$AH$16/8*(1+SystemOperator!$AI$295)*(1+SystemOperator!$AJ$295)*(1+SystemOperator!$AK$295)*(1+SystemOperator!$AL$295)*(1+SystemOperator!$AM$295)*(1+SystemOperator!$AN$295)","v":2.5396109775747542},{"$f":"$AH$16/8*(1+SystemOperator!$AI$295)*(1+SystemOperator!$AJ$295)*(1+SystemOperator!$AK$295)*(1+SystemOperator!$AL$295)*(1+SystemOperator!$AM$295)*(1+SystemOperator!$AN$295)*(1+SystemOperator!$AO$295)","v":2.6495761329037406}]
[]
[]
[]
[]
[]
[]
[]
[null,"Efficiency incentive"]
[]
[null,null,"TIM and capitalisation"]
[]
[null,null,null,null,"Capitalised share of totex",null,"%",null,null,null,null,null,null,null,null,null,null,null,null,null,null,null,null,null,null,null,null,null,null,null,null,null,null,0.27900000000000003,0.27900000000000003,0.27900000000000003,0.27900000000000003,0.27900000000000003,0.27900000000000003,0.27900000000000003,0.27900000000000003]
[]
[null,"RAV and assets"]
[]
[null,null,"Post-vesting assets"]
[]
[null,null,null,null,"Post-vesting asset life",null,"years",null,7]
[null,null,null,null,"Pre-RIIO net additions to RAV",null,"£m 09/10 prices",null,null,">",null,null,null,null,null,null,null,null,null,null,null,null,0,0,0,0,10.213326566270071,9.8341262611961149,12.804318823304111,10.260191157019948,17.555204661718989,19.936664914416475,28.913417089623657]
[null,null,null,null,{"$f":"E17","v":"Legacy price control adjustments to RAV"},null,"£m 09/10 prices",null,null,null,null,null,null,null,null,null,null,null,null,null,null,null,0,0,0,0,0,0,0,0,0,0,0,{"$f":"AH17","v":2.9301486584244367}]
[]
[null,null,"Tax pool allocation"]
[]
[null,null,null,"Allocation to \"General\" pool"]
[]
[null,null,null,null,"Non-operational capex",null,"%",null,null,null,null,null,null,null,null,null,null,null,null,null,null,null,null,null,null,null,null,null,null,null,null,null,null,1,1,1,1,1,1,1,1]
[null,null,null,null,"Controllable opex",null,"%",null,null,null,null,null,null,null,null,null,null,null,null,null,null,null,null,null,null,null,null,null,null,null,null,null,null,0,0,0,0,0,0,0,0]
[]
[null,null,null,"Allocation to \"Revenue\" pool"]
[]
[null,null,null,null,"Non-operational capex",null,"%",null,null,null,null,null,null,null,null,null,null,null,null,null,null,null,null,null,null,null,null,null,null,null,null,null,null,0,0,0,0,0,0,0,0]
[null,null,null,null,"Controllable opex",null,"%",null,null,null,null,null,null,null,null,null,null,null,null,null,null,null,null,null,null,null,null,null,null,null,null,null,null,1,1,1,1,1,1,1,1]
[]
[null,null,null,"Allocation to \"Non Qualifying\" pool"]
[]
[null,null,null,null,"Non-operational capex",null,"%",null,null,null,null,null,null,null,null,null,null,null,null,null,null,null,null,null,null,null,null,null,null,null,null,null,null,0,0,0,0,0,0,0,0]
[null,null,null,null,"Controllable opex",null,"%",null,null,null,null,null,null,null,null,null,null,null,null,null,null,null,null,null,null,null,null,null,null,null,null,null,null,0,0,0,0,0,0,0,0]
[]
[null,"Tax"]
[]
[null,null,"Tax policy"]
[]
[null,null,null,null,"General pool capital allowance opening balance brought forward",null,"£m nominal",null,null,null,null,null,null,null,null,null,null,null,null,null,null,null,null,null,null,null,null,null,null,null,null,null,null,53.649535999999998]
[null,null,null,null,"General pool allowance rate",null,"%",null,null,null,null,null,null,null,null,null,null,null,null,null,null,null,null,null,null,null,null,null,null,null,null,null,null,0.18,0.18,0.18,0.18,0.18,0.18,0.18,0.18]
[]
[null,null,null,null,"Special Rate capital allowance opening balance brought forward",null,"£m nominal",null,null,null,null,null,null,null,null,null,null,null,null,null,null,null,null,null,null,null,null,null,null,null,null,null,null,31.783144066776011]
[null,null,null,null,"Special Rate allowance rate",null,"%",null,null,null,null,null,null,null,null,null,null,null,null,null,null,null,null,null,null,null,null,null,null,null,null,null,null,0.08,0.08,0.08,0.08,0.08,0.08,0.08,0.08]
[]
[null,null,null,null,"Deferred revenue expenditure opening balance brought forward",null,"£m nominal",null,null,null,null,null,null,null,null,null,null,null,null,null,null,null,null,null,null,null,null,null,null,null,null,null,null,1.843]
[null,null,null,null,"Deferred revenue expenditure allowance rate",null,"%",null,null,null,null,null,null,null,null,null,null,null,null,null,null,null,null,null,null,null,null,null,null,null,null,null,null,0.03,0.03,0.03,0.03,0.03,0.03,0.03,0.03]
[]
[null,null,null,"Tax Trigger Deadbands"]
[]
[null,null,null,null,"Tax Trigger Deadband",null,null,null,null,null,null,null,null,null,null,null,null,null,null,null,null,null,null,null,null,null,null,null,null,null,null,null,null,0.41312224620250881,0.37562430291702936,0.37894329087798889,0.38670940010544497,0.40633757055616232,0.38967039518863461,0.41313027310191663,0.41812451649780763]
[]
[null,"End of sheet"]

{"sheet":"NGET SO (Blank - not used)","index":25,"n_rows":0,"n_cols":0,"rows_kept":0,"cut":false,"hidden":true,"merged":[]}