{"text_format":"1","workbook":"xlsx","n_sheets":25,"sheets":["Front sheet","Model explanation ","Table","Interface","Market player X","r_NTS Demand","r_Bacton IUK exports","r_Moffat exports","r_Storage injections","r_Demand growth forecast","r_Online storage","r_Storage parameters","r_Capacities and coefficients","r_Data from TYS 2010 (Appendix)","r_Storage stock levels (daily)","c_Demand break down","c_Sources calculations","c_Storage calculations","c_Demand calculations","c_Storage stock levels(quarter)","c_Daily","c_Weekly","c_Monthly","c_Quarterly","c_Seasonal"],"not_rendered":{"charts":10,"images":2,"macros":1,"external_links":1,"defined_names":25,"comments":1,"pivot_tables":0},"unopened":[],"bounds":{"document_bytes":16777216,"sheet_cells":100000,"rows_first":2000,"rows_last":500,"rows_between":2000,"halvings":0,"cell_chars":16384,"cell_head_chars":4096},"cells_cut":0,"cells_raw":0,"read":"whole","date_system":"1900"}

{"sheet":"Front sheet","index":0,"n_rows":5,"n_cols":3,"rows_kept":5,"cut":false,"hidden":false,"merged":[]}
[]
[null,"Gas Pivotality Model"]
[]
[]
[null,"Version:","Final"]

{"sheet":"Model explanation ","index":1,"n_rows":27,"n_cols":4,"rows_kept":27,"cut":false,"hidden":false,"merged":[]}
["Explanation of the model: This sheet gives an overview of the content of each of the tabs included in this worksheet"]
["Tab name","Tab type","Content","Source of data"]
["Front sheet","n/a","Disclaimer","n/a"]
["Model explanation","n/a","It describes the content of the tabs included in this worksheet","n/a"]
["Table","Output","Output table summarising results from pivotality calculations","n/a"]
["Interface","Input","Input tab where user can choose the demand year and set demand and capacities sensitivities","n/a"]
["Market player X","Input","Input tab where users should input data on its storage and non-storage supplies. User to fill cells highlighted in yellow","n/a"]
["r_NTS demand","Raw data","Raw data on actual demand for gas year 2009/10","National Grid- see http://marketinformation.natgrid.co.uk/gas/DataItemExplorer.aspx"]
["r_Bacton IUK exports","Raw data and calculations ","Data on gas export flows for gas year 2009/2010 from Moffat interconnector. The tab also includes calculations on future flows over the period 2010-16","National Grid- see http://marketinformation.natgrid.co.uk/gas/DataItemExplorer.aspx"]
["r_Moffat exports","Raw data and calculations ","Data on gas export flows for gas year 2009/2010 from Bacton. The tab also includes calculations on future flows over the period 2010-16","National Grid- see http://marketinformation.natgrid.co.uk/gas/DataItemExplorer.aspx"]
["r_Demand growth forecast","Raw data/Assumptions","Raw data on average and peak demand growth rates over the forecasted period. Users might want to modify these assumptions ","National Grid Ten Year Statement (2010)"]
["r_Storage injections","Raw data","Raw data on actual storage injection (accounted as part of demand) by site and day ","National Grid- see http://marketinformation.natgrid.co.uk/gas/DataItemExplorer.aspx"]
["r_on line storage ","Raw data/Input","Raw data on storage facilities which are operational and/or will be operational in the future. This data feeds into the Interface and Market player X tabs. Users might want to change these assumptions","National Grid Ten Year Statement (2010) & UK and Ireland Gas Project Tracker, Platts European Gas Daily, volume 15, issue 221, November 15 2010"]
["r_Storage parameters","Raw data","Raw data on injection rate, delivery rate and space","National Grid Ten Year Statement (2010) & UK and Ireland Gas Project Tracker, Platts European Gas Daily, volume 15, issue 221, November 15 2011"]
["r_Capacities and coefficients","Raw data/ assumptions","Tab contains raw data on capacities and Ofgem's calculations on coefficients. Users might want to change the assumptions in this tab","National Grid Ten Year Statement (2010) & National Grid Winter Outlook Report 2009/10"]
["r_Data from TYS 2010 (Appendix)","Raw data","Tab contains data on sources of gas supply from National Grid Ten Year Statement 2010","National Grid Ten Year Statement (2010)"]
["r_storage stock levels (daily) ","Raw data and calculations ","Raw data on daily closing stock levels at  long-range, medium range and short range storage facilities. This tab also calculates daily closing stock levels as a % of total storage capacity for long-medium run and short-run storage","National Grid Historic Storage Monitors 2008-09 and 2009-10 available on National Grid's website at http://www.nationalgrid.com/uk/Gas/Data/storage/"]
["c_Demand break down","Calculations","Intermediate calculations on gas demand feeding into c_Demand calculations tab","n/a"]
["c_Demand calculations","Calculations","Intermediate and final calculations on future gas demand ","n/a"]
["c_Storage calculations","Calculations","Intermediate calculations tab on storage stock levels","n/a"]
["c_Sources calculations","Calculations/Assumptions","Intermediate calculations on maximum daily, weekly, monthly, quarterly  and seasonal capacity of market player X and all other suppliers. This tab also allows users to change the duration of stress test N_2","n/a"]
["c_storage stock levels (quarter) ","Calculations","Calculations of quarterly average storage stock levels for long-medium run and short-run storage","n/a"]
["c_Daily","Calculations","Intermediate calculations on pivotality ","n/a"]
["c_Weekly","Calculations","Intermediate calculations on pivotality ","n/a"]
["c_Monthly","Calculations","Intermediate calculations on pivotality ","n/a"]
["c_Quarterly","Calculations","Intermediate calculations on pivotality ","n/a"]
["c_Seasonal ","Calculations","Intermediate calculations on pivotality ","n/a"]

{"sheet":"Table","index":2,"n_rows":8,"n_cols":10,"rows_kept":8,"cut":false,"hidden":false,"merged":[[7,1,7,9]]}
[]
[null,"Pivotality results","09/10","10/11","11/12","12/13","13/14","14/15","15/16","16/17"]
[null,"Daily","0%, [0]","0%, [0]","0%, [0]","0%, [0]","0%, [0]","0%, [0]","0%, [0]","0%, [0]"]
[null,"Weekly","0%, [0]","0%, [0]","0%, [0]","0%, [0]","0%, [0]","0%, [0]","0%, [0]","0%, [0]"]
[null,"Monthly","0%, [0]","0%, [0]","0%, [0]","0%, [0]","0%, [0]","0%, [0]","0%, [0]","0%, [0]"]
[null,"Quarterly","0%, [0]","0%, [0]","0%, [0]","0%, [0]","0%, [0]","0%, [0]","0%, [0]","0%, [0]"]
[null,"Seasonal","0%, [0]","0%, [0]","0%, [0]","0%, [0]","0%, [0]","0%, [0]","0%, [0]","0%, [1]"]
[null,"*Market player's 'pivotal gas volume of supply' as % of GB gas demand, [number of periods in which market player is pivotal]"]

{"sheet":"Interface","index":3,"n_rows":62,"n_cols":30,"rows_kept":62,"cut":false,"hidden":false,"merged":[]}
[null,null,null,{"$f":"Z10","v":"16/17"}]
[null,"Modeled period (gas year)",null,{"$f":"D1","v":"16/17"}]
[null,null,null,null,null,null,null,null,null,null,null,null,null,null,null,null,null,null,null,null,null,null,null,null,null,"09/10"]
[null,"Demand sensitivity (as % base case demand)",null,null,1,null,null,null,null,null,null,null,null,null,null,null,null,null,null,null,null,null,null,null,null,"10/11"]
[null,"Stress test daily capacities (GWh/day)",null,"N-1",0,"N-2",0,null,"Results summary",null,null,null,null,null,null,null,null,null,null,null,null,null,null,null,null,"11/12"]
[null,null,null,null,null,null,null,null,null,null,null,null,null,null,null,null,null,null,null,null,null,null,null,null,null,"12/13"]
[null,null,null,null,null,null,null,null,"Timeframe","Number of days in period (days)","Resource inadequacy periods (periods)","Pivotal periods (periods)","Equivalent pivotal days (days)","Pivotal volume in pivotal periods (GWh)","Total demand in pivotal periods (GWh)","Pivotal volume in pivotal periods (% GB demand)",null,null,null,null,null,null,null,null,null,"13/14","Pivotal volume/demand (Rounded)","Pivotal Volume /Potential supply",null,"Years used for assessment"]
[null,"Sources parameters",null,null,null,null,null,null,"Daily",1,{"$f":"c_Daily!Q3","v":0},{"$f":"c_Daily!$T$3","v":0},{"$f":"L8*J8","v":0},{"$f":"c_Daily!$U$3","v":0},{"$f":"c_Daily!$V$3","v":0},{"$f":"IF(O8>0,N8/O8,\"0\")","v":"0"},{"$f":"\"\"&ROUND(P8*100, 0)&\"%, [\"&L8&\"]\"","v":"0%, [0]"},null,null,null,null,null,null,null,null,"14/15",{"$f":"ROUND(P8*100,2)","v":0},{"$f":"ROUND(#REF!*100,2)","v":{"$error":"#REF!"}},null,"09/10"]
[null,"Source","Included (%)","Player's share (%)",null,null,null,null,"Weekly",7,{"$f":"c_Weekly!P3","v":0},{"$f":"c_Weekly!$S$3","v":0},{"$f":"L9*J9","v":0},{"$f":"c_Weekly!$T$3","v":0},{"$f":"c_Weekly!$U$3","v":0},{"$f":"IF(O9>0,N9/O9,\"0\")","v":"0"},{"$f":"\"\"&ROUND(P9*100, 0)&\"%, [\"&L9&\"]\"","v":"0%, [0]"},null,null,null,null,null,null,null,null,"15/16",{"$f":"ROUND(P9*100,2)","v":0},{"$f":"ROUND(#REF!*100,2)","v":{"$error":"#REF!"}},null,"10/11"]
[2,"UKCS",1,{"$f":"HLOOKUP($D$2,'Market player X'!$A$12:$I$16,A10,FALSE)","v":0},null,null,null,null,"Monthly",30,{"$f":"c_Monthly!P3","v":0},{"$f":"c_Monthly!$S$3","v":0},{"$f":"L10*J10","v":0},{"$f":"c_Monthly!$T$3","v":0},{"$f":"c_Monthly!$U$3","v":0},"0","0%, [0]",null,null,null,null,null,null,null,null,"16/17",0,{"$f":"ROUND(#REF!*100,2)","v":{"$error":"#REF!"}},null,"11/12"]
[{"$f":"A10+1","v":3},"Norway",1,{"$f":"HLOOKUP($D$2,'Market player X'!$A$12:$I$16,A11,FALSE)","v":0},null,null,null,null,"Quarterly",91,{"$f":"c_Quarterly!O3","v":0},{"$f":"c_Quarterly!$R$3","v":0},{"$f":"L11*J11","v":0},{"$f":"c_Quarterly!$S$3","v":0},{"$f":"c_Quarterly!$T$3","v":0},"0","0%, [0]",null,null,null,null,null,null,null,null,null,0,{"$f":"ROUND(#REF!*100,2)","v":{"$error":"#REF!"}},null,"12/13"]
[{"$f":"A11+1","v":4},"LNG",1,{"$f":"HLOOKUP($D$2,'Market player X'!$A$12:$I$16,A12,FALSE)","v":0},null,null,null,null,"Seasonal",183,{"$f":"c_Seasonal!O3","v":1},{"$f":"c_Seasonal!$R$3","v":1},{"$f":"L12*J12","v":183},{"$f":"c_Seasonal!$S$3","v":2555.5841079552192},{"$f":"c_Seasonal!$T$3","v":642464.24628410151},3.9777841689031899E-3,"0%, [1]",null,null,null,null,null,null,null,null,null,0.4,{"$f":"ROUND(#REF!*100,2)","v":{"$error":"#REF!"}},null,"13/14"]
[{"$f":"A12+1","v":5},"Continent",1,{"$f":"HLOOKUP($D$2,'Market player X'!$A$12:$I$16,A13,FALSE)","v":0},null,null,null,null,null,null,null,null,null,null,null,null,null,null,null,null,null,null,null,null,null,null,null,null,null,"14/15"]
[null,null,null,null,null,null,null,null,null,null,null,null,null,null,null,null,null,null,null,null,null,null,null,null,null,null,{"$f":"\"\"&AA12&\"%, [\"&AB12&\"%]\"","v":{"$error":"#REF!"}},null,null,"15/16"]
[null,null,null,null,null,null,null,null,null,null,null,null,null,null,null,null,null,null,null,null,null,null,null,null,null,null,null,null,null,"16/17"]
[]
[null,"Storage parameters"]
[null,"Storage facility","Included (%)","Player's share (%)","Type",null,null,null,"Daily analysis",null,null,null,null,null,null,"Weekly analysis"]
[null,"Rough",{"$f":"INDEX('r_Online storage'!$B$2:$J$28, MATCH(B19, 'r_Online storage'!$B$2:$B$28, FALSE), MATCH(Interface!$D$1, 'r_Online storage'!$B$2:$J$2, FALSE))","v":1},{"$f":"VLOOKUP(B19,'Market player X'!$A$20:$C$45,3,FALSE)","v":0},"LRS/MRS"]
[null,"Hatfield",{"$f":"INDEX('r_Online storage'!$B$2:$J$28, MATCH(B20, 'r_Online storage'!$B$2:$B$28, FALSE), MATCH(Interface!$D$1, 'r_Online storage'!$B$2:$J$2, FALSE))","v":1},{"$f":"VLOOKUP(B20,'Market player X'!$A$20:$C$45,3,FALSE)","v":0},"LRS/MRS"]
[null,"Humbly Grove",{"$f":"INDEX('r_Online storage'!$B$2:$J$28, MATCH(B21, 'r_Online storage'!$B$2:$B$28, FALSE), MATCH(Interface!$D$1, 'r_Online storage'!$B$2:$J$2, FALSE))","v":1},{"$f":"VLOOKUP(B21,'Market player X'!$A$20:$C$45,3,FALSE)","v":0},"LRS/MRS"]
[null,"Hornsea",{"$f":"INDEX('r_Online storage'!$B$2:$J$28, MATCH(B22, 'r_Online storage'!$B$2:$B$28, FALSE), MATCH(Interface!$D$1, 'r_Online storage'!$B$2:$J$2, FALSE))","v":1},{"$f":"VLOOKUP(B22,'Market player X'!$A$20:$C$45,3,FALSE)","v":0},"LRS/MRS"]
[null,"Holford",{"$f":"INDEX('r_Online storage'!$B$2:$J$28, MATCH(B23, 'r_Online storage'!$B$2:$B$28, FALSE), MATCH(Interface!$D$1, 'r_Online storage'!$B$2:$J$2, FALSE))","v":1},{"$f":"VLOOKUP(B23,'Market player X'!$A$20:$C$45,3,FALSE)","v":0},"LRS/MRS"]
[null,"Aldbrough 1 a",{"$f":"INDEX('r_Online storage'!$B$2:$J$28, MATCH(B24, 'r_Online storage'!$B$2:$B$28, FALSE), MATCH(Interface!$D$1, 'r_Online storage'!$B$2:$J$2, FALSE))","v":1},{"$f":"VLOOKUP(B24,'Market player X'!$A$20:$C$45,3,FALSE)","v":0},"LRS/MRS"]
[null,"Aldbrough 1 b",{"$f":"INDEX('r_Online storage'!$B$2:$J$28, MATCH(B25, 'r_Online storage'!$B$2:$B$28, FALSE), MATCH(Interface!$D$1, 'r_Online storage'!$B$2:$J$2, FALSE))","v":1},{"$f":"VLOOKUP(B25,'Market player X'!$A$20:$C$45,3,FALSE)","v":0},"LRS/MRS",null,null,null,null,null,null,null,null,null,null,null,null,null,null,null,null,null,null,null,null,null,{"$f":"\"\"&AA24&\"%, [\"&AB24&\"%]\"","v":"%, [%]"}]
[null,"Hole House Farm",{"$f":"INDEX('r_Online storage'!$B$2:$J$28, MATCH(B26, 'r_Online storage'!$B$2:$B$28, FALSE), MATCH(Interface!$D$1, 'r_Online storage'!$B$2:$J$2, FALSE))","v":1},{"$f":"VLOOKUP(B26,'Market player X'!$A$20:$C$45,3,FALSE)","v":0},"LRS/MRS"]
[null,"Hewett",{"$f":"INDEX('r_Online storage'!$B$2:$J$28, MATCH(B27, 'r_Online storage'!$B$2:$B$28, FALSE), MATCH(Interface!$D$1, 'r_Online storage'!$B$2:$J$2, FALSE))","v":0},{"$f":"VLOOKUP(B27,'Market player X'!$A$20:$C$45,3,FALSE)","v":0},"LRS/MRS"]
[null,"Bains",{"$f":"INDEX('r_Online storage'!$B$2:$J$28, MATCH(B28, 'r_Online storage'!$B$2:$B$28, FALSE), MATCH(Interface!$D$1, 'r_Online storage'!$B$2:$J$2, FALSE))","v":0},{"$f":"VLOOKUP(B28,'Market player X'!$A$20:$C$45,3,FALSE)","v":0},"LRS/MRS"]
[null,"Baird",{"$f":"INDEX('r_Online storage'!$B$2:$J$28, MATCH(B29, 'r_Online storage'!$B$2:$B$28, FALSE), MATCH(Interface!$D$1, 'r_Online storage'!$B$2:$J$2, FALSE))","v":0},{"$f":"VLOOKUP(B29,'Market player X'!$A$20:$C$45,3,FALSE)","v":0},"LRS/MRS"]
[null,"Portland",{"$f":"INDEX('r_Online storage'!$B$2:$J$28, MATCH(B30, 'r_Online storage'!$B$2:$B$28, FALSE), MATCH(Interface!$D$1, 'r_Online storage'!$B$2:$J$2, FALSE))","v":0},{"$f":"VLOOKUP(B30,'Market player X'!$A$20:$C$45,3,FALSE)","v":0},"LRS/MRS"]
[null,"Caythorpe",{"$f":"INDEX('r_Online storage'!$B$2:$J$28, MATCH(B31, 'r_Online storage'!$B$2:$B$28, FALSE), MATCH(Interface!$D$1, 'r_Online storage'!$B$2:$J$2, FALSE))","v":0},{"$f":"VLOOKUP(B31,'Market player X'!$A$20:$C$45,3,FALSE)","v":0},"LRS/MRS"]
[null,"Stublach",{"$f":"INDEX('r_Online storage'!$B$2:$J$28, MATCH(B32, 'r_Online storage'!$B$2:$B$28, FALSE), MATCH(Interface!$D$1, 'r_Online storage'!$B$2:$J$2, FALSE))","v":1},{"$f":"VLOOKUP(B32,'Market player X'!$A$20:$C$45,3,FALSE)","v":0},"LRS/MRS"]
[null,"Hill Top Farm",{"$f":"INDEX('r_Online storage'!$B$2:$J$28, MATCH(B33, 'r_Online storage'!$B$2:$B$28, FALSE), MATCH(Interface!$D$1, 'r_Online storage'!$B$2:$J$2, FALSE))","v":1},{"$f":"VLOOKUP(B33,'Market player X'!$A$20:$C$45,3,FALSE)","v":0},"LRS/MRS"]
[null,"Avonmouth",{"$f":"INDEX('r_Online storage'!$B$2:$J$28, MATCH(B34, 'r_Online storage'!$B$2:$B$28, FALSE), MATCH(Interface!$D$1, 'r_Online storage'!$B$2:$J$2, FALSE))","v":0},{"$f":"VLOOKUP(B34,'Market player X'!$A$20:$C$45,3,FALSE)","v":0},"SRS"]
[null,"Glenmavis",{"$f":"INDEX('r_Online storage'!$B$2:$J$28, MATCH(B35, 'r_Online storage'!$B$2:$B$28, FALSE), MATCH(Interface!$D$1, 'r_Online storage'!$B$2:$J$2, FALSE))","v":0},{"$f":"VLOOKUP(B35,'Market player X'!$A$20:$C$45,3,FALSE)","v":0},"SRS"]
[null,"Partington",{"$f":"INDEX('r_Online storage'!$B$2:$J$28, MATCH(B36, 'r_Online storage'!$B$2:$B$28, FALSE), MATCH(Interface!$D$1, 'r_Online storage'!$B$2:$J$2, FALSE))","v":0},{"$f":"VLOOKUP(B36,'Market player X'!$A$20:$C$45,3,FALSE)","v":0},"SRS"]
[null,"Aldbrough 2",{"$f":"INDEX('r_Online storage'!$B$2:$J$28, MATCH(B37, 'r_Online storage'!$B$2:$B$28, FALSE), MATCH(Interface!$D$1, 'r_Online storage'!$B$2:$J$2, FALSE))","v":0},{"$f":"VLOOKUP(B37,'Market player X'!$A$20:$C$45,3,FALSE)","v":0},"LRS/MRS"]
[null,"Whitehill F",{"$f":"INDEX('r_Online storage'!$B$2:$J$28, MATCH(B38, 'r_Online storage'!$B$2:$B$28, FALSE), MATCH(Interface!$D$1, 'r_Online storage'!$B$2:$J$2, FALSE))","v":0},{"$f":"VLOOKUP(B38,'Market player X'!$A$20:$C$45,3,FALSE)","v":0},"LRS/MRS"]
[null,"Holford H165",{"$f":"INDEX('r_Online storage'!$B$2:$J$28, MATCH(B39, 'r_Online storage'!$B$2:$B$28, FALSE), MATCH(Interface!$D$1, 'r_Online storage'!$B$2:$J$2, FALSE))","v":0},{"$f":"VLOOKUP(B39,'Market player X'!$A$20:$C$45,3,FALSE)","v":0},"LRS/MRS"]
[null,"Saltfleetby",{"$f":"INDEX('r_Online storage'!$B$2:$J$28, MATCH(B40, 'r_Online storage'!$B$2:$B$28, FALSE), MATCH(Interface!$D$1, 'r_Online storage'!$B$2:$J$2, FALSE))","v":0},{"$f":"VLOOKUP(B40,'Market player X'!$A$20:$C$45,3,FALSE)","v":0},"LRS/MRS",null,null,null,"Monthly analysis",null,null,null,null,null,null,"Quarterly analysis"]
[null,"Gateway",{"$f":"INDEX('r_Online storage'!$B$2:$J$28, MATCH(B41, 'r_Online storage'!$B$2:$B$28, FALSE), MATCH(Interface!$D$1, 'r_Online storage'!$B$2:$J$2, FALSE))","v":0},{"$f":"VLOOKUP(B41,'Market player X'!$A$20:$C$45,3,FALSE)","v":0},"LRS/MRS"]
[null,"Albury",{"$f":"INDEX('r_Online storage'!$B$2:$J$28, MATCH(B42, 'r_Online storage'!$B$2:$B$28, FALSE), MATCH(Interface!$D$1, 'r_Online storage'!$B$2:$J$2, FALSE))","v":0},{"$f":"VLOOKUP(B42,'Market player X'!$A$20:$C$45,3,FALSE)","v":0},"LRS/MRS"]
[null,"SNS Storage",{"$f":"INDEX('r_Online storage'!$B$2:$J$28, MATCH(B43, 'r_Online storage'!$B$2:$B$28, FALSE), MATCH(Interface!$D$1, 'r_Online storage'!$B$2:$J$2, FALSE))","v":0},{"$f":"VLOOKUP(B43,'Market player X'!$A$20:$C$45,3,FALSE)","v":0},"LRS/MRS"]
[null,"Fleetwood",{"$f":"INDEX('r_Online storage'!$B$2:$J$28, MATCH(B44, 'r_Online storage'!$B$2:$B$28, FALSE), MATCH(Interface!$D$1, 'r_Online storage'!$B$2:$J$2, FALSE))","v":0},{"$f":"VLOOKUP(B44,'Market player X'!$A$20:$C$45,3,FALSE)","v":0},"LRS/MRS"]
[]
[]
[]
[]
[]
[]
[]
[]
[]
[]
[]
[]
[]
[]
[]
[]
[]
[null,null,null,null,null,null,null,null,"Seasonal analysis"]

{"sheet":"Market player X","index":4,"n_rows":45,"n_cols":9,"rows_kept":45,"cut":false,"hidden":false,"merged":[[0,0,0,8]]}
["NOTE: Market player X to fill in all cells with a yellow fill. Figures contained in yellow cells are for illustrative purposes only. Users should use their own data where appropriate and/or make their own assumptions."]
[]
["Non-storage supplies"]
["Market player's maximum daily deliverability (GWh/day)","09/10","10/11","11/12","12/13","13/14","14/15","15/16","16/17"]
["UKCS",0,0,0,0,0,0,0,0]
["Norway",0,0,0,0,0,0,0,0]
["LNG",0,0,0,0,0,0,0,0]
["Continent",{"$f":"SUM(B9:B10)","v":0},{"$f":"SUM(C9:C10)","v":0},0,0,0,0,0,0]
["-IUK",0,0,0,0,0,0,0,0]
["-BBL",0,0,0,0,0,0,0,0]
[]
["Market player's share of maximum daily deliverability (%)","09/10","10/11","11/12","12/13","13/14","14/15","15/16","16/17"]
["UKCS",{"$f":"B5/'r_Capacities and coefficients'!B3","v":0},{"$f":"C5/'r_Capacities and coefficients'!C3","v":0},{"$f":"D5/'r_Capacities and coefficients'!D3","v":0},{"$f":"E5/'r_Capacities and coefficients'!E3","v":0},{"$f":"F5/'r_Capacities and coefficients'!F3","v":0},{"$f":"G5/'r_Capacities and coefficients'!G3","v":0},{"$f":"H5/'r_Capacities and coefficients'!H3","v":0},{"$f":"I5/'r_Capacities and coefficients'!I3","v":0}]
["Norway",{"$f":"B6/'r_Capacities and coefficients'!B4","v":0},{"$f":"C6/'r_Capacities and coefficients'!C4","v":0},{"$f":"D6/'r_Capacities and coefficients'!D4","v":0},{"$f":"E6/'r_Capacities and coefficients'!E4","v":0},{"$f":"F6/'r_Capacities and coefficients'!F4","v":0},{"$f":"G6/'r_Capacities and coefficients'!G4","v":0},{"$f":"H6/'r_Capacities and coefficients'!H4","v":0},{"$f":"I6/'r_Capacities and coefficients'!I4","v":0}]
["LNG",{"$f":"B7/'r_Capacities and coefficients'!B5","v":0},{"$f":"C7/'r_Capacities and coefficients'!C5","v":0},{"$f":"D7/'r_Capacities and coefficients'!D5","v":0},{"$f":"E7/'r_Capacities and coefficients'!E5","v":0},{"$f":"F7/'r_Capacities and coefficients'!F5","v":0},{"$f":"G7/'r_Capacities and coefficients'!G5","v":0},{"$f":"H7/'r_Capacities and coefficients'!H5","v":0},{"$f":"I7/'r_Capacities and coefficients'!I5","v":0}]
["Continent",{"$f":"B8/'r_Capacities and coefficients'!B6","v":0},{"$f":"C8/'r_Capacities and coefficients'!C6","v":0},{"$f":"D8/'r_Capacities and coefficients'!D6","v":0},{"$f":"E8/'r_Capacities and coefficients'!E6","v":0},{"$f":"F8/'r_Capacities and coefficients'!F6","v":0},{"$f":"G8/'r_Capacities and coefficients'!G6","v":0},{"$f":"H8/'r_Capacities and coefficients'!H6","v":0},{"$f":"I8/'r_Capacities and coefficients'!I6","v":0}]
[]
["Storage supplies"]
["Facility",{"$f":"\"Online in gas year \"&Interface!D1&\"?\"","v":"Online in gas year 16/17?"},"Market player's share of space (%)"]
["Rough",{"$f":"INDEX('r_Online storage'!$B$2:$J$28, MATCH(A20, 'r_Online storage'!$B$2:$B$28, FALSE), MATCH(Interface!$D$1, 'r_Online storage'!$B$2:$J$2, FALSE))","v":1},0]
["Hatfield",{"$f":"INDEX('r_Online storage'!$B$2:$J$28, MATCH(A21, 'r_Online storage'!$B$2:$B$28, FALSE), MATCH(Interface!$D$1, 'r_Online storage'!$B$2:$J$2, FALSE))","v":1},0]
["Humbly Grove",{"$f":"INDEX('r_Online storage'!$B$2:$J$28, MATCH(A22, 'r_Online storage'!$B$2:$B$28, FALSE), MATCH(Interface!$D$1, 'r_Online storage'!$B$2:$J$2, FALSE))","v":1},0]
["Hornsea",{"$f":"INDEX('r_Online storage'!$B$2:$J$28, MATCH(A23, 'r_Online storage'!$B$2:$B$28, FALSE), MATCH(Interface!$D$1, 'r_Online storage'!$B$2:$J$2, FALSE))","v":1},0]
["Holford",{"$f":"INDEX('r_Online storage'!$B$2:$J$28, MATCH(A24, 'r_Online storage'!$B$2:$B$28, FALSE), MATCH(Interface!$D$1, 'r_Online storage'!$B$2:$J$2, FALSE))","v":1},0]
["Aldbrough 1 a",{"$f":"INDEX('r_Online storage'!$B$2:$J$28, MATCH(A25, 'r_Online storage'!$B$2:$B$28, FALSE), MATCH(Interface!$D$1, 'r_Online storage'!$B$2:$J$2, FALSE))","v":1},0]
["Aldbrough 1 b",{"$f":"INDEX('r_Online storage'!$B$2:$J$28, MATCH(A26, 'r_Online storage'!$B$2:$B$28, FALSE), MATCH(Interface!$D$1, 'r_Online storage'!$B$2:$J$2, FALSE))","v":1},0]
["Hole House Farm",{"$f":"INDEX('r_Online storage'!$B$2:$J$28, MATCH(A27, 'r_Online storage'!$B$2:$B$28, FALSE), MATCH(Interface!$D$1, 'r_Online storage'!$B$2:$J$2, FALSE))","v":1},0]
["Hewett",{"$f":"INDEX('r_Online storage'!$B$2:$J$28, MATCH(A28, 'r_Online storage'!$B$2:$B$28, FALSE), MATCH(Interface!$D$1, 'r_Online storage'!$B$2:$J$2, FALSE))","v":0},0]
["Bains",{"$f":"INDEX('r_Online storage'!$B$2:$J$28, MATCH(A29, 'r_Online storage'!$B$2:$B$28, FALSE), MATCH(Interface!$D$1, 'r_Online storage'!$B$2:$J$2, FALSE))","v":0},0]
["Baird",{"$f":"INDEX('r_Online storage'!$B$2:$J$28, MATCH(A30, 'r_Online storage'!$B$2:$B$28, FALSE), MATCH(Interface!$D$1, 'r_Online storage'!$B$2:$J$2, FALSE))","v":0},0]
["Portland",{"$f":"INDEX('r_Online storage'!$B$2:$J$28, MATCH(A31, 'r_Online storage'!$B$2:$B$28, FALSE), MATCH(Interface!$D$1, 'r_Online storage'!$B$2:$J$2, FALSE))","v":0},0]
["Caythorpe",{"$f":"INDEX('r_Online storage'!$B$2:$J$28, MATCH(A32, 'r_Online storage'!$B$2:$B$28, FALSE), MATCH(Interface!$D$1, 'r_Online storage'!$B$2:$J$2, FALSE))","v":0},0]
["Stublach",{"$f":"INDEX('r_Online storage'!$B$2:$J$28, MATCH(A33, 'r_Online storage'!$B$2:$B$28, FALSE), MATCH(Interface!$D$1, 'r_Online storage'!$B$2:$J$2, FALSE))","v":1},0]
["Hill Top Farm",{"$f":"INDEX('r_Online storage'!$B$2:$J$28, MATCH(A34, 'r_Online storage'!$B$2:$B$28, FALSE), MATCH(Interface!$D$1, 'r_Online storage'!$B$2:$J$2, FALSE))","v":1},0]
["Avonmouth",{"$f":"INDEX('r_Online storage'!$B$2:$J$28, MATCH(A35, 'r_Online storage'!$B$2:$B$28, FALSE), MATCH(Interface!$D$1, 'r_Online storage'!$B$2:$J$2, FALSE))","v":0},0]
["Glenmavis",{"$f":"INDEX('r_Online storage'!$B$2:$J$28, MATCH(A36, 'r_Online storage'!$B$2:$B$28, FALSE), MATCH(Interface!$D$1, 'r_Online storage'!$B$2:$J$2, FALSE))","v":0},0]
["Partington",{"$f":"INDEX('r_Online storage'!$B$2:$J$28, MATCH(A37, 'r_Online storage'!$B$2:$B$28, FALSE), MATCH(Interface!$D$1, 'r_Online storage'!$B$2:$J$2, FALSE))","v":0},0]
["Aldbrough 2",{"$f":"INDEX('r_Online storage'!$B$2:$J$28, MATCH(A38, 'r_Online storage'!$B$2:$B$28, FALSE), MATCH(Interface!$D$1, 'r_Online storage'!$B$2:$J$2, FALSE))","v":0},0]
["Whitehill F",{"$f":"INDEX('r_Online storage'!$B$2:$J$28, MATCH(A39, 'r_Online storage'!$B$2:$B$28, FALSE), MATCH(Interface!$D$1, 'r_Online storage'!$B$2:$J$2, FALSE))","v":0},0]
["Holford H165",{"$f":"INDEX('r_Online storage'!$B$2:$J$28, MATCH(A40, 'r_Online storage'!$B$2:$B$28, FALSE), MATCH(Interface!$D$1, 'r_Online storage'!$B$2:$J$2, FALSE))","v":0},0]
["Saltfleetby",{"$f":"INDEX('r_Online storage'!$B$2:$J$28, MATCH(A41, 'r_Online storage'!$B$2:$B$28, FALSE), MATCH(Interface!$D$1, 'r_Online storage'!$B$2:$J$2, FALSE))","v":0},0]
["Gateway",{"$f":"INDEX('r_Online storage'!$B$2:$J$28, MATCH(A42, 'r_Online storage'!$B$2:$B$28, FALSE), MATCH(Interface!$D$1, 'r_Online storage'!$B$2:$J$2, FALSE))","v":0},0]
["Albury",{"$f":"INDEX('r_Online storage'!$B$2:$J$28, MATCH(A43, 'r_Online storage'!$B$2:$B$28, FALSE), MATCH(Interface!$D$1, 'r_Online storage'!$B$2:$J$2, FALSE))","v":0},0]
["SNS Storage",{"$f":"INDEX('r_Online storage'!$B$2:$J$28, MATCH(A44, 'r_Online storage'!$B$2:$B$28, FALSE), MATCH(Interface!$D$1, 'r_Online storage'!$B$2:$J$2, FALSE))","v":0},0]
["Fleetwood",{"$f":"INDEX('r_Online storage'!$B$2:$J$28, MATCH(A45, 'r_Online storage'!$B$2:$B$28, FALSE), MATCH(Interface!$D$1, 'r_Online storage'!$B$2:$J$2, FALSE))","v":0},0]

{"sheet":"r_NTS Demand","index":5,"n_rows":367,"n_cols":3,"rows_kept":367,"cut":false,"hidden":false,"merged":[]}
["NTS Demand"]
["mcm/day","DataItem","Value"]
["2009-10-01","Demand Actual, NTS, D+1",224.57386]
["2009-10-02","Demand Actual, NTS, D+1",216.30421000000001]
["2009-10-03","Demand Actual, NTS, D+1",225.10427000000001]
["2009-10-04","Demand Actual, NTS, D+1",230.14]
["2009-10-05","Demand Actual, NTS, D+1",235.90592000000001]
["2009-10-06","Demand Actual, NTS, D+1",229.74502000000001]
["2009-10-07","Demand Actual, NTS, D+1",243.08548999999999]
["2009-10-08","Demand Actual, NTS, D+1",255.28825000000001]
["2009-10-09","Demand Actual, NTS, D+1",260.93347999999997]
["2009-10-10","Demand Actual, NTS, D+1",257.75231000000002]
["2009-10-11","Demand Actual, NTS, D+1",255.66661999999999]
["2009-10-12","Demand Actual, NTS, D+1",261.33420000000001]
["2009-10-13","Demand Actual, NTS, D+1",261.19826999999998]
["2009-10-14","Demand Actual, NTS, D+1",266.89645000000002]
["2009-10-15","Demand Actual, NTS, D+1",260.42845]
["2009-10-16","Demand Actual, NTS, D+1",258.55020999999999]
["2009-10-17","Demand Actual, NTS, D+1",254.63977]
["2009-10-18","Demand Actual, NTS, D+1",257.47917999999999]
["2009-10-19","Demand Actual, NTS, D+1",266.32524000000001]
["2009-10-20","Demand Actual, NTS, D+1",276.74675000000002]
["2009-10-21","Demand Actual, NTS, D+1",259.88967000000002]
["2009-10-22","Demand Actual, NTS, D+1",260.42176999999998]
["2009-10-23","Demand Actual, NTS, D+1",266.59568000000002]
["2009-10-24","Demand Actual, NTS, D+1",242.97324]
["2009-10-25","Demand Actual, NTS, D+1",250.84938]
["2009-10-26","Demand Actual, NTS, D+1",259.41466000000003]
["2009-10-27","Demand Actual, NTS, D+1",246.81952999999999]
["2009-10-28","Demand Actual, NTS, D+1",248.42159000000001]
["2009-10-29","Demand Actual, NTS, D+1",248.05578]
["2009-10-30","Demand Actual, NTS, D+1",251.76826]
["2009-10-31","Demand Actual, NTS, D+1",254.45927]
["2009-11-01","Demand Actual, NTS, D+1",262.57825000000003]
["2009-11-02","Demand Actual, NTS, D+1",282.02805000000001]
["2009-11-03","Demand Actual, NTS, D+1",275.99297000000001]
["2009-11-04","Demand Actual, NTS, D+1",283.37950999999998]
["2009-11-05","Demand Actual, NTS, D+1",284.17773]
["2009-11-06","Demand Actual, NTS, D+1",285.94779999999997]
["2009-11-07","Demand Actual, NTS, D+1",293.48836]
["2009-11-08","Demand Actual, NTS, D+1",304.16183999999998]
["2009-11-09","Demand Actual, NTS, D+1",335.45495]
["2009-11-10","Demand Actual, NTS, D+1",334.40589]
["2009-11-11","Demand Actual, NTS, D+1",316.73372999999998]
["2009-11-12","Demand Actual, NTS, D+1",296.50997000000001]
["2009-11-13","Demand Actual, NTS, D+1",287.19470000000001]
["2009-11-14","Demand Actual, NTS, D+1",267.96814999999998]
["2009-11-15","Demand Actual, NTS, D+1",268.38546000000002]
["2009-11-16","Demand Actual, NTS, D+1",291.28636]
["2009-11-17","Demand Actual, NTS, D+1",291.52]
["2009-11-18","Demand Actual, NTS, D+1",301.66773999999998]
["2009-11-19","Demand Actual, NTS, D+1",279.39114000000001]
["2009-11-20","Demand Actual, NTS, D+1",270.68754000000001]
["2009-11-21","Demand Actual, NTS, D+1",275.33564999999999]
["2009-11-22","Demand Actual, NTS, D+1",288.26499000000001]
["2009-11-23","Demand Actual, NTS, D+1",301.04908]
["2009-11-24","Demand Actual, NTS, D+1",302.29293000000001]
["2009-11-25","Demand Actual, NTS, D+1",311.06252999999998]
["2009-11-26","Demand Actual, NTS, D+1",325.62966999999998]
["2009-11-27","Demand Actual, NTS, D+1",337.19875000000002]
["2009-11-28","Demand Actual, NTS, D+1",325.59838999999999]
["2009-11-29","Demand Actual, NTS, D+1",326.32229999999998]
["2009-11-30","Demand Actual, NTS, D+1",369.28120999999999]
["2009-12-01","Demand Actual, NTS, D+1",381.61347000000001]
["2009-12-02","Demand Actual, NTS, D+1",347.78023000000002]
["2009-12-03","Demand Actual, NTS, D+1",349.62195000000003]
["2009-12-04","Demand Actual, NTS, D+1",355.59023000000002]
["2009-12-05","Demand Actual, NTS, D+1",311.77616999999998]
["2009-12-06","Demand Actual, NTS, D+1",311.83999999999997]
["2009-12-07","Demand Actual, NTS, D+1",335.95]
["2009-12-08","Demand Actual, NTS, D+1",329.57]
["2009-12-09","Demand Actual, NTS, D+1",312.43651999999997]
["2009-12-10","Demand Actual, NTS, D+1",333.49371000000002]
["2009-12-11","Demand Actual, NTS, D+1",361.48442]
["2009-12-12","Demand Actual, NTS, D+1",338.92793]
["2009-12-13","Demand Actual, NTS, D+1",352.63949000000002]
["2009-12-14","Demand Actual, NTS, D+1",370.29093]
["2009-12-15","Demand Actual, NTS, D+1",376.01344999999998]
["2009-12-16","Demand Actual, NTS, D+1",384.26659999999998]
["2009-12-17","Demand Actual, NTS, D+1",410.22867000000002]
["2009-12-18","Demand Actual, NTS, D+1",438.79025000000001]
["2009-12-19","Demand Actual, NTS, D+1",416.09]
["2009-12-20","Demand Actual, NTS, D+1",407.89719000000002]
["2009-12-21","Demand Actual, NTS, D+1",420.39173]
["2009-12-22","Demand Actual, NTS, D+1",415.14515999999998]
["2009-12-23","Demand Actual, NTS, D+1",405.07098999999999]
["2009-12-24","Demand Actual, NTS, D+1",379.29876999999999]
["2009-12-25","Demand Actual, NTS, D+1",348.78570999999999]
["2009-12-26","Demand Actual, NTS, D+1",335.70934999999997]
["2009-12-27","Demand Actual, NTS, D+1",354.03906999999998]
["2009-12-28","Demand Actual, NTS, D+1",373.54579999999999]
["2009-12-29","Demand Actual, NTS, D+1",390.78561999999999]
["2009-12-30","Demand Actual, NTS, D+1",387.35665999999998]
["2009-12-31","Demand Actual, NTS, D+1",401.85674999999998]
["2010-01-01","Demand Actual, NTS, D+1",376.83]
["2010-01-02","Demand Actual, NTS, D+1",386.27542999999997]
["2010-01-03","Demand Actual, NTS, D+1",400.66001]
["2010-01-04","Demand Actual, NTS, D+1",441.07641000000001]
["2010-01-05","Demand Actual, NTS, D+1",435.54203000000001]
["2010-01-06","Demand Actual, NTS, D+1",446.76011]
["2010-01-07","Demand Actual, NTS, D+1",453.89503999999999]
["2010-01-08","Demand Actual, NTS, D+1",465.46]
["2010-01-09","Demand Actual, NTS, D+1",438.61797999999999]
["2010-01-10","Demand Actual, NTS, D+1",415.63603000000001]
["2010-01-11","Demand Actual, NTS, D+1",424.40357]
["2010-01-12","Demand Actual, NTS, D+1",434.36554999999998]
["2010-01-13","Demand Actual, NTS, D+1",439.81880000000001]
["2010-01-14","Demand Actual, NTS, D+1",414.72464000000002]
["2010-01-15","Demand Actual, NTS, D+1",397.31171000000001]
["2010-01-16","Demand Actual, NTS, D+1",367.44585999999998]
["2010-01-17","Demand Actual, NTS, D+1",352.28548999999998]
["2010-01-18","Demand Actual, NTS, D+1",381.02823000000001]
["2010-01-19","Demand Actual, NTS, D+1",388.28161999999998]
["2010-01-20","Demand Actual, NTS, D+1",393.73993000000002]
["2010-01-21","Demand Actual, NTS, D+1",388.87637000000001]
["2010-01-22","Demand Actual, NTS, D+1",368.69486000000001]
["2010-01-23","Demand Actual, NTS, D+1",357.78951000000001]
["2010-01-24","Demand Actual, NTS, D+1",363.85642999999999]
["2010-01-25","Demand Actual, NTS, D+1",397.11279999999999]
["2010-01-26","Demand Actual, NTS, D+1",416.73464000000001]
["2010-01-27","Demand Actual, NTS, D+1",390.54933999999997]
["2010-01-28","Demand Actual, NTS, D+1",372.44747000000001]
["2010-01-29","Demand Actual, NTS, D+1",389.32574]
["2010-01-30","Demand Actual, NTS, D+1",395.01378]
["2010-01-31","Demand Actual, NTS, D+1",392.77654999999999]
["2010-02-01","Demand Actual, NTS, D+1",397.84976]
["2010-02-02","Demand Actual, NTS, D+1",385.4427]
["2010-02-03","Demand Actual, NTS, D+1",393.1]
["2010-02-04","Demand Actual, NTS, D+1",372.65715]
["2010-02-05","Demand Actual, NTS, D+1",346.54223999999999]
["2010-02-06","Demand Actual, NTS, D+1",346.25893000000002]
["2010-02-07","Demand Actual, NTS, D+1",348.91426000000001]
["2010-02-08","Demand Actual, NTS, D+1",399.22575999999998]
["2010-02-09","Demand Actual, NTS, D+1",399.12175000000002]
["2010-02-10","Demand Actual, NTS, D+1",411.54232999999999]
["2010-02-11","Demand Actual, NTS, D+1",420.51051000000001]
["2010-02-12","Demand Actual, NTS, D+1",393.99277000000001]
["2010-02-13","Demand Actual, NTS, D+1",379.18563]
["2010-02-14","Demand Actual, NTS, D+1",371.32857000000001]
["2010-02-15","Demand Actual, NTS, D+1",389.79]
["2010-02-16","Demand Actual, NTS, D+1",386.45591000000002]
["2010-02-17","Demand Actual, NTS, D+1",386.94344999999998]
["2010-02-18","Demand Actual, NTS, D+1",392.31560000000002]
["2010-02-19","Demand Actual, NTS, D+1",386.09296000000001]
["2010-02-20","Demand Actual, NTS, D+1",365.41748000000001]
["2010-02-21","Demand Actual, NTS, D+1",372.31513000000001]
["2010-02-22","Demand Actual, NTS, D+1",394.45085999999998]
["2010-02-23","Demand Actual, NTS, D+1",401.47874999999999]
["2010-02-24","Demand Actual, NTS, D+1",367.10950000000003]
["2010-02-25","Demand Actual, NTS, D+1",358.52019000000001]
["2010-02-26","Demand Actual, NTS, D+1",365.34933999999998]
["2010-02-27","Demand Actual, NTS, D+1",349.50810000000001]
["2010-02-28","Demand Actual, NTS, D+1",365.30597999999998]
["2010-03-01","Demand Actual, NTS, D+1",377.47913999999997]
["2010-03-02","Demand Actual, NTS, D+1",379.29914000000002]
["2010-03-03","Demand Actual, NTS, D+1",394.49703]
["2010-03-04","Demand Actual, NTS, D+1",394.76497000000001]
["2010-03-05","Demand Actual, NTS, D+1",392.70578]
["2010-03-06","Demand Actual, NTS, D+1",369.31315000000001]
["2010-03-07","Demand Actual, NTS, D+1",382.55784999999997]
["2010-03-08","Demand Actual, NTS, D+1",395.02575000000002]
["2010-03-09","Demand Actual, NTS, D+1",390.88267999999999]
["2010-03-10","Demand Actual, NTS, D+1",384.36020000000002]
["2010-03-11","Demand Actual, NTS, D+1",363.17317000000003]
["2010-03-12","Demand Actual, NTS, D+1",354.47807]
["2010-03-13","Demand Actual, NTS, D+1",320.30275999999998]
["2010-03-14","Demand Actual, NTS, D+1",308.75256000000002]
["2010-03-15","Demand Actual, NTS, D+1",328.38481000000002]
["2010-03-16","Demand Actual, NTS, D+1",314.47834999999998]
["2010-03-17","Demand Actual, NTS, D+1",301.91284999999999]
["2010-03-18","Demand Actual, NTS, D+1",303.44513000000001]
["2010-03-19","Demand Actual, NTS, D+1",319.73110000000003]
["2010-03-20","Demand Actual, NTS, D+1",306.35327999999998]
["2010-03-21","Demand Actual, NTS, D+1",316.06923]
["2010-03-22","Demand Actual, NTS, D+1",334.50519000000003]
["2010-03-23","Demand Actual, NTS, D+1",331.23770000000002]
["2010-03-24","Demand Actual, NTS, D+1",330.87261000000001]
["2010-03-25","Demand Actual, NTS, D+1",315.71197999999998]
["2010-03-26","Demand Actual, NTS, D+1",323.98203999999998]
["2010-03-27","Demand Actual, NTS, D+1",310.41849999999999]
["2010-03-28","Demand Actual, NTS, D+1",322.68232]
["2010-03-29","Demand Actual, NTS, D+1",340.74]
["2010-03-30","Demand Actual, NTS, D+1",331.08541000000002]
["2010-03-31","Demand Actual, NTS, D+1",371.90803]
["2010-04-01","Demand Actual, NTS, D+1",362.39139999999998]
["2010-04-02","Demand Actual, NTS, D+1",317.87529999999998]
["2010-04-03","Demand Actual, NTS, D+1",306.149]
["2010-04-04","Demand Actual, NTS, D+1",297.70699999999999]
["2010-04-05","Demand Actual, NTS, D+1",307.202]
["2010-04-06","Demand Actual, NTS, D+1",300.74862999999999]
["2010-04-07","Demand Actual, NTS, D+1",297.63479000000001]
["2010-04-08","Demand Actual, NTS, D+1",273.23378000000002]
["2010-04-09","Demand Actual, NTS, D+1",287.04072000000002]
["2010-04-10","Demand Actual, NTS, D+1",286.54032999999998]
["2010-04-11","Demand Actual, NTS, D+1",295.56013999999999]
["2010-04-12","Demand Actual, NTS, D+1",308.18995000000001]
["2010-04-13","Demand Actual, NTS, D+1",314.81824999999998]
["2010-04-14","Demand Actual, NTS, D+1",318.08028999999999]
["2010-04-15","Demand Actual, NTS, D+1",316.63708000000003]
["2010-04-16","Demand Actual, NTS, D+1",317.95782000000003]
["2010-04-17","Demand Actual, NTS, D+1",291.21814999999998]
["2010-04-18","Demand Actual, NTS, D+1",289.82772999999997]
["2010-04-19","Demand Actual, NTS, D+1",313.90422999999998]
["2010-04-20","Demand Actual, NTS, D+1",321.53998000000001]
["2010-04-21","Demand Actual, NTS, D+1",319.87497999999999]
["2010-04-22","Demand Actual, NTS, D+1",318.59884]
["2010-04-23","Demand Actual, NTS, D+1",311.77985999999999]
["2010-04-24","Demand Actual, NTS, D+1",285.18912]
["2010-04-25","Demand Actual, NTS, D+1",272.37849999999997]
["2010-04-26","Demand Actual, NTS, D+1",298.18495999999999]
["2010-04-27","Demand Actual, NTS, D+1",290.94240000000002]
["2010-04-28","Demand Actual, NTS, D+1",291.37281999999999]
["2010-04-29","Demand Actual, NTS, D+1",293.72762]
["2010-04-30","Demand Actual, NTS, D+1",292.23180000000002]
["2010-05-01","Demand Actual, NTS, D+1",285.02706999999998]
["2010-05-02","Demand Actual, NTS, D+1",305.90631000000002]
["2010-05-03","Demand Actual, NTS, D+1",302.16412000000003]
["2010-05-04","Demand Actual, NTS, D+1",308.69878]
["2010-05-05","Demand Actual, NTS, D+1",293.17579999999998]
["2010-05-06","Demand Actual, NTS, D+1",301.64992000000001]
["2010-05-07","Demand Actual, NTS, D+1",305.67876000000001]
["2010-05-08","Demand Actual, NTS, D+1",305.33382]
["2010-05-09","Demand Actual, NTS, D+1",300.84469000000001]
["2010-05-10","Demand Actual, NTS, D+1",316.59751999999997]
["2010-05-11","Demand Actual, NTS, D+1",309.78251]
["2010-05-12","Demand Actual, NTS, D+1",311.88296000000003]
["2010-05-13","Demand Actual, NTS, D+1",307.37871000000001]
["2010-05-14","Demand Actual, NTS, D+1",307.07571000000002]
["2010-05-15","Demand Actual, NTS, D+1",290.23770000000002]
["2010-05-16","Demand Actual, NTS, D+1",296.21973000000003]
["2010-05-17","Demand Actual, NTS, D+1",304.40915999999999]
["2010-05-18","Demand Actual, NTS, D+1",291.55700000000002]
["2010-05-19","Demand Actual, NTS, D+1",298.47586999999999]
["2010-05-20","Demand Actual, NTS, D+1",287.98899]
["2010-05-21","Demand Actual, NTS, D+1",276.98854999999998]
["2010-05-22","Demand Actual, NTS, D+1",237.59895]
["2010-05-23","Demand Actual, NTS, D+1",235.51298]
["2010-05-24","Demand Actual, NTS, D+1",274.43982]
["2010-05-25","Demand Actual, NTS, D+1",274.64999999999998]
["2010-05-26","Demand Actual, NTS, D+1",263.83416999999997]
["2010-05-27","Demand Actual, NTS, D+1",268.43777999999998]
["2010-05-28","Demand Actual, NTS, D+1",261.93939999999998]
["2010-05-29","Demand Actual, NTS, D+1",246.45510999999999]
["2010-05-30","Demand Actual, NTS, D+1",236.68953999999999]
["2010-05-31","Demand Actual, NTS, D+1",249.26589000000001]
["2010-06-01","Demand Actual, NTS, D+1",255.56952999999999]
["2010-06-02","Demand Actual, NTS, D+1",258.22239999999999]
["2010-06-03","Demand Actual, NTS, D+1",244.84797]
["2010-06-04","Demand Actual, NTS, D+1",247.31585999999999]
["2010-06-05","Demand Actual, NTS, D+1",240.0119]
["2010-06-06","Demand Actual, NTS, D+1",240.58776]
["2010-06-07","Demand Actual, NTS, D+1",258.17547999999999]
["2010-06-08","Demand Actual, NTS, D+1",259.41242999999997]
["2010-06-09","Demand Actual, NTS, D+1",254.93826000000001]
["2010-06-10","Demand Actual, NTS, D+1",267.87076000000002]
["2010-06-11","Demand Actual, NTS, D+1",260.57490000000001]
["2010-06-12","Demand Actual, NTS, D+1",256.84159]
["2010-06-13","Demand Actual, NTS, D+1",256.14048000000003]
["2010-06-14","Demand Actual, NTS, D+1",265.63195999999999]
["2010-06-15","Demand Actual, NTS, D+1",272.21012999999999]
["2010-06-16","Demand Actual, NTS, D+1",247.44560000000001]
["2010-06-17","Demand Actual, NTS, D+1",244.77493000000001]
["2010-06-18","Demand Actual, NTS, D+1",238.99662000000001]
["2010-06-19","Demand Actual, NTS, D+1",250.12194]
["2010-06-20","Demand Actual, NTS, D+1",245.43741]
["2010-06-21","Demand Actual, NTS, D+1",253.79879]
["2010-06-22","Demand Actual, NTS, D+1",253.32137]
["2010-06-23","Demand Actual, NTS, D+1",244.77977000000001]
["2010-06-24","Demand Actual, NTS, D+1",249.90602000000001]
["2010-06-25","Demand Actual, NTS, D+1",247.52511999999999]
["2010-06-26","Demand Actual, NTS, D+1",229.35439]
["2010-06-27","Demand Actual, NTS, D+1",226.14464000000001]
["2010-06-28","Demand Actual, NTS, D+1",243.72658999999999]
["2010-06-29","Demand Actual, NTS, D+1",244.41853]
["2010-06-30","Demand Actual, NTS, D+1",249.14284000000001]
["2010-07-01","Demand Actual, NTS, D+1",246.36407]
["2010-07-02","Demand Actual, NTS, D+1",239.88431]
["2010-07-03","Demand Actual, NTS, D+1",217.75030000000001]
["2010-07-04","Demand Actual, NTS, D+1",217.85803999999999]
["2010-07-05","Demand Actual, NTS, D+1",241.16283999999999]
["2010-07-06","Demand Actual, NTS, D+1",227.03681]
["2010-07-07","Demand Actual, NTS, D+1",222.62038000000001]
["2010-07-08","Demand Actual, NTS, D+1",231.01730000000001]
["2010-07-09","Demand Actual, NTS, D+1",223.12162000000001]
["2010-07-10","Demand Actual, NTS, D+1",199.84155000000001]
["2010-07-11","Demand Actual, NTS, D+1",202.19972000000001]
["2010-07-12","Demand Actual, NTS, D+1",224]
["2010-07-13","Demand Actual, NTS, D+1",228.04514]
["2010-07-14","Demand Actual, NTS, D+1",228.13]
["2010-07-15","Demand Actual, NTS, D+1",221]
["2010-07-16","Demand Actual, NTS, D+1",218.71806000000001]
["2010-07-17","Demand Actual, NTS, D+1",194.26734999999999]
["2010-07-18","Demand Actual, NTS, D+1",198.62515999999999]
["2010-07-19","Demand Actual, NTS, D+1",220.78898000000001]
["2010-07-20","Demand Actual, NTS, D+1",228.25698]
["2010-07-21","Demand Actual, NTS, D+1",229.07603]
["2010-07-22","Demand Actual, NTS, D+1",233.57470000000001]
["2010-07-23","Demand Actual, NTS, D+1",227.65805]
["2010-07-24","Demand Actual, NTS, D+1",202.93584999999999]
["2010-07-25","Demand Actual, NTS, D+1",199.03327999999999]
["2010-07-26","Demand Actual, NTS, D+1",214.97275999999999]
["2010-07-27","Demand Actual, NTS, D+1",211.1113]
["2010-07-28","Demand Actual, NTS, D+1",222.40189000000001]
["2010-07-29","Demand Actual, NTS, D+1",223.92500999999999]
["2010-07-30","Demand Actual, NTS, D+1",223.24241000000001]
["2010-07-31","Demand Actual, NTS, D+1",207.26415]
["2010-08-01","Demand Actual, NTS, D+1",195.59092000000001]
["2010-08-02","Demand Actual, NTS, D+1",206.04289]
["2010-08-03","Demand Actual, NTS, D+1",210.61492000000001]
["2010-08-04","Demand Actual, NTS, D+1",203.76]
["2010-08-05","Demand Actual, NTS, D+1",197.85629]
["2010-08-06","Demand Actual, NTS, D+1",193.929]
["2010-08-07","Demand Actual, NTS, D+1",182.78446]
["2010-08-08","Demand Actual, NTS, D+1",186.50792999999999]
["2010-08-09","Demand Actual, NTS, D+1",207.27960999999999]
["2010-08-10","Demand Actual, NTS, D+1",218.0077]
["2010-08-11","Demand Actual, NTS, D+1",210.79239000000001]
["2010-08-12","Demand Actual, NTS, D+1",224.8]
["2010-08-13","Demand Actual, NTS, D+1",223.10256000000001]
["2010-08-14","Demand Actual, NTS, D+1",214.73958999999999]
["2010-08-15","Demand Actual, NTS, D+1",217.25200000000001]
["2010-08-16","Demand Actual, NTS, D+1",222.43962999999999]
["2010-08-17","Demand Actual, NTS, D+1",238.41231999999999]
["2010-08-18","Demand Actual, NTS, D+1",239.12796]
["2010-08-19","Demand Actual, NTS, D+1",231.81]
["2010-08-20","Demand Actual, NTS, D+1",232.45553000000001]
["2010-08-21","Demand Actual, NTS, D+1",208.30851999999999]
["2010-08-22","Demand Actual, NTS, D+1",211.02726000000001]
["2010-08-23","Demand Actual, NTS, D+1",230.13968]
["2010-08-24","Demand Actual, NTS, D+1",223.55]
["2010-08-25","Demand Actual, NTS, D+1",236.78923]
["2010-08-26","Demand Actual, NTS, D+1",234.17]
["2010-08-27","Demand Actual, NTS, D+1",221.62629000000001]
["2010-08-28","Demand Actual, NTS, D+1",205.97006999999999]
["2010-08-29","Demand Actual, NTS, D+1",206.17701]
["2010-08-30","Demand Actual, NTS, D+1",212.14182]
["2010-08-31","Demand Actual, NTS, D+1",217.5069]
["2010-09-01","Demand Actual, NTS, D+1",207.60820000000001]
["2010-09-02","Demand Actual, NTS, D+1",226.29593]
["2010-09-03","Demand Actual, NTS, D+1",226.02629999999999]
["2010-09-04","Demand Actual, NTS, D+1",224.86768000000001]
["2010-09-05","Demand Actual, NTS, D+1",222.81102000000001]
["2010-09-06","Demand Actual, NTS, D+1",231.17]
["2010-09-07","Demand Actual, NTS, D+1",230.64]
["2010-09-08","Demand Actual, NTS, D+1",226.84081]
["2010-09-09","Demand Actual, NTS, D+1",196.15933999999999]
["2010-09-10","Demand Actual, NTS, D+1",194.08065999999999]
["2010-09-11","Demand Actual, NTS, D+1",183.38233]
["2010-09-12","Demand Actual, NTS, D+1",180.98665]
["2010-09-13","Demand Actual, NTS, D+1",198.26951]
["2010-09-14","Demand Actual, NTS, D+1",199.47]
["2010-09-15","Demand Actual, NTS, D+1",208.44631999999999]
["2010-09-16","Demand Actual, NTS, D+1",209.93]
["2010-09-17","Demand Actual, NTS, D+1",211.71969000000001]
["2010-09-18","Demand Actual, NTS, D+1",204.89481000000001]
["2010-09-19","Demand Actual, NTS, D+1",196.47]
["2010-09-20","Demand Actual, NTS, D+1",195.0128]
["2010-09-21","Demand Actual, NTS, D+1",194.37]
["2010-09-22","Demand Actual, NTS, D+1",189.96141]
["2010-09-23","Demand Actual, NTS, D+1",203.56790000000001]
["2010-09-24","Demand Actual, NTS, D+1",246.59396000000001]
["2010-09-25","Demand Actual, NTS, D+1",236.36592999999999]
["2010-09-26","Demand Actual, NTS, D+1",240.82753]
["2010-09-27","Demand Actual, NTS, D+1",262.81616000000002]
["2010-09-28","Demand Actual, NTS, D+1",261.66307999999998]
["2010-09-29","Demand Actual, NTS, D+1",264.89613000000003]
["2010-09-30","Demand Actual, NTS, D+1",260.95]

{"sheet":"r_Bacton IUK exports","index":6,"n_rows":367,"n_cols":7,"rows_kept":367,"cut":false,"hidden":false,"merged":[[0,0,0,2]]}
["Bacton Interconnector exports",null,null,null,{"$f":"MIN('r_Data from TYS 2010 (Appendix)'!B14:H14)/(SUM($C$3:$C$367)*conversion*0.001)","v":0.73880104941239066},"<<< Ratio of minimum exports during period 2010-2016 to level of exports in 2009/10","Source: National Grid TYS 2010"]
["mcm/day","DataItem","Value",null,"Forecast"]
["2009-10-01","NTS Physical Flows, Bacton, Interconnector",11.947021484375,null,{"$f":"C3*$E$1","v":8.8264720100086276}]
["2009-10-02","NTS Physical Flows, Bacton, Interconnector",4.8250122070312997,null,{"$f":"C4*$E$1","v":3.5647240819823196}]
["2009-10-03","NTS Physical Flows, Bacton, Interconnector",17.114990234375,null,12.644572745839069]
["2009-10-04","NTS Physical Flows, Bacton, Interconnector",16.322998046875,null,12.059448086587652]
["2009-10-05","NTS Physical Flows, Bacton, Interconnector",13.8276,null,10.215845390854774]
["2009-10-06","NTS Physical Flows, Bacton, Interconnector",19.362976074218999,null,14.305387043380009]
["2009-10-07","NTS Physical Flows, Bacton, Interconnector",10.7080078125,null,7.9110874089910777]
["2009-10-08","NTS Physical Flows, Bacton, Interconnector",14.856994628906,null,10.976363222950004]
["2009-10-09","NTS Physical Flows, Bacton, Interconnector",15.445007324219,null,11.410787619315057]
["2009-10-10","NTS Physical Flows, Bacton, Interconnector",28.82696723938,null,21.29739364783055]
["2009-10-11","NTS Physical Flows, Bacton, Interconnector",27.553998947143999,null,20.356923337657893]
["2009-10-12","NTS Physical Flows, Bacton, Interconnector",23.45100402832,null,17.325626385897017]
["2009-10-13","NTS Physical Flows, Bacton, Interconnector",20.250999450683999,null,14.961459645815085]
["2009-10-14","NTS Physical Flows, Bacton, Interconnector",29.975997924805,null,22.146298724029577]
["2009-10-15","NTS Physical Flows, Bacton, Interconnector",18.590003967285,null,13.734314439610664]
["2009-10-16","NTS Physical Flows, Bacton, Interconnector",19.208999633788999,null,14.19162908760554]
["2009-10-17","NTS Physical Flows, Bacton, Interconnector",10.957000732421999,null,8.0950436395257057]
["2009-10-18","NTS Physical Flows, Bacton, Interconnector",12.007995605469,null,8.8715197546598734]
["2009-10-19","NTS Physical Flows, Bacton, Interconnector",12.708130000000001,null,9.3887797800690844]
["2009-10-20","NTS Physical Flows, Bacton, Interconnector",10.60365,null,7.8339877476016966]
["2009-10-21","NTS Physical Flows, Bacton, Interconnector",11.737259999999999,null,8.6715000052260756]
["2009-10-22","NTS Physical Flows, Bacton, Interconnector",19.663986206055,null,14.527773644664208]
["2009-10-23","NTS Physical Flows, Bacton, Interconnector",30.61100769043,null,22.615444605260446]
["2009-10-24","NTS Physical Flows, Bacton, Interconnector",28.570007324218999,null,21.107551392852685]
["2009-10-25","NTS Physical Flows, Bacton, Interconnector",28.264007568358998,null,20.88147845210338]
["2009-10-26","NTS Physical Flows, Bacton, Interconnector",17.727996826171999,null,13.097462659155404]
["2009-10-27","NTS Physical Flows, Bacton, Interconnector",22.39599609375,null,16.546185416698304]
["2009-10-28","NTS Physical Flows, Bacton, Interconnector",27.816009521483998,null,20.550497024937428]
["2009-10-29","NTS Physical Flows, Bacton, Interconnector",22.328979492188001,null,16.496673481136245]
["2009-10-30","NTS Physical Flows, Bacton, Interconnector",27.866250000000001,null,20.587614743188031]
["2009-10-31","NTS Physical Flows, Bacton, Interconnector",23.143005371093999,null,17.098076654720838]
["2009-11-01","NTS Physical Flows, Bacton, Interconnector",12.36073,null,9.1321202955032206]
["2009-11-02","NTS Physical Flows, Bacton, Interconnector",11.2779903411865,null,8.3321910993313928]
["2009-11-03","NTS Physical Flows, Bacton, Interconnector",8.0279846191406001,null,5.9310834612876064]
["2009-11-04","NTS Physical Flows, Bacton, Interconnector",5.6790161132812997,null,4.1956630641221002]
["2009-11-05","NTS Physical Flows, Bacton, Interconnector",2.9801700000000002,null,2.2017527234273246]
["2009-11-06","NTS Physical Flows, Bacton, Interconnector",2.0367199999999999,null,1.5047308733592042]
["2009-11-07","NTS Physical Flows, Bacton, Interconnector",8.2155100000000001,null,6.0696274094579898]
["2009-11-08","NTS Physical Flows, Bacton, Interconnector",10.35595703125,null,7.6509919223571261]
["2009-11-09","NTS Physical Flows, Bacton, Interconnector",14.279052734375,null,10.549379144771116]
["2009-11-10","NTS Physical Flows, Bacton, Interconnector",13.216979980469,null,9.7647186796330558]
["2009-11-11","NTS Physical Flows, Bacton, Interconnector",9.9630899999999993,null,7.3607413473900944]
["2009-11-12","NTS Physical Flows, Bacton, Interconnector",8.2176200000000001,null,6.0711862796722498]
["2009-11-13","NTS Physical Flows, Bacton, Interconnector",5.343994140625,null,3.9481484791474166]
["2009-11-14","NTS Physical Flows, Bacton, Interconnector",3.2509765625,null,2.4018248959900865]
["2009-11-15","NTS Physical Flows, Bacton, Interconnector",1.94069,null,1.4337838085841326]
["2009-11-16","NTS Physical Flows, Bacton, Interconnector",0.31553999999999999,null,0.23312128313158573]
["2009-11-17","NTS Physical Flows, Bacton, Interconnector",0.28492999076843301,null,0.2105065761887811]
["2009-11-18","NTS Physical Flows, Bacton, Interconnector",7.4071499999999997,null,5.4724101931549889]
["2009-11-19","NTS Physical Flows, Bacton, Interconnector",0,null,0]
["2009-11-20","NTS Physical Flows, Bacton, Interconnector",0.47382999999999997,null,0.35006610124307302]
["2009-11-21","NTS Physical Flows, Bacton, Interconnector",0,null,0]
["2009-11-22","NTS Physical Flows, Bacton, Interconnector",0,null,0]
["2009-11-23","NTS Physical Flows, Bacton, Interconnector",0,null,0]
["2009-11-24","NTS Physical Flows, Bacton, Interconnector",5.3720092773437997,null,3.9688460915546977]
["2009-11-25","NTS Physical Flows, Bacton, Interconnector",5.238037109375,null,3.8698673132672954]
["2009-11-26","NTS Physical Flows, Bacton, Interconnector",0,null,0]
["2009-11-27","NTS Physical Flows, Bacton, Interconnector",0,null,0]
["2009-11-28","NTS Physical Flows, Bacton, Interconnector",0,null,0]
["2009-11-29","NTS Physical Flows, Bacton, Interconnector",0,null,0]
["2009-11-30","NTS Physical Flows, Bacton, Interconnector",0,null,0]
["2009-12-01","NTS Physical Flows, Bacton, Interconnector",0,null,0]
["2009-12-02","NTS Physical Flows, Bacton, Interconnector",0,null,0]
["2009-12-03","NTS Physical Flows, Bacton, Interconnector",0,null,0]
["2009-12-04","NTS Physical Flows, Bacton, Interconnector",0,null,0]
["2009-12-05","NTS Physical Flows, Bacton, Interconnector",0,null,{"$f":"C68*$E$1","v":0}]
["2009-12-06","NTS Physical Flows, Bacton, Interconnector",0,null,0]
["2009-12-07","NTS Physical Flows, Bacton, Interconnector",0,null,0]
["2009-12-08","NTS Physical Flows, Bacton, Interconnector",0,null,0]
["2009-12-09","NTS Physical Flows, Bacton, Interconnector",0,null,0]
["2009-12-10","NTS Physical Flows, Bacton, Interconnector",0,null,0]
["2009-12-11","NTS Physical Flows, Bacton, Interconnector",0,null,0]
["2009-12-12","NTS Physical Flows, Bacton, Interconnector",0,null,0]
["2009-12-13","NTS Physical Flows, Bacton, Interconnector",0,null,0]
["2009-12-14","NTS Physical Flows, Bacton, Interconnector",0,null,0]
["2009-12-15","NTS Physical Flows, Bacton, Interconnector",0,null,0]
["2009-12-16","NTS Physical Flows, Bacton, Interconnector",0,null,0]
["2009-12-17","NTS Physical Flows, Bacton, Interconnector",0,null,0]
["2009-12-18","NTS Physical Flows, Bacton, Interconnector",0,null,0]
["2009-12-19","NTS Physical Flows, Bacton, Interconnector",0,null,0]
["2009-12-20","NTS Physical Flows, Bacton, Interconnector",0,null,0]
["2009-12-21","NTS Physical Flows, Bacton, Interconnector",0,null,0]
["2009-12-22","NTS Physical Flows, Bacton, Interconnector",0,null,0]
["2009-12-23","NTS Physical Flows, Bacton, Interconnector",0,null,0]
["2009-12-24","NTS Physical Flows, Bacton, Interconnector",0,null,0]
["2009-12-25","NTS Physical Flows, Bacton, Interconnector",0,null,0]
["2009-12-26","NTS Physical Flows, Bacton, Interconnector",0,null,0]
["2009-12-27","NTS Physical Flows, Bacton, Interconnector",0,null,0]
["2009-12-28","NTS Physical Flows, Bacton, Interconnector",0,null,0]
["2009-12-29","NTS Physical Flows, Bacton, Interconnector",0,null,0]
["2009-12-30","NTS Physical Flows, Bacton, Interconnector",0,null,0]
["2009-12-31","NTS Physical Flows, Bacton, Interconnector",0,null,0]
["2010-01-01","NTS Physical Flows, Bacton, Interconnector",0,null,0]
["2010-01-02","NTS Physical Flows, Bacton, Interconnector",0,null,0]
["2010-01-03","NTS Physical Flows, Bacton, Interconnector",0,null,0]
["2010-01-04","NTS Physical Flows, Bacton, Interconnector",0,null,0]
["2010-01-05","NTS Physical Flows, Bacton, Interconnector",0,null,0]
["2010-01-06","NTS Physical Flows, Bacton, Interconnector",0,null,0]
["2010-01-07","NTS Physical Flows, Bacton, Interconnector",0,null,0]
["2010-01-08","NTS Physical Flows, Bacton, Interconnector",0,null,0]
["2010-01-09","NTS Physical Flows, Bacton, Interconnector",0,null,0]
["2010-01-10","NTS Physical Flows, Bacton, Interconnector",0,null,0]
["2010-01-11","NTS Physical Flows, Bacton, Interconnector",0,null,0]
["2010-01-12","NTS Physical Flows, Bacton, Interconnector",0,null,0]
["2010-01-13","NTS Physical Flows, Bacton, Interconnector",0,null,0]
["2010-01-14","NTS Physical Flows, Bacton, Interconnector",0,null,0]
["2010-01-15","NTS Physical Flows, Bacton, Interconnector",0,null,0]
["2010-01-16","NTS Physical Flows, Bacton, Interconnector",9.4998199999999997,null,7.0184769852288165]
["2010-01-17","NTS Physical Flows, Bacton, Interconnector",7.6139900000000003,null,5.6252238022154488]
["2010-01-18","NTS Physical Flows, Bacton, Interconnector",6.5650199999999996,null,4.8502436654133323]
["2010-01-19","NTS Physical Flows, Bacton, Interconnector",5.6719970703125,null,4.1904773878108807]
["2010-01-20","NTS Physical Flows, Bacton, Interconnector",0,null,0]
["2010-01-21","NTS Physical Flows, Bacton, Interconnector",0,null,0]
["2010-01-22","NTS Physical Flows, Bacton, Interconnector",6.1380004882812997,null,4.5347612020359902]
["2010-01-23","NTS Physical Flows, Bacton, Interconnector",0,null,0]
["2010-01-24","NTS Physical Flows, Bacton, Interconnector",0.56005000000000005,null,0.41376552772340941]
["2010-01-25","NTS Physical Flows, Bacton, Interconnector",0,null,0]
["2010-01-26","NTS Physical Flows, Bacton, Interconnector",7.2973999999999997,null,5.3913267779819796]
["2010-01-27","NTS Physical Flows, Bacton, Interconnector",0,null,0]
["2010-01-28","NTS Physical Flows, Bacton, Interconnector",0,null,0]
["2010-01-29","NTS Physical Flows, Bacton, Interconnector",0,null,0]
["2010-01-30","NTS Physical Flows, Bacton, Interconnector",0,null,0]
["2010-01-31","NTS Physical Flows, Bacton, Interconnector",0,null,0]
["2010-02-01","NTS Physical Flows, Bacton, Interconnector",0,null,0]
["2010-02-02","NTS Physical Flows, Bacton, Interconnector",0.96599999999999997,null,0.71368181373236939]
["2010-02-03","NTS Physical Flows, Bacton, Interconnector",0,null,0]
["2010-02-04","NTS Physical Flows, Bacton, Interconnector",5.302978515625,null,3.9178460923551119]
["2010-02-05","NTS Physical Flows, Bacton, Interconnector",0,null,0]
["2010-02-06","NTS Physical Flows, Bacton, Interconnector",0,null,0]
["2010-02-07","NTS Physical Flows, Bacton, Interconnector",0,null,{"$f":"C132*$E$1","v":0}]
["2010-02-08","NTS Physical Flows, Bacton, Interconnector",0,null,0]
["2010-02-09","NTS Physical Flows, Bacton, Interconnector",3.6190185546875,null,2.6737347060460381]
["2010-02-10","NTS Physical Flows, Bacton, Interconnector",0.65112000703811601,null,0.4810481444931633]
["2010-02-11","NTS Physical Flows, Bacton, Interconnector",8.4666700000000006,null,6.255184681028406]
["2010-02-12","NTS Physical Flows, Bacton, Interconnector",6.7940199999999997,null,5.0194291057287703]
["2010-02-13","NTS Physical Flows, Bacton, Interconnector",8.2957199999999993,null,6.1288866416313565]
["2010-02-14","NTS Physical Flows, Bacton, Interconnector",11.906005859375,null,8.796169623216322]
["2010-02-15","NTS Physical Flows, Bacton, Interconnector",11.008972167969,null,8.1334401906472991]
["2010-02-16","NTS Physical Flows, Bacton, Interconnector",10.382019042969,null,7.6702465639649215]
["2010-02-17","NTS Physical Flows, Bacton, Interconnector",6.2199400000000002,null,4.5952981992821051]
["2010-02-18","NTS Physical Flows, Bacton, Interconnector",0,null,0]
["2010-02-19","NTS Physical Flows, Bacton, Interconnector",0,null,0]
["2010-02-20","NTS Physical Flows, Bacton, Interconnector",0,null,0]
["2010-02-21","NTS Physical Flows, Bacton, Interconnector",0,null,0]
["2010-02-22","NTS Physical Flows, Bacton, Interconnector",0,null,0]
["2010-02-23","NTS Physical Flows, Bacton, Interconnector",0,null,0]
["2010-02-24","NTS Physical Flows, Bacton, Interconnector",0,null,0]
["2010-02-25","NTS Physical Flows, Bacton, Interconnector",0,null,0]
["2010-02-26","NTS Physical Flows, Bacton, Interconnector",0,null,0]
["2010-02-27","NTS Physical Flows, Bacton, Interconnector",0,null,0]
["2010-02-28","NTS Physical Flows, Bacton, Interconnector",0,null,0]
["2010-03-01","NTS Physical Flows, Bacton, Interconnector",4.5858100000000004,null,3.3880012404058357]
["2010-03-02","NTS Physical Flows, Bacton, Interconnector",9.0112100000000002,null,6.6574914044754294]
["2010-03-03","NTS Physical Flows, Bacton, Interconnector",7.9284701347351101,null,5.8575620557770973]
["2010-03-04","NTS Physical Flows, Bacton, Interconnector",6.0679699999999999,null,4.4830226038029037]
["2010-03-05","NTS Physical Flows, Bacton, Interconnector",13.15959,null,9.7223189018368021]
["2010-03-06","NTS Physical Flows, Bacton, Interconnector",9.8037399999999995,null,7.2430134001662303]
["2010-03-07","NTS Physical Flows, Bacton, Interconnector",7.9622400000000004,null,5.8825112676733138]
["2010-03-08","NTS Physical Flows, Bacton, Interconnector",8.7210000000000001,null,6.443083951925459]
["2010-03-09","NTS Physical Flows, Bacton, Interconnector",19.157043457031001,null,14.153243809693276]
["2010-03-10","NTS Physical Flows, Bacton, Interconnector",14.119910240173301,null,10.431804503048795]
["2010-03-11","NTS Physical Flows, Bacton, Interconnector",0,null,0]
["2010-03-12","NTS Physical Flows, Bacton, Interconnector",5.4801700000000002,null,4.0487553469583011]
["2010-03-13","NTS Physical Flows, Bacton, Interconnector",1.5080199999999999,null,1.1141267585348733]
["2010-03-14","NTS Physical Flows, Bacton, Interconnector",1.61355,null,1.192092433279363]
["2010-03-15","NTS Physical Flows, Bacton, Interconnector",5.75983,null,4.25536844843697]
["2010-03-16","NTS Physical Flows, Bacton, Interconnector",0,null,0]
["2010-03-17","NTS Physical Flows, Bacton, Interconnector",6.3529,null,4.6935291868119764]
["2010-03-18","NTS Physical Flows, Bacton, Interconnector",12.026000976562999,null,8.8848221417191784]
["2010-03-19","NTS Physical Flows, Bacton, Interconnector",12.084239999999999,null,8.9278491933511877]
["2010-03-20","NTS Physical Flows, Bacton, Interconnector",6.56201171875,null,4.8480211440689054]
["2010-03-21","NTS Physical Flows, Bacton, Interconnector",9.8807700000000001,null,7.2999232450024669]
["2010-03-22","NTS Physical Flows, Bacton, Interconnector",12.372985839844,null,9.1411749228413974]
["2010-03-23","NTS Physical Flows, Bacton, Interconnector",14.000061035156,null,10.343259784610773]
["2010-03-24","NTS Physical Flows, Bacton, Interconnector",17.817993164063001,null,13.163952048032549]
["2010-03-25","NTS Physical Flows, Bacton, Interconnector",5.6131399999999996,null,4.1469937224986664]
["2010-03-26","NTS Physical Flows, Bacton, Interconnector",8.5532000000000004,null,6.3191131358340602]
["2010-03-27","NTS Physical Flows, Bacton, Interconnector",10.782958984375,null,7.966461413427016]
["2010-03-28","NTS Physical Flows, Bacton, Interconnector",7.9179199999999996,null,5.8497676051633558]
["2010-03-29","NTS Physical Flows, Bacton, Interconnector",8.1047100000000007,null,5.9877682531830976]
["2010-03-30","NTS Physical Flows, Bacton, Interconnector",9.7108699999999999,null,7.1744009467073022]
["2010-03-31","NTS Physical Flows, Bacton, Interconnector",6.3599853515625,null,4.6987638519818073]
["2010-04-01","NTS Physical Flows, Bacton, Interconnector",5.2891700000000004,null,3.9076443465205344]
["2010-04-02","NTS Physical Flows, Bacton, Interconnector",9.8879776000977007,null,7.3052482275183932]
["2010-04-03","NTS Physical Flows, Bacton, Interconnector",16.617000579999999,null,12.276657466590304]
["2010-04-04","NTS Physical Flows, Bacton, Interconnector",14.43200111,null,10.662377565188788]
["2010-04-05","NTS Physical Flows, Bacton, Interconnector",13.067997999999999,null,9.6546506361190225]
["2010-04-06","NTS Physical Flows, Bacton, Interconnector",15.92200088501,null,11.763190962590402]
["2010-04-07","NTS Physical Flows, Bacton, Interconnector",18.609001159668001,null,13.748349585279113]
["2010-04-08","NTS Physical Flows, Bacton, Interconnector",14.305000305176,null,10.568549237308597]
["2010-04-09","NTS Physical Flows, Bacton, Interconnector",20.81579,null,15.378727496347947]
["2010-04-10","NTS Physical Flows, Bacton, Interconnector",33.175003051757997,null,24.509727068898073]
["2010-04-11","NTS Physical Flows, Bacton, Interconnector",32.513000488281001,null,24.020638880287574]
["2010-04-12","NTS Physical Flows, Bacton, Interconnector",26.24299621582,null,{"$f":"C196*$E$1","v":19.388353143973212}]
["2010-04-13","NTS Physical Flows, Bacton, Interconnector",34.079010009766002,null,25.177608358150486]
["2010-04-14","NTS Physical Flows, Bacton, Interconnector",32.542984008788999,null,24.04279073670396]
["2010-04-15","NTS Physical Flows, Bacton, Interconnector",24.658020019531001,null,18.21737106686124]
["2010-04-16","NTS Physical Flows, Bacton, Interconnector",28.328979492188001,null,20.929479777610588]
["2010-04-17","NTS Physical Flows, Bacton, Interconnector",33.664001464843999,null,24.870999609647004]
["2010-04-18","NTS Physical Flows, Bacton, Interconnector",33.967010498047003,null,25.094863001358817]
["2010-04-19","NTS Physical Flows, Bacton, Interconnector",30.563995361328001,null,22.580711847184567]
["2010-04-20","NTS Physical Flows, Bacton, Interconnector",33.454010009766002,null,24.715857702267744]
["2010-04-21","NTS Physical Flows, Bacton, Interconnector",32.292999267577997,null,23.858101747560188]
["2010-04-22","NTS Physical Flows, Bacton, Interconnector",31.28753,null,23.115259997521655]
["2010-04-23","NTS Physical Flows, Bacton, Interconnector",41.974975585937997,null,31.011156011950469]
["2010-04-24","NTS Physical Flows, Bacton, Interconnector",43.942993164062997,null,32.465129463931248]
["2010-04-25","NTS Physical Flows, Bacton, Interconnector",36.044006347656001,null,26.629349714675126]
["2010-04-26","NTS Physical Flows, Bacton, Interconnector",43.231018066406001,null,31.939121514626773]
["2010-04-27","NTS Physical Flows, Bacton, Interconnector",42.921997070312997,null,31.710816478422799]
["2010-04-28","NTS Physical Flows, Bacton, Interconnector",39.398010253906001,null,29.107291320345883]
["2010-04-29","NTS Physical Flows, Bacton, Interconnector",45.754028320312997,null,33.803124137891487]
["2010-04-30","NTS Physical Flows, Bacton, Interconnector",39.721008300781001,null,29.345922616335283]
["2010-05-01","NTS Physical Flows, Bacton, Interconnector",40.555969238281001,null,29.962792633178637]
["2010-05-02","NTS Physical Flows, Bacton, Interconnector",38.885009765625,null,28.72828602125481]
["2010-05-03","NTS Physical Flows, Bacton, Interconnector",36.22900390625,null,26.766026105103101]
["2010-05-04","NTS Physical Flows, Bacton, Interconnector",36.663948059082003,null,27.087363301651166]
["2010-05-05","NTS Physical Flows, Bacton, Interconnector",37.998001098632997,null,28.072963087243231]
["2010-05-06","NTS Physical Flows, Bacton, Interconnector",44.419006347656001,null,32.816808503503893]
["2010-05-07","NTS Physical Flows, Bacton, Interconnector",42.700996398926002,null,31.547540950481245]
["2010-05-08","NTS Physical Flows, Bacton, Interconnector",45.488998413086001,null,33.60731976430651]
["2010-05-09","NTS Physical Flows, Bacton, Interconnector",43.744003295897997,null,32.318115540508515]
["2010-05-10","NTS Physical Flows, Bacton, Interconnector",40.127014160156001,null,29.645880171309113]
["2010-05-11","NTS Physical Flows, Bacton, Interconnector",41.197998046875,null,30.437124190720873]
["2010-05-12","NTS Physical Flows, Bacton, Interconnector",40.744995117187997,null,30.102445150881227]
["2010-05-13","NTS Physical Flows, Bacton, Interconnector",36.913330000000002,null,27.271606941305883]
["2010-05-14","NTS Physical Flows, Bacton, Interconnector",37.351289999999999,null,27.595172248906533]
["2010-05-15","NTS Physical Flows, Bacton, Interconnector",42.664978027343999,null,31.520930539758336]
["2010-05-16","NTS Physical Flows, Bacton, Interconnector",42.644012451172003,null,31.50544115008093]
["2010-05-17","NTS Physical Flows, Bacton, Interconnector",44.690979003906001,null,33.017742187352873]
["2010-05-18","NTS Physical Flows, Bacton, Interconnector",51.933044433593999,null,38.368187726719562]
["2010-05-19","NTS Physical Flows, Bacton, Interconnector",52.375,null,38.694704962973958]
["2010-05-20","NTS Physical Flows, Bacton, Interconnector",46.382019042968999,null,34.267084342810982]
["2010-05-21","NTS Physical Flows, Bacton, Interconnector",53.430969238281001,null,39.474856144363166]
["2010-05-22","NTS Physical Flows, Bacton, Interconnector",38.836975097656001,null,28.692797958151136]
["2010-05-23","NTS Physical Flows, Bacton, Interconnector",36.31005859375,null,26.825909393287894]
["2010-05-24","NTS Physical Flows, Bacton, Interconnector",40.143005371093999,null,29.65769449473148]
["2010-05-25","NTS Physical Flows, Bacton, Interconnector",45.269958496093999,null,33.445492843769614]
["2010-05-26","NTS Physical Flows, Bacton, Interconnector",27.889038085938001,null,20.604450604993126]
["2010-05-27","NTS Physical Flows, Bacton, Interconnector",37.867980957031001,null,27.976904070182929]
["2010-05-28","NTS Physical Flows, Bacton, Interconnector",38.248954772948998,null,28.258367925181791]
["2010-05-29","NTS Physical Flows, Bacton, Interconnector",31.537000656128001,null,23.299569180066619]
["2010-05-30","NTS Physical Flows, Bacton, Interconnector",32.70299911499,null,24.161010065087094]
["2010-05-31","NTS Physical Flows, Bacton, Interconnector",36.13500213623,null,26.696577498765702]
["2010-06-01","NTS Physical Flows, Bacton, Interconnector",34.228004455566001,null,25.287685611064145]
["2010-06-02","NTS Physical Flows, Bacton, Interconnector",45.727996826172003,null,33.783892042702348]
["2010-06-03","NTS Physical Flows, Bacton, Interconnector",36.675003051757997,null,27.09553074184144]
["2010-06-04","NTS Physical Flows, Bacton, Interconnector",40.51301574707,null,29.931058548796024]
["2010-06-05","NTS Physical Flows, Bacton, Interconnector",45.082000732422003,null,33.306629450723541]
["2010-06-06","NTS Physical Flows, Bacton, Interconnector",44.303985595702997,null,32.731831051256812]
["2010-06-07","NTS Physical Flows, Bacton, Interconnector",44.911010742187997,null,33.18030186649964]
["2010-06-08","NTS Physical Flows, Bacton, Interconnector",46.694000244141002,null,34.497576381633799]
["2010-06-09","NTS Physical Flows, Bacton, Interconnector",48.080017089843999,null,35.521567081742425]
["2010-06-10","NTS Physical Flows, Bacton, Interconnector",46.85498046875,null,34.616508740509566]
["2010-06-11","NTS Physical Flows, Bacton, Interconnector",52.913024902343999,null,39.092198325435703]
["2010-06-12","NTS Physical Flows, Bacton, Interconnector",48.161010742187997,null,35.581405277089914]
["2010-06-13","NTS Physical Flows, Bacton, Interconnector",44.745971679687997,null,33.058370833930603]
["2010-06-14","NTS Physical Flows, Bacton, Interconnector",42.796020507812997,null,31.617744861846436]
["2010-06-15","NTS Physical Flows, Bacton, Interconnector",51.383972167968999,null,{"$f":"C260*$E$1","v":37.962532560672571}]
["2010-06-16","NTS Physical Flows, Bacton, Interconnector",41.488037109375,null,30.651405354466458]
["2010-06-17","NTS Physical Flows, Bacton, Interconnector",41.973999023437997,null,31.010434526550654]
["2010-06-18","NTS Physical Flows, Bacton, Interconnector",43.331970214843999,null,32.0137050678332]
["2010-06-19","NTS Physical Flows, Bacton, Interconnector",51.639038085937997,null,38.150975528537401]
["2010-06-20","NTS Physical Flows, Bacton, Interconnector",49.553939819336001,null,36.610502741043888]
["2010-06-21","NTS Physical Flows, Bacton, Interconnector",51.773002624512003,null,38.249948670219922]
["2010-06-22","NTS Physical Flows, Bacton, Interconnector",55.31600189209,null,40.867520247173879]
["2010-06-23","NTS Physical Flows, Bacton, Interconnector",49.501007080077997,null,36.571395977731804]
["2010-06-24","NTS Physical Flows, Bacton, Interconnector",54.776000976562997,null,40.46856700409888]
["2010-06-25","NTS Physical Flows, Bacton, Interconnector",52.067993164062997,null,38.467887990406929]
["2010-06-26","NTS Physical Flows, Bacton, Interconnector",48.424011230468999,null,35.775710313827886]
["2010-06-27","NTS Physical Flows, Bacton, Interconnector",48.684997558593999,null,35.968527286928925]
["2010-06-28","NTS Physical Flows, Bacton, Interconnector",51.885009765625,null,38.332699663615891]
["2010-06-29","NTS Physical Flows, Bacton, Interconnector",53.641998291016002,null,39.630764629980291]
["2010-06-30","NTS Physical Flows, Bacton, Interconnector",53.335021972656001,null,39.403970203831172]
["2010-07-01","NTS Physical Flows, Bacton, Interconnector",54.221984863281001,null,40.059259318214764]
["2010-07-02","NTS Physical Flows, Bacton, Interconnector",51.460998535156001,null,38.019439721582749]
["2010-07-03","NTS Physical Flows, Bacton, Interconnector",46.442016601562997,null,34.311410602062409]
["2010-07-04","NTS Physical Flows, Bacton, Interconnector",43.493957519531001,null,32.133381458527445]
["2010-07-05","NTS Physical Flows, Bacton, Interconnector",52.796020507812997,null,39.005755355970344]
["2010-07-06","NTS Physical Flows, Bacton, Interconnector",40.950012207031001,null,30.25391199200471]
["2010-07-07","NTS Physical Flows, Bacton, Interconnector",45.611999511718999,null,33.698193105055445]
["2010-07-08","NTS Physical Flows, Bacton, Interconnector",47.276977539062997,null,34.928280618905767]
["2010-07-09","NTS Physical Flows, Bacton, Interconnector",45.638061523437997,null,33.71744774666324]
["2010-07-10","NTS Physical Flows, Bacton, Interconnector",42.844924926757997,null,31.653875497883902]
["2010-07-11","NTS Physical Flows, Bacton, Interconnector",43.118999481201001,null,31.85636206632363]
["2010-07-12","NTS Physical Flows, Bacton, Interconnector",45.305004119872997,null,33.471384587394851]
["2010-07-13","NTS Physical Flows, Bacton, Interconnector",54.698997497558999,null,40.411676753002318]
["2010-07-14","NTS Physical Flows, Bacton, Interconnector",52.871002197266002,null,39.061151906824932]
["2010-07-15","NTS Physical Flows, Bacton, Interconnector",44.890014648437997,null,33.164789930403579]
["2010-07-16","NTS Physical Flows, Bacton, Interconnector",44.255981445312997,null,32.696365534572536]
["2010-07-17","NTS Physical Flows, Bacton, Interconnector",33.32743,null,24.622340258217992]
["2010-07-18","NTS Physical Flows, Bacton, Interconnector",33.269390000000001,null,24.579460245310099]
["2010-07-19","NTS Physical Flows, Bacton, Interconnector",44.615997314452997,null,32.962345636498277]
["2010-07-20","NTS Physical Flows, Bacton, Interconnector",48.053985595702997,null,35.502334986553279]
["2010-07-21","NTS Physical Flows, Bacton, Interconnector",43.877014160156001,null,32.416384106605577]
["2010-07-22","NTS Physical Flows, Bacton, Interconnector",47.204986572266002,null,34.875093617087934]
["2010-07-23","NTS Physical Flows, Bacton, Interconnector",38.189025878906001,null,28.214092395372699]
["2010-07-24","NTS Physical Flows, Bacton, Interconnector",35.088989257812997,null,25.923782086492345]
["2010-07-25","NTS Physical Flows, Bacton, Interconnector",33.315002441406001,null,24.61315876488711]
["2010-07-26","NTS Physical Flows, Bacton, Interconnector",36.280029296875,null,26.803723717243528]
["2010-07-27","NTS Physical Flows, Bacton, Interconnector",27.341003417968999,null,20.199562017183258]
["2010-07-28","NTS Physical Flows, Bacton, Interconnector",33.044006347656001,null,24.412946566437952]
["2010-07-29","NTS Physical Flows, Bacton, Interconnector",37.313301086425803,null,27.567105999691879]
["2010-07-30","NTS Physical Flows, Bacton, Interconnector",37.935929999999999,null,28.027104894434991]
["2010-07-31","NTS Physical Flows, Bacton, Interconnector",27.674189999999999,null,20.445720613637889]
["2010-08-01","NTS Physical Flows, Bacton, Interconnector",28.890014648438001,null,21.343973139805335]
["2010-08-02","NTS Physical Flows, Bacton, Interconnector",18.125829696655298,null,13.39138200135921]
["2010-08-03","NTS Physical Flows, Bacton, Interconnector",20.656005859375,null,15.26067880557474]
["2010-08-04","NTS Physical Flows, Bacton, Interconnector",20.0009765625,null,14.77674247364763]
["2010-08-05","NTS Physical Flows, Bacton, Interconnector",14.515014648437999,null,10.723708054502216]
["2010-08-06","NTS Physical Flows, Bacton, Interconnector",13.033020019531,null,9.6288088674421992]
["2010-08-07","NTS Physical Flows, Bacton, Interconnector",16.127990722656001,null,11.915376470811555]
["2010-08-08","NTS Physical Flows, Bacton, Interconnector",16.85498046875,null,12.452477258137849]
["2010-08-09","NTS Physical Flows, Bacton, Interconnector",24.134977340698001,null,17.830946586851951]
["2010-08-10","NTS Physical Flows, Bacton, Interconnector",18.616003036498999,null,13.753522579229712]
["2010-08-11","NTS Physical Flows, Bacton, Interconnector",17.305000305176002,null,12.78495238554577]
["2010-08-12","NTS Physical Flows, Bacton, Interconnector",22.296379089355501,null,16.472588269312329]
["2010-08-13","NTS Physical Flows, Bacton, Interconnector",21.94708,null,16.214525735537691]
["2010-08-14","NTS Physical Flows, Bacton, Interconnector",31.435997009276999,null,23.224947579778622]
["2010-08-15","NTS Physical Flows, Bacton, Interconnector",31.579010009766002,null,23.33060573461951]
["2010-08-16","NTS Physical Flows, Bacton, Interconnector",34.535995483397997,null,25.515229705636024]
["2010-08-17","NTS Physical Flows, Bacton, Interconnector",48.36100769043,null,35.729163232330379]
["2010-08-18","NTS Physical Flows, Bacton, Interconnector",44.209014892577997,null,{"$f":"C324*$E$1","v":32.661666596124633}]
["2010-08-19","NTS Physical Flows, Bacton, Interconnector",44.121002197266002,null,32.59664272446652]
["2010-08-20","NTS Physical Flows, Bacton, Interconnector",53.922973632812997,null,39.838349507358913]
["2010-08-21","NTS Physical Flows, Bacton, Interconnector",54.585021972656001,null,40.327471515596656]
["2010-08-22","NTS Physical Flows, Bacton, Interconnector",52.071990966797003,null,38.470841571262156]
["2010-08-23","NTS Physical Flows, Bacton, Interconnector",54.073028564452997,null,39.94921024832405]
["2010-08-24","NTS Physical Flows, Bacton, Interconnector",47.586975097656001,null,35.157307140509559]
["2010-08-25","NTS Physical Flows, Bacton, Interconnector",44.572998046875,null,32.930577732487691]
["2010-08-26","NTS Physical Flows, Bacton, Interconnector",41.182006835937997,null,30.425309867299237]
["2010-08-27","NTS Physical Flows, Bacton, Interconnector",44.733032226562997,null,33.048811152383031]
["2010-08-28","NTS Physical Flows, Bacton, Interconnector",40.796997070312997,null,30.140864248421469]
["2010-08-29","NTS Physical Flows, Bacton, Interconnector",42.210998535156001,null,31.18553001451814]
["2010-08-30","NTS Physical Flows, Bacton, Interconnector",38.429992675781001,null,28.392118917777491]
["2010-08-31","NTS Physical Flows, Bacton, Interconnector",34.606018066406001,null,25.566962463444906]
["2010-09-01","NTS Physical Flows, Bacton, Interconnector",30.315979003906001,null,22.397477102049756]
["2010-09-02","NTS Physical Flows, Bacton, Interconnector",46.778991699218999,null,34.560368157836507]
["2010-09-03","NTS Physical Flows, Bacton, Interconnector",41.044840000000001,null,30.32397086496367]
["2010-09-04","NTS Physical Flows, Bacton, Interconnector",47.685840606689503,null,35.230349082334193]
["2010-09-05","NTS Physical Flows, Bacton, Interconnector",44.371006011962997,null,32.781345805121759]
["2010-09-06","NTS Physical Flows, Bacton, Interconnector",44.1220893859863,null,32.597445940633982]
["2010-09-07","NTS Physical Flows, Bacton, Interconnector",38.8920288085938,null,28.733471697566028]
["2010-09-08","NTS Physical Flows, Bacton, Interconnector",37.104349999999997,null,27.412732717764634]
["2010-09-09","NTS Physical Flows, Bacton, Interconnector",0,null,0]
["2010-09-10","NTS Physical Flows, Bacton, Interconnector",0,null,0]
["2010-09-11","NTS Physical Flows, Bacton, Interconnector",0,null,0]
["2010-09-12","NTS Physical Flows, Bacton, Interconnector",0,null,0]
["2010-09-13","NTS Physical Flows, Bacton, Interconnector",0,null,0]
["2010-09-14","NTS Physical Flows, Bacton, Interconnector",0,null,0]
["2010-09-15","NTS Physical Flows, Bacton, Interconnector",0,null,0]
["2010-09-16","NTS Physical Flows, Bacton, Interconnector",0,null,0]
["2010-09-17","NTS Physical Flows, Bacton, Interconnector",0,null,0]
["2010-09-18","NTS Physical Flows, Bacton, Interconnector",0,null,0]
["2010-09-19","NTS Physical Flows, Bacton, Interconnector",0,null,0]
["2010-09-20","NTS Physical Flows, Bacton, Interconnector",0,null,0]
["2010-09-21","NTS Physical Flows, Bacton, Interconnector",0,null,0]
["2010-09-22","NTS Physical Flows, Bacton, Interconnector",0,null,0]
["2010-09-23","NTS Physical Flows, Bacton, Interconnector",6.0785299999999998,null,4.4908243428846992]
["2010-09-24","NTS Physical Flows, Bacton, Interconnector",46.442993164062997,null,34.312132087462231]
["2010-09-25","NTS Physical Flows, Bacton, Interconnector",38.679016113281001,null,28.576097694730773]
["2010-09-26","NTS Physical Flows, Bacton, Interconnector",39.841003417968999,null,29.434575134838141]
["2010-09-27","NTS Physical Flows, Bacton, Interconnector",44.950988769531001,null,33.209837675054089]
["2010-09-28","NTS Physical Flows, Bacton, Interconnector",55.386016845702997,null,40.919247368377725]
["2010-09-29","NTS Physical Flows, Bacton, Interconnector",54.861999511718999,null,40.532102812120058]
["2010-09-30","NTS Physical Flows, Bacton, Interconnector",56.424011230468999,null,41.686118709127015]

{"sheet":"r_Moffat exports","index":7,"n_rows":367,"n_cols":7,"rows_kept":367,"cut":false,"hidden":false,"merged":[[0,0,0,2]]}
["Moffat Interconnector exports",null,null,null,{"$f":"MIN('r_Data from TYS 2010 (Appendix)'!B13:H13)/(SUM($C$3:$C$367)*conversion*0.001)","v":0.46848198933155399},"<<< Ratio of minimum exports during period 2010-2016 to level of exports in 2009/10","Source: National Grid TYS 2010"]
["mcm/day","DataItem","Value",null,"Forecast"]
["2009-10-01","NTS Physical Flows, Moffat, Interconnector",18.779968261718999,null,{"$f":"C3*$E$1","v":8.7980768908335634}]
["2009-10-02","NTS Physical Flows, Moffat, Interconnector",15.901977539062999,null,7.4497900718059231]
["2009-10-03","NTS Physical Flows, Moffat, Interconnector",14.574035644531,null,6.8276732113388592]
["2009-10-04","NTS Physical Flows, Moffat, Interconnector",15.93896484375,null,7.4671179578857014]
["2009-10-05","NTS Physical Flows, Moffat, Interconnector",17.536999999999999,null,8.2157686469074616]
["2009-10-06","NTS Physical Flows, Moffat, Interconnector",17.940002441406001,null,8.4045680323628194]
["2009-10-07","NTS Physical Flows, Moffat, Interconnector",19.577026367188001,null,9.1714842576965196]
["2009-10-08","NTS Physical Flows, Moffat, Interconnector",19.057983398438001,null,8.9283219751479646]
["2009-10-09","NTS Physical Flows, Moffat, Interconnector",17.239990234375,null,8.0766249210565633]
["2009-10-10","NTS Physical Flows, Moffat, Interconnector",16.58203125,null,7.7683829871579952]
["2009-10-11","NTS Physical Flows, Moffat, Interconnector",16.136962890625,null,7.5598764767694639]
["2009-10-12","NTS Physical Flows, Moffat, Interconnector",16.322998046875,null,7.6470305968550703]
["2009-10-13","NTS Physical Flows, Moffat, Interconnector",19.14501953125,null,8.969096835791456]
["2009-10-14","NTS Physical Flows, Moffat, Interconnector",18.253967285156001,null,8.5516549069429892]
["2009-10-15","NTS Physical Flows, Moffat, Interconnector",17.912048339843999,null,8.3914720392530757]
["2009-10-16","NTS Physical Flows, Moffat, Interconnector",17.546997070313001,null,8.2204520942951849]
["2009-10-17","NTS Physical Flows, Moffat, Interconnector",16.394958496093999,null,7.6807427712583793]
["2009-10-18","NTS Physical Flows, Moffat, Interconnector",15.093994140625,null,7.0712644019588193]
["2009-10-19","NTS Physical Flows, Moffat, Interconnector",14.589050292969,null,6.8347073037082078]
["2009-10-20","NTS Physical Flows, Moffat, Interconnector",17.024963378906001,null,7.9758887120467383]
["2009-10-21","NTS Physical Flows, Moffat, Interconnector",15.815002441406,null,7.4090438050332654]
["2009-10-22","NTS Physical Flows, Moffat, Interconnector",16.822998046875,null,7.8812715915208473]
["2009-10-23","NTS Physical Flows, Moffat, Interconnector",17.734973907471002,null,8.3085158569152178]
["2009-10-24","NTS Physical Flows, Moffat, Interconnector",12.566000938416,null,5.8869451175713019]
["2009-10-25","NTS Physical Flows, Moffat, Interconnector",13.859998703003001,null,6.4931597645156041]
["2009-10-26","NTS Physical Flows, Moffat, Interconnector",15.91300201416,null,7.4549548398307026]
["2009-10-27","NTS Physical Flows, Moffat, Interconnector",15.731002807616999,null,7.3696914894926726]
["2009-10-28","NTS Physical Flows, Moffat, Interconnector",16.263999938965,null,7.6193910458945959]
["2009-10-29","NTS Physical Flows, Moffat, Interconnector",15.820991516113001,null,7.4118495786662573]
["2009-10-30","NTS Physical Flows, Moffat, Interconnector",16.458999633788999,null,7.7107448908447891]
["2009-10-31","NTS Physical Flows, Moffat, Interconnector",15.799011230469,null,7.4015522107216798]
["2009-11-01","NTS Physical Flows, Moffat, Interconnector",15.468994140625,null,7.2469451479581526]
["2009-11-02","NTS Physical Flows, Moffat, Interconnector",16.908004760741999,null,7.9210957059397975]
["2009-11-03","NTS Physical Flows, Moffat, Interconnector",16.307998657226999,null,7.6400036529540163]
["2009-11-04","NTS Physical Flows, Moffat, Interconnector",17.009002685546999,null,7.9684114146708023]
["2009-11-05","NTS Physical Flows, Moffat, Interconnector",18.326995849608998,null,8.5858674740959575]
["2009-11-06","NTS Physical Flows, Moffat, Interconnector",17.027008056641002,null,7.9768466067395734]
["2009-11-07","NTS Physical Flows, Moffat, Interconnector",17.748992919921999,null,8.3150835117567254]
["2009-11-08","NTS Physical Flows, Moffat, Interconnector",17.759002685546999,null,8.3197729066694688]
["2009-11-09","NTS Physical Flows, Moffat, Interconnector",20.216003417968999,null,9.4708334975836124]
["2009-11-10","NTS Physical Flows, Moffat, Interconnector",19.554992675781001,null,9.1611618701138511]
["2009-11-11","NTS Physical Flows, Moffat, Interconnector",17.931000000000001,null,8.4003505507040952]
["2009-11-12","NTS Physical Flows, Moffat, Interconnector",18.518000000000001,null,8.6753494784417171]
["2009-11-13","NTS Physical Flows, Moffat, Interconnector",19.223999023438001,null,9.0060973054080868]
["2009-11-14","NTS Physical Flows, Moffat, Interconnector",17.1669921875,null,8.0424266508392463]
["2009-11-15","NTS Physical Flows, Moffat, Interconnector",15.511016845703001,null,7.2666320284301875]
["2009-11-16","NTS Physical Flows, Moffat, Interconnector",17.861999511718999,null,8.3680250646893626]
["2009-11-17","NTS Physical Flows, Moffat, Interconnector",19.184997558593999,null,8.9878258215711231]
["2009-11-18","NTS Physical Flows, Moffat, Interconnector",18.794006347656001,null,8.8046534812597361]
["2009-11-19","NTS Physical Flows, Moffat, Interconnector",17.867004394531001,null,8.3703697621455007]
["2009-11-20","NTS Physical Flows, Moffat, Interconnector",17.475982666016002,null,8.1871831248989313]
["2009-11-21","NTS Physical Flows, Moffat, Interconnector",14.486022949219,null,6.7864408487526617]
["2009-11-22","NTS Physical Flows, Moffat, Interconnector",14.997009277344,null,7.0258287402738882]
["2009-11-23","NTS Physical Flows, Moffat, Interconnector",19.532958984375,null,9.1508394825316497]
["2009-11-24","NTS Physical Flows, Moffat, Interconnector",17.06201171875,null,7.9932451919982865]
["2009-11-25","NTS Physical Flows, Moffat, Interconnector",19.161987304688001,null,8.9770459320462166]
["2009-11-26","NTS Physical Flows, Moffat, Interconnector",21.072021484375,null,9.8718625442372456]
["2009-11-27","NTS Physical Flows, Moffat, Interconnector",21.429016113281001,null,10.039108098167809]
["2009-11-28","NTS Physical Flows, Moffat, Interconnector",19.828979492188001,null,9.2895197589148228]
["2009-11-29","NTS Physical Flows, Moffat, Interconnector",17.708984375,null,8.296340229041407]
["2009-11-30","NTS Physical Flows, Moffat, Interconnector",22.60302734375,null,10.58911121491551]
["2009-12-01","NTS Physical Flows, Moffat, Interconnector",19.851989746093999,null,9.3002996484397276]
["2009-12-02","NTS Physical Flows, Moffat, Interconnector",19.861022949218999,null,9.304531541409764]
["2009-12-03","NTS Physical Flows, Moffat, Interconnector",20.877014160156001,null,9.7805051250529047]
["2009-12-04","NTS Physical Flows, Moffat, Interconnector",20.182500000000001,null,{"$f":"C67*$E$1","v":9.4551377496840896}]
["2009-12-05","NTS Physical Flows, Moffat, Interconnector",14.513000488281,null,6.7990793399196967]
["2009-12-06","NTS Physical Flows, Moffat, Interconnector",14.870971679687999,null,6.9667823957934347]
["2009-12-07","NTS Physical Flows, Moffat, Interconnector",20.470031738281001,null,9.5898411904299312]
["2009-12-08","NTS Physical Flows, Moffat, Interconnector",18.299987792968999,null,8.5732146859932712]
["2009-12-09","NTS Physical Flows, Moffat, Interconnector",20.333984375,null,9.5261054510367362]
["2009-12-10","NTS Physical Flows, Moffat, Interconnector",20.536010742188001,null,9.6207511654343971]
["2009-12-11","NTS Physical Flows, Moffat, Interconnector",18.049987792968999,null,8.4560941886603818]
["2009-12-12","NTS Physical Flows, Moffat, Interconnector",18.2900390625,null,8.5685538849518306]
["2009-12-13","NTS Physical Flows, Moffat, Interconnector",19.287963867188001,null,9.0360636826553673]
["2009-12-14","NTS Physical Flows, Moffat, Interconnector",21.851013183593999,null,10.236806125160129]
["2009-12-15","NTS Physical Flows, Moffat, Interconnector",21.328002929688001,null,9.9917852409694472]
["2009-12-16","NTS Physical Flows, Moffat, Interconnector",20.739013671875,null,9.7158543817742959]
["2009-12-17","NTS Physical Flows, Moffat, Interconnector",21.997934341431002,null,10.305636041458504]
["2009-12-18","NTS Physical Flows, Moffat, Interconnector",22.698001861571999,null,10.633605065960566]
["2009-12-19","NTS Physical Flows, Moffat, Interconnector",20.315999984741001,null,9.5176800881112857]
["2009-12-20","NTS Physical Flows, Moffat, Interconnector",21.346004486083999,null,10.000218645920908]
["2009-12-21","NTS Physical Flows, Moffat, Interconnector",23.150001525878999,null,10.845358767872304]
["2009-12-22","NTS Physical Flows, Moffat, Interconnector",22.783999999999999,null,10.673893644930125]
["2009-12-23","NTS Physical Flows, Moffat, Interconnector",22.2919921875,null,10.443396846163459]
["2009-12-24","NTS Physical Flows, Moffat, Interconnector",21.578994750976999,null,10.109370388712867]
["2009-12-25","NTS Physical Flows, Moffat, Interconnector",18.561004638671999,null,8.6954963771172604]
["2009-12-26","NTS Physical Flows, Moffat, Interconnector",17.633010864258001,null,8.2607480075924933]
["2009-12-27","NTS Physical Flows, Moffat, Interconnector",20.427993774413999,null,9.5701471614900697]
["2009-12-28","NTS Physical Flows, Moffat, Interconnector",20.944000244141002,null,9.8118868989357289]
["2009-12-29","NTS Physical Flows, Moffat, Interconnector",21.953002929688001,null,10.284586484301668]
["2009-12-30","NTS Physical Flows, Moffat, Interconnector",21.403991699218999,null,10.027384610886186]
["2009-12-31","NTS Physical Flows, Moffat, Interconnector",22.305023193358998,null,10.449501637711275]
["2010-01-01","NTS Physical Flows, Moffat, Interconnector",20.233978271483998,null,9.4792543927162622]
["2010-01-02","NTS Physical Flows, Moffat, Interconnector",21.149017333983998,null,9.9079337130323424]
["2010-01-03","NTS Physical Flows, Moffat, Interconnector",19.871978759766002,null,9.3096641413295629]
["2010-01-04","NTS Physical Flows, Moffat, Interconnector",24.227,null,11.349913155535559]
["2010-01-05","NTS Physical Flows, Moffat, Interconnector",22.814,null,10.687948104610072]
["2010-01-06","NTS Physical Flows, Moffat, Interconnector",24.217010498046999,null,11.345233253788185]
["2010-01-07","NTS Physical Flows, Moffat, Interconnector",26.170999999999999,null,12.260642142796099]
["2010-01-08","NTS Physical Flows, Moffat, Interconnector",25.911000000000001,null,12.138836825569896]
["2010-01-09","NTS Physical Flows, Moffat, Interconnector",24.951000000000001,null,11.689094115811605]
["2010-01-10","NTS Physical Flows, Moffat, Interconnector",21.303000000000001,null,9.9800718187300959]
["2010-01-11","NTS Physical Flows, Moffat, Interconnector",22.276,null,10.435904794349696]
["2010-01-12","NTS Physical Flows, Moffat, Interconnector",21.799987792968999,null,10.212901648653709]
["2010-01-13","NTS Physical Flows, Moffat, Interconnector",23.163024902343999,null,10.851459985186441]
["2010-01-14","NTS Physical Flows, Moffat, Interconnector",21.068969726563001,null,9.8704328506665213]
["2010-01-15","NTS Physical Flows, Moffat, Interconnector",17.904052734375,null,8.3877262420970489]
["2010-01-16","NTS Physical Flows, Moffat, Interconnector",17.990966796875,null,8.4284439149979367]
["2010-01-17","NTS Physical Flows, Moffat, Interconnector",17.377014160156001,null,8.1408181623924669]
["2010-01-18","NTS Physical Flows, Moffat, Interconnector",21.192993164063001,null,9.92853559739026]
["2010-01-19","NTS Physical Flows, Moffat, Interconnector",19.671020507813001,null,9.2155188196820301]
["2010-01-20","NTS Physical Flows, Moffat, Interconnector",22.286987304688001,null,10.441052148707323]
["2010-01-21","NTS Physical Flows, Moffat, Interconnector",20.77197265625,null,9.7312950723406431]
["2010-01-22","NTS Physical Flows, Moffat, Interconnector",21.52001953125,null,10.081741560453896]
["2010-01-23","NTS Physical Flows, Moffat, Interconnector",21.736999511718999,null,10.183392773349134]
["2010-01-24","NTS Physical Flows, Moffat, Interconnector",21.5009765625,null,10.072820272571118]
["2010-01-25","NTS Physical Flows, Moffat, Interconnector",23.410034179688001,null,10.967179382819909]
["2010-01-26","NTS Physical Flows, Moffat, Interconnector",24.079000000000001,null,11.280577821114489]
["2010-01-27","NTS Physical Flows, Moffat, Interconnector",19.955993652343999,null,9.3490236053379796]
["2010-01-28","NTS Physical Flows, Moffat, Interconnector",19.77797,null,9.2656227305397945]
["2010-01-29","NTS Physical Flows, Moffat, Interconnector",20.18603515625,null,9.4567939067166868]
["2010-01-30","NTS Physical Flows, Moffat, Interconnector",20.328979492188001,null,9.5237607535805981]
["2010-01-31","NTS Physical Flows, Moffat, Interconnector",19.820007324218999,null,9.2853164598160873]
["2010-02-01","NTS Physical Flows, Moffat, Interconnector",21.109985351563001,null,9.8896479322601998]
["2010-02-02","NTS Physical Flows, Moffat, Interconnector",20.572021484375,null,9.6376215495714685]
["2010-02-03","NTS Physical Flows, Moffat, Interconnector",20.810974121093999,null,9.749566556177605]
["2010-02-04","NTS Physical Flows, Moffat, Interconnector",19.580982208251999,null,9.1733374979876618]
["2010-02-05","NTS Physical Flows, Moffat, Interconnector",19.54700088501,null,9.1574178600751317]
["2010-02-06","NTS Physical Flows, Moffat, Interconnector",20.44100189209,null,{"$f":"C131*$E$1","v":9.5762412303363824}]
["2010-02-07","NTS Physical Flows, Moffat, Interconnector",18.309997558593999,null,8.5779040809060128]
["2010-02-08","NTS Physical Flows, Moffat, Interconnector",22.425003051758001,null,10.505710040453758]
["2010-02-09","NTS Physical Flows, Moffat, Interconnector",20.554008483886999,null,9.6291827832690196]
["2010-02-10","NTS Physical Flows, Moffat, Interconnector",22.536994934081999,null,10.558176220273889]
["2010-02-11","NTS Physical Flows, Moffat, Interconnector",22.498992919921999,null,10.540372961081607]
["2010-02-12","NTS Physical Flows, Moffat, Interconnector",20.655014038086001,null,9.676502066233704]
["2010-02-13","NTS Physical Flows, Moffat, Interconnector",20.244995117188001,null,9.484415586507831]
["2010-02-14","NTS Physical Flows, Moffat, Interconnector",18.613006591796999,null,8.7198583555663856]
["2010-02-15","NTS Physical Flows, Moffat, Interconnector",20.808990478516002,null,9.7486372553565417]
["2010-02-16","NTS Physical Flows, Moffat, Interconnector",22.115005493163999,null,10.360481767515715]
["2010-02-17","NTS Physical Flows, Moffat, Interconnector",22.338989257813001,null,10.46541412715645]
["2010-02-18","NTS Physical Flows, Moffat, Interconnector",22.949005126953001,null,10.751195575054973]
["2010-02-19","NTS Physical Flows, Moffat, Interconnector",21.240020751953001,null,9.9505671753184313]
["2010-02-20","NTS Physical Flows, Moffat, Interconnector",20.975982666016002,null,9.8268700875593691]
["2010-02-21","NTS Physical Flows, Moffat, Interconnector",20.692993164063001,null,9.694294602724483]
["2010-02-22","NTS Physical Flows, Moffat, Interconnector",22.573,null,10.575043945181168]
["2010-02-23","NTS Physical Flows, Moffat, Interconnector",21.798004150391002,null,10.211972347832647]
["2010-02-24","NTS Physical Flows, Moffat, Interconnector",23.353999999999999,null,10.940928378849112]
["2010-02-25","NTS Physical Flows, Moffat, Interconnector",22.805999755858998,null,10.684200134319758]
["2010-02-26","NTS Physical Flows, Moffat, Interconnector",20.989013671875,null,9.8329748791071854]
["2010-02-27","NTS Physical Flows, Moffat, Interconnector",19.792999267578001,null,9.272663671712932]
["2010-02-28","NTS Physical Flows, Moffat, Interconnector",20.638000488281001,null,9.6685315245754655]
["2010-03-01","NTS Physical Flows, Moffat, Interconnector",23.057983398438001,null,10.802249932474181]
["2010-03-02","NTS Physical Flows, Moffat, Interconnector",21.822021484375,null,10.22322403623591]
["2010-03-03","NTS Physical Flows, Moffat, Interconnector",23.158996582031001,null,10.849572789672543]
["2010-03-04","NTS Physical Flows, Moffat, Interconnector",23.109008789063001,null,10.826154408980599]
["2010-03-05","NTS Physical Flows, Moffat, Interconnector",22.870971679688001,null,10.714638310445867]
["2010-03-06","NTS Physical Flows, Moffat, Interconnector",20.546997070313001,null,9.6258980622898473]
["2010-03-07","NTS Physical Flows, Moffat, Interconnector",19.231994628906001,null,9.0098431025636447]
["2010-03-08","NTS Physical Flows, Moffat, Interconnector",22.201049804688001,null,10.400791977749144]
["2010-03-09","NTS Physical Flows, Moffat, Interconnector",22.929992675781001,null,10.742288584107847]
["2010-03-10","NTS Physical Flows, Moffat, Interconnector",22.661010742188001,null,10.616275392763949]
["2010-03-11","NTS Physical Flows, Moffat, Interconnector",21.669982910156001,null,10.151996702530662]
["2010-03-12","NTS Physical Flows, Moffat, Interconnector",20.132019042968999,null,9.4314883305108435]
["2010-03-13","NTS Physical Flows, Moffat, Interconnector",19.412963867188001,null,9.0946239313218129]
["2010-03-14","NTS Physical Flows, Moffat, Interconnector",18.952026367188001,null,8.8786830143642987]
["2010-03-15","NTS Physical Flows, Moffat, Interconnector",20.984985351563001,null,9.8310876835937542]
["2010-03-16","NTS Physical Flows, Moffat, Interconnector",20.184997558593999,null,9.4563078109026772]
["2010-03-17","NTS Physical Flows, Moffat, Interconnector",15.851013183594,null,7.4259141891708058]
["2010-03-18","NTS Physical Flows, Moffat, Interconnector",17.494995117188001,null,8.196090115846058]
["2010-03-19","NTS Physical Flows, Moffat, Interconnector",19.106018066406001,null,8.950825351954494]
["2010-03-20","NTS Physical Flows, Moffat, Interconnector",17.768005371093999,null,8.3239905027038521]
["2010-03-21","NTS Physical Flows, Moffat, Interconnector",15.635986328125,null,7.32517798016098]
["2010-03-22","NTS Physical Flows, Moffat, Interconnector",16.789978027343999,null,7.8658023070831975]
["2010-03-23","NTS Physical Flows, Moffat, Interconnector",18.962036132813001,null,8.8833724092770421]
["2010-03-24","NTS Physical Flows, Moffat, Interconnector",19.677978515625,null,9.2187785210235802]
["2010-03-25","NTS Physical Flows, Moffat, Interconnector",19.272951126098999,null,9.0290304838446733]
["2010-03-26","NTS Physical Flows, Moffat, Interconnector",20.071000000000002,null,9.402902007873621]
["2010-03-27","NTS Physical Flows, Moffat, Interconnector",17.412002563476999,null,8.1572095991838225]
["2010-03-28","NTS Physical Flows, Moffat, Interconnector",16.979999542236001,null,7.9548239643955982]
["2010-03-29","NTS Physical Flows, Moffat, Interconnector",19.154998779296999,null,8.9737719337685462]
["2010-03-30","NTS Physical Flows, Moffat, Interconnector",20.249000549316001,null,9.4862920593192896]
["2010-03-31","NTS Physical Flows, Moffat, Interconnector",22.123001098633001,null,10.364227564671742]
["2010-04-01","NTS Physical Flows, Moffat, Interconnector",21.220001220703001,null,9.9411883854929464]
["2010-04-02","NTS Physical Flows, Moffat, Interconnector",18.369003295898001,null,8.6055472061001677]
["2010-04-03","NTS Physical Flows, Moffat, Interconnector",17.792999269999999,null,8.3356996941844876]
["2010-04-04","NTS Physical Flows, Moffat, Interconnector",15.776000979999999,null,7.3907723228069448]
["2010-04-05","NTS Physical Flows, Moffat, Interconnector",13.940994,null,6.5311046023792585]
["2010-04-06","NTS Physical Flows, Moffat, Interconnector",19.893005371093999,null,9.3195147300334042]
["2010-04-07","NTS Physical Flows, Moffat, Interconnector",18.343,null,8.5933651303086958]
["2010-04-08","NTS Physical Flows, Moffat, Interconnector",18.227020263671999,null,8.5390307127116039]
["2010-04-09","NTS Physical Flows, Moffat, Interconnector",16.458984375,null,7.7107377423769643]
["2010-04-10","NTS Physical Flows, Moffat, Interconnector",15.446990966796999,null,7.2366370573116026]
["2010-04-11","NTS Physical Flows, Moffat, Interconnector",15.382019042969,null,{"$f":"C195*$E$1","v":7.2061988811859639}]
["2010-04-12","NTS Physical Flows, Moffat, Interconnector",18.113006591796999,null,8.4856173609006085]
["2010-04-13","NTS Physical Flows, Moffat, Interconnector",17.518981933593999,null,8.2073275073136713]
["2010-04-14","NTS Physical Flows, Moffat, Interconnector",17.330993652343999,null,8.1192583833426504]
["2010-04-15","NTS Physical Flows, Moffat, Interconnector",17.245025634766002,null,8.0789839154488217]
["2010-04-16","NTS Physical Flows, Moffat, Interconnector",17.493988037108998,null,8.1956183169672308]
["2010-04-17","NTS Physical Flows, Moffat, Interconnector",15.563995361328001,null,7.2914515088220204]
["2010-04-18","NTS Physical Flows, Moffat, Interconnector",15.817016601562999,null,7.4099874027904491]
["2010-04-19","NTS Physical Flows, Moffat, Interconnector",19.389984130858998,null,9.083858338732087]
["2010-04-20","NTS Physical Flows, Moffat, Interconnector",19.619018554688001,null,9.1911568412329032]
["2010-04-21","NTS Physical Flows, Moffat, Interconnector",20.360990000000001,null,9.5387570999598772]
["2010-04-22","NTS Physical Flows, Moffat, Interconnector",19.071990966796999,null,8.9348842686384859]
["2010-04-23","NTS Physical Flows, Moffat, Interconnector",17.39501953125,null,8.1492533544612353]
["2010-04-24","NTS Physical Flows, Moffat, Interconnector",16.859008789063001,null,7.8981419756583877]
["2010-04-25","NTS Physical Flows, Moffat, Interconnector",15.864990234375,null,7.4324621857256767]
["2010-04-26","NTS Physical Flows, Moffat, Interconnector",18.27099609375,null,8.5596325970690526]
["2010-04-27","NTS Physical Flows, Moffat, Interconnector",16.406005859375,null,7.6859182619851314]
["2010-04-28","NTS Physical Flows, Moffat, Interconnector",16.476013183593999,null,7.7187154325030267]
["2010-04-29","NTS Physical Flows, Moffat, Interconnector",17.809000000000001,null,8.3431957480056465]
["2010-04-30","NTS Physical Flows, Moffat, Interconnector",17.675964355468999,null,8.2808709446037554]
["2010-05-01","NTS Physical Flows, Moffat, Interconnector",17.313049316406001,null,8.1108517851451847]
["2010-05-02","NTS Physical Flows, Moffat, Interconnector",15.976989746094,null,7.4849319397799574]
["2010-05-03","NTS Physical Flows, Moffat, Interconnector",16.8349609375,null,7.8868759903190035]
["2010-05-04","NTS Physical Flows, Moffat, Interconnector",19.609008789063001,null,9.1864674463201617]
["2010-05-05","NTS Physical Flows, Moffat, Interconnector",17.543029785156001,null,8.2185934926525874]
["2010-05-06","NTS Physical Flows, Moffat, Interconnector",16.966979980468999,null,7.9487245341987673]
["2010-05-07","NTS Physical Flows, Moffat, Interconnector",17.170043945313001,null,8.0438563444104378]
["2010-05-08","NTS Physical Flows, Moffat, Interconnector",15.245971679687999,null,7.142463141792768]
["2010-05-09","NTS Physical Flows, Moffat, Interconnector",15.069030761719,null,7.0595695085485]
["2010-05-10","NTS Physical Flows, Moffat, Interconnector",17.877990722656001,null,8.3755166590009509]
["2010-05-11","NTS Physical Flows, Moffat, Interconnector",19.66796875,null,9.2140891261108369]
["2010-05-12","NTS Physical Flows, Moffat, Interconnector",18.911010742188001,null,8.8594679327706221]
["2010-05-13","NTS Physical Flows, Moffat, Interconnector",17.882019042968999,null,8.3774038545148475]
["2010-05-14","NTS Physical Flows, Moffat, Interconnector",17.325988769531001,null,8.1169136858860469]
["2010-05-15","NTS Physical Flows, Moffat, Interconnector",16.132019042968999,null,7.5575603731846286]
["2010-05-16","NTS Physical Flows, Moffat, Interconnector",15.996948242187999,null,7.4942821357341396]
["2010-05-17","NTS Physical Flows, Moffat, Interconnector",18.612060546875,null,8.71941515055933]
["2010-05-18","NTS Physical Flows, Moffat, Interconnector",18.039001464843999,null,8.4509472918049333]
["2010-05-19","NTS Physical Flows, Moffat, Interconnector",19.640991210938001,null,9.2014506349438019]
["2010-05-20","NTS Physical Flows, Moffat, Interconnector",19.054933547973999,null,8.9268931751354259]
["2010-05-21","NTS Physical Flows, Moffat, Interconnector",18.47500038147,null,8.6552049316122854]
["2010-05-22","NTS Physical Flows, Moffat, Interconnector",16.679000854491999,null,7.8138115003751007]
["2010-05-23","NTS Physical Flows, Moffat, Interconnector",15.907001495360999,null,7.4521437048467254]
["2010-05-24","NTS Physical Flows, Moffat, Interconnector",18.546997070313001,null,8.688934083626739]
["2010-05-25","NTS Physical Flows, Moffat, Interconnector",18.028007507323998,null,8.4457968207153371]
["2010-05-26","NTS Physical Flows, Moffat, Interconnector",18.130989074706999,null,8.4940418302674061]
["2010-05-27","NTS Physical Flows, Moffat, Interconnector",18.804016113281001,null,8.8093428761724795]
["2010-05-28","NTS Physical Flows, Moffat, Interconnector",19.910995483398001,null,9.3279427736338825]
["2010-05-29","NTS Physical Flows, Moffat, Interconnector",17.414993286133001,null,8.1586106988832441]
["2010-05-30","NTS Physical Flows, Moffat, Interconnector",16.288009643555,null,7.6306391600641819]
["2010-05-31","NTS Physical Flows, Moffat, Interconnector",18.061996459961001,null,8.461720032862015]
["2010-06-01","NTS Physical Flows, Moffat, Interconnector",18.910003662108998,null,8.8589961338917949]
["2010-06-02","NTS Physical Flows, Moffat, Interconnector",19.270004272461001,null,9.027649935990075]
["2010-06-03","NTS Physical Flows, Moffat, Interconnector",17.60400390625,null,8.2471587702004481]
["2010-06-04","NTS Physical Flows, Moffat, Interconnector",18.830978393555,null,8.8219742188721568]
["2010-06-05","NTS Physical Flows, Moffat, Interconnector",17.861022949218999,null,8.3675675627466557]
["2010-06-06","NTS Physical Flows, Moffat, Interconnector",16.355987548828001,null,7.6624855843570696]
["2010-06-07","NTS Physical Flows, Moffat, Interconnector",17.352020263671999,null,8.1291089720464935]
["2010-06-08","NTS Physical Flows, Moffat, Interconnector",19.356994628906001,null,9.0684033512300886]
["2010-06-09","NTS Physical Flows, Moffat, Interconnector",18.452999999999999,null,8.644898149135166]
["2010-06-10","NTS Physical Flows, Moffat, Interconnector",19.126983642578001,null,8.9606473467870345]
["2010-06-11","NTS Physical Flows, Moffat, Interconnector",17.371002197266002,null,8.1380016660579724]
["2010-06-12","NTS Physical Flows, Moffat, Interconnector",16.761993408203001,null,7.8526920170373362]
["2010-06-13","NTS Physical Flows, Moffat, Interconnector",15.436004638671999,null,7.2314901604561532]
["2010-06-14","NTS Physical Flows, Moffat, Interconnector",19.947021484375,null,{"$f":"C259*$E$1","v":9.3448203062392476}]
["2010-06-15","NTS Physical Flows, Moffat, Interconnector",20.447998046875,null,9.5795188028477298]
["2010-06-16","NTS Physical Flows, Moffat, Interconnector",20.537994384766002,null,9.6216804662554622]
["2010-06-17","NTS Physical Flows, Moffat, Interconnector",19.765991210938001,null,9.2600108836102457]
["2010-06-18","NTS Physical Flows, Moffat, Interconnector",18.391021728516002,null,8.6158624452150114]
["2010-06-19","NTS Physical Flows, Moffat, Interconnector",15.800964355469,null,7.4024672146070936]
["2010-06-20","NTS Physical Flows, Moffat, Interconnector",17.473999023438001,null,8.1862538240778662]
["2010-06-21","NTS Physical Flows, Moffat, Interconnector",19.378051757813001,null,9.078268236870052]
["2010-06-22","NTS Physical Flows, Moffat, Interconnector",19.096984863281001,null,8.9465934589844576]
["2010-06-23","NTS Physical Flows, Moffat, Interconnector",19.43896484375,null,9.106804920546141]
["2010-06-24","NTS Physical Flows, Moffat, Interconnector",19,null,8.9011577972995255]
["2010-06-25","NTS Physical Flows, Moffat, Interconnector",18.731994628906001,null,8.7756021078978677]
["2010-06-26","NTS Physical Flows, Moffat, Interconnector",15.785034179687999,null,7.395004214166808]
["2010-06-27","NTS Physical Flows, Moffat, Interconnector",14.815979003906,null,6.9410193176444182]
["2010-06-28","NTS Physical Flows, Moffat, Interconnector",19.059997558593999,null,8.9292655729046793]
["2010-06-29","NTS Physical Flows, Moffat, Interconnector",18.970031738281001,null,8.8871182064326]
["2010-06-30","NTS Physical Flows, Moffat, Interconnector",16.635009765625,null,7.7932024675498281]
["2010-07-01","NTS Physical Flows, Moffat, Interconnector",17.661010742188001,null,8.2738654461061802]
["2010-07-02","NTS Physical Flows, Moffat, Interconnector",16.718994140625,null,7.8325476346225953]
["2010-07-03","NTS Physical Flows, Moffat, Interconnector",15.469970703125,null,7.2474026499008595]
["2010-07-04","NTS Physical Flows, Moffat, Interconnector",14.134033203125,null,6.6215399922782359]
["2010-07-05","NTS Physical Flows, Moffat, Interconnector",19.095947265625,null,8.9461073631704497]
["2010-07-06","NTS Physical Flows, Moffat, Interconnector",17.45703125,null,8.1783047278231038]
["2010-07-07","NTS Physical Flows, Moffat, Interconnector",15.948974609375,null,7.4718073527984439]
["2010-07-08","NTS Physical Flows, Moffat, Interconnector",18.755004882813001,null,8.7863819974232431]
["2010-07-09","NTS Physical Flows, Moffat, Interconnector",18.322021484375,null,8.5835370735754726]
["2010-07-10","NTS Physical Flows, Moffat, Interconnector",15.302978515625,null,7.1691698176980312]
["2010-07-11","NTS Physical Flows, Moffat, Interconnector",15.816040039062999,null,7.4095299008477431]
["2010-07-12","NTS Physical Flows, Moffat, Interconnector",16.739990234375,null,7.8423839263907871]
["2010-07-13","NTS Physical Flows, Moffat, Interconnector",15.227,null,7.1335752515515729]
["2010-07-14","NTS Physical Flows, Moffat, Interconnector",16.507019042968999,null,7.733241119183961]
["2010-07-15","NTS Physical Flows, Moffat, Interconnector",16.85595703125,null,7.8967122820871953]
["2010-07-16","NTS Physical Flows, Moffat, Interconnector",15.545974731445,null,7.2830091682854246]
["2010-07-17","NTS Physical Flows, Moffat, Interconnector",14.709001541138001,null,6.8909023030732239]
["2010-07-18","NTS Physical Flows, Moffat, Interconnector",13.730001449585,null,6.432258392626701]
["2010-07-19","NTS Physical Flows, Moffat, Interconnector",16.319000244141002,null,7.6451576982772913]
["2010-07-20","NTS Physical Flows, Moffat, Interconnector",16.075996398926002,null,7.5313147734557511]
["2010-07-21","NTS Physical Flows, Moffat, Interconnector",15.350006103516,null,7.1912013956266714]
["2010-07-22","NTS Physical Flows, Moffat, Interconnector",16.582000732421999,null,7.7683686902223439]
["2010-07-23","NTS Physical Flows, Moffat, Interconnector",17.002990722656001,null,7.9655949183358405]
["2010-07-24","NTS Physical Flows, Moffat, Interconnector",15.386001586914,null,7.2080646312959171]
["2010-07-25","NTS Physical Flows, Moffat, Interconnector",14.564010620116999,null,6.8229766679582911]
["2010-07-26","NTS Physical Flows, Moffat, Interconnector",15.886993408203001,null,7.4427702763722268]
["2010-07-27","NTS Physical Flows, Moffat, Interconnector",15.539001464844,null,7.2797423184760488]
["2010-07-28","NTS Physical Flows, Moffat, Interconnector",15.075012207031,null,7.0623717079473431]
["2010-07-29","NTS Physical Flows, Moffat, Interconnector",15.671997070312999,null,7.3420483642985195]
["2010-07-30","NTS Physical Flows, Moffat, Interconnector",14.201995849609,null,6.6533792681032979]
["2010-07-31","NTS Physical Flows, Moffat, Interconnector",13.783996582031,null,6.4575541396892238]
["2010-08-01","NTS Physical Flows, Moffat, Interconnector",13.535003662109,null,6.3409054412346926]
["2010-08-02","NTS Physical Flows, Moffat, Interconnector",13.847991943359,null,6.4875348138721565]
["2010-08-03","NTS Physical Flows, Moffat, Interconnector",15.621002197266,null,7.3181581847277517]
["2010-08-04","NTS Physical Flows, Moffat, Interconnector",13.775024414062999,null,6.4533508405909581]
["2010-08-05","NTS Physical Flows, Moffat, Interconnector",15.266998291016,null,7.1523137304966111]
["2010-08-06","NTS Physical Flows, Moffat, Interconnector",14.871002197266,null,6.9667966927290861]
["2010-08-07","NTS Physical Flows, Moffat, Interconnector",14.095977783203001,null,6.6037117134483303]
["2010-08-08","NTS Physical Flows, Moffat, Interconnector",13.378021240234,null,6.2673620039446076]
["2010-08-09","NTS Physical Flows, Moffat, Interconnector",15.718994140625,null,7.3640656452910411]
["2010-08-10","NTS Physical Flows, Moffat, Interconnector",16.361999511718999,null,7.6653020806920313]
["2010-08-11","NTS Physical Flows, Moffat, Interconnector",16.873992919921999,null,7.905161771091616]
["2010-08-12","NTS Physical Flows, Moffat, Interconnector",15.855010986328001,null,7.4277870877485856]
["2010-08-13","NTS Physical Flows, Moffat, Interconnector",16.553985595703001,null,7.7552441032408312]
["2010-08-14","NTS Physical Flows, Moffat, Interconnector",15.944000244141,null,7.469476952277958]
["2010-08-15","NTS Physical Flows, Moffat, Interconnector",15.738006591796999,null,7.3729726362381687]
["2010-08-16","NTS Physical Flows, Moffat, Interconnector",17.738006591796999,null,8.309936614901277]
["2010-08-17","NTS Physical Flows, Moffat, Interconnector",17.183013916016002,null,{"$f":"C323*$E$1","v":8.0499325420869514}]
["2010-08-18","NTS Physical Flows, Moffat, Interconnector",17.572967529296999,null,8.2326187865838616]
["2010-08-19","NTS Physical Flows, Moffat, Interconnector",17.927001953125,null,8.3984775377506544]
["2010-08-20","NTS Physical Flows, Moffat, Interconnector",15.272,null,7.1546569410714929]
["2010-08-21","NTS Physical Flows, Moffat, Interconnector",14.998046875,null,7.0263148360878969]
["2010-08-22","NTS Physical Flows, Moffat, Interconnector",15.712951660156,null,7.3612348520204263]
["2010-08-23","NTS Physical Flows, Moffat, Interconnector",15.939025878906,null,7.4671465517570033]
["2010-08-24","NTS Physical Flows, Moffat, Interconnector",16.682006835938001,null,7.815219748542817]
["2010-08-25","NTS Physical Flows, Moffat, Interconnector",17.705993652343999,null,8.2949391293419836]
["2010-08-26","NTS Physical Flows, Moffat, Interconnector",17.671020507813001,null,8.2785548410189218]
["2010-08-27","NTS Physical Flows, Moffat, Interconnector",17.268005371093999,null,8.089749508038075]
["2010-08-28","NTS Physical Flows, Moffat, Interconnector",14.85595703125,null,6.959748303424087]
["2010-08-29","NTS Physical Flows, Moffat, Interconnector",14.567016601562999,null,6.8243849161260073]
["2010-08-30","NTS Physical Flows, Moffat, Interconnector",17.473999023438001,null,8.1862538240778662]
["2010-08-31","NTS Physical Flows, Moffat, Interconnector",17.275024414063001,null,8.0930378032513968]
["2010-09-01","NTS Physical Flows, Moffat, Interconnector",15.872009277344,null,7.4357504809389985]
["2010-09-02","NTS Physical Flows, Moffat, Interconnector",16.578002929688001,null,7.7664957916445649]
["2010-09-03","NTS Physical Flows, Moffat, Interconnector",15.350952148437999,null,7.1916446006337269]
["2010-09-04","NTS Physical Flows, Moffat, Interconnector",15.710998535156,null,7.3603198481350134]
["2010-09-05","NTS Physical Flows, Moffat, Interconnector",13.855041503906,null,6.4908374060211287]
["2010-09-06","NTS Physical Flows, Moffat, Interconnector",17.919982910156001,null,8.3951892425373345]
["2010-09-07","NTS Physical Flows, Moffat, Interconnector",18.158020019531001,null,8.5067053410720668]
["2010-09-08","NTS Physical Flows, Moffat, Interconnector",17.596984863281001,null,8.2438704749871263]
["2010-09-09","NTS Physical Flows, Moffat, Interconnector",16.351989746093999,null,7.6606126857792889]
["2010-09-10","NTS Physical Flows, Moffat, Interconnector",16.802001953125,null,7.8714352997526555]
["2010-09-11","NTS Physical Flows, Moffat, Interconnector",14.593994140625,null,6.8370234072930431]
["2010-09-12","NTS Physical Flows, Moffat, Interconnector",14.176025390625,null,6.6412125758146194]
["2010-09-13","NTS Physical Flows, Moffat, Interconnector",14.89697265625,null,6.9789633850177637]
["2010-09-14","NTS Physical Flows, Moffat, Interconnector",15.1650390625,null,7.1045476682907243]
["2010-09-15","NTS Physical Flows, Moffat, Interconnector",16.06298828125,null,7.5252207046094393]
["2010-09-16","NTS Physical Flows, Moffat, Interconnector",18.22998046875,null,8.5404175154753759]
["2010-09-17","NTS Physical Flows, Moffat, Interconnector",18.276969909668001,null,8.5624312222342169]
["2010-09-18","NTS Physical Flows, Moffat, Interconnector",16.448001861571999,null,7.7055926326383535]
["2010-09-19","NTS Physical Flows, Moffat, Interconnector",16.187002182006999,null,7.5833189835408445]
["2010-09-20","NTS Physical Flows, Moffat, Interconnector",16.355,null,7.662022935517566]
["2010-09-21","NTS Physical Flows, Moffat, Interconnector",17.434999999999999,null,8.1679834839956431]
["2010-09-22","NTS Physical Flows, Moffat, Interconnector",19.422000000000001,null,9.0988571967974412]
["2010-09-23","NTS Physical Flows, Moffat, Interconnector",17.312999999999999,null,8.1108286812971944]
["2010-09-24","NTS Physical Flows, Moffat, Interconnector",18.251999999999999,null,8.5507332692795224]
["2010-09-25","NTS Physical Flows, Moffat, Interconnector",17.742999999999999,null,8.3122759367097618]
["2010-09-26","NTS Physical Flows, Moffat, Interconnector",16.15091,null,7.5664104463148885]
["2010-09-27","NTS Physical Flows, Moffat, Interconnector",17.286989999999999,null,8.0986434647546801]
["2010-09-28","NTS Physical Flows, Moffat, Interconnector",18.584,null,8.7062692897375999]
["2010-09-29","NTS Physical Flows, Moffat, Interconnector",19.498999999999999,null,9.1349303099759709]
["2010-09-30","NTS Physical Flows, Moffat, Interconnector",16.523,null,7.7407279097252664]

{"sheet":"r_Storage injections","index":8,"n_rows":3287,"n_cols":7,"rows_kept":3287,"cut":false,"hidden":false,"merged":[[0,4,0,5],[0,0,0,2]]}
["Storage demand, by site",null,null,null,"Storage demand, aggregate"]
["mcm/day","DataItem","Value",null,"mcm/day","Value"]
["2009-10-01","NTS Physical Flows, Hatfield Moor, Storage",1.2131000000000001,null,"2009-10-01",{"$f":"SUMIF(A$3:A$3287,E3,C$3:C$3287)","v":13.81409}]
["2009-10-01","NTS Physical Flows, Aldbrough, Storage",2.8772700000000002,null,"2009-10-02",{"$f":"SUMIF(A$3:A$3287,E4,C$3:C$3287)","v":13.975709999999999}]
["2009-10-01","NTS Physical Flows, Avonmouth, LNG",4.4099999999999999E-3,null,"2009-10-03",23.66639]
["2009-10-01","NTS Physical Flows, Glenmavis, LNG",8.5999999999999998E-4,null,"2009-10-04",17.437379999999997]
["2009-10-01","NTS Physical Flows, HoleHousFm, Storage",1.40591,null,"2009-10-05",9.6501599999999996]
["2009-10-01","NTS Physical Flows, Hornsea, Storage",1.72342,null,"2009-10-06",5.6726200000000002]
["2009-10-01","NTS Physical Flows, HumblyGrov, Storage",1.5449299999999999,null,"2009-10-07",6.7680899999999999]
["2009-10-01","NTS Physical Flows, Partington, LNG",0.27368999999999999,null,"2009-10-08",4.7487000000000004]
["2009-10-01","NTS Physical Flows, Rough, Storage",4.7705000000000002,null,"2009-10-09",6.7680799999999994]
["2009-10-02","NTS Physical Flows, Aldbrough, Storage",2.3130799999999998,null,"2009-10-10",26.28407]
["2009-10-02","NTS Physical Flows, Avonmouth, LNG",4.4099999999999999E-3,null,"2009-10-11",21.2559]
["2009-10-02","NTS Physical Flows, Glenmavis, LNG",8.4000000000000003E-4,null,"2009-10-12",5.6834100000000003]
["2009-10-02","NTS Physical Flows, Hatfield Moor, Storage",1.6615,null,"2009-10-13",3.1328599999999995]
["2009-10-02","NTS Physical Flows, HoleHousFm, Storage",0.13621,null,"2009-10-14",5.2807200000000005]
["2009-10-02","NTS Physical Flows, Hornsea, Storage",1.69652,null,"2009-10-15",5.5168999999999997]
["2009-10-02","NTS Physical Flows, HumblyGrov, Storage",3.2121,null,"2009-10-16",4.8258799999999997]
["2009-10-02","NTS Physical Flows, Partington, LNG",0.27045000000000002,null,"2009-10-17",4.8065399999999991]
["2009-10-02","NTS Physical Flows, Rough, Storage",4.6806000000000001,null,"2009-10-18",3.69482]
["2009-10-03","NTS Physical Flows, Aldbrough, Storage",1.57517,null,"2009-10-19",2.5342799999999999]
["2009-10-03","NTS Physical Flows, Avonmouth, LNG",4.4099999999999999E-3,null,"2009-10-20",1.1567799999999999]
["2009-10-03","NTS Physical Flows, Glenmavis, LNG",8.4000000000000003E-4,null,"2009-10-21",9.9761400000000009]
["2009-10-03","NTS Physical Flows, Hatfield Moor, Storage",1.5642,null,"2009-10-22",5.0853199999999994]
["2009-10-03","NTS Physical Flows, HoleHousFm, Storage",5.7314100000000003,null,"2009-10-23",11.5342]
["2009-10-03","NTS Physical Flows, Hornsea, Storage",1.5941000000000001,null,"2009-10-24",11.270960000000002]
["2009-10-03","NTS Physical Flows, HumblyGrov, Storage",3.60968,null,"2009-10-25",15.90067]
["2009-10-03","NTS Physical Flows, Partington, LNG",0.27698,null,"2009-10-26",16.24907]
["2009-10-03","NTS Physical Flows, Rough, Storage",9.3095999999999997,null,"2009-10-27",12.12555]
["2009-10-04","NTS Physical Flows, Aldbrough, Storage",1.5641400000000001,null,"2009-10-28",12.7319]
["2009-10-04","NTS Physical Flows, Avonmouth, LNG",4.4099999999999999E-3,null,"2009-10-29",9.3278299999999987]
["2009-10-04","NTS Physical Flows, Glenmavis, LNG",8.4000000000000003E-4,null,"2009-10-30",7.9884999999999993]
["2009-10-04","NTS Physical Flows, Hatfield Moor, Storage",0,null,"2009-10-31",22.1265]
["2009-10-04","NTS Physical Flows, HoleHousFm, Storage",7.0981399999999999,null,"2009-11-01",25.311199999999999]
["2009-10-04","NTS Physical Flows, Hornsea, Storage",1.33297,null,"2009-11-02",3.65496]
["2009-10-04","NTS Physical Flows, HumblyGrov, Storage",0.71716999999999997,null,"2009-11-03",3.0710700000000002]
["2009-10-04","NTS Physical Flows, Partington, LNG",0.27781,null,"2009-11-04",3.43784]
["2009-10-04","NTS Physical Flows, Rough, Storage",6.4419000000000004,null,"2009-11-05",2.9039099999999998]
["2009-10-05","NTS Physical Flows, Aldbrough, Storage",0,null,"2009-11-06",3.3923900000000002]
["2009-10-05","NTS Physical Flows, Avonmouth, LNG",1.9599999999999999E-2,null,"2009-11-07",9.3793100000000003]
["2009-10-05","NTS Physical Flows, Glenmavis, LNG",8.4000000000000003E-4,null,"2009-11-08",1.9839599999999999]
["2009-10-05","NTS Physical Flows, Hatfield Moor, Storage",0,null,"2009-11-09",0.53298999999999996]
["2009-10-05","NTS Physical Flows, HoleHousFm, Storage",2.0674299999999999,null,"2009-11-10",1.0450200000000001]
["2009-10-05","NTS Physical Flows, Hornsea, Storage",1.5890500000000001,null,"2009-11-11",1.8082199999999999]
["2009-10-05","NTS Physical Flows, HumblyGrov, Storage",0.45992,null,"2009-11-12",3.8838800000000004]
["2009-10-05","NTS Physical Flows, Partington, LNG",0.29332000000000003,null,"2009-11-13",12.132300000000001]
["2009-10-05","NTS Physical Flows, Rough, Storage",5.22,null,"2009-11-14",5.9779400000000003]
["2009-10-06","NTS Physical Flows, Aldbrough, Storage",3.29E-3,null,"2009-11-15",8.9527099999999997]
["2009-10-06","NTS Physical Flows, Avonmouth, LNG",1.9599999999999999E-2,null,"2009-11-16",10.640319999999999]
["2009-10-06","NTS Physical Flows, Partington, LNG",0.28759000000000001,null,"2009-11-17",6.5621499999999999]
["2009-10-06","NTS Physical Flows, Glenmavis, LNG",0,null,"2009-11-18",10.136299999999999]
["2009-10-06","NTS Physical Flows, Hatfield Moor, Storage",0,null,"2009-11-19",12.08398]
["2009-10-06","NTS Physical Flows, HoleHousFm, Storage",2.3110599999999999,null,"2009-11-20",11.070400000000001]
["2009-10-06","NTS Physical Flows, Hornsea, Storage",0.84555999999999998,null,"2009-11-21",28.739560000000001]
["2009-10-06","NTS Physical Flows, HumblyGrov, Storage",0.67401999999999995,null,"2009-11-22",19.41657]
["2009-10-06","NTS Physical Flows, Rough, Storage",1.5315000000000001,null,"2009-11-23",2.32918]
["2009-10-07","NTS Physical Flows, Aldbrough, Storage",0.91903999999999997,null,"2009-11-24",11.461550000000001]
["2009-10-07","NTS Physical Flows, Avonmouth, LNG",1.9599999999999999E-2,null,"2009-11-25",2.6554599999999997]
["2009-10-07","NTS Physical Flows, Glenmavis, LNG",8.4000000000000003E-4,null,"2009-11-26",2.1446199999999997]
["2009-10-07","NTS Physical Flows, Hatfield Moor, Storage",0,null,"2009-11-27",1.2135099999999999]
["2009-10-07","NTS Physical Flows, HoleHousFm, Storage",0.62117,null,"2009-11-28",2.5138000000000003]
["2009-10-07","NTS Physical Flows, Hornsea, Storage",1.66594,null,"2009-11-29",6.2582300000000002]
["2009-10-07","NTS Physical Flows, HumblyGrov, Storage",1.5525500000000001,null,"2009-11-30",1.3370299999999999]
["2009-10-07","NTS Physical Flows, Partington, LNG",0.28025,null,"2009-12-01",0.74682999999999999]
["2009-10-07","NTS Physical Flows, Rough, Storage",1.7087000000000001,null,"2009-12-02",11.33182]
["2009-10-08","NTS Physical Flows, Aldbrough, Storage",0,null,"2009-12-03",1.8120699999999998]
["2009-10-08","NTS Physical Flows, Avonmouth, LNG",1.9599999999999999E-2,null,"2009-12-04",1.3833299999999999]
["2009-10-08","NTS Physical Flows, Glenmavis, LNG",8.4000000000000003E-4,null,"2009-12-05",{"$f":"SUMIF(A$3:A$3287,E68,C$3:C$3287)","v":4.9568000000000003}]
["2009-10-08","NTS Physical Flows, Hatfield Moor, Storage",0,null,"2009-12-06",14.698569999999998]
["2009-10-08","NTS Physical Flows, HoleHousFm, Storage",0.53488000000000002,null,"2009-12-07",3.45749]
["2009-10-08","NTS Physical Flows, Hornsea, Storage",1.2274099999999999,null,"2009-12-08",6.4618000000000002]
["2009-10-08","NTS Physical Flows, HumblyGrov, Storage",0.87189000000000005,null,"2009-12-09",6.8145999999999995]
["2009-10-08","NTS Physical Flows, Partington, LNG",0.28758,null,"2009-12-10",4.3927000000000005]
["2009-10-08","NTS Physical Flows, Rough, Storage",1.8065,null,"2009-12-11",2.1415199999999999]
["2009-10-09","NTS Physical Flows, HumblyGrov, Storage",0.61831000000000003,null,"2009-12-12",4.7599099999999996]
["2009-10-09","NTS Physical Flows, Aldbrough, Storage",2.9E-4,null,"2009-12-13",4.6008100000000001]
["2009-10-09","NTS Physical Flows, Rough, Storage",4.7750000000000004,null,"2009-12-14",1.9119699999999999]
["2009-10-09","NTS Physical Flows, Partington, LNG",0.28025,null,"2009-12-15",1.39836]
["2009-10-09","NTS Physical Flows, Hornsea, Storage",1.07379,null,"2009-12-16",0.32493]
["2009-10-09","NTS Physical Flows, HoleHousFm, Storage",0,null,"2009-12-17",0.58929999999999993]
["2009-10-09","NTS Physical Flows, Glenmavis, LNG",8.4000000000000003E-4,null,"2009-12-18",0.43362000000000001]
["2009-10-09","NTS Physical Flows, Hatfield Moor, Storage",0,null,"2009-12-19",1.9656199999999999]
["2009-10-09","NTS Physical Flows, Avonmouth, LNG",1.9599999999999999E-2,null,"2009-12-20",2.3465099999999999]
["2009-10-10","NTS Physical Flows, HoleHousFm, Storage",3.0349599999999999,null,"2009-12-21",1.87181]
["2009-10-10","NTS Physical Flows, Aldbrough, Storage",4.3829599999999997,null,"2009-12-22",6.2046700000000001]
["2009-10-10","NTS Physical Flows, Avonmouth, LNG",1.9599999999999999E-2,null,"2009-12-23",2.9844500000000003]
["2009-10-10","NTS Physical Flows, Glenmavis, LNG",8.4000000000000003E-4,null,"2009-12-24",4.5677900000000005]
["2009-10-10","NTS Physical Flows, Hatfield Moor, Storage",1.2965,null,"2009-12-25",11.20665]
["2009-10-10","NTS Physical Flows, Hornsea, Storage",1.10873,null,"2009-12-26",24.914089999999998]
["2009-10-10","NTS Physical Flows, HumblyGrov, Storage",6.4495699999999996,null,"2009-12-27",17.19275]
["2009-10-10","NTS Physical Flows, Partington, LNG",0.28350999999999998,null,"2009-12-28",7.4090600000000002]
["2009-10-10","NTS Physical Flows, Rough, Storage",9.7073999999999998,null,"2009-12-29",16.565889999999996]
["2009-10-11","NTS Physical Flows, Aldbrough, Storage",3.3971100000000001,null,"2009-12-30",23.973089999999999]
["2009-10-11","NTS Physical Flows, Avonmouth, LNG",1.9599999999999999E-2,null,"2009-12-31",12.57213]
["2009-10-11","NTS Physical Flows, Glenmavis, LNG",8.4000000000000003E-4,null,"2010-01-01",3.7705800000000003]
["2009-10-11","NTS Physical Flows, Hornsea, Storage",1.1336299999999999,null,"2010-01-02",1.8601800000000002]
["2009-10-11","NTS Physical Flows, HumblyGrov, Storage",2.39541,null,"2010-01-03",5.9900999999999991]
["2009-10-11","NTS Physical Flows, Partington, LNG",0.29814000000000002,null,"2010-01-04",5.3759800000000002]
["2009-10-11","NTS Physical Flows, Hatfield Moor, Storage",1.4458,null,"2010-01-05",0.66344999999999998]
["2009-10-11","NTS Physical Flows, HoleHousFm, Storage",3.4181699999999999,null,"2010-01-06",4.2601100000000001]
["2009-10-11","NTS Physical Flows, Rough, Storage",9.1471999999999998,null,"2010-01-07",0.97845000000000004]
["2009-10-12","NTS Physical Flows, Aldbrough, Storage",1.3799999999999999E-3,null,"2010-01-08",2.2148600000000003]
["2009-10-12","NTS Physical Flows, Avonmouth, LNG",1.9599999999999999E-2,null,"2010-01-09",4.3842100000000004]
["2009-10-12","NTS Physical Flows, Glenmavis, LNG",8.4000000000000003E-4,null,"2010-01-10",7.9029999999999996]
["2009-10-12","NTS Physical Flows, Hatfield Moor, Storage",0.6008,null,"2010-01-11",2.2619199999999999]
["2009-10-12","NTS Physical Flows, HoleHousFm, Storage",0.38068999999999997,null,"2010-01-12",8.16995]
["2009-10-12","NTS Physical Flows, Hornsea, Storage",1.0843100000000001,null,"2010-01-13",7.1540499999999998]
["2009-10-12","NTS Physical Flows, HumblyGrov, Storage",0.66239999999999999,null,"2010-01-14",2.0718000000000001]
["2009-10-12","NTS Physical Flows, Partington, LNG",0.27849000000000002,null,"2010-01-15",11.20599]
["2009-10-12","NTS Physical Flows, Rough, Storage",2.6549,null,"2010-01-16",8.2834199999999996]
["2009-10-13","NTS Physical Flows, Aldbrough, Storage",0.81847000000000003,null,"2010-01-17",10.462199999999999]
["2009-10-13","NTS Physical Flows, Avonmouth, LNG",1.9599999999999999E-2,null,"2010-01-18",12.99126]
["2009-10-13","NTS Physical Flows, Glenmavis, LNG",8.4000000000000003E-4,null,"2010-01-19",11.196109999999999]
["2009-10-13","NTS Physical Flows, Hatfield Moor, Storage",0.37340000000000001,null,"2010-01-20",5.2863100000000003]
["2009-10-13","NTS Physical Flows, HoleHousFm, Storage",0.11126999999999999,null,"2010-01-21",12.705929999999999]
["2009-10-13","NTS Physical Flows, Hornsea, Storage",1.0289299999999999,null,"2010-01-22",8.7923399999999994]
["2009-10-13","NTS Physical Flows, HumblyGrov, Storage",0,null,"2010-01-23",12.612400000000001]
["2009-10-13","NTS Physical Flows, Partington, LNG",0.27445000000000003,null,"2010-01-24",12.864649999999999]
["2009-10-13","NTS Physical Flows, Rough, Storage",0.50590000000000002,null,"2010-01-25",5.0131600000000001]
["2009-10-14","NTS Physical Flows, Aldbrough, Storage",1.8609599999999999,null,"2010-01-26",0.22877999999999998]
["2009-10-14","NTS Physical Flows, Avonmouth, LNG",4.4200000000000003E-3,null,"2010-01-27",9.7821499999999997]
["2009-10-14","NTS Physical Flows, Glenmavis, LNG",4.1799999999999997E-3,null,"2010-01-28",13.7956]
["2009-10-14","NTS Physical Flows, Hatfield Moor, Storage",0.5645,null,"2010-01-29",20.343730000000001]
["2009-10-14","NTS Physical Flows, HoleHousFm, Storage",0.26837,null,"2010-01-30",20.459559999999996]
["2009-10-14","NTS Physical Flows, Hornsea, Storage",0.68691000000000002,null,"2010-01-31",9.4499199999999988]
["2009-10-14","NTS Physical Flows, HumblyGrov, Storage",0,null,"2010-02-01",2.5332699999999999]
["2009-10-14","NTS Physical Flows, Partington, LNG",0.29077999999999998,null,"2010-02-02",4.81182]
["2009-10-14","NTS Physical Flows, Rough, Storage",1.6006,null,"2010-02-03",8.6815099999999994]
["2009-10-15","NTS Physical Flows, Aldbrough, Storage",0.99685000000000001,null,"2010-02-04",10.338039999999999]
["2009-10-15","NTS Physical Flows, Avonmouth, LNG",4.4200000000000003E-3,null,"2010-02-05",13.780490000000002]
["2009-10-15","NTS Physical Flows, Glenmavis, LNG",4.1799999999999997E-3,null,"2010-02-06",14.972209999999999]
["2009-10-15","NTS Physical Flows, Hornsea, Storage",0.52444000000000002,null,"2010-02-07",{"$f":"SUMIF(A$3:A$3287,E132,C$3:C$3287)","v":5.5735999999999999}]
["2009-10-15","NTS Physical Flows, HumblyGrov, Storage",0,null,"2010-02-08",0.34546000000000004]
["2009-10-15","NTS Physical Flows, Partington, LNG",0.28260999999999997,null,"2010-02-09",0.23629]
["2009-10-15","NTS Physical Flows, Hatfield Moor, Storage",0.38429999999999997,null,"2010-02-10",1.05701]
["2009-10-15","NTS Physical Flows, HoleHousFm, Storage",0.26860000000000001,null,"2010-02-11",0.19658999999999999]
["2009-10-15","NTS Physical Flows, Rough, Storage",3.0514999999999999,null,"2010-02-12",0.24088999999999999]
["2009-10-16","NTS Physical Flows, HumblyGrov, Storage",0,null,"2010-02-13",1.98851]
["2009-10-16","NTS Physical Flows, Rough, Storage",1.1573,null,"2010-02-14",2.0155799999999999]
["2009-10-16","NTS Physical Flows, Aldbrough, Storage",3.1140400000000001,null,"2010-02-15",1.7682199999999999]
["2009-10-16","NTS Physical Flows, Avonmouth, LNG",9.6000000000000002E-4,null,"2010-02-16",0.20115]
["2009-10-16","NTS Physical Flows, Glenmavis, LNG",6.13E-3,null,"2010-02-17",0.69728000000000001]
["2009-10-16","NTS Physical Flows, Hatfield Moor, Storage",0,null,"2010-02-18",2.46888]
["2009-10-16","NTS Physical Flows, HoleHousFm, Storage",6.0019999999999997E-2,null,"2010-02-19",4.11531]
["2009-10-16","NTS Physical Flows, Hornsea, Storage",0.39990999999999999,null,"2010-02-20",3.5710500000000005]
["2009-10-16","NTS Physical Flows, Partington, LNG",8.7520000000000001E-2,null,"2010-02-21",3.0817800000000002]
["2009-10-17","NTS Physical Flows, Aldbrough, Storage",0.82626999999999995,null,"2010-02-22",1.78471]
["2009-10-17","NTS Physical Flows, Avonmouth, LNG",9.6000000000000002E-4,null,"2010-02-23",2.78545]
["2009-10-17","NTS Physical Flows, Glenmavis, LNG",8.5889999999999994E-2,null,"2010-02-24",1.4622799999999998]
["2009-10-17","NTS Physical Flows, Hatfield Moor, Storage",0,null,"2010-02-25",9.3888099999999994]
["2009-10-17","NTS Physical Flows, HoleHousFm, Storage",0.30786999999999998,null,"2010-02-26",2.9382799999999998]
["2009-10-17","NTS Physical Flows, Hornsea, Storage",0.59184000000000003,null,"2010-02-27",12.5449]
["2009-10-17","NTS Physical Flows, HumblyGrov, Storage",2.41147,null,"2010-02-28",11.848750000000001]
["2009-10-17","NTS Physical Flows, Partington, LNG",0.27854000000000001,null,"2010-03-01",10.209980000000002]
["2009-10-17","NTS Physical Flows, Rough, Storage",0.30370000000000003,null,"2010-03-02",0.89800000000000002]
["2009-10-18","NTS Physical Flows, Aldbrough, Storage",0,null,"2010-03-03",1.1774200000000001]
["2009-10-18","NTS Physical Flows, Avonmouth, LNG",0,null,"2010-03-04",4.4728599999999998]
["2009-10-18","NTS Physical Flows, Glenmavis, LNG",8.5889999999999994E-2,null,"2010-03-05",3.5353699999999999]
["2009-10-18","NTS Physical Flows, Hatfield Moor, Storage",0,null,"2010-03-06",0.45395000000000002]
["2009-10-18","NTS Physical Flows, HoleHousFm, Storage",0.41215000000000002,null,"2010-03-07",1.5077400000000001]
["2009-10-18","NTS Physical Flows, Hornsea, Storage",0.57726,null,"2010-03-08",0.60330000000000006]
["2009-10-18","NTS Physical Flows, HumblyGrov, Storage",2.0573999999999999,null,"2010-03-09",0.17577000000000001]
["2009-10-18","NTS Physical Flows, Partington, LNG",0.28261999999999998,null,"2010-03-10",2.7527400000000002]
["2009-10-18","NTS Physical Flows, Rough, Storage",0.27950000000000003,null,"2010-03-11",1.74237]
["2009-10-19","NTS Physical Flows, Aldbrough, Storage",1.231E-2,null,"2010-03-12",4.0640099999999997]
["2009-10-19","NTS Physical Flows, Avonmouth, LNG",0,null,"2010-03-13",3.7160699999999998]
["2009-10-19","NTS Physical Flows, Glenmavis, LNG",8.4029999999999994E-2,null,"2010-03-14",3.00943]
["2009-10-19","NTS Physical Flows, Hatfield Moor, Storage",0,null,"2010-03-15",2.3274499999999998]
["2009-10-19","NTS Physical Flows, HoleHousFm, Storage",0,null,"2010-03-16",3.7483799999999996]
["2009-10-19","NTS Physical Flows, Hornsea, Storage",0.44098999999999999,null,"2010-03-17",4.43994]
["2009-10-19","NTS Physical Flows, HumblyGrov, Storage",0.70908000000000004,null,"2010-03-18",10.739650000000001]
["2009-10-19","NTS Physical Flows, Partington, LNG",0.27527000000000001,null,"2010-03-19",36.378610000000002]
["2009-10-19","NTS Physical Flows, Rough, Storage",1.0125999999999999,null,"2010-03-20",30.584589999999999]
["2009-10-20","NTS Physical Flows, Aldbrough, Storage",0.82523999999999997,null,"2010-03-21",32.300379999999997]
["2009-10-20","NTS Physical Flows, Avonmouth, LNG",0,null,"2010-03-22",25.317609999999998]
["2009-10-20","NTS Physical Flows, Glenmavis, LNG",8.4029999999999994E-2,null,"2010-03-23",17.016469999999998]
["2009-10-20","NTS Physical Flows, Hatfield Moor, Storage",0,null,"2010-03-24",31.18873]
["2009-10-20","NTS Physical Flows, HoleHousFm, Storage",0,null,"2010-03-25",32.789369999999998]
["2009-10-20","NTS Physical Flows, Hornsea, Storage",0,null,"2010-03-26",32.29278]
["2009-10-20","NTS Physical Flows, HumblyGrov, Storage",0,null,"2010-03-27",45.815429999999999]
["2009-10-20","NTS Physical Flows, Partington, LNG",0.24751000000000001,null,"2010-03-28",46.592049999999993]
["2009-10-20","NTS Physical Flows, Rough, Storage",0,null,"2010-03-29",31.342390000000002]
["2009-10-21","NTS Physical Flows, Aldbrough, Storage",2.5457100000000001,null,"2010-03-30",19.0916]
["2009-10-21","NTS Physical Flows, Avonmouth, LNG",0,null,"2010-03-31",12.21707]
["2009-10-21","NTS Physical Flows, Glenmavis, LNG",8.3949999999999997E-2,null,"2010-04-01",17.400400000000001]
["2009-10-21","NTS Physical Flows, Hornsea, Storage",0.63504000000000005,null,"2010-04-02",14.40902]
["2009-10-21","NTS Physical Flows, HumblyGrov, Storage",4.1454599999999999,null,"2010-04-03",21.651240000000001]
["2009-10-21","NTS Physical Flows, Partington, LNG",0.27038000000000001,null,"2010-04-04",22.842230000000001]
["2009-10-21","NTS Physical Flows, Hatfield Moor, Storage",0,null,"2010-04-05",25.29721]
["2009-10-21","NTS Physical Flows, HoleHousFm, Storage",0,null,"2010-04-06",22.025480000000002]
["2009-10-21","NTS Physical Flows, Rough, Storage",2.2955999999999999,null,"2010-04-07",11.455359999999999]
["2009-10-22","NTS Physical Flows, Aldbrough, Storage",0.95918999999999999,null,"2010-04-08",6.7267799999999998]
["2009-10-22","NTS Physical Flows, Avonmouth, LNG",0,null,"2010-04-09",29.318739999999998]
["2009-10-22","NTS Physical Flows, Glenmavis, LNG",8.3949999999999997E-2,null,"2010-04-10",41.016779999999997]
["2009-10-22","NTS Physical Flows, Hatfield Moor, Storage",0,null,"2010-04-11",37.737520000000004]
["2009-10-22","NTS Physical Flows, HoleHousFm, Storage",0,null,"2010-04-12",{"$f":"SUMIF(A$3:A$3287,E196,C$3:C$3287)","v":27.711759999999998}]
["2009-10-22","NTS Physical Flows, Hornsea, Storage",0.56991000000000003,null,"2010-04-13",23.700600000000001]
["2009-10-22","NTS Physical Flows, HumblyGrov, Storage",0,null,"2010-04-14",19.662099999999999]
["2009-10-22","NTS Physical Flows, Partington, LNG",0.27117000000000002,null,"2010-04-15",26.740639999999999]
["2009-10-22","NTS Physical Flows, Rough, Storage",3.2010999999999998,null,"2010-04-16",42.141970000000001]
["2009-10-23","NTS Physical Flows, Partington, LNG",0.22791,null,"2010-04-17",44.63644]
["2009-10-23","NTS Physical Flows, Aldbrough, Storage",1.09432,null,"2010-04-18",39.529879999999999]
["2009-10-23","NTS Physical Flows, Avonmouth, LNG",0,null,"2010-04-19",30.978119999999997]
["2009-10-23","NTS Physical Flows, Glenmavis, LNG",8.3949999999999997E-2,null,"2010-04-20",30.40521]
["2009-10-23","NTS Physical Flows, Hatfield Moor, Storage",0.69130000000000003,null,"2010-04-21",30.711320000000001]
["2009-10-23","NTS Physical Flows, HoleHousFm, Storage",0.36303000000000002,null,"2010-04-22",42.328800000000001]
["2009-10-23","NTS Physical Flows, Hornsea, Storage",0.62121999999999999,null,"2010-04-23",39.441800000000001]
["2009-10-23","NTS Physical Flows, HumblyGrov, Storage",4.1442699999999997,null,"2010-04-24",37.399520000000003]
["2009-10-23","NTS Physical Flows, Rough, Storage",4.3082000000000003,null,"2010-04-25",34.223849999999999]
["2009-10-24","NTS Physical Flows, Aldbrough, Storage",2.1795100000000001,null,"2010-04-26",43.26146]
["2009-10-24","NTS Physical Flows, Avonmouth, LNG",1.519E-2,null,"2010-04-27",41.679940000000002]
["2009-10-24","NTS Physical Flows, Glenmavis, LNG",2.8700000000000002E-3,null,"2010-04-28",48.3733]
["2009-10-24","NTS Physical Flows, Hornsea, Storage",0.61628000000000005,null,"2010-04-29",34.64002]
["2009-10-24","NTS Physical Flows, HumblyGrov, Storage",1.6930799999999999,null,"2010-04-30",33.874960000000002]
["2009-10-24","NTS Physical Flows, Partington, LNG",0.26138,null,"2010-05-01",35.905230000000003]
["2009-10-24","NTS Physical Flows, Hatfield Moor, Storage",0.51470000000000005,null,"2010-05-02",25.008389999999999]
["2009-10-24","NTS Physical Flows, HoleHousFm, Storage",0.61534999999999995,null,"2010-05-03",12.94941]
["2009-10-24","NTS Physical Flows, Rough, Storage",5.3726000000000003,null,"2010-05-04",14.643830000000001]
["2009-10-25","NTS Physical Flows, Aldbrough, Storage",2.5993300000000001,null,"2010-05-05",22.31061]
["2009-10-25","NTS Physical Flows, Avonmouth, LNG",1.519E-2,null,"2010-05-06",22.703919999999997]
["2009-10-25","NTS Physical Flows, Glenmavis, LNG",8.3949999999999997E-2,null,"2010-05-07",17.354599999999998]
["2009-10-25","NTS Physical Flows, Hatfield Moor, Storage",0.63039999999999996,null,"2010-05-08",20.404039999999998]
["2009-10-25","NTS Physical Flows, HoleHousFm, Storage",3.54575,null,"2010-05-09",23.660089999999997]
["2009-10-25","NTS Physical Flows, Hornsea, Storage",0.69367999999999996,null,"2010-05-10",17.478840000000002]
["2009-10-25","NTS Physical Flows, HumblyGrov, Storage",2.1412399999999998,null,"2010-05-11",9.2631800000000002]
["2009-10-25","NTS Physical Flows, Partington, LNG",0.26952999999999999,null,"2010-05-12",15.233260000000001]
["2009-10-25","NTS Physical Flows, Rough, Storage",5.9215999999999998,null,"2010-05-13",19.569019999999998]
["2009-10-26","NTS Physical Flows, Aldbrough, Storage",2.53268,null,"2010-05-14",25.08184]
["2009-10-26","NTS Physical Flows, Avonmouth, LNG",1.519E-2,null,"2010-05-15",36.971069999999997]
["2009-10-26","NTS Physical Flows, Glenmavis, LNG",8.3949999999999997E-2,null,"2010-05-16",37.441330000000001]
["2009-10-26","NTS Physical Flows, Hatfield Moor, Storage",1.6164000000000001,null,"2010-05-17",35.663179999999997]
["2009-10-26","NTS Physical Flows, HoleHousFm, Storage",1.9925600000000001,null,"2010-05-18",30.861969999999999]
["2009-10-26","NTS Physical Flows, Hornsea, Storage",1.3003800000000001,null,"2010-05-19",37.833880000000001]
["2009-10-26","NTS Physical Flows, HumblyGrov, Storage",2.2198500000000001,null,"2010-05-20",45.522480000000002]
["2009-10-26","NTS Physical Flows, Partington, LNG",0.30706,null,"2010-05-21",44.576260000000005]
["2009-10-26","NTS Physical Flows, Rough, Storage",6.181,null,"2010-05-22",38.890950000000004]
["2009-10-27","NTS Physical Flows, Partington, LNG",0.30379,null,"2010-05-23",42.5154]
["2009-10-27","NTS Physical Flows, Aldbrough, Storage",0.87994000000000006,null,"2010-05-24",57.407080000000001]
["2009-10-27","NTS Physical Flows, Avonmouth, LNG",1.519E-2,null,"2010-05-25",45.19896]
["2009-10-27","NTS Physical Flows, Glenmavis, LNG",8.3949999999999997E-2,null,"2010-05-26",34.750880000000002]
["2009-10-27","NTS Physical Flows, Hatfield Moor, Storage",1.5196000000000001,null,"2010-05-27",27.588560000000001]
["2009-10-27","NTS Physical Flows, HoleHousFm, Storage",1.9941599999999999,null,"2010-05-28",28.20514]
["2009-10-27","NTS Physical Flows, Hornsea, Storage",1.4975400000000001,null,"2010-05-29",25.21077]
["2009-10-27","NTS Physical Flows, HumblyGrov, Storage",2.9758800000000001,null,"2010-05-30",25.897729999999999]
["2009-10-27","NTS Physical Flows, Rough, Storage",2.8555000000000001,null,"2010-05-31",27.05209]
["2009-10-28","NTS Physical Flows, Aldbrough, Storage",0.18498000000000001,null,"2010-06-01",16.90879]
["2009-10-28","NTS Physical Flows, Avonmouth, LNG",1.519E-2,null,"2010-06-02",25.926669999999998]
["2009-10-28","NTS Physical Flows, Glenmavis, LNG",8.4129999999999996E-2,null,"2010-06-03",36.717970000000001]
["2009-10-28","NTS Physical Flows, Hatfield Moor, Storage",1.3303,null,"2010-06-04",32.42107]
["2009-10-28","NTS Physical Flows, HoleHousFm, Storage",3.6735699999999998,null,"2010-06-05",39.86551]
["2009-10-28","NTS Physical Flows, Hornsea, Storage",1.17693,null,"2010-06-06",38.565069999999999]
["2009-10-28","NTS Physical Flows, HumblyGrov, Storage",3.8844799999999999,null,"2010-06-07",32.826610000000002]
["2009-10-28","NTS Physical Flows, Partington, LNG",0.30542000000000002,null,"2010-06-08",26.967970000000001]
["2009-10-28","NTS Physical Flows, Rough, Storage",2.0769000000000002,null,"2010-06-09",24.390740000000001]
["2009-10-29","NTS Physical Flows, Aldbrough, Storage",1.9300000000000001E-3,null,"2010-06-10",24.845140000000001]
["2009-10-29","NTS Physical Flows, Avonmouth, LNG",0,null,"2010-06-11",29.290649999999999]
["2009-10-29","NTS Physical Flows, Glenmavis, LNG",9.8430000000000004E-2,null,"2010-06-12",39.880800000000001]
["2009-10-29","NTS Physical Flows, Hatfield Moor, Storage",0.90049999999999997,null,"2010-06-13",40.027850000000001]
["2009-10-29","NTS Physical Flows, HoleHousFm, Storage",3.2101099999999998,null,"2010-06-14",33.702600000000004]
["2009-10-29","NTS Physical Flows, Hornsea, Storage",0.97899999999999998,null,"2010-06-15",{"$f":"SUMIF(A$3:A$3287,E260,C$3:C$3287)","v":34.091740000000001}]
["2009-10-29","NTS Physical Flows, HumblyGrov, Storage",0,null,"2010-06-16",27.119350000000001]
["2009-10-29","NTS Physical Flows, Partington, LNG",0.30906,null,"2010-06-17",24.598479999999999]
["2009-10-29","NTS Physical Flows, Rough, Storage",3.8288000000000002,null,"2010-06-18",24.500109999999999]
["2009-10-30","NTS Physical Flows, Aldbrough, Storage",0.60075999999999996,null,"2010-06-19",34.594949999999997]
["2009-10-30","NTS Physical Flows, Avonmouth, LNG",0,null,"2010-06-20",33.725470000000001]
["2009-10-30","NTS Physical Flows, Glenmavis, LNG",0.23527999999999999,null,"2010-06-21",32.137790000000003]
["2009-10-30","NTS Physical Flows, Hatfield Moor, Storage",1.0206,null,"2010-06-22",32.613060000000004]
["2009-10-30","NTS Physical Flows, HoleHousFm, Storage",3.83609,null,"2010-06-23",29.314039999999999]
["2009-10-30","NTS Physical Flows, Hornsea, Storage",0.94933000000000001,null,"2010-06-24",28.29036]
["2009-10-30","NTS Physical Flows, HumblyGrov, Storage",0,null,"2010-06-25",32.52234]
["2009-10-30","NTS Physical Flows, Partington, LNG",0.29793999999999998,null,"2010-06-26",34.089109999999998]
["2009-10-30","NTS Physical Flows, Rough, Storage",1.0485,null,"2010-06-27",32.273499999999999]
["2009-10-31","NTS Physical Flows, Glenmavis, LNG",0.19782,null,"2010-06-28",27.472709999999999]
["2009-10-31","NTS Physical Flows, Aldbrough, Storage",4.44374,null,"2010-06-29",26.4572]
["2009-10-31","NTS Physical Flows, Avonmouth, LNG",0,null,"2010-06-30",32.387160000000002]
["2009-10-31","NTS Physical Flows, Hatfield Moor, Storage",0.95730000000000004,null,"2010-07-01",30.96988]
["2009-10-31","NTS Physical Flows, HoleHousFm, Storage",3.1995200000000001,null,"2010-07-02",35.393600000000006]
["2009-10-31","NTS Physical Flows, Hornsea, Storage",1.1390199999999999,null,"2010-07-03",29.87107]
["2009-10-31","NTS Physical Flows, HumblyGrov, Storage",6.6797700000000004,null,"2010-07-04",32.350760000000001]
["2009-10-31","NTS Physical Flows, Partington, LNG",0.26452999999999999,null,"2010-07-05",24.844059999999999]
["2009-10-31","NTS Physical Flows, Rough, Storage",5.2447999999999997,null,"2010-07-06",28.13035]
["2009-11-01","NTS Physical Flows, HumblyGrov, Storage",6.9350399999999999,null,"2010-07-07",23.827660000000002]
["2009-11-01","NTS Physical Flows, Aldbrough, Storage",2.50718,null,"2010-07-08",24.518470000000001]
["2009-11-01","NTS Physical Flows, Avonmouth, LNG",0,null,"2010-07-09",26.339690000000001]
["2009-11-01","NTS Physical Flows, Glenmavis, LNG",0.16469,null,"2010-07-10",29.775649999999999]
["2009-11-01","NTS Physical Flows, Hatfield Moor, Storage",0.80059999999999998,null,"2010-07-11",26.937449999999998]
["2009-11-01","NTS Physical Flows, HoleHousFm, Storage",3.2389299999999999,null,"2010-07-12",25.158770000000001]
["2009-11-01","NTS Physical Flows, Hornsea, Storage",1.17784,null,"2010-07-13",17.142210000000002]
["2009-11-01","NTS Physical Flows, Partington, LNG",0.28571999999999997,null,"2010-07-14",20.096819999999997]
["2009-11-01","NTS Physical Flows, Rough, Storage",10.2012,null,"2010-07-15",20.988489999999999]
["2009-11-02","NTS Physical Flows, Aldbrough, Storage",0.55456000000000005,null,"2010-07-16",18.902380000000001]
["2009-11-02","NTS Physical Flows, Avonmouth, LNG",0,null,"2010-07-17",21.243949999999998]
["2009-11-02","NTS Physical Flows, Glenmavis, LNG",0.20402000000000001,null,"2010-07-18",26.535589999999999]
["2009-11-02","NTS Physical Flows, Hatfield Moor, Storage",0,null,"2010-07-19",17.876139999999999]
["2009-11-02","NTS Physical Flows, HoleHousFm, Storage",1.1427,null,"2010-07-20",24.343209999999999]
["2009-11-02","NTS Physical Flows, Hornsea, Storage",0.57613999999999999,null,"2010-07-21",23.706489999999999]
["2009-11-02","NTS Physical Flows, HumblyGrov, Storage",0,null,"2010-07-22",23.018219999999999]
["2009-11-02","NTS Physical Flows, Partington, LNG",0.30853999999999998,null,"2010-07-23",29.17698]
["2009-11-02","NTS Physical Flows, Rough, Storage",0.86899999999999999,null,"2010-07-24",24.644219999999997]
["2009-11-03","NTS Physical Flows, Aldbrough, Storage",0,null,"2010-07-25",20.392949999999999]
["2009-11-03","NTS Physical Flows, Avonmouth, LNG",0,null,"2010-07-26",17.483609999999999]
["2009-11-03","NTS Physical Flows, Glenmavis, LNG",0.28177000000000002,null,"2010-07-27",25.360790000000001]
["2009-11-03","NTS Physical Flows, Hatfield Moor, Storage",0,null,"2010-07-28",29.470859999999998]
["2009-11-03","NTS Physical Flows, HoleHousFm, Storage",1.0611999999999999,null,"2010-07-29",23.55247]
["2009-11-03","NTS Physical Flows, Hornsea, Storage",0.57996000000000003,null,"2010-07-30",26.849070000000001]
["2009-11-03","NTS Physical Flows, HumblyGrov, Storage",0,null,"2010-07-31",31.63175]
["2009-11-03","NTS Physical Flows, Partington, LNG",0.28654000000000002,null,"2010-08-01",20.590890000000002]
["2009-11-03","NTS Physical Flows, Rough, Storage",0.86160000000000003,null,"2010-08-02",32.469210000000004]
["2009-11-04","NTS Physical Flows, Aldbrough, Storage",0,null,"2010-08-03",30.988499999999998]
["2009-11-04","NTS Physical Flows, Avonmouth, LNG",0,null,"2010-08-04",33.228349999999999]
["2009-11-04","NTS Physical Flows, Glenmavis, LNG",0.28839999999999999,null,"2010-08-05",26.181510000000003]
["2009-11-04","NTS Physical Flows, Hatfield Moor, Storage",0,null,"2010-08-06",25.15465]
["2009-11-04","NTS Physical Flows, HoleHousFm, Storage",0,null,"2010-08-07",28.96144]
["2009-11-04","NTS Physical Flows, Hornsea, Storage",0.65717000000000003,null,"2010-08-08",33.508030000000005]
["2009-11-04","NTS Physical Flows, HumblyGrov, Storage",0,null,"2010-08-09",25.393650000000001]
["2009-11-04","NTS Physical Flows, Partington, LNG",0.29387000000000002,null,"2010-08-10",38.079710000000006]
["2009-11-04","NTS Physical Flows, Rough, Storage",2.1983999999999999,null,"2010-08-11",32.881079999999997]
["2009-11-05","NTS Physical Flows, Aldbrough, Storage",0,null,"2010-08-12",36.10727]
["2009-11-05","NTS Physical Flows, Avonmouth, LNG",0,null,"2010-08-13",34.812380000000005]
["2009-11-05","NTS Physical Flows, Glenmavis, LNG",0.29289999999999999,null,"2010-08-14",32.10566]
["2009-11-05","NTS Physical Flows, Hatfield Moor, Storage",0,null,"2010-08-15",35.750190000000003]
["2009-11-05","NTS Physical Flows, HoleHousFm, Storage",0,null,"2010-08-16",26.771850000000001]
["2009-11-05","NTS Physical Flows, Hornsea, Storage",0.65344000000000002,null,"2010-08-17",22.170270000000002]
["2009-11-05","NTS Physical Flows, HumblyGrov, Storage",0,null,"2010-08-18",{"$f":"SUMIF(A$3:A$3287,E324,C$3:C$3287)","v":24.749339999999997}]
["2009-11-05","NTS Physical Flows, Partington, LNG",0.29387000000000002,null,"2010-08-19",14.65475]
["2009-11-05","NTS Physical Flows, Rough, Storage",1.6637,null,"2010-08-20",14.888960000000001]
["2009-11-06","NTS Physical Flows, Aldbrough, Storage",0,null,"2010-08-21",7.1231299999999997]
["2009-11-06","NTS Physical Flows, Avonmouth, LNG",0,null,"2010-08-22",8.9703700000000008]
["2009-11-06","NTS Physical Flows, Glenmavis, LNG",0.30031000000000002,null,"2010-08-23",7.6954000000000002]
["2009-11-06","NTS Physical Flows, Hatfield Moor, Storage",0,null,"2010-08-24",8.18032]
["2009-11-06","NTS Physical Flows, HoleHousFm, Storage",0,null,"2010-08-25",10.475919999999999]
["2009-11-06","NTS Physical Flows, Hornsea, Storage",0.63344,null,"2010-08-26",5.5439100000000003]
["2009-11-06","NTS Physical Flows, HumblyGrov, Storage",0,null,"2010-08-27",8.4955700000000007]
["2009-11-06","NTS Physical Flows, Partington, LNG",0.30853999999999998,null,"2010-08-28",9.0883900000000004]
["2009-11-06","NTS Physical Flows, Rough, Storage",2.1501000000000001,null,"2010-08-29",9.7126699999999992]
["2009-11-07","NTS Physical Flows, Aldbrough, Storage",0,null,"2010-08-30",5.79312]
["2009-11-07","NTS Physical Flows, Avonmouth, LNG",0,null,"2010-08-31",8.4218399999999995]
["2009-11-07","NTS Physical Flows, Glenmavis, LNG",0.10712000000000001,null,"2010-09-01",12.80185]
["2009-11-07","NTS Physical Flows, Hatfield Moor, Storage",0,null,"2010-09-02",11.50018]
["2009-11-07","NTS Physical Flows, HoleHousFm, Storage",3.6730700000000001,null,"2010-09-03",23.939970000000002]
["2009-11-07","NTS Physical Flows, Hornsea, Storage",0.25867000000000001,null,"2010-09-04",29.085800000000003]
["2009-11-07","NTS Physical Flows, HumblyGrov, Storage",3.4996399999999999,null,"2010-09-05",31.434639999999998]
["2009-11-07","NTS Physical Flows, Partington, LNG",0.31261,null,"2010-09-06",17.256529999999998]
["2009-11-07","NTS Physical Flows, Rough, Storage",1.5282,null,"2010-09-07",14.639329999999999]
["2009-11-08","NTS Physical Flows, Aldbrough, Storage",0,null,"2010-09-08",14.753149999999998]
["2009-11-08","NTS Physical Flows, Avonmouth, LNG",0,null,"2010-09-09",21.17868]
["2009-11-08","NTS Physical Flows, Glenmavis, LNG",0,null,"2010-09-10",22.822029999999998]
["2009-11-08","NTS Physical Flows, Hatfield Moor, Storage",0,null,"2010-09-11",26.828630000000004]
["2009-11-08","NTS Physical Flows, HoleHousFm, Storage",0,null,"2010-09-12",21.498389999999997]
["2009-11-08","NTS Physical Flows, Hornsea, Storage",4.4999999999999997E-3,null,"2010-09-13",23.679570000000002]
["2009-11-08","NTS Physical Flows, HumblyGrov, Storage",0.53459000000000001,null,"2010-09-14",28.149819999999998]
["2009-11-08","NTS Physical Flows, Partington, LNG",0.31017,null,"2010-09-15",18.366790000000002]
["2009-11-08","NTS Physical Flows, Rough, Storage",1.1347,null,"2010-09-16",12.01566]
["2009-11-09","NTS Physical Flows, Aldbrough, Storage",0,null,"2010-09-17",10.983910000000002]
["2009-11-09","NTS Physical Flows, Avonmouth, LNG",0,null,"2010-09-18",11.799049999999999]
["2009-11-09","NTS Physical Flows, Glenmavis, LNG",0,null,"2010-09-19",13.767229999999998]
["2009-11-09","NTS Physical Flows, Hatfield Moor, Storage",0,null,"2010-09-20",7.0183799999999996]
["2009-11-09","NTS Physical Flows, HoleHousFm, Storage",0,null,"2010-09-21",11.303190000000001]
["2009-11-09","NTS Physical Flows, Hornsea, Storage",0,null,"2010-09-22",7.9920499999999999]
["2009-11-09","NTS Physical Flows, HumblyGrov, Storage",0,null,"2010-09-23",11.736370000000001]
["2009-11-09","NTS Physical Flows, Partington, LNG",0.30038999999999999,null,"2010-09-24",5.9021899999999992]
["2009-11-09","NTS Physical Flows, Rough, Storage",0.2326,null,"2010-09-25",3.9960499999999994]
["2009-11-10","NTS Physical Flows, Aldbrough, Storage",0.42177999999999999,null,"2010-09-26",3.8290100000000002]
["2009-11-10","NTS Physical Flows, Avonmouth, LNG",0,null,"2010-09-27",8.1325099999999999]
["2009-11-10","NTS Physical Flows, Glenmavis, LNG",0,null,"2010-09-28",7.3072800000000004]
["2009-11-10","NTS Physical Flows, Hatfield Moor, Storage",0,null,"2010-09-29",11.473280000000001]
["2009-11-10","NTS Physical Flows, HoleHousFm, Storage",0,null,"2010-09-30",5.2689000000000004]
["2009-11-10","NTS Physical Flows, Hornsea, Storage",0.11285000000000001]
["2009-11-10","NTS Physical Flows, HumblyGrov, Storage",0]
["2009-11-10","NTS Physical Flows, Partington, LNG",0.29469000000000001]
["2009-11-10","NTS Physical Flows, Rough, Storage",0.2157]
["2009-11-11","NTS Physical Flows, Aldbrough, Storage",0.37894]
["2009-11-11","NTS Physical Flows, Avonmouth, LNG",0]
["2009-11-11","NTS Physical Flows, Glenmavis, LNG",0]
["2009-11-11","NTS Physical Flows, Hornsea, Storage",4.4999999999999999E-4]
["2009-11-11","NTS Physical Flows, HumblyGrov, Storage",0]
["2009-11-11","NTS Physical Flows, Partington, LNG",0.28083000000000002]
["2009-11-11","NTS Physical Flows, Hatfield Moor, Storage",0]
["2009-11-11","NTS Physical Flows, HoleHousFm, Storage",0]
["2009-11-11","NTS Physical Flows, Rough, Storage",1.1479999999999999]
["2009-11-12","NTS Physical Flows, Aldbrough, Storage",0.30709999999999998]
["2009-11-12","NTS Physical Flows, Avonmouth, LNG",0]
["2009-11-12","NTS Physical Flows, Glenmavis, LNG",0]
["2009-11-12","NTS Physical Flows, Hatfield Moor, Storage",0.56179999999999997]
["2009-11-12","NTS Physical Flows, HoleHousFm, Storage",1.28345]
["2009-11-12","NTS Physical Flows, Hornsea, Storage",0.22051000000000001]
["2009-11-12","NTS Physical Flows, HumblyGrov, Storage",0]
["2009-11-12","NTS Physical Flows, Partington, LNG",0.28571999999999997]
["2009-11-12","NTS Physical Flows, Rough, Storage",1.2253000000000001]
["2009-11-13","NTS Physical Flows, Aldbrough, Storage",0.43192999999999998]
["2009-11-13","NTS Physical Flows, Avonmouth, LNG",0]
["2009-11-13","NTS Physical Flows, Glenmavis, LNG",0]
["2009-11-13","NTS Physical Flows, Hatfield Moor, Storage",1.9258]
["2009-11-13","NTS Physical Flows, HoleHousFm, Storage",6.7391699999999997]
["2009-11-13","NTS Physical Flows, Hornsea, Storage",0.21733]
["2009-11-13","NTS Physical Flows, HumblyGrov, Storage",0.78956000000000004]
["2009-11-13","NTS Physical Flows, Partington, LNG",0.29631000000000002]
["2009-11-13","NTS Physical Flows, Rough, Storage",1.7322]
["2009-11-14","NTS Physical Flows, Aldbrough, Storage",1.2386900000000001]
["2009-11-14","NTS Physical Flows, Avonmouth, LNG",0]
["2009-11-14","NTS Physical Flows, Glenmavis, LNG",2.2799999999999999E-3]
["2009-11-14","NTS Physical Flows, Hatfield Moor, Storage",0.1898]
["2009-11-14","NTS Physical Flows, HoleHousFm, Storage",0.52688999999999997]
["2009-11-14","NTS Physical Flows, Hornsea, Storage",0.13478000000000001]
["2009-11-14","NTS Physical Flows, HumblyGrov, Storage",0.99287000000000003]
["2009-11-14","NTS Physical Flows, Partington, LNG",0.30282999999999999]
["2009-11-14","NTS Physical Flows, Rough, Storage",2.5897999999999999]
["2009-11-15","NTS Physical Flows, Aldbrough, Storage",0.44407999999999997]
["2009-11-15","NTS Physical Flows, Avonmouth, LNG",0]
["2009-11-15","NTS Physical Flows, Glenmavis, LNG",0.20019999999999999]
["2009-11-15","NTS Physical Flows, Hatfield Moor, Storage",0]
["2009-11-15","NTS Physical Flows, HoleHousFm, Storage",0]
["2009-11-15","NTS Physical Flows, Hornsea, Storage",0.11663999999999999]
["2009-11-15","NTS Physical Flows, HumblyGrov, Storage",4.9915799999999999]
["2009-11-15","NTS Physical Flows, Partington, LNG",0.29060999999999998]
["2009-11-15","NTS Physical Flows, Rough, Storage",2.9096000000000002]
["2009-11-16","NTS Physical Flows, Aldbrough, Storage",1.8816299999999999]
["2009-11-16","NTS Physical Flows, Avonmouth, LNG",0]
["2009-11-16","NTS Physical Flows, Partington, LNG",0.29224]
["2009-11-16","NTS Physical Flows, Glenmavis, LNG",0.30824000000000001]
["2009-11-16","NTS Physical Flows, Hatfield Moor, Storage",0.6038]
["2009-11-16","NTS Physical Flows, HoleHousFm, Storage",0]
["2009-11-16","NTS Physical Flows, Hornsea, Storage",0.14521000000000001]
["2009-11-16","NTS Physical Flows, HumblyGrov, Storage",2.8540000000000001]
["2009-11-16","NTS Physical Flows, Rough, Storage",4.5552000000000001]
["2009-11-17","NTS Physical Flows, Avonmouth, LNG",0]
["2009-11-17","NTS Physical Flows, Aldbrough, Storage",0.44557999999999998]
["2009-11-17","NTS Physical Flows, Glenmavis, LNG",0.32296999999999998]
["2009-11-17","NTS Physical Flows, Partington, LNG",0.29143000000000002]
["2009-11-17","NTS Physical Flows, Hatfield Moor, Storage",0]
["2009-11-17","NTS Physical Flows, HoleHousFm, Storage",0.84175999999999995]
["2009-11-17","NTS Physical Flows, Hornsea, Storage",0.22370999999999999]
["2009-11-17","NTS Physical Flows, HumblyGrov, Storage",0.74270000000000003]
["2009-11-17","NTS Physical Flows, Rough, Storage",3.694,null,null,null,{"$f":"SUM(C426:C434)","v":6.5621499999999999}]
["2009-11-18","NTS Physical Flows, Aldbrough, Storage",0.43106]
["2009-11-18","NTS Physical Flows, Avonmouth, LNG",0]
["2009-11-18","NTS Physical Flows, Glenmavis, LNG",0.30012]
["2009-11-18","NTS Physical Flows, Hatfield Moor, Storage",7.8100000000000003E-2]
["2009-11-18","NTS Physical Flows, HoleHousFm, Storage",3.3094399999999999]
["2009-11-18","NTS Physical Flows, Hornsea, Storage",0.13416]
["2009-11-18","NTS Physical Flows, HumblyGrov, Storage",0]
["2009-11-18","NTS Physical Flows, Partington, LNG",0.28571999999999997]
["2009-11-18","NTS Physical Flows, Rough, Storage",5.5976999999999997]
["2009-11-19","NTS Physical Flows, Aldbrough, Storage",2.3186599999999999]
["2009-11-19","NTS Physical Flows, Avonmouth, LNG",0]
["2009-11-19","NTS Physical Flows, Glenmavis, LNG",0.33426]
["2009-11-19","NTS Physical Flows, Hatfield Moor, Storage",0.75560000000000005]
["2009-11-19","NTS Physical Flows, HoleHousFm, Storage",3.7101000000000002]
["2009-11-19","NTS Physical Flows, Hornsea, Storage",1.234]
["2009-11-19","NTS Physical Flows, HumblyGrov, Storage",0]
["2009-11-19","NTS Physical Flows, Partington, LNG",0.32075999999999999]
["2009-11-19","NTS Physical Flows, Rough, Storage",3.4106000000000001]
["2009-11-20","NTS Physical Flows, Aldbrough, Storage",1.11713]
["2009-11-20","NTS Physical Flows, Avonmouth, LNG",0]
["2009-11-20","NTS Physical Flows, Glenmavis, LNG",0.34783999999999998]
["2009-11-20","NTS Physical Flows, Hatfield Moor, Storage",1.2013]
["2009-11-20","NTS Physical Flows, HoleHousFm, Storage",6.60025]
["2009-11-20","NTS Physical Flows, Hornsea, Storage",0.44499]
["2009-11-20","NTS Physical Flows, HumblyGrov, Storage",0]
["2009-11-20","NTS Physical Flows, Partington, LNG",8.6889999999999995E-2]
["2009-11-20","NTS Physical Flows, Rough, Storage",1.272]
["2009-11-21","NTS Physical Flows, Aldbrough, Storage",2.9259400000000002]
["2009-11-21","NTS Physical Flows, Avonmouth, LNG",0]
["2009-11-21","NTS Physical Flows, Glenmavis, LNG",0.32218000000000002]
["2009-11-21","NTS Physical Flows, Hatfield Moor, Storage",1.3757999999999999]
["2009-11-21","NTS Physical Flows, HoleHousFm, Storage",10.61355]
["2009-11-21","NTS Physical Flows, Hornsea, Storage",1.3042]
["2009-11-21","NTS Physical Flows, HumblyGrov, Storage",8.3407900000000001]
["2009-11-21","NTS Physical Flows, Partington, LNG",0]
["2009-11-21","NTS Physical Flows, Rough, Storage",3.8571]
["2009-11-22","NTS Physical Flows, Aldbrough, Storage",2.3329]
["2009-11-22","NTS Physical Flows, Avonmouth, LNG",0]
["2009-11-22","NTS Physical Flows, Glenmavis, LNG",0.33712999999999999]
["2009-11-22","NTS Physical Flows, Hatfield Moor, Storage",1.1842999999999999]
["2009-11-22","NTS Physical Flows, HoleHousFm, Storage",3.9182299999999999]
["2009-11-22","NTS Physical Flows, Hornsea, Storage",0.49397000000000002]
["2009-11-22","NTS Physical Flows, HumblyGrov, Storage",8.2522400000000005]
["2009-11-22","NTS Physical Flows, Partington, LNG",0]
["2009-11-22","NTS Physical Flows, Rough, Storage",2.8978000000000002]
["2009-11-23","NTS Physical Flows, Aldbrough, Storage",0.85289000000000004]
["2009-11-23","NTS Physical Flows, Avonmouth, LNG",0]
["2009-11-23","NTS Physical Flows, Glenmavis, LNG",0.33156999999999998]
["2009-11-23","NTS Physical Flows, Hatfield Moor, Storage",0.35360000000000003]
["2009-11-23","NTS Physical Flows, HoleHousFm, Storage",0]
["2009-11-23","NTS Physical Flows, Hornsea, Storage",0.18532000000000001]
["2009-11-23","NTS Physical Flows, HumblyGrov, Storage",0]
["2009-11-23","NTS Physical Flows, Partington, LNG",0]
["2009-11-23","NTS Physical Flows, Rough, Storage",0.60580000000000001]
["2009-11-24","NTS Physical Flows, Aldbrough, Storage",0.36686000000000002]
["2009-11-24","NTS Physical Flows, Avonmouth, LNG",0]
["2009-11-24","NTS Physical Flows, Glenmavis, LNG",0.33690999999999999]
["2009-11-24","NTS Physical Flows, Hornsea, Storage",0.30508999999999997]
["2009-11-24","NTS Physical Flows, HumblyGrov, Storage",3.7642199999999999]
["2009-11-24","NTS Physical Flows, Partington, LNG",0]
["2009-11-24","NTS Physical Flows, Hatfield Moor, Storage",0.78280000000000005]
["2009-11-24","NTS Physical Flows, HoleHousFm, Storage",4.26647]
["2009-11-24","NTS Physical Flows, Rough, Storage",1.6392]
["2009-11-25","NTS Physical Flows, Aldbrough, Storage",0.44449]
["2009-11-25","NTS Physical Flows, Avonmouth, LNG",0]
["2009-11-25","NTS Physical Flows, Glenmavis, LNG",0.3352]
["2009-11-25","NTS Physical Flows, Hatfield Moor, Storage",0.11409999999999999]
["2009-11-25","NTS Physical Flows, HoleHousFm, Storage",0]
["2009-11-25","NTS Physical Flows, Hornsea, Storage",0.16456999999999999]
["2009-11-25","NTS Physical Flows, HumblyGrov, Storage",0]
["2009-11-25","NTS Physical Flows, Partington, LNG",0]
["2009-11-25","NTS Physical Flows, Rough, Storage",1.5971]
["2009-11-26","NTS Physical Flows, Aldbrough, Storage",0.67857000000000001]
["2009-11-26","NTS Physical Flows, Avonmouth, LNG",0]
["2009-11-26","NTS Physical Flows, Glenmavis, LNG",0.33395999999999998]
["2009-11-26","NTS Physical Flows, Hatfield Moor, Storage",0]
["2009-11-26","NTS Physical Flows, HoleHousFm, Storage",0]
["2009-11-26","NTS Physical Flows, Hornsea, Storage",1.1900000000000001E-3]
["2009-11-26","NTS Physical Flows, HumblyGrov, Storage",0]
["2009-11-26","NTS Physical Flows, Partington, LNG",0]
["2009-11-26","NTS Physical Flows, Rough, Storage",1.1309]
["2009-11-27","NTS Physical Flows, Aldbrough, Storage",0.35993000000000003]
["2009-11-27","NTS Physical Flows, Avonmouth, LNG",0]
["2009-11-27","NTS Physical Flows, Glenmavis, LNG",0.34177000000000002]
["2009-11-27","NTS Physical Flows, Hatfield Moor, Storage",0]
["2009-11-27","NTS Physical Flows, HoleHousFm, Storage",0]
["2009-11-27","NTS Physical Flows, Hornsea, Storage",2.4099999999999998E-3]
["2009-11-27","NTS Physical Flows, HumblyGrov, Storage",0]
["2009-11-27","NTS Physical Flows, Partington, LNG",0]
["2009-11-27","NTS Physical Flows, Rough, Storage",0.50939999999999996]
["2009-11-28","NTS Physical Flows, Aldbrough, Storage",0.36083999999999999]
["2009-11-28","NTS Physical Flows, Avonmouth, LNG",0]
["2009-11-28","NTS Physical Flows, Glenmavis, LNG",0.33028999999999997]
["2009-11-28","NTS Physical Flows, Hatfield Moor, Storage",0]
["2009-11-28","NTS Physical Flows, HoleHousFm, Storage",0.82189999999999996]
["2009-11-28","NTS Physical Flows, Hornsea, Storage",0.70406999999999997]
["2009-11-28","NTS Physical Flows, HumblyGrov, Storage",0]
["2009-11-28","NTS Physical Flows, Partington, LNG",0]
["2009-11-28","NTS Physical Flows, Rough, Storage",0.29670000000000002]
["2009-11-29","NTS Physical Flows, Glenmavis, LNG",0.34837000000000001]
["2009-11-29","NTS Physical Flows, Aldbrough, Storage",0.36094999999999999]
["2009-11-29","NTS Physical Flows, Avonmouth, LNG",0]
["2009-11-29","NTS Physical Flows, Hatfield Moor, Storage",0.31059999999999999]
["2009-11-29","NTS Physical Flows, HoleHousFm, Storage",2.69075]
["2009-11-29","NTS Physical Flows, Hornsea, Storage",1.4080600000000001]
["2009-11-29","NTS Physical Flows, HumblyGrov, Storage",0]
["2009-11-29","NTS Physical Flows, Partington, LNG",0]
["2009-11-29","NTS Physical Flows, Rough, Storage",1.1395]
["2009-11-30","NTS Physical Flows, Aldbrough, Storage",0.36498999999999998]
["2009-11-30","NTS Physical Flows, Avonmouth, LNG",0]
["2009-11-30","NTS Physical Flows, Glenmavis, LNG",0.33585999999999999]
["2009-11-30","NTS Physical Flows, Hatfield Moor, Storage",0]
["2009-11-30","NTS Physical Flows, HoleHousFm, Storage",0]
["2009-11-30","NTS Physical Flows, Hornsea, Storage",0.28767999999999999]
["2009-11-30","NTS Physical Flows, HumblyGrov, Storage",0]
["2009-11-30","NTS Physical Flows, Partington, LNG",0]
["2009-11-30","NTS Physical Flows, Rough, Storage",0.34849999999999998]
["2009-12-01","NTS Physical Flows, Aldbrough, Storage",0.40273999999999999]
["2009-12-01","NTS Physical Flows, Avonmouth, LNG",0]
["2009-12-01","NTS Physical Flows, Glenmavis, LNG",0.33250999999999997]
["2009-12-01","NTS Physical Flows, Hatfield Moor, Storage",0]
["2009-12-01","NTS Physical Flows, HoleHousFm, Storage",0]
["2009-12-01","NTS Physical Flows, Hornsea, Storage",1.158E-2]
["2009-12-01","NTS Physical Flows, HumblyGrov, Storage",0]
["2009-12-01","NTS Physical Flows, Partington, LNG",0]
["2009-12-01","NTS Physical Flows, Rough, Storage",0]
["2009-12-02","NTS Physical Flows, Avonmouth, LNG",0]
["2009-12-02","NTS Physical Flows, Glenmavis, LNG",0.34010000000000001]
["2009-12-02","NTS Physical Flows, Partington, LNG",0]
["2009-12-02","NTS Physical Flows, Aldbrough, Storage",1.9569099999999999]
["2009-12-02","NTS Physical Flows, Hatfield Moor, Storage",0.3251]
["2009-12-02","NTS Physical Flows, HoleHousFm, Storage",4.98977]
["2009-12-02","NTS Physical Flows, Hornsea, Storage",0.56567999999999996]
["2009-12-02","NTS Physical Flows, HumblyGrov, Storage",2.7730600000000001]
["2009-12-02","NTS Physical Flows, Rough, Storage",0.38119999999999998]
["2009-12-03","NTS Physical Flows, Aldbrough, Storage",0.44553999999999999]
["2009-12-03","NTS Physical Flows, Avonmouth, LNG",0]
["2009-12-03","NTS Physical Flows, Glenmavis, LNG",0.33968999999999999]
["2009-12-03","NTS Physical Flows, Hatfield Moor, Storage",0]
["2009-12-03","NTS Physical Flows, HoleHousFm, Storage",0]
["2009-12-03","NTS Physical Flows, Hornsea, Storage",0.25624000000000002]
["2009-12-03","NTS Physical Flows, HumblyGrov, Storage",0]
["2009-12-03","NTS Physical Flows, Partington, LNG",0]
["2009-12-03","NTS Physical Flows, Rough, Storage",0.77059999999999995]
["2009-12-04","NTS Physical Flows, HumblyGrov, Storage",0]
["2009-12-04","NTS Physical Flows, Aldbrough, Storage",0.44008999999999998]
["2009-12-04","NTS Physical Flows, Glenmavis, LNG",0.34348000000000001]
["2009-12-04","NTS Physical Flows, Hatfield Moor, Storage",0]
["2009-12-04","NTS Physical Flows, HoleHousFm, Storage",0]
["2009-12-04","NTS Physical Flows, Hornsea, Storage",7.1160000000000001E-2]
["2009-12-04","NTS Physical Flows, Partington, LNG",0]
["2009-12-04","NTS Physical Flows, Rough, Storage",0.52859999999999996]
["2009-12-04","NTS Physical Flows, Avonmouth, LNG",0]
["2009-12-05","NTS Physical Flows, Aldbrough, Storage",3.2452299999999998]
["2009-12-05","NTS Physical Flows, Avonmouth, LNG",0]
["2009-12-05","NTS Physical Flows, Glenmavis, LNG",0.32923000000000002]
["2009-12-05","NTS Physical Flows, Hatfield Moor, Storage",0]
["2009-12-05","NTS Physical Flows, HoleHousFm, Storage",0]
["2009-12-05","NTS Physical Flows, Hornsea, Storage",1.03914]
["2009-12-05","NTS Physical Flows, HumblyGrov, Storage",0]
["2009-12-05","NTS Physical Flows, Partington, LNG",0]
["2009-12-05","NTS Physical Flows, Rough, Storage",0.34320000000000001]
["2009-12-06","NTS Physical Flows, Aldbrough, Storage",3.9101499999999998]
["2009-12-06","NTS Physical Flows, Avonmouth, LNG",0]
["2009-12-06","NTS Physical Flows, Glenmavis, LNG",0.33849000000000001]
["2009-12-06","NTS Physical Flows, Hatfield Moor, Storage",0.22700000000000001]
["2009-12-06","NTS Physical Flows, HoleHousFm, Storage",7.5294499999999998]
["2009-12-06","NTS Physical Flows, Hornsea, Storage",1.13093]
["2009-12-06","NTS Physical Flows, HumblyGrov, Storage",1.2863500000000001]
["2009-12-06","NTS Physical Flows, Partington, LNG",0]
["2009-12-06","NTS Physical Flows, Rough, Storage",0.2762]
["2009-12-07","NTS Physical Flows, Aldbrough, Storage",1.26213]
["2009-12-07","NTS Physical Flows, Avonmouth, LNG",0]
["2009-12-07","NTS Physical Flows, Glenmavis, LNG",0.34817999999999999]
["2009-12-07","NTS Physical Flows, Hatfield Moor, Storage",0]
["2009-12-07","NTS Physical Flows, HoleHousFm, Storage",0]
["2009-12-07","NTS Physical Flows, Hornsea, Storage",0.41718]
["2009-12-07","NTS Physical Flows, HumblyGrov, Storage",0]
["2009-12-07","NTS Physical Flows, Partington, LNG",0]
["2009-12-07","NTS Physical Flows, Rough, Storage",1.43]
["2009-12-08","NTS Physical Flows, Aldbrough, Storage",2.2210899999999998]
["2009-12-08","NTS Physical Flows, Avonmouth, LNG",0]
["2009-12-08","NTS Physical Flows, Glenmavis, LNG",0.33859]
["2009-12-08","NTS Physical Flows, Hatfield Moor, Storage",0]
["2009-12-08","NTS Physical Flows, HoleHousFm, Storage",1.7189700000000001]
["2009-12-08","NTS Physical Flows, Hornsea, Storage",0.60245000000000004]
["2009-12-08","NTS Physical Flows, HumblyGrov, Storage",0]
["2009-12-08","NTS Physical Flows, Partington, LNG",0]
["2009-12-08","NTS Physical Flows, Rough, Storage",1.5807]
["2009-12-09","NTS Physical Flows, Aldbrough, Storage",1.65486]
["2009-12-09","NTS Physical Flows, Avonmouth, LNG",0]
["2009-12-09","NTS Physical Flows, Glenmavis, LNG",0.33878999999999998]
["2009-12-09","NTS Physical Flows, Hatfield Moor, Storage",0]
["2009-12-09","NTS Physical Flows, HoleHousFm, Storage",0]
["2009-12-09","NTS Physical Flows, Hornsea, Storage",0.60245000000000004]
["2009-12-09","NTS Physical Flows, HumblyGrov, Storage",0]
["2009-12-09","NTS Physical Flows, Partington, LNG",0]
["2009-12-09","NTS Physical Flows, Rough, Storage",4.2184999999999997]
["2009-12-10","NTS Physical Flows, Aldbrough, Storage",2.9246799999999999]
["2009-12-10","NTS Physical Flows, Avonmouth, LNG",0]
["2009-12-10","NTS Physical Flows, Glenmavis, LNG",0.34417999999999999]
["2009-12-10","NTS Physical Flows, Hatfield Moor, Storage",0]
["2009-12-10","NTS Physical Flows, HoleHousFm, Storage",0]
["2009-12-10","NTS Physical Flows, Hornsea, Storage",1.12354]
["2009-12-10","NTS Physical Flows, HumblyGrov, Storage",0]
["2009-12-10","NTS Physical Flows, Partington, LNG",0]
["2009-12-10","NTS Physical Flows, Rough, Storage",2.9999999999999997E-4]
["2009-12-11","NTS Physical Flows, Aldbrough, Storage",0.83516000000000001]
["2009-12-11","NTS Physical Flows, Avonmouth, LNG",0]
["2009-12-11","NTS Physical Flows, Glenmavis, LNG",0.10371]
["2009-12-11","NTS Physical Flows, Hatfield Moor, Storage",0]
["2009-12-11","NTS Physical Flows, HoleHousFm, Storage",0]
["2009-12-11","NTS Physical Flows, Hornsea, Storage",1.1553500000000001]
["2009-12-11","NTS Physical Flows, HumblyGrov, Storage",0]
["2009-12-11","NTS Physical Flows, Partington, LNG",0]
["2009-12-11","NTS Physical Flows, Rough, Storage",4.7300000000000002E-2]
["2009-12-12","NTS Physical Flows, Aldbrough, Storage",3.58283]
["2009-12-12","NTS Physical Flows, Avonmouth, LNG",0]
["2009-12-12","NTS Physical Flows, Glenmavis, LNG",0]
["2009-12-12","NTS Physical Flows, Hatfield Moor, Storage",0]
["2009-12-12","NTS Physical Flows, HoleHousFm, Storage",0]
["2009-12-12","NTS Physical Flows, Hornsea, Storage",1.1770799999999999]
["2009-12-12","NTS Physical Flows, HumblyGrov, Storage",0]
["2009-12-12","NTS Physical Flows, Partington, LNG",0]
["2009-12-12","NTS Physical Flows, Rough, Storage",0]
["2009-12-13","NTS Physical Flows, Aldbrough, Storage",3.6032899999999999]
["2009-12-13","NTS Physical Flows, Avonmouth, LNG",0]
["2009-12-13","NTS Physical Flows, Glenmavis, LNG",0]
["2009-12-13","NTS Physical Flows, Hatfield Moor, Storage",0]
["2009-12-13","NTS Physical Flows, HoleHousFm, Storage",0]
["2009-12-13","NTS Physical Flows, Hornsea, Storage",0.96852000000000005]
["2009-12-13","NTS Physical Flows, HumblyGrov, Storage",0]
["2009-12-13","NTS Physical Flows, Partington, LNG",0]
["2009-12-13","NTS Physical Flows, Rough, Storage",2.9000000000000001E-2]
["2009-12-14","NTS Physical Flows, Aldbrough, Storage",0.44329000000000002]
["2009-12-14","NTS Physical Flows, Avonmouth, LNG",0]
["2009-12-14","NTS Physical Flows, Glenmavis, LNG",0]
["2009-12-14","NTS Physical Flows, Hatfield Moor, Storage",0]
["2009-12-14","NTS Physical Flows, HoleHousFm, Storage",1.1089199999999999]
["2009-12-14","NTS Physical Flows, Hornsea, Storage",0.35546]
["2009-12-14","NTS Physical Flows, HumblyGrov, Storage",0]
["2009-12-14","NTS Physical Flows, Partington, LNG",0]
["2009-12-14","NTS Physical Flows, Rough, Storage",4.3E-3]
["2009-12-15","NTS Physical Flows, Aldbrough, Storage",0.97572000000000003]
["2009-12-15","NTS Physical Flows, Avonmouth, LNG",0]
["2009-12-15","NTS Physical Flows, Glenmavis, LNG",0]
["2009-12-15","NTS Physical Flows, Hatfield Moor, Storage",0]
["2009-12-15","NTS Physical Flows, HoleHousFm, Storage",0]
["2009-12-15","NTS Physical Flows, Hornsea, Storage",0.41824]
["2009-12-15","NTS Physical Flows, HumblyGrov, Storage",0]
["2009-12-15","NTS Physical Flows, Partington, LNG",0]
["2009-12-15","NTS Physical Flows, Rough, Storage",4.4000000000000003E-3]
["2009-12-16","NTS Physical Flows, Aldbrough, Storage",0.16072]
["2009-12-16","NTS Physical Flows, Avonmouth, LNG",0]
["2009-12-16","NTS Physical Flows, Glenmavis, LNG",0]
["2009-12-16","NTS Physical Flows, Hatfield Moor, Storage",0]
["2009-12-16","NTS Physical Flows, HoleHousFm, Storage",0]
["2009-12-16","NTS Physical Flows, Hornsea, Storage",0.16420999999999999]
["2009-12-16","NTS Physical Flows, HumblyGrov, Storage",0]
["2009-12-16","NTS Physical Flows, Partington, LNG",0]
["2009-12-16","NTS Physical Flows, Rough, Storage",0]
["2009-12-17","NTS Physical Flows, Aldbrough, Storage",0.42760999999999999]
["2009-12-17","NTS Physical Flows, Avonmouth, LNG",0]
["2009-12-17","NTS Physical Flows, Glenmavis, LNG",0]
["2009-12-17","NTS Physical Flows, Hatfield Moor, Storage",0]
["2009-12-17","NTS Physical Flows, HoleHousFm, Storage",0]
["2009-12-17","NTS Physical Flows, Hornsea, Storage",9.4990000000000005E-2]
["2009-12-17","NTS Physical Flows, HumblyGrov, Storage",0]
["2009-12-17","NTS Physical Flows, Partington, LNG",0]
["2009-12-17","NTS Physical Flows, Rough, Storage",6.6699999999999995E-2]
["2009-12-18","NTS Physical Flows, Aldbrough, Storage",0.42612]
["2009-12-18","NTS Physical Flows, Avonmouth, LNG",0]
["2009-12-18","NTS Physical Flows, Glenmavis, LNG",0]
["2009-12-18","NTS Physical Flows, Hatfield Moor, Storage",0]
["2009-12-18","NTS Physical Flows, HoleHousFm, Storage",0]
["2009-12-18","NTS Physical Flows, Hornsea, Storage",0]
["2009-12-18","NTS Physical Flows, HumblyGrov, Storage",0]
["2009-12-18","NTS Physical Flows, Partington, LNG",0]
["2009-12-18","NTS Physical Flows, Rough, Storage",7.4999999999999997E-3]
["2009-12-19","NTS Physical Flows, Aldbrough, Storage",0.42692000000000002]
["2009-12-19","NTS Physical Flows, Avonmouth, LNG",0.85468]
["2009-12-19","NTS Physical Flows, Glenmavis, LNG",0]
["2009-12-19","NTS Physical Flows, Hatfield Moor, Storage",0]
["2009-12-19","NTS Physical Flows, HoleHousFm, Storage",0]
["2009-12-19","NTS Physical Flows, Hornsea, Storage",0.67752000000000001]
["2009-12-19","NTS Physical Flows, HumblyGrov, Storage",0]
["2009-12-19","NTS Physical Flows, Partington, LNG",0]
["2009-12-19","NTS Physical Flows, Rough, Storage",6.4999999999999997E-3]
["2009-12-20","NTS Physical Flows, Aldbrough, Storage",0.43041000000000001]
["2009-12-20","NTS Physical Flows, Avonmouth, LNG",1.46516]
["2009-12-20","NTS Physical Flows, Glenmavis, LNG",0]
["2009-12-20","NTS Physical Flows, Hatfield Moor, Storage",0]
["2009-12-20","NTS Physical Flows, HoleHousFm, Storage",0]
["2009-12-20","NTS Physical Flows, Hornsea, Storage",0.43963999999999998]
["2009-12-20","NTS Physical Flows, HumblyGrov, Storage",0]
["2009-12-20","NTS Physical Flows, Partington, LNG",0]
["2009-12-20","NTS Physical Flows, Rough, Storage",1.1299999999999999E-2]
["2009-12-21","NTS Physical Flows, Aldbrough, Storage",0.42735000000000001]
["2009-12-21","NTS Physical Flows, Avonmouth, LNG",0]
["2009-12-21","NTS Physical Flows, Glenmavis, LNG",0]
["2009-12-21","NTS Physical Flows, Hatfield Moor, Storage",0]
["2009-12-21","NTS Physical Flows, HoleHousFm, Storage",0]
["2009-12-21","NTS Physical Flows, Hornsea, Storage",1.43306]
["2009-12-21","NTS Physical Flows, HumblyGrov, Storage",0]
["2009-12-21","NTS Physical Flows, Partington, LNG",0]
["2009-12-21","NTS Physical Flows, Rough, Storage",1.14E-2]
["2009-12-22","NTS Physical Flows, Aldbrough, Storage",0.43969999999999998]
["2009-12-22","NTS Physical Flows, Avonmouth, LNG",0.40193000000000001]
["2009-12-22","NTS Physical Flows, Glenmavis, LNG",0]
["2009-12-22","NTS Physical Flows, Hatfield Moor, Storage",0]
["2009-12-22","NTS Physical Flows, HoleHousFm, Storage",0]
["2009-12-22","NTS Physical Flows, Hornsea, Storage",5.3630399999999998]
["2009-12-22","NTS Physical Flows, HumblyGrov, Storage",0]
["2009-12-22","NTS Physical Flows, Partington, LNG",0]
["2009-12-22","NTS Physical Flows, Rough, Storage",0]
["2009-12-23","NTS Physical Flows, Aldbrough, Storage",0.42696000000000001]
["2009-12-23","NTS Physical Flows, Avonmouth, LNG",0]
["2009-12-23","NTS Physical Flows, Glenmavis, LNG",0]
["2009-12-23","NTS Physical Flows, Hatfield Moor, Storage",0]
["2009-12-23","NTS Physical Flows, HoleHousFm, Storage",0]
["2009-12-23","NTS Physical Flows, Hornsea, Storage",2.5553900000000001]
["2009-12-23","NTS Physical Flows, HumblyGrov, Storage",0]
["2009-12-23","NTS Physical Flows, Partington, LNG",0]
["2009-12-23","NTS Physical Flows, Rough, Storage",2.0999999999999999E-3]
["2009-12-24","NTS Physical Flows, Aldbrough, Storage",2.26878]
["2009-12-24","NTS Physical Flows, Avonmouth, LNG",0]
["2009-12-24","NTS Physical Flows, Glenmavis, LNG",0]
["2009-12-24","NTS Physical Flows, Hatfield Moor, Storage",0.50839999999999996]
["2009-12-24","NTS Physical Flows, HoleHousFm, Storage",0]
["2009-12-24","NTS Physical Flows, Hornsea, Storage",1.79061]
["2009-12-24","NTS Physical Flows, HumblyGrov, Storage",0]
["2009-12-24","NTS Physical Flows, Partington, LNG",0]
["2009-12-24","NTS Physical Flows, Rough, Storage",0]
["2009-12-25","NTS Physical Flows, Hatfield Moor, Storage",2.1665999999999999]
["2009-12-25","NTS Physical Flows, Aldbrough, Storage",4.8279500000000004]
["2009-12-25","NTS Physical Flows, Avonmouth, LNG",0]
["2009-12-25","NTS Physical Flows, Glenmavis, LNG",0]
["2009-12-25","NTS Physical Flows, HoleHousFm, Storage",1.7732600000000001]
["2009-12-25","NTS Physical Flows, Hornsea, Storage",1.7595400000000001]
["2009-12-25","NTS Physical Flows, HumblyGrov, Storage",0]
["2009-12-25","NTS Physical Flows, Partington, LNG",0]
["2009-12-25","NTS Physical Flows, Rough, Storage",0.67930000000000001]
["2009-12-26","NTS Physical Flows, Aldbrough, Storage",5.01105]
["2009-12-26","NTS Physical Flows, Avonmouth, LNG",0]
["2009-12-26","NTS Physical Flows, Glenmavis, LNG",0]
["2009-12-26","NTS Physical Flows, Hatfield Moor, Storage",2.1665999999999999]
["2009-12-26","NTS Physical Flows, HoleHousFm, Storage",8.4531899999999993]
["2009-12-26","NTS Physical Flows, Hornsea, Storage",1.7840800000000001]
["2009-12-26","NTS Physical Flows, HumblyGrov, Storage",6.0537700000000001]
["2009-12-26","NTS Physical Flows, Partington, LNG",0]
["2009-12-26","NTS Physical Flows, Rough, Storage",1.4454]
["2009-12-27","NTS Physical Flows, Aldbrough, Storage",5.12033]
["2009-12-27","NTS Physical Flows, Avonmouth, LNG",0]
["2009-12-27","NTS Physical Flows, Glenmavis, LNG",0]
["2009-12-27","NTS Physical Flows, Hatfield Moor, Storage",1.9964999999999999]
["2009-12-27","NTS Physical Flows, HoleHousFm, Storage",0]
["2009-12-27","NTS Physical Flows, Hornsea, Storage",1.6965600000000001]
["2009-12-27","NTS Physical Flows, HumblyGrov, Storage",5.9960599999999999]
["2009-12-27","NTS Physical Flows, Partington, LNG",0]
["2009-12-27","NTS Physical Flows, Rough, Storage",2.3833000000000002]
["2009-12-28","NTS Physical Flows, Aldbrough, Storage",4.8437299999999999]
["2009-12-28","NTS Physical Flows, Avonmouth, LNG",0]
["2009-12-28","NTS Physical Flows, Glenmavis, LNG",0]
["2009-12-28","NTS Physical Flows, Hatfield Moor, Storage",0.92530000000000001]
["2009-12-28","NTS Physical Flows, HoleHousFm, Storage",0]
["2009-12-28","NTS Physical Flows, Hornsea, Storage",1.3701300000000001]
["2009-12-28","NTS Physical Flows, HumblyGrov, Storage",0]
["2009-12-28","NTS Physical Flows, Partington, LNG",0]
["2009-12-28","NTS Physical Flows, Rough, Storage",0.26989999999999997]
["2009-12-29","NTS Physical Flows, Aldbrough, Storage",4.8529799999999996]
["2009-12-29","NTS Physical Flows, Avonmouth, LNG",0]
["2009-12-29","NTS Physical Flows, Glenmavis, LNG",0]
["2009-12-29","NTS Physical Flows, Hatfield Moor, Storage",0.68610000000000004]
["2009-12-29","NTS Physical Flows, HoleHousFm, Storage",6.4687299999999999]
["2009-12-29","NTS Physical Flows, Hornsea, Storage",1.76494]
["2009-12-29","NTS Physical Flows, HumblyGrov, Storage",2.7650399999999999]
["2009-12-29","NTS Physical Flows, Partington, LNG",0]
["2009-12-29","NTS Physical Flows, Rough, Storage",2.81E-2]
["2009-12-30","NTS Physical Flows, Aldbrough, Storage",5.27942]
["2009-12-30","NTS Physical Flows, Avonmouth, LNG",0]
["2009-12-30","NTS Physical Flows, Glenmavis, LNG",0]
["2009-12-30","NTS Physical Flows, Hatfield Moor, Storage",0.84650000000000003]
["2009-12-30","NTS Physical Flows, HoleHousFm, Storage",10.76519]
["2009-12-30","NTS Physical Flows, Hornsea, Storage",1.9518800000000001]
["2009-12-30","NTS Physical Flows, HumblyGrov, Storage",4.1553000000000004]
["2009-12-30","NTS Physical Flows, Partington, LNG",0]
["2009-12-30","NTS Physical Flows, Rough, Storage",0.9748]
["2009-12-31","NTS Physical Flows, HumblyGrov, Storage",0]
["2009-12-31","NTS Physical Flows, Aldbrough, Storage",5.2960700000000003]
["2009-12-31","NTS Physical Flows, Avonmouth, LNG",0]
["2009-12-31","NTS Physical Flows, Hornsea, Storage",2.2345199999999998]
["2009-12-31","NTS Physical Flows, Rough, Storage",2.3174999999999999]
["2009-12-31","NTS Physical Flows, Hatfield Moor, Storage",0]
["2009-12-31","NTS Physical Flows, HoleHousFm, Storage",2.72404]
["2009-12-31","NTS Physical Flows, Glenmavis, LNG",0]
["2009-12-31","NTS Physical Flows, Partington, LNG",0]
["2010-01-01","NTS Physical Flows, Aldbrough, Storage",2.2771699999999999]
["2010-01-01","NTS Physical Flows, Avonmouth, LNG",0]
["2010-01-01","NTS Physical Flows, Glenmavis, LNG",0]
["2010-01-01","NTS Physical Flows, Hatfield Moor, Storage",0]
["2010-01-01","NTS Physical Flows, HoleHousFm, Storage",0]
["2010-01-01","NTS Physical Flows, Hornsea, Storage",0.84160999999999997]
["2010-01-01","NTS Physical Flows, HumblyGrov, Storage",0]
["2010-01-01","NTS Physical Flows, Partington, LNG",0]
["2010-01-01","NTS Physical Flows, Rough, Storage",0.65180000000000005]
["2010-01-02","NTS Physical Flows, Aldbrough, Storage",0.55022000000000004]
["2010-01-02","NTS Physical Flows, Avonmouth, LNG",0]
["2010-01-02","NTS Physical Flows, Glenmavis, LNG",0]
["2010-01-02","NTS Physical Flows, Hatfield Moor, Storage",0]
["2010-01-02","NTS Physical Flows, HoleHousFm, Storage",0]
["2010-01-02","NTS Physical Flows, Hornsea, Storage",0.83035999999999999]
["2010-01-02","NTS Physical Flows, HumblyGrov, Storage",0]
["2010-01-02","NTS Physical Flows, Partington, LNG",0]
["2010-01-02","NTS Physical Flows, Rough, Storage",0.47960000000000003]
["2010-01-03","NTS Physical Flows, Aldbrough, Storage",3.0200000000000001E-2]
["2010-01-03","NTS Physical Flows, Avonmouth, LNG",4.8667299999999996]
["2010-01-03","NTS Physical Flows, Glenmavis, LNG",0]
["2010-01-03","NTS Physical Flows, Hatfield Moor, Storage",0]
["2010-01-03","NTS Physical Flows, HoleHousFm, Storage",0]
["2010-01-03","NTS Physical Flows, Hornsea, Storage",0.69347000000000003]
["2010-01-03","NTS Physical Flows, HumblyGrov, Storage",0]
["2010-01-03","NTS Physical Flows, Partington, LNG",0]
["2010-01-03","NTS Physical Flows, Rough, Storage",0.3997]
["2010-01-04","NTS Physical Flows, Aldbrough, Storage",0]
["2010-01-04","NTS Physical Flows, Avonmouth, LNG",5.2153999999999998]
["2010-01-04","NTS Physical Flows, Glenmavis, LNG",0]
["2010-01-04","NTS Physical Flows, Hatfield Moor, Storage",0]
["2010-01-04","NTS Physical Flows, HoleHousFm, Storage",0]
["2010-01-04","NTS Physical Flows, Hornsea, Storage",0.16058]
["2010-01-04","NTS Physical Flows, HumblyGrov, Storage",0]
["2010-01-04","NTS Physical Flows, Partington, LNG",0]
["2010-01-04","NTS Physical Flows, Rough, Storage",0]
["2010-01-05","NTS Physical Flows, Aldbrough, Storage",0]
["2010-01-05","NTS Physical Flows, Avonmouth, LNG",0]
["2010-01-05","NTS Physical Flows, Glenmavis, LNG",0.49781999999999998]
["2010-01-05","NTS Physical Flows, Hatfield Moor, Storage",0]
["2010-01-05","NTS Physical Flows, HoleHousFm, Storage",0]
["2010-01-05","NTS Physical Flows, Hornsea, Storage",0.16033]
["2010-01-05","NTS Physical Flows, HumblyGrov, Storage",0]
["2010-01-05","NTS Physical Flows, Partington, LNG",0]
["2010-01-05","NTS Physical Flows, Rough, Storage",5.3E-3]
["2010-01-06","NTS Physical Flows, Avonmouth, LNG",0]
["2010-01-06","NTS Physical Flows, Aldbrough, Storage",0.60412999999999994]
["2010-01-06","NTS Physical Flows, Glenmavis, LNG",0]
["2010-01-06","NTS Physical Flows, Hatfield Moor, Storage",0]
["2010-01-06","NTS Physical Flows, HoleHousFm, Storage",3.4687700000000001]
["2010-01-06","NTS Physical Flows, Hornsea, Storage",0.18720999999999999]
["2010-01-06","NTS Physical Flows, HumblyGrov, Storage",0]
["2010-01-06","NTS Physical Flows, Partington, LNG",0]
["2010-01-06","NTS Physical Flows, Rough, Storage",0]
["2010-01-07","NTS Physical Flows, Avonmouth, LNG",0]
["2010-01-07","NTS Physical Flows, Aldbrough, Storage",2.9999999999999997E-4]
["2010-01-07","NTS Physical Flows, Glenmavis, LNG",0.81825000000000003]
["2010-01-07","NTS Physical Flows, Hornsea, Storage",0.15989999999999999]
["2010-01-07","NTS Physical Flows, HumblyGrov, Storage",0]
["2010-01-07","NTS Physical Flows, Partington, LNG",0]
["2010-01-07","NTS Physical Flows, Hatfield Moor, Storage",0]
["2010-01-07","NTS Physical Flows, HoleHousFm, Storage",0]
["2010-01-07","NTS Physical Flows, Rough, Storage",0]
["2010-01-08","NTS Physical Flows, Aldbrough, Storage",0.97874000000000005]
["2010-01-08","NTS Physical Flows, Avonmouth, LNG",0]
["2010-01-08","NTS Physical Flows, Glenmavis, LNG",4.6899999999999997E-3]
["2010-01-08","NTS Physical Flows, Hatfield Moor, Storage",0]
["2010-01-08","NTS Physical Flows, HoleHousFm, Storage",1.0715300000000001]
["2010-01-08","NTS Physical Flows, Hornsea, Storage",0.15989999999999999]
["2010-01-08","NTS Physical Flows, HumblyGrov, Storage",0]
["2010-01-08","NTS Physical Flows, Partington, LNG",0]
["2010-01-08","NTS Physical Flows, Rough, Storage",0]
["2010-01-09","NTS Physical Flows, Aldbrough, Storage",0.82498000000000005]
["2010-01-09","NTS Physical Flows, Avonmouth, LNG",1.64683]
["2010-01-09","NTS Physical Flows, Glenmavis, LNG",1.7424200000000001]
["2010-01-09","NTS Physical Flows, Hatfield Moor, Storage",0]
["2010-01-09","NTS Physical Flows, HoleHousFm, Storage",0]
["2010-01-09","NTS Physical Flows, Hornsea, Storage",0.16997999999999999]
["2010-01-09","NTS Physical Flows, HumblyGrov, Storage",0]
["2010-01-09","NTS Physical Flows, Partington, LNG",0]
["2010-01-09","NTS Physical Flows, Rough, Storage",0]
["2010-01-10","NTS Physical Flows, Aldbrough, Storage",0.91125999999999996]
["2010-01-10","NTS Physical Flows, Avonmouth, LNG",0]
["2010-01-10","NTS Physical Flows, Glenmavis, LNG",2.0966300000000002]
["2010-01-10","NTS Physical Flows, Hatfield Moor, Storage",0]
["2010-01-10","NTS Physical Flows, HoleHousFm, Storage",2.1440899999999998]
["2010-01-10","NTS Physical Flows, Hornsea, Storage",1.60094]
["2010-01-10","NTS Physical Flows, HumblyGrov, Storage",0]
["2010-01-10","NTS Physical Flows, Partington, LNG",1.15008]
["2010-01-10","NTS Physical Flows, Rough, Storage",0]
["2010-01-11","NTS Physical Flows, Aldbrough, Storage",0]
["2010-01-11","NTS Physical Flows, Avonmouth, LNG",0.11253000000000001]
["2010-01-11","NTS Physical Flows, Glenmavis, LNG",9.6379999999999993E-2]
["2010-01-11","NTS Physical Flows, Hornsea, Storage",0.85060000000000002]
["2010-01-11","NTS Physical Flows, HumblyGrov, Storage",0]
["2010-01-11","NTS Physical Flows, Partington, LNG",0]
["2010-01-11","NTS Physical Flows, Hatfield Moor, Storage",0]
["2010-01-11","NTS Physical Flows, HoleHousFm, Storage",1.20241]
["2010-01-11","NTS Physical Flows, Rough, Storage",0]
["2010-01-12","NTS Physical Flows, Aldbrough, Storage",4.4298400000000004]
["2010-01-12","NTS Physical Flows, Avonmouth, LNG",0]
["2010-01-12","NTS Physical Flows, Glenmavis, LNG",0]
["2010-01-12","NTS Physical Flows, Hornsea, Storage",0.51959999999999995]
["2010-01-12","NTS Physical Flows, HumblyGrov, Storage",0]
["2010-01-12","NTS Physical Flows, Partington, LNG",0]
["2010-01-12","NTS Physical Flows, Hatfield Moor, Storage",0]
["2010-01-12","NTS Physical Flows, HoleHousFm, Storage",3.21231]
["2010-01-12","NTS Physical Flows, Rough, Storage",8.2000000000000007E-3]
["2010-01-13","NTS Physical Flows, Aldbrough, Storage",4.4547400000000001]
["2010-01-13","NTS Physical Flows, Avonmouth, LNG",0]
["2010-01-13","NTS Physical Flows, Glenmavis, LNG",0]
["2010-01-13","NTS Physical Flows, Hatfield Moor, Storage",0]
["2010-01-13","NTS Physical Flows, HoleHousFm, Storage",0]
["2010-01-13","NTS Physical Flows, Hornsea, Storage",2.6985100000000002]
["2010-01-13","NTS Physical Flows, HumblyGrov, Storage",0]
["2010-01-13","NTS Physical Flows, Partington, LNG",0]
["2010-01-13","NTS Physical Flows, Rough, Storage",8.0000000000000004E-4]
["2010-01-14","NTS Physical Flows, Aldbrough, Storage",0.85901000000000005]
["2010-01-14","NTS Physical Flows, Avonmouth, LNG",0]
["2010-01-14","NTS Physical Flows, Glenmavis, LNG",0]
["2010-01-14","NTS Physical Flows, Hornsea, Storage",1.2062900000000001]
["2010-01-14","NTS Physical Flows, HumblyGrov, Storage",0]
["2010-01-14","NTS Physical Flows, Partington, LNG",0]
["2010-01-14","NTS Physical Flows, Rough, Storage",6.4999999999999997E-3]
["2010-01-14","NTS Physical Flows, Hatfield Moor, Storage",0]
["2010-01-14","NTS Physical Flows, HoleHousFm, Storage",0]
["2010-01-15","NTS Physical Flows, Aldbrough, Storage",4.35182]
["2010-01-15","NTS Physical Flows, Avonmouth, LNG",0]
["2010-01-15","NTS Physical Flows, Glenmavis, LNG",0]
["2010-01-15","NTS Physical Flows, Hatfield Moor, Storage",0]
["2010-01-15","NTS Physical Flows, HoleHousFm, Storage",3.7260300000000002]
["2010-01-15","NTS Physical Flows, Hornsea, Storage",2.1614399999999998]
["2010-01-15","NTS Physical Flows, HumblyGrov, Storage",0]
["2010-01-15","NTS Physical Flows, Partington, LNG",0]
["2010-01-15","NTS Physical Flows, Rough, Storage",0.9667]
["2010-01-16","NTS Physical Flows, Aldbrough, Storage",4.9621399999999998]
["2010-01-16","NTS Physical Flows, Avonmouth, LNG",0]
["2010-01-16","NTS Physical Flows, Glenmavis, LNG",0]
["2010-01-16","NTS Physical Flows, Hatfield Moor, Storage",0]
["2010-01-16","NTS Physical Flows, HoleHousFm, Storage",0]
["2010-01-16","NTS Physical Flows, Hornsea, Storage",2.2898800000000001]
["2010-01-16","NTS Physical Flows, HumblyGrov, Storage",0]
["2010-01-16","NTS Physical Flows, Partington, LNG",0]
["2010-01-16","NTS Physical Flows, Rough, Storage",1.0314000000000001]
["2010-01-17","NTS Physical Flows, Aldbrough, Storage",6.0828600000000002]
["2010-01-17","NTS Physical Flows, Avonmouth, LNG",0]
["2010-01-17","NTS Physical Flows, Glenmavis, LNG",0]
["2010-01-17","NTS Physical Flows, Hatfield Moor, Storage",0]
["2010-01-17","NTS Physical Flows, HoleHousFm, Storage",0]
["2010-01-17","NTS Physical Flows, Hornsea, Storage",2.0078399999999998]
["2010-01-17","NTS Physical Flows, HumblyGrov, Storage",0]
["2010-01-17","NTS Physical Flows, Partington, LNG",0]
["2010-01-17","NTS Physical Flows, Rough, Storage",2.3715000000000002]
["2010-01-18","NTS Physical Flows, Aldbrough, Storage",4.20519]
["2010-01-18","NTS Physical Flows, Avonmouth, LNG",0]
["2010-01-18","NTS Physical Flows, Glenmavis, LNG",0]
["2010-01-18","NTS Physical Flows, Hatfield Moor, Storage",0]
["2010-01-18","NTS Physical Flows, HoleHousFm, Storage",5.3218300000000003]
["2010-01-18","NTS Physical Flows, Hornsea, Storage",2.1200399999999999]
["2010-01-18","NTS Physical Flows, HumblyGrov, Storage",0]
["2010-01-18","NTS Physical Flows, Partington, LNG",0]
["2010-01-18","NTS Physical Flows, Rough, Storage",1.3442000000000001]
["2010-01-19","NTS Physical Flows, Aldbrough, Storage",6.2330100000000002]
["2010-01-19","NTS Physical Flows, Avonmouth, LNG",0]
["2010-01-19","NTS Physical Flows, Glenmavis, LNG",0]
["2010-01-19","NTS Physical Flows, Hatfield Moor, Storage",0]
["2010-01-19","NTS Physical Flows, HoleHousFm, Storage",0.91281000000000001]
["2010-01-19","NTS Physical Flows, Hornsea, Storage",2.7062900000000001]
["2010-01-19","NTS Physical Flows, HumblyGrov, Storage",0]
["2010-01-19","NTS Physical Flows, Partington, LNG",0]
["2010-01-19","NTS Physical Flows, Rough, Storage",1.3440000000000001]
["2010-01-20","NTS Physical Flows, Aldbrough, Storage",1.81552]
["2010-01-20","NTS Physical Flows, Avonmouth, LNG",0]
["2010-01-20","NTS Physical Flows, Glenmavis, LNG",0]
["2010-01-20","NTS Physical Flows, Hatfield Moor, Storage",0]
["2010-01-20","NTS Physical Flows, HoleHousFm, Storage",0.24301]
["2010-01-20","NTS Physical Flows, Hornsea, Storage",1.86338]
["2010-01-20","NTS Physical Flows, HumblyGrov, Storage",0]
["2010-01-20","NTS Physical Flows, Partington, LNG",0]
["2010-01-20","NTS Physical Flows, Rough, Storage",1.3644000000000001]
["2010-01-21","NTS Physical Flows, Aldbrough, Storage",2.6666799999999999]
["2010-01-21","NTS Physical Flows, Avonmouth, LNG",0]
["2010-01-21","NTS Physical Flows, Glenmavis, LNG",0]
["2010-01-21","NTS Physical Flows, Hatfield Moor, Storage",0]
["2010-01-21","NTS Physical Flows, HoleHousFm, Storage",5.1849100000000004]
["2010-01-21","NTS Physical Flows, Hornsea, Storage",2.55125]
["2010-01-21","NTS Physical Flows, HumblyGrov, Storage",2.29379]
["2010-01-21","NTS Physical Flows, Partington, LNG",0]
["2010-01-21","NTS Physical Flows, Rough, Storage",9.2999999999999992E-3]
["2010-01-22","NTS Physical Flows, Aldbrough, Storage",4.8675100000000002]
["2010-01-22","NTS Physical Flows, Avonmouth, LNG",0]
["2010-01-22","NTS Physical Flows, Glenmavis, LNG",0]
["2010-01-22","NTS Physical Flows, Hatfield Moor, Storage",0]
["2010-01-22","NTS Physical Flows, HoleHousFm, Storage",1.2699199999999999]
["2010-01-22","NTS Physical Flows, Hornsea, Storage",1.29861]
["2010-01-22","NTS Physical Flows, HumblyGrov, Storage",0]
["2010-01-22","NTS Physical Flows, Partington, LNG",0]
["2010-01-22","NTS Physical Flows, Rough, Storage",1.3563000000000001]
["2010-01-23","NTS Physical Flows, Aldbrough, Storage",2.4011900000000002]
["2010-01-23","NTS Physical Flows, Avonmouth, LNG",0]
["2010-01-23","NTS Physical Flows, Glenmavis, LNG",0]
["2010-01-23","NTS Physical Flows, Hornsea, Storage",1.0307599999999999]
["2010-01-23","NTS Physical Flows, HumblyGrov, Storage",0]
["2010-01-23","NTS Physical Flows, Partington, LNG",0]
["2010-01-23","NTS Physical Flows, Rough, Storage",2.7772999999999999]
["2010-01-23","NTS Physical Flows, Hatfield Moor, Storage",0]
["2010-01-23","NTS Physical Flows, HoleHousFm, Storage",6.4031500000000001]
["2010-01-24","NTS Physical Flows, Aldbrough, Storage",2.64703]
["2010-01-24","NTS Physical Flows, Avonmouth, LNG",0]
["2010-01-24","NTS Physical Flows, Glenmavis, LNG",0]
["2010-01-24","NTS Physical Flows, Hatfield Moor, Storage",0]
["2010-01-24","NTS Physical Flows, HoleHousFm, Storage",6.8254200000000003]
["2010-01-24","NTS Physical Flows, Hornsea, Storage",1.2723]
["2010-01-24","NTS Physical Flows, HumblyGrov, Storage",0]
["2010-01-24","NTS Physical Flows, Partington, LNG",0]
["2010-01-24","NTS Physical Flows, Rough, Storage",2.1198999999999999]
["2010-01-25","NTS Physical Flows, Aldbrough, Storage",2.6008200000000001]
["2010-01-25","NTS Physical Flows, Avonmouth, LNG",0]
["2010-01-25","NTS Physical Flows, Glenmavis, LNG",0]
["2010-01-25","NTS Physical Flows, Hatfield Moor, Storage",0]
["2010-01-25","NTS Physical Flows, HoleHousFm, Storage",0]
["2010-01-25","NTS Physical Flows, Hornsea, Storage",1.1506400000000001]
["2010-01-25","NTS Physical Flows, HumblyGrov, Storage",0]
["2010-01-25","NTS Physical Flows, Partington, LNG",0]
["2010-01-25","NTS Physical Flows, Rough, Storage",1.2617]
["2010-01-26","NTS Physical Flows, Aldbrough, Storage",2.4299999999999999E-3]
["2010-01-26","NTS Physical Flows, Avonmouth, LNG",0]
["2010-01-26","NTS Physical Flows, Glenmavis, LNG",0]
["2010-01-26","NTS Physical Flows, Hornsea, Storage",0.22635]
["2010-01-26","NTS Physical Flows, HumblyGrov, Storage",0]
["2010-01-26","NTS Physical Flows, Partington, LNG",0]
["2010-01-26","NTS Physical Flows, Hatfield Moor, Storage",0]
["2010-01-26","NTS Physical Flows, HoleHousFm, Storage",0]
["2010-01-26","NTS Physical Flows, Rough, Storage",0]
["2010-01-27","NTS Physical Flows, Aldbrough, Storage",6.4110300000000002]
["2010-01-27","NTS Physical Flows, Avonmouth, LNG",0]
["2010-01-27","NTS Physical Flows, Glenmavis, LNG",0]
["2010-01-27","NTS Physical Flows, Hornsea, Storage",3.3711199999999999]
["2010-01-27","NTS Physical Flows, HumblyGrov, Storage",0]
["2010-01-27","NTS Physical Flows, Partington, LNG",0]
["2010-01-27","NTS Physical Flows, Hatfield Moor, Storage",0]
["2010-01-27","NTS Physical Flows, HoleHousFm, Storage",0]
["2010-01-27","NTS Physical Flows, Rough, Storage",0]
["2010-01-28","NTS Physical Flows, Aldbrough, Storage",4.4375299999999998]
["2010-01-28","NTS Physical Flows, Avonmouth, LNG",0]
["2010-01-28","NTS Physical Flows, Glenmavis, LNG",0]
["2010-01-28","NTS Physical Flows, Hatfield Moor, Storage",0]
["2010-01-28","NTS Physical Flows, HoleHousFm, Storage",7.0938699999999999]
["2010-01-28","NTS Physical Flows, Hornsea, Storage",2.2642000000000002]
["2010-01-28","NTS Physical Flows, HumblyGrov, Storage",0]
["2010-01-28","NTS Physical Flows, Partington, LNG",0]
["2010-01-28","NTS Physical Flows, Rough, Storage",0]
["2010-01-29","NTS Physical Flows, Aldbrough, Storage",6.9202000000000004]
["2010-01-29","NTS Physical Flows, Avonmouth, LNG",0]
["2010-01-29","NTS Physical Flows, Glenmavis, LNG",0]
["2010-01-29","NTS Physical Flows, Hatfield Moor, Storage",1.5912999999999999]
["2010-01-29","NTS Physical Flows, HoleHousFm, Storage",9.6855799999999999]
["2010-01-29","NTS Physical Flows, Hornsea, Storage",2.1159500000000002]
["2010-01-29","NTS Physical Flows, HumblyGrov, Storage",0]
["2010-01-29","NTS Physical Flows, Partington, LNG",0]
["2010-01-29","NTS Physical Flows, Rough, Storage",3.0700000000000002E-2]
["2010-01-30","NTS Physical Flows, Aldbrough, Storage",7.9833499999999997]
["2010-01-30","NTS Physical Flows, Avonmouth, LNG",0]
["2010-01-30","NTS Physical Flows, Glenmavis, LNG",0]
["2010-01-30","NTS Physical Flows, Hatfield Moor, Storage",0.38729999999999998]
["2010-01-30","NTS Physical Flows, HoleHousFm, Storage",10.222239999999999]
["2010-01-30","NTS Physical Flows, Hornsea, Storage",1.8556699999999999]
["2010-01-30","NTS Physical Flows, HumblyGrov, Storage",0]
["2010-01-30","NTS Physical Flows, Partington, LNG",0]
["2010-01-30","NTS Physical Flows, Rough, Storage",1.0999999999999999E-2]
["2010-01-31","NTS Physical Flows, Aldbrough, Storage",6.2422899999999997]
["2010-01-31","NTS Physical Flows, Hatfield Moor, Storage",0]
["2010-01-31","NTS Physical Flows, HoleHousFm, Storage",1.6934]
["2010-01-31","NTS Physical Flows, Hornsea, Storage",1.51423]
["2010-01-31","NTS Physical Flows, HumblyGrov, Storage",0]
["2010-01-31","NTS Physical Flows, Partington, LNG",0]
["2010-01-31","NTS Physical Flows, Rough, Storage",0]
["2010-01-31","NTS Physical Flows, Avonmouth, LNG",0]
["2010-01-31","NTS Physical Flows, Glenmavis, LNG",0]
["2010-02-01","NTS Physical Flows, Aldbrough, Storage",0.73760000000000003]
["2010-02-01","NTS Physical Flows, Avonmouth, LNG",0]
["2010-02-01","NTS Physical Flows, Glenmavis, LNG",0]
["2010-02-01","NTS Physical Flows, Hatfield Moor, Storage",0]
["2010-02-01","NTS Physical Flows, HoleHousFm, Storage",0]
["2010-02-01","NTS Physical Flows, Hornsea, Storage",1.7956700000000001]
["2010-02-01","NTS Physical Flows, HumblyGrov, Storage",0]
["2010-02-01","NTS Physical Flows, Partington, LNG",0]
["2010-02-01","NTS Physical Flows, Rough, Storage",0]
["2010-02-02","NTS Physical Flows, Aldbrough, Storage",2.9526500000000002]
["2010-02-02","NTS Physical Flows, Avonmouth, LNG",0]
["2010-02-02","NTS Physical Flows, Glenmavis, LNG",0]
["2010-02-02","NTS Physical Flows, Hatfield Moor, Storage",0]
["2010-02-02","NTS Physical Flows, HoleHousFm, Storage",0]
["2010-02-02","NTS Physical Flows, Hornsea, Storage",1.3113699999999999]
["2010-02-02","NTS Physical Flows, HumblyGrov, Storage",0]
["2010-02-02","NTS Physical Flows, Partington, LNG",0]
["2010-02-02","NTS Physical Flows, Rough, Storage",0.54779999999999995]
["2010-02-03","NTS Physical Flows, Aldbrough, Storage",5.6285299999999996]
["2010-02-03","NTS Physical Flows, Avonmouth, LNG",0]
["2010-02-03","NTS Physical Flows, Glenmavis, LNG",0]
["2010-02-03","NTS Physical Flows, Hatfield Moor, Storage",0]
["2010-02-03","NTS Physical Flows, HoleHousFm, Storage",1.3853899999999999]
["2010-02-03","NTS Physical Flows, Hornsea, Storage",1.0587899999999999]
["2010-02-03","NTS Physical Flows, HumblyGrov, Storage",0]
["2010-02-03","NTS Physical Flows, Partington, LNG",0]
["2010-02-03","NTS Physical Flows, Rough, Storage",0.60880000000000001]
["2010-02-04","NTS Physical Flows, Aldbrough, Storage",6.2182000000000004]
["2010-02-04","NTS Physical Flows, Avonmouth, LNG",0]
["2010-02-04","NTS Physical Flows, Glenmavis, LNG",0]
["2010-02-04","NTS Physical Flows, Hatfield Moor, Storage",0]
["2010-02-04","NTS Physical Flows, HoleHousFm, Storage",1.3023199999999999]
["2010-02-04","NTS Physical Flows, Hornsea, Storage",1.1132200000000001]
["2010-02-04","NTS Physical Flows, HumblyGrov, Storage",0]
["2010-02-04","NTS Physical Flows, Partington, LNG",0]
["2010-02-04","NTS Physical Flows, Rough, Storage",1.7042999999999999]
["2010-02-05","NTS Physical Flows, Aldbrough, Storage",6.27752]
["2010-02-05","NTS Physical Flows, Avonmouth, LNG",0]
["2010-02-05","NTS Physical Flows, Glenmavis, LNG",0]
["2010-02-05","NTS Physical Flows, Hatfield Moor, Storage",0.52380000000000004]
["2010-02-05","NTS Physical Flows, HoleHousFm, Storage",3.6271300000000002]
["2010-02-05","NTS Physical Flows, Hornsea, Storage",1.15324]
["2010-02-05","NTS Physical Flows, HumblyGrov, Storage",0]
["2010-02-05","NTS Physical Flows, Partington, LNG",0]
["2010-02-05","NTS Physical Flows, Rough, Storage",2.1987999999999999]
["2010-02-06","NTS Physical Flows, Aldbrough, Storage",3.1422500000000002]
["2010-02-06","NTS Physical Flows, Avonmouth, LNG",0]
["2010-02-06","NTS Physical Flows, Glenmavis, LNG",0]
["2010-02-06","NTS Physical Flows, Hatfield Moor, Storage",0]
["2010-02-06","NTS Physical Flows, HoleHousFm, Storage",6.2381099999999998]
["2010-02-06","NTS Physical Flows, Hornsea, Storage",1.59958]
["2010-02-06","NTS Physical Flows, HumblyGrov, Storage",2.1836700000000002]
["2010-02-06","NTS Physical Flows, Partington, LNG",0]
["2010-02-06","NTS Physical Flows, Rough, Storage",1.8086]
["2010-02-07","NTS Physical Flows, Hornsea, Storage",1.7780100000000001]
["2010-02-07","NTS Physical Flows, Aldbrough, Storage",1.7515499999999999]
["2010-02-07","NTS Physical Flows, Avonmouth, LNG",0]
["2010-02-07","NTS Physical Flows, Glenmavis, LNG",0]
["2010-02-07","NTS Physical Flows, Hatfield Moor, Storage",0]
["2010-02-07","NTS Physical Flows, HoleHousFm, Storage",0.53944000000000003]
["2010-02-07","NTS Physical Flows, HumblyGrov, Storage",0]
["2010-02-07","NTS Physical Flows, Partington, LNG",0]
["2010-02-07","NTS Physical Flows, Rough, Storage",1.5045999999999999]
["2010-02-08","NTS Physical Flows, Aldbrough, Storage",3.8500000000000001E-3]
["2010-02-08","NTS Physical Flows, Avonmouth, LNG",0]
["2010-02-08","NTS Physical Flows, Glenmavis, LNG",0]
["2010-02-08","NTS Physical Flows, Hatfield Moor, Storage",0]
["2010-02-08","NTS Physical Flows, HoleHousFm, Storage",0]
["2010-02-08","NTS Physical Flows, Hornsea, Storage",0.34161000000000002]
["2010-02-08","NTS Physical Flows, HumblyGrov, Storage",0]
["2010-02-08","NTS Physical Flows, Partington, LNG",0]
["2010-02-08","NTS Physical Flows, Rough, Storage",0]
["2010-02-09","NTS Physical Flows, Aldbrough, Storage",0]
["2010-02-09","NTS Physical Flows, Avonmouth, LNG",0]
["2010-02-09","NTS Physical Flows, Glenmavis, LNG",0]
["2010-02-09","NTS Physical Flows, Hatfield Moor, Storage",0]
["2010-02-09","NTS Physical Flows, HoleHousFm, Storage",0]
["2010-02-09","NTS Physical Flows, Hornsea, Storage",0.23629]
["2010-02-09","NTS Physical Flows, HumblyGrov, Storage",0]
["2010-02-09","NTS Physical Flows, Partington, LNG",0]
["2010-02-09","NTS Physical Flows, Rough, Storage",0]
["2010-02-10","NTS Physical Flows, Aldbrough, Storage",0.73906000000000005]
["2010-02-10","NTS Physical Flows, Avonmouth, LNG",0]
["2010-02-10","NTS Physical Flows, Glenmavis, LNG",0]
["2010-02-10","NTS Physical Flows, Hornsea, Storage",0.30414999999999998]
["2010-02-10","NTS Physical Flows, HumblyGrov, Storage",0]
["2010-02-10","NTS Physical Flows, Partington, LNG",0]
["2010-02-10","NTS Physical Flows, Hatfield Moor, Storage",0]
["2010-02-10","NTS Physical Flows, HoleHousFm, Storage",0]
["2010-02-10","NTS Physical Flows, Rough, Storage",1.38E-2]
["2010-02-11","NTS Physical Flows, Aldbrough, Storage",0]
["2010-02-11","NTS Physical Flows, Avonmouth, LNG",0]
["2010-02-11","NTS Physical Flows, Glenmavis, LNG",0]
["2010-02-11","NTS Physical Flows, Hatfield Moor, Storage",0]
["2010-02-11","NTS Physical Flows, HoleHousFm, Storage",0]
["2010-02-11","NTS Physical Flows, Hornsea, Storage",0.19658999999999999]
["2010-02-11","NTS Physical Flows, HumblyGrov, Storage",0]
["2010-02-11","NTS Physical Flows, Partington, LNG",0]
["2010-02-11","NTS Physical Flows, Rough, Storage",0]
["2010-02-12","NTS Physical Flows, Aldbrough, Storage",0]
["2010-02-12","NTS Physical Flows, Avonmouth, LNG",0]
["2010-02-12","NTS Physical Flows, Glenmavis, LNG",0]
["2010-02-12","NTS Physical Flows, Hatfield Moor, Storage",0]
["2010-02-12","NTS Physical Flows, HoleHousFm, Storage",0]
["2010-02-12","NTS Physical Flows, Hornsea, Storage",0.24088999999999999]
["2010-02-12","NTS Physical Flows, HumblyGrov, Storage",0]
["2010-02-12","NTS Physical Flows, Partington, LNG",0]
["2010-02-12","NTS Physical Flows, Rough, Storage",0]
["2010-02-13","NTS Physical Flows, Aldbrough, Storage",4.5999999999999999E-3]
["2010-02-13","NTS Physical Flows, Avonmouth, LNG",0]
["2010-02-13","NTS Physical Flows, Glenmavis, LNG",0]
["2010-02-13","NTS Physical Flows, Hatfield Moor, Storage",0]
["2010-02-13","NTS Physical Flows, HoleHousFm, Storage",0]
["2010-02-13","NTS Physical Flows, Hornsea, Storage",0.45950999999999997]
["2010-02-13","NTS Physical Flows, HumblyGrov, Storage",0]
["2010-02-13","NTS Physical Flows, Partington, LNG",0]
["2010-02-13","NTS Physical Flows, Rough, Storage",1.5244]
["2010-02-14","NTS Physical Flows, Aldbrough, Storage",0]
["2010-02-14","NTS Physical Flows, Avonmouth, LNG",0]
["2010-02-14","NTS Physical Flows, HumblyGrov, Storage",0]
["2010-02-14","NTS Physical Flows, Partington, LNG",0]
["2010-02-14","NTS Physical Flows, Glenmavis, LNG",0]
["2010-02-14","NTS Physical Flows, Hatfield Moor, Storage",0]
["2010-02-14","NTS Physical Flows, HoleHousFm, Storage",0]
["2010-02-14","NTS Physical Flows, Hornsea, Storage",0.45617999999999997]
["2010-02-14","NTS Physical Flows, Rough, Storage",1.5593999999999999]
["2010-02-15","NTS Physical Flows, Aldbrough, Storage",1.81E-3]
["2010-02-15","NTS Physical Flows, Avonmouth, LNG",0]
["2010-02-15","NTS Physical Flows, Glenmavis, LNG",0]
["2010-02-15","NTS Physical Flows, Hatfield Moor, Storage",0]
["2010-02-15","NTS Physical Flows, HoleHousFm, Storage",0]
["2010-02-15","NTS Physical Flows, Hornsea, Storage",0.25180999999999998]
["2010-02-15","NTS Physical Flows, HumblyGrov, Storage",0]
["2010-02-15","NTS Physical Flows, Partington, LNG",0]
["2010-02-15","NTS Physical Flows, Rough, Storage",1.5145999999999999]
["2010-02-16","NTS Physical Flows, Aldbrough, Storage",4.15E-3]
["2010-02-16","NTS Physical Flows, Avonmouth, LNG",0]
["2010-02-16","NTS Physical Flows, Glenmavis, LNG",0]
["2010-02-16","NTS Physical Flows, Hornsea, Storage",0.1862]
["2010-02-16","NTS Physical Flows, HumblyGrov, Storage",0]
["2010-02-16","NTS Physical Flows, Partington, LNG",0]
["2010-02-16","NTS Physical Flows, Rough, Storage",1.0800000000000001E-2]
["2010-02-16","NTS Physical Flows, Hatfield Moor, Storage",0]
["2010-02-16","NTS Physical Flows, HoleHousFm, Storage",0]
["2010-02-17","NTS Physical Flows, Aldbrough, Storage",0]
["2010-02-17","NTS Physical Flows, Avonmouth, LNG",0]
["2010-02-17","NTS Physical Flows, Glenmavis, LNG",0]
["2010-02-17","NTS Physical Flows, Hatfield Moor, Storage",0]
["2010-02-17","NTS Physical Flows, HoleHousFm, Storage",0]
["2010-02-17","NTS Physical Flows, Hornsea, Storage",0.69728000000000001]
["2010-02-17","NTS Physical Flows, HumblyGrov, Storage",0]
["2010-02-17","NTS Physical Flows, Partington, LNG",0]
["2010-02-17","NTS Physical Flows, Rough, Storage",0]
["2010-02-18","NTS Physical Flows, Aldbrough, Storage",1.8371299999999999]
["2010-02-18","NTS Physical Flows, Avonmouth, LNG",0]
["2010-02-18","NTS Physical Flows, Glenmavis, LNG",0]
["2010-02-18","NTS Physical Flows, Hatfield Moor, Storage",0]
["2010-02-18","NTS Physical Flows, HoleHousFm, Storage",0]
["2010-02-18","NTS Physical Flows, Hornsea, Storage",0.62375000000000003]
["2010-02-18","NTS Physical Flows, HumblyGrov, Storage",0]
["2010-02-18","NTS Physical Flows, Partington, LNG",0]
["2010-02-18","NTS Physical Flows, Rough, Storage",8.0000000000000002E-3]
["2010-02-19","NTS Physical Flows, Aldbrough, Storage",2.8692000000000002]
["2010-02-19","NTS Physical Flows, Avonmouth, LNG",0]
["2010-02-19","NTS Physical Flows, Glenmavis, LNG",0]
["2010-02-19","NTS Physical Flows, Hatfield Moor, Storage",0]
["2010-02-19","NTS Physical Flows, HoleHousFm, Storage",0]
["2010-02-19","NTS Physical Flows, Hornsea, Storage",0.86121000000000003]
["2010-02-19","NTS Physical Flows, HumblyGrov, Storage",0]
["2010-02-19","NTS Physical Flows, Partington, LNG",0]
["2010-02-19","NTS Physical Flows, Rough, Storage",0.38490000000000002]
["2010-02-20","NTS Physical Flows, Aldbrough, Storage",0]
["2010-02-20","NTS Physical Flows, Avonmouth, LNG",0]
["2010-02-20","NTS Physical Flows, Glenmavis, LNG",0]
["2010-02-20","NTS Physical Flows, Hornsea, Storage",2.0195500000000002]
["2010-02-20","NTS Physical Flows, HumblyGrov, Storage",0]
["2010-02-20","NTS Physical Flows, Partington, LNG",0]
["2010-02-20","NTS Physical Flows, Hatfield Moor, Storage",0]
["2010-02-20","NTS Physical Flows, HoleHousFm, Storage",0]
["2010-02-20","NTS Physical Flows, Rough, Storage",1.5515000000000001]
["2010-02-21","NTS Physical Flows, Aldbrough, Storage",0]
["2010-02-21","NTS Physical Flows, Avonmouth, LNG",0]
["2010-02-21","NTS Physical Flows, Glenmavis, LNG",0]
["2010-02-21","NTS Physical Flows, Hatfield Moor, Storage",0]
["2010-02-21","NTS Physical Flows, HoleHousFm, Storage",0]
["2010-02-21","NTS Physical Flows, Hornsea, Storage",1.25068]
["2010-02-21","NTS Physical Flows, HumblyGrov, Storage",0]
["2010-02-21","NTS Physical Flows, Partington, LNG",0]
["2010-02-21","NTS Physical Flows, Rough, Storage",1.8310999999999999]
["2010-02-22","NTS Physical Flows, Aldbrough, Storage",0]
["2010-02-22","NTS Physical Flows, Avonmouth, LNG",0]
["2010-02-22","NTS Physical Flows, Glenmavis, LNG",0]
["2010-02-22","NTS Physical Flows, Hatfield Moor, Storage",0]
["2010-02-22","NTS Physical Flows, HoleHousFm, Storage",0]
["2010-02-22","NTS Physical Flows, Hornsea, Storage",0.24481]
["2010-02-22","NTS Physical Flows, HumblyGrov, Storage",0]
["2010-02-22","NTS Physical Flows, Partington, LNG",0]
["2010-02-22","NTS Physical Flows, Rough, Storage",1.5399]
["2010-02-23","NTS Physical Flows, Aldbrough, Storage",0]
["2010-02-23","NTS Physical Flows, Avonmouth, LNG",0]
["2010-02-23","NTS Physical Flows, Glenmavis, LNG",0]
["2010-02-23","NTS Physical Flows, Hornsea, Storage",0.35635]
["2010-02-23","NTS Physical Flows, HumblyGrov, Storage",0]
["2010-02-23","NTS Physical Flows, Partington, LNG",0]
["2010-02-23","NTS Physical Flows, Hatfield Moor, Storage",0]
["2010-02-23","NTS Physical Flows, HoleHousFm, Storage",1.3251999999999999]
["2010-02-23","NTS Physical Flows, Rough, Storage",1.1039000000000001]
["2010-02-24","NTS Physical Flows, Aldbrough, Storage",0]
["2010-02-24","NTS Physical Flows, Avonmouth, LNG",0]
["2010-02-24","NTS Physical Flows, Glenmavis, LNG",0]
["2010-02-24","NTS Physical Flows, Hatfield Moor, Storage",0]
["2010-02-24","NTS Physical Flows, HoleHousFm, Storage",0]
["2010-02-24","NTS Physical Flows, Hornsea, Storage",1.1124799999999999]
["2010-02-24","NTS Physical Flows, HumblyGrov, Storage",0]
["2010-02-24","NTS Physical Flows, Partington, LNG",0]
["2010-02-24","NTS Physical Flows, Rough, Storage",0.3498]
["2010-02-25","NTS Physical Flows, Aldbrough, Storage",0]
["2010-02-25","NTS Physical Flows, Avonmouth, LNG",0]
["2010-02-25","NTS Physical Flows, Glenmavis, LNG",0]
["2010-02-25","NTS Physical Flows, Hatfield Moor, Storage",0]
["2010-02-25","NTS Physical Flows, HoleHousFm, Storage",5.8983299999999996]
["2010-02-25","NTS Physical Flows, Hornsea, Storage",1.90848]
["2010-02-25","NTS Physical Flows, HumblyGrov, Storage",0]
["2010-02-25","NTS Physical Flows, Partington, LNG",0]
["2010-02-25","NTS Physical Flows, Rough, Storage",1.5820000000000001]
["2010-02-26","NTS Physical Flows, Aldbrough, Storage",6.0000000000000002E-5]
["2010-02-26","NTS Physical Flows, Avonmouth, LNG",0]
["2010-02-26","NTS Physical Flows, Glenmavis, LNG",0]
["2010-02-26","NTS Physical Flows, Hornsea, Storage",1.39442]
["2010-02-26","NTS Physical Flows, HumblyGrov, Storage",0]
["2010-02-26","NTS Physical Flows, Partington, LNG",0]
["2010-02-26","NTS Physical Flows, Hatfield Moor, Storage",0]
["2010-02-26","NTS Physical Flows, HoleHousFm, Storage",0]
["2010-02-26","NTS Physical Flows, Rough, Storage",1.5438000000000001]
["2010-02-27","NTS Physical Flows, Aldbrough, Storage",2.6900000000000001E-3]
["2010-02-27","NTS Physical Flows, Avonmouth, LNG",0]
["2010-02-27","NTS Physical Flows, Glenmavis, LNG",0]
["2010-02-27","NTS Physical Flows, Hatfield Moor, Storage",0.31669999999999998]
["2010-02-27","NTS Physical Flows, HoleHousFm, Storage",8.0317399999999992]
["2010-02-27","NTS Physical Flows, Hornsea, Storage",1.3424799999999999]
["2010-02-27","NTS Physical Flows, HumblyGrov, Storage",4.4790000000000003E-2]
["2010-02-27","NTS Physical Flows, Partington, LNG",0]
["2010-02-27","NTS Physical Flows, Rough, Storage",2.8065000000000002]
["2010-02-28","NTS Physical Flows, Aldbrough, Storage",5.0265599999999999]
["2010-02-28","NTS Physical Flows, Glenmavis, LNG",0]
["2010-02-28","NTS Physical Flows, Hatfield Moor, Storage",0]
["2010-02-28","NTS Physical Flows, HoleHousFm, Storage",2.6128]
["2010-02-28","NTS Physical Flows, Hornsea, Storage",1.4092899999999999]
["2010-02-28","NTS Physical Flows, HumblyGrov, Storage",0]
["2010-02-28","NTS Physical Flows, Partington, LNG",0]
["2010-02-28","NTS Physical Flows, Rough, Storage",2.8001]
["2010-02-28","NTS Physical Flows, Avonmouth, LNG",0]
["2010-03-01","NTS Physical Flows, Aldbrough, Storage",5.1375400000000004]
["2010-03-01","NTS Physical Flows, Glenmavis, LNG",0]
["2010-03-01","NTS Physical Flows, Hatfield Moor, Storage",0]
["2010-03-01","NTS Physical Flows, HoleHousFm, Storage",2.00495]
["2010-03-01","NTS Physical Flows, Hornsea, Storage",2.1684899999999998]
["2010-03-01","NTS Physical Flows, HumblyGrov, Storage",0]
["2010-03-01","NTS Physical Flows, Partington, LNG",0]
["2010-03-01","NTS Physical Flows, Rough, Storage",0.89900000000000002]
["2010-03-01","NTS Physical Flows, Avonmouth, LNG",0]
["2010-03-02","NTS Physical Flows, Aldbrough, Storage",0]
["2010-03-02","NTS Physical Flows, Avonmouth, LNG",0]
["2010-03-02","NTS Physical Flows, Glenmavis, LNG",0]
["2010-03-02","NTS Physical Flows, Hatfield Moor, Storage",0]
["2010-03-02","NTS Physical Flows, HoleHousFm, Storage",0]
["2010-03-02","NTS Physical Flows, Hornsea, Storage",0.8952]
["2010-03-02","NTS Physical Flows, HumblyGrov, Storage",0]
["2010-03-02","NTS Physical Flows, Partington, LNG",0]
["2010-03-02","NTS Physical Flows, Rough, Storage",2.8E-3]
["2010-03-03","NTS Physical Flows, Aldbrough, Storage",6.0380000000000003E-2]
["2010-03-03","NTS Physical Flows, Avonmouth, LNG",0]
["2010-03-03","NTS Physical Flows, Glenmavis, LNG",0]
["2010-03-03","NTS Physical Flows, Hatfield Moor, Storage",0]
["2010-03-03","NTS Physical Flows, HoleHousFm, Storage",0]
["2010-03-03","NTS Physical Flows, Hornsea, Storage",0.44794]
["2010-03-03","NTS Physical Flows, HumblyGrov, Storage",0]
["2010-03-03","NTS Physical Flows, Partington, LNG",0]
["2010-03-03","NTS Physical Flows, Rough, Storage",0.66910000000000003]
["2010-03-04","NTS Physical Flows, Aldbrough, Storage",3.6321300000000001]
["2010-03-04","NTS Physical Flows, Avonmouth, LNG",0]
["2010-03-04","NTS Physical Flows, Glenmavis, LNG",0]
["2010-03-04","NTS Physical Flows, Hatfield Moor, Storage",0]
["2010-03-04","NTS Physical Flows, HoleHousFm, Storage",0]
["2010-03-04","NTS Physical Flows, Hornsea, Storage",0.83192999999999995]
["2010-03-04","NTS Physical Flows, HumblyGrov, Storage",0]
["2010-03-04","NTS Physical Flows, Partington, LNG",0]
["2010-03-04","NTS Physical Flows, Rough, Storage",8.8000000000000005E-3]
["2010-03-05","NTS Physical Flows, Aldbrough, Storage",2.4599999999999999E-3]
["2010-03-05","NTS Physical Flows, Avonmouth, LNG",0]
["2010-03-05","NTS Physical Flows, Glenmavis, LNG",0]
["2010-03-05","NTS Physical Flows, Hatfield Moor, Storage",0]
["2010-03-05","NTS Physical Flows, HoleHousFm, Storage",3.0954199999999998]
["2010-03-05","NTS Physical Flows, Hornsea, Storage",0.43519000000000002]
["2010-03-05","NTS Physical Flows, HumblyGrov, Storage",0]
["2010-03-05","NTS Physical Flows, Partington, LNG",0]
["2010-03-05","NTS Physical Flows, Rough, Storage",2.3E-3]
["2010-03-06","NTS Physical Flows, Aldbrough, Storage",0]
["2010-03-06","NTS Physical Flows, Avonmouth, LNG",0]
["2010-03-06","NTS Physical Flows, Glenmavis, LNG",0]
["2010-03-06","NTS Physical Flows, Hatfield Moor, Storage",0]
["2010-03-06","NTS Physical Flows, HoleHousFm, Storage",0]
["2010-03-06","NTS Physical Flows, Hornsea, Storage",0.44235000000000002]
["2010-03-06","NTS Physical Flows, HumblyGrov, Storage",0]
["2010-03-06","NTS Physical Flows, Partington, LNG",0]
["2010-03-06","NTS Physical Flows, Rough, Storage",1.1599999999999999E-2]
["2010-03-07","NTS Physical Flows, Aldbrough, Storage",0]
["2010-03-07","NTS Physical Flows, Avonmouth, LNG",0]
["2010-03-07","NTS Physical Flows, Glenmavis, LNG",0]
["2010-03-07","NTS Physical Flows, Hatfield Moor, Storage",0]
["2010-03-07","NTS Physical Flows, HoleHousFm, Storage",1.07223]
["2010-03-07","NTS Physical Flows, Hornsea, Storage",0.43551000000000001]
["2010-03-07","NTS Physical Flows, HumblyGrov, Storage",0]
["2010-03-07","NTS Physical Flows, Partington, LNG",0]
["2010-03-07","NTS Physical Flows, Rough, Storage",0]
["2010-03-08","NTS Physical Flows, Aldbrough, Storage",0.16927]
["2010-03-08","NTS Physical Flows, Hatfield Moor, Storage",0]
["2010-03-08","NTS Physical Flows, HoleHousFm, Storage",0]
["2010-03-08","NTS Physical Flows, Hornsea, Storage",0.42803000000000002]
["2010-03-08","NTS Physical Flows, HumblyGrov, Storage",0]
["2010-03-08","NTS Physical Flows, Rough, Storage",6.0000000000000001E-3]
["2010-03-08","NTS Physical Flows, Avonmouth, LNG",0]
["2010-03-08","NTS Physical Flows, Glenmavis, LNG",0]
["2010-03-08","NTS Physical Flows, Partington, LNG",0]
["2010-03-09","NTS Physical Flows, Aldbrough, Storage",0]
["2010-03-09","NTS Physical Flows, Avonmouth, LNG",0]
["2010-03-09","NTS Physical Flows, Glenmavis, LNG",0]
["2010-03-09","NTS Physical Flows, Hatfield Moor, Storage",0]
["2010-03-09","NTS Physical Flows, HoleHousFm, Storage",0]
["2010-03-09","NTS Physical Flows, Hornsea, Storage",0.16927]
["2010-03-09","NTS Physical Flows, HumblyGrov, Storage",0]
["2010-03-09","NTS Physical Flows, Partington, LNG",0]
["2010-03-09","NTS Physical Flows, Rough, Storage",6.4999999999999997E-3]
["2010-03-10","NTS Physical Flows, Aldbrough, Storage",0]
["2010-03-10","NTS Physical Flows, Avonmouth, LNG",1.78152]
["2010-03-10","NTS Physical Flows, Glenmavis, LNG",0.76941000000000004]
["2010-03-10","NTS Physical Flows, Hatfield Moor, Storage",0]
["2010-03-10","NTS Physical Flows, HoleHousFm, Storage",0]
["2010-03-10","NTS Physical Flows, Hornsea, Storage",0.20180999999999999]
["2010-03-10","NTS Physical Flows, HumblyGrov, Storage",0]
["2010-03-10","NTS Physical Flows, Partington, LNG",0]
["2010-03-10","NTS Physical Flows, Rough, Storage",0]
["2010-03-11","NTS Physical Flows, Aldbrough, Storage",1.155E-2]
["2010-03-11","NTS Physical Flows, Avonmouth, LNG",1.0151699999999999]
["2010-03-11","NTS Physical Flows, Glenmavis, LNG",0]
["2010-03-11","NTS Physical Flows, Hatfield Moor, Storage",0]
["2010-03-11","NTS Physical Flows, HoleHousFm, Storage",0]
["2010-03-11","NTS Physical Flows, Hornsea, Storage",0.69615000000000005]
["2010-03-11","NTS Physical Flows, HumblyGrov, Storage",0]
["2010-03-11","NTS Physical Flows, Partington, LNG",0]
["2010-03-11","NTS Physical Flows, Rough, Storage",1.95E-2]
["2010-03-12","NTS Physical Flows, Aldbrough, Storage",1.6834899999999999]
["2010-03-12","NTS Physical Flows, Avonmouth, LNG",0]
["2010-03-12","NTS Physical Flows, Glenmavis, LNG",0]
["2010-03-12","NTS Physical Flows, Hatfield Moor, Storage",0]
["2010-03-12","NTS Physical Flows, HoleHousFm, Storage",0.62019000000000002]
["2010-03-12","NTS Physical Flows, Hornsea, Storage",0.63461000000000001]
["2010-03-12","NTS Physical Flows, HumblyGrov, Storage",1.1195200000000001]
["2010-03-12","NTS Physical Flows, Partington, LNG",0]
["2010-03-12","NTS Physical Flows, Rough, Storage",6.1999999999999998E-3]
["2010-03-13","NTS Physical Flows, Aldbrough, Storage",0]
["2010-03-13","NTS Physical Flows, Avonmouth, LNG",0]
["2010-03-13","NTS Physical Flows, Glenmavis, LNG",0]
["2010-03-13","NTS Physical Flows, Hatfield Moor, Storage",0]
["2010-03-13","NTS Physical Flows, HoleHousFm, Storage",0]
["2010-03-13","NTS Physical Flows, Hornsea, Storage",2.0582699999999998]
["2010-03-13","NTS Physical Flows, HumblyGrov, Storage",0]
["2010-03-13","NTS Physical Flows, Partington, LNG",0]
["2010-03-13","NTS Physical Flows, Rough, Storage",1.6577999999999999]
["2010-03-14","NTS Physical Flows, Aldbrough, Storage",0.37422]
["2010-03-14","NTS Physical Flows, Avonmouth, LNG",0]
["2010-03-14","NTS Physical Flows, Glenmavis, LNG",0]
["2010-03-14","NTS Physical Flows, Hatfield Moor, Storage",0]
["2010-03-14","NTS Physical Flows, HoleHousFm, Storage",0]
["2010-03-14","NTS Physical Flows, Hornsea, Storage",0.88241000000000003]
["2010-03-14","NTS Physical Flows, HumblyGrov, Storage",0]
["2010-03-14","NTS Physical Flows, Partington, LNG",0]
["2010-03-14","NTS Physical Flows, Rough, Storage",1.7527999999999999]
["2010-03-15","NTS Physical Flows, Aldbrough, Storage",0]
["2010-03-15","NTS Physical Flows, Avonmouth, LNG",0.46925]
["2010-03-15","NTS Physical Flows, Glenmavis, LNG",0]
["2010-03-15","NTS Physical Flows, Hatfield Moor, Storage",0]
["2010-03-15","NTS Physical Flows, HoleHousFm, Storage",0]
["2010-03-15","NTS Physical Flows, Hornsea, Storage",0.68240000000000001]
["2010-03-15","NTS Physical Flows, HumblyGrov, Storage",0]
["2010-03-15","NTS Physical Flows, Partington, LNG",0]
["2010-03-15","NTS Physical Flows, Rough, Storage",1.1758]
["2010-03-16","NTS Physical Flows, Aldbrough, Storage",0]
["2010-03-16","NTS Physical Flows, Avonmouth, LNG",0]
["2010-03-16","NTS Physical Flows, Glenmavis, LNG",0]
["2010-03-16","NTS Physical Flows, Hatfield Moor, Storage",0]
["2010-03-16","NTS Physical Flows, HoleHousFm, Storage",2.4211999999999998]
["2010-03-16","NTS Physical Flows, Hornsea, Storage",0.62953999999999999]
["2010-03-16","NTS Physical Flows, HumblyGrov, Storage",0.69023999999999996]
["2010-03-16","NTS Physical Flows, Partington, LNG",0]
["2010-03-16","NTS Physical Flows, Rough, Storage",7.4000000000000003E-3]
["2010-03-17","NTS Physical Flows, Aldbrough, Storage",0]
["2010-03-17","NTS Physical Flows, Avonmouth, LNG",0]
["2010-03-17","NTS Physical Flows, Glenmavis, LNG",0]
["2010-03-17","NTS Physical Flows, Hatfield Moor, Storage",0]
["2010-03-17","NTS Physical Flows, HoleHousFm, Storage",2.15117]
["2010-03-17","NTS Physical Flows, Hornsea, Storage",0.62185999999999997]
["2010-03-17","NTS Physical Flows, HumblyGrov, Storage",0.92061000000000004]
["2010-03-17","NTS Physical Flows, Partington, LNG",0]
["2010-03-17","NTS Physical Flows, Rough, Storage",0.74629999999999996]
["2010-03-18","NTS Physical Flows, Aldbrough, Storage",3.09423]
["2010-03-18","NTS Physical Flows, Avonmouth, LNG",0]
["2010-03-18","NTS Physical Flows, Glenmavis, LNG",0]
["2010-03-18","NTS Physical Flows, Hatfield Moor, Storage",0]
["2010-03-18","NTS Physical Flows, HoleHousFm, Storage",0]
["2010-03-18","NTS Physical Flows, Hornsea, Storage",0.93993000000000004]
["2010-03-18","NTS Physical Flows, HumblyGrov, Storage",2.0806900000000002]
["2010-03-18","NTS Physical Flows, Partington, LNG",0]
["2010-03-18","NTS Physical Flows, Rough, Storage",4.6247999999999996]
["2010-03-19","NTS Physical Flows, Aldbrough, Storage",8.7184200000000001]
["2010-03-19","NTS Physical Flows, Avonmouth, LNG",0]
["2010-03-19","NTS Physical Flows, Glenmavis, LNG",0]
["2010-03-19","NTS Physical Flows, Hatfield Moor, Storage",1.1132]
["2010-03-19","NTS Physical Flows, HoleHousFm, Storage",6.0989199999999997]
["2010-03-19","NTS Physical Flows, Hornsea, Storage",2.5158900000000002]
["2010-03-19","NTS Physical Flows, HumblyGrov, Storage",4.1082799999999997]
["2010-03-19","NTS Physical Flows, Partington, LNG",0]
["2010-03-19","NTS Physical Flows, Rough, Storage",13.8239]
["2010-03-20","NTS Physical Flows, Aldbrough, Storage",5.07545]
["2010-03-20","NTS Physical Flows, Avonmouth, LNG",0]
["2010-03-20","NTS Physical Flows, Glenmavis, LNG",0]
["2010-03-20","NTS Physical Flows, Hatfield Moor, Storage",0.47460000000000002]
["2010-03-20","NTS Physical Flows, HoleHousFm, Storage",1.7970699999999999]
["2010-03-20","NTS Physical Flows, Hornsea, Storage",1.3021499999999999]
["2010-03-20","NTS Physical Flows, HumblyGrov, Storage",2.8752200000000001]
["2010-03-20","NTS Physical Flows, Partington, LNG",0]
["2010-03-20","NTS Physical Flows, Rough, Storage",19.060099999999998]
["2010-03-21","NTS Physical Flows, Aldbrough, Storage",6.5393400000000002]
["2010-03-21","NTS Physical Flows, Avonmouth, LNG",0]
["2010-03-21","NTS Physical Flows, Glenmavis, LNG",0]
["2010-03-21","NTS Physical Flows, Hatfield Moor, Storage",1.0114000000000001]
["2010-03-21","NTS Physical Flows, HoleHousFm, Storage",0]
["2010-03-21","NTS Physical Flows, Hornsea, Storage",2.7875800000000002]
["2010-03-21","NTS Physical Flows, HumblyGrov, Storage",2.42686]
["2010-03-21","NTS Physical Flows, Partington, LNG",0]
["2010-03-21","NTS Physical Flows, Rough, Storage",19.5352]
["2010-03-22","NTS Physical Flows, Aldbrough, Storage",4.65909]
["2010-03-22","NTS Physical Flows, Avonmouth, LNG",0]
["2010-03-22","NTS Physical Flows, Glenmavis, LNG",0]
["2010-03-22","NTS Physical Flows, Hatfield Moor, Storage",0]
["2010-03-22","NTS Physical Flows, HoleHousFm, Storage",0]
["2010-03-22","NTS Physical Flows, Hornsea, Storage",1.7299899999999999]
["2010-03-22","NTS Physical Flows, HumblyGrov, Storage",1.0345299999999999]
["2010-03-22","NTS Physical Flows, Partington, LNG",0]
["2010-03-22","NTS Physical Flows, Rough, Storage",17.893999999999998]
["2010-03-23","NTS Physical Flows, Aldbrough, Storage",3.66052]
["2010-03-23","NTS Physical Flows, Avonmouth, LNG",0]
["2010-03-23","NTS Physical Flows, Glenmavis, LNG",0]
["2010-03-23","NTS Physical Flows, Hatfield Moor, Storage",0]
["2010-03-23","NTS Physical Flows, HoleHousFm, Storage",0]
["2010-03-23","NTS Physical Flows, Hornsea, Storage",1.4639500000000001]
["2010-03-23","NTS Physical Flows, HumblyGrov, Storage",0]
["2010-03-23","NTS Physical Flows, Partington, LNG",0]
["2010-03-23","NTS Physical Flows, Rough, Storage",11.891999999999999]
["2010-03-24","NTS Physical Flows, Aldbrough, Storage",6.63565]
["2010-03-24","NTS Physical Flows, Avonmouth, LNG",0]
["2010-03-24","NTS Physical Flows, Glenmavis, LNG",0]
["2010-03-24","NTS Physical Flows, Hornsea, Storage",1.25034]
["2010-03-24","NTS Physical Flows, HumblyGrov, Storage",1.1004799999999999]
["2010-03-24","NTS Physical Flows, Partington, LNG",0]
["2010-03-24","NTS Physical Flows, Hatfield Moor, Storage",0.59840000000000004]
["2010-03-24","NTS Physical Flows, HoleHousFm, Storage",5.43886]
["2010-03-24","NTS Physical Flows, Rough, Storage",16.164999999999999]
["2010-03-25","NTS Physical Flows, Aldbrough, Storage",6.0898500000000002]
["2010-03-25","NTS Physical Flows, Avonmouth, LNG",0]
["2010-03-25","NTS Physical Flows, Glenmavis, LNG",0]
["2010-03-25","NTS Physical Flows, Hatfield Moor, Storage",0]
["2010-03-25","NTS Physical Flows, HoleHousFm, Storage",6.2061099999999998]
["2010-03-25","NTS Physical Flows, Hornsea, Storage",1.9143300000000001]
["2010-03-25","NTS Physical Flows, HumblyGrov, Storage",1.85128]
["2010-03-25","NTS Physical Flows, Partington, LNG",0]
["2010-03-25","NTS Physical Flows, Rough, Storage",16.727799999999998]
["2010-03-26","NTS Physical Flows, Aldbrough, Storage",6.3423999999999996]
["2010-03-26","NTS Physical Flows, Rough, Storage",17.994499999999999]
["2010-03-26","NTS Physical Flows, Partington, LNG",0]
["2010-03-26","NTS Physical Flows, HumblyGrov, Storage",0.92678000000000005]
["2010-03-26","NTS Physical Flows, Hornsea, Storage",2.0932900000000001]
["2010-03-26","NTS Physical Flows, HoleHousFm, Storage",4.93581]
["2010-03-26","NTS Physical Flows, Glenmavis, LNG",0]
["2010-03-26","NTS Physical Flows, Hatfield Moor, Storage",0]
["2010-03-26","NTS Physical Flows, Avonmouth, LNG",0]
["2010-03-27","NTS Physical Flows, Aldbrough, Storage",5.9362599999999999]
["2010-03-27","NTS Physical Flows, Avonmouth, LNG",0]
["2010-03-27","NTS Physical Flows, Glenmavis, LNG",0]
["2010-03-27","NTS Physical Flows, Hatfield Moor, Storage",0.57110000000000005]
["2010-03-27","NTS Physical Flows, HoleHousFm, Storage",10.1363]
["2010-03-27","NTS Physical Flows, Hornsea, Storage",2.5133700000000001]
["2010-03-27","NTS Physical Flows, HumblyGrov, Storage",8]
["2010-03-27","NTS Physical Flows, Partington, LNG",0]
["2010-03-27","NTS Physical Flows, Rough, Storage",18.6584]
["2010-03-28","NTS Physical Flows, Aldbrough, Storage",6.1622500000000002]
["2010-03-28","NTS Physical Flows, Avonmouth, LNG",0]
["2010-03-28","NTS Physical Flows, Glenmavis, LNG",0]
["2010-03-28","NTS Physical Flows, Hatfield Moor, Storage",0.79590000000000005]
["2010-03-28","NTS Physical Flows, HoleHousFm, Storage",10.86623]
["2010-03-28","NTS Physical Flows, Hornsea, Storage",2.6623700000000001]
["2010-03-28","NTS Physical Flows, HumblyGrov, Storage",8.3225999999999996]
["2010-03-28","NTS Physical Flows, Partington, LNG",0]
["2010-03-28","NTS Physical Flows, Rough, Storage",17.782699999999998]
["2010-03-29","NTS Physical Flows, Aldbrough, Storage",5.0938299999999996]
["2010-03-29","NTS Physical Flows, Avonmouth, LNG",0]
["2010-03-29","NTS Physical Flows, Glenmavis, LNG",0]
["2010-03-29","NTS Physical Flows, Hornsea, Storage",2.6381199999999998]
["2010-03-29","NTS Physical Flows, HumblyGrov, Storage",3.8251900000000001]
["2010-03-29","NTS Physical Flows, Partington, LNG",0]
["2010-03-29","NTS Physical Flows, Hatfield Moor, Storage",1.3427]
["2010-03-29","NTS Physical Flows, HoleHousFm, Storage",5.1202500000000004]
["2010-03-29","NTS Physical Flows, Rough, Storage",13.3223]
["2010-03-30","NTS Physical Flows, Aldbrough, Storage",2.4876499999999999]
["2010-03-30","NTS Physical Flows, Avonmouth, LNG",0]
["2010-03-30","NTS Physical Flows, Glenmavis, LNG",0]
["2010-03-30","NTS Physical Flows, Hatfield Moor, Storage",0]
["2010-03-30","NTS Physical Flows, HoleHousFm, Storage",0]
["2010-03-30","NTS Physical Flows, Hornsea, Storage",3.0212500000000002]
["2010-03-30","NTS Physical Flows, HumblyGrov, Storage",0]
["2010-03-30","NTS Physical Flows, Partington, LNG",0]
["2010-03-30","NTS Physical Flows, Rough, Storage",13.582700000000001]
["2010-03-31","NTS Physical Flows, Aldbrough, Storage",1.3232999999999999]
["2010-03-31","NTS Physical Flows, Avonmouth, LNG",0]
["2010-03-31","NTS Physical Flows, Glenmavis, LNG",0]
["2010-03-31","NTS Physical Flows, Hatfield Moor, Storage",0]
["2010-03-31","NTS Physical Flows, HoleHousFm, Storage",0.22872000000000001]
["2010-03-31","NTS Physical Flows, Hornsea, Storage",3.0105499999999998]
["2010-03-31","NTS Physical Flows, HumblyGrov, Storage",1.0447]
["2010-03-31","NTS Physical Flows, Partington, LNG",0]
["2010-03-31","NTS Physical Flows, Rough, Storage",6.6097999999999999]
["2010-04-01","NTS Physical Flows, Avonmouth, LNG",0]
["2010-04-01","NTS Physical Flows, Hornsea, Storage",0]
["2010-04-01","NTS Physical Flows, HumblyGrov, Storage",0]
["2010-04-01","NTS Physical Flows, Partington, LNG",0]
["2010-04-01","NTS Physical Flows, Rough, Storage",17.400400000000001]
["2010-04-01","NTS Physical Flows, Glenmavis, LNG",0]
["2010-04-01","NTS Physical Flows, HoleHousFm, Storage",0]
["2010-04-01","NTS Physical Flows, Hatfield Moor, Storage",0]
["2010-04-01","NTS Physical Flows, Aldbrough, Storage",0]
["2010-04-02","NTS Physical Flows, Aldbrough, Storage",2.82E-3]
["2010-04-02","NTS Physical Flows, Avonmouth, LNG",0]
["2010-04-02","NTS Physical Flows, Glenmavis, LNG",0]
["2010-04-02","NTS Physical Flows, Hatfield Moor, Storage",0]
["2010-04-02","NTS Physical Flows, HoleHousFm, Storage",0]
["2010-04-02","NTS Physical Flows, Hornsea, Storage",6.0299999999999999E-2]
["2010-04-02","NTS Physical Flows, HumblyGrov, Storage",0]
["2010-04-02","NTS Physical Flows, Partington, LNG",0]
["2010-04-02","NTS Physical Flows, Rough, Storage",14.3459]
["2010-04-03","NTS Physical Flows, Rough, Storage",20.202100000000002]
["2010-04-03","NTS Physical Flows, Aldbrough, Storage",0.9042]
["2010-04-03","NTS Physical Flows, Partington, LNG",0]
["2010-04-03","NTS Physical Flows, HumblyGrov, Storage",0]
["2010-04-03","NTS Physical Flows, HoleHousFm, Storage",0]
["2010-04-03","NTS Physical Flows, Hornsea, Storage",0.54493999999999998]
["2010-04-03","NTS Physical Flows, Glenmavis, LNG",0]
["2010-04-03","NTS Physical Flows, Hatfield Moor, Storage",0]
["2010-04-03","NTS Physical Flows, Avonmouth, LNG",0]
["2010-04-04","NTS Physical Flows, Partington, LNG",0]
["2010-04-04","NTS Physical Flows, Aldbrough, Storage",0.45562999999999998]
["2010-04-04","NTS Physical Flows, Rough, Storage",21.464500000000001]
["2010-04-04","NTS Physical Flows, Hornsea, Storage",0.92210000000000003]
["2010-04-04","NTS Physical Flows, HumblyGrov, Storage",0]
["2010-04-04","NTS Physical Flows, HoleHousFm, Storage",0]
["2010-04-04","NTS Physical Flows, Glenmavis, LNG",0]
["2010-04-04","NTS Physical Flows, Hatfield Moor, Storage",0]
["2010-04-04","NTS Physical Flows, Avonmouth, LNG",0]
["2010-04-05","NTS Physical Flows, Aldbrough, Storage",1.6736599999999999]
["2010-04-05","NTS Physical Flows, Rough, Storage",23.015000000000001]
["2010-04-05","NTS Physical Flows, Partington, LNG",0]
["2010-04-05","NTS Physical Flows, Hornsea, Storage",0.60855000000000004]
["2010-04-05","NTS Physical Flows, HumblyGrov, Storage",0]
["2010-04-05","NTS Physical Flows, HoleHousFm, Storage",0]
["2010-04-05","NTS Physical Flows, Glenmavis, LNG",0]
["2010-04-05","NTS Physical Flows, Hatfield Moor, Storage",0]
["2010-04-05","NTS Physical Flows, Avonmouth, LNG",0]
["2010-04-06","NTS Physical Flows, Aldbrough, Storage",0.55718000000000001]
["2010-04-06","NTS Physical Flows, Avonmouth, LNG",0]
["2010-04-06","NTS Physical Flows, Glenmavis, LNG",0]
["2010-04-06","NTS Physical Flows, Hatfield Moor, Storage",0]
["2010-04-06","NTS Physical Flows, HoleHousFm, Storage",0]
["2010-04-06","NTS Physical Flows, Hornsea, Storage",0.35709999999999997]
["2010-04-06","NTS Physical Flows, HumblyGrov, Storage",0]
["2010-04-06","NTS Physical Flows, Partington, LNG",0]
["2010-04-06","NTS Physical Flows, Rough, Storage",21.1112]
["2010-04-07","NTS Physical Flows, Aldbrough, Storage",0]
["2010-04-07","NTS Physical Flows, Avonmouth, LNG",1.46516]
["2010-04-07","NTS Physical Flows, Glenmavis, LNG",0]
["2010-04-07","NTS Physical Flows, Hatfield Moor, Storage",0]
["2010-04-07","NTS Physical Flows, HoleHousFm, Storage",0]
["2010-04-07","NTS Physical Flows, Hornsea, Storage",0]
["2010-04-07","NTS Physical Flows, HumblyGrov, Storage",0]
["2010-04-07","NTS Physical Flows, Partington, LNG",0]
["2010-04-07","NTS Physical Flows, Rough, Storage",9.9901999999999997]
["2010-04-08","NTS Physical Flows, Aldbrough, Storage",0]
["2010-04-08","NTS Physical Flows, Avonmouth, LNG",0.36629]
["2010-04-08","NTS Physical Flows, Glenmavis, LNG",0]
["2010-04-08","NTS Physical Flows, Hatfield Moor, Storage",0]
["2010-04-08","NTS Physical Flows, HoleHousFm, Storage",0]
["2010-04-08","NTS Physical Flows, Hornsea, Storage",5.5900000000000004E-3]
["2010-04-08","NTS Physical Flows, HumblyGrov, Storage",0]
["2010-04-08","NTS Physical Flows, Partington, LNG",0]
["2010-04-08","NTS Physical Flows, Rough, Storage",6.3548999999999998]
["2010-04-09","NTS Physical Flows, Aldbrough, Storage",3.6749900000000002]
["2010-04-09","NTS Physical Flows, Avonmouth, LNG",0]
["2010-04-09","NTS Physical Flows, Glenmavis, LNG",0]
["2010-04-09","NTS Physical Flows, Hatfield Moor, Storage",0]
["2010-04-09","NTS Physical Flows, HoleHousFm, Storage",0]
["2010-04-09","NTS Physical Flows, Hornsea, Storage",1.27135]
["2010-04-09","NTS Physical Flows, HumblyGrov, Storage",0]
["2010-04-09","NTS Physical Flows, Partington, LNG",0]
["2010-04-09","NTS Physical Flows, Rough, Storage",24.372399999999999]
["2010-04-10","NTS Physical Flows, Aldbrough, Storage",4.4167199999999998]
["2010-04-10","NTS Physical Flows, Avonmouth, LNG",0.12583]
["2010-04-10","NTS Physical Flows, Glenmavis, LNG",0]
["2010-04-10","NTS Physical Flows, Hatfield Moor, Storage",0]
["2010-04-10","NTS Physical Flows, HoleHousFm, Storage",9.2645]
["2010-04-10","NTS Physical Flows, Hornsea, Storage",1.03959]
["2010-04-10","NTS Physical Flows, HumblyGrov, Storage",2.9918399999999998]
["2010-04-10","NTS Physical Flows, Partington, LNG",0]
["2010-04-10","NTS Physical Flows, Rough, Storage",23.1783]
["2010-04-11","NTS Physical Flows, Aldbrough, Storage",5.3179999999999996]
["2010-04-11","NTS Physical Flows, Avonmouth, LNG",0.25235999999999997]
["2010-04-11","NTS Physical Flows, Glenmavis, LNG",0]
["2010-04-11","NTS Physical Flows, Hornsea, Storage",0.95557000000000003]
["2010-04-11","NTS Physical Flows, HumblyGrov, Storage",0]
["2010-04-11","NTS Physical Flows, Partington, LNG",0]
["2010-04-11","NTS Physical Flows, Hatfield Moor, Storage",0]
["2010-04-11","NTS Physical Flows, HoleHousFm, Storage",5.2590899999999996]
["2010-04-11","NTS Physical Flows, Rough, Storage",25.952500000000001]
["2010-04-12","NTS Physical Flows, Aldbrough, Storage",2.97248]
["2010-04-12","NTS Physical Flows, Avonmouth, LNG",0.19875000000000001]
["2010-04-12","NTS Physical Flows, Glenmavis, LNG",0]
["2010-04-12","NTS Physical Flows, Hatfield Moor, Storage",0]
["2010-04-12","NTS Physical Flows, HoleHousFm, Storage",0.31319000000000002]
["2010-04-12","NTS Physical Flows, Hornsea, Storage",0.51504000000000005]
["2010-04-12","NTS Physical Flows, HumblyGrov, Storage",0]
["2010-04-12","NTS Physical Flows, Partington, LNG",0]
["2010-04-12","NTS Physical Flows, Rough, Storage",23.712299999999999]
["2010-04-13","NTS Physical Flows, Aldbrough, Storage",0]
["2010-04-13","NTS Physical Flows, Avonmouth, LNG",0.25380000000000003]
["2010-04-13","NTS Physical Flows, Glenmavis, LNG",0]
["2010-04-13","NTS Physical Flows, Hatfield Moor, Storage",0]
["2010-04-13","NTS Physical Flows, HoleHousFm, Storage",0]
["2010-04-13","NTS Physical Flows, Hornsea, Storage",0]
["2010-04-13","NTS Physical Flows, HumblyGrov, Storage",0]
["2010-04-13","NTS Physical Flows, Partington, LNG",0]
["2010-04-13","NTS Physical Flows, Rough, Storage",23.4468]
["2010-04-14","NTS Physical Flows, Aldbrough, Storage",1.2999999999999999E-4]
["2010-04-14","NTS Physical Flows, Avonmouth, LNG",0.25586999999999999]
["2010-04-14","NTS Physical Flows, Glenmavis, LNG",0]
["2010-04-14","NTS Physical Flows, Hatfield Moor, Storage",0]
["2010-04-14","NTS Physical Flows, HoleHousFm, Storage",0]
["2010-04-14","NTS Physical Flows, Hornsea, Storage",0]
["2010-04-14","NTS Physical Flows, HumblyGrov, Storage",0]
["2010-04-14","NTS Physical Flows, Partington, LNG",0]
["2010-04-14","NTS Physical Flows, Rough, Storage",19.406099999999999]
["2010-04-15","NTS Physical Flows, Aldbrough, Storage",3.6347999999999998]
["2010-04-15","NTS Physical Flows, Avonmouth, LNG",0.24679000000000001]
["2010-04-15","NTS Physical Flows, Glenmavis, LNG",0]
["2010-04-15","NTS Physical Flows, Hornsea, Storage",0.90054999999999996]
["2010-04-15","NTS Physical Flows, HumblyGrov, Storage",0]
["2010-04-15","NTS Physical Flows, Partington, LNG",0]
["2010-04-15","NTS Physical Flows, Hatfield Moor, Storage",0]
["2010-04-15","NTS Physical Flows, HoleHousFm, Storage",0]
["2010-04-15","NTS Physical Flows, Rough, Storage",21.958500000000001]
["2010-04-16","NTS Physical Flows, Aldbrough, Storage",7.85764]
["2010-04-16","NTS Physical Flows, Avonmouth, LNG",0.25372]
["2010-04-16","NTS Physical Flows, Glenmavis, LNG",0]
["2010-04-16","NTS Physical Flows, Hatfield Moor, Storage",0]
["2010-04-16","NTS Physical Flows, HoleHousFm, Storage",2.3688199999999999]
["2010-04-16","NTS Physical Flows, Hornsea, Storage",3.0995900000000001]
["2010-04-16","NTS Physical Flows, HumblyGrov, Storage",0]
["2010-04-16","NTS Physical Flows, Partington, LNG",0]
["2010-04-16","NTS Physical Flows, Rough, Storage",28.562200000000001]
["2010-04-17","NTS Physical Flows, Aldbrough, Storage",9.8699600000000007]
["2010-04-17","NTS Physical Flows, Avonmouth, LNG",0.25283]
["2010-04-17","NTS Physical Flows, Glenmavis, LNG",0]
["2010-04-17","NTS Physical Flows, Hatfield Moor, Storage",0]
["2010-04-17","NTS Physical Flows, HoleHousFm, Storage",1.52138]
["2010-04-17","NTS Physical Flows, Hornsea, Storage",3.0285500000000001]
["2010-04-17","NTS Physical Flows, HumblyGrov, Storage",3.1049199999999999]
["2010-04-17","NTS Physical Flows, Partington, LNG",0]
["2010-04-17","NTS Physical Flows, Rough, Storage",26.858799999999999]
["2010-04-18","NTS Physical Flows, Aldbrough, Storage",6.8707099999999999]
["2010-04-18","NTS Physical Flows, Avonmouth, LNG",0.26874999999999999]
["2010-04-18","NTS Physical Flows, Glenmavis, LNG",0]
["2010-04-18","NTS Physical Flows, Hatfield Moor, Storage",0]
["2010-04-18","NTS Physical Flows, HoleHousFm, Storage",1.08429]
["2010-04-18","NTS Physical Flows, Hornsea, Storage",1.7216400000000001]
["2010-04-18","NTS Physical Flows, HumblyGrov, Storage",1.8931899999999999]
["2010-04-18","NTS Physical Flows, Partington, LNG",0]
["2010-04-18","NTS Physical Flows, Rough, Storage",27.691299999999998]
["2010-04-19","NTS Physical Flows, Aldbrough, Storage",2.8046899999999999]
["2010-04-19","NTS Physical Flows, Avonmouth, LNG",0.26650000000000001]
["2010-04-19","NTS Physical Flows, Glenmavis, LNG",0]
["2010-04-19","NTS Physical Flows, Hatfield Moor, Storage",0]
["2010-04-19","NTS Physical Flows, HoleHousFm, Storage",0]
["2010-04-19","NTS Physical Flows, Hornsea, Storage",0.85443000000000002]
["2010-04-19","NTS Physical Flows, HumblyGrov, Storage",0]
["2010-04-19","NTS Physical Flows, Partington, LNG",0]
["2010-04-19","NTS Physical Flows, Rough, Storage",27.052499999999998]
["2010-04-20","NTS Physical Flows, Aldbrough, Storage",0.55042000000000002]
["2010-04-20","NTS Physical Flows, Avonmouth, LNG",0.24643999999999999]
["2010-04-20","NTS Physical Flows, Glenmavis, LNG",0]
["2010-04-20","NTS Physical Flows, Hatfield Moor, Storage",0]
["2010-04-20","NTS Physical Flows, HoleHousFm, Storage",0]
["2010-04-20","NTS Physical Flows, Hornsea, Storage",2.6165500000000002]
["2010-04-20","NTS Physical Flows, HumblyGrov, Storage",0]
["2010-04-20","NTS Physical Flows, Partington, LNG",0]
["2010-04-20","NTS Physical Flows, Rough, Storage",26.991800000000001]
["2010-04-21","NTS Physical Flows, Aldbrough, Storage",2.3609999999999999E-2]
["2010-04-21","NTS Physical Flows, Hornsea, Storage",1.40984]
["2010-04-21","NTS Physical Flows, Avonmouth, LNG",0.19377]
["2010-04-21","NTS Physical Flows, Glenmavis, LNG",0]
["2010-04-21","NTS Physical Flows, Hatfield Moor, Storage",0]
["2010-04-21","NTS Physical Flows, HoleHousFm, Storage",0]
["2010-04-21","NTS Physical Flows, HumblyGrov, Storage",0]
["2010-04-21","NTS Physical Flows, Partington, LNG",0]
["2010-04-21","NTS Physical Flows, Rough, Storage",29.084099999999999]
["2010-04-22","NTS Physical Flows, Aldbrough, Storage",5.2641]
["2010-04-22","NTS Physical Flows, Avonmouth, LNG",0.30226999999999998]
["2010-04-22","NTS Physical Flows, Glenmavis, LNG",0]
["2010-04-22","NTS Physical Flows, Hatfield Moor, Storage",1.3561000000000001]
["2010-04-22","NTS Physical Flows, HoleHousFm, Storage",3.3874]
["2010-04-22","NTS Physical Flows, Hornsea, Storage",2.8264300000000002]
["2010-04-22","NTS Physical Flows, HumblyGrov, Storage",0]
["2010-04-22","NTS Physical Flows, Partington, LNG",0]
["2010-04-22","NTS Physical Flows, Rough, Storage",29.192499999999999]
["2010-04-23","NTS Physical Flows, Rough, Storage",26.0793]
["2010-04-23","NTS Physical Flows, Aldbrough, Storage",3.7210299999999998]
["2010-04-23","NTS Physical Flows, Avonmouth, LNG",0.25207000000000002]
["2010-04-23","NTS Physical Flows, Glenmavis, LNG",0]
["2010-04-23","NTS Physical Flows, Hatfield Moor, Storage",1.9377]
["2010-04-23","NTS Physical Flows, HoleHousFm, Storage",0.33417999999999998]
["2010-04-23","NTS Physical Flows, Hornsea, Storage",2.6020799999999999]
["2010-04-23","NTS Physical Flows, HumblyGrov, Storage",4.5154399999999999]
["2010-04-23","NTS Physical Flows, Partington, LNG",0]
["2010-04-24","NTS Physical Flows, Aldbrough, Storage",2.49804]
["2010-04-24","NTS Physical Flows, Avonmouth, LNG",0.23888000000000001]
["2010-04-24","NTS Physical Flows, Glenmavis, LNG",0]
["2010-04-24","NTS Physical Flows, Hatfield Moor, Storage",0.2366]
["2010-04-24","NTS Physical Flows, HoleHousFm, Storage",0]
["2010-04-24","NTS Physical Flows, Hornsea, Storage",1.5216799999999999]
["2010-04-24","NTS Physical Flows, HumblyGrov, Storage",7.5750200000000003]
["2010-04-24","NTS Physical Flows, Partington, LNG",0]
["2010-04-24","NTS Physical Flows, Rough, Storage",25.3293]
["2010-04-25","NTS Physical Flows, Aldbrough, Storage",1.1967699999999999]
["2010-04-25","NTS Physical Flows, Avonmouth, LNG",0.25329000000000002]
["2010-04-25","NTS Physical Flows, Glenmavis, LNG",0]
["2010-04-25","NTS Physical Flows, Hatfield Moor, Storage",0]
["2010-04-25","NTS Physical Flows, HoleHousFm, Storage",0]
["2010-04-25","NTS Physical Flows, Hornsea, Storage",1.2878000000000001]
["2010-04-25","NTS Physical Flows, HumblyGrov, Storage",8.2794899999999991]
["2010-04-25","NTS Physical Flows, Partington, LNG",0]
["2010-04-25","NTS Physical Flows, Rough, Storage",23.206499999999998]
["2010-04-26","NTS Physical Flows, Aldbrough, Storage",3.1509299999999998]
["2010-04-26","NTS Physical Flows, Hatfield Moor, Storage",1.0356000000000001]
["2010-04-26","NTS Physical Flows, HoleHousFm, Storage",6.1948100000000004]
["2010-04-26","NTS Physical Flows, Hornsea, Storage",2.67252]
["2010-04-26","NTS Physical Flows, HumblyGrov, Storage",4.6345999999999998]
["2010-04-26","NTS Physical Flows, Partington, LNG",0]
["2010-04-26","NTS Physical Flows, Rough, Storage",25.314499999999999]
["2010-04-26","NTS Physical Flows, Avonmouth, LNG",0.25850000000000001]
["2010-04-26","NTS Physical Flows, Glenmavis, LNG",0]
["2010-04-27","NTS Physical Flows, Aldbrough, Storage",9.5503900000000002]
["2010-04-27","NTS Physical Flows, Avonmouth, LNG",0.21607000000000001]
["2010-04-27","NTS Physical Flows, Glenmavis, LNG",0]
["2010-04-27","NTS Physical Flows, Hatfield Moor, Storage",0.33929999999999999]
["2010-04-27","NTS Physical Flows, HoleHousFm, Storage",3.17746]
["2010-04-27","NTS Physical Flows, Hornsea, Storage",3.0570200000000001]
["2010-04-27","NTS Physical Flows, HumblyGrov, Storage",0]
["2010-04-27","NTS Physical Flows, Partington, LNG",0]
["2010-04-27","NTS Physical Flows, Rough, Storage",25.339700000000001]
["2010-04-28","NTS Physical Flows, Aldbrough, Storage",9.7356700000000007]
["2010-04-28","NTS Physical Flows, Avonmouth, LNG",0.22825000000000001]
["2010-04-28","NTS Physical Flows, Glenmavis, LNG",0]
["2010-04-28","NTS Physical Flows, Hatfield Moor, Storage",0.6633]
["2010-04-28","NTS Physical Flows, HoleHousFm, Storage",6.6901700000000002]
["2010-04-28","NTS Physical Flows, Hornsea, Storage",2.5642900000000002]
["2010-04-28","NTS Physical Flows, HumblyGrov, Storage",4.2660200000000001]
["2010-04-28","NTS Physical Flows, Partington, LNG",0]
["2010-04-28","NTS Physical Flows, Rough, Storage",24.2256]
["2010-04-29","NTS Physical Flows, Aldbrough, Storage",4.6631]
["2010-04-29","NTS Physical Flows, Avonmouth, LNG",0.23344000000000001]
["2010-04-29","NTS Physical Flows, Glenmavis, LNG",0]
["2010-04-29","NTS Physical Flows, Hatfield Moor, Storage",0]
["2010-04-29","NTS Physical Flows, HoleHousFm, Storage",2.4336500000000001]
["2010-04-29","NTS Physical Flows, Hornsea, Storage",2.63836]
["2010-04-29","NTS Physical Flows, HumblyGrov, Storage",0.92506999999999995]
["2010-04-29","NTS Physical Flows, Partington, LNG",0]
["2010-04-29","NTS Physical Flows, Rough, Storage",23.746400000000001]
["2010-04-30","NTS Physical Flows, Aldbrough, Storage",1.30962]
["2010-04-30","NTS Physical Flows, Avonmouth, LNG",0.22253999999999999]
["2010-04-30","NTS Physical Flows, Glenmavis, LNG",0]
["2010-04-30","NTS Physical Flows, Hatfield Moor, Storage",0.72140000000000004]
["2010-04-30","NTS Physical Flows, HoleHousFm, Storage",4.5273300000000001]
["2010-04-30","NTS Physical Flows, Hornsea, Storage",2.08867]
["2010-04-30","NTS Physical Flows, HumblyGrov, Storage",0]
["2010-04-30","NTS Physical Flows, Partington, LNG",0]
["2010-04-30","NTS Physical Flows, Rough, Storage",25.005400000000002]
["2010-05-01","NTS Physical Flows, Hatfield Moor, Storage",0]
["2010-05-01","NTS Physical Flows, HoleHousFm, Storage",4.1765499999999998]
["2010-05-01","NTS Physical Flows, Hornsea, Storage",2.8258399999999999]
["2010-05-01","NTS Physical Flows, HumblyGrov, Storage",0.86419000000000001]
["2010-05-01","NTS Physical Flows, Rough, Storage",25.1693]
["2010-05-01","NTS Physical Flows, Aldbrough, Storage",2.6358000000000001]
["2010-05-01","NTS Physical Flows, Glenmavis, LNG",0]
["2010-05-01","NTS Physical Flows, Partington, LNG",0]
["2010-05-01","NTS Physical Flows, Avonmouth, LNG",0.23355000000000001]
["2010-05-02","NTS Physical Flows, Aldbrough, Storage",1.3126100000000001]
["2010-05-02","NTS Physical Flows, Avonmouth, LNG",0.25390000000000001]
["2010-05-02","NTS Physical Flows, Glenmavis, LNG",9.2660000000000006E-2]
["2010-05-02","NTS Physical Flows, Hatfield Moor, Storage",0]
["2010-05-02","NTS Physical Flows, HoleHousFm, Storage",0]
["2010-05-02","NTS Physical Flows, Hornsea, Storage",1.83342]
["2010-05-02","NTS Physical Flows, HumblyGrov, Storage",0]
["2010-05-02","NTS Physical Flows, Partington, LNG",0]
["2010-05-02","NTS Physical Flows, Rough, Storage",21.515799999999999]
["2010-05-03","NTS Physical Flows, Aldbrough, Storage",0.43180000000000002]
["2010-05-03","NTS Physical Flows, Avonmouth, LNG",0.27044000000000001]
["2010-05-03","NTS Physical Flows, Glenmavis, LNG",0.13372000000000001]
["2010-05-03","NTS Physical Flows, Hatfield Moor, Storage",0]
["2010-05-03","NTS Physical Flows, HoleHousFm, Storage",0]
["2010-05-03","NTS Physical Flows, Hornsea, Storage",0.66244999999999998]
["2010-05-03","NTS Physical Flows, HumblyGrov, Storage",0]
["2010-05-03","NTS Physical Flows, Partington, LNG",0]
["2010-05-03","NTS Physical Flows, Rough, Storage",11.451000000000001]
["2010-05-04","NTS Physical Flows, Aldbrough, Storage",0]
["2010-05-04","NTS Physical Flows, Avonmouth, LNG",0.26049]
["2010-05-04","NTS Physical Flows, Glenmavis, LNG",9.2660000000000006E-2]
["2010-05-04","NTS Physical Flows, Hatfield Moor, Storage",0]
["2010-05-04","NTS Physical Flows, HoleHousFm, Storage",0]
["2010-05-04","NTS Physical Flows, Hornsea, Storage",1.3016799999999999]
["2010-05-04","NTS Physical Flows, HumblyGrov, Storage",0]
["2010-05-04","NTS Physical Flows, Partington, LNG",0]
["2010-05-04","NTS Physical Flows, Rough, Storage",12.989000000000001]
["2010-05-05","NTS Physical Flows, Aldbrough, Storage",0]
["2010-05-05","NTS Physical Flows, Avonmouth, LNG",0.26325999999999999]
["2010-05-05","NTS Physical Flows, Glenmavis, LNG",9.2660000000000006E-2]
["2010-05-05","NTS Physical Flows, Hatfield Moor, Storage",0]
["2010-05-05","NTS Physical Flows, HoleHousFm, Storage",0]
["2010-05-05","NTS Physical Flows, Hornsea, Storage",0.94428999999999996]
["2010-05-05","NTS Physical Flows, HumblyGrov, Storage",0]
["2010-05-05","NTS Physical Flows, Partington, LNG",0]
["2010-05-05","NTS Physical Flows, Rough, Storage",21.010400000000001]
["2010-05-06","NTS Physical Flows, Aldbrough, Storage",5.1000000000000004E-4]
["2010-05-06","NTS Physical Flows, Avonmouth, LNG",0.26624999999999999]
["2010-05-06","NTS Physical Flows, Glenmavis, LNG",9.2660000000000006E-2]
["2010-05-06","NTS Physical Flows, Hatfield Moor, Storage",0]
["2010-05-06","NTS Physical Flows, HoleHousFm, Storage",1.20519]
["2010-05-06","NTS Physical Flows, Hornsea, Storage",0.94501000000000002]
["2010-05-06","NTS Physical Flows, HumblyGrov, Storage",0]
["2010-05-06","NTS Physical Flows, Partington, LNG",0]
["2010-05-06","NTS Physical Flows, Rough, Storage",20.194299999999998]
["2010-05-07","NTS Physical Flows, Aldbrough, Storage",1.0399999999999999E-3]
["2010-05-07","NTS Physical Flows, Hatfield Moor, Storage",0]
["2010-05-07","NTS Physical Flows, HoleHousFm, Storage",0]
["2010-05-07","NTS Physical Flows, Hornsea, Storage",0.87229000000000001]
["2010-05-07","NTS Physical Flows, HumblyGrov, Storage",0]
["2010-05-07","NTS Physical Flows, Partington, LNG",0.20973]
["2010-05-07","NTS Physical Flows, Rough, Storage",15.939]
["2010-05-07","NTS Physical Flows, Avonmouth, LNG",0.23988000000000001]
["2010-05-07","NTS Physical Flows, Glenmavis, LNG",9.2660000000000006E-2]
["2010-05-08","NTS Physical Flows, Aldbrough, Storage",0]
["2010-05-08","NTS Physical Flows, Avonmouth, LNG",0.31730999999999998]
["2010-05-08","NTS Physical Flows, Glenmavis, LNG",9.2660000000000006E-2]
["2010-05-08","NTS Physical Flows, Hatfield Moor, Storage",0]
["2010-05-08","NTS Physical Flows, HoleHousFm, Storage",0]
["2010-05-08","NTS Physical Flows, Hornsea, Storage",0.80857999999999997]
["2010-05-08","NTS Physical Flows, HumblyGrov, Storage",0]
["2010-05-08","NTS Physical Flows, Partington, LNG",0.44868999999999998]
["2010-05-08","NTS Physical Flows, Rough, Storage",18.736799999999999]
["2010-05-09","NTS Physical Flows, Aldbrough, Storage",0]
["2010-05-09","NTS Physical Flows, Avonmouth, LNG",0.24640000000000001]
["2010-05-09","NTS Physical Flows, Glenmavis, LNG",9.2660000000000006E-2]
["2010-05-09","NTS Physical Flows, Hatfield Moor, Storage",0]
["2010-05-09","NTS Physical Flows, HoleHousFm, Storage",0]
["2010-05-09","NTS Physical Flows, Hornsea, Storage",0.91124000000000005]
["2010-05-09","NTS Physical Flows, HumblyGrov, Storage",0]
["2010-05-09","NTS Physical Flows, Partington, LNG",0.44868999999999998]
["2010-05-09","NTS Physical Flows, Rough, Storage",21.961099999999998]
["2010-05-10","NTS Physical Flows, Aldbrough, Storage",1.6800000000000001E-3]
["2010-05-10","NTS Physical Flows, Avonmouth, LNG",0.23907999999999999]
["2010-05-10","NTS Physical Flows, Partington, LNG",0]
["2010-05-10","NTS Physical Flows, Glenmavis, LNG",9.2660000000000006E-2]
["2010-05-10","NTS Physical Flows, Hatfield Moor, Storage",0]
["2010-05-10","NTS Physical Flows, HoleHousFm, Storage",0]
["2010-05-10","NTS Physical Flows, Hornsea, Storage",0.82901999999999998]
["2010-05-10","NTS Physical Flows, HumblyGrov, Storage",0]
["2010-05-10","NTS Physical Flows, Rough, Storage",16.316400000000002]
["2010-05-11","NTS Physical Flows, Aldbrough, Storage",0.1179]
["2010-05-11","NTS Physical Flows, Glenmavis, LNG",9.2660000000000006E-2]
["2010-05-11","NTS Physical Flows, Hatfield Moor, Storage",0]
["2010-05-11","NTS Physical Flows, HoleHousFm, Storage",0]
["2010-05-11","NTS Physical Flows, Hornsea, Storage",0.51414000000000004]
["2010-05-11","NTS Physical Flows, HumblyGrov, Storage",0]
["2010-05-11","NTS Physical Flows, Partington, LNG",0]
["2010-05-11","NTS Physical Flows, Rough, Storage",8.2860999999999994]
["2010-05-11","NTS Physical Flows, Avonmouth, LNG",0.25237999999999999]
["2010-05-12","NTS Physical Flows, Aldbrough, Storage",5.1569200000000004]
["2010-05-12","NTS Physical Flows, Avonmouth, LNG",0.25877]
["2010-05-12","NTS Physical Flows, Glenmavis, LNG",9.2660000000000006E-2]
["2010-05-12","NTS Physical Flows, Hornsea, Storage",0.87731000000000003]
["2010-05-12","NTS Physical Flows, HumblyGrov, Storage",0]
["2010-05-12","NTS Physical Flows, Partington, LNG",0]
["2010-05-12","NTS Physical Flows, Hatfield Moor, Storage",0]
["2010-05-12","NTS Physical Flows, HoleHousFm, Storage",0]
["2010-05-12","NTS Physical Flows, Rough, Storage",8.8475999999999999]
["2010-05-13","NTS Physical Flows, Aldbrough, Storage",0.62861999999999996]
["2010-05-13","NTS Physical Flows, Avonmouth, LNG",0.25059999999999999]
["2010-05-13","NTS Physical Flows, Glenmavis, LNG",9.2660000000000006E-2]
["2010-05-13","NTS Physical Flows, Hatfield Moor, Storage",0]
["2010-05-13","NTS Physical Flows, HoleHousFm, Storage",0]
["2010-05-13","NTS Physical Flows, Hornsea, Storage",1.5785400000000001]
["2010-05-13","NTS Physical Flows, HumblyGrov, Storage",0]
["2010-05-13","NTS Physical Flows, Partington, LNG",0]
["2010-05-13","NTS Physical Flows, Rough, Storage",17.018599999999999]
["2010-05-14","NTS Physical Flows, Aldbrough, Storage",0.62861999999999996]
["2010-05-14","NTS Physical Flows, Avonmouth, LNG",0.26822000000000001]
["2010-05-14","NTS Physical Flows, Glenmavis, LNG",9.2660000000000006E-2]
["2010-05-14","NTS Physical Flows, Hatfield Moor, Storage",0]
["2010-05-14","NTS Physical Flows, HoleHousFm, Storage",0]
["2010-05-14","NTS Physical Flows, Hornsea, Storage",1.57904]
["2010-05-14","NTS Physical Flows, HumblyGrov, Storage",0]
["2010-05-14","NTS Physical Flows, Partington, LNG",0]
["2010-05-14","NTS Physical Flows, Rough, Storage",22.513300000000001]
["2010-05-15","NTS Physical Flows, Aldbrough, Storage",1.1809499999999999]
["2010-05-15","NTS Physical Flows, Avonmouth, LNG",0.25897999999999999]
["2010-05-15","NTS Physical Flows, Glenmavis, LNG",9.2660000000000006E-2]
["2010-05-15","NTS Physical Flows, Hatfield Moor, Storage",0.8468]
["2010-05-15","NTS Physical Flows, HoleHousFm, Storage",0]
["2010-05-15","NTS Physical Flows, Hornsea, Storage",2.1442399999999999]
["2010-05-15","NTS Physical Flows, HumblyGrov, Storage",7.9693399999999999]
["2010-05-15","NTS Physical Flows, Partington, LNG",0]
["2010-05-15","NTS Physical Flows, Rough, Storage",24.478100000000001]
["2010-05-16","NTS Physical Flows, Aldbrough, Storage",0.62861999999999996]
["2010-05-16","NTS Physical Flows, Avonmouth, LNG",0.27589999999999998]
["2010-05-16","NTS Physical Flows, Glenmavis, LNG",9.2660000000000006E-2]
["2010-05-16","NTS Physical Flows, Hatfield Moor, Storage",1.7535000000000001]
["2010-05-16","NTS Physical Flows, HoleHousFm, Storage",0]
["2010-05-16","NTS Physical Flows, Hornsea, Storage",1.9645999999999999]
["2010-05-16","NTS Physical Flows, HumblyGrov, Storage",8.2051499999999997]
["2010-05-16","NTS Physical Flows, Partington, LNG",0]
["2010-05-16","NTS Physical Flows, Rough, Storage",24.520900000000001]
["2010-05-17","NTS Physical Flows, Aldbrough, Storage",5.4020000000000001]
["2010-05-17","NTS Physical Flows, Avonmouth, LNG",0.26999000000000001]
["2010-05-17","NTS Physical Flows, Glenmavis, LNG",9.2660000000000006E-2]
["2010-05-17","NTS Physical Flows, Hatfield Moor, Storage",1.4204000000000001]
["2010-05-17","NTS Physical Flows, HoleHousFm, Storage",0]
["2010-05-17","NTS Physical Flows, Hornsea, Storage",2.9721700000000002]
["2010-05-17","NTS Physical Flows, HumblyGrov, Storage",0.94206000000000001]
["2010-05-17","NTS Physical Flows, Partington, LNG",0]
["2010-05-17","NTS Physical Flows, Rough, Storage",24.5639]
["2010-05-18","NTS Physical Flows, Aldbrough, Storage",1.42746]
["2010-05-18","NTS Physical Flows, Avonmouth, LNG",0.28148000000000001]
["2010-05-18","NTS Physical Flows, Glenmavis, LNG",9.2660000000000006E-2]
["2010-05-18","NTS Physical Flows, Hatfield Moor, Storage",1.0108999999999999]
["2010-05-18","NTS Physical Flows, HoleHousFm, Storage",0]
["2010-05-18","NTS Physical Flows, Hornsea, Storage",2.99146]
["2010-05-18","NTS Physical Flows, HumblyGrov, Storage",1.5665100000000001]
["2010-05-18","NTS Physical Flows, Partington, LNG",0]
["2010-05-18","NTS Physical Flows, Rough, Storage",23.491499999999998]
["2010-05-19","NTS Physical Flows, Aldbrough, Storage",9.6505399999999995]
["2010-05-19","NTS Physical Flows, Avonmouth, LNG",0.28251999999999999]
["2010-05-19","NTS Physical Flows, HumblyGrov, Storage",1.59005]
["2010-05-19","NTS Physical Flows, Partington, LNG",0]
["2010-05-19","NTS Physical Flows, Glenmavis, LNG",9.2660000000000006E-2]
["2010-05-19","NTS Physical Flows, Hatfield Moor, Storage",1.6818]
["2010-05-19","NTS Physical Flows, HoleHousFm, Storage",0]
["2010-05-19","NTS Physical Flows, Hornsea, Storage",2.9749099999999999]
["2010-05-19","NTS Physical Flows, Rough, Storage",21.561399999999999]
["2010-05-20","NTS Physical Flows, Aldbrough, Storage",8.7830200000000005]
["2010-05-20","NTS Physical Flows, Avonmouth, LNG",0.25594]
["2010-05-20","NTS Physical Flows, Glenmavis, LNG",9.2660000000000006E-2]
["2010-05-20","NTS Physical Flows, Hatfield Moor, Storage",2.2814000000000001]
["2010-05-20","NTS Physical Flows, HoleHousFm, Storage",6.6781600000000001]
["2010-05-20","NTS Physical Flows, Hornsea, Storage",2.78817]
["2010-05-20","NTS Physical Flows, HumblyGrov, Storage",3.1702300000000001]
["2010-05-20","NTS Physical Flows, Partington, LNG",0]
["2010-05-20","NTS Physical Flows, Rough, Storage",21.472899999999999]
["2010-05-21","NTS Physical Flows, Aldbrough, Storage",10.058299999999999]
["2010-05-21","NTS Physical Flows, Avonmouth, LNG",0.23871999999999999]
["2010-05-21","NTS Physical Flows, Glenmavis, LNG",9.2660000000000006E-2]
["2010-05-21","NTS Physical Flows, Hatfield Moor, Storage",0.45450000000000002]
["2010-05-21","NTS Physical Flows, HoleHousFm, Storage",7.1852999999999998]
["2010-05-21","NTS Physical Flows, Hornsea, Storage",2.6945800000000002]
["2010-05-21","NTS Physical Flows, HumblyGrov, Storage",0]
["2010-05-21","NTS Physical Flows, Partington, LNG",0]
["2010-05-21","NTS Physical Flows, Rough, Storage",23.8522]
["2010-05-22","NTS Physical Flows, Aldbrough, Storage",7.4385700000000003]
["2010-05-22","NTS Physical Flows, Avonmouth, LNG",0.26618999999999998]
["2010-05-22","NTS Physical Flows, Glenmavis, LNG",9.2660000000000006E-2]
["2010-05-22","NTS Physical Flows, Hatfield Moor, Storage",0.28079999999999999]
["2010-05-22","NTS Physical Flows, HoleHousFm, Storage",3.1165500000000002]
["2010-05-22","NTS Physical Flows, Hornsea, Storage",2.8283800000000001]
["2010-05-22","NTS Physical Flows, HumblyGrov, Storage",3.4929000000000001]
["2010-05-22","NTS Physical Flows, Partington, LNG",0]
["2010-05-22","NTS Physical Flows, Rough, Storage",21.3749]
["2010-05-23","NTS Physical Flows, Aldbrough, Storage",9.3356499999999993]
["2010-05-23","NTS Physical Flows, Avonmouth, LNG",0.23871999999999999]
["2010-05-23","NTS Physical Flows, Glenmavis, LNG",9.2660000000000006E-2]
["2010-05-23","NTS Physical Flows, Hatfield Moor, Storage",0]
["2010-05-23","NTS Physical Flows, HoleHousFm, Storage",4.4576900000000004]
["2010-05-23","NTS Physical Flows, Hornsea, Storage",2.8384100000000001]
["2010-05-23","NTS Physical Flows, HumblyGrov, Storage",3.1539700000000002]
["2010-05-23","NTS Physical Flows, Partington, LNG",0]
["2010-05-23","NTS Physical Flows, Rough, Storage",22.398299999999999]
["2010-05-24","NTS Physical Flows, Aldbrough, Storage",9.7068600000000007]
["2010-05-24","NTS Physical Flows, Avonmouth, LNG",0.23871999999999999]
["2010-05-24","NTS Physical Flows, Glenmavis, LNG",9.2660000000000006E-2]
["2010-05-24","NTS Physical Flows, Hatfield Moor, Storage",2.2717000000000001]
["2010-05-24","NTS Physical Flows, HoleHousFm, Storage",10.61491]
["2010-05-24","NTS Physical Flows, Hornsea, Storage",2.7105600000000001]
["2010-05-24","NTS Physical Flows, HumblyGrov, Storage",8.1945700000000006]
["2010-05-24","NTS Physical Flows, Partington, LNG",0]
["2010-05-24","NTS Physical Flows, Rough, Storage",23.577100000000002]
["2010-05-25","NTS Physical Flows, Aldbrough, Storage",8.5564800000000005]
["2010-05-25","NTS Physical Flows, Avonmouth, LNG",0.23630999999999999]
["2010-05-25","NTS Physical Flows, Glenmavis, LNG",9.2660000000000006E-2]
["2010-05-25","NTS Physical Flows, Hatfield Moor, Storage",0]
["2010-05-25","NTS Physical Flows, HoleHousFm, Storage",4.1524099999999997]
["2010-05-25","NTS Physical Flows, Hornsea, Storage",2.7033399999999999]
["2010-05-25","NTS Physical Flows, HumblyGrov, Storage",5.6082599999999996]
["2010-05-25","NTS Physical Flows, Partington, LNG",0]
["2010-05-25","NTS Physical Flows, Rough, Storage",23.849499999999999]
["2010-05-26","NTS Physical Flows, Aldbrough, Storage",1.3682399999999999]
["2010-05-26","NTS Physical Flows, Avonmouth, LNG",0.23805000000000001]
["2010-05-26","NTS Physical Flows, Glenmavis, LNG",9.2660000000000006E-2]
["2010-05-26","NTS Physical Flows, Hatfield Moor, Storage",0.27329999999999999]
["2010-05-26","NTS Physical Flows, HoleHousFm, Storage",0]
["2010-05-26","NTS Physical Flows, Hornsea, Storage",2.7480600000000002]
["2010-05-26","NTS Physical Flows, HumblyGrov, Storage",5.7597699999999996]
["2010-05-26","NTS Physical Flows, Partington, LNG",0]
["2010-05-26","NTS Physical Flows, Rough, Storage",24.270800000000001]
["2010-05-27","NTS Physical Flows, Aldbrough, Storage",0]
["2010-05-27","NTS Physical Flows, Avonmouth, LNG",0.25409999999999999]
["2010-05-27","NTS Physical Flows, Glenmavis, LNG",9.2660000000000006E-2]
["2010-05-27","NTS Physical Flows, Hatfield Moor, Storage",0.78349999999999997]
["2010-05-27","NTS Physical Flows, HoleHousFm, Storage",0]
["2010-05-27","NTS Physical Flows, Hornsea, Storage",2.5571000000000002]
["2010-05-27","NTS Physical Flows, HumblyGrov, Storage",0]
["2010-05-27","NTS Physical Flows, Partington, LNG",0]
["2010-05-27","NTS Physical Flows, Rough, Storage",23.901199999999999]
["2010-05-28","NTS Physical Flows, Aldbrough, Storage",1.5200000000000001E-3]
["2010-05-28","NTS Physical Flows, Hatfield Moor, Storage",1.2037]
["2010-05-28","NTS Physical Flows, HoleHousFm, Storage",0]
["2010-05-28","NTS Physical Flows, Hornsea, Storage",0.87209000000000003]
["2010-05-28","NTS Physical Flows, HumblyGrov, Storage",1.9053899999999999]
["2010-05-28","NTS Physical Flows, Rough, Storage",23.893000000000001]
["2010-05-28","NTS Physical Flows, Avonmouth, LNG",0.23677999999999999]
["2010-05-28","NTS Physical Flows, Glenmavis, LNG",9.2660000000000006E-2]
["2010-05-28","NTS Physical Flows, Partington, LNG",0]
["2010-05-29","NTS Physical Flows, Aldbrough, Storage",2.3400000000000001E-3]
["2010-05-29","NTS Physical Flows, Avonmouth, LNG",0.24959999999999999]
["2010-05-29","NTS Physical Flows, Glenmavis, LNG",9.2660000000000006E-2]
["2010-05-29","NTS Physical Flows, Hatfield Moor, Storage",0]
["2010-05-29","NTS Physical Flows, HoleHousFm, Storage",0]
["2010-05-29","NTS Physical Flows, Hornsea, Storage",0.86436999999999997]
["2010-05-29","NTS Physical Flows, HumblyGrov, Storage",0]
["2010-05-29","NTS Physical Flows, Partington, LNG",0]
["2010-05-29","NTS Physical Flows, Rough, Storage",24.001799999999999]
["2010-05-30","NTS Physical Flows, Aldbrough, Storage",0]
["2010-05-30","NTS Physical Flows, Avonmouth, LNG",0.24959999999999999]
["2010-05-30","NTS Physical Flows, Glenmavis, LNG",9.2660000000000006E-2]
["2010-05-30","NTS Physical Flows, Hatfield Moor, Storage",0.42559999999999998]
["2010-05-30","NTS Physical Flows, HoleHousFm, Storage",0]
["2010-05-30","NTS Physical Flows, Hornsea, Storage",0.86617]
["2010-05-30","NTS Physical Flows, HumblyGrov, Storage",0]
["2010-05-30","NTS Physical Flows, Partington, LNG",0]
["2010-05-30","NTS Physical Flows, Rough, Storage",24.2637]
["2010-05-31","NTS Physical Flows, Aldbrough, Storage",1.0095700000000001]
["2010-05-31","NTS Physical Flows, Avonmouth, LNG",0.24959999999999999]
["2010-05-31","NTS Physical Flows, Glenmavis, LNG",9.2660000000000006E-2]
["2010-05-31","NTS Physical Flows, Hatfield Moor, Storage",0.49130000000000001]
["2010-05-31","NTS Physical Flows, HoleHousFm, Storage",0]
["2010-05-31","NTS Physical Flows, Hornsea, Storage",0.85926000000000002]
["2010-05-31","NTS Physical Flows, HumblyGrov, Storage",0]
["2010-05-31","NTS Physical Flows, Partington, LNG",0]
["2010-05-31","NTS Physical Flows, Rough, Storage",24.349699999999999]
["2010-06-01","NTS Physical Flows, Rough, Storage",12.1943]
["2010-06-01","NTS Physical Flows, Aldbrough, Storage",1.65818]
["2010-06-01","NTS Physical Flows, Hatfield Moor, Storage",0.50439999999999996]
["2010-06-01","NTS Physical Flows, HoleHousFm, Storage",1.34588]
["2010-06-01","NTS Physical Flows, Hornsea, Storage",0.86377000000000004]
["2010-06-01","NTS Physical Flows, HumblyGrov, Storage",0]
["2010-06-01","NTS Physical Flows, Avonmouth, LNG",0.24959999999999999]
["2010-06-01","NTS Physical Flows, Glenmavis, LNG",9.2660000000000006E-2]
["2010-06-01","NTS Physical Flows, Partington, LNG",0]
["2010-06-02","NTS Physical Flows, Aldbrough, Storage",0]
["2010-06-02","NTS Physical Flows, Avonmouth, LNG",1.456E-2]
["2010-06-02","NTS Physical Flows, Glenmavis, LNG",9.2660000000000006E-2]
["2010-06-02","NTS Physical Flows, Hatfield Moor, Storage",0]
["2010-06-02","NTS Physical Flows, HoleHousFm, Storage",0]
["2010-06-02","NTS Physical Flows, Hornsea, Storage",0.87204999999999999]
["2010-06-02","NTS Physical Flows, HumblyGrov, Storage",0]
["2010-06-02","NTS Physical Flows, Partington, LNG",0]
["2010-06-02","NTS Physical Flows, Rough, Storage",24.947399999999998]
["2010-06-03","NTS Physical Flows, Aldbrough, Storage",0.55234000000000005]
["2010-06-03","NTS Physical Flows, Avonmouth, LNG",1.456E-2]
["2010-06-03","NTS Physical Flows, Glenmavis, LNG",9.2660000000000006E-2]
["2010-06-03","NTS Physical Flows, Hatfield Moor, Storage",1.5752999999999999]
["2010-06-03","NTS Physical Flows, HoleHousFm, Storage",1.68526]
["2010-06-03","NTS Physical Flows, Hornsea, Storage",0.87124000000000001]
["2010-06-03","NTS Physical Flows, HumblyGrov, Storage",7.1766100000000002]
["2010-06-03","NTS Physical Flows, Partington, LNG",0]
["2010-06-03","NTS Physical Flows, Rough, Storage",24.75]
["2010-06-04","NTS Physical Flows, Glenmavis, LNG",9.2660000000000006E-2]
["2010-06-04","NTS Physical Flows, Aldbrough, Storage",3.6179999999999999]
["2010-06-04","NTS Physical Flows, Avonmouth, LNG",1.456E-2]
["2010-06-04","NTS Physical Flows, Hatfield Moor, Storage",0.5615]
["2010-06-04","NTS Physical Flows, HoleHousFm, Storage",3.3969200000000002]
["2010-06-04","NTS Physical Flows, Hornsea, Storage",0]
["2010-06-04","NTS Physical Flows, HumblyGrov, Storage",0.12603]
["2010-06-04","NTS Physical Flows, Partington, LNG",0]
["2010-06-04","NTS Physical Flows, Rough, Storage",24.6114]
["2010-06-05","NTS Physical Flows, Aldbrough, Storage",2.8052999999999999]
["2010-06-05","NTS Physical Flows, Avonmouth, LNG",1.456E-2]
["2010-06-05","NTS Physical Flows, Glenmavis, LNG",9.2660000000000006E-2]
["2010-06-05","NTS Physical Flows, Hatfield Moor, Storage",0]
["2010-06-05","NTS Physical Flows, HoleHousFm, Storage",6.7652999999999999]
["2010-06-05","NTS Physical Flows, Hornsea, Storage",0.87141999999999997]
["2010-06-05","NTS Physical Flows, HumblyGrov, Storage",4.8810700000000002]
["2010-06-05","NTS Physical Flows, Partington, LNG",0]
["2010-06-05","NTS Physical Flows, Rough, Storage",24.435199999999998]
["2010-06-06","NTS Physical Flows, Aldbrough, Storage",1.95113]
["2010-06-06","NTS Physical Flows, Avonmouth, LNG",0.24959999999999999]
["2010-06-06","NTS Physical Flows, Glenmavis, LNG",9.2660000000000006E-2]
["2010-06-06","NTS Physical Flows, Hatfield Moor, Storage",0.48970000000000002]
["2010-06-06","NTS Physical Flows, HoleHousFm, Storage",10.73484]
["2010-06-06","NTS Physical Flows, Hornsea, Storage",0.87143999999999999]
["2010-06-06","NTS Physical Flows, HumblyGrov, Storage",0]
["2010-06-06","NTS Physical Flows, Partington, LNG",0]
["2010-06-06","NTS Physical Flows, Rough, Storage",24.175699999999999]
["2010-06-07","NTS Physical Flows, Aldbrough, Storage",0.55457999999999996]
["2010-06-07","NTS Physical Flows, Avonmouth, LNG",0.24959999999999999]
["2010-06-07","NTS Physical Flows, Glenmavis, LNG",9.2660000000000006E-2]
["2010-06-07","NTS Physical Flows, Hatfield Moor, Storage",0.47370000000000001]
["2010-06-07","NTS Physical Flows, HoleHousFm, Storage",6.4537300000000002]
["2010-06-07","NTS Physical Flows, Hornsea, Storage",0.86963999999999997]
["2010-06-07","NTS Physical Flows, HumblyGrov, Storage",0]
["2010-06-07","NTS Physical Flows, Partington, LNG",0]
["2010-06-07","NTS Physical Flows, Rough, Storage",24.1327]
["2010-06-08","NTS Physical Flows, Aldbrough, Storage",1.25E-3]
["2010-06-08","NTS Physical Flows, Avonmouth, LNG",0.24959999999999999]
["2010-06-08","NTS Physical Flows, Glenmavis, LNG",9.2660000000000006E-2]
["2010-06-08","NTS Physical Flows, Hatfield Moor, Storage",0]
["2010-06-08","NTS Physical Flows, HoleHousFm, Storage",1.6893]
["2010-06-08","NTS Physical Flows, Hornsea, Storage",0.81745999999999996]
["2010-06-08","NTS Physical Flows, HumblyGrov, Storage",0]
["2010-06-08","NTS Physical Flows, Partington, LNG",0]
["2010-06-08","NTS Physical Flows, Rough, Storage",24.117699999999999]
["2010-06-09","NTS Physical Flows, Aldbrough, Storage",3.4000000000000002E-4]
["2010-06-09","NTS Physical Flows, Avonmouth, LNG",0.24959999999999999]
["2010-06-09","NTS Physical Flows, Glenmavis, LNG",9.2660000000000006E-2]
["2010-06-09","NTS Physical Flows, Hornsea, Storage",0.86963999999999997]
["2010-06-09","NTS Physical Flows, HumblyGrov, Storage",0]
["2010-06-09","NTS Physical Flows, Partington, LNG",0]
["2010-06-09","NTS Physical Flows, Hatfield Moor, Storage",0]
["2010-06-09","NTS Physical Flows, HoleHousFm, Storage",0]
["2010-06-09","NTS Physical Flows, Rough, Storage",23.1785]
["2010-06-10","NTS Physical Flows, Aldbrough, Storage",3.6000000000000002E-4]
["2010-06-10","NTS Physical Flows, Avonmouth, LNG",0.24959999999999999]
["2010-06-10","NTS Physical Flows, Glenmavis, LNG",9.2660000000000006E-2]
["2010-06-10","NTS Physical Flows, Hatfield Moor, Storage",0]
["2010-06-10","NTS Physical Flows, HoleHousFm, Storage",0]
["2010-06-10","NTS Physical Flows, Hornsea, Storage",0.86992000000000003]
["2010-06-10","NTS Physical Flows, HumblyGrov, Storage",0]
["2010-06-10","NTS Physical Flows, Partington, LNG",0]
["2010-06-10","NTS Physical Flows, Rough, Storage",23.6326]
["2010-06-11","NTS Physical Flows, Aldbrough, Storage",2.08229]
["2010-06-11","NTS Physical Flows, Avonmouth, LNG",0.24959999999999999]
["2010-06-11","NTS Physical Flows, Glenmavis, LNG",9.2660000000000006E-2]
["2010-06-11","NTS Physical Flows, Hatfield Moor, Storage",0.54790000000000005]
["2010-06-11","NTS Physical Flows, HoleHousFm, Storage",1.6275200000000001]
["2010-06-11","NTS Physical Flows, Hornsea, Storage",0.86907999999999996]
["2010-06-11","NTS Physical Flows, HumblyGrov, Storage",0]
["2010-06-11","NTS Physical Flows, Partington, LNG",0]
["2010-06-11","NTS Physical Flows, Rough, Storage",23.8216]
["2010-06-12","NTS Physical Flows, Avonmouth, LNG",0.24959999999999999]
["2010-06-12","NTS Physical Flows, Glenmavis, LNG",9.2660000000000006E-2]
["2010-06-12","NTS Physical Flows, Partington, LNG",0]
["2010-06-12","NTS Physical Flows, Aldbrough, Storage",9.0528499999999994]
["2010-06-12","NTS Physical Flows, Hatfield Moor, Storage",0.53049999999999997]
["2010-06-12","NTS Physical Flows, HoleHousFm, Storage",5.2531699999999999]
["2010-06-12","NTS Physical Flows, Hornsea, Storage",0.87031999999999998]
["2010-06-12","NTS Physical Flows, HumblyGrov, Storage",0]
["2010-06-12","NTS Physical Flows, Rough, Storage",23.831700000000001]
["2010-06-13","NTS Physical Flows, Aldbrough, Storage",9.9647400000000008]
["2010-06-13","NTS Physical Flows, Avonmouth, LNG",0.24959999999999999]
["2010-06-13","NTS Physical Flows, Glenmavis, LNG",9.2660000000000006E-2]
["2010-06-13","NTS Physical Flows, Hatfield Moor, Storage",0]
["2010-06-13","NTS Physical Flows, HoleHousFm, Storage",5.1599899999999996]
["2010-06-13","NTS Physical Flows, Hornsea, Storage",0.86926000000000003]
["2010-06-13","NTS Physical Flows, HumblyGrov, Storage",0]
["2010-06-13","NTS Physical Flows, Partington, LNG",0]
["2010-06-13","NTS Physical Flows, Rough, Storage",23.691600000000001]
["2010-06-14","NTS Physical Flows, Aldbrough, Storage",0.81616999999999995]
["2010-06-14","NTS Physical Flows, Avonmouth, LNG",0.24959999999999999]
["2010-06-14","NTS Physical Flows, Glenmavis, LNG",9.2660000000000006E-2]
["2010-06-14","NTS Physical Flows, Hatfield Moor, Storage",0]
["2010-06-14","NTS Physical Flows, HoleHousFm, Storage",3.2987000000000002]
["2010-06-14","NTS Physical Flows, Hornsea, Storage",0.86811000000000005]
["2010-06-14","NTS Physical Flows, HumblyGrov, Storage",4.5054600000000002]
["2010-06-14","NTS Physical Flows, Partington, LNG",0]
["2010-06-14","NTS Physical Flows, Rough, Storage",23.8719]
["2010-06-15","NTS Physical Flows, Partington, LNG",0]
["2010-06-15","NTS Physical Flows, Aldbrough, Storage",2.9041299999999999]
["2010-06-15","NTS Physical Flows, Avonmouth, LNG",1.456E-2]
["2010-06-15","NTS Physical Flows, Glenmavis, LNG",9.2660000000000006E-2]
["2010-06-15","NTS Physical Flows, Hatfield Moor, Storage",0]
["2010-06-15","NTS Physical Flows, HoleHousFm, Storage",3.7891699999999999]
["2010-06-15","NTS Physical Flows, Hornsea, Storage",0.76809000000000005]
["2010-06-15","NTS Physical Flows, HumblyGrov, Storage",2.5654300000000001]
["2010-06-15","NTS Physical Flows, Rough, Storage",23.957699999999999]
["2010-06-16","NTS Physical Flows, Aldbrough, Storage",0]
["2010-06-16","NTS Physical Flows, Avonmouth, LNG",1.456E-2]
["2010-06-16","NTS Physical Flows, Glenmavis, LNG",9.2660000000000006E-2]
["2010-06-16","NTS Physical Flows, Hatfield Moor, Storage",0]
["2010-06-16","NTS Physical Flows, HoleHousFm, Storage",2.1592899999999999]
["2010-06-16","NTS Physical Flows, Hornsea, Storage",0.86963999999999997]
["2010-06-16","NTS Physical Flows, HumblyGrov, Storage",0]
["2010-06-16","NTS Physical Flows, Partington, LNG",0]
["2010-06-16","NTS Physical Flows, Rough, Storage",23.9832]
["2010-06-17","NTS Physical Flows, Aldbrough, Storage",0]
["2010-06-17","NTS Physical Flows, Avonmouth, LNG",1.456E-2]
["2010-06-17","NTS Physical Flows, Glenmavis, LNG",9.2660000000000006E-2]
["2010-06-17","NTS Physical Flows, Hatfield Moor, Storage",0]
["2010-06-17","NTS Physical Flows, HoleHousFm, Storage",0]
["2010-06-17","NTS Physical Flows, Hornsea, Storage",0.81076000000000004]
["2010-06-17","NTS Physical Flows, HumblyGrov, Storage",0]
["2010-06-17","NTS Physical Flows, Partington, LNG",0]
["2010-06-17","NTS Physical Flows, Rough, Storage",23.680499999999999]
["2010-06-18","NTS Physical Flows, Aldbrough, Storage",0]
["2010-06-18","NTS Physical Flows, Avonmouth, LNG",1.456E-2]
["2010-06-18","NTS Physical Flows, Glenmavis, LNG",9.2660000000000006E-2]
["2010-06-18","NTS Physical Flows, Hatfield Moor, Storage",0]
["2010-06-18","NTS Physical Flows, HoleHousFm, Storage",0]
["2010-06-18","NTS Physical Flows, Hornsea, Storage",0.71628999999999998]
["2010-06-18","NTS Physical Flows, HumblyGrov, Storage",0]
["2010-06-18","NTS Physical Flows, Partington, LNG",0]
["2010-06-18","NTS Physical Flows, Rough, Storage",23.676600000000001]
["2010-06-19","NTS Physical Flows, Aldbrough, Storage",5.4746600000000001]
["2010-06-19","NTS Physical Flows, Hornsea, Storage",1.2835099999999999]
["2010-06-19","NTS Physical Flows, Avonmouth, LNG",1.456E-2]
["2010-06-19","NTS Physical Flows, Glenmavis, LNG",9.2660000000000006E-2]
["2010-06-19","NTS Physical Flows, Hatfield Moor, Storage",0.31369999999999998]
["2010-06-19","NTS Physical Flows, HoleHousFm, Storage",3.5363600000000002]
["2010-06-19","NTS Physical Flows, HumblyGrov, Storage",0]
["2010-06-19","NTS Physical Flows, Partington, LNG",0]
["2010-06-19","NTS Physical Flows, Rough, Storage",23.8795]
["2010-06-20","NTS Physical Flows, Aldbrough, Storage",5.1923300000000001]
["2010-06-20","NTS Physical Flows, Avonmouth, LNG",0.15134]
["2010-06-20","NTS Physical Flows, Glenmavis, LNG",9.2660000000000006E-2]
["2010-06-20","NTS Physical Flows, Hatfield Moor, Storage",0]
["2010-06-20","NTS Physical Flows, HoleHousFm, Storage",2.8017400000000001]
["2010-06-20","NTS Physical Flows, Hornsea, Storage",1.8613]
["2010-06-20","NTS Physical Flows, HumblyGrov, Storage",0]
["2010-06-20","NTS Physical Flows, Partington, LNG",0]
["2010-06-20","NTS Physical Flows, Rough, Storage",23.626100000000001]
["2010-06-21","NTS Physical Flows, Aldbrough, Storage",4.9428000000000001]
["2010-06-21","NTS Physical Flows, Avonmouth, LNG",1.456E-2]
["2010-06-21","NTS Physical Flows, Glenmavis, LNG",9.2660000000000006E-2]
["2010-06-21","NTS Physical Flows, Hatfield Moor, Storage",0.3301]
["2010-06-21","NTS Physical Flows, HoleHousFm, Storage",0.40464]
["2010-06-21","NTS Physical Flows, Hornsea, Storage",2.7950300000000001]
["2010-06-21","NTS Physical Flows, HumblyGrov, Storage",0]
["2010-06-21","NTS Physical Flows, Partington, LNG",0]
["2010-06-21","NTS Physical Flows, Rough, Storage",23.558]
["2010-06-22","NTS Physical Flows, Aldbrough, Storage",6.6167100000000003]
["2010-06-22","NTS Physical Flows, Avonmouth, LNG",1.456E-2]
["2010-06-22","NTS Physical Flows, Glenmavis, LNG",9.2660000000000006E-2]
["2010-06-22","NTS Physical Flows, Hatfield Moor, Storage",1.0952]
["2010-06-22","NTS Physical Flows, HoleHousFm, Storage",0.13481000000000001]
["2010-06-22","NTS Physical Flows, Hornsea, Storage",2.4329200000000002]
["2010-06-22","NTS Physical Flows, HumblyGrov, Storage",0]
["2010-06-22","NTS Physical Flows, Partington, LNG",0]
["2010-06-22","NTS Physical Flows, Rough, Storage",22.226199999999999]
["2010-06-23","NTS Physical Flows, Aldbrough, Storage",4.4378900000000003]
["2010-06-23","NTS Physical Flows, Avonmouth, LNG",1.456E-2]
["2010-06-23","NTS Physical Flows, Glenmavis, LNG",9.2660000000000006E-2]
["2010-06-23","NTS Physical Flows, Hornsea, Storage",1.92733]
["2010-06-23","NTS Physical Flows, HumblyGrov, Storage",0]
["2010-06-23","NTS Physical Flows, Partington, LNG",0]
["2010-06-23","NTS Physical Flows, Hatfield Moor, Storage",0]
["2010-06-23","NTS Physical Flows, HoleHousFm, Storage",0]
["2010-06-23","NTS Physical Flows, Rough, Storage",22.8416]
["2010-06-24","NTS Physical Flows, Aldbrough, Storage",1.3188200000000001]
["2010-06-24","NTS Physical Flows, Avonmouth, LNG",1.456E-2]
["2010-06-24","NTS Physical Flows, Glenmavis, LNG",9.2660000000000006E-2]
["2010-06-24","NTS Physical Flows, Hatfield Moor, Storage",0.5232]
["2010-06-24","NTS Physical Flows, HoleHousFm, Storage",1.3428899999999999]
["2010-06-24","NTS Physical Flows, Hornsea, Storage",2.3433299999999999]
["2010-06-24","NTS Physical Flows, HumblyGrov, Storage",0]
["2010-06-24","NTS Physical Flows, Partington, LNG",0]
["2010-06-24","NTS Physical Flows, Rough, Storage",22.654900000000001]
["2010-06-25","NTS Physical Flows, Avonmouth, LNG",1.456E-2]
["2010-06-25","NTS Physical Flows, Glenmavis, LNG",9.2660000000000006E-2]
["2010-06-25","NTS Physical Flows, Partington, LNG",0]
["2010-06-25","NTS Physical Flows, Aldbrough, Storage",4.9647399999999999]
["2010-06-25","NTS Physical Flows, Hatfield Moor, Storage",1.7511000000000001]
["2010-06-25","NTS Physical Flows, HoleHousFm, Storage",0.80878000000000005]
["2010-06-25","NTS Physical Flows, Hornsea, Storage",2.08]
["2010-06-25","NTS Physical Flows, HumblyGrov, Storage",0]
["2010-06-25","NTS Physical Flows, Rough, Storage",22.810500000000001]
["2010-06-26","NTS Physical Flows, Aldbrough, Storage",6.6332899999999997]
["2010-06-26","NTS Physical Flows, Avonmouth, LNG",1.456E-2]
["2010-06-26","NTS Physical Flows, Glenmavis, LNG",9.2660000000000006E-2]
["2010-06-26","NTS Physical Flows, Hatfield Moor, Storage",2.4201999999999999]
["2010-06-26","NTS Physical Flows, HoleHousFm, Storage",0]
["2010-06-26","NTS Physical Flows, Hornsea, Storage",1.9384999999999999]
["2010-06-26","NTS Physical Flows, HumblyGrov, Storage",0]
["2010-06-26","NTS Physical Flows, Partington, LNG",0]
["2010-06-26","NTS Physical Flows, Rough, Storage",22.989899999999999]
["2010-06-27","NTS Physical Flows, Aldbrough, Storage",5.2928300000000004]
["2010-06-27","NTS Physical Flows, Avonmouth, LNG",1.456E-2]
["2010-06-27","NTS Physical Flows, HumblyGrov, Storage",0]
["2010-06-27","NTS Physical Flows, Partington, LNG",0]
["2010-06-27","NTS Physical Flows, Glenmavis, LNG",9.2660000000000006E-2]
["2010-06-27","NTS Physical Flows, Hatfield Moor, Storage",2.6149]
["2010-06-27","NTS Physical Flows, HoleHousFm, Storage",0]
["2010-06-27","NTS Physical Flows, Hornsea, Storage",2.2153499999999999]
["2010-06-27","NTS Physical Flows, Rough, Storage",22.043199999999999]
["2010-06-28","NTS Physical Flows, Aldbrough, Storage",0.19089]
["2010-06-28","NTS Physical Flows, Avonmouth, LNG",1.456E-2]
["2010-06-28","NTS Physical Flows, Glenmavis, LNG",9.2660000000000006E-2]
["2010-06-28","NTS Physical Flows, Hatfield Moor, Storage",2.5451000000000001]
["2010-06-28","NTS Physical Flows, HoleHousFm, Storage",0]
["2010-06-28","NTS Physical Flows, Hornsea, Storage",2.1097000000000001]
["2010-06-28","NTS Physical Flows, HumblyGrov, Storage",0.1]
["2010-06-28","NTS Physical Flows, Partington, LNG",0]
["2010-06-28","NTS Physical Flows, Rough, Storage",22.419799999999999]
["2010-06-29","NTS Physical Flows, Aldbrough, Storage",1.03959]
["2010-06-29","NTS Physical Flows, Avonmouth, LNG",1.456E-2]
["2010-06-29","NTS Physical Flows, Glenmavis, LNG",9.2660000000000006E-2]
["2010-06-29","NTS Physical Flows, Hatfield Moor, Storage",0.47889999999999999]
["2010-06-29","NTS Physical Flows, HoleHousFm, Storage",0]
["2010-06-29","NTS Physical Flows, Hornsea, Storage",2.15279]
["2010-06-29","NTS Physical Flows, HumblyGrov, Storage",1.4E-2]
["2010-06-29","NTS Physical Flows, Partington, LNG",0]
["2010-06-29","NTS Physical Flows, Rough, Storage",22.6647]
["2010-06-30","NTS Physical Flows, Aldbrough, Storage",6.3718199999999996]
["2010-06-30","NTS Physical Flows, Avonmouth, LNG",1.456E-2]
["2010-06-30","NTS Physical Flows, Glenmavis, LNG",9.2660000000000006E-2]
["2010-06-30","NTS Physical Flows, Hatfield Moor, Storage",1.6031]
["2010-06-30","NTS Physical Flows, HoleHousFm, Storage",0]
["2010-06-30","NTS Physical Flows, Hornsea, Storage",2.0871200000000001]
["2010-06-30","NTS Physical Flows, HumblyGrov, Storage",0]
["2010-06-30","NTS Physical Flows, Partington, LNG",0]
["2010-06-30","NTS Physical Flows, Rough, Storage",22.2179]
["2010-07-01","NTS Physical Flows, Aldbrough, Storage",0]
["2010-07-01","NTS Physical Flows, Avonmouth, LNG",1.456E-2]
["2010-07-01","NTS Physical Flows, Glenmavis, LNG",9.2660000000000006E-2]
["2010-07-01","NTS Physical Flows, Hatfield Moor, Storage",0]
["2010-07-01","NTS Physical Flows, HoleHousFm, Storage",0]
["2010-07-01","NTS Physical Flows, Hornsea, Storage",1.9071100000000001]
["2010-07-01","NTS Physical Flows, HumblyGrov, Storage",7.0254500000000002]
["2010-07-01","NTS Physical Flows, Partington, LNG",0]
["2010-07-01","NTS Physical Flows, Rough, Storage",21.930099999999999]
["2010-07-02","NTS Physical Flows, Aldbrough, Storage",4.00387]
["2010-07-02","NTS Physical Flows, Avonmouth, LNG",1.456E-2]
["2010-07-02","NTS Physical Flows, Glenmavis, LNG",9.2660000000000006E-2]
["2010-07-02","NTS Physical Flows, Hatfield Moor, Storage",0]
["2010-07-02","NTS Physical Flows, HoleHousFm, Storage",0]
["2010-07-02","NTS Physical Flows, Hornsea, Storage",1.96347]
["2010-07-02","NTS Physical Flows, HumblyGrov, Storage",7.7679400000000003]
["2010-07-02","NTS Physical Flows, Partington, LNG",0]
["2010-07-02","NTS Physical Flows, Rough, Storage",21.551100000000002]
["2010-07-03","NTS Physical Flows, Aldbrough, Storage",1.38497]
["2010-07-03","NTS Physical Flows, Avonmouth, LNG",1.456E-2]
["2010-07-03","NTS Physical Flows, Glenmavis, LNG",9.2660000000000006E-2]
["2010-07-03","NTS Physical Flows, Hatfield Moor, Storage",0]
["2010-07-03","NTS Physical Flows, HoleHousFm, Storage",0]
["2010-07-03","NTS Physical Flows, Hornsea, Storage",2.4497300000000002]
["2010-07-03","NTS Physical Flows, HumblyGrov, Storage",4.1437499999999998]
["2010-07-03","NTS Physical Flows, Partington, LNG",0]
["2010-07-03","NTS Physical Flows, Rough, Storage",21.785399999999999]
["2010-07-04","NTS Physical Flows, Aldbrough, Storage",2.8650000000000002]
["2010-07-04","NTS Physical Flows, Avonmouth, LNG",1.456E-2]
["2010-07-04","NTS Physical Flows, Glenmavis, LNG",9.2660000000000006E-2]
["2010-07-04","NTS Physical Flows, Hatfield Moor, Storage",0]
["2010-07-04","NTS Physical Flows, HoleHousFm, Storage",0]
["2010-07-04","NTS Physical Flows, Hornsea, Storage",2.6339399999999999]
["2010-07-04","NTS Physical Flows, HumblyGrov, Storage",5.5194000000000001]
["2010-07-04","NTS Physical Flows, Partington, LNG",0]
["2010-07-04","NTS Physical Flows, Rough, Storage",21.225200000000001]
["2010-07-05","NTS Physical Flows, Aldbrough, Storage",0]
["2010-07-05","NTS Physical Flows, Avonmouth, LNG",1.456E-2]
["2010-07-05","NTS Physical Flows, Glenmavis, LNG",9.2660000000000006E-2]
["2010-07-05","NTS Physical Flows, Hatfield Moor, Storage",0]
["2010-07-05","NTS Physical Flows, HoleHousFm, Storage",0]
["2010-07-05","NTS Physical Flows, Hornsea, Storage",2.1690999999999998]
["2010-07-05","NTS Physical Flows, HumblyGrov, Storage",4.0017399999999999]
["2010-07-05","NTS Physical Flows, Partington, LNG",0]
["2010-07-05","NTS Physical Flows, Rough, Storage",18.565999999999999]
["2010-07-06","NTS Physical Flows, Aldbrough, Storage",3.3299799999999999]
["2010-07-06","NTS Physical Flows, Avonmouth, LNG",1.456E-2]
["2010-07-06","NTS Physical Flows, Hornsea, Storage",2.4174699999999998]
["2010-07-06","NTS Physical Flows, HumblyGrov, Storage",2.0148799999999998]
["2010-07-06","NTS Physical Flows, Partington, LNG",0]
["2010-07-06","NTS Physical Flows, Glenmavis, LNG",9.2660000000000006E-2]
["2010-07-06","NTS Physical Flows, Hatfield Moor, Storage",0]
["2010-07-06","NTS Physical Flows, HoleHousFm, Storage",0]
["2010-07-06","NTS Physical Flows, Rough, Storage",20.2608]
["2010-07-07","NTS Physical Flows, Aldbrough, Storage",0.89841000000000004]
["2010-07-07","NTS Physical Flows, Avonmouth, LNG",1.456E-2]
["2010-07-07","NTS Physical Flows, Glenmavis, LNG",9.2660000000000006E-2]
["2010-07-07","NTS Physical Flows, Hornsea, Storage",1.94143]
["2010-07-07","NTS Physical Flows, HumblyGrov, Storage",0]
["2010-07-07","NTS Physical Flows, Partington, LNG",0]
["2010-07-07","NTS Physical Flows, Hatfield Moor, Storage",0]
["2010-07-07","NTS Physical Flows, HoleHousFm, Storage",0]
["2010-07-07","NTS Physical Flows, Rough, Storage",20.880600000000001]
["2010-07-08","NTS Physical Flows, Aldbrough, Storage",0.36388999999999999]
["2010-07-08","NTS Physical Flows, Avonmouth, LNG",1.456E-2]
["2010-07-08","NTS Physical Flows, Glenmavis, LNG",9.2660000000000006E-2]
["2010-07-08","NTS Physical Flows, Hatfield Moor, Storage",0]
["2010-07-08","NTS Physical Flows, HoleHousFm, Storage",2.7529999999999999E-2]
["2010-07-08","NTS Physical Flows, Hornsea, Storage",2.2621000000000002]
["2010-07-08","NTS Physical Flows, HumblyGrov, Storage",9.3729999999999994E-2]
["2010-07-08","NTS Physical Flows, Partington, LNG",0]
["2010-07-08","NTS Physical Flows, Rough, Storage",21.664000000000001]
["2010-07-09","NTS Physical Flows, Aldbrough, Storage",2.4738099999999998]
["2010-07-09","NTS Physical Flows, Avonmouth, LNG",1.456E-2]
["2010-07-09","NTS Physical Flows, Glenmavis, LNG",9.2660000000000006E-2]
["2010-07-09","NTS Physical Flows, Hatfield Moor, Storage",0]
["2010-07-09","NTS Physical Flows, HoleHousFm, Storage",0]
["2010-07-09","NTS Physical Flows, Hornsea, Storage",2.28816]
["2010-07-09","NTS Physical Flows, HumblyGrov, Storage",0]
["2010-07-09","NTS Physical Flows, Partington, LNG",0]
["2010-07-09","NTS Physical Flows, Rough, Storage",21.470500000000001]
["2010-07-10","NTS Physical Flows, Aldbrough, Storage",3.30166]
["2010-07-10","NTS Physical Flows, Avonmouth, LNG",1.456E-2]
["2010-07-10","NTS Physical Flows, Glenmavis, LNG",9.2660000000000006E-2]
["2010-07-10","NTS Physical Flows, Hatfield Moor, Storage",0]
["2010-07-10","NTS Physical Flows, HoleHousFm, Storage",0]
["2010-07-10","NTS Physical Flows, Hornsea, Storage",2.2955000000000001]
["2010-07-10","NTS Physical Flows, HumblyGrov, Storage",2.5039699999999998]
["2010-07-10","NTS Physical Flows, Partington, LNG",0]
["2010-07-10","NTS Physical Flows, Rough, Storage",21.567299999999999]
["2010-07-11","NTS Physical Flows, Aldbrough, Storage",2.0489899999999999]
["2010-07-11","NTS Physical Flows, Avonmouth, LNG",1.456E-2]
["2010-07-11","NTS Physical Flows, HumblyGrov, Storage",0.97919]
["2010-07-11","NTS Physical Flows, Partington, LNG",0]
["2010-07-11","NTS Physical Flows, Glenmavis, LNG",9.2660000000000006E-2]
["2010-07-11","NTS Physical Flows, Hatfield Moor, Storage",0]
["2010-07-11","NTS Physical Flows, HoleHousFm, Storage",0]
["2010-07-11","NTS Physical Flows, Hornsea, Storage",2.2792500000000002]
["2010-07-11","NTS Physical Flows, Rough, Storage",21.5228]
["2010-07-12","NTS Physical Flows, Aldbrough, Storage",1.04206]
["2010-07-12","NTS Physical Flows, Avonmouth, LNG",1.456E-2]
["2010-07-12","NTS Physical Flows, Glenmavis, LNG",9.2660000000000006E-2]
["2010-07-12","NTS Physical Flows, Hatfield Moor, Storage",0]
["2010-07-12","NTS Physical Flows, HoleHousFm, Storage",0]
["2010-07-12","NTS Physical Flows, Hornsea, Storage",2.34782]
["2010-07-12","NTS Physical Flows, HumblyGrov, Storage",0.10667]
["2010-07-12","NTS Physical Flows, Partington, LNG",0]
["2010-07-12","NTS Physical Flows, Rough, Storage",21.555]
["2010-07-13","NTS Physical Flows, Partington, LNG",0]
["2010-07-13","NTS Physical Flows, Aldbrough, Storage",0.54076999999999997]
["2010-07-13","NTS Physical Flows, Avonmouth, LNG",1.456E-2]
["2010-07-13","NTS Physical Flows, Glenmavis, LNG",9.2660000000000006E-2]
["2010-07-13","NTS Physical Flows, Hatfield Moor, Storage",0]
["2010-07-13","NTS Physical Flows, HoleHousFm, Storage",0]
["2010-07-13","NTS Physical Flows, Hornsea, Storage",3.0882200000000002]
["2010-07-13","NTS Physical Flows, HumblyGrov, Storage",0]
["2010-07-13","NTS Physical Flows, Rough, Storage",13.406000000000001]
["2010-07-14","NTS Physical Flows, Partington, LNG",0]
["2010-07-14","NTS Physical Flows, Aldbrough, Storage",0.53271999999999997]
["2010-07-14","NTS Physical Flows, Avonmouth, LNG",1.456E-2]
["2010-07-14","NTS Physical Flows, Glenmavis, LNG",9.2660000000000006E-2]
["2010-07-14","NTS Physical Flows, Hatfield Moor, Storage",0]
["2010-07-14","NTS Physical Flows, HoleHousFm, Storage",0]
["2010-07-14","NTS Physical Flows, Hornsea, Storage",2.3769800000000001]
["2010-07-14","NTS Physical Flows, HumblyGrov, Storage",0]
["2010-07-14","NTS Physical Flows, Rough, Storage",17.079899999999999]
["2010-07-15","NTS Physical Flows, Rough, Storage",17.320399999999999]
["2010-07-15","NTS Physical Flows, Aldbrough, Storage",0.54501999999999995]
["2010-07-15","NTS Physical Flows, Avonmouth, LNG",1.456E-2]
["2010-07-15","NTS Physical Flows, Glenmavis, LNG",9.2660000000000006E-2]
["2010-07-15","NTS Physical Flows, Hatfield Moor, Storage",0]
["2010-07-15","NTS Physical Flows, HoleHousFm, Storage",0]
["2010-07-15","NTS Physical Flows, Hornsea, Storage",3.0158499999999999]
["2010-07-15","NTS Physical Flows, HumblyGrov, Storage",0]
["2010-07-15","NTS Physical Flows, Partington, LNG",0]
["2010-07-16","NTS Physical Flows, Aldbrough, Storage",0.54129000000000005]
["2010-07-16","NTS Physical Flows, Avonmouth, LNG",1.456E-2]
["2010-07-16","NTS Physical Flows, Glenmavis, LNG",9.2660000000000006E-2]
["2010-07-16","NTS Physical Flows, Hatfield Moor, Storage",0]
["2010-07-16","NTS Physical Flows, HoleHousFm, Storage",0]
["2010-07-16","NTS Physical Flows, Hornsea, Storage",1.56297]
["2010-07-16","NTS Physical Flows, HumblyGrov, Storage",0]
["2010-07-16","NTS Physical Flows, Partington, LNG",0]
["2010-07-16","NTS Physical Flows, Rough, Storage",16.690899999999999]
["2010-07-17","NTS Physical Flows, Aldbrough, Storage",0.54135]
["2010-07-17","NTS Physical Flows, Avonmouth, LNG",1.456E-2]
["2010-07-17","NTS Physical Flows, Glenmavis, LNG",9.2660000000000006E-2]
["2010-07-17","NTS Physical Flows, Hatfield Moor, Storage",0]
["2010-07-17","NTS Physical Flows, HoleHousFm, Storage",0]
["2010-07-17","NTS Physical Flows, Hornsea, Storage",2.4780700000000002]
["2010-07-17","NTS Physical Flows, HumblyGrov, Storage",3.4159099999999998]
["2010-07-17","NTS Physical Flows, Partington, LNG",0]
["2010-07-17","NTS Physical Flows, Rough, Storage",14.7014]
["2010-07-18","NTS Physical Flows, Aldbrough, Storage",0.53795999999999999]
["2010-07-18","NTS Physical Flows, Avonmouth, LNG",1.456E-2]
["2010-07-18","NTS Physical Flows, Glenmavis, LNG",9.2660000000000006E-2]
["2010-07-18","NTS Physical Flows, Hatfield Moor, Storage",0]
["2010-07-18","NTS Physical Flows, HoleHousFm, Storage",0]
["2010-07-18","NTS Physical Flows, Hornsea, Storage",2.4026000000000001]
["2010-07-18","NTS Physical Flows, HumblyGrov, Storage",8.2447099999999995]
["2010-07-18","NTS Physical Flows, Partington, LNG",0]
["2010-07-18","NTS Physical Flows, Rough, Storage",15.2431]
["2010-07-19","NTS Physical Flows, Aldbrough, Storage",0.51983999999999997]
["2010-07-19","NTS Physical Flows, Avonmouth, LNG",1.456E-2]
["2010-07-19","NTS Physical Flows, Glenmavis, LNG",9.2660000000000006E-2]
["2010-07-19","NTS Physical Flows, Hatfield Moor, Storage",0]
["2010-07-19","NTS Physical Flows, HoleHousFm, Storage",0.97709000000000001]
["2010-07-19","NTS Physical Flows, Hornsea, Storage",2.3860899999999998]
["2010-07-19","NTS Physical Flows, HumblyGrov, Storage",0]
["2010-07-19","NTS Physical Flows, Partington, LNG",0]
["2010-07-19","NTS Physical Flows, Rough, Storage",13.885899999999999]
["2010-07-20","NTS Physical Flows, Aldbrough, Storage",2.78992]
["2010-07-20","NTS Physical Flows, Avonmouth, LNG",1.456E-2]
["2010-07-20","NTS Physical Flows, Glenmavis, LNG",9.2660000000000006E-2]
["2010-07-20","NTS Physical Flows, Hatfield Moor, Storage",0.52749999999999997]
["2010-07-20","NTS Physical Flows, HoleHousFm, Storage",0.69064999999999999]
["2010-07-20","NTS Physical Flows, Hornsea, Storage",2.4274200000000001]
["2010-07-20","NTS Physical Flows, HumblyGrov, Storage",0]
["2010-07-20","NTS Physical Flows, Partington, LNG",0]
["2010-07-20","NTS Physical Flows, Rough, Storage",17.8005]
["2010-07-21","NTS Physical Flows, Aldbrough, Storage",0.54010999999999998]
["2010-07-21","NTS Physical Flows, Avonmouth, LNG",1.456E-2]
["2010-07-21","NTS Physical Flows, Glenmavis, LNG",9.2660000000000006E-2]
["2010-07-21","NTS Physical Flows, Hatfield Moor, Storage",0.50339999999999996]
["2010-07-21","NTS Physical Flows, HoleHousFm, Storage",0]
["2010-07-21","NTS Physical Flows, Hornsea, Storage",2.3196599999999998]
["2010-07-21","NTS Physical Flows, HumblyGrov, Storage",0]
["2010-07-21","NTS Physical Flows, Partington, LNG",0]
["2010-07-21","NTS Physical Flows, Rough, Storage",20.2361]
["2010-07-22","NTS Physical Flows, Glenmavis, LNG",0.10283]
["2010-07-22","NTS Physical Flows, Partington, LNG",0]
["2010-07-22","NTS Physical Flows, Avonmouth, LNG",1.456E-2]
["2010-07-22","NTS Physical Flows, Aldbrough, Storage",0.54144000000000003]
["2010-07-22","NTS Physical Flows, Hatfield Moor, Storage",0]
["2010-07-22","NTS Physical Flows, HoleHousFm, Storage",0]
["2010-07-22","NTS Physical Flows, Hornsea, Storage",2.0991900000000001]
["2010-07-22","NTS Physical Flows, HumblyGrov, Storage",0]
["2010-07-22","NTS Physical Flows, Rough, Storage",20.260200000000001]
["2010-07-23","NTS Physical Flows, Aldbrough, Storage",1.1076999999999999]
["2010-07-23","NTS Physical Flows, Avonmouth, LNG",1.456E-2]
["2010-07-23","NTS Physical Flows, Glenmavis, LNG",9.2660000000000006E-2]
["2010-07-23","NTS Physical Flows, Hatfield Moor, Storage",7.8600000000000003E-2]
["2010-07-23","NTS Physical Flows, HoleHousFm, Storage",3.3703099999999999]
["2010-07-23","NTS Physical Flows, Hornsea, Storage",2.6836500000000001]
["2010-07-23","NTS Physical Flows, HumblyGrov, Storage",0]
["2010-07-23","NTS Physical Flows, Partington, LNG",0]
["2010-07-23","NTS Physical Flows, Rough, Storage",21.829499999999999]
["2010-07-24","NTS Physical Flows, Aldbrough, Storage",2.9306199999999998]
["2010-07-24","NTS Physical Flows, Avonmouth, LNG",1.456E-2]
["2010-07-24","NTS Physical Flows, Glenmavis, LNG",9.2660000000000006E-2]
["2010-07-24","NTS Physical Flows, Hornsea, Storage",2.3329800000000001]
["2010-07-24","NTS Physical Flows, HumblyGrov, Storage",0]
["2010-07-24","NTS Physical Flows, Partington, LNG",0]
["2010-07-24","NTS Physical Flows, Hatfield Moor, Storage",0.36749999999999999]
["2010-07-24","NTS Physical Flows, HoleHousFm, Storage",0]
["2010-07-24","NTS Physical Flows, Rough, Storage",18.905899999999999]
["2010-07-25","NTS Physical Flows, Aldbrough, Storage",0.54098999999999997]
["2010-07-25","NTS Physical Flows, Avonmouth, LNG",1.456E-2]
["2010-07-25","NTS Physical Flows, Glenmavis, LNG",9.2660000000000006E-2]
["2010-07-25","NTS Physical Flows, Hatfield Moor, Storage",0]
["2010-07-25","NTS Physical Flows, HoleHousFm, Storage",0]
["2010-07-25","NTS Physical Flows, Hornsea, Storage",1.69584]
["2010-07-25","NTS Physical Flows, HumblyGrov, Storage",0]
["2010-07-25","NTS Physical Flows, Partington, LNG",0]
["2010-07-25","NTS Physical Flows, Rough, Storage",18.0489]
["2010-07-26","NTS Physical Flows, Aldbrough, Storage",3.4000000000000002E-4]
["2010-07-26","NTS Physical Flows, Avonmouth, LNG",1.456E-2]
["2010-07-26","NTS Physical Flows, Glenmavis, LNG",9.2660000000000006E-2]
["2010-07-26","NTS Physical Flows, Hatfield Moor, Storage",0]
["2010-07-26","NTS Physical Flows, HoleHousFm, Storage",0]
["2010-07-26","NTS Physical Flows, Hornsea, Storage",2.2141500000000001]
["2010-07-26","NTS Physical Flows, HumblyGrov, Storage",0]
["2010-07-26","NTS Physical Flows, Partington, LNG",0]
["2010-07-26","NTS Physical Flows, Rough, Storage",15.161899999999999]
["2010-07-27","NTS Physical Flows, Aldbrough, Storage",3.2867299999999999]
["2010-07-27","NTS Physical Flows, Avonmouth, LNG",1.456E-2]
["2010-07-27","NTS Physical Flows, Glenmavis, LNG",9.2660000000000006E-2]
["2010-07-27","NTS Physical Flows, Hatfield Moor, Storage",0]
["2010-07-27","NTS Physical Flows, HoleHousFm, Storage",0]
["2010-07-27","NTS Physical Flows, Hornsea, Storage",2.39114]
["2010-07-27","NTS Physical Flows, HumblyGrov, Storage",0]
["2010-07-27","NTS Physical Flows, Partington, LNG",0]
["2010-07-27","NTS Physical Flows, Rough, Storage",19.575700000000001]
["2010-07-28","NTS Physical Flows, Aldbrough, Storage",2.5428899999999999]
["2010-07-28","NTS Physical Flows, Avonmouth, LNG",1.456E-2]
["2010-07-28","NTS Physical Flows, Glenmavis, LNG",9.2660000000000006E-2]
["2010-07-28","NTS Physical Flows, Hatfield Moor, Storage",0.58840000000000003]
["2010-07-28","NTS Physical Flows, HoleHousFm, Storage",0]
["2010-07-28","NTS Physical Flows, Hornsea, Storage",2.3834399999999998]
["2010-07-28","NTS Physical Flows, HumblyGrov, Storage",2.9016099999999998]
["2010-07-28","NTS Physical Flows, Partington, LNG",0]
["2010-07-28","NTS Physical Flows, Rough, Storage",20.947299999999998]
["2010-07-29","NTS Physical Flows, Aldbrough, Storage",0.54737000000000002]
["2010-07-29","NTS Physical Flows, Avonmouth, LNG",1.456E-2]
["2010-07-29","NTS Physical Flows, HumblyGrov, Storage",1.3067500000000001]
["2010-07-29","NTS Physical Flows, Partington, LNG",0]
["2010-07-29","NTS Physical Flows, Glenmavis, LNG",9.2660000000000006E-2]
["2010-07-29","NTS Physical Flows, Hatfield Moor, Storage",0]
["2010-07-29","NTS Physical Flows, HoleHousFm, Storage",0]
["2010-07-29","NTS Physical Flows, Hornsea, Storage",2.4163299999999999]
["2010-07-29","NTS Physical Flows, Rough, Storage",19.174800000000001]
["2010-07-30","NTS Physical Flows, Aldbrough, Storage",0.54939000000000004]
["2010-07-30","NTS Physical Flows, Avonmouth, LNG",1.456E-2]
["2010-07-30","NTS Physical Flows, Glenmavis, LNG",9.2660000000000006E-2]
["2010-07-30","NTS Physical Flows, Hatfield Moor, Storage",0]
["2010-07-30","NTS Physical Flows, HoleHousFm, Storage",3.6834699999999998]
["2010-07-30","NTS Physical Flows, Hornsea, Storage",1.9608699999999999]
["2010-07-30","NTS Physical Flows, HumblyGrov, Storage",1.01952]
["2010-07-30","NTS Physical Flows, Partington, LNG",0]
["2010-07-30","NTS Physical Flows, Rough, Storage",19.528600000000001]
["2010-07-31","NTS Physical Flows, Aldbrough, Storage",0.54515999999999998]
["2010-07-31","NTS Physical Flows, Avonmouth, LNG",1.456E-2]
["2010-07-31","NTS Physical Flows, Glenmavis, LNG",9.2660000000000006E-2]
["2010-07-31","NTS Physical Flows, Hatfield Moor, Storage",0]
["2010-07-31","NTS Physical Flows, HoleHousFm, Storage",5.4928499999999998]
["2010-07-31","NTS Physical Flows, Hornsea, Storage",1.54504]
["2010-07-31","NTS Physical Flows, HumblyGrov, Storage",8.1357800000000005]
["2010-07-31","NTS Physical Flows, Partington, LNG",0]
["2010-07-31","NTS Physical Flows, Rough, Storage",15.8057]
["2010-08-01","NTS Physical Flows, Aldbrough, Storage",0.72304999999999997]
["2010-08-01","NTS Physical Flows, Avonmouth, LNG",1.456E-2]
["2010-08-01","NTS Physical Flows, Glenmavis, LNG",9.2660000000000006E-2]
["2010-08-01","NTS Physical Flows, Hatfield Moor, Storage",0]
["2010-08-01","NTS Physical Flows, HoleHousFm, Storage",0]
["2010-08-01","NTS Physical Flows, Hornsea, Storage",1.59002]
["2010-08-01","NTS Physical Flows, HumblyGrov, Storage",0]
["2010-08-01","NTS Physical Flows, Partington, LNG",0]
["2010-08-01","NTS Physical Flows, Rough, Storage",18.1706]
["2010-08-02","NTS Physical Flows, Aldbrough, Storage",3.7033800000000001]
["2010-08-02","NTS Physical Flows, Avonmouth, LNG",1.456E-2]
["2010-08-02","NTS Physical Flows, Glenmavis, LNG",9.2660000000000006E-2]
["2010-08-02","NTS Physical Flows, Hatfield Moor, Storage",0]
["2010-08-02","NTS Physical Flows, HoleHousFm, Storage",0]
["2010-08-02","NTS Physical Flows, Hornsea, Storage",1.89042]
["2010-08-02","NTS Physical Flows, HumblyGrov, Storage",5.9647899999999998]
["2010-08-02","NTS Physical Flows, Partington, LNG",0]
["2010-08-02","NTS Physical Flows, Rough, Storage",20.8034]
["2010-08-03","NTS Physical Flows, Aldbrough, Storage",1.1720999999999999]
["2010-08-03","NTS Physical Flows, Avonmouth, LNG",1.456E-2]
["2010-08-03","NTS Physical Flows, Glenmavis, LNG",9.2660000000000006E-2]
["2010-08-03","NTS Physical Flows, Hatfield Moor, Storage",0]
["2010-08-03","NTS Physical Flows, HoleHousFm, Storage",0]
["2010-08-03","NTS Physical Flows, Hornsea, Storage",1.9018900000000001]
["2010-08-03","NTS Physical Flows, HumblyGrov, Storage",7.1267899999999997]
["2010-08-03","NTS Physical Flows, Partington, LNG",0]
["2010-08-03","NTS Physical Flows, Rough, Storage",20.680499999999999]
["2010-08-04","NTS Physical Flows, Aldbrough, Storage",1.0828599999999999]
["2010-08-04","NTS Physical Flows, Avonmouth, LNG",1.456E-2]
["2010-08-04","NTS Physical Flows, Glenmavis, LNG",9.2660000000000006E-2]
["2010-08-04","NTS Physical Flows, Hatfield Moor, Storage",0]
["2010-08-04","NTS Physical Flows, HoleHousFm, Storage",0]
["2010-08-04","NTS Physical Flows, Hornsea, Storage",3.9424399999999999]
["2010-08-04","NTS Physical Flows, HumblyGrov, Storage",7.4893299999999998]
["2010-08-04","NTS Physical Flows, Partington, LNG",0]
["2010-08-04","NTS Physical Flows, Rough, Storage",20.6065]
["2010-08-05","NTS Physical Flows, Aldbrough, Storage",1.0775399999999999]
["2010-08-05","NTS Physical Flows, Avonmouth, LNG",1.456E-2]
["2010-08-05","NTS Physical Flows, Glenmavis, LNG",9.2660000000000006E-2]
["2010-08-05","NTS Physical Flows, Hornsea, Storage",1.8289800000000001]
["2010-08-05","NTS Physical Flows, HumblyGrov, Storage",5.7993699999999997]
["2010-08-05","NTS Physical Flows, Partington, LNG",0]
["2010-08-05","NTS Physical Flows, Hatfield Moor, Storage",0]
["2010-08-05","NTS Physical Flows, HoleHousFm, Storage",0]
["2010-08-05","NTS Physical Flows, Rough, Storage",17.368400000000001]
["2010-08-06","NTS Physical Flows, Aldbrough, Storage",2.4765999999999999]
["2010-08-06","NTS Physical Flows, Avonmouth, LNG",1.456E-2]
["2010-08-06","NTS Physical Flows, Glenmavis, LNG",9.2660000000000006E-2]
["2010-08-06","NTS Physical Flows, Hatfield Moor, Storage",0]
["2010-08-06","NTS Physical Flows, HoleHousFm, Storage",0]
["2010-08-06","NTS Physical Flows, Hornsea, Storage",1.54701]
["2010-08-06","NTS Physical Flows, HumblyGrov, Storage",7.2616199999999997]
["2010-08-06","NTS Physical Flows, Partington, LNG",0]
["2010-08-06","NTS Physical Flows, Rough, Storage",13.7622]
["2010-08-07","NTS Physical Flows, Aldbrough, Storage",2.80952]
["2010-08-07","NTS Physical Flows, Avonmouth, LNG",1.456E-2]
["2010-08-07","NTS Physical Flows, Glenmavis, LNG",9.2660000000000006E-2]
["2010-08-07","NTS Physical Flows, Hatfield Moor, Storage",0]
["2010-08-07","NTS Physical Flows, HoleHousFm, Storage",0]
["2010-08-07","NTS Physical Flows, Hornsea, Storage",0.94699999999999995]
["2010-08-07","NTS Physical Flows, HumblyGrov, Storage",7.3413000000000004]
["2010-08-07","NTS Physical Flows, Partington, LNG",0]
["2010-08-07","NTS Physical Flows, Rough, Storage",17.756399999999999]
["2010-08-08","NTS Physical Flows, Aldbrough, Storage",3.0716000000000001]
["2010-08-08","NTS Physical Flows, Avonmouth, LNG",1.456E-2]
["2010-08-08","NTS Physical Flows, Glenmavis, LNG",9.2660000000000006E-2]
["2010-08-08","NTS Physical Flows, Hatfield Moor, Storage",0]
["2010-08-08","NTS Physical Flows, HoleHousFm, Storage",0]
["2010-08-08","NTS Physical Flows, Hornsea, Storage",1.5270900000000001]
["2010-08-08","NTS Physical Flows, HumblyGrov, Storage",8.2839200000000002]
["2010-08-08","NTS Physical Flows, Partington, LNG",0]
["2010-08-08","NTS Physical Flows, Rough, Storage",20.5182]
["2010-08-09","NTS Physical Flows, Aldbrough, Storage",3.0885500000000001]
["2010-08-09","NTS Physical Flows, Avonmouth, LNG",1.456E-2]
["2010-08-09","NTS Physical Flows, Glenmavis, LNG",9.2660000000000006E-2]
["2010-08-09","NTS Physical Flows, Hatfield Moor, Storage",0]
["2010-08-09","NTS Physical Flows, HoleHousFm, Storage",0]
["2010-08-09","NTS Physical Flows, Hornsea, Storage",1.6767000000000001]
["2010-08-09","NTS Physical Flows, HumblyGrov, Storage",5.3220799999999997]
["2010-08-09","NTS Physical Flows, Partington, LNG",0]
["2010-08-09","NTS Physical Flows, Rough, Storage",15.1991]
["2010-08-10","NTS Physical Flows, Aldbrough, Storage",6.4517600000000002]
["2010-08-10","NTS Physical Flows, Avonmouth, LNG",1.456E-2]
["2010-08-10","NTS Physical Flows, Glenmavis, LNG",9.2660000000000006E-2]
["2010-08-10","NTS Physical Flows, Hatfield Moor, Storage",0.8367]
["2010-08-10","NTS Physical Flows, HoleHousFm, Storage",0]
["2010-08-10","NTS Physical Flows, Hornsea, Storage",2.4172199999999999]
["2010-08-10","NTS Physical Flows, HumblyGrov, Storage",8.0860099999999999]
["2010-08-10","NTS Physical Flows, Partington, LNG",0]
["2010-08-10","NTS Physical Flows, Rough, Storage",20.180800000000001]
["2010-08-11","NTS Physical Flows, Aldbrough, Storage",3.9172199999999999]
["2010-08-11","NTS Physical Flows, Avonmouth, LNG",1.456E-2]
["2010-08-11","NTS Physical Flows, Glenmavis, LNG",9.2660000000000006E-2]
["2010-08-11","NTS Physical Flows, Hatfield Moor, Storage",0]
["2010-08-11","NTS Physical Flows, HoleHousFm, Storage",0]
["2010-08-11","NTS Physical Flows, Hornsea, Storage",1.93489]
["2010-08-11","NTS Physical Flows, HumblyGrov, Storage",7.8551500000000001]
["2010-08-11","NTS Physical Flows, Partington, LNG",0]
["2010-08-11","NTS Physical Flows, Rough, Storage",19.066600000000001]
["2010-08-12","NTS Physical Flows, Aldbrough, Storage",5.8594200000000001]
["2010-08-12","NTS Physical Flows, Avonmouth, LNG",1.456E-2]
["2010-08-12","NTS Physical Flows, Glenmavis, LNG",9.2660000000000006E-2]
["2010-08-12","NTS Physical Flows, Hatfield Moor, Storage",0]
["2010-08-12","NTS Physical Flows, HoleHousFm, Storage",0.13485]
["2010-08-12","NTS Physical Flows, Hornsea, Storage",2.0557699999999999]
["2010-08-12","NTS Physical Flows, HumblyGrov, Storage",7.52311]
["2010-08-12","NTS Physical Flows, Partington, LNG",0]
["2010-08-12","NTS Physical Flows, Rough, Storage",20.4269]
["2010-08-13","NTS Physical Flows, Aldbrough, Storage",6.9136800000000003]
["2010-08-13","NTS Physical Flows, Avonmouth, LNG",1.456E-2]
["2010-08-13","NTS Physical Flows, Glenmavis, LNG",9.2660000000000006E-2]
["2010-08-13","NTS Physical Flows, Hatfield Moor, Storage",0]
["2010-08-13","NTS Physical Flows, HoleHousFm, Storage",0]
["2010-08-13","NTS Physical Flows, Hornsea, Storage",2.4338000000000002]
["2010-08-13","NTS Physical Flows, HumblyGrov, Storage",7.1793800000000001]
["2010-08-13","NTS Physical Flows, Partington, LNG",0]
["2010-08-13","NTS Physical Flows, Rough, Storage",18.1783]
["2010-08-14","NTS Physical Flows, Aldbrough, Storage",6.2836999999999996]
["2010-08-14","NTS Physical Flows, Avonmouth, LNG",1.456E-2]
["2010-08-14","NTS Physical Flows, Glenmavis, LNG",9.2660000000000006E-2]
["2010-08-14","NTS Physical Flows, Hatfield Moor, Storage",1.6443000000000001]
["2010-08-14","NTS Physical Flows, HoleHousFm, Storage",4.0317999999999996]
["2010-08-14","NTS Physical Flows, Hornsea, Storage",2.4108399999999999]
["2010-08-14","NTS Physical Flows, HumblyGrov, Storage",6.8914999999999997]
["2010-08-14","NTS Physical Flows, Partington, LNG",0]
["2010-08-14","NTS Physical Flows, Rough, Storage",10.7363]
["2010-08-15","NTS Physical Flows, Aldbrough, Storage",6.0522799999999997]
["2010-08-15","NTS Physical Flows, Avonmouth, LNG",1.456E-2]
["2010-08-15","NTS Physical Flows, Glenmavis, LNG",9.2660000000000006E-2]
["2010-08-15","NTS Physical Flows, Hatfield Moor, Storage",2.5398000000000001]
["2010-08-15","NTS Physical Flows, HoleHousFm, Storage",10.751139999999999]
["2010-08-15","NTS Physical Flows, Hornsea, Storage",2.4198400000000002]
["2010-08-15","NTS Physical Flows, HumblyGrov, Storage",3.0861100000000001]
["2010-08-15","NTS Physical Flows, Partington, LNG",0]
["2010-08-15","NTS Physical Flows, Rough, Storage",10.793799999999999]
["2010-08-16","NTS Physical Flows, Aldbrough, Storage",2.99762]
["2010-08-16","NTS Physical Flows, Avonmouth, LNG",1.456E-2]
["2010-08-16","NTS Physical Flows, Glenmavis, LNG",9.2660000000000006E-2]
["2010-08-16","NTS Physical Flows, Hatfield Moor, Storage",2.6522999999999999]
["2010-08-16","NTS Physical Flows, HoleHousFm, Storage",6.7792700000000004]
["2010-08-16","NTS Physical Flows, Hornsea, Storage",2.0825900000000002]
["2010-08-16","NTS Physical Flows, HumblyGrov, Storage",1.41845]
["2010-08-16","NTS Physical Flows, Partington, LNG",0]
["2010-08-16","NTS Physical Flows, Rough, Storage",10.734400000000001]
["2010-08-17","NTS Physical Flows, Aldbrough, Storage",1.1984699999999999]
["2010-08-17","NTS Physical Flows, Avonmouth, LNG",1.456E-2]
["2010-08-17","NTS Physical Flows, Glenmavis, LNG",9.2660000000000006E-2]
["2010-08-17","NTS Physical Flows, Hatfield Moor, Storage",1.6334]
["2010-08-17","NTS Physical Flows, HoleHousFm, Storage",5.0411599999999996]
["2010-08-17","NTS Physical Flows, Hornsea, Storage",2.3548200000000001]
["2010-08-17","NTS Physical Flows, HumblyGrov, Storage",1.2909999999999999]
["2010-08-17","NTS Physical Flows, Partington, LNG",0]
["2010-08-17","NTS Physical Flows, Rough, Storage",10.5442]
["2010-08-18","NTS Physical Flows, Aldbrough, Storage",3.10656]
["2010-08-18","NTS Physical Flows, Avonmouth, LNG",1.456E-2]
["2010-08-18","NTS Physical Flows, Glenmavis, LNG",9.2660000000000006E-2]
["2010-08-18","NTS Physical Flows, Hatfield Moor, Storage",2.5670000000000002]
["2010-08-18","NTS Physical Flows, HoleHousFm, Storage",4.8923800000000002]
["2010-08-18","NTS Physical Flows, Hornsea, Storage",2.1667700000000001]
["2010-08-18","NTS Physical Flows, HumblyGrov, Storage",1.2980100000000001]
["2010-08-18","NTS Physical Flows, Partington, LNG",0]
["2010-08-18","NTS Physical Flows, Rough, Storage",10.6114]
["2010-08-19","NTS Physical Flows, Aldbrough, Storage",0.90181999999999995]
["2010-08-19","NTS Physical Flows, Avonmouth, LNG",1.456E-2]
["2010-08-19","NTS Physical Flows, Glenmavis, LNG",9.2660000000000006E-2]
["2010-08-19","NTS Physical Flows, Hatfield Moor, Storage",0.22839999999999999]
["2010-08-19","NTS Physical Flows, HoleHousFm, Storage",0]
["2010-08-19","NTS Physical Flows, Hornsea, Storage",1.5979399999999999]
["2010-08-19","NTS Physical Flows, HumblyGrov, Storage",1.2006699999999999]
["2010-08-19","NTS Physical Flows, Partington, LNG",0]
["2010-08-19","NTS Physical Flows, Rough, Storage",10.6187]
["2010-08-20","NTS Physical Flows, Aldbrough, Storage",1.17699]
["2010-08-20","NTS Physical Flows, Avonmouth, LNG",1.456E-2]
["2010-08-20","NTS Physical Flows, Glenmavis, LNG",9.2660000000000006E-2]
["2010-08-20","NTS Physical Flows, Hatfield Moor, Storage",0]
["2010-08-20","NTS Physical Flows, HoleHousFm, Storage",0.30690000000000001]
["2010-08-20","NTS Physical Flows, Hornsea, Storage",1.7619199999999999]
["2010-08-20","NTS Physical Flows, HumblyGrov, Storage",1.1946300000000001]
["2010-08-20","NTS Physical Flows, Partington, LNG",0]
["2010-08-20","NTS Physical Flows, Rough, Storage",10.3413]
["2010-08-21","NTS Physical Flows, Aldbrough, Storage",0]
["2010-08-21","NTS Physical Flows, Avonmouth, LNG",1.456E-2]
["2010-08-21","NTS Physical Flows, Glenmavis, LNG",9.2660000000000006E-2]
["2010-08-21","NTS Physical Flows, Hornsea, Storage",0.79439000000000004]
["2010-08-21","NTS Physical Flows, HumblyGrov, Storage",0.64292000000000005]
["2010-08-21","NTS Physical Flows, Partington, LNG",0]
["2010-08-21","NTS Physical Flows, Hatfield Moor, Storage",0]
["2010-08-21","NTS Physical Flows, HoleHousFm, Storage",0]
["2010-08-21","NTS Physical Flows, Rough, Storage",5.5785999999999998]
["2010-08-22","NTS Physical Flows, Aldbrough, Storage",0]
["2010-08-22","NTS Physical Flows, Avonmouth, LNG",1.456E-2]
["2010-08-22","NTS Physical Flows, Glenmavis, LNG",9.2660000000000006E-2]
["2010-08-22","NTS Physical Flows, Hatfield Moor, Storage",0]
["2010-08-22","NTS Physical Flows, HoleHousFm, Storage",0]
["2010-08-22","NTS Physical Flows, Hornsea, Storage",1.2215100000000001]
["2010-08-22","NTS Physical Flows, HumblyGrov, Storage",1.1097399999999999]
["2010-08-22","NTS Physical Flows, Partington, LNG",0]
["2010-08-22","NTS Physical Flows, Rough, Storage",6.5319000000000003]
["2010-08-23","NTS Physical Flows, Aldbrough, Storage",0]
["2010-08-23","NTS Physical Flows, Avonmouth, LNG",1.456E-2]
["2010-08-23","NTS Physical Flows, Glenmavis, LNG",9.2660000000000006E-2]
["2010-08-23","NTS Physical Flows, Hatfield Moor, Storage",0]
["2010-08-23","NTS Physical Flows, HoleHousFm, Storage",0]
["2010-08-23","NTS Physical Flows, Hornsea, Storage",1.9137299999999999]
["2010-08-23","NTS Physical Flows, HumblyGrov, Storage",1.0166500000000001]
["2010-08-23","NTS Physical Flows, Partington, LNG",0]
["2010-08-23","NTS Physical Flows, Rough, Storage",4.6577999999999999]
["2010-08-24","NTS Physical Flows, Aldbrough, Storage",0]
["2010-08-24","NTS Physical Flows, Avonmouth, LNG",1.456E-2]
["2010-08-24","NTS Physical Flows, Glenmavis, LNG",9.2660000000000006E-2]
["2010-08-24","NTS Physical Flows, Hornsea, Storage",1.5416700000000001]
["2010-08-24","NTS Physical Flows, HumblyGrov, Storage",1.48143]
["2010-08-24","NTS Physical Flows, Partington, LNG",0]
["2010-08-24","NTS Physical Flows, Hatfield Moor, Storage",0]
["2010-08-24","NTS Physical Flows, HoleHousFm, Storage",0]
["2010-08-24","NTS Physical Flows, Rough, Storage",5.05]
["2010-08-25","NTS Physical Flows, Aldbrough, Storage",3.3800000000000002E-3]
["2010-08-25","NTS Physical Flows, Glenmavis, LNG",9.2660000000000006E-2]
["2010-08-25","NTS Physical Flows, Hornsea, Storage",2.5012400000000001]
["2010-08-25","NTS Physical Flows, HumblyGrov, Storage",1.1796800000000001]
["2010-08-25","NTS Physical Flows, Partington, LNG",0]
["2010-08-25","NTS Physical Flows, Rough, Storage",6.6844000000000001]
["2010-08-25","NTS Physical Flows, Hatfield Moor, Storage",0]
["2010-08-25","NTS Physical Flows, HoleHousFm, Storage",0]
["2010-08-25","NTS Physical Flows, Avonmouth, LNG",1.456E-2]
["2010-08-26","NTS Physical Flows, Aldbrough, Storage",0.54117999999999999]
["2010-08-26","NTS Physical Flows, Avonmouth, LNG",1.456E-2]
["2010-08-26","NTS Physical Flows, Partington, LNG",0]
["2010-08-26","NTS Physical Flows, Glenmavis, LNG",9.2660000000000006E-2]
["2010-08-26","NTS Physical Flows, Hornsea, Storage",1.1126199999999999]
["2010-08-26","NTS Physical Flows, HumblyGrov, Storage",0.38539000000000001]
["2010-08-26","NTS Physical Flows, Hatfield Moor, Storage",0]
["2010-08-26","NTS Physical Flows, HoleHousFm, Storage",0]
["2010-08-26","NTS Physical Flows, Rough, Storage",3.3975]
["2010-08-27","NTS Physical Flows, Aldbrough, Storage",0.31736999999999999]
["2010-08-27","NTS Physical Flows, Avonmouth, LNG",1.456E-2]
["2010-08-27","NTS Physical Flows, Partington, LNG",0]
["2010-08-27","NTS Physical Flows, Glenmavis, LNG",9.2660000000000006E-2]
["2010-08-27","NTS Physical Flows, Hornsea, Storage",1.8467800000000001]
["2010-08-27","NTS Physical Flows, HumblyGrov, Storage",0]
["2010-08-27","NTS Physical Flows, Hatfield Moor, Storage",0]
["2010-08-27","NTS Physical Flows, HoleHousFm, Storage",0]
["2010-08-27","NTS Physical Flows, Rough, Storage",6.2241999999999997]
["2010-08-28","NTS Physical Flows, Avonmouth, LNG",1.456E-2]
["2010-08-28","NTS Physical Flows, Partington, LNG",0]
["2010-08-28","NTS Physical Flows, Aldbrough, Storage",0.63253999999999999]
["2010-08-28","NTS Physical Flows, Glenmavis, LNG",9.2660000000000006E-2]
["2010-08-28","NTS Physical Flows, Hornsea, Storage",1.45932]
["2010-08-28","NTS Physical Flows, HumblyGrov, Storage",1.05871]
["2010-08-28","NTS Physical Flows, Hatfield Moor, Storage",0]
["2010-08-28","NTS Physical Flows, HoleHousFm, Storage",0]
["2010-08-28","NTS Physical Flows, Rough, Storage",5.8305999999999996]
["2010-08-29","NTS Physical Flows, Aldbrough, Storage",0.62697999999999998]
["2010-08-29","NTS Physical Flows, Avonmouth, LNG",1.456E-2]
["2010-08-29","NTS Physical Flows, Partington, LNG",0]
["2010-08-29","NTS Physical Flows, Glenmavis, LNG",9.2660000000000006E-2]
["2010-08-29","NTS Physical Flows, Hornsea, Storage",2.26274]
["2010-08-29","NTS Physical Flows, HumblyGrov, Storage",0.64573000000000003]
["2010-08-29","NTS Physical Flows, Hatfield Moor, Storage",0]
["2010-08-29","NTS Physical Flows, HoleHousFm, Storage",0]
["2010-08-29","NTS Physical Flows, Rough, Storage",6.07]
["2010-08-30","NTS Physical Flows, Aldbrough, Storage",0.63295999999999997]
["2010-08-30","NTS Physical Flows, Avonmouth, LNG",1.456E-2]
["2010-08-30","NTS Physical Flows, Partington, LNG",0]
["2010-08-30","NTS Physical Flows, Glenmavis, LNG",9.2660000000000006E-2]
["2010-08-30","NTS Physical Flows, Hornsea, Storage",0.98504999999999998]
["2010-08-30","NTS Physical Flows, HumblyGrov, Storage",0.14249000000000001]
["2010-08-30","NTS Physical Flows, Hatfield Moor, Storage",0]
["2010-08-30","NTS Physical Flows, HoleHousFm, Storage",0]
["2010-08-30","NTS Physical Flows, Rough, Storage",3.9253999999999998]
["2010-08-31","NTS Physical Flows, Aldbrough, Storage",0.63283999999999996]
["2010-08-31","NTS Physical Flows, Avonmouth, LNG",1.456E-2]
["2010-08-31","NTS Physical Flows, HumblyGrov, Storage",0.64312000000000002]
["2010-08-31","NTS Physical Flows, Partington, LNG",0]
["2010-08-31","NTS Physical Flows, Glenmavis, LNG",9.2660000000000006E-2]
["2010-08-31","NTS Physical Flows, Hornsea, Storage",0.53276000000000001]
["2010-08-31","NTS Physical Flows, Hatfield Moor, Storage",0]
["2010-08-31","NTS Physical Flows, HoleHousFm, Storage",0]
["2010-08-31","NTS Physical Flows, Rough, Storage",6.5058999999999996]
["2010-09-01","NTS Physical Flows, Aldbrough, Storage",0.80754999999999999]
["2010-09-01","NTS Physical Flows, Avonmouth, LNG",4.3679999999999997E-2]
["2010-09-01","NTS Physical Flows, Partington, LNG",0]
["2010-09-01","NTS Physical Flows, Glenmavis, LNG",9.2660000000000006E-2]
["2010-09-01","NTS Physical Flows, Hornsea, Storage",2.2997100000000001]
["2010-09-01","NTS Physical Flows, HumblyGrov, Storage",1.19855]
["2010-09-01","NTS Physical Flows, Hatfield Moor, Storage",0]
["2010-09-01","NTS Physical Flows, HoleHousFm, Storage",0]
["2010-09-01","NTS Physical Flows, Rough, Storage",8.3597000000000001]
["2010-09-02","NTS Physical Flows, Avonmouth, LNG",4.3679999999999997E-2]
["2010-09-02","NTS Physical Flows, Partington, LNG",0]
["2010-09-02","NTS Physical Flows, Aldbrough, Storage",1.1697299999999999]
["2010-09-02","NTS Physical Flows, Glenmavis, LNG",9.2660000000000006E-2]
["2010-09-02","NTS Physical Flows, Hornsea, Storage",2.3177699999999999]
["2010-09-02","NTS Physical Flows, HumblyGrov, Storage",1.2921400000000001]
["2010-09-02","NTS Physical Flows, Hatfield Moor, Storage",0]
["2010-09-02","NTS Physical Flows, HoleHousFm, Storage",3.0347]
["2010-09-02","NTS Physical Flows, Rough, Storage",3.5495000000000001]
["2010-09-03","NTS Physical Flows, Aldbrough, Storage",5.2295400000000001]
["2010-09-03","NTS Physical Flows, Avonmouth, LNG",4.3679999999999997E-2]
["2010-09-03","NTS Physical Flows, Partington, LNG",0]
["2010-09-03","NTS Physical Flows, Glenmavis, LNG",9.2660000000000006E-2]
["2010-09-03","NTS Physical Flows, Hornsea, Storage",2.3882599999999998]
["2010-09-03","NTS Physical Flows, HumblyGrov, Storage",3.1312899999999999]
["2010-09-03","NTS Physical Flows, Hatfield Moor, Storage",1.0455000000000001]
["2010-09-03","NTS Physical Flows, HoleHousFm, Storage",3.7727400000000002]
["2010-09-03","NTS Physical Flows, Rough, Storage",8.2363]
["2010-09-04","NTS Physical Flows, Aldbrough, Storage",6.57301]
["2010-09-04","NTS Physical Flows, Avonmouth, LNG",4.3679999999999997E-2]
["2010-09-04","NTS Physical Flows, Partington, LNG",0]
["2010-09-04","NTS Physical Flows, Glenmavis, LNG",9.2660000000000006E-2]
["2010-09-04","NTS Physical Flows, Hornsea, Storage",2.2712500000000002]
["2010-09-04","NTS Physical Flows, HumblyGrov, Storage",4.3115100000000002]
["2010-09-04","NTS Physical Flows, Hatfield Moor, Storage",2.6798000000000002]
["2010-09-04","NTS Physical Flows, HoleHousFm, Storage",2.1568900000000002]
["2010-09-04","NTS Physical Flows, Rough, Storage",10.957000000000001]
["2010-09-05","NTS Physical Flows, Aldbrough, Storage",6.7793000000000001]
["2010-09-05","NTS Physical Flows, Avonmouth, LNG",4.3679999999999997E-2]
["2010-09-05","NTS Physical Flows, HumblyGrov, Storage",1.10408]
["2010-09-05","NTS Physical Flows, Partington, LNG",0]
["2010-09-05","NTS Physical Flows, Glenmavis, LNG",9.2660000000000006E-2]
["2010-09-05","NTS Physical Flows, Hornsea, Storage",2.29562]
["2010-09-05","NTS Physical Flows, Hatfield Moor, Storage",2.6640000000000001]
["2010-09-05","NTS Physical Flows, HoleHousFm, Storage",7.5391000000000004]
["2010-09-05","NTS Physical Flows, Rough, Storage",10.9162]
["2010-09-06","NTS Physical Flows, Aldbrough, Storage",1.1756500000000001]
["2010-09-06","NTS Physical Flows, Avonmouth, LNG",4.3679999999999997E-2]
["2010-09-06","NTS Physical Flows, HumblyGrov, Storage",0.15551999999999999]
["2010-09-06","NTS Physical Flows, Partington, LNG",0]
["2010-09-06","NTS Physical Flows, Glenmavis, LNG",9.2660000000000006E-2]
["2010-09-06","NTS Physical Flows, Hornsea, Storage",2.4714200000000002]
["2010-09-06","NTS Physical Flows, Hatfield Moor, Storage",2.653]
["2010-09-06","NTS Physical Flows, HoleHousFm, Storage",0]
["2010-09-06","NTS Physical Flows, Rough, Storage",10.6646]
["2010-09-07","NTS Physical Flows, Aldbrough, Storage",0.58725000000000005]
["2010-09-07","NTS Physical Flows, Avonmouth, LNG",4.3679999999999997E-2]
["2010-09-07","NTS Physical Flows, Partington, LNG",0]
["2010-09-07","NTS Physical Flows, Glenmavis, LNG",9.2660000000000006E-2]
["2010-09-07","NTS Physical Flows, Hornsea, Storage",2.15374]
["2010-09-07","NTS Physical Flows, HumblyGrov, Storage",0]
["2010-09-07","NTS Physical Flows, Hatfield Moor, Storage",1.2764]
["2010-09-07","NTS Physical Flows, HoleHousFm, Storage",0]
["2010-09-07","NTS Physical Flows, Rough, Storage",10.4856]
["2010-09-08","NTS Physical Flows, Aldbrough, Storage",1.17791]
["2010-09-08","NTS Physical Flows, Avonmouth, LNG",0]
["2010-09-08","NTS Physical Flows, Partington, LNG",0]
["2010-09-08","NTS Physical Flows, Glenmavis, LNG",9.2660000000000006E-2]
["2010-09-08","NTS Physical Flows, Hornsea, Storage",2.0386799999999998]
["2010-09-08","NTS Physical Flows, HumblyGrov, Storage",0]
["2010-09-08","NTS Physical Flows, Hatfield Moor, Storage",1.1388]
["2010-09-08","NTS Physical Flows, HoleHousFm, Storage",0]
["2010-09-08","NTS Physical Flows, Rough, Storage",10.305099999999999]
["2010-09-09","NTS Physical Flows, Aldbrough, Storage",2.82518]
["2010-09-09","NTS Physical Flows, Avonmouth, LNG",0]
["2010-09-09","NTS Physical Flows, Partington, LNG",0]
["2010-09-09","NTS Physical Flows, Glenmavis, LNG",9.2660000000000006E-2]
["2010-09-09","NTS Physical Flows, Hornsea, Storage",2.2629100000000002]
["2010-09-09","NTS Physical Flows, HumblyGrov, Storage",4.1270300000000004]
["2010-09-09","NTS Physical Flows, Hatfield Moor, Storage",1.8816999999999999]
["2010-09-09","NTS Physical Flows, HoleHousFm, Storage",0]
["2010-09-09","NTS Physical Flows, Rough, Storage",9.9892000000000003]
["2010-09-10","NTS Physical Flows, Aldbrough, Storage",5.8421700000000003]
["2010-09-10","NTS Physical Flows, Avonmouth, LNG",0]
["2010-09-10","NTS Physical Flows, HumblyGrov, Storage",8.1995299999999993]
["2010-09-10","NTS Physical Flows, Partington, LNG",0]
["2010-09-10","NTS Physical Flows, Glenmavis, LNG",9.2660000000000006E-2]
["2010-09-10","NTS Physical Flows, Hornsea, Storage",2.2858399999999999]
["2010-09-10","NTS Physical Flows, Hatfield Moor, Storage",2.5386000000000002]
["2010-09-10","NTS Physical Flows, HoleHousFm, Storage",3.8632300000000002]
["2010-09-10","NTS Physical Flows, Rough, Storage",0]
["2010-09-11","NTS Physical Flows, Aldbrough, Storage",5.8016800000000002]
["2010-09-11","NTS Physical Flows, Avonmouth, LNG",0]
["2010-09-11","NTS Physical Flows, Partington, LNG",0]
["2010-09-11","NTS Physical Flows, Glenmavis, LNG",9.2660000000000006E-2]
["2010-09-11","NTS Physical Flows, Hornsea, Storage",2.25705]
["2010-09-11","NTS Physical Flows, HumblyGrov, Storage",8.2230799999999995]
["2010-09-11","NTS Physical Flows, Hatfield Moor, Storage",2.48]
["2010-09-11","NTS Physical Flows, HoleHousFm, Storage",7.9741600000000004]
["2010-09-11","NTS Physical Flows, Rough, Storage",0]
["2010-09-12","NTS Physical Flows, Aldbrough, Storage",5.7148899999999996]
["2010-09-12","NTS Physical Flows, Avonmouth, LNG",0]
["2010-09-12","NTS Physical Flows, HumblyGrov, Storage",8.1862100000000009]
["2010-09-12","NTS Physical Flows, Partington, LNG",0]
["2010-09-12","NTS Physical Flows, Glenmavis, LNG",9.2660000000000006E-2]
["2010-09-12","NTS Physical Flows, Hornsea, Storage",2.2943699999999998]
["2010-09-12","NTS Physical Flows, Hatfield Moor, Storage",2.3586999999999998]
["2010-09-12","NTS Physical Flows, HoleHousFm, Storage",2.8515600000000001]
["2010-09-12","NTS Physical Flows, Rough, Storage",0]
["2010-09-13","NTS Physical Flows, Avonmouth, LNG",0]
["2010-09-13","NTS Physical Flows, Partington, LNG",0]
["2010-09-13","NTS Physical Flows, Aldbrough, Storage",6.4234999999999998]
["2010-09-13","NTS Physical Flows, Glenmavis, LNG",9.2660000000000006E-2]
["2010-09-13","NTS Physical Flows, Hornsea, Storage",2.25969]
["2010-09-13","NTS Physical Flows, HumblyGrov, Storage",5.1257700000000002]
["2010-09-13","NTS Physical Flows, Hatfield Moor, Storage",2.1564000000000001]
["2010-09-13","NTS Physical Flows, HoleHousFm, Storage",7.62155]
["2010-09-13","NTS Physical Flows, Rough, Storage",0]
["2010-09-14","NTS Physical Flows, Aldbrough, Storage",6.3627000000000002]
["2010-09-14","NTS Physical Flows, Avonmouth, LNG",0]
["2010-09-14","NTS Physical Flows, HumblyGrov, Storage",6.9029499999999997]
["2010-09-14","NTS Physical Flows, Partington, LNG",2.5950000000000001E-2]
["2010-09-14","NTS Physical Flows, Glenmavis, LNG",9.2660000000000006E-2]
["2010-09-14","NTS Physical Flows, Hornsea, Storage",1.9797]
["2010-09-14","NTS Physical Flows, Hatfield Moor, Storage",2.0406]
["2010-09-14","NTS Physical Flows, HoleHousFm, Storage",10.74526]
["2010-09-14","NTS Physical Flows, Rough, Storage",0]
["2010-09-15","NTS Physical Flows, Rough, Storage",0]
["2010-09-15","NTS Physical Flows, Aldbrough, Storage",6.3712299999999997]
["2010-09-15","NTS Physical Flows, Avonmouth, LNG",0]
["2010-09-15","NTS Physical Flows, HumblyGrov, Storage",0.82643]
["2010-09-15","NTS Physical Flows, Partington, LNG",0]
["2010-09-15","NTS Physical Flows, Glenmavis, LNG",0]
["2010-09-15","NTS Physical Flows, Hornsea, Storage",1.9542299999999999]
["2010-09-15","NTS Physical Flows, Hatfield Moor, Storage",1.9181999999999999]
["2010-09-15","NTS Physical Flows, HoleHousFm, Storage",7.2967000000000004]
["2010-09-16","NTS Physical Flows, Aldbrough, Storage",6.7312000000000003]
["2010-09-16","NTS Physical Flows, Avonmouth, LNG",0]
["2010-09-16","NTS Physical Flows, Partington, LNG",0]
["2010-09-16","NTS Physical Flows, Glenmavis, LNG",0]
["2010-09-16","NTS Physical Flows, Hornsea, Storage",2.2924500000000001]
["2010-09-16","NTS Physical Flows, HumblyGrov, Storage",1.1954100000000001]
["2010-09-16","NTS Physical Flows, Hatfield Moor, Storage",1.7966]
["2010-09-16","NTS Physical Flows, HoleHousFm, Storage",0]
["2010-09-16","NTS Physical Flows, Rough, Storage",0]
["2010-09-17","NTS Physical Flows, HumblyGrov, Storage",0.47888999999999998]
["2010-09-17","NTS Physical Flows, Aldbrough, Storage",6.7447900000000001]
["2010-09-17","NTS Physical Flows, Avonmouth, LNG",0]
["2010-09-17","NTS Physical Flows, Partington, LNG",0]
["2010-09-17","NTS Physical Flows, Glenmavis, LNG",0]
["2010-09-17","NTS Physical Flows, Hornsea, Storage",2.0684300000000002]
["2010-09-17","NTS Physical Flows, Hatfield Moor, Storage",1.6918]
["2010-09-17","NTS Physical Flows, HoleHousFm, Storage",0]
["2010-09-17","NTS Physical Flows, Rough, Storage",0]
["2010-09-18","NTS Physical Flows, Aldbrough, Storage",3.9623599999999999]
["2010-09-18","NTS Physical Flows, Avonmouth, LNG",0]
["2010-09-18","NTS Physical Flows, Partington, LNG",0]
["2010-09-18","NTS Physical Flows, Glenmavis, LNG",0]
["2010-09-18","NTS Physical Flows, Hornsea, Storage",2.3448199999999999]
["2010-09-18","NTS Physical Flows, HumblyGrov, Storage",2.3029000000000002]
["2010-09-18","NTS Physical Flows, Hatfield Moor, Storage",1.5964]
["2010-09-18","NTS Physical Flows, HoleHousFm, Storage",1.59257]
["2010-09-18","NTS Physical Flows, Rough, Storage",0]
["2010-09-19","NTS Physical Flows, Aldbrough, Storage",4.7940500000000004]
["2010-09-19","NTS Physical Flows, Avonmouth, LNG",0]
["2010-09-19","NTS Physical Flows, Partington, LNG",0]
["2010-09-19","NTS Physical Flows, Glenmavis, LNG",0]
["2010-09-19","NTS Physical Flows, Hornsea, Storage",2.31833]
["2010-09-19","NTS Physical Flows, HumblyGrov, Storage",1.1150599999999999]
["2010-09-19","NTS Physical Flows, Hatfield Moor, Storage",1.4964999999999999]
["2010-09-19","NTS Physical Flows, HoleHousFm, Storage",4.0432899999999998]
["2010-09-19","NTS Physical Flows, Rough, Storage",0]
["2010-09-20","NTS Physical Flows, Aldbrough, Storage",2.8418000000000001]
["2010-09-20","NTS Physical Flows, Avonmouth, LNG",0]
["2010-09-20","NTS Physical Flows, HumblyGrov, Storage",0.45551999999999998]
["2010-09-20","NTS Physical Flows, Partington, LNG",0]
["2010-09-20","NTS Physical Flows, Glenmavis, LNG",0]
["2010-09-20","NTS Physical Flows, Hornsea, Storage",2.32206]
["2010-09-20","NTS Physical Flows, Hatfield Moor, Storage",1.399]
["2010-09-20","NTS Physical Flows, HoleHousFm, Storage",0]
["2010-09-20","NTS Physical Flows, Rough, Storage",0]
["2010-09-21","NTS Physical Flows, Aldbrough, Storage",6.3573700000000004]
["2010-09-21","NTS Physical Flows, Avonmouth, LNG",0]
["2010-09-21","NTS Physical Flows, HumblyGrov, Storage",1.57]
["2010-09-21","NTS Physical Flows, Partington, LNG",0]
["2010-09-21","NTS Physical Flows, Glenmavis, LNG",0]
["2010-09-21","NTS Physical Flows, Hornsea, Storage",2.0895199999999998]
["2010-09-21","NTS Physical Flows, Rough, Storage",0]
["2010-09-21","NTS Physical Flows, Hatfield Moor, Storage",1.2863]
["2010-09-21","NTS Physical Flows, HoleHousFm, Storage",0]
["2010-09-22","NTS Physical Flows, Aldbrough, Storage",2.9443700000000002]
["2010-09-22","NTS Physical Flows, Avonmouth, LNG",7.034E-2]
["2010-09-22","NTS Physical Flows, Partington, LNG",0]
["2010-09-22","NTS Physical Flows, Glenmavis, LNG",0]
["2010-09-22","NTS Physical Flows, Hornsea, Storage",2.0780799999999999]
["2010-09-22","NTS Physical Flows, HumblyGrov, Storage",0.65008999999999995]
["2010-09-22","NTS Physical Flows, Hatfield Moor, Storage",0.42859999999999998]
["2010-09-22","NTS Physical Flows, HoleHousFm, Storage",1.82057]
["2010-09-22","NTS Physical Flows, Rough, Storage",0]
["2010-09-23","NTS Physical Flows, Aldbrough, Storage",5.9915599999999998]
["2010-09-23","NTS Physical Flows, Avonmouth, LNG",7.034E-2]
["2010-09-23","NTS Physical Flows, Partington, LNG",0]
["2010-09-23","NTS Physical Flows, Glenmavis, LNG",0]
["2010-09-23","NTS Physical Flows, Hornsea, Storage",2.2869700000000002]
["2010-09-23","NTS Physical Flows, HumblyGrov, Storage",0.65134999999999998]
["2010-09-23","NTS Physical Flows, HoleHousFm, Storage",1.6112500000000001]
["2010-09-23","NTS Physical Flows, Rough, Storage",0]
["2010-09-23","NTS Physical Flows, Hatfield Moor, Storage",1.1249]
["2010-09-24","NTS Physical Flows, Aldbrough, Storage",2.5036299999999998]
["2010-09-24","NTS Physical Flows, Avonmouth, LNG",7.034E-2]
["2010-09-24","NTS Physical Flows, Partington, LNG",2.598E-2]
["2010-09-24","NTS Physical Flows, Glenmavis, LNG",0]
["2010-09-24","NTS Physical Flows, Hornsea, Storage",0.72118000000000004]
["2010-09-24","NTS Physical Flows, HumblyGrov, Storage",0.19566]
["2010-09-24","NTS Physical Flows, Hatfield Moor, Storage",8.6400000000000005E-2]
["2010-09-24","NTS Physical Flows, HoleHousFm, Storage",0]
["2010-09-24","NTS Physical Flows, Rough, Storage",2.2989999999999999]
["2010-09-25","NTS Physical Flows, Avonmouth, LNG",7.034E-2]
["2010-09-25","NTS Physical Flows, Partington, LNG",0]
["2010-09-25","NTS Physical Flows, Aldbrough, Storage",2.5171999999999999]
["2010-09-25","NTS Physical Flows, Glenmavis, LNG",0]
["2010-09-25","NTS Physical Flows, Hornsea, Storage",0.60621000000000003]
["2010-09-25","NTS Physical Flows, HumblyGrov, Storage",0]
["2010-09-25","NTS Physical Flows, Hatfield Moor, Storage",0]
["2010-09-25","NTS Physical Flows, HoleHousFm, Storage",0]
["2010-09-25","NTS Physical Flows, Rough, Storage",0.80230000000000001]
["2010-09-26","NTS Physical Flows, Aldbrough, Storage",2.5097700000000001]
["2010-09-26","NTS Physical Flows, Avonmouth, LNG",7.034E-2]
["2010-09-26","NTS Physical Flows, HumblyGrov, Storage",0]
["2010-09-26","NTS Physical Flows, Partington, LNG",0]
["2010-09-26","NTS Physical Flows, Glenmavis, LNG",0]
["2010-09-26","NTS Physical Flows, Hornsea, Storage",0.37090000000000001]
["2010-09-26","NTS Physical Flows, Hatfield Moor, Storage",0]
["2010-09-26","NTS Physical Flows, HoleHousFm, Storage",0]
["2010-09-26","NTS Physical Flows, Rough, Storage",0.878]
["2010-09-27","NTS Physical Flows, Avonmouth, LNG",7.034E-2]
["2010-09-27","NTS Physical Flows, Partington, LNG",0]
["2010-09-27","NTS Physical Flows, Aldbrough, Storage",3.4980699999999998]
["2010-09-27","NTS Physical Flows, Glenmavis, LNG",0]
["2010-09-27","NTS Physical Flows, Hornsea, Storage",1.2942]
["2010-09-27","NTS Physical Flows, HumblyGrov, Storage",0]
["2010-09-27","NTS Physical Flows, Hatfield Moor, Storage",2E-3]
["2010-09-27","NTS Physical Flows, HoleHousFm, Storage",0]
["2010-09-27","NTS Physical Flows, Rough, Storage",3.2679]
["2010-09-28","NTS Physical Flows, Aldbrough, Storage",1.8684000000000001]
["2010-09-28","NTS Physical Flows, Avonmouth, LNG",7.3249999999999996E-2]
["2010-09-28","NTS Physical Flows, Hornsea, Storage",2.0045299999999999]
["2010-09-28","NTS Physical Flows, HumblyGrov, Storage",0]
["2010-09-28","NTS Physical Flows, Partington, LNG",0]
["2010-09-28","NTS Physical Flows, Glenmavis, LNG",0]
["2010-09-28","NTS Physical Flows, Hatfield Moor, Storage",0]
["2010-09-28","NTS Physical Flows, HoleHousFm, Storage",0]
["2010-09-28","NTS Physical Flows, Rough, Storage",3.3611]
["2010-09-29","NTS Physical Flows, Hatfield Moor, Storage",0]
["2010-09-29","NTS Physical Flows, Partington, LNG",0]
["2010-09-29","NTS Physical Flows, Aldbrough, Storage",1.87216]
["2010-09-29","NTS Physical Flows, Avonmouth, LNG",0.19464999999999999]
["2010-09-29","NTS Physical Flows, Hornsea, Storage",1.1732899999999999]
["2010-09-29","NTS Physical Flows, HumblyGrov, Storage",0]
["2010-09-29","NTS Physical Flows, Glenmavis, LNG",0]
["2010-09-29","NTS Physical Flows, HoleHousFm, Storage",5.3953800000000003]
["2010-09-29","NTS Physical Flows, Rough, Storage",2.8378000000000001]
["2010-09-30","NTS Physical Flows, Aldbrough, Storage",1.87734]
["2010-09-30","NTS Physical Flows, Avonmouth, LNG",0.18436]
["2010-09-30","NTS Physical Flows, Partington, LNG",0]
["2010-09-30","NTS Physical Flows, Hornsea, Storage",1.8331999999999999]
["2010-09-30","NTS Physical Flows, HumblyGrov, Storage",0]
["2010-09-30","NTS Physical Flows, Glenmavis, LNG",0]
["2010-09-30","NTS Physical Flows, Hatfield Moor, Storage",0]
["2010-09-30","NTS Physical Flows, HoleHousFm, Storage",0]
["2010-09-30","NTS Physical Flows, Rough, Storage",1.3740000000000001]

{"sheet":"r_Demand growth forecast","index":9,"n_rows":14,"n_cols":4,"rows_kept":14,"cut":false,"hidden":false,"merged":[[4,0,4,2],[0,0,0,2],[2,3,2,4],[6,3,6,4],[7,3,7,4]]}
["Demand growth"]
["%","Avg","Peak"]
["Annual increase",0.995,1.0109999999999999,"<< Source: National Grid TYS 2010"]
[]
["Demand (% base yr)"]
["Gas yr","Avg","Peak"]
["09/10",1,1]
["10/11",1,1,"<< 2010/11 taken as base year"]
["11/12",{"$f":"B8*B$3","v":0.995},{"$f":"C8*C$3","v":1.0109999999999999}]
["12/13",0.99002500000000004,1.0221209999999998]
["13/14",0.98507487500000002,1.0333643309999998]
["14/15",0.98014950062500006,1.0447313386409998]
["15/16",0.97524875312187509,1.0562233833660506]
["16/17",0.97037250935626573,1.067841840583077]

{"sheet":"r_Online storage","index":10,"n_rows":30,"n_cols":10,"rows_kept":30,"cut":false,"hidden":false,"merged":[[29,1,29,9]]}
[null,"Online storage"]
[null,"%","09/10","10/11","11/12","12/13","13/14","14/15","15/16","16/17"]
[1,"Rough",1,1,1,1,1,1,1,1]
[2,"Hatfield",1,1,1,1,1,1,1,1]
[3,"Humbly Grove",1,1,1,1,1,1,1,1]
[4,"Hornsea",1,1,1,1,1,1,1,1]
[5,"Holford",0,0,1,1,1,1,1,1]
[6,"Aldbrough 1 a",1,1,1,1,1,1,1,1]
[7,"Aldbrough 1 b",0,1,1,1,1,1,1,1]
[8,"Hole House Farm",1,1,1,1,1,1,1,1]
[9,"Hewett",0,0,0,0,0,0,0,0]
[10,"Bains",0,0,0,0,0,0,0,0]
[11,"Baird",0,0,0,0,0,0,0,0]
[12,"Portland",0,0,0,0,0,0,0,0]
[13,"Caythorpe",0,0,0,0,0,0,0,0]
[14,"Stublach",0,0,0,0,1,1,1,1]
[15,"Hill Top Farm",0,0,1,1,1,1,1,1]
[16,"Avonmouth",1,1,1,0,0,0,0,0]
[17,"Glenmavis",1,1,0,0,0,0,0,0]
[18,"Partington",1,1,0,0,0,0,0,0]
[19,"Aldbrough 2",0,0,0,0,0,0,0,0]
[20,"Whitehill F",0,0,0,0,0,0,0,0]
[21,"Holford H165",0,0,0,0,0,0,0,0]
[22,"Saltfleetby",0,0,0,0,0,0,0,0]
[23,"Gateway",0,0,0,0,0,0,0,0]
[24,"Albury",0,0,0,0,0,0,0,0]
[25,"SNS Storage",0,0,0,0,0,0,0,0]
[26,"Fleetwood",0,0,0,0,0,0,0,0]
[]
[null,"Source: National Grid Ten Year Statement (2010) & UK and Ireland Gas Project Tracker. Platts European Gas Daily, volume 15, issue 221, November 15 2010"]

{"sheet":"r_Storage parameters","index":11,"n_rows":31,"n_cols":5,"rows_kept":31,"cut":false,"hidden":false,"merged":[[30,1,30,4]]}
[null,"Storage technical parameters"]
[null,null,"Delivery","Injection","Space"]
[null,null,"GWh/day","GWh/day","GWh"]
[1,"Rough",455,238.32599999999999,36800]
[2,"Hatfield",25,25,1260]
[3,"Humbly Grove",82,90,3730]
[4,"Hornsea",195,21.666,3496]
[5,"Holford",169,169,1745]
[6,"Aldbrough 1 a",105,317,649.98]
[7,"Aldbrough 1 b",316,317,3264.02]
[8,"Hole House Farm",116,170,650]
[9,"Hewett",454.98599999999999,454.98599999999999,45498.6]
[10,"Bains",64,64,2957]
[11,"Baird",206,114,10181]
[12,"Portland",216,216,10830]
[13,"Caythorpe",90,90,1744]
[14,"Stublach",175,175,1500]
[15,"Hill Top Farm",195,195,1070]
[16,"Avonmouth",143,2.6,663]
[17,"Glenmavis",92.6,3.2,385.1]
[18,"Partington",154.19999999999999,2.2000000000000002,192.1]
[19,"Aldbrough 2",420,317,3914]
[20,"Whitehill F",433,317,4443]
[21,"Holford H165"]
[22,"Saltfleetby",85,47,7650]
[23,"Gateway",396,396,15870]
[24,"Albury",46,46,1850]
[25,"SNS Storage",250,250,22000]
[26,"Fleetwood",700,700,12700]
[]
[null,"Source: National Grid Ten Year Statement (2010) & UK and Ireland Gas Project Tracker. Platts European Gas Daily, volume 15, issue 221, November 15 2010"]

{"sheet":"r_Capacities and coefficients","index":12,"n_rows":16,"n_cols":10,"rows_kept":16,"cut":false,"hidden":false,"merged":[]}
["Capacities"]
["GWh/day","09/10","10/11","11/12","12/13","13/14","14/15","15/16","16/17","Source: National Grid TYS 2010- see Appendix 2 in Ofgem guidance for more details"]
["UKCS",2254.56396,1997.71353,1800.6612600000001,1653.7657799999999,1636.7579700000001,1561.6852799999999,1562.4435899999999,1465.5965699999999]
["Norway",1278.2940000000001,1419.123,1419.123,1419.123,1419.123,1419.123,1419.123,1419.123]
["LNG",1324.4010287671233,1527.7052753424657,1527.7052753424657,1527.7052753424657,1527.7052753424657,1527.7052753424657,1527.7052753424657,1527.7052753424657]
["Continent",1234.6652054794522,1335.5753424657535,1335.5753424657535,1335.5753424657535,1335.5753424657535,1335.5753424657535,1335.5753424657535,1335.5753424657535]
["-IUK",756.8260273972603,756.8260273972603,756.8260273972603,756.8260273972603,756.8260273972603,756.8260273972603,756.8260273972603,756.8260273972603]
["-BBL",477.83917808219184,578.74931506849316,578.74931506849316,578.74931506849316,578.74931506849316,578.74931506849316,578.74931506849316,578.74931506849316]
["* Based on a conversion factor of 1 mcm = 10.833 GWh"]
[]
["Coefficients"]
["%","Daily","Weekly","Monthly","Quarterly","Seasonal"]
["UKCS",0.90217391304347827,0.90217391304347827,0.90217391304347827,0.90217391304347827,0.90217391304347827]
["Norway",0.97509541984732828,0.97509541984732828,0.97509541984732828,0.81451612903225812,0.81300813008130079]
["LNG",0.9903213833518214,0.75,0.75,0.6,0.32718186605712235]
["Continent",0.80294638087606818,0.80294638087606818,0.56372786359488769,0.32450934631370715,0.17548076923076922]

{"sheet":"r_Data from TYS 2010 (Appendix)","index":13,"n_rows":17,"n_cols":16,"rows_kept":17,"cut":false,"hidden":false,"merged":[]}
["Appendix 2 - Gas Demand & Supply Volume Forecasts Data"]
[]
[]
["Calendar Year","2010","2011",2012,2013,2014,2015,2016,2017,2018,2019,2020,2021,2022,2023,2024]
["0 to 73 MWh",348.115764899,349.35011671899997,350.00410595999995,348.03889790700003,345.819482338,343.00918643099999,341.71682720799998,337.18183207700002,336.26258944300002,335.95135263700001,336.78200539399995,335.09764662000003,335.12849374799998,334.74610136700005,335.33248616600002]
["73 to 732 MWh",47.599934679,46.952957744999999,46.941694789000003,46.372030868000003,46.015035054000002,45.670626035999994,45.526946840000001,44.952217185000002,44.602068763000005,44.192846786000004,43.946910706000004,43.424541830000003,43.018223250000005,42.639836295999999,42.477356347000004]
["NDM>732",69.116067024000003,69.194692013999997,69.576745614999993,69.167017580000007,68.985922511999988,68.520567791000005,68.682573356000006,68.337789474000004,68.189501250000006,67.588953537999998,67.390721771999992,66.948846529999997,66.725365689,66.537832941000005,66.632664332999994]
["Total NDM",464.83176660200002,465.49776647799996,466.52254636399994,463.57794635500005,460.82043990400001,457.200380258,455.92634740400001,450.471838736,449.05415945600009,447.73315296100003,448.11963787199994,445.47103498000001,444.87208268699999,443.92377060400008,444.44250684600001]
["DM ",122.005564037,129.17812717500001,130.97867926999999,130.804940472,129.80169227200003,127.92227751099999,126.204244307,124.93169907000001,124.13499238100002,123.04935028899999,122.29648813399999,121.285675656,120.56702170499999,119.937327651,119.545451203]
["Total LDZ",586.83733063900002,594.675893653,597.50122563399987,594.38288682699999,590.62213217600004,585.12265776899994,582.13059171099997,575.40353780600003,573.18915183700005,570.78250324999999,570.4161260059999,566.75671063599998,565.43910439199999,563.86109825500012,563.98795804899999]
["NTS Power Generation",335.19392083000002,345.92491940999997,349.27891981999994,367.65091919000002,363.79391327999997,346.16391375000006,358.27490993999999,360.37891558000001,349.95391469999998,355.41991805000004,338.11992458999993,299.94792651,284.47493038000005,258.87492931999998,233.84493139]
["NTS Industrials",30.661291569999996,31.033412430000006,31.68537246,31.338956579999998,31.331869830000002,29.552849479999995,29.142360719999996,28.382722999999999,27.889906190000001,27.43644776,27.163880340000002,26.652038219999998,26.309508350000002,25.997798479999997,25.845537419999999]
["Exports via Moffat",69.145449760000005,68.905597790000002,69.603581950000006,33.8793972,35.248934169999998,40.313148050000002,43.257748859999992,48.439175960000007,51.469041400000002,54.407916870000001,56.567721729999995,57.907189540000005,59.060211309999993,60.063103470000001,63.281819389999995]
["Exports via IUK",61.522669999999998,65.96172,68.420550000000006,68.420550000000006,68.420550000000006,66.919049999999999,63.327220000000004,59.462150000000001,55.541309999999996,51.680309999999999,47.700510000000001,43.813330000000001,39.813290000000002,35.81138,31.911660000000001]
["Total NTS",496.52333216000005,511.82564962999999,518.98842422999996,501.28982296999999,498.79526727999996,482.94896128000005,494.00223951999999,496.66296454000002,484.85417228999995,488.94459268000008,469.55203665999994,428.32048427000001,409.65794004000003,380.74721126999992,354.88394819999996]
["Shrinkage",13.526089085000001,11.232099464999999,8.6946724169999996,7.4627016050000003,7.1220333750000009,6.9523542800000007,6.9464433740000002,6.8809206050000009,6.7903707549999996,6.7498719700000001,6.7274181459999998,6.6701533400000006,6.6989529450000003,6.6689861800000001,6.7005806590000008]
["Total Throughput",1096.886751884,1117.733642748,1125.1843222809998,1103.1354114019998,1096.5394328310001,1075.023973329,1083.0792746049999,1078.9474229510001,1064.8336948819999,1066.4769679000001,1046.6955808119999,1001.7473482459999,981.79599737700005,951.27729570500014,925.57248690799997]

{"sheet":"r_Storage stock levels (daily)","index":14,"n_rows":372,"n_cols":9,"rows_kept":372,"cut":false,"hidden":false,"merged":[[0,0,0,5],[1,0,1,5],[4,7,5,8],[5,3,6,3],[5,4,6,4],[5,5,6,5]]}
["Stock levels sourced from file \"Historic Storage Monitors 1 October 2009 - 30 September 2010\", available on National Grid's website at http://www.nationalgrid.com/uk/Gas/Data/storage/"]
["Maximum capacity derived from file \"Historic Storage Monitors 1 October 2008 - 30 September 2009\", available on National Grid's website at http://www.nationalgrid.com/uk/Gas/Data/storage/"]
[null,null,null,37937.960222000002,9213.2044198895037,1284.8918640576726]
[]
[null,null,null,"Long Range Storage","Medium Range Storage","Short Range Storage",null,"Daily stock levels"]
["Date","Month","Quarter","Closing Stock Level (GWh)","Closing Stock Level (GWh)","Closing Stock Level (GWh)"]
[null,null,null,null,null,null,null,"LRS/MRS","SRS"]
["2009-10-01",{"$f":"MONTH(A8)","v":10},{"$f":"IF(B8<=3,1,IF(B8<=6,2,IF(B8<=9,3,4)))","v":4},37698.152063000001,8389.5410890000003,1250.8920069999999,null,{"$f":"MIN(1, (D8+E8)/($D$3+$E$3))","v":0.97744548839956524},{"$f":"MIN(1, F8/$F$3)","v":0.97353874048956812}]
["2009-10-02",10,{"$f":"IF(B9<=3,1,IF(B9<=6,2,IF(B9<=9,3,4)))","v":4},37728.170523000001,8423.8793779999996,1252.7081740000001,null,{"$f":"MIN(1, (D9+E9)/($D$3+$E$3))","v":0.97881039103747014},{"$f":"MIN(1, F9/$F$3)","v":0.97495221897036788}]
["2009-10-03",10,4,37830.652798000003,8565.6989720000001,1255.062901,null,0.98399163885723151,0.97678484556398926]
["2009-10-04",10,4,37900.241813000001,8678.4616069999993,1257.5230799999999,null,0.98785902265114089,0.97869954287729521]
["2009-10-05",10,4,37956.813898,8691.6310310000008,1260.3243399999999,null,0.98933812734621451,0.98087969521412588]
["2009-10-06",10,4,37955.949078999998,8689.7423940000008,1263.0015229999999,null,0.98927973099437638,0.98296328144802536]
["2009-10-07",10,4,37955.566265000001,8732.8027569999995,1265.820035,null,0.99018485283652247,0.9851568605956893]
["2009-10-08",10,4,37975.181386999997,8720.6561340000007,1268.7689029999999,null,0.99034324763030368,0.98745189263884314]
["2009-10-09",10,4,38025.597689000002,8629.9533859999992,1271.7689029999999,null,0.98948883721847258,0.989786719470516]
["2009-10-10",10,4,38131.131681999999,8815.0976360000004,1274.492866,null,0.99565365298087594,0.99190671343747738]
["2009-10-11",10,4,38229.799119000003,8945.7556640000003,1277.3530639999999,null,1,0.99413273578224304]
["2009-10-12",10,4,38257.090988000004,8916.0843139999997,1280.6542240000001,null,1,0.99670194809679158]
["2009-10-13",10,4,38256.321240999998,8922.9589510000005,1283.4847629999999,null,1,0.99890488756522355]
["2009-10-14",10,4,38256.009726999997,8889.6717599999993,1284.1801479999999,null,0.99988371114624308,0.99944608875067109]
["2009-10-15",10,4,38281.481824000002,8836.7951279999997,1284.2711750000001,null,0.9993025052479767,0.99951693284467347]
["2009-10-16",10,4,38280.765610000002,8792.0425529999993,1284.347164,null,0.99833818571641619,0.99957607323004416]
["2009-10-17",10,4,38260.271455000002,8739.5515290000003,1284.347164,null,0.99679028802281056,0.99957607323004416]
["2009-10-18",10,4,38227.071883999997,8609.9377879999993,1284.1661429999999,null,0.99333728080153494,0.99943518900074524]
["2009-10-19",10,4,38226.773356999998,8492.0976150000006,1284.1961429999999,null,0.99083174990113709,0.99945853726906198]
["2009-10-20",10,4,38124.988107999998,8322.8836319999991,1284.2261430000001,null,0.98508429415835264,0.99948188553737882]
["2009-10-21",10,4,38148.962046000001,8392.5081439999994,1283.9507799999999,null,0.98706936601629891,0.99926757723042869]
["2009-10-22",10,4,38183.554862999998,8409.5379919999996,1283.9817800000001,null,0.98816419931240229,0.99929170377435617]
["2009-10-23",10,4,38229.330269999999,8484.6740300000001,1283.9817800000001,null,0.99072853565315488,0.99929170377435617]
["2009-10-24",10,4,38282.910554000002,8502.7100850000006,1283.9817800000001,null,0.99224740246257348,0.99929170377435617]
["2009-10-25",10,4,38346.205148000001,8608.3690470000001,1284.3911800000001,null,0.99583063433570318,0.99961032980931841]
["2009-10-26",10,4,38411.813471000001,8711.6755620000004,1284.5803800000001,null,0.99941304506262585,0.99975757955483602]
["2009-10-27",10,4,38437.809850999998,8778.6487039999993,1284.7695799999999,null,1,0.99990482930035329]
["2009-10-28",10,4,38441.494599999998,8827.711636,1284.6695970000001,null,1,0.99982701496998305]
["2009-10-29",10,4,38483.241817000002,8725.4483749999999,1284.700597,null,1,0.9998511415139103]
["2009-10-30",10,4,38482.300467000001,8789.0806830000001,1284.720718,null,1,0.9998668011974704]
["2009-10-31",10,4,38538.755841999999,8969.5905419999999,1284.729763,null,1,0.99987384070036789]
["2009-11-01",11,4,38648.977212999998,9122.4268979999997,1284.729763,null,1,0.99987384070036789]
["2009-11-02",11,4,38656.791681000002,9123.8107359999995,1284.729763,null,1,0.99987384070036789]
["2009-11-03",11,4,38656.306984000003,9164.7014029999991,1284.438742,null,1,0.99964734615390782]
["2009-11-04",11,4,38656.046746,9054.1829849999995,1284.438742,null,1,0.99964734615390782]
["2009-11-05",11,4,38655.786220000002,8940.8811150000001,1284.438742,null,1,0.99964734615390782]
["2009-11-06",11,4,38655.527426000001,8876.4696230000009,1284.438742,null,1,0.99964734615390782]
["2009-11-07",11,4,38655.267109,8939.0741230000003,1284.438742,null,1,0.99964734615390782]
["2009-11-08",11,4,38625.983724999998,8853.8445819999997,1284.1958159999999,null,1,0.99945828277293736]
["2009-11-09",11,4,38499.195095000003,8727.2260239999996,1284.1958159999999,null,1,0.99945828277293736]
["2009-11-10",11,4,38479.267651000002,8609.0885409999992,1283.9063269999999,null,0.99866793428398792,0.99923298054471266]
["2009-11-11",11,4,38478.736037000002,8502.4578290000009,1283.9063269999999,null,0.9963951945369659,0.99923298054471266]
["2009-11-12",11,4,38478.478906999997,8448.3726040000001,1283.9063269999999,null,0.99524268101131441,0.99923298054471266]
["2009-11-13",11,4,38478.186575,8529.1804250000005,1283.9063269999999,null,0.99695028441011713,0.99923298054471266]
["2009-11-14",11,4,38454.325363999997,8489.5022059999992,1283.9063269999999,null,0.99560271578731463,0.99923298054471266]
["2009-11-15",11,4,38454.026972,8468.5936799999999,1283.7075139999999,null,0.99515295132951043,0.99907824923575084]
["2009-11-16",11,4,38500.201379999999,8513.2362499999999,1283.4183310000001,null,0.99707903266153586,0.9988531851598631]
["2009-11-17",11,4,38539.433283999999,8473.9070350000002,1283.4183310000001,null,0.99707696885249231,0.9988531851598631]
["2009-11-18",11,4,38599.286212999999,8419.9137389999996,1283.4183310000001,null,0.99720124219853801,0.9988531851598631]
["2009-11-19",11,4,38635.330606000003,8444.1487909999996,1283.4183310000001,null,0.99847967180802544,0.9988531851598631]
["2009-11-20",11,4,38634.480745000001,8514.2088550000008,1283.1285350000001,null,0.99994750836149426,0.99862764400102588]
["2009-11-21",11,4,38634.21976,8756.5272879999993,1282.884384,null,1,0.99843762723243257]
["2009-11-22",11,4,38656.496028000001,8919.9362529999999,1282.884384,null,1,0.99843762723243257]
["2009-11-23",11,4,38635.825190000003,8890.6174050000009,1282.884384,null,1,0.99843762723243257]
["2009-11-24",11,4,38635.693920999998,8988.1048520000004,1282.884384,null,1,0.99843762723243257]
["2009-11-25",11,4,38635.431191000003,8989.3230380000005,1282.884384,null,1,0.99843762723243257]
["2009-11-26",11,4,38634.837019999999,8984.8862210000007,1282.884384,null,1,0.99843762723243257]
["2009-11-27",11,4,38527.965379000001,8920.7032859999999,1282.595814,null,1,0.99821304023949398]
["2009-11-28",11,4,38494.499173999997,8914.1244839999999,1282.595814,null,1,0.99821304023949398]
["2009-11-29",11,4,38483.497233000002,8992.4012899999998,1282.595814,null,1,0.99821304023949398]
["2009-11-30",11,4,38400.069471000003,8927.8350229999996,1282.595814,null,1,0.99821304023949398]
["2009-12-01",12,4,38183.002912000004,8742.1810669999995,1282.595814,null,0.99520731535253026,0.99821304023949398]
["2009-12-02",12,4,38023.214517,8813.1454749999994,1282.595814,null,0.99332350213869736,0.99821304023949398]
["2009-12-03",12,4,37865.556839999997,8697.9890969999997,1282.595814,null,0.987537556933059,0.99821304023949398]
["2009-12-04",{"$f":"MONTH(A72)","v":12},4,37703.862860000001,8539.6444059999994,1282.595814,null,0.98075005394282178,0.99821304023949398]
["2009-12-05",12,{"$f":"IF(B73<=3,1,IF(B73<=6,2,IF(B73<=9,3,4)))","v":4},37610.082617,8547.1013770000009,1282.306325,null,{"$f":"MIN(1, (D73+E73)/($D$3+$E$3))","v":0.97891927685267732},{"$f":"MIN(1, F73/$F$3)","v":0.99798773801126928}]
["2009-12-06",12,4,37561.713948999997,8696.2960509999994,1282.306325,null,0.98105763349276798,0.99798773801126928]
["2009-12-07",12,4,37387.452644999998,8631.4506359999996,1282.0160699999999,null,0.97598656640850834,0.99776183962392684]
["2009-12-08",12,4,37284.745780999998,8637.0892220000005,1281.7265809999999,null,0.97392790510634908,0.99753653739570214]
["2009-12-09",12,4,37247.054419,8599.9961760000006,1281.7265809999999,null,0.97234184867342777,0.99753653739570214]
["2009-12-10",12,4,37075.687414,8580.6808270000001,1281.7265809999999,null,0.96829778411111589,0.99753653739570214]
["2009-12-11",12,4,36797.463445000001,8502.1863290000001,1281.4546170000001,null,0.96073236192675937,0.99732487444755258]
["2009-12-12",12,4,36602.689352000001,8455.9198890000007,1281.1651280000001,null,0.95562028177283964,0.99709957221932788]
["2009-12-13",12,4,36339.702434999999,8356.8132989999995,1281.1651280000001,null,0.94794086367680575,0.99709957221932788]
["2009-12-14",12,4,36022.728329999998,8653.7727159999995,1281.1651280000001,null,0.94751638449051179,0.99709957221932788]
["2009-12-15",12,4,35754.360529999998,8541.2147050000003,1280.584924,null,0.93943756366194664,0.99664801359697985]
["2009-12-16",12,4,35417.393299000003,8374.2485180000003,1280.584924,null,0.92874995028426355,0.99664801359697985]
["2009-12-17",12,4,34999.726147000001,8194.5350579999995,1280.295435,null,0.91608047294394601,0.99642271136875504]
["2009-12-18",12,4,34582.089088000001,7849.9867919999997,1280.295435,null,0.89991575398549073,0.99642271136875504]
["2009-12-19",12,4,34184.490540999999,7641.1925309999997,1271.392548,null,0.88705514253282514,0.98949381155310467]
["2009-12-20",12,4,33834.611169999996,7465.3092720000004,1256.1304560000001,null,0.87590456684730089,0.97761569758341815]
["2009-12-21",12,4,33354.524457,7265.812989,1255.933174,null,0.8614917097914595,0.97746215781441603]
["2009-12-22",12,4,32906.506426,7129.6399179999999,1251.746445,null,0.84910196064237919,0.97420372874570182]
["2009-12-23",12,4,32533.129757999999,7024.7983809999996,1251.625135,null,0.8389597253734935,0.97410931613138507]
["2009-12-24",12,4,32334.586884,7017.0390779999998,1251.625135,null,0.83458438960889791,0.97410931613138507]
["2009-12-25",12,4,32247.373904,7108.8402859999997,1251.625135,null,0.83468169850963969,0.97410931613138507]
["2009-12-26",12,4,32181.609810000002,7320.5025450000003,1251.625135,null,0.83777596279999378,0.97410931613138507]
["2009-12-27",12,4,32129.892883,7486.5445069999996,1251.625135,null,0.84020061202909102,0.97410931613138507]
["2009-12-28",12,4,32027.203862999999,7480.1309689999998,1251.625135,null,0.83788672309700152,0.97410931613138507]
["2009-12-29",12,4,31868.380107000001,7623.6138179999998,1251.4422509999999,null,0.83756136725231534,0.97396698197462372]
["2009-12-30",12,4,31782.318476,7869.4281959999998,1251.4422509999999,null,0.84094946483618871,0.97396698197462372]
["2009-12-31",12,4,31725.409986999999,7927.1448270000001,1251.4422509999999,null,0.84096660422195235,0.97396698197462372]
["2010-01-01",1,1,31338.788475000001,7920.1509539999997,1251.4422509999999,null,0.83261865803675217,0.97396698197462372]
["2010-01-02",1,1,30943.313643000001,7865.0719230000004,1251.4422509999999,null,0.82306313875272341,0.97396698197462372]
["2010-01-03",1,1,30471.595884999999,7498.0438320000003,1122.5255279999999,null,0.80527469481140745,0.87363424067071149]
["2010-01-04",1,1,29989.804359999998,7067.8702780000003,874.835331,null,0.78593338933303114,0.6808630013714001]
["2010-01-05",1,1,29508.721469,6629.2002140000004,938.76850200000001,null,0.76642691559085596,0.73062062906630965]
["2010-01-06",1,1,29027.890599999999,6373.4433040000004,905.09571500000004,null,0.75080507921429251,0.70441392020470806]
["2010-01-07",1,1,28547.410250000001,6051.853314,879.60193900000002,null,0.73379446354675437,0.68457273612288894]
["2010-01-08",1,1,28073.613941,5862.3971039999997,879.13053400000001,null,0.71972794951603281,0.68420585310869408]
["2010-01-09",1,1,27593.706084000001,5459.2238660000003,756.06062499999996,null,0.70099922665824244,0.58842354454044865]
["2010-01-10",1,1,27112.586578999999,5208.7984770000003,723.66920000000005,null,0.6854843417226093,0.56321408847174237]
["2010-01-11",1,1,26631.660252999998,4907.1657489999998,721.45912299999998,null,0.66888752889850422,0.56149403944518805]
["2010-01-12",1,1,26156.482536,4774.7110030000003,721.45912299999998,null,0.65600062636672307,0.56149403944518805]
["2010-01-13",1,1,25676.337714000001,4480.3031940000001,721.45912299999998,null,0.63957361683508829,0.56149403944518805]
["2010-01-14",1,1,25200.686371,4346.5649119999998,721.45912299999998,null,0.62664944773707587,0.56149403944518805]
["2010-01-15",1,1,24715.559235000001,4422.4159579999996,721.16902100000004,null,0.61796936330844243,0.5612682601340141]
["2010-01-16",1,1,24300.729049000001,4497.553073,720.88185399999998,null,0.61076502225812168,0.56104476506175704]
["2010-01-17",1,1,24175.370022999999,4559.7928879999999,720.88185399999998,null,0.60942636580118392,0.56104476506175704]
["2010-01-18",1,1,23813.030139999999,4672.6698210000004,720.88185399999998,null,0.60413565979435124,0.56104476506175704]
["2010-01-19",1,1,23393.711138999999,4759.621803,720.88185399999998,null,0.59708669246715351,0.56104476506175704]
["2010-01-20",1,1,22923.200293000002,4643.3532100000002,720.88185399999998,null,0.58464204887337268,0.56104476506175704]
["2010-01-21",1,1,22452.703184000002,4679.6450199999999,720.88185399999998,null,0.57543325621050279,0.56104476506175704]
["2010-01-22",1,1,22004.336211999998,4737.5949129999999,720.31104400000004,null,0.56715314092670865,0.56060051756049467]
["2010-01-23",1,1,21609.850784999999,4832.3746730000003,720.31104400000004,null,0.56079686809068763,0.56060051756049467]
["2010-01-24",1,1,21192.686260999999,4881.887823,720.31104400000004,null,0.55299957661777721,0.56060051756049467]
["2010-01-25",1,1,20723.097974,4697.179153,720.01865499999997,null,0.53912299558379106,0.56037295833299927]
["2010-01-26",1,1,20242.810543,4297.8942189999998,720.01865499999997,null,0.52046868721876338,0.56037295833299927]
["2010-01-27",1,1,19764.58641,4219.547501,720.01865499999997,null,0.50866471895568599,0.56037295833299927]
["2010-01-28",1,1,19356.735201,4333.734888,720.01865499999997,null,0.50243658388775359,0.56037295833299927]
["2010-01-29",1,1,19055.364582999999,4478.6702850000001,720.01865499999997,null,0.49911884566881215,0.56037295833299927]
["2010-01-30",1,1,18614.924621999999,4676.0781610000004,720.01869499999998,null,0.49396452791556439,0.5603729894640237]
["2010-01-31",1,1,18134.807273999999,4752.9559410000002,720.01865499999997,null,0.48541246836279228,0.56037295833299927]
["2010-02-01",2,1,17655.585552,4627.8716549999999,719.44814599999995,null,0.47259611456560252,0.55992894509269564]
["2010-02-02",2,1,17175.936396000001,4562.1986390000002,719.44814599999995,null,0.46103071260487277,0.55992894509269564]
["2010-02-03",2,1,16760.494145000001,4568.0344510000004,719.44814599999995,null,0.45234362200783373,0.55992894509269564]
["2010-02-04",2,1,16437.777744999999,4611.0124249999999,719.16364399999998,null,0.44641082208391675,0.55970752412494085]
["2010-02-05",2,1,16250.391303,4751.5225140000002,718.87884099999997,null,0.44541665039471195,0.5594858688962272]
["2010-02-06",{"$f":"MONTH(A136)","v":2},1,16113.047289,4883.5844360000001,718.70592599999998,null,0.44530462575989926,0.55935129336902767]
["2010-02-07",2,{"$f":"IF(B137<=3,1,IF(B137<=6,2,IF(B137<=9,3,4)))","v":1},15934.518330000001,4901.5510910000003,718.70592599999998,null,{"$f":"MIN(1, (D137+E137)/($D$3+$E$3))","v":0.44189935878039915},{"$f":"MIN(1, F137/$F$3)","v":0.55935129336902767}]
["2010-02-08",2,1,15457.69284,4698.07996,718.13601900000003,null,0.42747136689161302,0.55890774865064163]
["2010-02-09",2,1,14977.584357,4440.2010039999996,716.96384499999999,null,0.41181984598847149,0.55799547421511175]
["2010-02-10",2,1,14497.407187999999,4133.2905799999999,716.96384499999999,null,0.3951269901708499,0.55799547421511175]
["2010-02-11",2,1,14017.516809999999,3888.7329319999999,716.67466200000001,null,0.37976261833608949,0.5577704101392239]
["2010-02-12",2,1,13536.743211999999,3746.8138450000001,716.67466200000001,null,0.36655631283485068,0.5577704101392239]
["2010-02-13",2,1,13141.279026,3451.7817060000002,716.67466200000001,null,0.35191200170819498,0.5577704101392239]
["2010-02-14",2,1,12669.24892,3295.6008790000001,716.67466200000001,null,0.33858866308504049,0.5577704101392239]
["2010-02-15",2,1,12190.044701999999,3167.8108200000001,716.10355100000004,null,0.32571529544693256,0.55732592837700279]
["2010-02-16",2,1,11721.369037,2888.087043,716.10355100000004,null,0.30984295278723256,0.55732592837700279]
["2010-02-17",2,1,11245.162635999999,2744.2158880000002,716.10355100000004,null,0.29669210994571521,0.55732592837700279]
["2010-02-18",2,1,10772.716845000001,2594.8798259999999,716.10355100000004,null,0.28350512171918046,0.55732592837700279]
["2010-02-19",2,1,10305.831295,2402.5916739999998,715.53334299999995,null,0.26952511280516128,0.5568821493976579]
["2010-02-20",2,1,9957.9757640000007,2409.8369499999999,715.53334299999995,null,0.26230131976448207,0.5568821493976579]
["2010-02-21",2,1,9602.4258549999995,2422.1358479999999,715.53334299999995,null,0.25502152055682786,0.5568821493976579]
["2010-02-22",2,1,9172.2372149999992,2297.740847,715.53334299999995,null,0.24325969780627582,0.5568821493976579]
["2010-02-23",2,1,8811.3834370000004,2223.498137,715.53334299999995,null,0.23403200446498656,0.5568821493976579]
["2010-02-24",2,1,8648.8602289999999,2213.9055119999998,715.53334299999995,null,0.23038170580731371,0.5568821493976579]
["2010-02-25",2,1,8538.7493940000004,2278.1444710000001,715.53334299999995,null,0.22940883745192112,0.5568821493976579]
["2010-02-26",2,1,8433.4077699999998,2267.8813030000001,715.53334299999995,null,0.22695704664509775,0.5568821493976579]
["2010-02-27",2,1,8357.0202969999991,2358.1066209999999,715.50877700000001,null,0.22725052497389611,0.55686303027900896]
["2010-02-28",2,1,8288.9151870000005,2417.7925930000001,715.27345100000002,null,0.22707196866327387,0.55667988179267891]
["2010-03-01",3,1,8019.6757859999998,2468.018028,714.98804600000005,null,0.2224270363977954,0.55645775804204778]
["2010-03-02",3,1,7769.691949,2347.5787019999998,714.98804600000005,null,0.21457095975974533,0.55645775804204778]
["2010-03-03",3,1,7488.525482,2167.4557460000001,714.98804600000005,null,0.20478775659809564,0.55645775804204778]
["2010-03-04",3,1,7186.898279,2117.1768459999998,713.43535199999997,null,0.19732439687680967,0.55524933417118849]
["2010-03-05",3,1,6855.1334299999999,2139.8619789999998,713.15018099999998,null,0.19076931561110935,0.55502739253705013]
["2010-03-06",3,1,6504.2175719999996,2122.0391909999998,713.15018099999998,null,0.18294896485624362,0.55502739253705013]
["2010-03-07",3,1,6129.0357709999998,1988.146827,713.15018099999998,null,0.17215232454276694,0.55502739253705013]
["2010-03-08",3,1,5747.2533549999998,1710.3770730000001,711.08899399999996,null,0.15816428893411844,0.55342322096615171]
["2010-03-09",3,1,5361.1418910000002,1575.7964919999999,711.08899399999996,null,0.14712125216175814,0.55342322096615171]
["2010-03-10",3,1,4963.5355570000002,1461.897465,641.70813699999997,null,0.13627305011023183,0.49942579212346605]
["2010-03-11",3,1,4560.9390400000002,1384.1403459999999,624.54874099999995,null,0.12608552580095425,0.48607105272476608]
["2010-03-12",3,1,4202.0739080000003,1402.777691,624.54874099999995,null,0.11886984428843994,0.48607105272476608]
["2010-03-13",3,1,3903.7021340000001,1410.9246209999999,624.54874099999995,null,0.11271464438607821,0.48607105272476608]
["2010-03-14",3,1,3601.2763359999999,1451.5123289999999,623.31597799999997,null,0.1071614816595868,0.48511162334826824]
["2010-03-15",3,1,3310.0114899999999,1352.7166030000001,616.33825300000001,null,9.8888927313103767E-2,0.47968103016359015]
["2010-03-16",3,1,3007.8304469999998,1348.1135830000001,616.33825300000001,null,9.2382533137477185E-2,0.47968103016359015]
["2010-03-17",3,1,2959.088827,1356.561105,616.08723499999996,null,9.1527960439092518E-2,0.47948566897637918]
["2010-03-18",3,1,2923.971364,1401.795055,614.20250099999998,null,9.1742514778881012E-2,0.47801882647179045]
["2010-03-19",3,1,2968.6419380000002,1648.2340340000001,613.96225500000003,null,9.7916477929334694E-2,0.47783184886945645]
["2010-03-20",3,1,3169.8726590000001,1718.288239,613.58927100000005,null,0.10366999278014261,0.47754156451912827]
["2010-03-21",3,1,3380.0275889999998,1808.7652619999999,612.69306500000005,null,0.11004591064523211,0.47684406924729289]
["2010-03-22",3,1,3553.621819,2211.9349069999998,611.59361899999999,null,0.1222781403129506,0.47598839724036768]
["2010-03-23",3,1,3628.9717500000002,1872.7445070000001,611.59361899999999,null,0.11668251036395881,0.47598839724036768]
["2010-03-24",3,1,3802.6638069999999,2050.4849650000001,611.59361899999999,null,0.12413582604914095,0.47598839724036768]
["2010-03-25",3,1,3981.9621649999999,2226.0619630000001,609.93060100000002,null,0.13166215882788052,0.4746941108910494]
["2010-03-26",3,1,4175.0380590000004,2382.790289,609.93060100000002,null,0.13908094100763674,0.4746941108910494]
["2010-03-27",3,1,4375.4471139999996,2677.9586479999998,609.93060100000002,null,0.14959133704480532,0.4746941108910494]
["2010-03-28",3,1,4566.9048860000003,2991.4407030000002,609.93060100000002,null,0.16030029473089835,0.4746941108910494]
["2010-03-29",3,1,4706.0617320000001,3176.352304,607.84877600000004,null,0.16717326275748437,0.4730738772681003]
["2010-03-30",3,1,4767.8420649999998,3192.7881539999998,607.84877600000004,null,0.16883210159198711,0.4730738772681003]
["2010-03-31",3,1,4766.8426659999996,3196.7686450000001,607.84877600000004,null,0.16889532573549748,0.4730738772681003]
["2010-04-01",4,2,4766.561651,2925.1952449999999,607.84877600000004,null,0.16312973294336353,0.4730738772681003]
["2010-04-02",4,2,4800.1945660000001,2773.292837,606.76293399999997,null,0.1606214281348132,0.47222879292258119]
["2010-04-03",4,2,4970.0707700000003,2671.8433930000001,606.76293399999997,null,0.162072649128392,0.47222879292258119]
["2010-04-04",4,2,5178.9839830000001,2623.4961960000001,606.70197800000005,null,0.16547799483341308,0.47218135235446407]
["2010-04-05",4,2,5412.1284669999995,2571.1731110000001,604.84378100000004,null,0.16931292447668547,0.47073516294975271]
["2010-04-06",4,2,5612.1278030000003,2457.2028059999998,604.84378100000004,null,0.17113746119074941,0.47073516294975271]
["2010-04-07",4,2,5671.628737,2209.8434309999998,589.29598299999998,null,0.16715328725937836,0.4586346909684762]
["2010-04-08",4,2,5670.6193620000004,2109.0171999999998,585.48045999999999,null,0.16499351863492473,0.45566516247605454]
["2010-04-09",4,2,5938.6040430000003,2151.3736060000001,585.48045999999999,null,0.17157535154100509,0.45566516247605454]
["2010-04-10",4,2,6189.9327649999996,2331.1578009999998,585.48045999999999,null,0.18071855977932277,0.45566516247605454]
["2010-04-11",{"$f":"MONTH(A200)","v":4},2,6470.7539230000002,2457.6699950000002,585.19535599999995,null,0.18935744187467876,0.4554432729863821]
["2010-04-12",4,{"$f":"IF(B201<=3,1,IF(B201<=6,2,IF(B201<=9,3,4)))","v":2},6710.0415940000003,2383.8563859999999,585.19535599999995,null,{"$f":"MIN(1, (D201+E201)/($D$3+$E$3))","v":0.19286687930335664},{"$f":"MIN(1, F201/$F$3)","v":0.4554432729863821}]
["2010-04-13",4,2,6924.2048240000004,2204.7850020000001,583.89978699999995,null,0.19361112064429745,0.45443496323188759]
["2010-04-14",4,2,7093.1914919999999,2071.5385679999999,582.42757800000004,null,0.19436911324684383,0.45328917887354425]
["2010-04-15",4,2,7290.8134309999996,2034.6410800000001,582.42757800000004,null,0.19777781910216455,0.45328917887354425]
["2010-04-16",4,2,7564.4186689999997,2182.0385070000002,581.73333100000002,null,0.20670660523496726,0.45274886336574144]
["2010-04-17",4,2,7817.1892109999999,2376.2758979999999,580.85145699999998,null,0.21618692107435322,0.45206252233995653]
["2010-04-18",4,2,8079.0767640000004,2472.6759849999999,580.13272700000005,null,0.22378562288206411,0.45150315231038046]
["2010-04-19",4,2,8334.015652,2418.8816219999999,580.13272700000005,null,0.22805157318313685,0.45150315231038046]
["2010-04-20",4,2,8588.1750240000001,2417.3527829999998,578.03639499999997,null,0.23340945850619763,0.44987162824314897]
["2010-04-21",4,2,8865.6608190000006,2325.0755989999998,577.69630900000004,null,0.23733743382571834,0.44960694760385689]
["2010-04-22",4,2,9143.6620569999995,2448.8282060000001,577.51403800000003,null,0.24585798359477065,0.44946509053004496]
["2010-04-23",4,2,9398.3354870000003,2561.3173959999999,574.55160000000001,null,0.25364490938522738,0.44715949728685583]
["2010-04-24",4,2,9673.1959669999997,2607.2414979999999,574.59199699999999,null,0.26044823194229122,0.44719093728669551]
["2010-04-25",4,2,9917.8612869999997,2629.8296030000001,577.51403800000003,null,0.26611624517228832,0.44946509053004496]
["2010-04-26",4,2,10187.821144,2767.0799809999999,575.88697000000002,null,0.27475251615504642,0.4481987831889262]
["2010-04-27",4,2,10462.694545,2907.2739799999999,575.88697000000002,null,0.28355542490931401,0.4481987831889262]
["2010-04-28",4,2,10727.226248000001,3167.6161259999999,575.60216700000001,null,0.29468715098620707,0.44797712796021255]
["2010-04-29",4,2,10986.309816000001,3285.4281190000002,574.16592200000002,null,0.30268049672564962,0.44685933350592721]
["2010-04-30",4,2,11259.868187,3356.3588840000002,574.16592200000002,null,0.30998655456359225,0.44685933350592721]
["2010-05-01",5,2,11582.187044,3452.9760769999998,590.80780500000003,null,0.31887151113214773,0.45981130515858065]
["2010-05-02",5,2,11817.009436,3294.5823660000001,593.40782100000001,null,0.3204924399380526,0.46183483419844024]
["2010-05-03",5,2,11878.373896999999,3044.1005650000002,594.27488500000004,null,0.31648156679342643,0.4625096489624328]
["2010-05-04",5,2,12010.037638,2834.6227119999999,548.87564999999995,null,0.31483125523503774,0.42717653162395897]
["2010-05-05",5,2,12162.106381,2604.405929,551.47566600000005,null,0.31317386160343752,0.42920006066381861]
["2010-05-06",5,2,12297.227535,2486.1959889999998,554.07568200000003,null,0.31353252112178537,0.43122358970367819]
["2010-05-07",5,2,12441.920926999999,2305.7365599999998,554.33104800000001,null,0.31277398127930972,0.43142233483324383]
["2010-05-08",5,2,12570.891743,2165.9635250000001,551.64517000000001,null,0.3125448836720281,0.42933198149291052]
["2010-05-09",5,2,12739.141202000001,2082.747586,549.57138699999996,null,0.31434830720664969,0.4277180067624215]
["2010-05-10",5,2,12856.001824999999,1995.345965,551.88191400000005,null,0.31497308502971599,0.42951623357405644]
["2010-05-11",5,2,12811.85937,1905.3015339999999,554.48193000000003,null,0.31212719804009142,0.43153976261391597]
["2010-05-12",5,2,12854.776454000001,1833.859512,541.98564699999997,null,0.31152223020490338,0.42181421033239014]
["2010-05-13",5,2,13005.497922,1829.1645209999999,544.58566299999995,null,0.31461921578540941,0.42383773937224972]
["2010-05-14",5,2,13242.694584000001,1822.9321990000001,546.62582599999996,null,0.31951759617016051,0.42542554847671177]
["2010-05-15",5,2,13506.648448,1946.13228,549.10266100000001,null,0.3277285056554386,0.42735320874858729]
["2010-05-16",5,2,13769.239867,2075.201497,552.38571100000001,null,0.33603499477346233,0.42990832649182847]
["2010-05-17",5,2,14034.486708,2154.915602,554.69654400000002,null,0.34335105893900225,0.43170679145580015]
["2010-05-18",5,2,14288.300604,2213.9987689999998,557.29656,null,0.34998709996527244,0.43373032049565974]
["2010-05-19",5,2,14520.664423,2388.1078809999999,559.89657599999998,null,0.35860773392176398,0.43575384953551932]
["2010-05-20",5,2,14753.461839,2647.8005039999998,562.49659199999996,null,0.3690526517247586,0.43777737857537885]
["2010-05-21",5,2,15012.083124999999,2872.3747450000001,565.09660799999995,null,0.3793004479493024,0.43980090761523843]
["2010-05-22",5,2,15243.030355000001,3037.9576659999998,567.69662400000004,null,0.38771021161074382,0.44182443665509807]
["2010-05-23",5,2,15485.570668,3255.618054,570.29664000000002,null,0.39747032473828153,0.4438479656949576]
["2010-05-24",5,2,15742.839076,3618.9769980000001,572.89665600000001,null,0.41063282786442135,0.44587149473481719]
["2010-05-25",5,2,16002.625980999999,3655.9075210000001,575.20565099999999,null,0.41692572498061242,0.44766852922821665]
["2010-05-26",5,2,16266.559238,3720.474021,577.80566699999997,null,0.42389267393075897,0.44969205826807623]
["2010-05-27",5,2,16525.162741,3707.2480850000002,580.11588700000004,null,0.42909673556664069,0.45149004614909871]
["2010-05-28",5,2,16783.555746999999,3681.8002329999999,582.71590300000003,null,0.4340371258150939,0.45351357518895824]
["2010-05-29",5,2,17041.902545000001,3589.9874890000001,585.31591900000001,null,0.43756904396101493,0.45553710422881782]
["2010-05-30",5,2,17301.691616,3505.6666110000001,587.91593499999999,null,0.44129044075646356,0.45756063326867735]
["2010-05-31",5,2,17562.509190000001,3455.705113,590.51595099999997,null,0.44576235735919101,0.45958416230853694]
["2010-06-01",6,2,17691.628676,3384.9521479999999,593.11596699999996,null,0.44700021694215764,0.46160769134839652]
["2010-06-02",6,2,17962.005026999999,3238.4020690000002,593.26759900000002,null,0.44962637205286282,0.46172570283577663]
["2010-06-03",6,2,18229.160279,3258.8091890000001,593.41923099999997,null,0.45572510522698523,0.46184371432315663]
["2010-06-04",6,2,18496.646116,3340.8893750000002,593.57086300000003,null,0.46313883563332692,0.46196172581053679]
["2010-06-05",6,2,18762.964714999998,3496.7731869999998,593.72249499999998,null,0.47209306643985316,0.46207973729791679]
["2010-06-06",6,2,19026.232907000001,3640.726881,596.32251099999996,null,0.48072958452149189,0.46410326633777638]
["2010-06-07",6,2,19289.50016,3707.9182989999999,598.63518199999999,null,0.48773807887173365,0.46590316177232027]
["2010-06-08",6,2,19552.829154999999,3622.208322,601.23519799999997,null,0.49150509118943575,0.46792669081217986]
["2010-06-09",6,2,19804.432854999999,3505.8071690000002,603.83521399999995,null,0.49437251870743781,0.46995021985203939]
["2010-06-10",6,2,20060.683852999999,3369.0075820000002,606.43523000000005,null,0.49690589008664399,0.47197374889189903]
["2010-06-11",6,2,20318.308104,3379.9507880000001,606.43523000000005,null,0.5026017718117245,0.47197374889189903]
["2010-06-12",6,2,20575.152868000001,3542.655225,606.43523000000005,null,0.51149973232206292,0.47197374889189903]
["2010-06-13",6,2,20830.379368999998,3692.8645459999998,606.43523000000005,null,0.52009837087275967,0.47197374889189903]
["2010-06-14",{"$f":"MONTH(A264)","v":6},2,21089.874298999999,3639.257662,561.20538799999997,null,0.52446492358813179,0.43677246599392444]
["2010-06-15",6,{"$f":"IF(B265<=3,1,IF(B265<=6,2,IF(B265<=9,3,4)))","v":2},21350.595913000001,3774.4716749999998,560.00025200000005,null,{"$f":"MIN(1, (D265+E265)/($D$3+$E$3))","v":0.53286207835635668},{"$f":"MIN(1, F265/$F$3)","v":0.43583453803771954}]
["2010-06-16",6,2,21612.479383000002,3753.390821,559.600998,null,0.53796911267520942,0.43552380838710192]
["2010-06-17",6,2,21870.594849000001,3616.3683129999999,558.90098499999999,null,0.54053729861334454,0.43497900534212863]
["2010-06-18",6,2,22129.194082999998,3579.1428000000001,557.74367800000005,null,0.54523227746872005,0.43407830153010107]
["2010-06-19",6,2,22392.027937999999,3681.7070789999998,556.63990200000001,null,0.55298178136274212,0.43321925958978219]
["2010-06-20",6,2,22649.812750000001,3774.3973810000002,557.05544999999995,null,0.56041479211999146,0.43354267046319817]
["2010-06-21",6,2,22906.844295999999,3867.924743,556.32313599999998,null,0.56784958001255947,0.43297272833772826]
["2010-06-22",6,2,23148.111099000002,3981.4543859999999,555.47985800000004,null,0.57537423923772735,0.43231642563740852]
["2010-06-23",6,2,23396.388169999998,4011.2994990000002,554.26220999999998,null,0.58127276128086924,0.43136875989676421]
["2010-06-24",6,2,23643.326423999999,4069.2608789999999,553.41149399999995,null,0.58773918976287376,0.43070666838245308]
["2010-06-25",6,2,23891.173287000001,4171.62201,552.22223199999996,null,0.59516653533662178,0.42978109477329007]
["2010-06-26",6,2,24143.010646999999,4288.3199720000002,552.22223199999996,null,0.602982573918044,0.42978109477329007]
["2010-06-27",6,2,24383.332385999998,4352.3464610000001,550.26044999999999,null,0.60943730796992812,0.42825428768945917]
["2010-06-28",6,2,24627.466417,4445.6330459999999,548.95251800000005,null,0.61659345392226439,0.4272363561135914]
["2010-06-29",6,2,24865.807901,4402.9696949999998,547.97159499999998,null,0.62074347088337589,0.42647292766685629]
["2010-06-30",6,2,25107.675095999999,4502.388782,546.61558600000001,null,0.62798160136418268,0.42541757893445969]
["2010-07-01",7,3,25347.420181000001,4529.8320009999998,545.05392500000005,null,0.63364823348301325,0.42420217626620071]
["2010-07-02",7,3,25581.856543000002,4632.1045789999998,543.86384199999998,null,0.64078928593754514,0.42327596369276144]
["2010-07-03",7,3,25819.148976,4695.7607440000002,542.80726600000003,null,0.64717191933134754,0.42245365636126092]
["2010-07-04",7,3,26049.599480000001,4779.3964059999998,541.81690300000002,null,0.65383317931051177,0.42168288099276224]
["2010-07-05",7,3,26251.556624000001,4832.5480950000001,541.16127600000004,null,0.65924362537133629,0.42117262248903925]
["2010-07-06",7,3,26470.974268999998,4892.9818219999997,540.10450400000002,null,0.66517882069737866,0.420350162615519]
["2010-07-07",7,3,26697.936483000001,4841.1743930000002,539.41105100000004,null,0.66889357061565313,0.41981046505855102]
["2010-07-08",7,3,26933.475928,4802.9434769999998,538.10298699999998,null,0.67307816564100498,0.41879243075030254]
["2010-07-09",7,3,27167.530210000001,4817.4300940000003,537.13156900000001,null,0.67834931643627494,0.41803639981324592]
["2010-07-10",7,3,27404.566608000001,4901.2107800000003,536.00851899999998,null,0.68515332830823161,0.41716235738880914]
["2010-07-11",7,3,27640.946591,4932.9402840000002,533.87418100000002,null,0.69083949722974769,0.41550125417872286]
["2010-07-12",7,3,27867.991970999999,4808.4998489999998,533.80063900000005,null,0.69301558229104532,0.41544401823377125]
["2010-07-13",7,3,28012.810637999999,4645.7207170000001,532.77231800000004,null,0.69263466985470545,0.41464370107964699]
["2010-07-14",7,3,28199.472833,4505.6228030000002,531.59256100000005,null,0.69362222300113685,0.41372552498016241]
["2010-07-15",7,3,28392.961299999999,4384.9936779999998,530.92791599999998,null,0.69516745189534046,0.4132082479869833]
["2010-07-16",7,3,28551.272413999999,4266.861269,529.79555700000003,null,0.69601957729468433,0.41232696059488788]
["2010-07-17",7,3,28655.957989999999,4304.4102190000003,528.55298300000004,null,0.69903614172273754,0.41135989555637487]
["2010-07-18",7,3,28773.163128,4405.0728870000003,527.90387299999998,null,0.70365676578695091,0.41085470907480576]
["2010-07-19",7,3,28901.435931,4357.2356209999998,527.28523499999994,null,0.70536267353304583,0.4103732382076416]
["2010-07-20",7,3,29095.994006000001,4315.2871489999998,526.52726600000005,null,0.70859927657687449,0.40978332942138296]
["2010-07-21",7,3,29311.428079000001,4257.828888,525.58429999999998,null,0.71194968824114224,0.40904944198199783]
["2010-07-22",7,3,29520.778351000001,4121.9042019999997,525.75091099999997,null,0.71350692625546619,0.40917911125974843]
["2010-07-23",7,3,29758.755937000002,4075.5924460000001,524.46124499999996,null,0.71757184875432056,0.40817539566618305]
["2010-07-24",7,3,29961.766593,4028.875575,523.41404399999999,null,0.72088658734427991,0.40736038466853147]
["2010-07-25",7,3,30146.990761000001,3981.8896169999998,522.69418199999996,null,0.72381839636850898,0.40680013363096423]
["2010-07-26",7,3,30310.148079999999,3958.0736849999998,521.96277199999997,null,0.72677360199403895,0.40623089506664634]
["2010-07-27",7,3,30520.266333,3946.883605,520.68346599999995,null,0.73099254705108785,0.40523524240840625]
["2010-07-28",7,3,30747.223791,4010.3674649999998,519.60787900000003,null,0.73715233801714108,0.40439813927927348]
["2010-07-29",7,3,30955.342671999999,4051.5641249999999,518.408863,null,0.74243991771731455,0.40346497436980511]
["2010-07-30",7,3,31166.838003000001,4123.7527380000001,516.92261199999996,null,0.74845639570157152,0.40230826146533821]
["2010-07-31",7,3,31327.333516999999,4282.3881700000002,515.76186700000005,null,0.75522464731155359,0.4014048819417616]
["2010-08-01",8,3,31523.384241,4211.7848160000003,514.75255800000002,null,0.75788518329094601,0.40061936136354526]
["2010-08-02",8,3,31748.834081000001,4263.0535900000004,514.02607999999998,null,0.76375393788272905,0.40005396125453857]
["2010-08-03",8,3,31973.470827000001,4248.8258880000003,513.01677099999995,null,0.76821637365919482,0.39926844067632222]
["2010-08-04",8,3,32198.69339,4199.4115830000001,512.32454299999995,null,0.77194498268370682,0.39872969650697715]
["2010-08-05",8,3,32375.235487999998,4221.6666560000003,511.578036,null,0.77616114940005099,0.39814870831576665]
["2010-08-06",8,3,32525.323022,4303.8995789999999,510.26949000000002,null,0.78108829083472098,0.39713029887867396]
["2010-08-07",8,3,32702.682494000001,4380.101799,509.01948900000002,null,0.78646592453530484,0.39615745358720134]
["2010-08-08",8,3,32898.492889000001,4496.3908090000004,509.45890100000003,null,0.79308504852450801,0.39649943722978764]
["2010-08-09",8,3,33063.557577,4589.4051870000003,508.56768899999997,null,0.79855848842700228,0.39580582866635133]
["2010-08-10",8,3,33283.398608000003,4771.6177150000003,507.714133,null,0.80708539464562024,0.39514152684930626]
["2010-08-11",8,3,33493.117243000001,4908.0679799999998,505.68749600000001,null,0.81442707756329846,0.39356424470075263]
["2010-08-12",8,3,33717.501721000001,5066.3213640000004,505.32132100000001,null,0.82254220822668966,0.39327925962905669]
["2010-08-13",8,3,33916.160200999999,5231.1344769999996,504.04116099999999,null,0.83025085329962778,0.39228294232344524]
["2010-08-14",8,3,34031.569157999998,5448.7978649999995,502.76124299999998,null,0.83731477945139232,0.3912868133605315]
["2010-08-15",8,3,34148.750821000001,5709.7616429999998,501.74242800000002,null,0.84533463312567581,0.39049389449436128]
["2010-08-16",8,3,34265.102985999998,5839.9185660000003,501.525531,null,0.85056269249329097,0.39032508884925815]
["2010-08-17",{"$f":"MONTH(A328)","v":8},3,34379.146398999997,5918.0378039999996,501.10537599999998,null,0.85463815176263169,0.38999809246010431]
["2010-08-18",8,{"$f":"IF(B329<=3,1,IF(B329<=6,2,IF(B329<=9,3,4)))","v":3},34494.057437000003,6054.5642719999996,500.77869600000002,null,{"$f":"MIN(1, (D329+E329)/($D$3+$E$3))","v":0.85997073491110021},{"$f":"MIN(1, F329/$F$3)","v":0.38974384538364737}]
["2010-08-19",8,3,34608.788836,6009.8750369999998,499.57682999999997,null,0.86145621601282829,0.38880846238868888]
["2010-08-20",8,3,34719.540852999999,5968.7989680000001,497.87075700000003,null,0.8629339302650465,0.38748066738295806]
["2010-08-21",8,3,34772.934417999997,5865.8606890000001,493.83590299999997,null,0.86188316695142964,0.38434043892259717]
["2010-08-22",8,3,34842.185776999999,5834.5162369999998,492.62769500000002,null,0.86268711118669716,0.38340012010371666]
["2010-08-23",8,3,34840.931575000002,5818.6906609999996,495.20428500000003,null,0.86232487669832958,0.38540541725912331]
["2010-08-24",8,3,34840.525018,5806.6571709999998,493.89696600000002,null,0.86206104340609835,0.38438796276620474]
["2010-08-25",8,3,34912.700628999999,5755.1394250000003,493.02006,null,0.86249916333710952,0.38370548821365308]
["2010-08-26",8,3,34934.899789000003,5676.6344319999998,492.302999,null,0.86130500761629891,0.38314741712607098]
["2010-08-27",8,3,34934.304084000003,5590.1405759999998,491.31256999999999,null,0.85945797877488128,0.38237659039138205]
["2010-08-28",8,3,34997.585478000001,5586.9469330000002,490.07110399999999,null,0.86073234286442946,0.3814103876822455]
["2010-08-29",8,3,35062.790329000003,5592.4609490000003,489.15639199999998,null,0.86223217574315281,0.38069848964196112]
["2010-08-30",8,3,35061.567933999999,5465.2159490000004,488.05345299999999,null,0.85950758991424048,0.37984009911832833]
["2010-08-31",8,3,35060.462527000003,5307.2655240000004,486.57543500000003,null,0.85613427277121734,0.37868979375696321]
["2010-09-01",9,3,35060.053700999997,5285.5154039999998,485.914736,null,0.85566431733812665,0.37817558783934335]
["2010-09-02",9,3,35059.810541999999,5314.3102060000001,486.10040800000002,null,0.85626985154320623,0.37832009182850684]
["2010-09-03",9,3,35149.348190999997,5454.6564550000003,485.39440100000002,null,0.86114531749926393,0.37777062379952386]
["2010-09-04",9,3,35267.757435,5640.1045999999997,484.66951299999999,null,0.86758964164921393,0.37720646114873796]
["2010-09-05",9,3,35385.573638000002,5851.453955,484.20396799999997,null,0.87457071116255458,0.37684413882962092]
["2010-09-06",9,3,35500.240512999997,5749.5723690000004,483.39151099999998,null,0.87484186647965223,0.37621182336189413]
["2010-09-07",9,3,35612.969797999998,5609.1155419999996,482.46936099999999,null,0.87425381012493464,0.37549413650761843]
["2010-09-08",9,3,35723.699736000002,5448.8736369999997,481.03393499999999,null,0.87320374132226475,0.37437697946105813]
["2010-09-09",9,3,35831.140821000001,5520.9396720000004,479.83028400000001,null,0.87701079723198294,0.37344020724413485]
["2010-09-10",9,3,35829.499108999997,5756.5006729999996,479.83028400000001,null,0.88197184730946465,0.37344020724413485]
["2010-09-11",9,3,35828.898235000001,6036.040285,477.66934300000003,null,0.88788768714329547,0.3717583995679809]
["2010-09-12",9,3,35828.898235000001,6257.8734880000002,477.10383300000001,null,0.89259241086931174,0.37131827692745445]
["2010-09-13",9,3,35828.889506,6503.9143729999996,475.38164999999998,null,0.89781035527998754,0.36997794390163746]
["2010-09-14",9,3,35828.889506,6797.1725990000004,473.968549,null,0.90402988831225251,0.36887816185808292]
["2010-09-15",9,3,35828.889506,6986.3552250000002,473.32410199999998,null,0.9080421460674285,0.36837660447568588]
["2010-09-16",9,3,35828.889506,7107.046104,473.32410199999998,null,0.91060180455978268,0.36837660447568588]
["2010-09-17",9,3,35828.889506,7160.3149320000002,473.38527800000003,null,0.91173155031271524,0.36842421626443739]
["2010-09-18",9,3,35828.889506,7274.672587,472.96791999999999,null,0.91415689135929468,0.36809939671216624]
["2010-09-19",9,3,35828.889506,7408.9137149999997,473.157082,null,0.91700392873407766,0.36824661688321053]
["2010-09-20",9,3,35828.889506,7426.0955439999998,472.48270500000001,null,0.91736832755922848,0.36772176571178955]
["2010-09-21",9,3,35828.889506,7477.53863,472.32346200000001,null,0.91845935227496367,0.36759783076873753]
["2010-09-22",9,3,35828.889506,7519.7519329999996,473.18355600000001,null,0.91935462820972802,0.36826722095172443]
["2010-09-23",9,3,35828.889506,7603.9386420000001,473.57608399999998,null,0.92114009225158988,0.36857271592058538]
["2010-09-24",9,3,35828.863376000001,7434.1525469999997,476.30883399999999,null,0.9175386493966845,0.37069954859533671]
["2010-09-25",9,3,35778.116355999999,7303.8349479999997,479.041584,null,0.91369856145028538,0.37282638127008805]
["2010-09-26",9,3,35723.626295000002,7187.3425520000001,481.77433400000001,null,0.91007229986589822,0.37495321394483938]
["2010-09-27",9,3,35723.336944000002,7161.0867330000001,483.96682399999997,null,0.90950931971044269,0.37665957543823086]
["2010-09-28",9,3,35723.014057,7079.7912329999999,485.96682399999997,null,0.90777832562747818,0.37821612665934606]
["2010-09-29",9,3,35664.947889000003,6993.7268439999998,487.45050600000002,null,0.90472154944613314,0.37937084017376943]
["2010-09-30",9,3,35656.312639000003,6852.9788799999997,489.45050600000002,null,0.90155337289875515,0.38092739139488468]

{"sheet":"c_Demand break down","index":15,"n_rows":367,"n_cols":6,"rows_kept":367,"cut":false,"hidden":false,"merged":[]}
["Demand breakdown"]
["mcm/day","Demand","Storage","IUK","Moffat","Net demand"]
["2009-10-01",{"$f":"'r_NTS Demand'!C3","v":224.57386},{"$f":"'r_Storage injections'!F3","v":13.81409},{"$f":"'r_Bacton IUK exports'!C3","v":11.947021484375},{"$f":"'r_Moffat exports'!C3","v":18.779968261718999},{"$f":"B3-SUM(C3:E3)","v":180.032780253906}]
["2009-10-02",{"$f":"'r_NTS Demand'!C4","v":216.30421000000001},{"$f":"'r_Storage injections'!F4","v":13.975709999999999},{"$f":"'r_Bacton IUK exports'!C4","v":4.8250122070312997},{"$f":"'r_Moffat exports'!C4","v":15.901977539062999},{"$f":"B4-SUM(C4:E4)","v":181.6015102539057}]
["2009-10-03",{"$f":"'r_NTS Demand'!C5","v":225.10427000000001},{"$f":"'r_Storage injections'!F5","v":23.66639},{"$f":"'r_Bacton IUK exports'!C5","v":17.114990234375},{"$f":"'r_Moffat exports'!C5","v":14.574035644531},169.74885412109401]
["2009-10-04",{"$f":"'r_NTS Demand'!C6","v":230.14},{"$f":"'r_Storage injections'!F6","v":17.437379999999997},{"$f":"'r_Bacton IUK exports'!C6","v":16.322998046875},{"$f":"'r_Moffat exports'!C6","v":15.93896484375},180.440657109375]
["2009-10-05",{"$f":"'r_NTS Demand'!C7","v":235.90592000000001},{"$f":"'r_Storage injections'!F7","v":9.6501599999999996},{"$f":"'r_Bacton IUK exports'!C7","v":13.8276},{"$f":"'r_Moffat exports'!C7","v":17.536999999999999},194.89116000000001]
["2009-10-06",{"$f":"'r_NTS Demand'!C8","v":229.74502000000001},{"$f":"'r_Storage injections'!F8","v":5.6726200000000002},{"$f":"'r_Bacton IUK exports'!C8","v":19.362976074218999},{"$f":"'r_Moffat exports'!C8","v":17.940002441406001},186.76942148437502]
["2009-10-07",{"$f":"'r_NTS Demand'!C9","v":243.08548999999999},{"$f":"'r_Storage injections'!F9","v":6.7680899999999999},{"$f":"'r_Bacton IUK exports'!C9","v":10.7080078125},{"$f":"'r_Moffat exports'!C9","v":19.577026367188001},206.03236582031201]
["2009-10-08",{"$f":"'r_NTS Demand'!C10","v":255.28825000000001},{"$f":"'r_Storage injections'!F10","v":4.7487000000000004},{"$f":"'r_Bacton IUK exports'!C10","v":14.856994628906},{"$f":"'r_Moffat exports'!C10","v":19.057983398438001},216.62457197265599]
["2009-10-09",{"$f":"'r_NTS Demand'!C11","v":260.93347999999997},{"$f":"'r_Storage injections'!F11","v":6.7680799999999994},{"$f":"'r_Bacton IUK exports'!C11","v":15.445007324219},{"$f":"'r_Moffat exports'!C11","v":17.239990234375},221.48040244140597]
["2009-10-10",{"$f":"'r_NTS Demand'!C12","v":257.75231000000002},{"$f":"'r_Storage injections'!F12","v":26.28407},{"$f":"'r_Bacton IUK exports'!C12","v":28.82696723938},{"$f":"'r_Moffat exports'!C12","v":16.58203125},186.05924151062004]
["2009-10-11",{"$f":"'r_NTS Demand'!C13","v":255.66661999999999},{"$f":"'r_Storage injections'!F13","v":21.2559},{"$f":"'r_Bacton IUK exports'!C13","v":27.553998947143999},{"$f":"'r_Moffat exports'!C13","v":16.136962890625},190.71975816223099]
["2009-10-12",{"$f":"'r_NTS Demand'!C14","v":261.33420000000001},{"$f":"'r_Storage injections'!F14","v":5.6834100000000003},{"$f":"'r_Bacton IUK exports'!C14","v":23.45100402832},{"$f":"'r_Moffat exports'!C14","v":16.322998046875},215.876787924805]
["2009-10-13",{"$f":"'r_NTS Demand'!C15","v":261.19826999999998},{"$f":"'r_Storage injections'!F15","v":3.1328599999999995},{"$f":"'r_Bacton IUK exports'!C15","v":20.250999450683999},{"$f":"'r_Moffat exports'!C15","v":19.14501953125},218.66939101806599]
["2009-10-14",{"$f":"'r_NTS Demand'!C16","v":266.89645000000002},{"$f":"'r_Storage injections'!F16","v":5.2807200000000005},{"$f":"'r_Bacton IUK exports'!C16","v":29.975997924805},{"$f":"'r_Moffat exports'!C16","v":18.253967285156001},213.38576479003902]
["2009-10-15",{"$f":"'r_NTS Demand'!C17","v":260.42845},{"$f":"'r_Storage injections'!F17","v":5.5168999999999997},{"$f":"'r_Bacton IUK exports'!C17","v":18.590003967285},{"$f":"'r_Moffat exports'!C17","v":17.912048339843999},218.40949769287101]
["2009-10-16",{"$f":"'r_NTS Demand'!C18","v":258.55020999999999},{"$f":"'r_Storage injections'!F18","v":4.8258799999999997},{"$f":"'r_Bacton IUK exports'!C18","v":19.208999633788999},{"$f":"'r_Moffat exports'!C18","v":17.546997070313001},216.96833329589799]
["2009-10-17",{"$f":"'r_NTS Demand'!C19","v":254.63977},{"$f":"'r_Storage injections'!F19","v":4.8065399999999991},{"$f":"'r_Bacton IUK exports'!C19","v":10.957000732421999},{"$f":"'r_Moffat exports'!C19","v":16.394958496093999},222.48127077148399]
["2009-10-18",{"$f":"'r_NTS Demand'!C20","v":257.47917999999999},{"$f":"'r_Storage injections'!F20","v":3.69482},{"$f":"'r_Bacton IUK exports'!C20","v":12.007995605469},{"$f":"'r_Moffat exports'!C20","v":15.093994140625},226.68237025390599]
["2009-10-19",{"$f":"'r_NTS Demand'!C21","v":266.32524000000001},{"$f":"'r_Storage injections'!F21","v":2.5342799999999999},{"$f":"'r_Bacton IUK exports'!C21","v":12.708130000000001},{"$f":"'r_Moffat exports'!C21","v":14.589050292969},236.49377970703102]
["2009-10-20",{"$f":"'r_NTS Demand'!C22","v":276.74675000000002},{"$f":"'r_Storage injections'!F22","v":1.1567799999999999},{"$f":"'r_Bacton IUK exports'!C22","v":10.60365},{"$f":"'r_Moffat exports'!C22","v":17.024963378906001},247.96135662109401]
["2009-10-21",{"$f":"'r_NTS Demand'!C23","v":259.88967000000002},{"$f":"'r_Storage injections'!F23","v":9.9761400000000009},{"$f":"'r_Bacton IUK exports'!C23","v":11.737259999999999},{"$f":"'r_Moffat exports'!C23","v":15.815002441406},222.36126755859402]
["2009-10-22",{"$f":"'r_NTS Demand'!C24","v":260.42176999999998},{"$f":"'r_Storage injections'!F24","v":5.0853199999999994},{"$f":"'r_Bacton IUK exports'!C24","v":19.663986206055},{"$f":"'r_Moffat exports'!C24","v":16.822998046875},218.84946574706998]
["2009-10-23",{"$f":"'r_NTS Demand'!C25","v":266.59568000000002},{"$f":"'r_Storage injections'!F25","v":11.5342},{"$f":"'r_Bacton IUK exports'!C25","v":30.61100769043},{"$f":"'r_Moffat exports'!C25","v":17.734973907471002},206.715498402099]
["2009-10-24",{"$f":"'r_NTS Demand'!C26","v":242.97324},{"$f":"'r_Storage injections'!F26","v":11.270960000000002},{"$f":"'r_Bacton IUK exports'!C26","v":28.570007324218999},{"$f":"'r_Moffat exports'!C26","v":12.566000938416},190.56627173736501]
["2009-10-25",{"$f":"'r_NTS Demand'!C27","v":250.84938},{"$f":"'r_Storage injections'!F27","v":15.90067},{"$f":"'r_Bacton IUK exports'!C27","v":28.264007568358998},{"$f":"'r_Moffat exports'!C27","v":13.859998703003001},192.82470372863799]
["2009-10-26",{"$f":"'r_NTS Demand'!C28","v":259.41466000000003},{"$f":"'r_Storage injections'!F28","v":16.24907},{"$f":"'r_Bacton IUK exports'!C28","v":17.727996826171999},{"$f":"'r_Moffat exports'!C28","v":15.91300201416},209.52459115966803]
["2009-10-27",{"$f":"'r_NTS Demand'!C29","v":246.81952999999999},{"$f":"'r_Storage injections'!F29","v":12.12555},{"$f":"'r_Bacton IUK exports'!C29","v":22.39599609375},{"$f":"'r_Moffat exports'!C29","v":15.731002807616999},196.56698109863299]
["2009-10-28",{"$f":"'r_NTS Demand'!C30","v":248.42159000000001},{"$f":"'r_Storage injections'!F30","v":12.7319},{"$f":"'r_Bacton IUK exports'!C30","v":27.816009521483998},{"$f":"'r_Moffat exports'!C30","v":16.263999938965},191.60968053955099]
["2009-10-29",{"$f":"'r_NTS Demand'!C31","v":248.05578},{"$f":"'r_Storage injections'!F31","v":9.3278299999999987},{"$f":"'r_Bacton IUK exports'!C31","v":22.328979492188001},{"$f":"'r_Moffat exports'!C31","v":15.820991516113001},200.57797899169901]
["2009-10-30",{"$f":"'r_NTS Demand'!C32","v":251.76826},{"$f":"'r_Storage injections'!F32","v":7.9884999999999993},{"$f":"'r_Bacton IUK exports'!C32","v":27.866250000000001},{"$f":"'r_Moffat exports'!C32","v":16.458999633788999},199.454510366211]
["2009-10-31",{"$f":"'r_NTS Demand'!C33","v":254.45927},{"$f":"'r_Storage injections'!F33","v":22.1265},{"$f":"'r_Bacton IUK exports'!C33","v":23.143005371093999},{"$f":"'r_Moffat exports'!C33","v":15.799011230469},193.390753398437]
["2009-11-01",{"$f":"'r_NTS Demand'!C34","v":262.57825000000003},{"$f":"'r_Storage injections'!F34","v":25.311199999999999},{"$f":"'r_Bacton IUK exports'!C34","v":12.36073},{"$f":"'r_Moffat exports'!C34","v":15.468994140625},209.43732585937502]
["2009-11-02",{"$f":"'r_NTS Demand'!C35","v":282.02805000000001},{"$f":"'r_Storage injections'!F35","v":3.65496},{"$f":"'r_Bacton IUK exports'!C35","v":11.2779903411865},{"$f":"'r_Moffat exports'!C35","v":16.908004760741999},250.18709489807151]
["2009-11-03",{"$f":"'r_NTS Demand'!C36","v":275.99297000000001},{"$f":"'r_Storage injections'!F36","v":3.0710700000000002},{"$f":"'r_Bacton IUK exports'!C36","v":8.0279846191406001},{"$f":"'r_Moffat exports'!C36","v":16.307998657226999},248.58591672363241]
["2009-11-04",{"$f":"'r_NTS Demand'!C37","v":283.37950999999998},{"$f":"'r_Storage injections'!F37","v":3.43784},{"$f":"'r_Bacton IUK exports'!C37","v":5.6790161132812997},{"$f":"'r_Moffat exports'!C37","v":17.009002685546999},257.25365120117169]
["2009-11-05",{"$f":"'r_NTS Demand'!C38","v":284.17773},{"$f":"'r_Storage injections'!F38","v":2.9039099999999998},{"$f":"'r_Bacton IUK exports'!C38","v":2.9801700000000002},{"$f":"'r_Moffat exports'!C38","v":18.326995849608998},259.96665415039098]
["2009-11-06",{"$f":"'r_NTS Demand'!C39","v":285.94779999999997},{"$f":"'r_Storage injections'!F39","v":3.3923900000000002},{"$f":"'r_Bacton IUK exports'!C39","v":2.0367199999999999},{"$f":"'r_Moffat exports'!C39","v":17.027008056641002},263.49168194335897]
["2009-11-07",{"$f":"'r_NTS Demand'!C40","v":293.48836},{"$f":"'r_Storage injections'!F40","v":9.3793100000000003},{"$f":"'r_Bacton IUK exports'!C40","v":8.2155100000000001},{"$f":"'r_Moffat exports'!C40","v":17.748992919921999},258.14454708007798]
["2009-11-08",{"$f":"'r_NTS Demand'!C41","v":304.16183999999998},{"$f":"'r_Storage injections'!F41","v":1.9839599999999999},{"$f":"'r_Bacton IUK exports'!C41","v":10.35595703125},{"$f":"'r_Moffat exports'!C41","v":17.759002685546999},274.06292028320297]
["2009-11-09",{"$f":"'r_NTS Demand'!C42","v":335.45495},{"$f":"'r_Storage injections'!F42","v":0.53298999999999996},{"$f":"'r_Bacton IUK exports'!C42","v":14.279052734375},{"$f":"'r_Moffat exports'!C42","v":20.216003417968999},300.42690384765598]
["2009-11-10",{"$f":"'r_NTS Demand'!C43","v":334.40589},{"$f":"'r_Storage injections'!F43","v":1.0450200000000001},{"$f":"'r_Bacton IUK exports'!C43","v":13.216979980469},{"$f":"'r_Moffat exports'!C43","v":19.554992675781001},300.58889734374998]
["2009-11-11",{"$f":"'r_NTS Demand'!C44","v":316.73372999999998},{"$f":"'r_Storage injections'!F44","v":1.8082199999999999},{"$f":"'r_Bacton IUK exports'!C44","v":9.9630899999999993},{"$f":"'r_Moffat exports'!C44","v":17.931000000000001},287.03141999999997]
["2009-11-12",{"$f":"'r_NTS Demand'!C45","v":296.50997000000001},{"$f":"'r_Storage injections'!F45","v":3.8838800000000004},{"$f":"'r_Bacton IUK exports'!C45","v":8.2176200000000001},{"$f":"'r_Moffat exports'!C45","v":18.518000000000001},265.89046999999999]
["2009-11-13",{"$f":"'r_NTS Demand'!C46","v":287.19470000000001},{"$f":"'r_Storage injections'!F46","v":12.132300000000001},{"$f":"'r_Bacton IUK exports'!C46","v":5.343994140625},{"$f":"'r_Moffat exports'!C46","v":19.223999023438001},250.49440683593701]
["2009-11-14",{"$f":"'r_NTS Demand'!C47","v":267.96814999999998},{"$f":"'r_Storage injections'!F47","v":5.9779400000000003},{"$f":"'r_Bacton IUK exports'!C47","v":3.2509765625},{"$f":"'r_Moffat exports'!C47","v":17.1669921875},241.57224124999999]
["2009-11-15",{"$f":"'r_NTS Demand'!C48","v":268.38546000000002},{"$f":"'r_Storage injections'!F48","v":8.9527099999999997},{"$f":"'r_Bacton IUK exports'!C48","v":1.94069},{"$f":"'r_Moffat exports'!C48","v":15.511016845703001},241.98104315429703]
["2009-11-16",{"$f":"'r_NTS Demand'!C49","v":291.28636},{"$f":"'r_Storage injections'!F49","v":10.640319999999999},{"$f":"'r_Bacton IUK exports'!C49","v":0.31553999999999999},{"$f":"'r_Moffat exports'!C49","v":17.861999511718999},262.46850048828099]
["2009-11-17",{"$f":"'r_NTS Demand'!C50","v":291.52},{"$f":"'r_Storage injections'!F50","v":6.5621499999999999},{"$f":"'r_Bacton IUK exports'!C50","v":0.28492999076843301},{"$f":"'r_Moffat exports'!C50","v":19.184997558593999},265.48792245063754]
["2009-11-18",{"$f":"'r_NTS Demand'!C51","v":301.66773999999998},{"$f":"'r_Storage injections'!F51","v":10.136299999999999},{"$f":"'r_Bacton IUK exports'!C51","v":7.4071499999999997},{"$f":"'r_Moffat exports'!C51","v":18.794006347656001},265.33028365234395]
["2009-11-19",{"$f":"'r_NTS Demand'!C52","v":279.39114000000001},{"$f":"'r_Storage injections'!F52","v":12.08398},{"$f":"'r_Bacton IUK exports'!C52","v":0},{"$f":"'r_Moffat exports'!C52","v":17.867004394531001},249.44015560546902]
["2009-11-20",{"$f":"'r_NTS Demand'!C53","v":270.68754000000001},{"$f":"'r_Storage injections'!F53","v":11.070400000000001},{"$f":"'r_Bacton IUK exports'!C53","v":0.47382999999999997},{"$f":"'r_Moffat exports'!C53","v":17.475982666016002},241.66732733398402]
["2009-11-21",{"$f":"'r_NTS Demand'!C54","v":275.33564999999999},{"$f":"'r_Storage injections'!F54","v":28.739560000000001},{"$f":"'r_Bacton IUK exports'!C54","v":0},{"$f":"'r_Moffat exports'!C54","v":14.486022949219},232.11006705078097]
["2009-11-22",{"$f":"'r_NTS Demand'!C55","v":288.26499000000001},{"$f":"'r_Storage injections'!F55","v":19.41657},{"$f":"'r_Bacton IUK exports'!C55","v":0},{"$f":"'r_Moffat exports'!C55","v":14.997009277344},253.851410722656]
["2009-11-23",{"$f":"'r_NTS Demand'!C56","v":301.04908},{"$f":"'r_Storage injections'!F56","v":2.32918},{"$f":"'r_Bacton IUK exports'!C56","v":0},{"$f":"'r_Moffat exports'!C56","v":19.532958984375},279.186941015625]
["2009-11-24",{"$f":"'r_NTS Demand'!C57","v":302.29293000000001},{"$f":"'r_Storage injections'!F57","v":11.461550000000001},{"$f":"'r_Bacton IUK exports'!C57","v":5.3720092773437997},{"$f":"'r_Moffat exports'!C57","v":17.06201171875},268.39735900390622]
["2009-11-25",{"$f":"'r_NTS Demand'!C58","v":311.06252999999998},{"$f":"'r_Storage injections'!F58","v":2.6554599999999997},{"$f":"'r_Bacton IUK exports'!C58","v":5.238037109375},{"$f":"'r_Moffat exports'!C58","v":19.161987304688001},284.00704558593696]
["2009-11-26",{"$f":"'r_NTS Demand'!C59","v":325.62966999999998},{"$f":"'r_Storage injections'!F59","v":2.1446199999999997},{"$f":"'r_Bacton IUK exports'!C59","v":0},{"$f":"'r_Moffat exports'!C59","v":21.072021484375},302.413028515625]
["2009-11-27",{"$f":"'r_NTS Demand'!C60","v":337.19875000000002},{"$f":"'r_Storage injections'!F60","v":1.2135099999999999},{"$f":"'r_Bacton IUK exports'!C60","v":0},{"$f":"'r_Moffat exports'!C60","v":21.429016113281001},314.55622388671901]
["2009-11-28",{"$f":"'r_NTS Demand'!C61","v":325.59838999999999},{"$f":"'r_Storage injections'!F61","v":2.5138000000000003},{"$f":"'r_Bacton IUK exports'!C61","v":0},{"$f":"'r_Moffat exports'!C61","v":19.828979492188001},303.25561050781198]
["2009-11-29",{"$f":"'r_NTS Demand'!C62","v":326.32229999999998},{"$f":"'r_Storage injections'!F62","v":6.2582300000000002},{"$f":"'r_Bacton IUK exports'!C62","v":0},{"$f":"'r_Moffat exports'!C62","v":17.708984375},302.35508562499996]
["2009-11-30",{"$f":"'r_NTS Demand'!C63","v":369.28120999999999},{"$f":"'r_Storage injections'!F63","v":1.3370299999999999},{"$f":"'r_Bacton IUK exports'!C63","v":0},{"$f":"'r_Moffat exports'!C63","v":22.60302734375},345.34115265624996]
["2009-12-01",{"$f":"'r_NTS Demand'!C64","v":381.61347000000001},{"$f":"'r_Storage injections'!F64","v":0.74682999999999999},{"$f":"'r_Bacton IUK exports'!C64","v":0},{"$f":"'r_Moffat exports'!C64","v":19.851989746093999},361.01465025390598]
["2009-12-02",{"$f":"'r_NTS Demand'!C65","v":347.78023000000002},{"$f":"'r_Storage injections'!F65","v":11.33182},{"$f":"'r_Bacton IUK exports'!C65","v":0},{"$f":"'r_Moffat exports'!C65","v":19.861022949218999},316.58738705078099]
["2009-12-03",{"$f":"'r_NTS Demand'!C66","v":349.62195000000003},{"$f":"'r_Storage injections'!F66","v":1.8120699999999998},{"$f":"'r_Bacton IUK exports'!C66","v":0},{"$f":"'r_Moffat exports'!C66","v":20.877014160156001},326.932865839844]
["2009-12-04",{"$f":"'r_NTS Demand'!C67","v":355.59023000000002},{"$f":"'r_Storage injections'!F67","v":1.3833299999999999},{"$f":"'r_Bacton IUK exports'!C67","v":0},{"$f":"'r_Moffat exports'!C67","v":20.182500000000001},334.02440000000001]
["2009-12-05",{"$f":"'r_NTS Demand'!C68","v":311.77616999999998},{"$f":"'r_Storage injections'!F68","v":4.9568000000000003},{"$f":"'r_Bacton IUK exports'!C68","v":0},{"$f":"'r_Moffat exports'!C68","v":14.513000488281},{"$f":"B68-SUM(C68:E68)","v":292.30636951171897}]
["2009-12-06",{"$f":"'r_NTS Demand'!C69","v":311.83999999999997},{"$f":"'r_Storage injections'!F69","v":14.698569999999998},{"$f":"'r_Bacton IUK exports'!C69","v":0},{"$f":"'r_Moffat exports'!C69","v":14.870971679687999},282.270458320312]
["2009-12-07",{"$f":"'r_NTS Demand'!C70","v":335.95},{"$f":"'r_Storage injections'!F70","v":3.45749},{"$f":"'r_Bacton IUK exports'!C70","v":0},{"$f":"'r_Moffat exports'!C70","v":20.470031738281001},312.02247826171902]
["2009-12-08",{"$f":"'r_NTS Demand'!C71","v":329.57},{"$f":"'r_Storage injections'!F71","v":6.4618000000000002},{"$f":"'r_Bacton IUK exports'!C71","v":0},{"$f":"'r_Moffat exports'!C71","v":18.299987792968999},304.80821220703098]
["2009-12-09",{"$f":"'r_NTS Demand'!C72","v":312.43651999999997},{"$f":"'r_Storage injections'!F72","v":6.8145999999999995},{"$f":"'r_Bacton IUK exports'!C72","v":0},{"$f":"'r_Moffat exports'!C72","v":20.333984375},285.28793562499999]
["2009-12-10",{"$f":"'r_NTS Demand'!C73","v":333.49371000000002},{"$f":"'r_Storage injections'!F73","v":4.3927000000000005},{"$f":"'r_Bacton IUK exports'!C73","v":0},{"$f":"'r_Moffat exports'!C73","v":20.536010742188001},308.56499925781202]
["2009-12-11",{"$f":"'r_NTS Demand'!C74","v":361.48442},{"$f":"'r_Storage injections'!F74","v":2.1415199999999999},{"$f":"'r_Bacton IUK exports'!C74","v":0},{"$f":"'r_Moffat exports'!C74","v":18.049987792968999},341.29291220703101]
["2009-12-12",{"$f":"'r_NTS Demand'!C75","v":338.92793},{"$f":"'r_Storage injections'!F75","v":4.7599099999999996},{"$f":"'r_Bacton IUK exports'!C75","v":0},{"$f":"'r_Moffat exports'!C75","v":18.2900390625},315.87798093750001]
["2009-12-13",{"$f":"'r_NTS Demand'!C76","v":352.63949000000002},{"$f":"'r_Storage injections'!F76","v":4.6008100000000001},{"$f":"'r_Bacton IUK exports'!C76","v":0},{"$f":"'r_Moffat exports'!C76","v":19.287963867188001},328.75071613281204]
["2009-12-14",{"$f":"'r_NTS Demand'!C77","v":370.29093},{"$f":"'r_Storage injections'!F77","v":1.9119699999999999},{"$f":"'r_Bacton IUK exports'!C77","v":0},{"$f":"'r_Moffat exports'!C77","v":21.851013183593999},346.52794681640603]
["2009-12-15",{"$f":"'r_NTS Demand'!C78","v":376.01344999999998},{"$f":"'r_Storage injections'!F78","v":1.39836},{"$f":"'r_Bacton IUK exports'!C78","v":0},{"$f":"'r_Moffat exports'!C78","v":21.328002929688001},353.287087070312]
["2009-12-16",{"$f":"'r_NTS Demand'!C79","v":384.26659999999998},{"$f":"'r_Storage injections'!F79","v":0.32493},{"$f":"'r_Bacton IUK exports'!C79","v":0},{"$f":"'r_Moffat exports'!C79","v":20.739013671875},363.20265632812499]
["2009-12-17",{"$f":"'r_NTS Demand'!C80","v":410.22867000000002},{"$f":"'r_Storage injections'!F80","v":0.58929999999999993},{"$f":"'r_Bacton IUK exports'!C80","v":0},{"$f":"'r_Moffat exports'!C80","v":21.997934341431002},387.64143565856904]
["2009-12-18",{"$f":"'r_NTS Demand'!C81","v":438.79025000000001},{"$f":"'r_Storage injections'!F81","v":0.43362000000000001},{"$f":"'r_Bacton IUK exports'!C81","v":0},{"$f":"'r_Moffat exports'!C81","v":22.698001861571999},415.65862813842801]
["2009-12-19",{"$f":"'r_NTS Demand'!C82","v":416.09},{"$f":"'r_Storage injections'!F82","v":1.9656199999999999},{"$f":"'r_Bacton IUK exports'!C82","v":0},{"$f":"'r_Moffat exports'!C82","v":20.315999984741001},393.80838001525899]
["2009-12-20",{"$f":"'r_NTS Demand'!C83","v":407.89719000000002},{"$f":"'r_Storage injections'!F83","v":2.3465099999999999},{"$f":"'r_Bacton IUK exports'!C83","v":0},{"$f":"'r_Moffat exports'!C83","v":21.346004486083999},384.20467551391602]
["2009-12-21",{"$f":"'r_NTS Demand'!C84","v":420.39173},{"$f":"'r_Storage injections'!F84","v":1.87181},{"$f":"'r_Bacton IUK exports'!C84","v":0},{"$f":"'r_Moffat exports'!C84","v":23.150001525878999},395.36991847412099]
["2009-12-22",{"$f":"'r_NTS Demand'!C85","v":415.14515999999998},{"$f":"'r_Storage injections'!F85","v":6.2046700000000001},{"$f":"'r_Bacton IUK exports'!C85","v":0},{"$f":"'r_Moffat exports'!C85","v":22.783999999999999},386.15648999999996]
["2009-12-23",{"$f":"'r_NTS Demand'!C86","v":405.07098999999999},{"$f":"'r_Storage injections'!F86","v":2.9844500000000003},{"$f":"'r_Bacton IUK exports'!C86","v":0},{"$f":"'r_Moffat exports'!C86","v":22.2919921875},379.79454781250001]
["2009-12-24",{"$f":"'r_NTS Demand'!C87","v":379.29876999999999},{"$f":"'r_Storage injections'!F87","v":4.5677900000000005},{"$f":"'r_Bacton IUK exports'!C87","v":0},{"$f":"'r_Moffat exports'!C87","v":21.578994750976999},353.15198524902297]
["2009-12-25",{"$f":"'r_NTS Demand'!C88","v":348.78570999999999},{"$f":"'r_Storage injections'!F88","v":11.20665},{"$f":"'r_Bacton IUK exports'!C88","v":0},{"$f":"'r_Moffat exports'!C88","v":18.561004638671999},319.01805536132798]
["2009-12-26",{"$f":"'r_NTS Demand'!C89","v":335.70934999999997},{"$f":"'r_Storage injections'!F89","v":24.914089999999998},{"$f":"'r_Bacton IUK exports'!C89","v":0},{"$f":"'r_Moffat exports'!C89","v":17.633010864258001},293.16224913574194]
["2009-12-27",{"$f":"'r_NTS Demand'!C90","v":354.03906999999998},{"$f":"'r_Storage injections'!F90","v":17.19275},{"$f":"'r_Bacton IUK exports'!C90","v":0},{"$f":"'r_Moffat exports'!C90","v":20.427993774413999},316.41832622558599]
["2009-12-28",{"$f":"'r_NTS Demand'!C91","v":373.54579999999999},{"$f":"'r_Storage injections'!F91","v":7.4090600000000002},{"$f":"'r_Bacton IUK exports'!C91","v":0},{"$f":"'r_Moffat exports'!C91","v":20.944000244141002},345.19273975585901]
["2009-12-29",{"$f":"'r_NTS Demand'!C92","v":390.78561999999999},{"$f":"'r_Storage injections'!F92","v":16.565889999999996},{"$f":"'r_Bacton IUK exports'!C92","v":0},{"$f":"'r_Moffat exports'!C92","v":21.953002929688001},352.26672707031202]
["2009-12-30",{"$f":"'r_NTS Demand'!C93","v":387.35665999999998},{"$f":"'r_Storage injections'!F93","v":23.973089999999999},{"$f":"'r_Bacton IUK exports'!C93","v":0},{"$f":"'r_Moffat exports'!C93","v":21.403991699218999},341.97957830078099]
["2009-12-31",{"$f":"'r_NTS Demand'!C94","v":401.85674999999998},{"$f":"'r_Storage injections'!F94","v":12.57213},{"$f":"'r_Bacton IUK exports'!C94","v":0},{"$f":"'r_Moffat exports'!C94","v":22.305023193358998},366.97959680664098]
["2010-01-01",{"$f":"'r_NTS Demand'!C95","v":376.83},{"$f":"'r_Storage injections'!F95","v":3.7705800000000003},{"$f":"'r_Bacton IUK exports'!C95","v":0},{"$f":"'r_Moffat exports'!C95","v":20.233978271483998},352.82544172851601]
["2010-01-02",{"$f":"'r_NTS Demand'!C96","v":386.27542999999997},{"$f":"'r_Storage injections'!F96","v":1.8601800000000002},{"$f":"'r_Bacton IUK exports'!C96","v":0},{"$f":"'r_Moffat exports'!C96","v":21.149017333983998},363.26623266601598]
["2010-01-03",{"$f":"'r_NTS Demand'!C97","v":400.66001},{"$f":"'r_Storage injections'!F97","v":5.9900999999999991},{"$f":"'r_Bacton IUK exports'!C97","v":0},{"$f":"'r_Moffat exports'!C97","v":19.871978759766002},374.79793124023399]
["2010-01-04",{"$f":"'r_NTS Demand'!C98","v":441.07641000000001},{"$f":"'r_Storage injections'!F98","v":5.3759800000000002},{"$f":"'r_Bacton IUK exports'!C98","v":0},{"$f":"'r_Moffat exports'!C98","v":24.227},411.47343000000001]
["2010-01-05",{"$f":"'r_NTS Demand'!C99","v":435.54203000000001},{"$f":"'r_Storage injections'!F99","v":0.66344999999999998},{"$f":"'r_Bacton IUK exports'!C99","v":0},{"$f":"'r_Moffat exports'!C99","v":22.814},412.06458000000003]
["2010-01-06",{"$f":"'r_NTS Demand'!C100","v":446.76011},{"$f":"'r_Storage injections'!F100","v":4.2601100000000001},{"$f":"'r_Bacton IUK exports'!C100","v":0},{"$f":"'r_Moffat exports'!C100","v":24.217010498046999},418.28298950195301]
["2010-01-07",{"$f":"'r_NTS Demand'!C101","v":453.89503999999999},{"$f":"'r_Storage injections'!F101","v":0.97845000000000004},{"$f":"'r_Bacton IUK exports'!C101","v":0},{"$f":"'r_Moffat exports'!C101","v":26.170999999999999},426.74558999999999]
["2010-01-08",{"$f":"'r_NTS Demand'!C102","v":465.46},{"$f":"'r_Storage injections'!F102","v":2.2148600000000003},{"$f":"'r_Bacton IUK exports'!C102","v":0},{"$f":"'r_Moffat exports'!C102","v":25.911000000000001},437.33413999999999]
["2010-01-09",{"$f":"'r_NTS Demand'!C103","v":438.61797999999999},{"$f":"'r_Storage injections'!F103","v":4.3842100000000004},{"$f":"'r_Bacton IUK exports'!C103","v":0},{"$f":"'r_Moffat exports'!C103","v":24.951000000000001},409.28276999999997]
["2010-01-10",{"$f":"'r_NTS Demand'!C104","v":415.63603000000001},{"$f":"'r_Storage injections'!F104","v":7.9029999999999996},{"$f":"'r_Bacton IUK exports'!C104","v":0},{"$f":"'r_Moffat exports'!C104","v":21.303000000000001},386.43002999999999]
["2010-01-11",{"$f":"'r_NTS Demand'!C105","v":424.40357},{"$f":"'r_Storage injections'!F105","v":2.2619199999999999},{"$f":"'r_Bacton IUK exports'!C105","v":0},{"$f":"'r_Moffat exports'!C105","v":22.276},399.86565000000002]
["2010-01-12",{"$f":"'r_NTS Demand'!C106","v":434.36554999999998},{"$f":"'r_Storage injections'!F106","v":8.16995},{"$f":"'r_Bacton IUK exports'!C106","v":0},{"$f":"'r_Moffat exports'!C106","v":21.799987792968999},404.39561220703098]
["2010-01-13",{"$f":"'r_NTS Demand'!C107","v":439.81880000000001},{"$f":"'r_Storage injections'!F107","v":7.1540499999999998},{"$f":"'r_Bacton IUK exports'!C107","v":0},{"$f":"'r_Moffat exports'!C107","v":23.163024902343999},409.50172509765599]
["2010-01-14",{"$f":"'r_NTS Demand'!C108","v":414.72464000000002},{"$f":"'r_Storage injections'!F108","v":2.0718000000000001},{"$f":"'r_Bacton IUK exports'!C108","v":0},{"$f":"'r_Moffat exports'!C108","v":21.068969726563001},391.58387027343701]
["2010-01-15",{"$f":"'r_NTS Demand'!C109","v":397.31171000000001},{"$f":"'r_Storage injections'!F109","v":11.20599},{"$f":"'r_Bacton IUK exports'!C109","v":0},{"$f":"'r_Moffat exports'!C109","v":17.904052734375},368.20166726562502]
["2010-01-16",{"$f":"'r_NTS Demand'!C110","v":367.44585999999998},{"$f":"'r_Storage injections'!F110","v":8.2834199999999996},{"$f":"'r_Bacton IUK exports'!C110","v":9.4998199999999997},{"$f":"'r_Moffat exports'!C110","v":17.990966796875},331.671653203125]
["2010-01-17",{"$f":"'r_NTS Demand'!C111","v":352.28548999999998},{"$f":"'r_Storage injections'!F111","v":10.462199999999999},{"$f":"'r_Bacton IUK exports'!C111","v":7.6139900000000003},{"$f":"'r_Moffat exports'!C111","v":17.377014160156001},316.83228583984396]
["2010-01-18",{"$f":"'r_NTS Demand'!C112","v":381.02823000000001},{"$f":"'r_Storage injections'!F112","v":12.99126},{"$f":"'r_Bacton IUK exports'!C112","v":6.5650199999999996},{"$f":"'r_Moffat exports'!C112","v":21.192993164063001},340.27895683593704]
["2010-01-19",{"$f":"'r_NTS Demand'!C113","v":388.28161999999998},{"$f":"'r_Storage injections'!F113","v":11.196109999999999},{"$f":"'r_Bacton IUK exports'!C113","v":5.6719970703125},{"$f":"'r_Moffat exports'!C113","v":19.671020507813001},351.74249242187449]
["2010-01-20",{"$f":"'r_NTS Demand'!C114","v":393.73993000000002},{"$f":"'r_Storage injections'!F114","v":5.2863100000000003},{"$f":"'r_Bacton IUK exports'!C114","v":0},{"$f":"'r_Moffat exports'!C114","v":22.286987304688001},366.16663269531199]
["2010-01-21",{"$f":"'r_NTS Demand'!C115","v":388.87637000000001},{"$f":"'r_Storage injections'!F115","v":12.705929999999999},{"$f":"'r_Bacton IUK exports'!C115","v":0},{"$f":"'r_Moffat exports'!C115","v":20.77197265625},355.39846734374999]
["2010-01-22",{"$f":"'r_NTS Demand'!C116","v":368.69486000000001},{"$f":"'r_Storage injections'!F116","v":8.7923399999999994},{"$f":"'r_Bacton IUK exports'!C116","v":6.1380004882812997},{"$f":"'r_Moffat exports'!C116","v":21.52001953125},332.24449998046873]
["2010-01-23",{"$f":"'r_NTS Demand'!C117","v":357.78951000000001},{"$f":"'r_Storage injections'!F117","v":12.612400000000001},{"$f":"'r_Bacton IUK exports'!C117","v":0},{"$f":"'r_Moffat exports'!C117","v":21.736999511718999},323.44011048828099]
["2010-01-24",{"$f":"'r_NTS Demand'!C118","v":363.85642999999999},{"$f":"'r_Storage injections'!F118","v":12.864649999999999},{"$f":"'r_Bacton IUK exports'!C118","v":0.56005000000000005},{"$f":"'r_Moffat exports'!C118","v":21.5009765625},328.93075343750002]
["2010-01-25",{"$f":"'r_NTS Demand'!C119","v":397.11279999999999},{"$f":"'r_Storage injections'!F119","v":5.0131600000000001},{"$f":"'r_Bacton IUK exports'!C119","v":0},{"$f":"'r_Moffat exports'!C119","v":23.410034179688001},368.68960582031201]
["2010-01-26",{"$f":"'r_NTS Demand'!C120","v":416.73464000000001},{"$f":"'r_Storage injections'!F120","v":0.22877999999999998},{"$f":"'r_Bacton IUK exports'!C120","v":7.2973999999999997},{"$f":"'r_Moffat exports'!C120","v":24.079000000000001},385.12945999999999]
["2010-01-27",{"$f":"'r_NTS Demand'!C121","v":390.54933999999997},{"$f":"'r_Storage injections'!F121","v":9.7821499999999997},{"$f":"'r_Bacton IUK exports'!C121","v":0},{"$f":"'r_Moffat exports'!C121","v":19.955993652343999},360.81119634765599]
["2010-01-28",{"$f":"'r_NTS Demand'!C122","v":372.44747000000001},{"$f":"'r_Storage injections'!F122","v":13.7956},{"$f":"'r_Bacton IUK exports'!C122","v":0},{"$f":"'r_Moffat exports'!C122","v":19.77797},338.87389999999999]
["2010-01-29",{"$f":"'r_NTS Demand'!C123","v":389.32574},{"$f":"'r_Storage injections'!F123","v":20.343730000000001},{"$f":"'r_Bacton IUK exports'!C123","v":0},{"$f":"'r_Moffat exports'!C123","v":20.18603515625},348.79597484375]
["2010-01-30",{"$f":"'r_NTS Demand'!C124","v":395.01378},{"$f":"'r_Storage injections'!F124","v":20.459559999999996},{"$f":"'r_Bacton IUK exports'!C124","v":0},{"$f":"'r_Moffat exports'!C124","v":20.328979492188001},354.22524050781203]
["2010-01-31",{"$f":"'r_NTS Demand'!C125","v":392.77654999999999},{"$f":"'r_Storage injections'!F125","v":9.4499199999999988},{"$f":"'r_Bacton IUK exports'!C125","v":0},{"$f":"'r_Moffat exports'!C125","v":19.820007324218999},363.50662267578099]
["2010-02-01",{"$f":"'r_NTS Demand'!C126","v":397.84976},{"$f":"'r_Storage injections'!F126","v":2.5332699999999999},{"$f":"'r_Bacton IUK exports'!C126","v":0},{"$f":"'r_Moffat exports'!C126","v":21.109985351563001},374.20650464843698]
["2010-02-02",{"$f":"'r_NTS Demand'!C127","v":385.4427},{"$f":"'r_Storage injections'!F127","v":4.81182},{"$f":"'r_Bacton IUK exports'!C127","v":0.96599999999999997},{"$f":"'r_Moffat exports'!C127","v":20.572021484375},359.09285851562498]
["2010-02-03",{"$f":"'r_NTS Demand'!C128","v":393.1},{"$f":"'r_Storage injections'!F128","v":8.6815099999999994},{"$f":"'r_Bacton IUK exports'!C128","v":0},{"$f":"'r_Moffat exports'!C128","v":20.810974121093999},363.60751587890604]
["2010-02-04",{"$f":"'r_NTS Demand'!C129","v":372.65715},{"$f":"'r_Storage injections'!F129","v":10.338039999999999},{"$f":"'r_Bacton IUK exports'!C129","v":5.302978515625},{"$f":"'r_Moffat exports'!C129","v":19.580982208251999},337.43514927612301]
["2010-02-05",{"$f":"'r_NTS Demand'!C130","v":346.54223999999999},{"$f":"'r_Storage injections'!F130","v":13.780490000000002},{"$f":"'r_Bacton IUK exports'!C130","v":0},{"$f":"'r_Moffat exports'!C130","v":19.54700088501},313.21474911499001]
["2010-02-06",{"$f":"'r_NTS Demand'!C131","v":346.25893000000002},{"$f":"'r_Storage injections'!F131","v":14.972209999999999},{"$f":"'r_Bacton IUK exports'!C131","v":0},{"$f":"'r_Moffat exports'!C131","v":20.44100189209},310.84571810791005]
["2010-02-07",{"$f":"'r_NTS Demand'!C132","v":348.91426000000001},{"$f":"'r_Storage injections'!F132","v":5.5735999999999999},{"$f":"'r_Bacton IUK exports'!C132","v":0},{"$f":"'r_Moffat exports'!C132","v":18.309997558593999},{"$f":"B132-SUM(C132:E132)","v":325.03066244140604}]
["2010-02-08",{"$f":"'r_NTS Demand'!C133","v":399.22575999999998},{"$f":"'r_Storage injections'!F133","v":0.34546000000000004},{"$f":"'r_Bacton IUK exports'!C133","v":0},{"$f":"'r_Moffat exports'!C133","v":22.425003051758001},376.45529694824199]
["2010-02-09",{"$f":"'r_NTS Demand'!C134","v":399.12175000000002},{"$f":"'r_Storage injections'!F134","v":0.23629},{"$f":"'r_Bacton IUK exports'!C134","v":3.6190185546875},{"$f":"'r_Moffat exports'!C134","v":20.554008483886999},374.71243296142552]
["2010-02-10",{"$f":"'r_NTS Demand'!C135","v":411.54232999999999},{"$f":"'r_Storage injections'!F135","v":1.05701},{"$f":"'r_Bacton IUK exports'!C135","v":0.65112000703811601},{"$f":"'r_Moffat exports'!C135","v":22.536994934081999},387.29720505887985]
["2010-02-11",{"$f":"'r_NTS Demand'!C136","v":420.51051000000001},{"$f":"'r_Storage injections'!F136","v":0.19658999999999999},{"$f":"'r_Bacton IUK exports'!C136","v":8.4666700000000006},{"$f":"'r_Moffat exports'!C136","v":22.498992919921999},389.34825708007799]
["2010-02-12",{"$f":"'r_NTS Demand'!C137","v":393.99277000000001},{"$f":"'r_Storage injections'!F137","v":0.24088999999999999},{"$f":"'r_Bacton IUK exports'!C137","v":6.7940199999999997},{"$f":"'r_Moffat exports'!C137","v":20.655014038086001},366.30284596191399]
["2010-02-13",{"$f":"'r_NTS Demand'!C138","v":379.18563},{"$f":"'r_Storage injections'!F138","v":1.98851},{"$f":"'r_Bacton IUK exports'!C138","v":8.2957199999999993},{"$f":"'r_Moffat exports'!C138","v":20.244995117188001},348.65640488281201]
["2010-02-14",{"$f":"'r_NTS Demand'!C139","v":371.32857000000001},{"$f":"'r_Storage injections'!F139","v":2.0155799999999999},{"$f":"'r_Bacton IUK exports'!C139","v":11.906005859375},{"$f":"'r_Moffat exports'!C139","v":18.613006591796999},338.79397754882802]
["2010-02-15",{"$f":"'r_NTS Demand'!C140","v":389.79},{"$f":"'r_Storage injections'!F140","v":1.7682199999999999},{"$f":"'r_Bacton IUK exports'!C140","v":11.008972167969},{"$f":"'r_Moffat exports'!C140","v":20.808990478516002},356.20381735351503]
["2010-02-16",{"$f":"'r_NTS Demand'!C141","v":386.45591000000002},{"$f":"'r_Storage injections'!F141","v":0.20115},{"$f":"'r_Bacton IUK exports'!C141","v":10.382019042969},{"$f":"'r_Moffat exports'!C141","v":22.115005493163999},353.75773546386699]
["2010-02-17",{"$f":"'r_NTS Demand'!C142","v":386.94344999999998},{"$f":"'r_Storage injections'!F142","v":0.69728000000000001},{"$f":"'r_Bacton IUK exports'!C142","v":6.2199400000000002},{"$f":"'r_Moffat exports'!C142","v":22.338989257813001},357.68724074218699]
["2010-02-18",{"$f":"'r_NTS Demand'!C143","v":392.31560000000002},{"$f":"'r_Storage injections'!F143","v":2.46888},{"$f":"'r_Bacton IUK exports'!C143","v":0},{"$f":"'r_Moffat exports'!C143","v":22.949005126953001},366.89771487304699]
["2010-02-19",{"$f":"'r_NTS Demand'!C144","v":386.09296000000001},{"$f":"'r_Storage injections'!F144","v":4.11531},{"$f":"'r_Bacton IUK exports'!C144","v":0},{"$f":"'r_Moffat exports'!C144","v":21.240020751953001},360.73762924804703]
["2010-02-20",{"$f":"'r_NTS Demand'!C145","v":365.41748000000001},{"$f":"'r_Storage injections'!F145","v":3.5710500000000005},{"$f":"'r_Bacton IUK exports'!C145","v":0},{"$f":"'r_Moffat exports'!C145","v":20.975982666016002},340.87044733398403]
["2010-02-21",{"$f":"'r_NTS Demand'!C146","v":372.31513000000001},{"$f":"'r_Storage injections'!F146","v":3.0817800000000002},{"$f":"'r_Bacton IUK exports'!C146","v":0},{"$f":"'r_Moffat exports'!C146","v":20.692993164063001},348.54035683593702]
["2010-02-22",{"$f":"'r_NTS Demand'!C147","v":394.45085999999998},{"$f":"'r_Storage injections'!F147","v":1.78471},{"$f":"'r_Bacton IUK exports'!C147","v":0},{"$f":"'r_Moffat exports'!C147","v":22.573},370.09314999999998]
["2010-02-23",{"$f":"'r_NTS Demand'!C148","v":401.47874999999999},{"$f":"'r_Storage injections'!F148","v":2.78545},{"$f":"'r_Bacton IUK exports'!C148","v":0},{"$f":"'r_Moffat exports'!C148","v":21.798004150391002},376.895295849609]
["2010-02-24",{"$f":"'r_NTS Demand'!C149","v":367.10950000000003},{"$f":"'r_Storage injections'!F149","v":1.4622799999999998},{"$f":"'r_Bacton IUK exports'!C149","v":0},{"$f":"'r_Moffat exports'!C149","v":23.353999999999999},342.29322000000002]
["2010-02-25",{"$f":"'r_NTS Demand'!C150","v":358.52019000000001},{"$f":"'r_Storage injections'!F150","v":9.3888099999999994},{"$f":"'r_Bacton IUK exports'!C150","v":0},{"$f":"'r_Moffat exports'!C150","v":22.805999755858998},326.325380244141]
["2010-02-26",{"$f":"'r_NTS Demand'!C151","v":365.34933999999998},{"$f":"'r_Storage injections'!F151","v":2.9382799999999998},{"$f":"'r_Bacton IUK exports'!C151","v":0},{"$f":"'r_Moffat exports'!C151","v":20.989013671875},341.42204632812496]
["2010-02-27",{"$f":"'r_NTS Demand'!C152","v":349.50810000000001},{"$f":"'r_Storage injections'!F152","v":12.5449},{"$f":"'r_Bacton IUK exports'!C152","v":0},{"$f":"'r_Moffat exports'!C152","v":19.792999267578001},317.17020073242202]
["2010-02-28",{"$f":"'r_NTS Demand'!C153","v":365.30597999999998},{"$f":"'r_Storage injections'!F153","v":11.848750000000001},{"$f":"'r_Bacton IUK exports'!C153","v":0},{"$f":"'r_Moffat exports'!C153","v":20.638000488281001},332.81922951171896]
["2010-03-01",{"$f":"'r_NTS Demand'!C154","v":377.47913999999997},{"$f":"'r_Storage injections'!F154","v":10.209980000000002},{"$f":"'r_Bacton IUK exports'!C154","v":4.5858100000000004},{"$f":"'r_Moffat exports'!C154","v":23.057983398438001},339.62536660156195]
["2010-03-02",{"$f":"'r_NTS Demand'!C155","v":379.29914000000002},{"$f":"'r_Storage injections'!F155","v":0.89800000000000002},{"$f":"'r_Bacton IUK exports'!C155","v":9.0112100000000002},{"$f":"'r_Moffat exports'!C155","v":21.822021484375},347.56790851562505]
["2010-03-03",{"$f":"'r_NTS Demand'!C156","v":394.49703},{"$f":"'r_Storage injections'!F156","v":1.1774200000000001},{"$f":"'r_Bacton IUK exports'!C156","v":7.9284701347351101},{"$f":"'r_Moffat exports'!C156","v":23.158996582031001},362.23214328323388]
["2010-03-04",{"$f":"'r_NTS Demand'!C157","v":394.76497000000001},{"$f":"'r_Storage injections'!F157","v":4.4728599999999998},{"$f":"'r_Bacton IUK exports'!C157","v":6.0679699999999999},{"$f":"'r_Moffat exports'!C157","v":23.109008789063001},361.11513121093702]
["2010-03-05",{"$f":"'r_NTS Demand'!C158","v":392.70578},{"$f":"'r_Storage injections'!F158","v":3.5353699999999999},{"$f":"'r_Bacton IUK exports'!C158","v":13.15959},{"$f":"'r_Moffat exports'!C158","v":22.870971679688001},353.13984832031201]
["2010-03-06",{"$f":"'r_NTS Demand'!C159","v":369.31315000000001},{"$f":"'r_Storage injections'!F159","v":0.45395000000000002},{"$f":"'r_Bacton IUK exports'!C159","v":9.8037399999999995},{"$f":"'r_Moffat exports'!C159","v":20.546997070313001},338.50846292968703]
["2010-03-07",{"$f":"'r_NTS Demand'!C160","v":382.55784999999997},{"$f":"'r_Storage injections'!F160","v":1.5077400000000001},{"$f":"'r_Bacton IUK exports'!C160","v":7.9622400000000004},{"$f":"'r_Moffat exports'!C160","v":19.231994628906001},353.85587537109399]
["2010-03-08",{"$f":"'r_NTS Demand'!C161","v":395.02575000000002},{"$f":"'r_Storage injections'!F161","v":0.60330000000000006},{"$f":"'r_Bacton IUK exports'!C161","v":8.7210000000000001},{"$f":"'r_Moffat exports'!C161","v":22.201049804688001},363.50040019531201]
["2010-03-09",{"$f":"'r_NTS Demand'!C162","v":390.88267999999999},{"$f":"'r_Storage injections'!F162","v":0.17577000000000001},{"$f":"'r_Bacton IUK exports'!C162","v":19.157043457031001},{"$f":"'r_Moffat exports'!C162","v":22.929992675781001},348.61987386718801]
["2010-03-10",{"$f":"'r_NTS Demand'!C163","v":384.36020000000002},{"$f":"'r_Storage injections'!F163","v":2.7527400000000002},{"$f":"'r_Bacton IUK exports'!C163","v":14.119910240173301},{"$f":"'r_Moffat exports'!C163","v":22.661010742188001},344.82653901763871]
["2010-03-11",{"$f":"'r_NTS Demand'!C164","v":363.17317000000003},{"$f":"'r_Storage injections'!F164","v":1.74237},{"$f":"'r_Bacton IUK exports'!C164","v":0},{"$f":"'r_Moffat exports'!C164","v":21.669982910156001},339.76081708984401]
["2010-03-12",{"$f":"'r_NTS Demand'!C165","v":354.47807},{"$f":"'r_Storage injections'!F165","v":4.0640099999999997},{"$f":"'r_Bacton IUK exports'!C165","v":5.4801700000000002},{"$f":"'r_Moffat exports'!C165","v":20.132019042968999},324.80187095703099]
["2010-03-13",{"$f":"'r_NTS Demand'!C166","v":320.30275999999998},{"$f":"'r_Storage injections'!F166","v":3.7160699999999998},{"$f":"'r_Bacton IUK exports'!C166","v":1.5080199999999999},{"$f":"'r_Moffat exports'!C166","v":19.412963867188001},295.66570613281198]
["2010-03-14",{"$f":"'r_NTS Demand'!C167","v":308.75256000000002},{"$f":"'r_Storage injections'!F167","v":3.00943},{"$f":"'r_Bacton IUK exports'!C167","v":1.61355},{"$f":"'r_Moffat exports'!C167","v":18.952026367188001},285.17755363281202]
["2010-03-15",{"$f":"'r_NTS Demand'!C168","v":328.38481000000002},{"$f":"'r_Storage injections'!F168","v":2.3274499999999998},{"$f":"'r_Bacton IUK exports'!C168","v":5.75983},{"$f":"'r_Moffat exports'!C168","v":20.984985351563001},299.31254464843704]
["2010-03-16",{"$f":"'r_NTS Demand'!C169","v":314.47834999999998},{"$f":"'r_Storage injections'!F169","v":3.7483799999999996},{"$f":"'r_Bacton IUK exports'!C169","v":0},{"$f":"'r_Moffat exports'!C169","v":20.184997558593999},290.544972441406]
["2010-03-17",{"$f":"'r_NTS Demand'!C170","v":301.91284999999999},{"$f":"'r_Storage injections'!F170","v":4.43994},{"$f":"'r_Bacton IUK exports'!C170","v":6.3529},{"$f":"'r_Moffat exports'!C170","v":15.851013183594},275.268996816406]
["2010-03-18",{"$f":"'r_NTS Demand'!C171","v":303.44513000000001},{"$f":"'r_Storage injections'!F171","v":10.739650000000001},{"$f":"'r_Bacton IUK exports'!C171","v":12.026000976562999},{"$f":"'r_Moffat exports'!C171","v":17.494995117188001},263.184483906249]
["2010-03-19",{"$f":"'r_NTS Demand'!C172","v":319.73110000000003},{"$f":"'r_Storage injections'!F172","v":36.378610000000002},{"$f":"'r_Bacton IUK exports'!C172","v":12.084239999999999},{"$f":"'r_Moffat exports'!C172","v":19.106018066406001},252.16223193359403]
["2010-03-20",{"$f":"'r_NTS Demand'!C173","v":306.35327999999998},{"$f":"'r_Storage injections'!F173","v":30.584589999999999},{"$f":"'r_Bacton IUK exports'!C173","v":6.56201171875},{"$f":"'r_Moffat exports'!C173","v":17.768005371093999},251.43867291015599]
["2010-03-21",{"$f":"'r_NTS Demand'!C174","v":316.06923},{"$f":"'r_Storage injections'!F174","v":32.300379999999997},{"$f":"'r_Bacton IUK exports'!C174","v":9.8807700000000001},{"$f":"'r_Moffat exports'!C174","v":15.635986328125},258.252093671875]
["2010-03-22",{"$f":"'r_NTS Demand'!C175","v":334.50519000000003},{"$f":"'r_Storage injections'!F175","v":25.317609999999998},{"$f":"'r_Bacton IUK exports'!C175","v":12.372985839844},{"$f":"'r_Moffat exports'!C175","v":16.789978027343999},280.02461613281201]
["2010-03-23",{"$f":"'r_NTS Demand'!C176","v":331.23770000000002},{"$f":"'r_Storage injections'!F176","v":17.016469999999998},{"$f":"'r_Bacton IUK exports'!C176","v":14.000061035156},{"$f":"'r_Moffat exports'!C176","v":18.962036132813001},281.25913283203101]
["2010-03-24",{"$f":"'r_NTS Demand'!C177","v":330.87261000000001},{"$f":"'r_Storage injections'!F177","v":31.18873},{"$f":"'r_Bacton IUK exports'!C177","v":17.817993164063001},{"$f":"'r_Moffat exports'!C177","v":19.677978515625},262.18790832031198]
["2010-03-25",{"$f":"'r_NTS Demand'!C178","v":315.71197999999998},{"$f":"'r_Storage injections'!F178","v":32.789369999999998},{"$f":"'r_Bacton IUK exports'!C178","v":5.6131399999999996},{"$f":"'r_Moffat exports'!C178","v":19.272951126098999},258.036518873901]
["2010-03-26",{"$f":"'r_NTS Demand'!C179","v":323.98203999999998},{"$f":"'r_Storage injections'!F179","v":32.29278},{"$f":"'r_Bacton IUK exports'!C179","v":8.5532000000000004},{"$f":"'r_Moffat exports'!C179","v":20.071000000000002},263.06506000000002]
["2010-03-27",{"$f":"'r_NTS Demand'!C180","v":310.41849999999999},{"$f":"'r_Storage injections'!F180","v":45.815429999999999},{"$f":"'r_Bacton IUK exports'!C180","v":10.782958984375},{"$f":"'r_Moffat exports'!C180","v":17.412002563476999},236.40810845214799]
["2010-03-28",{"$f":"'r_NTS Demand'!C181","v":322.68232},{"$f":"'r_Storage injections'!F181","v":46.592049999999993},{"$f":"'r_Bacton IUK exports'!C181","v":7.9179199999999996},{"$f":"'r_Moffat exports'!C181","v":16.979999542236001},251.19235045776401]
["2010-03-29",{"$f":"'r_NTS Demand'!C182","v":340.74},{"$f":"'r_Storage injections'!F182","v":31.342390000000002},{"$f":"'r_Bacton IUK exports'!C182","v":8.1047100000000007},{"$f":"'r_Moffat exports'!C182","v":19.154998779296999},282.13790122070299]
["2010-03-30",{"$f":"'r_NTS Demand'!C183","v":331.08541000000002},{"$f":"'r_Storage injections'!F183","v":19.0916},{"$f":"'r_Bacton IUK exports'!C183","v":9.7108699999999999},{"$f":"'r_Moffat exports'!C183","v":20.249000549316001},282.03393945068404]
["2010-03-31",{"$f":"'r_NTS Demand'!C184","v":371.90803},{"$f":"'r_Storage injections'!F184","v":12.21707},{"$f":"'r_Bacton IUK exports'!C184","v":6.3599853515625},{"$f":"'r_Moffat exports'!C184","v":22.123001098633001},331.20797354980448]
["2010-04-01",{"$f":"'r_NTS Demand'!C185","v":362.39139999999998},{"$f":"'r_Storage injections'!F185","v":17.400400000000001},{"$f":"'r_Bacton IUK exports'!C185","v":5.2891700000000004},{"$f":"'r_Moffat exports'!C185","v":21.220001220703001},318.48182877929696]
["2010-04-02",{"$f":"'r_NTS Demand'!C186","v":317.87529999999998},{"$f":"'r_Storage injections'!F186","v":14.40902},{"$f":"'r_Bacton IUK exports'!C186","v":9.8879776000977007},{"$f":"'r_Moffat exports'!C186","v":18.369003295898001},275.20929910400429]
["2010-04-03",{"$f":"'r_NTS Demand'!C187","v":306.149},{"$f":"'r_Storage injections'!F187","v":21.651240000000001},{"$f":"'r_Bacton IUK exports'!C187","v":16.617000579999999},{"$f":"'r_Moffat exports'!C187","v":17.792999269999999},250.08776015000001]
["2010-04-04",{"$f":"'r_NTS Demand'!C188","v":297.70699999999999},{"$f":"'r_Storage injections'!F188","v":22.842230000000001},{"$f":"'r_Bacton IUK exports'!C188","v":14.43200111},{"$f":"'r_Moffat exports'!C188","v":15.776000979999999},244.65676790999999]
["2010-04-05",{"$f":"'r_NTS Demand'!C189","v":307.202},{"$f":"'r_Storage injections'!F189","v":25.29721},{"$f":"'r_Bacton IUK exports'!C189","v":13.067997999999999},{"$f":"'r_Moffat exports'!C189","v":13.940994},254.89579800000001]
["2010-04-06",{"$f":"'r_NTS Demand'!C190","v":300.74862999999999},{"$f":"'r_Storage injections'!F190","v":22.025480000000002},{"$f":"'r_Bacton IUK exports'!C190","v":15.92200088501},{"$f":"'r_Moffat exports'!C190","v":19.893005371093999},242.90814374389601]
["2010-04-07",{"$f":"'r_NTS Demand'!C191","v":297.63479000000001},{"$f":"'r_Storage injections'!F191","v":11.455359999999999},{"$f":"'r_Bacton IUK exports'!C191","v":18.609001159668001},{"$f":"'r_Moffat exports'!C191","v":18.343},249.22742884033201]
["2010-04-08",{"$f":"'r_NTS Demand'!C192","v":273.23378000000002},{"$f":"'r_Storage injections'!F192","v":6.7267799999999998},{"$f":"'r_Bacton IUK exports'!C192","v":14.305000305176},{"$f":"'r_Moffat exports'!C192","v":18.227020263671999},233.97497943115201]
["2010-04-09",{"$f":"'r_NTS Demand'!C193","v":287.04072000000002},{"$f":"'r_Storage injections'!F193","v":29.318739999999998},{"$f":"'r_Bacton IUK exports'!C193","v":20.81579},{"$f":"'r_Moffat exports'!C193","v":16.458984375},220.44720562500004]
["2010-04-10",{"$f":"'r_NTS Demand'!C194","v":286.54032999999998},{"$f":"'r_Storage injections'!F194","v":41.016779999999997},{"$f":"'r_Bacton IUK exports'!C194","v":33.175003051757997},{"$f":"'r_Moffat exports'!C194","v":15.446990966796999},196.90155598144497]
["2010-04-11",{"$f":"'r_NTS Demand'!C195","v":295.56013999999999},{"$f":"'r_Storage injections'!F195","v":37.737520000000004},{"$f":"'r_Bacton IUK exports'!C195","v":32.513000488281001},{"$f":"'r_Moffat exports'!C195","v":15.382019042969},209.92760046874997]
["2010-04-12",{"$f":"'r_NTS Demand'!C196","v":308.18995000000001},{"$f":"'r_Storage injections'!F196","v":27.711759999999998},{"$f":"'r_Bacton IUK exports'!C196","v":26.24299621582},{"$f":"'r_Moffat exports'!C196","v":18.113006591796999},{"$f":"B196-SUM(C196:E196)","v":236.12218719238302}]
["2010-04-13",{"$f":"'r_NTS Demand'!C197","v":314.81824999999998},{"$f":"'r_Storage injections'!F197","v":23.700600000000001},{"$f":"'r_Bacton IUK exports'!C197","v":34.079010009766002},{"$f":"'r_Moffat exports'!C197","v":17.518981933593999},239.51965805663997]
["2010-04-14",{"$f":"'r_NTS Demand'!C198","v":318.08028999999999},{"$f":"'r_Storage injections'!F198","v":19.662099999999999},{"$f":"'r_Bacton IUK exports'!C198","v":32.542984008788999},{"$f":"'r_Moffat exports'!C198","v":17.330993652343999},248.544212338867]
["2010-04-15",{"$f":"'r_NTS Demand'!C199","v":316.63708000000003},{"$f":"'r_Storage injections'!F199","v":26.740639999999999},{"$f":"'r_Bacton IUK exports'!C199","v":24.658020019531001},{"$f":"'r_Moffat exports'!C199","v":17.245025634766002},247.99339434570302]
["2010-04-16",{"$f":"'r_NTS Demand'!C200","v":317.95782000000003},{"$f":"'r_Storage injections'!F200","v":42.141970000000001},{"$f":"'r_Bacton IUK exports'!C200","v":28.328979492188001},{"$f":"'r_Moffat exports'!C200","v":17.493988037108998},229.99288247070302]
["2010-04-17",{"$f":"'r_NTS Demand'!C201","v":291.21814999999998},{"$f":"'r_Storage injections'!F201","v":44.63644},{"$f":"'r_Bacton IUK exports'!C201","v":33.664001464843999},{"$f":"'r_Moffat exports'!C201","v":15.563995361328001},197.353713173828]
["2010-04-18",{"$f":"'r_NTS Demand'!C202","v":289.82772999999997},{"$f":"'r_Storage injections'!F202","v":39.529879999999999},{"$f":"'r_Bacton IUK exports'!C202","v":33.967010498047003},{"$f":"'r_Moffat exports'!C202","v":15.817016601562999},200.51382290038998]
["2010-04-19",{"$f":"'r_NTS Demand'!C203","v":313.90422999999998},{"$f":"'r_Storage injections'!F203","v":30.978119999999997},{"$f":"'r_Bacton IUK exports'!C203","v":30.563995361328001},{"$f":"'r_Moffat exports'!C203","v":19.389984130858998},232.97213050781298]
["2010-04-20",{"$f":"'r_NTS Demand'!C204","v":321.53998000000001},{"$f":"'r_Storage injections'!F204","v":30.40521},{"$f":"'r_Bacton IUK exports'!C204","v":33.454010009766002},{"$f":"'r_Moffat exports'!C204","v":19.619018554688001},238.06174143554603]
["2010-04-21",{"$f":"'r_NTS Demand'!C205","v":319.87497999999999},{"$f":"'r_Storage injections'!F205","v":30.711320000000001},{"$f":"'r_Bacton IUK exports'!C205","v":32.292999267577997},{"$f":"'r_Moffat exports'!C205","v":20.360990000000001},236.50967073242199]
["2010-04-22",{"$f":"'r_NTS Demand'!C206","v":318.59884},{"$f":"'r_Storage injections'!F206","v":42.328800000000001},{"$f":"'r_Bacton IUK exports'!C206","v":31.28753},{"$f":"'r_Moffat exports'!C206","v":19.071990966796999},225.910519033203]
["2010-04-23",{"$f":"'r_NTS Demand'!C207","v":311.77985999999999},{"$f":"'r_Storage injections'!F207","v":39.441800000000001},{"$f":"'r_Bacton IUK exports'!C207","v":41.974975585937997},{"$f":"'r_Moffat exports'!C207","v":17.39501953125},212.96806488281197]
["2010-04-24",{"$f":"'r_NTS Demand'!C208","v":285.18912},{"$f":"'r_Storage injections'!F208","v":37.399520000000003},{"$f":"'r_Bacton IUK exports'!C208","v":43.942993164062997},{"$f":"'r_Moffat exports'!C208","v":16.859008789063001},186.98759804687398]
["2010-04-25",{"$f":"'r_NTS Demand'!C209","v":272.37849999999997},{"$f":"'r_Storage injections'!F209","v":34.223849999999999},{"$f":"'r_Bacton IUK exports'!C209","v":36.044006347656001},{"$f":"'r_Moffat exports'!C209","v":15.864990234375},186.24565341796898]
["2010-04-26",{"$f":"'r_NTS Demand'!C210","v":298.18495999999999},{"$f":"'r_Storage injections'!F210","v":43.26146},{"$f":"'r_Bacton IUK exports'!C210","v":43.231018066406001},{"$f":"'r_Moffat exports'!C210","v":18.27099609375},193.421485839844]
["2010-04-27",{"$f":"'r_NTS Demand'!C211","v":290.94240000000002},{"$f":"'r_Storage injections'!F211","v":41.679940000000002},{"$f":"'r_Bacton IUK exports'!C211","v":42.921997070312997},{"$f":"'r_Moffat exports'!C211","v":16.406005859375},189.93445707031202]
["2010-04-28",{"$f":"'r_NTS Demand'!C212","v":291.37281999999999},{"$f":"'r_Storage injections'!F212","v":48.3733},{"$f":"'r_Bacton IUK exports'!C212","v":39.398010253906001},{"$f":"'r_Moffat exports'!C212","v":16.476013183593999},187.12549656249999]
["2010-04-29",{"$f":"'r_NTS Demand'!C213","v":293.72762},{"$f":"'r_Storage injections'!F213","v":34.64002},{"$f":"'r_Bacton IUK exports'!C213","v":45.754028320312997},{"$f":"'r_Moffat exports'!C213","v":17.809000000000001},195.524571679687]
["2010-04-30",{"$f":"'r_NTS Demand'!C214","v":292.23180000000002},{"$f":"'r_Storage injections'!F214","v":33.874960000000002},{"$f":"'r_Bacton IUK exports'!C214","v":39.721008300781001},{"$f":"'r_Moffat exports'!C214","v":17.675964355468999},200.95986734375001]
["2010-05-01",{"$f":"'r_NTS Demand'!C215","v":285.02706999999998},{"$f":"'r_Storage injections'!F215","v":35.905230000000003},{"$f":"'r_Bacton IUK exports'!C215","v":40.555969238281001},{"$f":"'r_Moffat exports'!C215","v":17.313049316406001},191.25282144531297]
["2010-05-02",{"$f":"'r_NTS Demand'!C216","v":305.90631000000002},{"$f":"'r_Storage injections'!F216","v":25.008389999999999},{"$f":"'r_Bacton IUK exports'!C216","v":38.885009765625},{"$f":"'r_Moffat exports'!C216","v":15.976989746094},226.03592048828102]
["2010-05-03",{"$f":"'r_NTS Demand'!C217","v":302.16412000000003},{"$f":"'r_Storage injections'!F217","v":12.94941},{"$f":"'r_Bacton IUK exports'!C217","v":36.22900390625},{"$f":"'r_Moffat exports'!C217","v":16.8349609375},236.15074515625003]
["2010-05-04",{"$f":"'r_NTS Demand'!C218","v":308.69878},{"$f":"'r_Storage injections'!F218","v":14.643830000000001},{"$f":"'r_Bacton IUK exports'!C218","v":36.663948059082003},{"$f":"'r_Moffat exports'!C218","v":19.609008789063001},237.78199315185498]
["2010-05-05",{"$f":"'r_NTS Demand'!C219","v":293.17579999999998},{"$f":"'r_Storage injections'!F219","v":22.31061},{"$f":"'r_Bacton IUK exports'!C219","v":37.998001098632997},{"$f":"'r_Moffat exports'!C219","v":17.543029785156001},215.32415911621098]
["2010-05-06",{"$f":"'r_NTS Demand'!C220","v":301.64992000000001},{"$f":"'r_Storage injections'!F220","v":22.703919999999997},{"$f":"'r_Bacton IUK exports'!C220","v":44.419006347656001},{"$f":"'r_Moffat exports'!C220","v":16.966979980468999},217.560013671875]
["2010-05-07",{"$f":"'r_NTS Demand'!C221","v":305.67876000000001},{"$f":"'r_Storage injections'!F221","v":17.354599999999998},{"$f":"'r_Bacton IUK exports'!C221","v":42.700996398926002},{"$f":"'r_Moffat exports'!C221","v":17.170043945313001},228.45311965576101]
["2010-05-08",{"$f":"'r_NTS Demand'!C222","v":305.33382},{"$f":"'r_Storage injections'!F222","v":20.404039999999998},{"$f":"'r_Bacton IUK exports'!C222","v":45.488998413086001},{"$f":"'r_Moffat exports'!C222","v":15.245971679687999},224.19480990722599]
["2010-05-09",{"$f":"'r_NTS Demand'!C223","v":300.84469000000001},{"$f":"'r_Storage injections'!F223","v":23.660089999999997},{"$f":"'r_Bacton IUK exports'!C223","v":43.744003295897997},{"$f":"'r_Moffat exports'!C223","v":15.069030761719},218.37156594238303]
["2010-05-10",{"$f":"'r_NTS Demand'!C224","v":316.59751999999997},{"$f":"'r_Storage injections'!F224","v":17.478840000000002},{"$f":"'r_Bacton IUK exports'!C224","v":40.127014160156001},{"$f":"'r_Moffat exports'!C224","v":17.877990722656001},241.11367511718797]
["2010-05-11",{"$f":"'r_NTS Demand'!C225","v":309.78251},{"$f":"'r_Storage injections'!F225","v":9.2631800000000002},{"$f":"'r_Bacton IUK exports'!C225","v":41.197998046875},{"$f":"'r_Moffat exports'!C225","v":19.66796875},239.653363203125]
["2010-05-12",{"$f":"'r_NTS Demand'!C226","v":311.88296000000003},{"$f":"'r_Storage injections'!F226","v":15.233260000000001},{"$f":"'r_Bacton IUK exports'!C226","v":40.744995117187997},{"$f":"'r_Moffat exports'!C226","v":18.911010742188001},236.99369414062403]
["2010-05-13",{"$f":"'r_NTS Demand'!C227","v":307.37871000000001},{"$f":"'r_Storage injections'!F227","v":19.569019999999998},{"$f":"'r_Bacton IUK exports'!C227","v":36.913330000000002},{"$f":"'r_Moffat exports'!C227","v":17.882019042968999},233.01434095703101]
["2010-05-14",{"$f":"'r_NTS Demand'!C228","v":307.07571000000002},{"$f":"'r_Storage injections'!F228","v":25.08184},{"$f":"'r_Bacton IUK exports'!C228","v":37.351289999999999},{"$f":"'r_Moffat exports'!C228","v":17.325988769531001},227.31659123046902]
["2010-05-15",{"$f":"'r_NTS Demand'!C229","v":290.23770000000002},{"$f":"'r_Storage injections'!F229","v":36.971069999999997},{"$f":"'r_Bacton IUK exports'!C229","v":42.664978027343999},{"$f":"'r_Moffat exports'!C229","v":16.132019042968999},194.46963292968701]
["2010-05-16",{"$f":"'r_NTS Demand'!C230","v":296.21973000000003},{"$f":"'r_Storage injections'!F230","v":37.441330000000001},{"$f":"'r_Bacton IUK exports'!C230","v":42.644012451172003},{"$f":"'r_Moffat exports'!C230","v":15.996948242187999},200.13743930664003]
["2010-05-17",{"$f":"'r_NTS Demand'!C231","v":304.40915999999999},{"$f":"'r_Storage injections'!F231","v":35.663179999999997},{"$f":"'r_Bacton IUK exports'!C231","v":44.690979003906001},{"$f":"'r_Moffat exports'!C231","v":18.612060546875},205.44294044921898]
["2010-05-18",{"$f":"'r_NTS Demand'!C232","v":291.55700000000002},{"$f":"'r_Storage injections'!F232","v":30.861969999999999},{"$f":"'r_Bacton IUK exports'!C232","v":51.933044433593999},{"$f":"'r_Moffat exports'!C232","v":18.039001464843999},190.72298410156202]
["2010-05-19",{"$f":"'r_NTS Demand'!C233","v":298.47586999999999},{"$f":"'r_Storage injections'!F233","v":37.833880000000001},{"$f":"'r_Bacton IUK exports'!C233","v":52.375},{"$f":"'r_Moffat exports'!C233","v":19.640991210938001},188.62599878906201]
["2010-05-20",{"$f":"'r_NTS Demand'!C234","v":287.98899},{"$f":"'r_Storage injections'!F234","v":45.522480000000002},{"$f":"'r_Bacton IUK exports'!C234","v":46.382019042968999},{"$f":"'r_Moffat exports'!C234","v":19.054933547973999},177.02955740905699]
["2010-05-21",{"$f":"'r_NTS Demand'!C235","v":276.98854999999998},{"$f":"'r_Storage injections'!F235","v":44.576260000000005},{"$f":"'r_Bacton IUK exports'!C235","v":53.430969238281001},{"$f":"'r_Moffat exports'!C235","v":18.47500038147},160.50632038024895]
["2010-05-22",{"$f":"'r_NTS Demand'!C236","v":237.59895},{"$f":"'r_Storage injections'!F236","v":38.890950000000004},{"$f":"'r_Bacton IUK exports'!C236","v":38.836975097656001},{"$f":"'r_Moffat exports'!C236","v":16.679000854491999},143.19202404785199]
["2010-05-23",{"$f":"'r_NTS Demand'!C237","v":235.51298},{"$f":"'r_Storage injections'!F237","v":42.5154},{"$f":"'r_Bacton IUK exports'!C237","v":36.31005859375},{"$f":"'r_Moffat exports'!C237","v":15.907001495360999},140.78051991088898]
["2010-05-24",{"$f":"'r_NTS Demand'!C238","v":274.43982},{"$f":"'r_Storage injections'!F238","v":57.407080000000001},{"$f":"'r_Bacton IUK exports'!C238","v":40.143005371093999},{"$f":"'r_Moffat exports'!C238","v":18.546997070313001},158.342737558593]
["2010-05-25",{"$f":"'r_NTS Demand'!C239","v":274.64999999999998},{"$f":"'r_Storage injections'!F239","v":45.19896},{"$f":"'r_Bacton IUK exports'!C239","v":45.269958496093999},{"$f":"'r_Moffat exports'!C239","v":18.028007507323998},166.15307399658198]
["2010-05-26",{"$f":"'r_NTS Demand'!C240","v":263.83416999999997},{"$f":"'r_Storage injections'!F240","v":34.750880000000002},{"$f":"'r_Bacton IUK exports'!C240","v":27.889038085938001},{"$f":"'r_Moffat exports'!C240","v":18.130989074706999},183.06326283935496]
["2010-05-27",{"$f":"'r_NTS Demand'!C241","v":268.43777999999998},{"$f":"'r_Storage injections'!F241","v":27.588560000000001},{"$f":"'r_Bacton IUK exports'!C241","v":37.867980957031001},{"$f":"'r_Moffat exports'!C241","v":18.804016113281001},184.17722292968799]
["2010-05-28",{"$f":"'r_NTS Demand'!C242","v":261.93939999999998},{"$f":"'r_Storage injections'!F242","v":28.20514},{"$f":"'r_Bacton IUK exports'!C242","v":38.248954772948998},{"$f":"'r_Moffat exports'!C242","v":19.910995483398001},175.57430974365298]
["2010-05-29",{"$f":"'r_NTS Demand'!C243","v":246.45510999999999},{"$f":"'r_Storage injections'!F243","v":25.21077},{"$f":"'r_Bacton IUK exports'!C243","v":31.537000656128001},{"$f":"'r_Moffat exports'!C243","v":17.414993286133001},172.292346057739]
["2010-05-30",{"$f":"'r_NTS Demand'!C244","v":236.68953999999999},{"$f":"'r_Storage injections'!F244","v":25.897729999999999},{"$f":"'r_Bacton IUK exports'!C244","v":32.70299911499},{"$f":"'r_Moffat exports'!C244","v":16.288009643555},161.80080124145499]
["2010-05-31",{"$f":"'r_NTS Demand'!C245","v":249.26589000000001},{"$f":"'r_Storage injections'!F245","v":27.05209},{"$f":"'r_Bacton IUK exports'!C245","v":36.13500213623},{"$f":"'r_Moffat exports'!C245","v":18.061996459961001},168.01680140380901]
["2010-06-01",{"$f":"'r_NTS Demand'!C246","v":255.56952999999999},{"$f":"'r_Storage injections'!F246","v":16.90879},{"$f":"'r_Bacton IUK exports'!C246","v":34.228004455566001},{"$f":"'r_Moffat exports'!C246","v":18.910003662108998},185.52273188232499]
["2010-06-02",{"$f":"'r_NTS Demand'!C247","v":258.22239999999999},{"$f":"'r_Storage injections'!F247","v":25.926669999999998},{"$f":"'r_Bacton IUK exports'!C247","v":45.727996826172003},{"$f":"'r_Moffat exports'!C247","v":19.270004272461001},167.29772890136698]
["2010-06-03",{"$f":"'r_NTS Demand'!C248","v":244.84797},{"$f":"'r_Storage injections'!F248","v":36.717970000000001},{"$f":"'r_Bacton IUK exports'!C248","v":36.675003051757997},{"$f":"'r_Moffat exports'!C248","v":17.60400390625},153.85099304199201]
["2010-06-04",{"$f":"'r_NTS Demand'!C249","v":247.31585999999999},{"$f":"'r_Storage injections'!F249","v":32.42107},{"$f":"'r_Bacton IUK exports'!C249","v":40.51301574707},{"$f":"'r_Moffat exports'!C249","v":18.830978393555},155.550795859375]
["2010-06-05",{"$f":"'r_NTS Demand'!C250","v":240.0119},{"$f":"'r_Storage injections'!F250","v":39.86551},{"$f":"'r_Bacton IUK exports'!C250","v":45.082000732422003},{"$f":"'r_Moffat exports'!C250","v":17.861022949218999},137.203366318359]
["2010-06-06",{"$f":"'r_NTS Demand'!C251","v":240.58776},{"$f":"'r_Storage injections'!F251","v":38.565069999999999},{"$f":"'r_Bacton IUK exports'!C251","v":44.303985595702997},{"$f":"'r_Moffat exports'!C251","v":16.355987548828001},141.36271685546899]
["2010-06-07",{"$f":"'r_NTS Demand'!C252","v":258.17547999999999},{"$f":"'r_Storage injections'!F252","v":32.826610000000002},{"$f":"'r_Bacton IUK exports'!C252","v":44.911010742187997},{"$f":"'r_Moffat exports'!C252","v":17.352020263671999},163.08583899413998]
["2010-06-08",{"$f":"'r_NTS Demand'!C253","v":259.41242999999997},{"$f":"'r_Storage injections'!F253","v":26.967970000000001},{"$f":"'r_Bacton IUK exports'!C253","v":46.694000244141002},{"$f":"'r_Moffat exports'!C253","v":19.356994628906001},166.39346512695298]
["2010-06-09",{"$f":"'r_NTS Demand'!C254","v":254.93826000000001},{"$f":"'r_Storage injections'!F254","v":24.390740000000001},{"$f":"'r_Bacton IUK exports'!C254","v":48.080017089843999},{"$f":"'r_Moffat exports'!C254","v":18.452999999999999},164.01450291015601]
["2010-06-10",{"$f":"'r_NTS Demand'!C255","v":267.87076000000002},{"$f":"'r_Storage injections'!F255","v":24.845140000000001},{"$f":"'r_Bacton IUK exports'!C255","v":46.85498046875},{"$f":"'r_Moffat exports'!C255","v":19.126983642578001},177.04365588867202]
["2010-06-11",{"$f":"'r_NTS Demand'!C256","v":260.57490000000001},{"$f":"'r_Storage injections'!F256","v":29.290649999999999},{"$f":"'r_Bacton IUK exports'!C256","v":52.913024902343999},{"$f":"'r_Moffat exports'!C256","v":17.371002197266002},161.00022290039001]
["2010-06-12",{"$f":"'r_NTS Demand'!C257","v":256.84159},{"$f":"'r_Storage injections'!F257","v":39.880800000000001},{"$f":"'r_Bacton IUK exports'!C257","v":48.161010742187997},{"$f":"'r_Moffat exports'!C257","v":16.761993408203001},152.03778584960901]
["2010-06-13",{"$f":"'r_NTS Demand'!C258","v":256.14048000000003},{"$f":"'r_Storage injections'!F258","v":40.027850000000001},{"$f":"'r_Bacton IUK exports'!C258","v":44.745971679687997},{"$f":"'r_Moffat exports'!C258","v":15.436004638671999},155.93065368164002]
["2010-06-14",{"$f":"'r_NTS Demand'!C259","v":265.63195999999999},{"$f":"'r_Storage injections'!F259","v":33.702600000000004},{"$f":"'r_Bacton IUK exports'!C259","v":42.796020507812997},{"$f":"'r_Moffat exports'!C259","v":19.947021484375},169.18631800781199]
["2010-06-15",{"$f":"'r_NTS Demand'!C260","v":272.21012999999999},{"$f":"'r_Storage injections'!F260","v":34.091740000000001},{"$f":"'r_Bacton IUK exports'!C260","v":51.383972167968999},{"$f":"'r_Moffat exports'!C260","v":20.447998046875},{"$f":"B260-SUM(C260:E260)","v":166.286419785156}]
["2010-06-16",{"$f":"'r_NTS Demand'!C261","v":247.44560000000001},{"$f":"'r_Storage injections'!F261","v":27.119350000000001},{"$f":"'r_Bacton IUK exports'!C261","v":41.488037109375},{"$f":"'r_Moffat exports'!C261","v":20.537994384766002},158.30021850585902]
["2010-06-17",{"$f":"'r_NTS Demand'!C262","v":244.77493000000001},{"$f":"'r_Storage injections'!F262","v":24.598479999999999},{"$f":"'r_Bacton IUK exports'!C262","v":41.973999023437997},{"$f":"'r_Moffat exports'!C262","v":19.765991210938001},158.43645976562402]
["2010-06-18",{"$f":"'r_NTS Demand'!C263","v":238.99662000000001},{"$f":"'r_Storage injections'!F263","v":24.500109999999999},{"$f":"'r_Bacton IUK exports'!C263","v":43.331970214843999},{"$f":"'r_Moffat exports'!C263","v":18.391021728516002},152.77351805664]
["2010-06-19",{"$f":"'r_NTS Demand'!C264","v":250.12194},{"$f":"'r_Storage injections'!F264","v":34.594949999999997},{"$f":"'r_Bacton IUK exports'!C264","v":51.639038085937997},{"$f":"'r_Moffat exports'!C264","v":15.800964355469},148.08698755859299]
["2010-06-20",{"$f":"'r_NTS Demand'!C265","v":245.43741},{"$f":"'r_Storage injections'!F265","v":33.725470000000001},{"$f":"'r_Bacton IUK exports'!C265","v":49.553939819336001},{"$f":"'r_Moffat exports'!C265","v":17.473999023438001},144.68400115722602]
["2010-06-21",{"$f":"'r_NTS Demand'!C266","v":253.79879},{"$f":"'r_Storage injections'!F266","v":32.137790000000003},{"$f":"'r_Bacton IUK exports'!C266","v":51.773002624512003},{"$f":"'r_Moffat exports'!C266","v":19.378051757813001},150.50994561767499]
["2010-06-22",{"$f":"'r_NTS Demand'!C267","v":253.32137},{"$f":"'r_Storage injections'!F267","v":32.613060000000004},{"$f":"'r_Bacton IUK exports'!C267","v":55.31600189209},{"$f":"'r_Moffat exports'!C267","v":19.096984863281001},146.295323244629]
["2010-06-23",{"$f":"'r_NTS Demand'!C268","v":244.77977000000001},{"$f":"'r_Storage injections'!F268","v":29.314039999999999},{"$f":"'r_Bacton IUK exports'!C268","v":49.501007080077997},{"$f":"'r_Moffat exports'!C268","v":19.43896484375},146.52575807617202]
["2010-06-24",{"$f":"'r_NTS Demand'!C269","v":249.90602000000001},{"$f":"'r_Storage injections'!F269","v":28.29036},{"$f":"'r_Bacton IUK exports'!C269","v":54.776000976562997},{"$f":"'r_Moffat exports'!C269","v":19},147.83965902343701]
["2010-06-25",{"$f":"'r_NTS Demand'!C270","v":247.52511999999999},{"$f":"'r_Storage injections'!F270","v":32.52234},{"$f":"'r_Bacton IUK exports'!C270","v":52.067993164062997},{"$f":"'r_Moffat exports'!C270","v":18.731994628906001},144.202792207031]
["2010-06-26",{"$f":"'r_NTS Demand'!C271","v":229.35439},{"$f":"'r_Storage injections'!F271","v":34.089109999999998},{"$f":"'r_Bacton IUK exports'!C271","v":48.424011230468999},{"$f":"'r_Moffat exports'!C271","v":15.785034179687999},131.056234589843]
["2010-06-27",{"$f":"'r_NTS Demand'!C272","v":226.14464000000001},{"$f":"'r_Storage injections'!F272","v":32.273499999999999},{"$f":"'r_Bacton IUK exports'!C272","v":48.684997558593999},{"$f":"'r_Moffat exports'!C272","v":14.815979003906},130.37016343750003]
["2010-06-28",{"$f":"'r_NTS Demand'!C273","v":243.72658999999999},{"$f":"'r_Storage injections'!F273","v":27.472709999999999},{"$f":"'r_Bacton IUK exports'!C273","v":51.885009765625},{"$f":"'r_Moffat exports'!C273","v":19.059997558593999},145.30887267578098]
["2010-06-29",{"$f":"'r_NTS Demand'!C274","v":244.41853},{"$f":"'r_Storage injections'!F274","v":26.4572},{"$f":"'r_Bacton IUK exports'!C274","v":53.641998291016002},{"$f":"'r_Moffat exports'!C274","v":18.970031738281001},145.34929997070302]
["2010-06-30",{"$f":"'r_NTS Demand'!C275","v":249.14284000000001},{"$f":"'r_Storage injections'!F275","v":32.387160000000002},{"$f":"'r_Bacton IUK exports'!C275","v":53.335021972656001},{"$f":"'r_Moffat exports'!C275","v":16.635009765625},146.78564826171902]
["2010-07-01",{"$f":"'r_NTS Demand'!C276","v":246.36407},{"$f":"'r_Storage injections'!F276","v":30.96988},{"$f":"'r_Bacton IUK exports'!C276","v":54.221984863281001},{"$f":"'r_Moffat exports'!C276","v":17.661010742188001},143.511194394531]
["2010-07-02",{"$f":"'r_NTS Demand'!C277","v":239.88431},{"$f":"'r_Storage injections'!F277","v":35.393600000000006},{"$f":"'r_Bacton IUK exports'!C277","v":51.460998535156001},{"$f":"'r_Moffat exports'!C277","v":16.718994140625},136.31071732421898]
["2010-07-03",{"$f":"'r_NTS Demand'!C278","v":217.75030000000001},{"$f":"'r_Storage injections'!F278","v":29.87107},{"$f":"'r_Bacton IUK exports'!C278","v":46.442016601562997},{"$f":"'r_Moffat exports'!C278","v":15.469970703125},125.96724269531201]
["2010-07-04",{"$f":"'r_NTS Demand'!C279","v":217.85803999999999},{"$f":"'r_Storage injections'!F279","v":32.350760000000001},{"$f":"'r_Bacton IUK exports'!C279","v":43.493957519531001},{"$f":"'r_Moffat exports'!C279","v":14.134033203125},127.87928927734399]
["2010-07-05",{"$f":"'r_NTS Demand'!C280","v":241.16283999999999},{"$f":"'r_Storage injections'!F280","v":24.844059999999999},{"$f":"'r_Bacton IUK exports'!C280","v":52.796020507812997},{"$f":"'r_Moffat exports'!C280","v":19.095947265625},144.42681222656199]
["2010-07-06",{"$f":"'r_NTS Demand'!C281","v":227.03681},{"$f":"'r_Storage injections'!F281","v":28.13035},{"$f":"'r_Bacton IUK exports'!C281","v":40.950012207031001},{"$f":"'r_Moffat exports'!C281","v":17.45703125},140.49941654296902]
["2010-07-07",{"$f":"'r_NTS Demand'!C282","v":222.62038000000001},{"$f":"'r_Storage injections'!F282","v":23.827660000000002},{"$f":"'r_Bacton IUK exports'!C282","v":45.611999511718999},{"$f":"'r_Moffat exports'!C282","v":15.948974609375},137.231745878906]
["2010-07-08",{"$f":"'r_NTS Demand'!C283","v":231.01730000000001},{"$f":"'r_Storage injections'!F283","v":24.518470000000001},{"$f":"'r_Bacton IUK exports'!C283","v":47.276977539062997},{"$f":"'r_Moffat exports'!C283","v":18.755004882813001},140.46684757812403]
["2010-07-09",{"$f":"'r_NTS Demand'!C284","v":223.12162000000001},{"$f":"'r_Storage injections'!F284","v":26.339690000000001},{"$f":"'r_Bacton IUK exports'!C284","v":45.638061523437997},{"$f":"'r_Moffat exports'!C284","v":18.322021484375},132.82184699218701]
["2010-07-10",{"$f":"'r_NTS Demand'!C285","v":199.84155000000001},{"$f":"'r_Storage injections'!F285","v":29.775649999999999},{"$f":"'r_Bacton IUK exports'!C285","v":42.844924926757997},{"$f":"'r_Moffat exports'!C285","v":15.302978515625},111.91799655761702]
["2010-07-11",{"$f":"'r_NTS Demand'!C286","v":202.19972000000001},{"$f":"'r_Storage injections'!F286","v":26.937449999999998},{"$f":"'r_Bacton IUK exports'!C286","v":43.118999481201001},{"$f":"'r_Moffat exports'!C286","v":15.816040039062999},116.32723047973602]
["2010-07-12",{"$f":"'r_NTS Demand'!C287","v":224},{"$f":"'r_Storage injections'!F287","v":25.158770000000001},{"$f":"'r_Bacton IUK exports'!C287","v":45.305004119872997},{"$f":"'r_Moffat exports'!C287","v":16.739990234375},136.79623564575201]
["2010-07-13",{"$f":"'r_NTS Demand'!C288","v":228.04514},{"$f":"'r_Storage injections'!F288","v":17.142210000000002},{"$f":"'r_Bacton IUK exports'!C288","v":54.698997497558999},{"$f":"'r_Moffat exports'!C288","v":15.227},140.976932502441]
["2010-07-14",{"$f":"'r_NTS Demand'!C289","v":228.13},{"$f":"'r_Storage injections'!F289","v":20.096819999999997},{"$f":"'r_Bacton IUK exports'!C289","v":52.871002197266002},{"$f":"'r_Moffat exports'!C289","v":16.507019042968999},138.65515875976499]
["2010-07-15",{"$f":"'r_NTS Demand'!C290","v":221},{"$f":"'r_Storage injections'!F290","v":20.988489999999999},{"$f":"'r_Bacton IUK exports'!C290","v":44.890014648437997},{"$f":"'r_Moffat exports'!C290","v":16.85595703125},138.265538320312]
["2010-07-16",{"$f":"'r_NTS Demand'!C291","v":218.71806000000001},{"$f":"'r_Storage injections'!F291","v":18.902380000000001},{"$f":"'r_Bacton IUK exports'!C291","v":44.255981445312997},{"$f":"'r_Moffat exports'!C291","v":15.545974731445},140.013723823242]
["2010-07-17",{"$f":"'r_NTS Demand'!C292","v":194.26734999999999},{"$f":"'r_Storage injections'!F292","v":21.243949999999998},{"$f":"'r_Bacton IUK exports'!C292","v":33.32743},{"$f":"'r_Moffat exports'!C292","v":14.709001541138001},124.98696845886199]
["2010-07-18",{"$f":"'r_NTS Demand'!C293","v":198.62515999999999},{"$f":"'r_Storage injections'!F293","v":26.535589999999999},{"$f":"'r_Bacton IUK exports'!C293","v":33.269390000000001},{"$f":"'r_Moffat exports'!C293","v":13.730001449585},125.09017855041499]
["2010-07-19",{"$f":"'r_NTS Demand'!C294","v":220.78898000000001},{"$f":"'r_Storage injections'!F294","v":17.876139999999999},{"$f":"'r_Bacton IUK exports'!C294","v":44.615997314452997},{"$f":"'r_Moffat exports'!C294","v":16.319000244141002},141.97784244140601]
["2010-07-20",{"$f":"'r_NTS Demand'!C295","v":228.25698},{"$f":"'r_Storage injections'!F295","v":24.343209999999999},{"$f":"'r_Bacton IUK exports'!C295","v":48.053985595702997},{"$f":"'r_Moffat exports'!C295","v":16.075996398926002},139.78378800537101]
["2010-07-21",{"$f":"'r_NTS Demand'!C296","v":229.07603},{"$f":"'r_Storage injections'!F296","v":23.706489999999999},{"$f":"'r_Bacton IUK exports'!C296","v":43.877014160156001},{"$f":"'r_Moffat exports'!C296","v":15.350006103516},146.14251973632801]
["2010-07-22",{"$f":"'r_NTS Demand'!C297","v":233.57470000000001},{"$f":"'r_Storage injections'!F297","v":23.018219999999999},{"$f":"'r_Bacton IUK exports'!C297","v":47.204986572266002},{"$f":"'r_Moffat exports'!C297","v":16.582000732421999},146.76949269531201]
["2010-07-23",{"$f":"'r_NTS Demand'!C298","v":227.65805},{"$f":"'r_Storage injections'!F298","v":29.17698},{"$f":"'r_Bacton IUK exports'!C298","v":38.189025878906001},{"$f":"'r_Moffat exports'!C298","v":17.002990722656001},143.289053398438]
["2010-07-24",{"$f":"'r_NTS Demand'!C299","v":202.93584999999999},{"$f":"'r_Storage injections'!F299","v":24.644219999999997},{"$f":"'r_Bacton IUK exports'!C299","v":35.088989257812997},{"$f":"'r_Moffat exports'!C299","v":15.386001586914},127.81663915527299]
["2010-07-25",{"$f":"'r_NTS Demand'!C300","v":199.03327999999999},{"$f":"'r_Storage injections'!F300","v":20.392949999999999},{"$f":"'r_Bacton IUK exports'!C300","v":33.315002441406001},{"$f":"'r_Moffat exports'!C300","v":14.564010620116999},130.76131693847699]
["2010-07-26",{"$f":"'r_NTS Demand'!C301","v":214.97275999999999},{"$f":"'r_Storage injections'!F301","v":17.483609999999999},{"$f":"'r_Bacton IUK exports'!C301","v":36.280029296875},{"$f":"'r_Moffat exports'!C301","v":15.886993408203001},145.32212729492198]
["2010-07-27",{"$f":"'r_NTS Demand'!C302","v":211.1113},{"$f":"'r_Storage injections'!F302","v":25.360790000000001},{"$f":"'r_Bacton IUK exports'!C302","v":27.341003417968999},{"$f":"'r_Moffat exports'!C302","v":15.539001464844},142.87050511718701]
["2010-07-28",{"$f":"'r_NTS Demand'!C303","v":222.40189000000001},{"$f":"'r_Storage injections'!F303","v":29.470859999999998},{"$f":"'r_Bacton IUK exports'!C303","v":33.044006347656001},{"$f":"'r_Moffat exports'!C303","v":15.075012207031},144.81201144531303]
["2010-07-29",{"$f":"'r_NTS Demand'!C304","v":223.92500999999999},{"$f":"'r_Storage injections'!F304","v":23.55247},{"$f":"'r_Bacton IUK exports'!C304","v":37.313301086425803},{"$f":"'r_Moffat exports'!C304","v":15.671997070312999},147.38724184326117]
["2010-07-30",{"$f":"'r_NTS Demand'!C305","v":223.24241000000001},{"$f":"'r_Storage injections'!F305","v":26.849070000000001},{"$f":"'r_Bacton IUK exports'!C305","v":37.935929999999999},{"$f":"'r_Moffat exports'!C305","v":14.201995849609},144.255414150391]
["2010-07-31",{"$f":"'r_NTS Demand'!C306","v":207.26415},{"$f":"'r_Storage injections'!F306","v":31.63175},{"$f":"'r_Bacton IUK exports'!C306","v":27.674189999999999},{"$f":"'r_Moffat exports'!C306","v":13.783996582031},134.17421341796899]
["2010-08-01",{"$f":"'r_NTS Demand'!C307","v":195.59092000000001},{"$f":"'r_Storage injections'!F307","v":20.590890000000002},{"$f":"'r_Bacton IUK exports'!C307","v":28.890014648438001},{"$f":"'r_Moffat exports'!C307","v":13.535003662109},132.57501168945302]
["2010-08-02",{"$f":"'r_NTS Demand'!C308","v":206.04289},{"$f":"'r_Storage injections'!F308","v":32.469210000000004},{"$f":"'r_Bacton IUK exports'!C308","v":18.125829696655298},{"$f":"'r_Moffat exports'!C308","v":13.847991943359},141.59985835998569]
["2010-08-03",{"$f":"'r_NTS Demand'!C309","v":210.61492000000001},{"$f":"'r_Storage injections'!F309","v":30.988499999999998},{"$f":"'r_Bacton IUK exports'!C309","v":20.656005859375},{"$f":"'r_Moffat exports'!C309","v":15.621002197266},143.34941194335903]
["2010-08-04",{"$f":"'r_NTS Demand'!C310","v":203.76},{"$f":"'r_Storage injections'!F310","v":33.228349999999999},{"$f":"'r_Bacton IUK exports'!C310","v":20.0009765625},{"$f":"'r_Moffat exports'!C310","v":13.775024414062999},136.755649023437]
["2010-08-05",{"$f":"'r_NTS Demand'!C311","v":197.85629},{"$f":"'r_Storage injections'!F311","v":26.181510000000003},{"$f":"'r_Bacton IUK exports'!C311","v":14.515014648437999},{"$f":"'r_Moffat exports'!C311","v":15.266998291016},141.89276706054599]
["2010-08-06",{"$f":"'r_NTS Demand'!C312","v":193.929},{"$f":"'r_Storage injections'!F312","v":25.15465},{"$f":"'r_Bacton IUK exports'!C312","v":13.033020019531},{"$f":"'r_Moffat exports'!C312","v":14.871002197266},140.87032778320301]
["2010-08-07",{"$f":"'r_NTS Demand'!C313","v":182.78446},{"$f":"'r_Storage injections'!F313","v":28.96144},{"$f":"'r_Bacton IUK exports'!C313","v":16.127990722656001},{"$f":"'r_Moffat exports'!C313","v":14.095977783203001},123.59905149414099]
["2010-08-08",{"$f":"'r_NTS Demand'!C314","v":186.50792999999999},{"$f":"'r_Storage injections'!F314","v":33.508030000000005},{"$f":"'r_Bacton IUK exports'!C314","v":16.85498046875},{"$f":"'r_Moffat exports'!C314","v":13.378021240234},122.76689829101599]
["2010-08-09",{"$f":"'r_NTS Demand'!C315","v":207.27960999999999},{"$f":"'r_Storage injections'!F315","v":25.393650000000001},{"$f":"'r_Bacton IUK exports'!C315","v":24.134977340698001},{"$f":"'r_Moffat exports'!C315","v":15.718994140625},142.031988518677]
["2010-08-10",{"$f":"'r_NTS Demand'!C316","v":218.0077},{"$f":"'r_Storage injections'!F316","v":38.079710000000006},{"$f":"'r_Bacton IUK exports'!C316","v":18.616003036498999},{"$f":"'r_Moffat exports'!C316","v":16.361999511718999},144.94998745178199]
["2010-08-11",{"$f":"'r_NTS Demand'!C317","v":210.79239000000001},{"$f":"'r_Storage injections'!F317","v":32.881079999999997},{"$f":"'r_Bacton IUK exports'!C317","v":17.305000305176002},{"$f":"'r_Moffat exports'!C317","v":16.873992919921999},143.73231677490202]
["2010-08-12",{"$f":"'r_NTS Demand'!C318","v":224.8},{"$f":"'r_Storage injections'!F318","v":36.10727},{"$f":"'r_Bacton IUK exports'!C318","v":22.296379089355501},{"$f":"'r_Moffat exports'!C318","v":15.855010986328001},150.5413399243165]
["2010-08-13",{"$f":"'r_NTS Demand'!C319","v":223.10256000000001},{"$f":"'r_Storage injections'!F319","v":34.812380000000005},{"$f":"'r_Bacton IUK exports'!C319","v":21.94708},{"$f":"'r_Moffat exports'!C319","v":16.553985595703001},149.78911440429701]
["2010-08-14",{"$f":"'r_NTS Demand'!C320","v":214.73958999999999},{"$f":"'r_Storage injections'!F320","v":32.10566},{"$f":"'r_Bacton IUK exports'!C320","v":31.435997009276999},{"$f":"'r_Moffat exports'!C320","v":15.944000244141},135.253932746582]
["2010-08-15",{"$f":"'r_NTS Demand'!C321","v":217.25200000000001},{"$f":"'r_Storage injections'!F321","v":35.750190000000003},{"$f":"'r_Bacton IUK exports'!C321","v":31.579010009766002},{"$f":"'r_Moffat exports'!C321","v":15.738006591796999},134.18479339843702]
["2010-08-16",{"$f":"'r_NTS Demand'!C322","v":222.43962999999999},{"$f":"'r_Storage injections'!F322","v":26.771850000000001},{"$f":"'r_Bacton IUK exports'!C322","v":34.535995483397997},{"$f":"'r_Moffat exports'!C322","v":17.738006591796999},143.39377792480499]
["2010-08-17",{"$f":"'r_NTS Demand'!C323","v":238.41231999999999},{"$f":"'r_Storage injections'!F323","v":22.170270000000002},{"$f":"'r_Bacton IUK exports'!C323","v":48.36100769043},{"$f":"'r_Moffat exports'!C323","v":17.183013916016002},150.69802839355398]
["2010-08-18",{"$f":"'r_NTS Demand'!C324","v":239.12796},{"$f":"'r_Storage injections'!F324","v":24.749339999999997},{"$f":"'r_Bacton IUK exports'!C324","v":44.209014892577997},{"$f":"'r_Moffat exports'!C324","v":17.572967529296999},{"$f":"B324-SUM(C324:E324)","v":152.59663757812501}]
["2010-08-19",{"$f":"'r_NTS Demand'!C325","v":231.81},{"$f":"'r_Storage injections'!F325","v":14.65475},{"$f":"'r_Bacton IUK exports'!C325","v":44.121002197266002},{"$f":"'r_Moffat exports'!C325","v":17.927001953125},155.107245849609]
["2010-08-20",{"$f":"'r_NTS Demand'!C326","v":232.45553000000001},{"$f":"'r_Storage injections'!F326","v":14.888960000000001},{"$f":"'r_Bacton IUK exports'!C326","v":53.922973632812997},{"$f":"'r_Moffat exports'!C326","v":15.272},148.37159636718701]
["2010-08-21",{"$f":"'r_NTS Demand'!C327","v":208.30851999999999},{"$f":"'r_Storage injections'!F327","v":7.1231299999999997},{"$f":"'r_Bacton IUK exports'!C327","v":54.585021972656001},{"$f":"'r_Moffat exports'!C327","v":14.998046875},131.60232115234399]
["2010-08-22",{"$f":"'r_NTS Demand'!C328","v":211.02726000000001},{"$f":"'r_Storage injections'!F328","v":8.9703700000000008},{"$f":"'r_Bacton IUK exports'!C328","v":52.071990966797003},{"$f":"'r_Moffat exports'!C328","v":15.712951660156},134.271947373047]
["2010-08-23",{"$f":"'r_NTS Demand'!C329","v":230.13968},{"$f":"'r_Storage injections'!F329","v":7.6954000000000002},{"$f":"'r_Bacton IUK exports'!C329","v":54.073028564452997},{"$f":"'r_Moffat exports'!C329","v":15.939025878906},152.43222555664101]
["2010-08-24",{"$f":"'r_NTS Demand'!C330","v":223.55},{"$f":"'r_Storage injections'!F330","v":8.18032},{"$f":"'r_Bacton IUK exports'!C330","v":47.586975097656001},{"$f":"'r_Moffat exports'!C330","v":16.682006835938001},151.10069806640601]
["2010-08-25",{"$f":"'r_NTS Demand'!C331","v":236.78923},{"$f":"'r_Storage injections'!F331","v":10.475919999999999},{"$f":"'r_Bacton IUK exports'!C331","v":44.572998046875},{"$f":"'r_Moffat exports'!C331","v":17.705993652343999},164.034318300781]
["2010-08-26",{"$f":"'r_NTS Demand'!C332","v":234.17},{"$f":"'r_Storage injections'!F332","v":5.5439100000000003},{"$f":"'r_Bacton IUK exports'!C332","v":41.182006835937997},{"$f":"'r_Moffat exports'!C332","v":17.671020507813001},169.77306265624901]
["2010-08-27",{"$f":"'r_NTS Demand'!C333","v":221.62629000000001},{"$f":"'r_Storage injections'!F333","v":8.4955700000000007},{"$f":"'r_Bacton IUK exports'!C333","v":44.733032226562997},{"$f":"'r_Moffat exports'!C333","v":17.268005371093999},151.12968240234301]
["2010-08-28",{"$f":"'r_NTS Demand'!C334","v":205.97006999999999},{"$f":"'r_Storage injections'!F334","v":9.0883900000000004},{"$f":"'r_Bacton IUK exports'!C334","v":40.796997070312997},{"$f":"'r_Moffat exports'!C334","v":14.85595703125},141.22872589843701]
["2010-08-29",{"$f":"'r_NTS Demand'!C335","v":206.17701},{"$f":"'r_Storage injections'!F335","v":9.7126699999999992},{"$f":"'r_Bacton IUK exports'!C335","v":42.210998535156001},{"$f":"'r_Moffat exports'!C335","v":14.567016601562999},139.68632486328102]
["2010-08-30",{"$f":"'r_NTS Demand'!C336","v":212.14182},{"$f":"'r_Storage injections'!F336","v":5.79312},{"$f":"'r_Bacton IUK exports'!C336","v":38.429992675781001},{"$f":"'r_Moffat exports'!C336","v":17.473999023438001},150.44470830078097]
["2010-08-31",{"$f":"'r_NTS Demand'!C337","v":217.5069},{"$f":"'r_Storage injections'!F337","v":8.4218399999999995},{"$f":"'r_Bacton IUK exports'!C337","v":34.606018066406001},{"$f":"'r_Moffat exports'!C337","v":17.275024414063001},157.20401751953102]
["2010-09-01",{"$f":"'r_NTS Demand'!C338","v":207.60820000000001},{"$f":"'r_Storage injections'!F338","v":12.80185},{"$f":"'r_Bacton IUK exports'!C338","v":30.315979003906001},{"$f":"'r_Moffat exports'!C338","v":15.872009277344},148.61836171875001]
["2010-09-02",{"$f":"'r_NTS Demand'!C339","v":226.29593},{"$f":"'r_Storage injections'!F339","v":11.50018},{"$f":"'r_Bacton IUK exports'!C339","v":46.778991699218999},{"$f":"'r_Moffat exports'!C339","v":16.578002929688001},151.43875537109301]
["2010-09-03",{"$f":"'r_NTS Demand'!C340","v":226.02629999999999},{"$f":"'r_Storage injections'!F340","v":23.939970000000002},{"$f":"'r_Bacton IUK exports'!C340","v":41.044840000000001},{"$f":"'r_Moffat exports'!C340","v":15.350952148437999},145.690537851562]
["2010-09-04",{"$f":"'r_NTS Demand'!C341","v":224.86768000000001},{"$f":"'r_Storage injections'!F341","v":29.085800000000003},{"$f":"'r_Bacton IUK exports'!C341","v":47.685840606689503},{"$f":"'r_Moffat exports'!C341","v":15.710998535156},132.38504085815453]
["2010-09-05",{"$f":"'r_NTS Demand'!C342","v":222.81102000000001},{"$f":"'r_Storage injections'!F342","v":31.434639999999998},{"$f":"'r_Bacton IUK exports'!C342","v":44.371006011962997},{"$f":"'r_Moffat exports'!C342","v":13.855041503906},133.15033248413101]
["2010-09-06",{"$f":"'r_NTS Demand'!C343","v":231.17},{"$f":"'r_Storage injections'!F343","v":17.256529999999998},{"$f":"'r_Bacton IUK exports'!C343","v":44.1220893859863},{"$f":"'r_Moffat exports'!C343","v":17.919982910156001},151.8713977038577]
["2010-09-07",{"$f":"'r_NTS Demand'!C344","v":230.64},{"$f":"'r_Storage injections'!F344","v":14.639329999999999},{"$f":"'r_Bacton IUK exports'!C344","v":38.8920288085938},{"$f":"'r_Moffat exports'!C344","v":18.158020019531001},158.95062117187518]
["2010-09-08",{"$f":"'r_NTS Demand'!C345","v":226.84081},{"$f":"'r_Storage injections'!F345","v":14.753149999999998},{"$f":"'r_Bacton IUK exports'!C345","v":37.104349999999997},{"$f":"'r_Moffat exports'!C345","v":17.596984863281001},157.38632513671899]
["2010-09-09",{"$f":"'r_NTS Demand'!C346","v":196.15933999999999},{"$f":"'r_Storage injections'!F346","v":21.17868},{"$f":"'r_Bacton IUK exports'!C346","v":0},{"$f":"'r_Moffat exports'!C346","v":16.351989746093999},158.62867025390599]
["2010-09-10",{"$f":"'r_NTS Demand'!C347","v":194.08065999999999},{"$f":"'r_Storage injections'!F347","v":22.822029999999998},{"$f":"'r_Bacton IUK exports'!C347","v":0},{"$f":"'r_Moffat exports'!C347","v":16.802001953125},154.45662804687498]
["2010-09-11",{"$f":"'r_NTS Demand'!C348","v":183.38233},{"$f":"'r_Storage injections'!F348","v":26.828630000000004},{"$f":"'r_Bacton IUK exports'!C348","v":0},{"$f":"'r_Moffat exports'!C348","v":14.593994140625},141.95970585937499]
["2010-09-12",{"$f":"'r_NTS Demand'!C349","v":180.98665},{"$f":"'r_Storage injections'!F349","v":21.498389999999997},{"$f":"'r_Bacton IUK exports'!C349","v":0},{"$f":"'r_Moffat exports'!C349","v":14.176025390625},145.312234609375]
["2010-09-13",{"$f":"'r_NTS Demand'!C350","v":198.26951},{"$f":"'r_Storage injections'!F350","v":23.679570000000002},{"$f":"'r_Bacton IUK exports'!C350","v":0},{"$f":"'r_Moffat exports'!C350","v":14.89697265625},159.69296734375001]
["2010-09-14",{"$f":"'r_NTS Demand'!C351","v":199.47},{"$f":"'r_Storage injections'!F351","v":28.149819999999998},{"$f":"'r_Bacton IUK exports'!C351","v":0},{"$f":"'r_Moffat exports'!C351","v":15.1650390625},156.15514093749999]
["2010-09-15",{"$f":"'r_NTS Demand'!C352","v":208.44631999999999},{"$f":"'r_Storage injections'!F352","v":18.366790000000002},{"$f":"'r_Bacton IUK exports'!C352","v":0},{"$f":"'r_Moffat exports'!C352","v":16.06298828125},174.01654171874998]
["2010-09-16",{"$f":"'r_NTS Demand'!C353","v":209.93},{"$f":"'r_Storage injections'!F353","v":12.01566},{"$f":"'r_Bacton IUK exports'!C353","v":0},{"$f":"'r_Moffat exports'!C353","v":18.22998046875},179.68435953125001]
["2010-09-17",{"$f":"'r_NTS Demand'!C354","v":211.71969000000001},{"$f":"'r_Storage injections'!F354","v":10.983910000000002},{"$f":"'r_Bacton IUK exports'!C354","v":0},{"$f":"'r_Moffat exports'!C354","v":18.276969909668001},182.45881009033201]
["2010-09-18",{"$f":"'r_NTS Demand'!C355","v":204.89481000000001},{"$f":"'r_Storage injections'!F355","v":11.799049999999999},{"$f":"'r_Bacton IUK exports'!C355","v":0},{"$f":"'r_Moffat exports'!C355","v":16.448001861571999},176.647758138428]
["2010-09-19",{"$f":"'r_NTS Demand'!C356","v":196.47},{"$f":"'r_Storage injections'!F356","v":13.767229999999998},{"$f":"'r_Bacton IUK exports'!C356","v":0},{"$f":"'r_Moffat exports'!C356","v":16.187002182006999},166.51576781799301]
["2010-09-20",{"$f":"'r_NTS Demand'!C357","v":195.0128},{"$f":"'r_Storage injections'!F357","v":7.0183799999999996},{"$f":"'r_Bacton IUK exports'!C357","v":0},{"$f":"'r_Moffat exports'!C357","v":16.355},171.63942]
["2010-09-21",{"$f":"'r_NTS Demand'!C358","v":194.37},{"$f":"'r_Storage injections'!F358","v":11.303190000000001},{"$f":"'r_Bacton IUK exports'!C358","v":0},{"$f":"'r_Moffat exports'!C358","v":17.434999999999999},165.63181]
["2010-09-22",{"$f":"'r_NTS Demand'!C359","v":189.96141},{"$f":"'r_Storage injections'!F359","v":7.9920499999999999},{"$f":"'r_Bacton IUK exports'!C359","v":0},{"$f":"'r_Moffat exports'!C359","v":19.422000000000001},162.54736]
["2010-09-23",{"$f":"'r_NTS Demand'!C360","v":203.56790000000001},{"$f":"'r_Storage injections'!F360","v":11.736370000000001},{"$f":"'r_Bacton IUK exports'!C360","v":6.0785299999999998},{"$f":"'r_Moffat exports'!C360","v":17.312999999999999},168.44]
["2010-09-24",{"$f":"'r_NTS Demand'!C361","v":246.59396000000001},{"$f":"'r_Storage injections'!F361","v":5.9021899999999992},{"$f":"'r_Bacton IUK exports'!C361","v":46.442993164062997},{"$f":"'r_Moffat exports'!C361","v":18.251999999999999},175.996776835937]
["2010-09-25",{"$f":"'r_NTS Demand'!C362","v":236.36592999999999},{"$f":"'r_Storage injections'!F362","v":3.9960499999999994},{"$f":"'r_Bacton IUK exports'!C362","v":38.679016113281001},{"$f":"'r_Moffat exports'!C362","v":17.742999999999999},175.94786388671901]
["2010-09-26",{"$f":"'r_NTS Demand'!C363","v":240.82753},{"$f":"'r_Storage injections'!F363","v":3.8290100000000002},{"$f":"'r_Bacton IUK exports'!C363","v":39.841003417968999},{"$f":"'r_Moffat exports'!C363","v":16.15091},181.006606582031]
["2010-09-27",{"$f":"'r_NTS Demand'!C364","v":262.81616000000002},{"$f":"'r_Storage injections'!F364","v":8.1325099999999999},{"$f":"'r_Bacton IUK exports'!C364","v":44.950988769531001},{"$f":"'r_Moffat exports'!C364","v":17.286989999999999},192.44567123046903]
["2010-09-28",{"$f":"'r_NTS Demand'!C365","v":261.66307999999998},{"$f":"'r_Storage injections'!F365","v":7.3072800000000004},{"$f":"'r_Bacton IUK exports'!C365","v":55.386016845702997},{"$f":"'r_Moffat exports'!C365","v":18.584},180.38578315429697]
["2010-09-29",{"$f":"'r_NTS Demand'!C366","v":264.89613000000003},{"$f":"'r_Storage injections'!F366","v":11.473280000000001},{"$f":"'r_Bacton IUK exports'!C366","v":54.861999511718999},{"$f":"'r_Moffat exports'!C366","v":19.498999999999999},179.06185048828104]
["2010-09-30",{"$f":"'r_NTS Demand'!C367","v":260.95},{"$f":"'r_Storage injections'!F367","v":5.2689000000000004},{"$f":"'r_Bacton IUK exports'!C367","v":56.424011230468999},{"$f":"'r_Moffat exports'!C367","v":16.523},182.73408876953098]

{"sheet":"c_Sources calculations","index":16,"n_rows":30,"n_cols":40,"rows_kept":30,"cut":false,"hidden":false,"merged":[]}
["Maximum daily capacity, GWh/day",null,null,null,null,null,"Capacity coefficients",null,null,null,null,null,null,"Available daily capacity, GWh/day",null,null,null,null,null,null,"Available period capacity (total), GWh",null,null,null,null,null,null,"Available period capacity (competitors), GWh",null,null,null,null,null,null,"Available period capacity (market player), GWh"]
[null,null,null,null,null,null,null,null,null,null,null,null,null,null,null,null,null,null,null,null,"No. days",{"$f":"Interface!J8","v":1},{"$f":"Interface!J9","v":7},{"$f":"Interface!J10","v":30},{"$f":"Interface!J11","v":91},{"$f":"Interface!J12","v":183},null,"No. days",{"$f":"V2","v":1},{"$f":"W2","v":7},30,91,183]
[null,null,null,null,null,null,null,null,null,null,null,null,null,null,null,null,null,null,null,null,"N-2 share",1,0.5,0,0,0,null,"N-2 share",{"$f":"V3","v":1},{"$f":"W3","v":0.5},0,0,0]
["Quarter","Source","Included","Player's share","Maximum supply",null,"Source","Daily","Weekly","Monthly","Quarterly","Seasonal",null,"Source","Daily","Weekly","Monthly","Quarterly","Seasonal",null,"Source","Daily","Weekly","Monthly","Quarterly","Seasonal",null,"Source","Daily","Weekly","Monthly","Quarterly","Seasonal",null,"Source","Daily","Weekly","Monthly","Quarterly","Seasonal"]
[1,"UKCS",{"$f":"VLOOKUP($B5,Interface!$B$10:$E$13,2,0)","v":1},{"$f":"VLOOKUP($B5,Interface!$B$10:$E$13,3,0)","v":0},{"$f":"INDEX('r_Capacities and coefficients'!$A$2:$I$8,MATCH('c_Sources calculations'!B5,'r_Capacities and coefficients'!$A$2:$A$8,FALSE),MATCH(Interface!$D$1,'r_Capacities and coefficients'!$A$2:$I$2,FALSE))","v":1465.5965699999999},null,{"$f":"B5","v":"UKCS"},{"$f":"INDEX('r_Capacities and coefficients'!$A$12:$F$16, MATCH('c_Sources calculations'!$G5, 'r_Capacities and coefficients'!$A$12:$A$16, FALSE), MATCH('c_Sources calculations'!H$4, 'r_Capacities and coefficients'!$A$12:$F$12, FALSE))","v":0.90217391304347827},{"$f":"INDEX('r_Capacities and coefficients'!$A$12:$F$16, MATCH('c_Sources calculations'!$G5, 'r_Capacities and coefficients'!$A$12:$A$16, FALSE), MATCH('c_Sources calculations'!I$4, 'r_Capacities and coefficients'!$A$12:$F$12, FALSE))","v":0.90217391304347827},{"$f":"INDEX('r_Capacities and coefficients'!$A$12:$F$16, MATCH('c_Sources calculations'!$G5, 'r_Capacities and coefficients'!$A$12:$A$16, FALSE), MATCH('c_Sources calculations'!J$4, 'r_Capacities and coefficients'!$A$12:$F$12, FALSE))","v":0.90217391304347827},{"$f":"INDEX('r_Capacities and coefficients'!$A$12:$F$16, MATCH('c_Sources calculations'!$G5, 'r_Capacities and coefficients'!$A$12:$A$16, FALSE), MATCH('c_Sources calculations'!K$4, 'r_Capacities and coefficients'!$A$12:$F$12, FALSE))","v":0.90217391304347827},{"$f":"INDEX('r_Capacities and coefficients'!$A$12:$F$16, MATCH('c_Sources calculations'!$G5, 'r_Capacities and coefficients'!$A$12:$A$16, FALSE), MATCH('c_Sources calculations'!L$4, 'r_Capacities and coefficients'!$A$12:$F$12, FALSE))","v":0.90217391304347827},null,{"$f":"B5","v":"UKCS"},{"$f":"H5*$E5*$C5","v":1322.2229924999999},{"$f":"I5*$E5*$C5","v":1322.2229924999999},{"$f":"J5*$E5*$C5","v":1322.2229924999999},1322.2229924999999,1322.2229924999999,null,"UKCS",{"$f":"O5*V$2","v":1322.2229924999999},{"$f":"P5*W$2","v":9255.5609475000001},{"$f":"Q5*X$2","v":39666.689774999999},{"$f":"R5*Y$2","v":120322.29231749999},{"$f":"S5*Z$2","v":241966.80762749998},null,"UKCS",{"$f":"V5*(1-$D5)","v":1322.2229924999999},{"$f":"W5*(1-$D5)","v":9255.5609475000001},{"$f":"X5*(1-$D5)","v":39666.689774999999},{"$f":"Y5*(1-$D5)","v":120322.29231749999},{"$f":"Z5*(1-$D5)","v":241966.80762749998},null,{"$f":"B5","v":"UKCS"},{"$f":"$D5*V5","v":0},{"$f":"$D5*W5","v":0},0,0,0]
[1,"Norway",{"$f":"VLOOKUP($B6,Interface!$B$10:$E$13,2,0)","v":1},{"$f":"VLOOKUP($B6,Interface!$B$10:$E$13,3,0)","v":0},{"$f":"INDEX('r_Capacities and coefficients'!$A$2:$I$8,MATCH('c_Sources calculations'!B6,'r_Capacities and coefficients'!$A$2:$A$8,FALSE),MATCH(Interface!$D$1,'r_Capacities and coefficients'!$A$2:$I$2,FALSE))","v":1419.123},null,{"$f":"B6","v":"Norway"},{"$f":"INDEX('r_Capacities and coefficients'!$A$12:$F$16, MATCH('c_Sources calculations'!$G6, 'r_Capacities and coefficients'!$A$12:$A$16, FALSE), MATCH('c_Sources calculations'!H$4, 'r_Capacities and coefficients'!$A$12:$F$12, FALSE))","v":0.97509541984732828},{"$f":"INDEX('r_Capacities and coefficients'!$A$12:$F$16, MATCH('c_Sources calculations'!$G6, 'r_Capacities and coefficients'!$A$12:$A$16, FALSE), MATCH('c_Sources calculations'!I$4, 'r_Capacities and coefficients'!$A$12:$F$12, FALSE))","v":0.97509541984732828},{"$f":"INDEX('r_Capacities and coefficients'!$A$12:$F$16, MATCH('c_Sources calculations'!$G6, 'r_Capacities and coefficients'!$A$12:$A$16, FALSE), MATCH('c_Sources calculations'!J$4, 'r_Capacities and coefficients'!$A$12:$F$12, FALSE))","v":0.97509541984732828},{"$f":"INDEX('r_Capacities and coefficients'!$A$12:$F$16, MATCH('c_Sources calculations'!$G6, 'r_Capacities and coefficients'!$A$12:$A$16, FALSE), MATCH('c_Sources calculations'!K$4, 'r_Capacities and coefficients'!$A$12:$F$12, FALSE))","v":0.81451612903225812},{"$f":"INDEX('r_Capacities and coefficients'!$A$12:$F$16, MATCH('c_Sources calculations'!$G6, 'r_Capacities and coefficients'!$A$12:$A$16, FALSE), MATCH('c_Sources calculations'!L$4, 'r_Capacities and coefficients'!$A$12:$F$12, FALSE))","v":0.81300813008130079},null,{"$f":"B6","v":"Norway"},{"$f":"H6*$E6*$C6","v":1383.7803375000001},1383.7803375000001,1383.7803375000001,1155.8985725806454,1153.7585365853658,null,"Norway",{"$f":"O6*V$2","v":1383.7803375000001},{"$f":"P6*W$2","v":9686.4623625000004},{"$f":"Q6*X$2","v":41513.410125000002},{"$f":"R6*Y$2","v":105186.77010483872},{"$f":"S6*Z$2","v":211137.81219512195},null,"Norway",{"$f":"V6*(1-$D6)","v":1383.7803375000001},9686.4623625000004,41513.410125000002,105186.77010483872,211137.81219512195,null,{"$f":"B6","v":"Norway"},{"$f":"$D6*V6","v":0},{"$f":"$D6*W6","v":0},{"$f":"$D6*X6","v":0},{"$f":"$D6*Y6","v":0},{"$f":"$D6*Z6","v":0}]
[1,"LNG",{"$f":"VLOOKUP($B7,Interface!$B$10:$E$13,2,0)","v":1},{"$f":"VLOOKUP($B7,Interface!$B$10:$E$13,3,0)","v":0},{"$f":"INDEX('r_Capacities and coefficients'!$A$2:$I$8,MATCH('c_Sources calculations'!B7,'r_Capacities and coefficients'!$A$2:$A$8,FALSE),MATCH(Interface!$D$1,'r_Capacities and coefficients'!$A$2:$I$2,FALSE))","v":1527.7052753424657},null,"LNG",{"$f":"INDEX('r_Capacities and coefficients'!$A$12:$F$16, MATCH('c_Sources calculations'!$G7, 'r_Capacities and coefficients'!$A$12:$A$16, FALSE), MATCH('c_Sources calculations'!H$4, 'r_Capacities and coefficients'!$A$12:$F$12, FALSE))","v":0.9903213833518214},{"$f":"INDEX('r_Capacities and coefficients'!$A$12:$F$16, MATCH('c_Sources calculations'!$G7, 'r_Capacities and coefficients'!$A$12:$A$16, FALSE), MATCH('c_Sources calculations'!I$4, 'r_Capacities and coefficients'!$A$12:$F$12, FALSE))","v":0.75},{"$f":"INDEX('r_Capacities and coefficients'!$A$12:$F$16, MATCH('c_Sources calculations'!$G7, 'r_Capacities and coefficients'!$A$12:$A$16, FALSE), MATCH('c_Sources calculations'!J$4, 'r_Capacities and coefficients'!$A$12:$F$12, FALSE))","v":0.75},{"$f":"INDEX('r_Capacities and coefficients'!$A$12:$F$16, MATCH('c_Sources calculations'!$G7, 'r_Capacities and coefficients'!$A$12:$A$16, FALSE), MATCH('c_Sources calculations'!K$4, 'r_Capacities and coefficients'!$A$12:$F$12, FALSE))","v":0.6},{"$f":"INDEX('r_Capacities and coefficients'!$A$12:$F$16, MATCH('c_Sources calculations'!$G7, 'r_Capacities and coefficients'!$A$12:$A$16, FALSE), MATCH('c_Sources calculations'!L$4, 'r_Capacities and coefficients'!$A$12:$F$12, FALSE))","v":0.32718186605712235},null,"LNG",1512.9192016310258,1145.7789565068492,1145.7789565068492,916.62316520547938,499.83746277185782,null,"LNG",1512.9192016310258,8020.452695547945,34373.368695205478,83412.708033698626,91470.255687249984,null,"LNG",1512.9192016310258,8020.452695547945,34373.368695205478,83412.708033698626,91470.255687249984,null,"LNG",0,0,0,0,0]
[1,"Continent",{"$f":"VLOOKUP($B8,Interface!$B$10:$E$13,2,0)","v":1},{"$f":"VLOOKUP($B8,Interface!$B$10:$E$13,3,0)","v":0},{"$f":"INDEX('r_Capacities and coefficients'!$A$2:$I$8,MATCH('c_Sources calculations'!B8,'r_Capacities and coefficients'!$A$2:$A$8,FALSE),MATCH(Interface!$D$1,'r_Capacities and coefficients'!$A$2:$I$2,FALSE))","v":1335.5753424657535},null,"Continent",{"$f":"INDEX('r_Capacities and coefficients'!$A$12:$F$16, MATCH('c_Sources calculations'!$G8, 'r_Capacities and coefficients'!$A$12:$A$16, FALSE), MATCH('c_Sources calculations'!H$4, 'r_Capacities and coefficients'!$A$12:$F$12, FALSE))","v":0.80294638087606818},{"$f":"INDEX('r_Capacities and coefficients'!$A$12:$F$16, MATCH('c_Sources calculations'!$G8, 'r_Capacities and coefficients'!$A$12:$A$16, FALSE), MATCH('c_Sources calculations'!I$4, 'r_Capacities and coefficients'!$A$12:$F$12, FALSE))","v":0.80294638087606818},{"$f":"INDEX('r_Capacities and coefficients'!$A$12:$F$16, MATCH('c_Sources calculations'!$G8, 'r_Capacities and coefficients'!$A$12:$A$16, FALSE), MATCH('c_Sources calculations'!J$4, 'r_Capacities and coefficients'!$A$12:$F$12, FALSE))","v":0.56372786359488769},{"$f":"INDEX('r_Capacities and coefficients'!$A$12:$F$16, MATCH('c_Sources calculations'!$G8, 'r_Capacities and coefficients'!$A$12:$A$16, FALSE), MATCH('c_Sources calculations'!K$4, 'r_Capacities and coefficients'!$A$12:$F$12, FALSE))","v":0.32450934631370715},{"$f":"INDEX('r_Capacities and coefficients'!$A$12:$F$16, MATCH('c_Sources calculations'!$G8, 'r_Capacities and coefficients'!$A$12:$A$16, FALSE), MATCH('c_Sources calculations'!L$4, 'r_Capacities and coefficients'!$A$12:$F$12, FALSE))","v":0.17548076923076922},null,"Continent",1072.395387620192,1072.395387620192,752.90103447822969,433.40668133626724,234.36778846153845,null,"Continent",1072.395387620192,7506.7677133413436,22587.031034346892,39440.008001600319,42889.305288461539,null,"Continent",1072.395387620192,7506.7677133413436,22587.031034346892,39440.008001600319,42889.305288461539,null,"Continent",0,0,0,0,0]
[2,"UKCS",{"$f":"VLOOKUP($B9,Interface!$B$10:$E$13,2,0)","v":1},{"$f":"VLOOKUP($B9,Interface!$B$10:$E$13,3,0)","v":0},{"$f":"INDEX('r_Capacities and coefficients'!$A$2:$I$8,MATCH('c_Sources calculations'!B9,'r_Capacities and coefficients'!$A$2:$A$8,FALSE),MATCH(Interface!$D$1,'r_Capacities and coefficients'!$A$2:$I$2,FALSE))","v":1465.5965699999999},null,"UKCS",{"$f":"INDEX('r_Capacities and coefficients'!$A$12:$F$16, MATCH('c_Sources calculations'!$G9, 'r_Capacities and coefficients'!$A$12:$A$16, FALSE), MATCH('c_Sources calculations'!H$4, 'r_Capacities and coefficients'!$A$12:$F$12, FALSE))","v":0.90217391304347827},{"$f":"INDEX('r_Capacities and coefficients'!$A$12:$F$16, MATCH('c_Sources calculations'!$G9, 'r_Capacities and coefficients'!$A$12:$A$16, FALSE), MATCH('c_Sources calculations'!I$4, 'r_Capacities and coefficients'!$A$12:$F$12, FALSE))","v":0.90217391304347827},{"$f":"INDEX('r_Capacities and coefficients'!$A$12:$F$16, MATCH('c_Sources calculations'!$G9, 'r_Capacities and coefficients'!$A$12:$A$16, FALSE), MATCH('c_Sources calculations'!J$4, 'r_Capacities and coefficients'!$A$12:$F$12, FALSE))","v":0.90217391304347827},{"$f":"INDEX('r_Capacities and coefficients'!$A$12:$F$16, MATCH('c_Sources calculations'!$G9, 'r_Capacities and coefficients'!$A$12:$A$16, FALSE), MATCH('c_Sources calculations'!K$4, 'r_Capacities and coefficients'!$A$12:$F$12, FALSE))","v":0.90217391304347827},{"$f":"INDEX('r_Capacities and coefficients'!$A$12:$F$16, MATCH('c_Sources calculations'!$G9, 'r_Capacities and coefficients'!$A$12:$A$16, FALSE), MATCH('c_Sources calculations'!L$4, 'r_Capacities and coefficients'!$A$12:$F$12, FALSE))","v":0.90217391304347827},null,"UKCS",1322.2229924999999,1322.2229924999999,1322.2229924999999,1322.2229924999999,1322.2229924999999,null,"UKCS",1322.2229924999999,9255.5609475000001,39666.689774999999,120322.29231749999,241966.80762749998,null,"UKCS",1322.2229924999999,9255.5609475000001,39666.689774999999,120322.29231749999,241966.80762749998,null,"UKCS",0,0,0,0,0]
[2,"Norway",{"$f":"VLOOKUP($B10,Interface!$B$10:$E$13,2,0)","v":1},{"$f":"VLOOKUP($B10,Interface!$B$10:$E$13,3,0)","v":0},{"$f":"INDEX('r_Capacities and coefficients'!$A$2:$I$8,MATCH('c_Sources calculations'!B10,'r_Capacities and coefficients'!$A$2:$A$8,FALSE),MATCH(Interface!$D$1,'r_Capacities and coefficients'!$A$2:$I$2,FALSE))","v":1419.123},null,"Norway",{"$f":"INDEX('r_Capacities and coefficients'!$A$12:$F$16, MATCH('c_Sources calculations'!$G10, 'r_Capacities and coefficients'!$A$12:$A$16, FALSE), MATCH('c_Sources calculations'!H$4, 'r_Capacities and coefficients'!$A$12:$F$12, FALSE))","v":0.97509541984732828},{"$f":"INDEX('r_Capacities and coefficients'!$A$12:$F$16, MATCH('c_Sources calculations'!$G10, 'r_Capacities and coefficients'!$A$12:$A$16, FALSE), MATCH('c_Sources calculations'!I$4, 'r_Capacities and coefficients'!$A$12:$F$12, FALSE))","v":0.97509541984732828},{"$f":"INDEX('r_Capacities and coefficients'!$A$12:$F$16, MATCH('c_Sources calculations'!$G10, 'r_Capacities and coefficients'!$A$12:$A$16, FALSE), MATCH('c_Sources calculations'!J$4, 'r_Capacities and coefficients'!$A$12:$F$12, FALSE))","v":0.97509541984732828},{"$f":"INDEX('r_Capacities and coefficients'!$A$12:$F$16, MATCH('c_Sources calculations'!$G10, 'r_Capacities and coefficients'!$A$12:$A$16, FALSE), MATCH('c_Sources calculations'!K$4, 'r_Capacities and coefficients'!$A$12:$F$12, FALSE))","v":0.81451612903225812},{"$f":"INDEX('r_Capacities and coefficients'!$A$12:$F$16, MATCH('c_Sources calculations'!$G10, 'r_Capacities and coefficients'!$A$12:$A$16, FALSE), MATCH('c_Sources calculations'!L$4, 'r_Capacities and coefficients'!$A$12:$F$12, FALSE))","v":0.81300813008130079},null,"Norway",1383.7803375000001,1383.7803375000001,1383.7803375000001,1155.8985725806454,1153.7585365853658,null,"Norway",1383.7803375000001,9686.4623625000004,41513.410125000002,105186.77010483872,211137.81219512195,null,"Norway",1383.7803375000001,9686.4623625000004,41513.410125000002,105186.77010483872,211137.81219512195,null,"Norway",0,0,0,0,0]
[2,"LNG",{"$f":"VLOOKUP($B11,Interface!$B$10:$E$13,2,0)","v":1},{"$f":"VLOOKUP($B11,Interface!$B$10:$E$13,3,0)","v":0},{"$f":"INDEX('r_Capacities and coefficients'!$A$2:$I$8,MATCH('c_Sources calculations'!B11,'r_Capacities and coefficients'!$A$2:$A$8,FALSE),MATCH(Interface!$D$1,'r_Capacities and coefficients'!$A$2:$I$2,FALSE))","v":1527.7052753424657},null,"LNG",{"$f":"INDEX('r_Capacities and coefficients'!$A$12:$F$16, MATCH('c_Sources calculations'!$G11, 'r_Capacities and coefficients'!$A$12:$A$16, FALSE), MATCH('c_Sources calculations'!H$4, 'r_Capacities and coefficients'!$A$12:$F$12, FALSE))","v":0.9903213833518214},{"$f":"INDEX('r_Capacities and coefficients'!$A$12:$F$16, MATCH('c_Sources calculations'!$G11, 'r_Capacities and coefficients'!$A$12:$A$16, FALSE), MATCH('c_Sources calculations'!I$4, 'r_Capacities and coefficients'!$A$12:$F$12, FALSE))","v":0.75},{"$f":"INDEX('r_Capacities and coefficients'!$A$12:$F$16, MATCH('c_Sources calculations'!$G11, 'r_Capacities and coefficients'!$A$12:$A$16, FALSE), MATCH('c_Sources calculations'!J$4, 'r_Capacities and coefficients'!$A$12:$F$12, FALSE))","v":0.75},{"$f":"INDEX('r_Capacities and coefficients'!$A$12:$F$16, MATCH('c_Sources calculations'!$G11, 'r_Capacities and coefficients'!$A$12:$A$16, FALSE), MATCH('c_Sources calculations'!K$4, 'r_Capacities and coefficients'!$A$12:$F$12, FALSE))","v":0.6},{"$f":"INDEX('r_Capacities and coefficients'!$A$12:$F$16, MATCH('c_Sources calculations'!$G11, 'r_Capacities and coefficients'!$A$12:$A$16, FALSE), MATCH('c_Sources calculations'!L$4, 'r_Capacities and coefficients'!$A$12:$F$12, FALSE))","v":0.32718186605712235},null,"LNG",1512.9192016310258,1145.7789565068492,1145.7789565068492,916.62316520547938,499.83746277185782,null,"LNG",1512.9192016310258,8020.452695547945,34373.368695205478,83412.708033698626,91470.255687249984,null,"LNG",1512.9192016310258,8020.452695547945,34373.368695205478,83412.708033698626,91470.255687249984,null,"LNG",0,0,0,0,0]
[2,"Continent",{"$f":"VLOOKUP($B12,Interface!$B$10:$E$13,2,0)","v":1},{"$f":"VLOOKUP($B12,Interface!$B$10:$E$13,3,0)","v":0},{"$f":"INDEX('r_Capacities and coefficients'!$A$2:$I$8,MATCH('c_Sources calculations'!B12,'r_Capacities and coefficients'!$A$2:$A$8,FALSE),MATCH(Interface!$D$1,'r_Capacities and coefficients'!$A$2:$I$2,FALSE))","v":1335.5753424657535},null,"Continent",{"$f":"INDEX('r_Capacities and coefficients'!$A$12:$F$16, MATCH('c_Sources calculations'!$G12, 'r_Capacities and coefficients'!$A$12:$A$16, FALSE), MATCH('c_Sources calculations'!H$4, 'r_Capacities and coefficients'!$A$12:$F$12, FALSE))","v":0.80294638087606818},{"$f":"INDEX('r_Capacities and coefficients'!$A$12:$F$16, MATCH('c_Sources calculations'!$G12, 'r_Capacities and coefficients'!$A$12:$A$16, FALSE), MATCH('c_Sources calculations'!I$4, 'r_Capacities and coefficients'!$A$12:$F$12, FALSE))","v":0.80294638087606818},{"$f":"INDEX('r_Capacities and coefficients'!$A$12:$F$16, MATCH('c_Sources calculations'!$G12, 'r_Capacities and coefficients'!$A$12:$A$16, FALSE), MATCH('c_Sources calculations'!J$4, 'r_Capacities and coefficients'!$A$12:$F$12, FALSE))","v":0.56372786359488769},{"$f":"INDEX('r_Capacities and coefficients'!$A$12:$F$16, MATCH('c_Sources calculations'!$G12, 'r_Capacities and coefficients'!$A$12:$A$16, FALSE), MATCH('c_Sources calculations'!K$4, 'r_Capacities and coefficients'!$A$12:$F$12, FALSE))","v":0.32450934631370715},{"$f":"INDEX('r_Capacities and coefficients'!$A$12:$F$16, MATCH('c_Sources calculations'!$G12, 'r_Capacities and coefficients'!$A$12:$A$16, FALSE), MATCH('c_Sources calculations'!L$4, 'r_Capacities and coefficients'!$A$12:$F$12, FALSE))","v":0.17548076923076922},null,"Continent",1072.395387620192,1072.395387620192,752.90103447822969,433.40668133626724,234.36778846153845,null,"Continent",1072.395387620192,7506.7677133413436,22587.031034346892,39440.008001600319,42889.305288461539,null,"Continent",1072.395387620192,7506.7677133413436,22587.031034346892,39440.008001600319,42889.305288461539,null,"Continent",0,0,0,0,0]
[3,"UKCS",{"$f":"VLOOKUP($B13,Interface!$B$10:$E$13,2,0)","v":1},{"$f":"VLOOKUP($B13,Interface!$B$10:$E$13,3,0)","v":0},{"$f":"INDEX('r_Capacities and coefficients'!$A$2:$I$8,MATCH('c_Sources calculations'!B13,'r_Capacities and coefficients'!$A$2:$A$8,FALSE),MATCH(Interface!$D$1,'r_Capacities and coefficients'!$A$2:$I$2,FALSE))","v":1465.5965699999999},null,"UKCS",{"$f":"INDEX('r_Capacities and coefficients'!$A$12:$F$16, MATCH('c_Sources calculations'!$G13, 'r_Capacities and coefficients'!$A$12:$A$16, FALSE), MATCH('c_Sources calculations'!H$4, 'r_Capacities and coefficients'!$A$12:$F$12, FALSE))","v":0.90217391304347827},{"$f":"INDEX('r_Capacities and coefficients'!$A$12:$F$16, MATCH('c_Sources calculations'!$G13, 'r_Capacities and coefficients'!$A$12:$A$16, FALSE), MATCH('c_Sources calculations'!I$4, 'r_Capacities and coefficients'!$A$12:$F$12, FALSE))","v":0.90217391304347827},{"$f":"INDEX('r_Capacities and coefficients'!$A$12:$F$16, MATCH('c_Sources calculations'!$G13, 'r_Capacities and coefficients'!$A$12:$A$16, FALSE), MATCH('c_Sources calculations'!J$4, 'r_Capacities and coefficients'!$A$12:$F$12, FALSE))","v":0.90217391304347827},{"$f":"INDEX('r_Capacities and coefficients'!$A$12:$F$16, MATCH('c_Sources calculations'!$G13, 'r_Capacities and coefficients'!$A$12:$A$16, FALSE), MATCH('c_Sources calculations'!K$4, 'r_Capacities and coefficients'!$A$12:$F$12, FALSE))","v":0.90217391304347827},{"$f":"INDEX('r_Capacities and coefficients'!$A$12:$F$16, MATCH('c_Sources calculations'!$G13, 'r_Capacities and coefficients'!$A$12:$A$16, FALSE), MATCH('c_Sources calculations'!L$4, 'r_Capacities and coefficients'!$A$12:$F$12, FALSE))","v":0.90217391304347827},null,"UKCS",1322.2229924999999,1322.2229924999999,1322.2229924999999,1322.2229924999999,1322.2229924999999,null,"UKCS",1322.2229924999999,9255.5609475000001,39666.689774999999,120322.29231749999,241966.80762749998,null,"UKCS",1322.2229924999999,9255.5609475000001,39666.689774999999,120322.29231749999,241966.80762749998,null,"UKCS",0,0,0,0,0]
[3,"Norway",{"$f":"VLOOKUP($B14,Interface!$B$10:$E$13,2,0)","v":1},{"$f":"VLOOKUP($B14,Interface!$B$10:$E$13,3,0)","v":0},{"$f":"INDEX('r_Capacities and coefficients'!$A$2:$I$8,MATCH('c_Sources calculations'!B14,'r_Capacities and coefficients'!$A$2:$A$8,FALSE),MATCH(Interface!$D$1,'r_Capacities and coefficients'!$A$2:$I$2,FALSE))","v":1419.123},null,"Norway",{"$f":"INDEX('r_Capacities and coefficients'!$A$12:$F$16, MATCH('c_Sources calculations'!$G14, 'r_Capacities and coefficients'!$A$12:$A$16, FALSE), MATCH('c_Sources calculations'!H$4, 'r_Capacities and coefficients'!$A$12:$F$12, FALSE))","v":0.97509541984732828},{"$f":"INDEX('r_Capacities and coefficients'!$A$12:$F$16, MATCH('c_Sources calculations'!$G14, 'r_Capacities and coefficients'!$A$12:$A$16, FALSE), MATCH('c_Sources calculations'!I$4, 'r_Capacities and coefficients'!$A$12:$F$12, FALSE))","v":0.97509541984732828},{"$f":"INDEX('r_Capacities and coefficients'!$A$12:$F$16, MATCH('c_Sources calculations'!$G14, 'r_Capacities and coefficients'!$A$12:$A$16, FALSE), MATCH('c_Sources calculations'!J$4, 'r_Capacities and coefficients'!$A$12:$F$12, FALSE))","v":0.97509541984732828},{"$f":"INDEX('r_Capacities and coefficients'!$A$12:$F$16, MATCH('c_Sources calculations'!$G14, 'r_Capacities and coefficients'!$A$12:$A$16, FALSE), MATCH('c_Sources calculations'!K$4, 'r_Capacities and coefficients'!$A$12:$F$12, FALSE))","v":0.81451612903225812},{"$f":"INDEX('r_Capacities and coefficients'!$A$12:$F$16, MATCH('c_Sources calculations'!$G14, 'r_Capacities and coefficients'!$A$12:$A$16, FALSE), MATCH('c_Sources calculations'!L$4, 'r_Capacities and coefficients'!$A$12:$F$12, FALSE))","v":0.81300813008130079},null,"Norway",1383.7803375000001,1383.7803375000001,1383.7803375000001,1155.8985725806454,1153.7585365853658,null,"Norway",1383.7803375000001,9686.4623625000004,41513.410125000002,105186.77010483872,211137.81219512195,null,"Norway",1383.7803375000001,9686.4623625000004,41513.410125000002,105186.77010483872,211137.81219512195,null,"Norway",0,0,0,0,0]
[3,"LNG",{"$f":"VLOOKUP($B15,Interface!$B$10:$E$13,2,0)","v":1},{"$f":"VLOOKUP($B15,Interface!$B$10:$E$13,3,0)","v":0},{"$f":"INDEX('r_Capacities and coefficients'!$A$2:$I$8,MATCH('c_Sources calculations'!B15,'r_Capacities and coefficients'!$A$2:$A$8,FALSE),MATCH(Interface!$D$1,'r_Capacities and coefficients'!$A$2:$I$2,FALSE))","v":1527.7052753424657},null,"LNG",{"$f":"INDEX('r_Capacities and coefficients'!$A$12:$F$16, MATCH('c_Sources calculations'!$G15, 'r_Capacities and coefficients'!$A$12:$A$16, FALSE), MATCH('c_Sources calculations'!H$4, 'r_Capacities and coefficients'!$A$12:$F$12, FALSE))","v":0.9903213833518214},{"$f":"INDEX('r_Capacities and coefficients'!$A$12:$F$16, MATCH('c_Sources calculations'!$G15, 'r_Capacities and coefficients'!$A$12:$A$16, FALSE), MATCH('c_Sources calculations'!I$4, 'r_Capacities and coefficients'!$A$12:$F$12, FALSE))","v":0.75},{"$f":"INDEX('r_Capacities and coefficients'!$A$12:$F$16, MATCH('c_Sources calculations'!$G15, 'r_Capacities and coefficients'!$A$12:$A$16, FALSE), MATCH('c_Sources calculations'!J$4, 'r_Capacities and coefficients'!$A$12:$F$12, FALSE))","v":0.75},{"$f":"INDEX('r_Capacities and coefficients'!$A$12:$F$16, MATCH('c_Sources calculations'!$G15, 'r_Capacities and coefficients'!$A$12:$A$16, FALSE), MATCH('c_Sources calculations'!K$4, 'r_Capacities and coefficients'!$A$12:$F$12, FALSE))","v":0.6},{"$f":"INDEX('r_Capacities and coefficients'!$A$12:$F$16, MATCH('c_Sources calculations'!$G15, 'r_Capacities and coefficients'!$A$12:$A$16, FALSE), MATCH('c_Sources calculations'!L$4, 'r_Capacities and coefficients'!$A$12:$F$12, FALSE))","v":0.32718186605712235},null,"LNG",1512.9192016310258,1145.7789565068492,1145.7789565068492,916.62316520547938,499.83746277185782,null,"LNG",1512.9192016310258,8020.452695547945,34373.368695205478,83412.708033698626,91470.255687249984,null,"LNG",1512.9192016310258,8020.452695547945,34373.368695205478,83412.708033698626,91470.255687249984,null,"LNG",0,0,0,0,0]
[3,"Continent",{"$f":"VLOOKUP($B16,Interface!$B$10:$E$13,2,0)","v":1},{"$f":"VLOOKUP($B16,Interface!$B$10:$E$13,3,0)","v":0},{"$f":"INDEX('r_Capacities and coefficients'!$A$2:$I$8,MATCH('c_Sources calculations'!B16,'r_Capacities and coefficients'!$A$2:$A$8,FALSE),MATCH(Interface!$D$1,'r_Capacities and coefficients'!$A$2:$I$2,FALSE))","v":1335.5753424657535},null,"Continent",{"$f":"INDEX('r_Capacities and coefficients'!$A$12:$F$16, MATCH('c_Sources calculations'!$G16, 'r_Capacities and coefficients'!$A$12:$A$16, FALSE), MATCH('c_Sources calculations'!H$4, 'r_Capacities and coefficients'!$A$12:$F$12, FALSE))","v":0.80294638087606818},{"$f":"INDEX('r_Capacities and coefficients'!$A$12:$F$16, MATCH('c_Sources calculations'!$G16, 'r_Capacities and coefficients'!$A$12:$A$16, FALSE), MATCH('c_Sources calculations'!I$4, 'r_Capacities and coefficients'!$A$12:$F$12, FALSE))","v":0.80294638087606818},{"$f":"INDEX('r_Capacities and coefficients'!$A$12:$F$16, MATCH('c_Sources calculations'!$G16, 'r_Capacities and coefficients'!$A$12:$A$16, FALSE), MATCH('c_Sources calculations'!J$4, 'r_Capacities and coefficients'!$A$12:$F$12, FALSE))","v":0.56372786359488769},{"$f":"INDEX('r_Capacities and coefficients'!$A$12:$F$16, MATCH('c_Sources calculations'!$G16, 'r_Capacities and coefficients'!$A$12:$A$16, FALSE), MATCH('c_Sources calculations'!K$4, 'r_Capacities and coefficients'!$A$12:$F$12, FALSE))","v":0.32450934631370715},{"$f":"INDEX('r_Capacities and coefficients'!$A$12:$F$16, MATCH('c_Sources calculations'!$G16, 'r_Capacities and coefficients'!$A$12:$A$16, FALSE), MATCH('c_Sources calculations'!L$4, 'r_Capacities and coefficients'!$A$12:$F$12, FALSE))","v":0.17548076923076922},null,"Continent",1072.395387620192,1072.395387620192,752.90103447822969,433.40668133626724,234.36778846153845,null,"Continent",1072.395387620192,7506.7677133413436,22587.031034346892,39440.008001600319,42889.305288461539,null,"Continent",1072.395387620192,7506.7677133413436,22587.031034346892,39440.008001600319,42889.305288461539,null,"Continent",0,0,0,0,0]
[4,"UKCS",{"$f":"VLOOKUP($B17,Interface!$B$10:$E$13,2,0)","v":1},{"$f":"VLOOKUP($B17,Interface!$B$10:$E$13,3,0)","v":0},{"$f":"INDEX('r_Capacities and coefficients'!$A$2:$I$8,MATCH('c_Sources calculations'!B17,'r_Capacities and coefficients'!$A$2:$A$8,FALSE),MATCH(Interface!$D$1,'r_Capacities and coefficients'!$A$2:$I$2,FALSE))","v":1465.5965699999999},null,"UKCS",{"$f":"INDEX('r_Capacities and coefficients'!$A$12:$F$16, MATCH('c_Sources calculations'!$G17, 'r_Capacities and coefficients'!$A$12:$A$16, FALSE), MATCH('c_Sources calculations'!H$4, 'r_Capacities and coefficients'!$A$12:$F$12, FALSE))","v":0.90217391304347827},{"$f":"INDEX('r_Capacities and coefficients'!$A$12:$F$16, MATCH('c_Sources calculations'!$G17, 'r_Capacities and coefficients'!$A$12:$A$16, FALSE), MATCH('c_Sources calculations'!I$4, 'r_Capacities and coefficients'!$A$12:$F$12, FALSE))","v":0.90217391304347827},{"$f":"INDEX('r_Capacities and coefficients'!$A$12:$F$16, MATCH('c_Sources calculations'!$G17, 'r_Capacities and coefficients'!$A$12:$A$16, FALSE), MATCH('c_Sources calculations'!J$4, 'r_Capacities and coefficients'!$A$12:$F$12, FALSE))","v":0.90217391304347827},{"$f":"INDEX('r_Capacities and coefficients'!$A$12:$F$16, MATCH('c_Sources calculations'!$G17, 'r_Capacities and coefficients'!$A$12:$A$16, FALSE), MATCH('c_Sources calculations'!K$4, 'r_Capacities and coefficients'!$A$12:$F$12, FALSE))","v":0.90217391304347827},{"$f":"INDEX('r_Capacities and coefficients'!$A$12:$F$16, MATCH('c_Sources calculations'!$G17, 'r_Capacities and coefficients'!$A$12:$A$16, FALSE), MATCH('c_Sources calculations'!L$4, 'r_Capacities and coefficients'!$A$12:$F$12, FALSE))","v":0.90217391304347827},null,"UKCS",1322.2229924999999,1322.2229924999999,1322.2229924999999,1322.2229924999999,1322.2229924999999,null,"UKCS",1322.2229924999999,9255.5609475000001,39666.689774999999,120322.29231749999,241966.80762749998,null,"UKCS",1322.2229924999999,9255.5609475000001,39666.689774999999,120322.29231749999,241966.80762749998,null,"UKCS",0,0,0,0,0]
[4,"Norway",{"$f":"VLOOKUP($B18,Interface!$B$10:$E$13,2,0)","v":1},{"$f":"VLOOKUP($B18,Interface!$B$10:$E$13,3,0)","v":0},{"$f":"INDEX('r_Capacities and coefficients'!$A$2:$I$8,MATCH('c_Sources calculations'!B18,'r_Capacities and coefficients'!$A$2:$A$8,FALSE),MATCH(Interface!$D$1,'r_Capacities and coefficients'!$A$2:$I$2,FALSE))","v":1419.123},null,"Norway",{"$f":"INDEX('r_Capacities and coefficients'!$A$12:$F$16, MATCH('c_Sources calculations'!$G18, 'r_Capacities and coefficients'!$A$12:$A$16, FALSE), MATCH('c_Sources calculations'!H$4, 'r_Capacities and coefficients'!$A$12:$F$12, FALSE))","v":0.97509541984732828},{"$f":"INDEX('r_Capacities and coefficients'!$A$12:$F$16, MATCH('c_Sources calculations'!$G18, 'r_Capacities and coefficients'!$A$12:$A$16, FALSE), MATCH('c_Sources calculations'!I$4, 'r_Capacities and coefficients'!$A$12:$F$12, FALSE))","v":0.97509541984732828},{"$f":"INDEX('r_Capacities and coefficients'!$A$12:$F$16, MATCH('c_Sources calculations'!$G18, 'r_Capacities and coefficients'!$A$12:$A$16, FALSE), MATCH('c_Sources calculations'!J$4, 'r_Capacities and coefficients'!$A$12:$F$12, FALSE))","v":0.97509541984732828},{"$f":"INDEX('r_Capacities and coefficients'!$A$12:$F$16, MATCH('c_Sources calculations'!$G18, 'r_Capacities and coefficients'!$A$12:$A$16, FALSE), MATCH('c_Sources calculations'!K$4, 'r_Capacities and coefficients'!$A$12:$F$12, FALSE))","v":0.81451612903225812},{"$f":"INDEX('r_Capacities and coefficients'!$A$12:$F$16, MATCH('c_Sources calculations'!$G18, 'r_Capacities and coefficients'!$A$12:$A$16, FALSE), MATCH('c_Sources calculations'!L$4, 'r_Capacities and coefficients'!$A$12:$F$12, FALSE))","v":0.81300813008130079},null,"Norway",1383.7803375000001,1383.7803375000001,1383.7803375000001,1155.8985725806454,1153.7585365853658,null,"Norway",1383.7803375000001,9686.4623625000004,41513.410125000002,105186.77010483872,211137.81219512195,null,"Norway",1383.7803375000001,9686.4623625000004,41513.410125000002,105186.77010483872,211137.81219512195,null,"Norway",0,0,0,0,0]
[4,"LNG",{"$f":"VLOOKUP($B19,Interface!$B$10:$E$13,2,0)","v":1},{"$f":"VLOOKUP($B19,Interface!$B$10:$E$13,3,0)","v":0},{"$f":"INDEX('r_Capacities and coefficients'!$A$2:$I$8,MATCH('c_Sources calculations'!B19,'r_Capacities and coefficients'!$A$2:$A$8,FALSE),MATCH(Interface!$D$1,'r_Capacities and coefficients'!$A$2:$I$2,FALSE))","v":1527.7052753424657},null,"LNG",{"$f":"INDEX('r_Capacities and coefficients'!$A$12:$F$16, MATCH('c_Sources calculations'!$G19, 'r_Capacities and coefficients'!$A$12:$A$16, FALSE), MATCH('c_Sources calculations'!H$4, 'r_Capacities and coefficients'!$A$12:$F$12, FALSE))","v":0.9903213833518214},{"$f":"INDEX('r_Capacities and coefficients'!$A$12:$F$16, MATCH('c_Sources calculations'!$G19, 'r_Capacities and coefficients'!$A$12:$A$16, FALSE), MATCH('c_Sources calculations'!I$4, 'r_Capacities and coefficients'!$A$12:$F$12, FALSE))","v":0.75},{"$f":"INDEX('r_Capacities and coefficients'!$A$12:$F$16, MATCH('c_Sources calculations'!$G19, 'r_Capacities and coefficients'!$A$12:$A$16, FALSE), MATCH('c_Sources calculations'!J$4, 'r_Capacities and coefficients'!$A$12:$F$12, FALSE))","v":0.75},{"$f":"INDEX('r_Capacities and coefficients'!$A$12:$F$16, MATCH('c_Sources calculations'!$G19, 'r_Capacities and coefficients'!$A$12:$A$16, FALSE), MATCH('c_Sources calculations'!K$4, 'r_Capacities and coefficients'!$A$12:$F$12, FALSE))","v":0.6},{"$f":"INDEX('r_Capacities and coefficients'!$A$12:$F$16, MATCH('c_Sources calculations'!$G19, 'r_Capacities and coefficients'!$A$12:$A$16, FALSE), MATCH('c_Sources calculations'!L$4, 'r_Capacities and coefficients'!$A$12:$F$12, FALSE))","v":0.32718186605712235},null,"LNG",1512.9192016310258,1145.7789565068492,1145.7789565068492,916.62316520547938,499.83746277185782,null,"LNG",1512.9192016310258,8020.452695547945,34373.368695205478,83412.708033698626,91470.255687249984,null,"LNG",1512.9192016310258,8020.452695547945,34373.368695205478,83412.708033698626,91470.255687249984,null,"LNG",0,0,0,0,0]
[4,"Continent",{"$f":"VLOOKUP($B20,Interface!$B$10:$E$13,2,0)","v":1},{"$f":"VLOOKUP($B20,Interface!$B$10:$E$13,3,0)","v":0},{"$f":"INDEX('r_Capacities and coefficients'!$A$2:$I$8,MATCH('c_Sources calculations'!B20,'r_Capacities and coefficients'!$A$2:$A$8,FALSE),MATCH(Interface!$D$1,'r_Capacities and coefficients'!$A$2:$I$2,FALSE))","v":1335.5753424657535},null,"Continent",{"$f":"INDEX('r_Capacities and coefficients'!$A$12:$F$16, MATCH('c_Sources calculations'!$G20, 'r_Capacities and coefficients'!$A$12:$A$16, FALSE), MATCH('c_Sources calculations'!H$4, 'r_Capacities and coefficients'!$A$12:$F$12, FALSE))","v":0.80294638087606818},{"$f":"INDEX('r_Capacities and coefficients'!$A$12:$F$16, MATCH('c_Sources calculations'!$G20, 'r_Capacities and coefficients'!$A$12:$A$16, FALSE), MATCH('c_Sources calculations'!I$4, 'r_Capacities and coefficients'!$A$12:$F$12, FALSE))","v":0.80294638087606818},{"$f":"INDEX('r_Capacities and coefficients'!$A$12:$F$16, MATCH('c_Sources calculations'!$G20, 'r_Capacities and coefficients'!$A$12:$A$16, FALSE), MATCH('c_Sources calculations'!J$4, 'r_Capacities and coefficients'!$A$12:$F$12, FALSE))","v":0.56372786359488769},{"$f":"INDEX('r_Capacities and coefficients'!$A$12:$F$16, MATCH('c_Sources calculations'!$G20, 'r_Capacities and coefficients'!$A$12:$A$16, FALSE), MATCH('c_Sources calculations'!K$4, 'r_Capacities and coefficients'!$A$12:$F$12, FALSE))","v":0.32450934631370715},{"$f":"INDEX('r_Capacities and coefficients'!$A$12:$F$16, MATCH('c_Sources calculations'!$G20, 'r_Capacities and coefficients'!$A$12:$A$16, FALSE), MATCH('c_Sources calculations'!L$4, 'r_Capacities and coefficients'!$A$12:$F$12, FALSE))","v":0.17548076923076922},null,"Continent",1072.395387620192,1072.395387620192,752.90103447822969,433.40668133626724,234.36778846153845,null,"Continent",1072.395387620192,7506.7677133413436,22587.031034346892,39440.008001600319,42889.305288461539,null,"Continent",1072.395387620192,7506.7677133413436,22587.031034346892,39440.008001600319,42889.305288461539,null,"Continent",0,0,0,0,0]
[]
[null,null,null,null,null,null,null,null,null,null,null,null,null,null,null,null,null,null,null,null,"N-1",{"$f":"V2*Interface!$E$5","v":0},{"$f":"W2*Interface!$E$5","v":0},{"$f":"X2*Interface!$E$5","v":0},{"$f":"Y2*Interface!$E$5","v":0},{"$f":"Z2*Interface!$E$5","v":0},null,"N-1",{"$f":"AC2*Interface!$E$5","v":0},{"$f":"AD2*Interface!$E$5","v":0},{"$f":"AE2*Interface!$E$5","v":0},{"$f":"AF2*Interface!$E$5","v":0},{"$f":"AG2*Interface!$E$5","v":0}]
[null,null,null,null,null,null,null,null,null,null,null,null,null,null,null,null,null,null,null,null,"N-2",{"$f":"V2*V3*Interface!$G$5","v":0},{"$f":"W2*W3*Interface!$G$5","v":0},{"$f":"X2*X3*Interface!$G$5","v":0},{"$f":"Y2*Y3*Interface!$G$5","v":0},{"$f":"Z2*Z3*Interface!$G$5","v":0},null,"N-2",{"$f":"AC2*AC3*Interface!$G$5","v":0},{"$f":"AD2*AD3*Interface!$G$5","v":0},{"$f":"AE2*AE3*Interface!$G$5","v":0},{"$f":"AF2*AF3*Interface!$G$5","v":0},{"$f":"AG2*AG3*Interface!$G$5","v":0}]
[]
[]
[null,null,null,null,null,null,null,null,null,null,null,null,null,null,null,null,null,null,null,"Season","Quarter","Daily","Weekly","Monthly","Quarterly","Seasonal",null,"Quarter","Daily","Weekly","Monthly","Quarterly","Seasonal",null,"Quarter","Daily","Weekly","Monthly","Quarterly","Seasonal"]
[null,null,null,null,null,null,null,null,null,null,null,null,null,null,null,null,null,null,null,"Winter",1,{"$f":"SUMIF($A$5:$A$20,$U27,V$5:V$20)-V$22-V$23","v":5291.317919251218},34469.243718889287,138140.49962955239,348361.77845763764,587464.18079833337,null,{"$f":"U27","v":1},{"$f":"SUMIF($A$5:$A$20,$U27,AC$5:AC$20)-AC$22-AC$23","v":5291.317919251218},34469.243718889287,138140.49962955239,348361.77845763764,587464.18079833337,null,{"$f":"U27","v":1},{"$f":"SUMIF($A$5:$A$20,$U27,AJ$5:AJ$20)","v":0},0,0,0,0]
[null,null,null,null,null,null,null,null,null,null,null,null,null,null,null,null,null,null,null,"Summer",2,5291.317919251218,34469.243718889287,138140.49962955239,348361.77845763764,587464.18079833337,null,{"$f":"U28","v":2},5291.317919251218,34469.243718889287,138140.49962955239,348361.77845763764,587464.18079833337,null,{"$f":"U28","v":2},0,0,0,0,0]
[null,null,null,null,null,null,null,null,null,null,null,null,null,null,null,null,null,null,null,"Summer",3,5291.317919251218,34469.243718889287,138140.49962955239,348361.77845763764,587464.18079833337,null,3,5291.317919251218,34469.243718889287,138140.49962955239,348361.77845763764,587464.18079833337,null,3,0,0,0,0,0]
[null,null,null,null,null,null,null,null,null,null,null,null,null,null,null,null,null,null,null,"Winter",4,5291.317919251218,34469.243718889287,138140.49962955239,348361.77845763764,587464.18079833337,null,4,5291.317919251218,34469.243718889287,138140.49962955239,348361.77845763764,587464.18079833337,null,4,0,0,0,0,0]

{"sheet":"c_Storage calculations","index":17,"n_rows":116,"n_cols":36,"rows_kept":116,"cut":false,"hidden":false,"merged":[[2,12,2,14],[2,16,2,17],[2,19,2,23],[2,25,2,29],[2,31,2,35]]}
["Storage calculations"]
[]
[null,null,null,null,null,null,null,null,null,null,null,null,"Player's share",null,null,null,"Competitors' share",null,null,"Total storage deliverability ",null,null,null,null,null,"Competitors' storage deliverability",null,null,null,null,null,"Player's injection capability"]
["Quarter","Facility","Delivery","Injection","Space","Type","Included","Player's share","Stock level",null,null,null,"Space","Delivery","Injection",null,"Space","Delivery",null,{"$f":"Interface!J8","v":1},{"$f":"Interface!J9","v":7},{"$f":"Interface!J10","v":30},{"$f":"Interface!J11","v":91},{"$f":"Interface!J12","v":183},null,{"$f":"T4","v":1},{"$f":"U4","v":7},30,91,183,null,{"$f":"T4","v":1},{"$f":"U4","v":7},30,91,183]
["Q","Name","GWh/day","GWh/day","GWh",null,"%","%","%",null,null,null,"GWh","GWh/day","GWh/day",null,"GWh","GWh/day",null,"Daily","Weekly","Monthly","Quarterly","Seasonal",null,"Daily","Weekly","Monthly","Quarterly","Seasonal",null,"Daily","Weekly","Monthly","Quarterly","Seasonal"]
[1,"Rough",{"$f":"VLOOKUP($B6,'r_Storage parameters'!$B:$E,2,0)","v":455},{"$f":"VLOOKUP($B6,'r_Storage parameters'!$B:$E,3,0)","v":238.32599999999999},{"$f":"VLOOKUP($B6,'r_Storage parameters'!$B:$E,4,0)","v":36800},{"$f":"VLOOKUP($B6,Interface!$B$19:$E$44,4,0)","v":"LRS/MRS"},{"$f":"VLOOKUP($B6,Interface!$B$19:$E$44,2,0)","v":1},{"$f":"VLOOKUP($B6,Interface!$B$19:$E$44,3,0)","v":0},{"$f":"HLOOKUP(F6,'c_Storage stock levels(quarter)'!$B$3:$C$7,1+'c_Storage calculations'!A6,0)","v":0.37231353200490491},null,null,null,{"$f":"H6*E6","v":0},{"$f":"H6*C6","v":0},{"$f":"D6*H6","v":0},null,{"$f":"(1-H6)*E6","v":36800},{"$f":"(1-H6)*C6","v":455},null,{"$f":"$G6*MIN(T$4*$C6,$E6*$I6)","v":455},3185,13650,13701.137977780501,13701.137977780501,null,{"$f":"$G6*MIN(Z$4*$R6,$Q6*$I6)","v":455},{"$f":"$G6*MIN(AA$4*$R6,$Q6*$I6)","v":3185},13650,13701.137977780501,13701.137977780501,null,{"$f":"$G6*MIN(AF$4*$O6,$M6*(1-$I6))","v":0},0,0,0,0]
[1,"Hatfield",{"$f":"VLOOKUP($B7,'r_Storage parameters'!$B:$E,2,0)","v":25},{"$f":"VLOOKUP($B7,'r_Storage parameters'!$B:$E,3,0)","v":25},{"$f":"VLOOKUP($B7,'r_Storage parameters'!$B:$E,4,0)","v":1260},{"$f":"VLOOKUP($B7,Interface!$B$19:$E$44,4,0)","v":"LRS/MRS"},{"$f":"VLOOKUP($B7,Interface!$B$19:$E$44,2,0)","v":1},{"$f":"VLOOKUP($B7,Interface!$B$19:$E$44,3,0)","v":0},{"$f":"HLOOKUP(F7,'c_Storage stock levels(quarter)'!$B$3:$C$7,1+'c_Storage calculations'!A7,0)","v":0.37231353200490491},null,null,null,{"$f":"H7*E7","v":0},{"$f":"H7*C7","v":0},{"$f":"D7*H7","v":0},null,{"$f":"(1-H7)*E7","v":1260},{"$f":"(1-H7)*C7","v":25},null,25,175,469.11505032618021,469.11505032618021,469.11505032618021,null,25,175,469.11505032618021,469.11505032618021,469.11505032618021,null,0,0,0,0,0]
[1,"Humbly Grove",{"$f":"VLOOKUP($B8,'r_Storage parameters'!$B:$E,2,0)","v":82},{"$f":"VLOOKUP($B8,'r_Storage parameters'!$B:$E,3,0)","v":90},{"$f":"VLOOKUP($B8,'r_Storage parameters'!$B:$E,4,0)","v":3730},{"$f":"VLOOKUP($B8,Interface!$B$19:$E$44,4,0)","v":"LRS/MRS"},{"$f":"VLOOKUP($B8,Interface!$B$19:$E$44,2,0)","v":1},{"$f":"VLOOKUP($B8,Interface!$B$19:$E$44,3,0)","v":0},{"$f":"HLOOKUP(F8,'c_Storage stock levels(quarter)'!$B$3:$C$7,1+'c_Storage calculations'!A8,0)","v":0.37231353200490491},null,null,null,0,0,0,null,3730,82,null,82,574,1388.7294743782954,1388.7294743782954,1388.7294743782954,null,82,574,1388.7294743782954,1388.7294743782954,1388.7294743782954,null,0,0,0,0,0]
[1,"Hornsea",{"$f":"VLOOKUP($B9,'r_Storage parameters'!$B:$E,2,0)","v":195},{"$f":"VLOOKUP($B9,'r_Storage parameters'!$B:$E,3,0)","v":21.666},{"$f":"VLOOKUP($B9,'r_Storage parameters'!$B:$E,4,0)","v":3496},{"$f":"VLOOKUP($B9,Interface!$B$19:$E$44,4,0)","v":"LRS/MRS"},{"$f":"VLOOKUP($B9,Interface!$B$19:$E$44,2,0)","v":1},{"$f":"VLOOKUP($B9,Interface!$B$19:$E$44,3,0)","v":0},{"$f":"HLOOKUP(F9,'c_Storage stock levels(quarter)'!$B$3:$C$7,1+'c_Storage calculations'!A9,0)","v":0.37231353200490491},null,null,null,0,0,0,null,3496,195,null,195,1301.6081078891475,1301.6081078891475,1301.6081078891475,1301.6081078891475,null,195,1301.6081078891475,1301.6081078891475,1301.6081078891475,1301.6081078891475,null,0,0,0,0,0]
[1,"Holford",{"$f":"VLOOKUP($B10,'r_Storage parameters'!$B:$E,2,0)","v":169},{"$f":"VLOOKUP($B10,'r_Storage parameters'!$B:$E,3,0)","v":169},{"$f":"VLOOKUP($B10,'r_Storage parameters'!$B:$E,4,0)","v":1745},{"$f":"VLOOKUP($B10,Interface!$B$19:$E$44,4,0)","v":"LRS/MRS"},{"$f":"VLOOKUP($B10,Interface!$B$19:$E$44,2,0)","v":1},{"$f":"VLOOKUP($B10,Interface!$B$19:$E$44,3,0)","v":0},{"$f":"HLOOKUP(F10,'c_Storage stock levels(quarter)'!$B$3:$C$7,1+'c_Storage calculations'!A10,0)","v":0.37231353200490491},null,null,null,0,0,0,null,1745,169,null,169,649.68711334855902,649.68711334855902,649.68711334855902,649.68711334855902,null,169,649.68711334855902,649.68711334855902,649.68711334855902,649.68711334855902,null,0,0,0,0,0]
[1,"Aldbrough 1 a",{"$f":"VLOOKUP($B11,'r_Storage parameters'!$B:$E,2,0)","v":105},{"$f":"VLOOKUP($B11,'r_Storage parameters'!$B:$E,3,0)","v":317},{"$f":"VLOOKUP($B11,'r_Storage parameters'!$B:$E,4,0)","v":649.98},{"$f":"VLOOKUP($B11,Interface!$B$19:$E$44,4,0)","v":"LRS/MRS"},{"$f":"VLOOKUP($B11,Interface!$B$19:$E$44,2,0)","v":1},{"$f":"VLOOKUP($B11,Interface!$B$19:$E$44,3,0)","v":0},{"$f":"HLOOKUP(F11,'c_Storage stock levels(quarter)'!$B$3:$C$7,1+'c_Storage calculations'!A11,0)","v":0.37231353200490491},null,null,null,0,0,0,null,649.98,105,null,105,241.99634953254809,241.99634953254809,241.99634953254809,241.99634953254809,null,105,241.99634953254809,241.99634953254809,241.99634953254809,241.99634953254809,null,0,0,0,0,0]
[1,"Aldbrough 1 b",{"$f":"VLOOKUP($B12,'r_Storage parameters'!$B:$E,2,0)","v":316},{"$f":"VLOOKUP($B12,'r_Storage parameters'!$B:$E,3,0)","v":317},{"$f":"VLOOKUP($B12,'r_Storage parameters'!$B:$E,4,0)","v":3264.02},{"$f":"VLOOKUP($B12,Interface!$B$19:$E$44,4,0)","v":"LRS/MRS"},{"$f":"VLOOKUP($B12,Interface!$B$19:$E$44,2,0)","v":1},{"$f":"VLOOKUP($B12,Interface!$B$19:$E$44,3,0)","v":0},{"$f":"HLOOKUP(F12,'c_Storage stock levels(quarter)'!$B$3:$C$7,1+'c_Storage calculations'!A12,0)","v":0.37231353200490491},null,null,null,0,0,0,null,3264.02,316,null,316,1215.2388147346496,1215.2388147346496,1215.2388147346496,1215.2388147346496,null,316,1215.2388147346496,1215.2388147346496,1215.2388147346496,1215.2388147346496,null,0,0,0,0,0]
[1,"Hole House Farm",{"$f":"VLOOKUP($B13,'r_Storage parameters'!$B:$E,2,0)","v":116},{"$f":"VLOOKUP($B13,'r_Storage parameters'!$B:$E,3,0)","v":170},{"$f":"VLOOKUP($B13,'r_Storage parameters'!$B:$E,4,0)","v":650},{"$f":"VLOOKUP($B13,Interface!$B$19:$E$44,4,0)","v":"LRS/MRS"},{"$f":"VLOOKUP($B13,Interface!$B$19:$E$44,2,0)","v":1},{"$f":"VLOOKUP($B13,Interface!$B$19:$E$44,3,0)","v":0},{"$f":"HLOOKUP(F13,'c_Storage stock levels(quarter)'!$B$3:$C$7,1+'c_Storage calculations'!A13,0)","v":0.37231353200490491},null,null,null,0,0,0,null,650,116,null,116,242.00379580318818,242.00379580318818,242.00379580318818,242.00379580318818,null,116,242.00379580318818,242.00379580318818,242.00379580318818,242.00379580318818,null,0,0,0,0,0]
[1,"Hewett",{"$f":"VLOOKUP($B14,'r_Storage parameters'!$B:$E,2,0)","v":454.98599999999999},{"$f":"VLOOKUP($B14,'r_Storage parameters'!$B:$E,3,0)","v":454.98599999999999},{"$f":"VLOOKUP($B14,'r_Storage parameters'!$B:$E,4,0)","v":45498.6},{"$f":"VLOOKUP($B14,Interface!$B$19:$E$44,4,0)","v":"LRS/MRS"},{"$f":"VLOOKUP($B14,Interface!$B$19:$E$44,2,0)","v":0},{"$f":"VLOOKUP($B14,Interface!$B$19:$E$44,3,0)","v":0},{"$f":"HLOOKUP(F14,'c_Storage stock levels(quarter)'!$B$3:$C$7,1+'c_Storage calculations'!A14,0)","v":0.37231353200490491},null,null,null,0,0,0,null,45498.6,454.98599999999999,null,0,0,0,0,0,null,0,0,0,0,0,null,0,0,0,0,0]
[1,"Bains",{"$f":"VLOOKUP($B15,'r_Storage parameters'!$B:$E,2,0)","v":64},{"$f":"VLOOKUP($B15,'r_Storage parameters'!$B:$E,3,0)","v":64},{"$f":"VLOOKUP($B15,'r_Storage parameters'!$B:$E,4,0)","v":2957},{"$f":"VLOOKUP($B15,Interface!$B$19:$E$44,4,0)","v":"LRS/MRS"},{"$f":"VLOOKUP($B15,Interface!$B$19:$E$44,2,0)","v":0},{"$f":"VLOOKUP($B15,Interface!$B$19:$E$44,3,0)","v":0},{"$f":"HLOOKUP(F15,'c_Storage stock levels(quarter)'!$B$3:$C$7,1+'c_Storage calculations'!A15,0)","v":0.37231353200490491},null,null,null,0,0,0,null,2957,64,null,0,0,0,0,0,null,0,0,0,0,0,null,0,0,0,0,0]
[1,"Baird",{"$f":"VLOOKUP($B16,'r_Storage parameters'!$B:$E,2,0)","v":206},{"$f":"VLOOKUP($B16,'r_Storage parameters'!$B:$E,3,0)","v":114},{"$f":"VLOOKUP($B16,'r_Storage parameters'!$B:$E,4,0)","v":10181},{"$f":"VLOOKUP($B16,Interface!$B$19:$E$44,4,0)","v":"LRS/MRS"},{"$f":"VLOOKUP($B16,Interface!$B$19:$E$44,2,0)","v":0},{"$f":"VLOOKUP($B16,Interface!$B$19:$E$44,3,0)","v":0},{"$f":"HLOOKUP(F16,'c_Storage stock levels(quarter)'!$B$3:$C$7,1+'c_Storage calculations'!A16,0)","v":0.37231353200490491},null,null,null,0,0,0,null,10181,206,null,{"$f":"$G16*MIN(T$4*$C16,$E16*$I16)","v":0},0,0,0,0,null,{"$f":"$G16*MIN(Z$4*$R16,$Q16*$I16)","v":0},0,0,0,0,null,{"$f":"$G16*MIN(AF$4*$O16,$M16*(1-$I16))","v":0},0,0,0,0]
[1,"Portland",{"$f":"VLOOKUP($B17,'r_Storage parameters'!$B:$E,2,0)","v":216},{"$f":"VLOOKUP($B17,'r_Storage parameters'!$B:$E,3,0)","v":216},{"$f":"VLOOKUP($B17,'r_Storage parameters'!$B:$E,4,0)","v":10830},{"$f":"VLOOKUP($B17,Interface!$B$19:$E$44,4,0)","v":"LRS/MRS"},{"$f":"VLOOKUP($B17,Interface!$B$19:$E$44,2,0)","v":0},{"$f":"VLOOKUP($B17,Interface!$B$19:$E$44,3,0)","v":0},{"$f":"HLOOKUP(F17,'c_Storage stock levels(quarter)'!$B$3:$C$7,1+'c_Storage calculations'!A17,0)","v":0.37231353200490491},null,null,null,0,0,0,null,10830,216,null,0,0,0,0,0,null,0,0,0,0,0,null,0,0,0,0,0]
[1,"Caythorpe",{"$f":"VLOOKUP($B18,'r_Storage parameters'!$B:$E,2,0)","v":90},{"$f":"VLOOKUP($B18,'r_Storage parameters'!$B:$E,3,0)","v":90},{"$f":"VLOOKUP($B18,'r_Storage parameters'!$B:$E,4,0)","v":1744},{"$f":"VLOOKUP($B18,Interface!$B$19:$E$44,4,0)","v":"LRS/MRS"},{"$f":"VLOOKUP($B18,Interface!$B$19:$E$44,2,0)","v":0},{"$f":"VLOOKUP($B18,Interface!$B$19:$E$44,3,0)","v":0},{"$f":"HLOOKUP(F18,'c_Storage stock levels(quarter)'!$B$3:$C$7,1+'c_Storage calculations'!A18,0)","v":0.37231353200490491},null,null,null,0,0,0,null,1744,90,null,0,0,0,0,0,null,0,0,0,0,0,null,0,0,0,0,0]
[1,"Stublach",{"$f":"VLOOKUP($B19,'r_Storage parameters'!$B:$E,2,0)","v":175},{"$f":"VLOOKUP($B19,'r_Storage parameters'!$B:$E,3,0)","v":175},{"$f":"VLOOKUP($B19,'r_Storage parameters'!$B:$E,4,0)","v":1500},{"$f":"VLOOKUP($B19,Interface!$B$19:$E$44,4,0)","v":"LRS/MRS"},{"$f":"VLOOKUP($B19,Interface!$B$19:$E$44,2,0)","v":1},{"$f":"VLOOKUP($B19,Interface!$B$19:$E$44,3,0)","v":0},{"$f":"HLOOKUP(F19,'c_Storage stock levels(quarter)'!$B$3:$C$7,1+'c_Storage calculations'!A19,0)","v":0.37231353200490491},null,null,null,0,0,0,null,1500,175,null,175,558.47029800735731,558.47029800735731,558.47029800735731,558.47029800735731,null,175,558.47029800735731,558.47029800735731,558.47029800735731,558.47029800735731,null,0,0,0,0,0]
[1,"Hill Top Farm",{"$f":"VLOOKUP($B20,'r_Storage parameters'!$B:$E,2,0)","v":195},{"$f":"VLOOKUP($B20,'r_Storage parameters'!$B:$E,3,0)","v":195},{"$f":"VLOOKUP($B20,'r_Storage parameters'!$B:$E,4,0)","v":1070},{"$f":"VLOOKUP($B20,Interface!$B$19:$E$44,4,0)","v":"LRS/MRS"},{"$f":"VLOOKUP($B20,Interface!$B$19:$E$44,2,0)","v":1},{"$f":"VLOOKUP($B20,Interface!$B$19:$E$44,3,0)","v":0},{"$f":"HLOOKUP(F20,'c_Storage stock levels(quarter)'!$B$3:$C$7,1+'c_Storage calculations'!A20,0)","v":0.37231353200490491},null,null,null,0,0,0,null,1070,195,null,195,398.37547924524824,398.37547924524824,398.37547924524824,398.37547924524824,null,195,398.37547924524824,398.37547924524824,398.37547924524824,398.37547924524824,null,0,0,0,0,0]
[1,"Avonmouth",{"$f":"VLOOKUP($B21,'r_Storage parameters'!$B:$E,2,0)","v":143},{"$f":"VLOOKUP($B21,'r_Storage parameters'!$B:$E,3,0)","v":2.6},{"$f":"VLOOKUP($B21,'r_Storage parameters'!$B:$E,4,0)","v":663},{"$f":"VLOOKUP($B21,Interface!$B$19:$E$44,4,0)","v":"SRS"},{"$f":"VLOOKUP($B21,Interface!$B$19:$E$44,2,0)","v":0},{"$f":"VLOOKUP($B21,Interface!$B$19:$E$44,3,0)","v":0},{"$f":"HLOOKUP(F21,'c_Storage stock levels(quarter)'!$B$3:$C$7,1+'c_Storage calculations'!A21,0)","v":0.5599080373150962},null,null,null,0,0,0,null,663,143,null,0,0,0,0,0,null,0,0,0,0,0,null,0,0,0,0,0]
[1,"Glenmavis",{"$f":"VLOOKUP($B22,'r_Storage parameters'!$B:$E,2,0)","v":92.6},{"$f":"VLOOKUP($B22,'r_Storage parameters'!$B:$E,3,0)","v":3.2},{"$f":"VLOOKUP($B22,'r_Storage parameters'!$B:$E,4,0)","v":385.1},{"$f":"VLOOKUP($B22,Interface!$B$19:$E$44,4,0)","v":"SRS"},{"$f":"VLOOKUP($B22,Interface!$B$19:$E$44,2,0)","v":0},{"$f":"VLOOKUP($B22,Interface!$B$19:$E$44,3,0)","v":0},{"$f":"HLOOKUP(F22,'c_Storage stock levels(quarter)'!$B$3:$C$7,1+'c_Storage calculations'!A22,0)","v":0.5599080373150962},null,null,null,0,0,0,null,385.1,92.6,null,0,0,0,0,0,null,0,0,0,0,0,null,0,0,0,0,0]
[1,"Partington",{"$f":"VLOOKUP($B23,'r_Storage parameters'!$B:$E,2,0)","v":154.19999999999999},{"$f":"VLOOKUP($B23,'r_Storage parameters'!$B:$E,3,0)","v":2.2000000000000002},{"$f":"VLOOKUP($B23,'r_Storage parameters'!$B:$E,4,0)","v":192.1},{"$f":"VLOOKUP($B23,Interface!$B$19:$E$44,4,0)","v":"SRS"},{"$f":"VLOOKUP($B23,Interface!$B$19:$E$44,2,0)","v":0},{"$f":"VLOOKUP($B23,Interface!$B$19:$E$44,3,0)","v":0},{"$f":"HLOOKUP(F23,'c_Storage stock levels(quarter)'!$B$3:$C$7,1+'c_Storage calculations'!A23,0)","v":0.5599080373150962},null,null,null,0,0,0,null,192.1,154.19999999999999,null,0,0,0,0,0,null,0,0,0,0,0,null,0,0,0,0,0]
[1,"Aldbrough 2",{"$f":"VLOOKUP($B24,'r_Storage parameters'!$B:$E,2,0)","v":420},{"$f":"VLOOKUP($B24,'r_Storage parameters'!$B:$E,3,0)","v":317},{"$f":"VLOOKUP($B24,'r_Storage parameters'!$B:$E,4,0)","v":3914},{"$f":"VLOOKUP($B24,Interface!$B$19:$E$44,4,0)","v":"LRS/MRS"},{"$f":"VLOOKUP($B24,Interface!$B$19:$E$44,2,0)","v":0},{"$f":"VLOOKUP($B24,Interface!$B$19:$E$44,3,0)","v":0},{"$f":"HLOOKUP(F24,'c_Storage stock levels(quarter)'!$B$3:$C$7,1+'c_Storage calculations'!A24,0)","v":0.37231353200490491},null,null,null,0,0,0,null,3914,420,null,0,0,0,0,0,null,0,0,0,0,0,null,0,0,0,0,0]
[1,"Whitehill F",{"$f":"VLOOKUP($B25,'r_Storage parameters'!$B:$E,2,0)","v":433},{"$f":"VLOOKUP($B25,'r_Storage parameters'!$B:$E,3,0)","v":317},{"$f":"VLOOKUP($B25,'r_Storage parameters'!$B:$E,4,0)","v":4443},{"$f":"VLOOKUP($B25,Interface!$B$19:$E$44,4,0)","v":"LRS/MRS"},{"$f":"VLOOKUP($B25,Interface!$B$19:$E$44,2,0)","v":0},{"$f":"VLOOKUP($B25,Interface!$B$19:$E$44,3,0)","v":0},{"$f":"HLOOKUP(F25,'c_Storage stock levels(quarter)'!$B$3:$C$7,1+'c_Storage calculations'!A25,0)","v":0.37231353200490491},null,null,null,0,0,0,null,4443,433,null,0,0,0,0,0,null,0,0,0,0,0,null,0,0,0,0,0]
[1,"Holford H165",{"$f":"VLOOKUP($B26,'r_Storage parameters'!$B:$E,2,0)","v":0},{"$f":"VLOOKUP($B26,'r_Storage parameters'!$B:$E,3,0)","v":0},{"$f":"VLOOKUP($B26,'r_Storage parameters'!$B:$E,4,0)","v":0},{"$f":"VLOOKUP($B26,Interface!$B$19:$E$44,4,0)","v":"LRS/MRS"},{"$f":"VLOOKUP($B26,Interface!$B$19:$E$44,2,0)","v":0},{"$f":"VLOOKUP($B26,Interface!$B$19:$E$44,3,0)","v":0},{"$f":"HLOOKUP(F26,'c_Storage stock levels(quarter)'!$B$3:$C$7,1+'c_Storage calculations'!A26,0)","v":0.37231353200490491},null,null,null,0,0,0,null,0,0,null,{"$f":"$G26*MIN(T$4*$C26,$E26*$I26)","v":0},0,0,0,0,null,{"$f":"$G26*MIN(Z$4*$R26,$Q26*$I26)","v":0},0,0,0,0,null,{"$f":"$G26*MIN(AF$4*$O26,$M26*(1-$I26))","v":0},0,0,0,0]
[1,"Saltfleetby",{"$f":"VLOOKUP($B27,'r_Storage parameters'!$B:$E,2,0)","v":85},{"$f":"VLOOKUP($B27,'r_Storage parameters'!$B:$E,3,0)","v":47},{"$f":"VLOOKUP($B27,'r_Storage parameters'!$B:$E,4,0)","v":7650},{"$f":"VLOOKUP($B27,Interface!$B$19:$E$44,4,0)","v":"LRS/MRS"},{"$f":"VLOOKUP($B27,Interface!$B$19:$E$44,2,0)","v":0},{"$f":"VLOOKUP($B27,Interface!$B$19:$E$44,3,0)","v":0},{"$f":"HLOOKUP(F27,'c_Storage stock levels(quarter)'!$B$3:$C$7,1+'c_Storage calculations'!A27,0)","v":0.37231353200490491},null,null,null,0,0,0,null,7650,85,null,0,0,0,0,0,null,0,0,0,0,0,null,0,0,0,0,0]
[1,"Gateway",{"$f":"VLOOKUP($B28,'r_Storage parameters'!$B:$E,2,0)","v":396},{"$f":"VLOOKUP($B28,'r_Storage parameters'!$B:$E,3,0)","v":396},{"$f":"VLOOKUP($B28,'r_Storage parameters'!$B:$E,4,0)","v":15870},{"$f":"VLOOKUP($B28,Interface!$B$19:$E$44,4,0)","v":"LRS/MRS"},{"$f":"VLOOKUP($B28,Interface!$B$19:$E$44,2,0)","v":0},{"$f":"VLOOKUP($B28,Interface!$B$19:$E$44,3,0)","v":0},{"$f":"HLOOKUP(F28,'c_Storage stock levels(quarter)'!$B$3:$C$7,1+'c_Storage calculations'!A28,0)","v":0.37231353200490491},null,null,null,0,0,0,null,15870,396,null,0,0,0,0,0,null,0,0,0,0,0,null,0,0,0,0,0]
[1,"Albury",{"$f":"VLOOKUP($B29,'r_Storage parameters'!$B:$E,2,0)","v":46},{"$f":"VLOOKUP($B29,'r_Storage parameters'!$B:$E,3,0)","v":46},{"$f":"VLOOKUP($B29,'r_Storage parameters'!$B:$E,4,0)","v":1850},{"$f":"VLOOKUP($B29,Interface!$B$19:$E$44,4,0)","v":"LRS/MRS"},{"$f":"VLOOKUP($B29,Interface!$B$19:$E$44,2,0)","v":0},{"$f":"VLOOKUP($B29,Interface!$B$19:$E$44,3,0)","v":0},{"$f":"HLOOKUP(F29,'c_Storage stock levels(quarter)'!$B$3:$C$7,1+'c_Storage calculations'!A29,0)","v":0.37231353200490491},null,null,null,0,0,0,null,1850,46,null,0,0,0,0,0,null,0,0,0,0,0,null,0,0,0,0,0]
[1,"SNS Storage",{"$f":"VLOOKUP($B30,'r_Storage parameters'!$B:$E,2,0)","v":250},{"$f":"VLOOKUP($B30,'r_Storage parameters'!$B:$E,3,0)","v":250},{"$f":"VLOOKUP($B30,'r_Storage parameters'!$B:$E,4,0)","v":22000},{"$f":"VLOOKUP($B30,Interface!$B$19:$E$44,4,0)","v":"LRS/MRS"},{"$f":"VLOOKUP($B30,Interface!$B$19:$E$44,2,0)","v":0},{"$f":"VLOOKUP($B30,Interface!$B$19:$E$44,3,0)","v":0},{"$f":"HLOOKUP(F30,'c_Storage stock levels(quarter)'!$B$3:$C$7,1+'c_Storage calculations'!A30,0)","v":0.37231353200490491},null,null,null,0,0,0,null,22000,250,null,0,0,0,0,0,null,0,0,0,0,0,null,0,0,0,0,0]
[1,"Fleetwood",{"$f":"VLOOKUP($B31,'r_Storage parameters'!$B:$E,2,0)","v":700},{"$f":"VLOOKUP($B31,'r_Storage parameters'!$B:$E,3,0)","v":700},{"$f":"VLOOKUP($B31,'r_Storage parameters'!$B:$E,4,0)","v":12700},{"$f":"VLOOKUP($B31,Interface!$B$19:$E$44,4,0)","v":"LRS/MRS"},{"$f":"VLOOKUP($B31,Interface!$B$19:$E$44,2,0)","v":0},{"$f":"VLOOKUP($B31,Interface!$B$19:$E$44,3,0)","v":0},{"$f":"HLOOKUP(F31,'c_Storage stock levels(quarter)'!$B$3:$C$7,1+'c_Storage calculations'!A31,0)","v":0.37231353200490491},null,null,null,0,0,0,null,12700,700,null,0,0,0,0,0,null,0,0,0,0,0,null,0,0,0,0,0]
[2,"Rough",{"$f":"VLOOKUP($B32,'r_Storage parameters'!$B:$E,2,0)","v":455},{"$f":"VLOOKUP($B32,'r_Storage parameters'!$B:$E,3,0)","v":238.32599999999999},{"$f":"VLOOKUP($B32,'r_Storage parameters'!$B:$E,4,0)","v":36800},{"$f":"VLOOKUP($B32,Interface!$B$19:$E$44,4,0)","v":"LRS/MRS"},{"$f":"VLOOKUP($B32,Interface!$B$19:$E$44,2,0)","v":1},{"$f":"VLOOKUP($B32,Interface!$B$19:$E$44,3,0)","v":0},{"$f":"HLOOKUP(F32,'c_Storage stock levels(quarter)'!$B$3:$C$7,1+'c_Storage calculations'!A32,0)","v":0.36958549050010991},null,null,null,0,0,0,null,36800,455,null,455,3185,13600.746050404045,13600.746050404045,13600.746050404045,null,455,3185,13600.746050404045,13600.746050404045,13600.746050404045,null,0,0,0,0,0]
[2,"Hatfield",{"$f":"VLOOKUP($B33,'r_Storage parameters'!$B:$E,2,0)","v":25},{"$f":"VLOOKUP($B33,'r_Storage parameters'!$B:$E,3,0)","v":25},{"$f":"VLOOKUP($B33,'r_Storage parameters'!$B:$E,4,0)","v":1260},{"$f":"VLOOKUP($B33,Interface!$B$19:$E$44,4,0)","v":"LRS/MRS"},{"$f":"VLOOKUP($B33,Interface!$B$19:$E$44,2,0)","v":1},{"$f":"VLOOKUP($B33,Interface!$B$19:$E$44,3,0)","v":0},{"$f":"HLOOKUP(F33,'c_Storage stock levels(quarter)'!$B$3:$C$7,1+'c_Storage calculations'!A33,0)","v":0.36958549050010991},null,null,null,0,0,0,null,1260,25,null,25,175,465.67771803013846,465.67771803013846,465.67771803013846,null,25,175,465.67771803013846,465.67771803013846,465.67771803013846,null,0,0,0,0,0]
[2,"Humbly Grove",{"$f":"VLOOKUP($B34,'r_Storage parameters'!$B:$E,2,0)","v":82},{"$f":"VLOOKUP($B34,'r_Storage parameters'!$B:$E,3,0)","v":90},{"$f":"VLOOKUP($B34,'r_Storage parameters'!$B:$E,4,0)","v":3730},{"$f":"VLOOKUP($B34,Interface!$B$19:$E$44,4,0)","v":"LRS/MRS"},{"$f":"VLOOKUP($B34,Interface!$B$19:$E$44,2,0)","v":1},{"$f":"VLOOKUP($B34,Interface!$B$19:$E$44,3,0)","v":0},{"$f":"HLOOKUP(F34,'c_Storage stock levels(quarter)'!$B$3:$C$7,1+'c_Storage calculations'!A34,0)","v":0.36958549050010991},null,null,null,0,0,0,null,3730,82,null,82,574,1378.5538795654099,1378.5538795654099,1378.5538795654099,null,82,574,1378.5538795654099,1378.5538795654099,1378.5538795654099,null,0,0,0,0,0]
[2,"Hornsea",{"$f":"VLOOKUP($B35,'r_Storage parameters'!$B:$E,2,0)","v":195},{"$f":"VLOOKUP($B35,'r_Storage parameters'!$B:$E,3,0)","v":21.666},{"$f":"VLOOKUP($B35,'r_Storage parameters'!$B:$E,4,0)","v":3496},{"$f":"VLOOKUP($B35,Interface!$B$19:$E$44,4,0)","v":"LRS/MRS"},{"$f":"VLOOKUP($B35,Interface!$B$19:$E$44,2,0)","v":1},{"$f":"VLOOKUP($B35,Interface!$B$19:$E$44,3,0)","v":0},{"$f":"HLOOKUP(F35,'c_Storage stock levels(quarter)'!$B$3:$C$7,1+'c_Storage calculations'!A35,0)","v":0.36958549050010991},null,null,null,0,0,0,null,3496,195,null,195,1292.0708747883843,1292.0708747883843,1292.0708747883843,1292.0708747883843,null,195,1292.0708747883843,1292.0708747883843,1292.0708747883843,1292.0708747883843,null,0,0,0,0,0]
[2,"Holford",{"$f":"VLOOKUP($B36,'r_Storage parameters'!$B:$E,2,0)","v":169},{"$f":"VLOOKUP($B36,'r_Storage parameters'!$B:$E,3,0)","v":169},{"$f":"VLOOKUP($B36,'r_Storage parameters'!$B:$E,4,0)","v":1745},{"$f":"VLOOKUP($B36,Interface!$B$19:$E$44,4,0)","v":"LRS/MRS"},{"$f":"VLOOKUP($B36,Interface!$B$19:$E$44,2,0)","v":1},{"$f":"VLOOKUP($B36,Interface!$B$19:$E$44,3,0)","v":0},{"$f":"HLOOKUP(F36,'c_Storage stock levels(quarter)'!$B$3:$C$7,1+'c_Storage calculations'!A36,0)","v":0.36958549050010991},null,null,null,0,0,0,null,1745,169,null,{"$f":"$G36*MIN(T$4*$C36,$E36*$I36)","v":169},644.92668092269184,644.92668092269184,644.92668092269184,644.92668092269184,null,{"$f":"$G36*MIN(Z$4*$R36,$Q36*$I36)","v":169},644.92668092269184,644.92668092269184,644.92668092269184,644.92668092269184,null,{"$f":"$G36*MIN(AF$4*$O36,$M36*(1-$I36))","v":0},0,0,0,0]
[2,"Aldbrough 1 a",{"$f":"VLOOKUP($B37,'r_Storage parameters'!$B:$E,2,0)","v":105},{"$f":"VLOOKUP($B37,'r_Storage parameters'!$B:$E,3,0)","v":317},{"$f":"VLOOKUP($B37,'r_Storage parameters'!$B:$E,4,0)","v":649.98},{"$f":"VLOOKUP($B37,Interface!$B$19:$E$44,4,0)","v":"LRS/MRS"},{"$f":"VLOOKUP($B37,Interface!$B$19:$E$44,2,0)","v":1},{"$f":"VLOOKUP($B37,Interface!$B$19:$E$44,3,0)","v":0},{"$f":"HLOOKUP(F37,'c_Storage stock levels(quarter)'!$B$3:$C$7,1+'c_Storage calculations'!A37,0)","v":0.36958549050010991},null,null,null,0,0,0,null,649.98,105,null,105,240.22317711526145,240.22317711526145,240.22317711526145,240.22317711526145,null,105,240.22317711526145,240.22317711526145,240.22317711526145,240.22317711526145,null,0,0,0,0,0]
[2,"Aldbrough 1 b",{"$f":"VLOOKUP($B38,'r_Storage parameters'!$B:$E,2,0)","v":316},{"$f":"VLOOKUP($B38,'r_Storage parameters'!$B:$E,3,0)","v":317},{"$f":"VLOOKUP($B38,'r_Storage parameters'!$B:$E,4,0)","v":3264.02},{"$f":"VLOOKUP($B38,Interface!$B$19:$E$44,4,0)","v":"LRS/MRS"},{"$f":"VLOOKUP($B38,Interface!$B$19:$E$44,2,0)","v":1},{"$f":"VLOOKUP($B38,Interface!$B$19:$E$44,3,0)","v":0},{"$f":"HLOOKUP(F38,'c_Storage stock levels(quarter)'!$B$3:$C$7,1+'c_Storage calculations'!A38,0)","v":0.36958549050010991},null,null,null,0,0,0,null,3264.02,316,null,316,1206.3344327021687,1206.3344327021687,1206.3344327021687,1206.3344327021687,null,316,1206.3344327021687,1206.3344327021687,1206.3344327021687,1206.3344327021687,null,0,0,0,0,0]
[2,"Hole House Farm",{"$f":"VLOOKUP($B39,'r_Storage parameters'!$B:$E,2,0)","v":116},{"$f":"VLOOKUP($B39,'r_Storage parameters'!$B:$E,3,0)","v":170},{"$f":"VLOOKUP($B39,'r_Storage parameters'!$B:$E,4,0)","v":650},{"$f":"VLOOKUP($B39,Interface!$B$19:$E$44,4,0)","v":"LRS/MRS"},{"$f":"VLOOKUP($B39,Interface!$B$19:$E$44,2,0)","v":1},{"$f":"VLOOKUP($B39,Interface!$B$19:$E$44,3,0)","v":0},{"$f":"HLOOKUP(F39,'c_Storage stock levels(quarter)'!$B$3:$C$7,1+'c_Storage calculations'!A39,0)","v":0.36958549050010991},null,null,null,0,0,0,null,650,116,null,116,240.23056882507146,240.23056882507146,240.23056882507146,240.23056882507146,null,116,240.23056882507146,240.23056882507146,240.23056882507146,240.23056882507146,null,0,0,0,0,0]
[2,"Hewett",{"$f":"VLOOKUP($B40,'r_Storage parameters'!$B:$E,2,0)","v":454.98599999999999},{"$f":"VLOOKUP($B40,'r_Storage parameters'!$B:$E,3,0)","v":454.98599999999999},{"$f":"VLOOKUP($B40,'r_Storage parameters'!$B:$E,4,0)","v":45498.6},{"$f":"VLOOKUP($B40,Interface!$B$19:$E$44,4,0)","v":"LRS/MRS"},{"$f":"VLOOKUP($B40,Interface!$B$19:$E$44,2,0)","v":0},{"$f":"VLOOKUP($B40,Interface!$B$19:$E$44,3,0)","v":0},{"$f":"HLOOKUP(F40,'c_Storage stock levels(quarter)'!$B$3:$C$7,1+'c_Storage calculations'!A40,0)","v":0.36958549050010991},null,null,null,0,0,0,null,45498.6,454.98599999999999,null,0,0,0,0,0,null,0,0,0,0,0,null,0,0,0,0,0]
[2,"Bains",{"$f":"VLOOKUP($B41,'r_Storage parameters'!$B:$E,2,0)","v":64},{"$f":"VLOOKUP($B41,'r_Storage parameters'!$B:$E,3,0)","v":64},{"$f":"VLOOKUP($B41,'r_Storage parameters'!$B:$E,4,0)","v":2957},{"$f":"VLOOKUP($B41,Interface!$B$19:$E$44,4,0)","v":"LRS/MRS"},{"$f":"VLOOKUP($B41,Interface!$B$19:$E$44,2,0)","v":0},{"$f":"VLOOKUP($B41,Interface!$B$19:$E$44,3,0)","v":0},{"$f":"HLOOKUP(F41,'c_Storage stock levels(quarter)'!$B$3:$C$7,1+'c_Storage calculations'!A41,0)","v":0.36958549050010991},null,null,null,0,0,0,null,2957,64,null,0,0,0,0,0,null,0,0,0,0,0,null,0,0,0,0,0]
[2,"Baird",{"$f":"VLOOKUP($B42,'r_Storage parameters'!$B:$E,2,0)","v":206},{"$f":"VLOOKUP($B42,'r_Storage parameters'!$B:$E,3,0)","v":114},{"$f":"VLOOKUP($B42,'r_Storage parameters'!$B:$E,4,0)","v":10181},{"$f":"VLOOKUP($B42,Interface!$B$19:$E$44,4,0)","v":"LRS/MRS"},{"$f":"VLOOKUP($B42,Interface!$B$19:$E$44,2,0)","v":0},{"$f":"VLOOKUP($B42,Interface!$B$19:$E$44,3,0)","v":0},{"$f":"HLOOKUP(F42,'c_Storage stock levels(quarter)'!$B$3:$C$7,1+'c_Storage calculations'!A42,0)","v":0.36958549050010991},null,null,null,0,0,0,null,10181,206,null,0,0,0,0,0,null,0,0,0,0,0,null,0,0,0,0,0]
[2,"Portland",{"$f":"VLOOKUP($B43,'r_Storage parameters'!$B:$E,2,0)","v":216},{"$f":"VLOOKUP($B43,'r_Storage parameters'!$B:$E,3,0)","v":216},{"$f":"VLOOKUP($B43,'r_Storage parameters'!$B:$E,4,0)","v":10830},{"$f":"VLOOKUP($B43,Interface!$B$19:$E$44,4,0)","v":"LRS/MRS"},{"$f":"VLOOKUP($B43,Interface!$B$19:$E$44,2,0)","v":0},{"$f":"VLOOKUP($B43,Interface!$B$19:$E$44,3,0)","v":0},{"$f":"HLOOKUP(F43,'c_Storage stock levels(quarter)'!$B$3:$C$7,1+'c_Storage calculations'!A43,0)","v":0.36958549050010991},null,null,null,0,0,0,null,10830,216,null,0,0,0,0,0,null,0,0,0,0,0,null,0,0,0,0,0]
[2,"Caythorpe",{"$f":"VLOOKUP($B44,'r_Storage parameters'!$B:$E,2,0)","v":90},{"$f":"VLOOKUP($B44,'r_Storage parameters'!$B:$E,3,0)","v":90},{"$f":"VLOOKUP($B44,'r_Storage parameters'!$B:$E,4,0)","v":1744},{"$f":"VLOOKUP($B44,Interface!$B$19:$E$44,4,0)","v":"LRS/MRS"},{"$f":"VLOOKUP($B44,Interface!$B$19:$E$44,2,0)","v":0},{"$f":"VLOOKUP($B44,Interface!$B$19:$E$44,3,0)","v":0},{"$f":"HLOOKUP(F44,'c_Storage stock levels(quarter)'!$B$3:$C$7,1+'c_Storage calculations'!A44,0)","v":0.36958549050010991},null,null,null,0,0,0,null,1744,90,null,0,0,0,0,0,null,0,0,0,0,0,null,0,0,0,0,0]
[2,"Stublach",{"$f":"VLOOKUP($B45,'r_Storage parameters'!$B:$E,2,0)","v":175},{"$f":"VLOOKUP($B45,'r_Storage parameters'!$B:$E,3,0)","v":175},{"$f":"VLOOKUP($B45,'r_Storage parameters'!$B:$E,4,0)","v":1500},{"$f":"VLOOKUP($B45,Interface!$B$19:$E$44,4,0)","v":"LRS/MRS"},{"$f":"VLOOKUP($B45,Interface!$B$19:$E$44,2,0)","v":1},{"$f":"VLOOKUP($B45,Interface!$B$19:$E$44,3,0)","v":0},{"$f":"HLOOKUP(F45,'c_Storage stock levels(quarter)'!$B$3:$C$7,1+'c_Storage calculations'!A45,0)","v":0.36958549050010991},null,null,null,0,0,0,null,1500,175,null,175,554.37823575016489,554.37823575016489,554.37823575016489,554.37823575016489,null,175,554.37823575016489,554.37823575016489,554.37823575016489,554.37823575016489,null,0,0,0,0,0]
[2,"Hill Top Farm",{"$f":"VLOOKUP($B46,'r_Storage parameters'!$B:$E,2,0)","v":195},{"$f":"VLOOKUP($B46,'r_Storage parameters'!$B:$E,3,0)","v":195},{"$f":"VLOOKUP($B46,'r_Storage parameters'!$B:$E,4,0)","v":1070},{"$f":"VLOOKUP($B46,Interface!$B$19:$E$44,4,0)","v":"LRS/MRS"},{"$f":"VLOOKUP($B46,Interface!$B$19:$E$44,2,0)","v":1},{"$f":"VLOOKUP($B46,Interface!$B$19:$E$44,3,0)","v":0},{"$f":"HLOOKUP(F46,'c_Storage stock levels(quarter)'!$B$3:$C$7,1+'c_Storage calculations'!A46,0)","v":0.36958549050010991},null,null,null,0,0,0,null,1070,195,null,{"$f":"$G46*MIN(T$4*$C46,$E46*$I46)","v":195},395.4564748351176,395.4564748351176,395.4564748351176,395.4564748351176,null,{"$f":"$G46*MIN(Z$4*$R46,$Q46*$I46)","v":195},395.4564748351176,395.4564748351176,395.4564748351176,395.4564748351176,null,{"$f":"$G46*MIN(AF$4*$O46,$M46*(1-$I46))","v":0},0,0,0,0]
[2,"Avonmouth",{"$f":"VLOOKUP($B47,'r_Storage parameters'!$B:$E,2,0)","v":143},{"$f":"VLOOKUP($B47,'r_Storage parameters'!$B:$E,3,0)","v":2.6},{"$f":"VLOOKUP($B47,'r_Storage parameters'!$B:$E,4,0)","v":663},{"$f":"VLOOKUP($B47,Interface!$B$19:$E$44,4,0)","v":"SRS"},{"$f":"VLOOKUP($B47,Interface!$B$19:$E$44,2,0)","v":0},{"$f":"VLOOKUP($B47,Interface!$B$19:$E$44,3,0)","v":0},{"$f":"HLOOKUP(F47,'c_Storage stock levels(quarter)'!$B$3:$C$7,1+'c_Storage calculations'!A47,0)","v":0.44731451520650184},null,null,null,0,0,0,null,663,143,null,0,0,0,0,0,null,0,0,0,0,0,null,0,0,0,0,0]
[2,"Glenmavis",{"$f":"VLOOKUP($B48,'r_Storage parameters'!$B:$E,2,0)","v":92.6},{"$f":"VLOOKUP($B48,'r_Storage parameters'!$B:$E,3,0)","v":3.2},{"$f":"VLOOKUP($B48,'r_Storage parameters'!$B:$E,4,0)","v":385.1},{"$f":"VLOOKUP($B48,Interface!$B$19:$E$44,4,0)","v":"SRS"},{"$f":"VLOOKUP($B48,Interface!$B$19:$E$44,2,0)","v":0},{"$f":"VLOOKUP($B48,Interface!$B$19:$E$44,3,0)","v":0},{"$f":"HLOOKUP(F48,'c_Storage stock levels(quarter)'!$B$3:$C$7,1+'c_Storage calculations'!A48,0)","v":0.44731451520650184},null,null,null,0,0,0,null,385.1,92.6,null,0,0,0,0,0,null,0,0,0,0,0,null,0,0,0,0,0]
[2,"Partington",{"$f":"VLOOKUP($B49,'r_Storage parameters'!$B:$E,2,0)","v":154.19999999999999},{"$f":"VLOOKUP($B49,'r_Storage parameters'!$B:$E,3,0)","v":2.2000000000000002},{"$f":"VLOOKUP($B49,'r_Storage parameters'!$B:$E,4,0)","v":192.1},{"$f":"VLOOKUP($B49,Interface!$B$19:$E$44,4,0)","v":"SRS"},{"$f":"VLOOKUP($B49,Interface!$B$19:$E$44,2,0)","v":0},{"$f":"VLOOKUP($B49,Interface!$B$19:$E$44,3,0)","v":0},{"$f":"HLOOKUP(F49,'c_Storage stock levels(quarter)'!$B$3:$C$7,1+'c_Storage calculations'!A49,0)","v":0.44731451520650184},null,null,null,0,0,0,null,192.1,154.19999999999999,null,0,0,0,0,0,null,0,0,0,0,0,null,0,0,0,0,0]
[2,"Aldbrough 2",{"$f":"VLOOKUP($B50,'r_Storage parameters'!$B:$E,2,0)","v":420},{"$f":"VLOOKUP($B50,'r_Storage parameters'!$B:$E,3,0)","v":317},{"$f":"VLOOKUP($B50,'r_Storage parameters'!$B:$E,4,0)","v":3914},{"$f":"VLOOKUP($B50,Interface!$B$19:$E$44,4,0)","v":"LRS/MRS"},{"$f":"VLOOKUP($B50,Interface!$B$19:$E$44,2,0)","v":0},{"$f":"VLOOKUP($B50,Interface!$B$19:$E$44,3,0)","v":0},{"$f":"HLOOKUP(F50,'c_Storage stock levels(quarter)'!$B$3:$C$7,1+'c_Storage calculations'!A50,0)","v":0.36958549050010991},null,null,null,0,0,0,null,3914,420,null,0,0,0,0,0,null,0,0,0,0,0,null,0,0,0,0,0]
[2,"Whitehill F",{"$f":"VLOOKUP($B51,'r_Storage parameters'!$B:$E,2,0)","v":433},{"$f":"VLOOKUP($B51,'r_Storage parameters'!$B:$E,3,0)","v":317},{"$f":"VLOOKUP($B51,'r_Storage parameters'!$B:$E,4,0)","v":4443},{"$f":"VLOOKUP($B51,Interface!$B$19:$E$44,4,0)","v":"LRS/MRS"},{"$f":"VLOOKUP($B51,Interface!$B$19:$E$44,2,0)","v":0},{"$f":"VLOOKUP($B51,Interface!$B$19:$E$44,3,0)","v":0},{"$f":"HLOOKUP(F51,'c_Storage stock levels(quarter)'!$B$3:$C$7,1+'c_Storage calculations'!A51,0)","v":0.36958549050010991},null,null,null,0,0,0,null,4443,433,null,0,0,0,0,0,null,0,0,0,0,0,null,0,0,0,0,0]
[2,"Holford H165",{"$f":"VLOOKUP($B52,'r_Storage parameters'!$B:$E,2,0)","v":0},{"$f":"VLOOKUP($B52,'r_Storage parameters'!$B:$E,3,0)","v":0},{"$f":"VLOOKUP($B52,'r_Storage parameters'!$B:$E,4,0)","v":0},{"$f":"VLOOKUP($B52,Interface!$B$19:$E$44,4,0)","v":"LRS/MRS"},{"$f":"VLOOKUP($B52,Interface!$B$19:$E$44,2,0)","v":0},{"$f":"VLOOKUP($B52,Interface!$B$19:$E$44,3,0)","v":0},{"$f":"HLOOKUP(F52,'c_Storage stock levels(quarter)'!$B$3:$C$7,1+'c_Storage calculations'!A52,0)","v":0.36958549050010991},null,null,null,0,0,0,null,0,0,null,0,0,0,0,0,null,0,0,0,0,0,null,0,0,0,0,0]
[2,"Saltfleetby",{"$f":"VLOOKUP($B53,'r_Storage parameters'!$B:$E,2,0)","v":85},{"$f":"VLOOKUP($B53,'r_Storage parameters'!$B:$E,3,0)","v":47},{"$f":"VLOOKUP($B53,'r_Storage parameters'!$B:$E,4,0)","v":7650},{"$f":"VLOOKUP($B53,Interface!$B$19:$E$44,4,0)","v":"LRS/MRS"},{"$f":"VLOOKUP($B53,Interface!$B$19:$E$44,2,0)","v":0},{"$f":"VLOOKUP($B53,Interface!$B$19:$E$44,3,0)","v":0},{"$f":"HLOOKUP(F53,'c_Storage stock levels(quarter)'!$B$3:$C$7,1+'c_Storage calculations'!A53,0)","v":0.36958549050010991},null,null,null,0,0,0,null,7650,85,null,0,0,0,0,0,null,0,0,0,0,0,null,0,0,0,0,0]
[2,"Gateway",{"$f":"VLOOKUP($B54,'r_Storage parameters'!$B:$E,2,0)","v":396},{"$f":"VLOOKUP($B54,'r_Storage parameters'!$B:$E,3,0)","v":396},{"$f":"VLOOKUP($B54,'r_Storage parameters'!$B:$E,4,0)","v":15870},{"$f":"VLOOKUP($B54,Interface!$B$19:$E$44,4,0)","v":"LRS/MRS"},{"$f":"VLOOKUP($B54,Interface!$B$19:$E$44,2,0)","v":0},{"$f":"VLOOKUP($B54,Interface!$B$19:$E$44,3,0)","v":0},{"$f":"HLOOKUP(F54,'c_Storage stock levels(quarter)'!$B$3:$C$7,1+'c_Storage calculations'!A54,0)","v":0.36958549050010991},null,null,null,0,0,0,null,15870,396,null,0,0,0,0,0,null,0,0,0,0,0,null,0,0,0,0,0]
[2,"Albury",{"$f":"VLOOKUP($B55,'r_Storage parameters'!$B:$E,2,0)","v":46},{"$f":"VLOOKUP($B55,'r_Storage parameters'!$B:$E,3,0)","v":46},{"$f":"VLOOKUP($B55,'r_Storage parameters'!$B:$E,4,0)","v":1850},{"$f":"VLOOKUP($B55,Interface!$B$19:$E$44,4,0)","v":"LRS/MRS"},{"$f":"VLOOKUP($B55,Interface!$B$19:$E$44,2,0)","v":0},{"$f":"VLOOKUP($B55,Interface!$B$19:$E$44,3,0)","v":0},{"$f":"HLOOKUP(F55,'c_Storage stock levels(quarter)'!$B$3:$C$7,1+'c_Storage calculations'!A55,0)","v":0.36958549050010991},null,null,null,0,0,0,null,1850,46,null,0,0,0,0,0,null,0,0,0,0,0,null,0,0,0,0,0]
[2,"SNS Storage",{"$f":"VLOOKUP($B56,'r_Storage parameters'!$B:$E,2,0)","v":250},{"$f":"VLOOKUP($B56,'r_Storage parameters'!$B:$E,3,0)","v":250},{"$f":"VLOOKUP($B56,'r_Storage parameters'!$B:$E,4,0)","v":22000},{"$f":"VLOOKUP($B56,Interface!$B$19:$E$44,4,0)","v":"LRS/MRS"},{"$f":"VLOOKUP($B56,Interface!$B$19:$E$44,2,0)","v":0},{"$f":"VLOOKUP($B56,Interface!$B$19:$E$44,3,0)","v":0},{"$f":"HLOOKUP(F56,'c_Storage stock levels(quarter)'!$B$3:$C$7,1+'c_Storage calculations'!A56,0)","v":0.36958549050010991},null,null,null,0,0,0,null,22000,250,null,{"$f":"$G56*MIN(T$4*$C56,$E56*$I56)","v":0},0,0,0,0,null,{"$f":"$G56*MIN(Z$4*$R56,$Q56*$I56)","v":0},0,0,0,0,null,{"$f":"$G56*MIN(AF$4*$O56,$M56*(1-$I56))","v":0},0,0,0,0]
[2,"Fleetwood",{"$f":"VLOOKUP($B57,'r_Storage parameters'!$B:$E,2,0)","v":700},{"$f":"VLOOKUP($B57,'r_Storage parameters'!$B:$E,3,0)","v":700},{"$f":"VLOOKUP($B57,'r_Storage parameters'!$B:$E,4,0)","v":12700},{"$f":"VLOOKUP($B57,Interface!$B$19:$E$44,4,0)","v":"LRS/MRS"},{"$f":"VLOOKUP($B57,Interface!$B$19:$E$44,2,0)","v":0},{"$f":"VLOOKUP($B57,Interface!$B$19:$E$44,3,0)","v":0},{"$f":"HLOOKUP(F57,'c_Storage stock levels(quarter)'!$B$3:$C$7,1+'c_Storage calculations'!A57,0)","v":0.36958549050010991},null,null,null,0,0,0,null,12700,700,null,0,0,0,0,0,null,0,0,0,0,0,null,0,0,0,0,0]
[3,"Rough",{"$f":"VLOOKUP($B58,'r_Storage parameters'!$B:$E,2,0)","v":455},{"$f":"VLOOKUP($B58,'r_Storage parameters'!$B:$E,3,0)","v":238.32599999999999},{"$f":"VLOOKUP($B58,'r_Storage parameters'!$B:$E,4,0)","v":36800},{"$f":"VLOOKUP($B58,Interface!$B$19:$E$44,4,0)","v":"LRS/MRS"},{"$f":"VLOOKUP($B58,Interface!$B$19:$E$44,2,0)","v":1},{"$f":"VLOOKUP($B58,Interface!$B$19:$E$44,3,0)","v":0},{"$f":"HLOOKUP(F58,'c_Storage stock levels(quarter)'!$B$3:$C$7,1+'c_Storage calculations'!A58,0)","v":0.80661021763395913},null,null,null,0,0,0,null,36800,455,null,455,3185,13650,29683.256008929697,29683.256008929697,null,455,3185,13650,29683.256008929697,29683.256008929697,null,0,0,0,0,0]
[3,"Hatfield",{"$f":"VLOOKUP($B59,'r_Storage parameters'!$B:$E,2,0)","v":25},{"$f":"VLOOKUP($B59,'r_Storage parameters'!$B:$E,3,0)","v":25},{"$f":"VLOOKUP($B59,'r_Storage parameters'!$B:$E,4,0)","v":1260},{"$f":"VLOOKUP($B59,Interface!$B$19:$E$44,4,0)","v":"LRS/MRS"},{"$f":"VLOOKUP($B59,Interface!$B$19:$E$44,2,0)","v":1},{"$f":"VLOOKUP($B59,Interface!$B$19:$E$44,3,0)","v":0},{"$f":"HLOOKUP(F59,'c_Storage stock levels(quarter)'!$B$3:$C$7,1+'c_Storage calculations'!A59,0)","v":0.80661021763395913},null,null,null,0,0,0,null,1260,25,null,25,175,750,1016.3288742187885,1016.3288742187885,null,25,175,750,1016.3288742187885,1016.3288742187885,null,0,0,0,0,0]
[3,"Humbly Grove",{"$f":"VLOOKUP($B60,'r_Storage parameters'!$B:$E,2,0)","v":82},{"$f":"VLOOKUP($B60,'r_Storage parameters'!$B:$E,3,0)","v":90},{"$f":"VLOOKUP($B60,'r_Storage parameters'!$B:$E,4,0)","v":3730},{"$f":"VLOOKUP($B60,Interface!$B$19:$E$44,4,0)","v":"LRS/MRS"},{"$f":"VLOOKUP($B60,Interface!$B$19:$E$44,2,0)","v":1},{"$f":"VLOOKUP($B60,Interface!$B$19:$E$44,3,0)","v":0},{"$f":"HLOOKUP(F60,'c_Storage stock levels(quarter)'!$B$3:$C$7,1+'c_Storage calculations'!A60,0)","v":0.80661021763395913},null,null,null,0,0,0,null,3730,82,null,82,574,2460,3008.6561117746674,3008.6561117746674,null,82,574,2460,3008.6561117746674,3008.6561117746674,null,0,0,0,0,0]
[3,"Hornsea",{"$f":"VLOOKUP($B61,'r_Storage parameters'!$B:$E,2,0)","v":195},{"$f":"VLOOKUP($B61,'r_Storage parameters'!$B:$E,3,0)","v":21.666},{"$f":"VLOOKUP($B61,'r_Storage parameters'!$B:$E,4,0)","v":3496},{"$f":"VLOOKUP($B61,Interface!$B$19:$E$44,4,0)","v":"LRS/MRS"},{"$f":"VLOOKUP($B61,Interface!$B$19:$E$44,2,0)","v":1},{"$f":"VLOOKUP($B61,Interface!$B$19:$E$44,3,0)","v":0},{"$f":"HLOOKUP(F61,'c_Storage stock levels(quarter)'!$B$3:$C$7,1+'c_Storage calculations'!A61,0)","v":0.80661021763395913},null,null,null,0,0,0,null,3496,195,null,195,1365,2819.9093208483209,2819.9093208483209,2819.9093208483209,null,195,1365,2819.9093208483209,2819.9093208483209,2819.9093208483209,null,0,0,0,0,0]
[3,"Holford",{"$f":"VLOOKUP($B62,'r_Storage parameters'!$B:$E,2,0)","v":169},{"$f":"VLOOKUP($B62,'r_Storage parameters'!$B:$E,3,0)","v":169},{"$f":"VLOOKUP($B62,'r_Storage parameters'!$B:$E,4,0)","v":1745},{"$f":"VLOOKUP($B62,Interface!$B$19:$E$44,4,0)","v":"LRS/MRS"},{"$f":"VLOOKUP($B62,Interface!$B$19:$E$44,2,0)","v":1},{"$f":"VLOOKUP($B62,Interface!$B$19:$E$44,3,0)","v":0},{"$f":"HLOOKUP(F62,'c_Storage stock levels(quarter)'!$B$3:$C$7,1+'c_Storage calculations'!A62,0)","v":0.80661021763395913},null,null,null,0,0,0,null,1745,169,null,169,1183,1407.5348297712587,1407.5348297712587,1407.5348297712587,null,169,1183,1407.5348297712587,1407.5348297712587,1407.5348297712587,null,0,0,0,0,0]
[3,"Aldbrough 1 a",{"$f":"VLOOKUP($B63,'r_Storage parameters'!$B:$E,2,0)","v":105},{"$f":"VLOOKUP($B63,'r_Storage parameters'!$B:$E,3,0)","v":317},{"$f":"VLOOKUP($B63,'r_Storage parameters'!$B:$E,4,0)","v":649.98},{"$f":"VLOOKUP($B63,Interface!$B$19:$E$44,4,0)","v":"LRS/MRS"},{"$f":"VLOOKUP($B63,Interface!$B$19:$E$44,2,0)","v":1},{"$f":"VLOOKUP($B63,Interface!$B$19:$E$44,3,0)","v":0},{"$f":"HLOOKUP(F63,'c_Storage stock levels(quarter)'!$B$3:$C$7,1+'c_Storage calculations'!A63,0)","v":0.80661021763395913},null,null,null,0,0,0,null,649.98,105,null,105,524.28050925772072,524.28050925772072,524.28050925772072,524.28050925772072,null,105,524.28050925772072,524.28050925772072,524.28050925772072,524.28050925772072,null,0,0,0,0,0]
[3,"Aldbrough 1 b",{"$f":"VLOOKUP($B64,'r_Storage parameters'!$B:$E,2,0)","v":316},{"$f":"VLOOKUP($B64,'r_Storage parameters'!$B:$E,3,0)","v":317},{"$f":"VLOOKUP($B64,'r_Storage parameters'!$B:$E,4,0)","v":3264.02},{"$f":"VLOOKUP($B64,Interface!$B$19:$E$44,4,0)","v":"LRS/MRS"},{"$f":"VLOOKUP($B64,Interface!$B$19:$E$44,2,0)","v":1},{"$f":"VLOOKUP($B64,Interface!$B$19:$E$44,3,0)","v":0},{"$f":"HLOOKUP(F64,'c_Storage stock levels(quarter)'!$B$3:$C$7,1+'c_Storage calculations'!A64,0)","v":0.80661021763395913},null,null,null,0,0,0,null,3264.02,316,null,316,2212,2632.7918825615952,2632.7918825615952,2632.7918825615952,null,316,2212,2632.7918825615952,2632.7918825615952,2632.7918825615952,null,0,0,0,0,0]
[3,"Hole House Farm",{"$f":"VLOOKUP($B65,'r_Storage parameters'!$B:$E,2,0)","v":116},{"$f":"VLOOKUP($B65,'r_Storage parameters'!$B:$E,3,0)","v":170},{"$f":"VLOOKUP($B65,'r_Storage parameters'!$B:$E,4,0)","v":650},{"$f":"VLOOKUP($B65,Interface!$B$19:$E$44,4,0)","v":"LRS/MRS"},{"$f":"VLOOKUP($B65,Interface!$B$19:$E$44,2,0)","v":1},{"$f":"VLOOKUP($B65,Interface!$B$19:$E$44,3,0)","v":0},{"$f":"HLOOKUP(F65,'c_Storage stock levels(quarter)'!$B$3:$C$7,1+'c_Storage calculations'!A65,0)","v":0.80661021763395913},null,null,null,0,0,0,null,650,116,null,116,524.29664146207347,524.29664146207347,524.29664146207347,524.29664146207347,null,116,524.29664146207347,524.29664146207347,524.29664146207347,524.29664146207347,null,0,0,0,0,0]
[3,"Hewett",{"$f":"VLOOKUP($B66,'r_Storage parameters'!$B:$E,2,0)","v":454.98599999999999},{"$f":"VLOOKUP($B66,'r_Storage parameters'!$B:$E,3,0)","v":454.98599999999999},{"$f":"VLOOKUP($B66,'r_Storage parameters'!$B:$E,4,0)","v":45498.6},{"$f":"VLOOKUP($B66,Interface!$B$19:$E$44,4,0)","v":"LRS/MRS"},{"$f":"VLOOKUP($B66,Interface!$B$19:$E$44,2,0)","v":0},{"$f":"VLOOKUP($B66,Interface!$B$19:$E$44,3,0)","v":0},{"$f":"HLOOKUP(F66,'c_Storage stock levels(quarter)'!$B$3:$C$7,1+'c_Storage calculations'!A66,0)","v":0.80661021763395913},null,null,null,0,0,0,null,45498.6,454.98599999999999,null,{"$f":"$G66*MIN(T$4*$C66,$E66*$I66)","v":0},0,0,0,0,null,{"$f":"$G66*MIN(Z$4*$R66,$Q66*$I66)","v":0},0,0,0,0,null,{"$f":"$G66*MIN(AF$4*$O66,$M66*(1-$I66))","v":0},0,0,0,0]
[3,"Bains",{"$f":"VLOOKUP($B67,'r_Storage parameters'!$B:$E,2,0)","v":64},{"$f":"VLOOKUP($B67,'r_Storage parameters'!$B:$E,3,0)","v":64},{"$f":"VLOOKUP($B67,'r_Storage parameters'!$B:$E,4,0)","v":2957},{"$f":"VLOOKUP($B67,Interface!$B$19:$E$44,4,0)","v":"LRS/MRS"},{"$f":"VLOOKUP($B67,Interface!$B$19:$E$44,2,0)","v":0},{"$f":"VLOOKUP($B67,Interface!$B$19:$E$44,3,0)","v":0},{"$f":"HLOOKUP(F67,'c_Storage stock levels(quarter)'!$B$3:$C$7,1+'c_Storage calculations'!A67,0)","v":0.80661021763395913},null,null,null,0,0,0,null,2957,64,null,0,0,0,0,0,null,0,0,0,0,0,null,0,0,0,0,0]
[3,"Baird",{"$f":"VLOOKUP($B68,'r_Storage parameters'!$B:$E,2,0)","v":206},{"$f":"VLOOKUP($B68,'r_Storage parameters'!$B:$E,3,0)","v":114},{"$f":"VLOOKUP($B68,'r_Storage parameters'!$B:$E,4,0)","v":10181},{"$f":"VLOOKUP($B68,Interface!$B$19:$E$44,4,0)","v":"LRS/MRS"},{"$f":"VLOOKUP($B68,Interface!$B$19:$E$44,2,0)","v":0},{"$f":"VLOOKUP($B68,Interface!$B$19:$E$44,3,0)","v":0},{"$f":"HLOOKUP(F68,'c_Storage stock levels(quarter)'!$B$3:$C$7,1+'c_Storage calculations'!A68,0)","v":0.80661021763395913},null,null,null,0,0,0,null,10181,206,null,0,0,0,0,0,null,0,0,0,0,0,null,0,0,0,0,0]
[3,"Portland",{"$f":"VLOOKUP($B69,'r_Storage parameters'!$B:$E,2,0)","v":216},{"$f":"VLOOKUP($B69,'r_Storage parameters'!$B:$E,3,0)","v":216},{"$f":"VLOOKUP($B69,'r_Storage parameters'!$B:$E,4,0)","v":10830},{"$f":"VLOOKUP($B69,Interface!$B$19:$E$44,4,0)","v":"LRS/MRS"},{"$f":"VLOOKUP($B69,Interface!$B$19:$E$44,2,0)","v":0},{"$f":"VLOOKUP($B69,Interface!$B$19:$E$44,3,0)","v":0},{"$f":"HLOOKUP(F69,'c_Storage stock levels(quarter)'!$B$3:$C$7,1+'c_Storage calculations'!A69,0)","v":0.80661021763395913},null,null,null,0,0,0,null,10830,216,null,0,0,0,0,0,null,0,0,0,0,0,null,0,0,0,0,0]
[3,"Caythorpe",{"$f":"VLOOKUP($B70,'r_Storage parameters'!$B:$E,2,0)","v":90},{"$f":"VLOOKUP($B70,'r_Storage parameters'!$B:$E,3,0)","v":90},{"$f":"VLOOKUP($B70,'r_Storage parameters'!$B:$E,4,0)","v":1744},{"$f":"VLOOKUP($B70,Interface!$B$19:$E$44,4,0)","v":"LRS/MRS"},{"$f":"VLOOKUP($B70,Interface!$B$19:$E$44,2,0)","v":0},{"$f":"VLOOKUP($B70,Interface!$B$19:$E$44,3,0)","v":0},{"$f":"HLOOKUP(F70,'c_Storage stock levels(quarter)'!$B$3:$C$7,1+'c_Storage calculations'!A70,0)","v":0.80661021763395913},null,null,null,0,0,0,null,1744,90,null,0,0,0,0,0,null,0,0,0,0,0,null,0,0,0,0,0]
[3,"Stublach",{"$f":"VLOOKUP($B71,'r_Storage parameters'!$B:$E,2,0)","v":175},{"$f":"VLOOKUP($B71,'r_Storage parameters'!$B:$E,3,0)","v":175},{"$f":"VLOOKUP($B71,'r_Storage parameters'!$B:$E,4,0)","v":1500},{"$f":"VLOOKUP($B71,Interface!$B$19:$E$44,4,0)","v":"LRS/MRS"},{"$f":"VLOOKUP($B71,Interface!$B$19:$E$44,2,0)","v":1},{"$f":"VLOOKUP($B71,Interface!$B$19:$E$44,3,0)","v":0},{"$f":"HLOOKUP(F71,'c_Storage stock levels(quarter)'!$B$3:$C$7,1+'c_Storage calculations'!A71,0)","v":0.80661021763395913},null,null,null,{"$f":"H71*E71","v":0},{"$f":"H71*C71","v":0},{"$f":"D71*H71","v":0},null,{"$f":"(1-H71)*E71","v":1500},{"$f":"(1-H71)*C71","v":175},null,175,1209.9153264509387,1209.9153264509387,1209.9153264509387,1209.9153264509387,null,175,1209.9153264509387,1209.9153264509387,1209.9153264509387,1209.9153264509387,null,0,0,0,0,0]
[3,"Hill Top Farm",{"$f":"VLOOKUP($B72,'r_Storage parameters'!$B:$E,2,0)","v":195},{"$f":"VLOOKUP($B72,'r_Storage parameters'!$B:$E,3,0)","v":195},{"$f":"VLOOKUP($B72,'r_Storage parameters'!$B:$E,4,0)","v":1070},{"$f":"VLOOKUP($B72,Interface!$B$19:$E$44,4,0)","v":"LRS/MRS"},{"$f":"VLOOKUP($B72,Interface!$B$19:$E$44,2,0)","v":1},{"$f":"VLOOKUP($B72,Interface!$B$19:$E$44,3,0)","v":0},{"$f":"HLOOKUP(F72,'c_Storage stock levels(quarter)'!$B$3:$C$7,1+'c_Storage calculations'!A72,0)","v":0.80661021763395913},null,null,null,0,0,0,null,1070,195,null,195,863.07293286833624,863.07293286833624,863.07293286833624,863.07293286833624,null,195,863.07293286833624,863.07293286833624,863.07293286833624,863.07293286833624,null,0,0,0,0,0]
[3,"Avonmouth",{"$f":"VLOOKUP($B73,'r_Storage parameters'!$B:$E,2,0)","v":143},{"$f":"VLOOKUP($B73,'r_Storage parameters'!$B:$E,3,0)","v":2.6},{"$f":"VLOOKUP($B73,'r_Storage parameters'!$B:$E,4,0)","v":663},{"$f":"VLOOKUP($B73,Interface!$B$19:$E$44,4,0)","v":"SRS"},{"$f":"VLOOKUP($B73,Interface!$B$19:$E$44,2,0)","v":0},{"$f":"VLOOKUP($B73,Interface!$B$19:$E$44,3,0)","v":0},{"$f":"HLOOKUP(F73,'c_Storage stock levels(quarter)'!$B$3:$C$7,1+'c_Storage calculations'!A73,0)","v":0.39217974103179626},null,null,null,0,0,0,null,663,143,null,0,0,0,0,0,null,0,0,0,0,0,null,0,0,0,0,0]
[3,"Glenmavis",{"$f":"VLOOKUP($B74,'r_Storage parameters'!$B:$E,2,0)","v":92.6},{"$f":"VLOOKUP($B74,'r_Storage parameters'!$B:$E,3,0)","v":3.2},{"$f":"VLOOKUP($B74,'r_Storage parameters'!$B:$E,4,0)","v":385.1},{"$f":"VLOOKUP($B74,Interface!$B$19:$E$44,4,0)","v":"SRS"},{"$f":"VLOOKUP($B74,Interface!$B$19:$E$44,2,0)","v":0},{"$f":"VLOOKUP($B74,Interface!$B$19:$E$44,3,0)","v":0},{"$f":"HLOOKUP(F74,'c_Storage stock levels(quarter)'!$B$3:$C$7,1+'c_Storage calculations'!A74,0)","v":0.39217974103179626},null,null,null,0,0,0,null,385.1,92.6,null,0,0,0,0,0,null,0,0,0,0,0,null,0,0,0,0,0]
[3,"Partington",{"$f":"VLOOKUP($B75,'r_Storage parameters'!$B:$E,2,0)","v":154.19999999999999},{"$f":"VLOOKUP($B75,'r_Storage parameters'!$B:$E,3,0)","v":2.2000000000000002},{"$f":"VLOOKUP($B75,'r_Storage parameters'!$B:$E,4,0)","v":192.1},{"$f":"VLOOKUP($B75,Interface!$B$19:$E$44,4,0)","v":"SRS"},{"$f":"VLOOKUP($B75,Interface!$B$19:$E$44,2,0)","v":0},{"$f":"VLOOKUP($B75,Interface!$B$19:$E$44,3,0)","v":0},{"$f":"HLOOKUP(F75,'c_Storage stock levels(quarter)'!$B$3:$C$7,1+'c_Storage calculations'!A75,0)","v":0.39217974103179626},null,null,null,0,0,0,null,192.1,154.19999999999999,null,0,0,0,0,0,null,0,0,0,0,0,null,0,0,0,0,0]
[3,"Aldbrough 2",{"$f":"VLOOKUP($B76,'r_Storage parameters'!$B:$E,2,0)","v":420},{"$f":"VLOOKUP($B76,'r_Storage parameters'!$B:$E,3,0)","v":317},{"$f":"VLOOKUP($B76,'r_Storage parameters'!$B:$E,4,0)","v":3914},{"$f":"VLOOKUP($B76,Interface!$B$19:$E$44,4,0)","v":"LRS/MRS"},{"$f":"VLOOKUP($B76,Interface!$B$19:$E$44,2,0)","v":0},{"$f":"VLOOKUP($B76,Interface!$B$19:$E$44,3,0)","v":0},{"$f":"HLOOKUP(F76,'c_Storage stock levels(quarter)'!$B$3:$C$7,1+'c_Storage calculations'!A76,0)","v":0.80661021763395913},null,null,null,0,0,0,null,3914,420,null,{"$f":"$G76*MIN(T$4*$C76,$E76*$I76)","v":0},0,0,0,0,null,{"$f":"$G76*MIN(Z$4*$R76,$Q76*$I76)","v":0},0,0,0,0,null,{"$f":"$G76*MIN(AF$4*$O76,$M76*(1-$I76))","v":0},0,0,0,0]
[3,"Whitehill F",{"$f":"VLOOKUP($B77,'r_Storage parameters'!$B:$E,2,0)","v":433},{"$f":"VLOOKUP($B77,'r_Storage parameters'!$B:$E,3,0)","v":317},{"$f":"VLOOKUP($B77,'r_Storage parameters'!$B:$E,4,0)","v":4443},{"$f":"VLOOKUP($B77,Interface!$B$19:$E$44,4,0)","v":"LRS/MRS"},{"$f":"VLOOKUP($B77,Interface!$B$19:$E$44,2,0)","v":0},{"$f":"VLOOKUP($B77,Interface!$B$19:$E$44,3,0)","v":0},{"$f":"HLOOKUP(F77,'c_Storage stock levels(quarter)'!$B$3:$C$7,1+'c_Storage calculations'!A77,0)","v":0.80661021763395913},null,null,null,0,0,0,null,4443,433,null,0,0,0,0,0,null,0,0,0,0,0,null,0,0,0,0,0]
[3,"Holford H165",{"$f":"VLOOKUP($B78,'r_Storage parameters'!$B:$E,2,0)","v":0},{"$f":"VLOOKUP($B78,'r_Storage parameters'!$B:$E,3,0)","v":0},{"$f":"VLOOKUP($B78,'r_Storage parameters'!$B:$E,4,0)","v":0},{"$f":"VLOOKUP($B78,Interface!$B$19:$E$44,4,0)","v":"LRS/MRS"},{"$f":"VLOOKUP($B78,Interface!$B$19:$E$44,2,0)","v":0},{"$f":"VLOOKUP($B78,Interface!$B$19:$E$44,3,0)","v":0},{"$f":"HLOOKUP(F78,'c_Storage stock levels(quarter)'!$B$3:$C$7,1+'c_Storage calculations'!A78,0)","v":0.80661021763395913},null,null,null,0,0,0,null,0,0,null,0,0,0,0,0,null,0,0,0,0,0,null,0,0,0,0,0]
[3,"Saltfleetby",{"$f":"VLOOKUP($B79,'r_Storage parameters'!$B:$E,2,0)","v":85},{"$f":"VLOOKUP($B79,'r_Storage parameters'!$B:$E,3,0)","v":47},{"$f":"VLOOKUP($B79,'r_Storage parameters'!$B:$E,4,0)","v":7650},{"$f":"VLOOKUP($B79,Interface!$B$19:$E$44,4,0)","v":"LRS/MRS"},{"$f":"VLOOKUP($B79,Interface!$B$19:$E$44,2,0)","v":0},{"$f":"VLOOKUP($B79,Interface!$B$19:$E$44,3,0)","v":0},{"$f":"HLOOKUP(F79,'c_Storage stock levels(quarter)'!$B$3:$C$7,1+'c_Storage calculations'!A79,0)","v":0.80661021763395913},null,null,null,0,0,0,null,7650,85,null,0,0,0,0,0,null,0,0,0,0,0,null,0,0,0,0,0]
[3,"Gateway",{"$f":"VLOOKUP($B80,'r_Storage parameters'!$B:$E,2,0)","v":396},{"$f":"VLOOKUP($B80,'r_Storage parameters'!$B:$E,3,0)","v":396},{"$f":"VLOOKUP($B80,'r_Storage parameters'!$B:$E,4,0)","v":15870},{"$f":"VLOOKUP($B80,Interface!$B$19:$E$44,4,0)","v":"LRS/MRS"},{"$f":"VLOOKUP($B80,Interface!$B$19:$E$44,2,0)","v":0},{"$f":"VLOOKUP($B80,Interface!$B$19:$E$44,3,0)","v":0},{"$f":"HLOOKUP(F80,'c_Storage stock levels(quarter)'!$B$3:$C$7,1+'c_Storage calculations'!A80,0)","v":0.80661021763395913},null,null,null,0,0,0,null,15870,396,null,0,0,0,0,0,null,0,0,0,0,0,null,0,0,0,0,0]
[3,"Albury",{"$f":"VLOOKUP($B81,'r_Storage parameters'!$B:$E,2,0)","v":46},{"$f":"VLOOKUP($B81,'r_Storage parameters'!$B:$E,3,0)","v":46},{"$f":"VLOOKUP($B81,'r_Storage parameters'!$B:$E,4,0)","v":1850},{"$f":"VLOOKUP($B81,Interface!$B$19:$E$44,4,0)","v":"LRS/MRS"},{"$f":"VLOOKUP($B81,Interface!$B$19:$E$44,2,0)","v":0},{"$f":"VLOOKUP($B81,Interface!$B$19:$E$44,3,0)","v":0},{"$f":"HLOOKUP(F81,'c_Storage stock levels(quarter)'!$B$3:$C$7,1+'c_Storage calculations'!A81,0)","v":0.80661021763395913},null,null,null,0,0,0,null,1850,46,null,0,0,0,0,0,null,0,0,0,0,0,null,0,0,0,0,0]
[3,"SNS Storage",{"$f":"VLOOKUP($B82,'r_Storage parameters'!$B:$E,2,0)","v":250},{"$f":"VLOOKUP($B82,'r_Storage parameters'!$B:$E,3,0)","v":250},{"$f":"VLOOKUP($B82,'r_Storage parameters'!$B:$E,4,0)","v":22000},{"$f":"VLOOKUP($B82,Interface!$B$19:$E$44,4,0)","v":"LRS/MRS"},{"$f":"VLOOKUP($B82,Interface!$B$19:$E$44,2,0)","v":0},{"$f":"VLOOKUP($B82,Interface!$B$19:$E$44,3,0)","v":0},{"$f":"HLOOKUP(F82,'c_Storage stock levels(quarter)'!$B$3:$C$7,1+'c_Storage calculations'!A82,0)","v":0.80661021763395913},null,null,null,0,0,0,null,22000,250,null,0,0,0,0,0,null,0,0,0,0,0,null,0,0,0,0,0]
[3,"Fleetwood",{"$f":"VLOOKUP($B83,'r_Storage parameters'!$B:$E,2,0)","v":700},{"$f":"VLOOKUP($B83,'r_Storage parameters'!$B:$E,3,0)","v":700},{"$f":"VLOOKUP($B83,'r_Storage parameters'!$B:$E,4,0)","v":12700},{"$f":"VLOOKUP($B83,Interface!$B$19:$E$44,4,0)","v":"LRS/MRS"},{"$f":"VLOOKUP($B83,Interface!$B$19:$E$44,2,0)","v":0},{"$f":"VLOOKUP($B83,Interface!$B$19:$E$44,3,0)","v":0},{"$f":"HLOOKUP(F83,'c_Storage stock levels(quarter)'!$B$3:$C$7,1+'c_Storage calculations'!A83,0)","v":0.80661021763395913},null,null,null,0,0,0,null,12700,700,null,0,0,0,0,0,null,0,0,0,0,0,null,0,0,0,0,0]
[4,"Rough",{"$f":"VLOOKUP($B84,'r_Storage parameters'!$B:$E,2,0)","v":455},{"$f":"VLOOKUP($B84,'r_Storage parameters'!$B:$E,3,0)","v":238.32599999999999},{"$f":"VLOOKUP($B84,'r_Storage parameters'!$B:$E,4,0)","v":36800},{"$f":"VLOOKUP($B84,Interface!$B$19:$E$44,4,0)","v":"LRS/MRS"},{"$f":"VLOOKUP($B84,Interface!$B$19:$E$44,2,0)","v":1},{"$f":"VLOOKUP($B84,Interface!$B$19:$E$44,3,0)","v":0},{"$f":"HLOOKUP(F84,'c_Storage stock levels(quarter)'!$B$3:$C$7,1+'c_Storage calculations'!A84,0)","v":0.96823560191660596},null,null,null,0,0,0,null,36800,455,null,455,3185,13650,35631.070150531101,35631.070150531101,null,455,3185,13650,35631.070150531101,35631.070150531101,null,0,0,0,0,0]
[4,"Hatfield",{"$f":"VLOOKUP($B85,'r_Storage parameters'!$B:$E,2,0)","v":25},{"$f":"VLOOKUP($B85,'r_Storage parameters'!$B:$E,3,0)","v":25},{"$f":"VLOOKUP($B85,'r_Storage parameters'!$B:$E,4,0)","v":1260},{"$f":"VLOOKUP($B85,Interface!$B$19:$E$44,4,0)","v":"LRS/MRS"},{"$f":"VLOOKUP($B85,Interface!$B$19:$E$44,2,0)","v":1},{"$f":"VLOOKUP($B85,Interface!$B$19:$E$44,3,0)","v":0},{"$f":"HLOOKUP(F85,'c_Storage stock levels(quarter)'!$B$3:$C$7,1+'c_Storage calculations'!A85,0)","v":0.96823560191660596},null,null,null,0,0,0,null,1260,25,null,25,175,750,1219.9768584149235,1219.9768584149235,null,25,175,750,1219.9768584149235,1219.9768584149235,null,0,0,0,0,0]
[4,"Humbly Grove",{"$f":"VLOOKUP($B86,'r_Storage parameters'!$B:$E,2,0)","v":82},{"$f":"VLOOKUP($B86,'r_Storage parameters'!$B:$E,3,0)","v":90},{"$f":"VLOOKUP($B86,'r_Storage parameters'!$B:$E,4,0)","v":3730},{"$f":"VLOOKUP($B86,Interface!$B$19:$E$44,4,0)","v":"LRS/MRS"},{"$f":"VLOOKUP($B86,Interface!$B$19:$E$44,2,0)","v":1},{"$f":"VLOOKUP($B86,Interface!$B$19:$E$44,3,0)","v":0},{"$f":"HLOOKUP(F86,'c_Storage stock levels(quarter)'!$B$3:$C$7,1+'c_Storage calculations'!A86,0)","v":0.96823560191660596},null,null,null,0,0,0,null,3730,82,null,{"$f":"$G86*MIN(T$4*$C86,$E86*$I86)","v":82},574,2460,3611.5187951489402,3611.5187951489402,null,{"$f":"$G86*MIN(Z$4*$R86,$Q86*$I86)","v":82},574,2460,3611.5187951489402,3611.5187951489402,null,{"$f":"$G86*MIN(AF$4*$O86,$M86*(1-$I86))","v":0},0,0,0,0]
[4,"Hornsea",{"$f":"VLOOKUP($B87,'r_Storage parameters'!$B:$E,2,0)","v":195},{"$f":"VLOOKUP($B87,'r_Storage parameters'!$B:$E,3,0)","v":21.666},{"$f":"VLOOKUP($B87,'r_Storage parameters'!$B:$E,4,0)","v":3496},{"$f":"VLOOKUP($B87,Interface!$B$19:$E$44,4,0)","v":"LRS/MRS"},{"$f":"VLOOKUP($B87,Interface!$B$19:$E$44,2,0)","v":1},{"$f":"VLOOKUP($B87,Interface!$B$19:$E$44,3,0)","v":0},{"$f":"HLOOKUP(F87,'c_Storage stock levels(quarter)'!$B$3:$C$7,1+'c_Storage calculations'!A87,0)","v":0.96823560191660596},null,null,null,0,0,0,null,3496,195,null,195,1365,3384.9516643004545,3384.9516643004545,3384.9516643004545,null,195,1365,3384.9516643004545,3384.9516643004545,3384.9516643004545,null,0,0,0,0,0]
[4,"Holford",{"$f":"VLOOKUP($B88,'r_Storage parameters'!$B:$E,2,0)","v":169},{"$f":"VLOOKUP($B88,'r_Storage parameters'!$B:$E,3,0)","v":169},{"$f":"VLOOKUP($B88,'r_Storage parameters'!$B:$E,4,0)","v":1745},{"$f":"VLOOKUP($B88,Interface!$B$19:$E$44,4,0)","v":"LRS/MRS"},{"$f":"VLOOKUP($B88,Interface!$B$19:$E$44,2,0)","v":1},{"$f":"VLOOKUP($B88,Interface!$B$19:$E$44,3,0)","v":0},{"$f":"HLOOKUP(F88,'c_Storage stock levels(quarter)'!$B$3:$C$7,1+'c_Storage calculations'!A88,0)","v":0.96823560191660596},null,null,null,0,0,0,null,1745,169,null,169,1183,1689.5711253444774,1689.5711253444774,1689.5711253444774,null,169,1183,1689.5711253444774,1689.5711253444774,1689.5711253444774,null,0,0,0,0,0]
[4,"Aldbrough 1 a",{"$f":"VLOOKUP($B89,'r_Storage parameters'!$B:$E,2,0)","v":105},{"$f":"VLOOKUP($B89,'r_Storage parameters'!$B:$E,3,0)","v":317},{"$f":"VLOOKUP($B89,'r_Storage parameters'!$B:$E,4,0)","v":649.98},{"$f":"VLOOKUP($B89,Interface!$B$19:$E$44,4,0)","v":"LRS/MRS"},{"$f":"VLOOKUP($B89,Interface!$B$19:$E$44,2,0)","v":1},{"$f":"VLOOKUP($B89,Interface!$B$19:$E$44,3,0)","v":0},{"$f":"HLOOKUP(F89,'c_Storage stock levels(quarter)'!$B$3:$C$7,1+'c_Storage calculations'!A89,0)","v":0.96823560191660596},null,null,null,0,0,0,null,649.98,105,null,105,629.33377653375555,629.33377653375555,629.33377653375555,629.33377653375555,null,105,629.33377653375555,629.33377653375555,629.33377653375555,629.33377653375555,null,0,0,0,0,0]
[4,"Aldbrough 1 b",{"$f":"VLOOKUP($B90,'r_Storage parameters'!$B:$E,2,0)","v":316},{"$f":"VLOOKUP($B90,'r_Storage parameters'!$B:$E,3,0)","v":317},{"$f":"VLOOKUP($B90,'r_Storage parameters'!$B:$E,4,0)","v":3264.02},{"$f":"VLOOKUP($B90,Interface!$B$19:$E$44,4,0)","v":"LRS/MRS"},{"$f":"VLOOKUP($B90,Interface!$B$19:$E$44,2,0)","v":1},{"$f":"VLOOKUP($B90,Interface!$B$19:$E$44,3,0)","v":0},{"$f":"HLOOKUP(F90,'c_Storage stock levels(quarter)'!$B$3:$C$7,1+'c_Storage calculations'!A90,0)","v":0.96823560191660596},null,null,null,0,0,0,null,3264.02,316,null,316,2212,3160.3403693678401,3160.3403693678401,3160.3403693678401,null,316,2212,3160.3403693678401,3160.3403693678401,3160.3403693678401,null,0,0,0,0,0]
[4,"Hole House Farm",{"$f":"VLOOKUP($B91,'r_Storage parameters'!$B:$E,2,0)","v":116},{"$f":"VLOOKUP($B91,'r_Storage parameters'!$B:$E,3,0)","v":170},{"$f":"VLOOKUP($B91,'r_Storage parameters'!$B:$E,4,0)","v":650},{"$f":"VLOOKUP($B91,Interface!$B$19:$E$44,4,0)","v":"LRS/MRS"},{"$f":"VLOOKUP($B91,Interface!$B$19:$E$44,2,0)","v":1},{"$f":"VLOOKUP($B91,Interface!$B$19:$E$44,3,0)","v":0},{"$f":"HLOOKUP(F91,'c_Storage stock levels(quarter)'!$B$3:$C$7,1+'c_Storage calculations'!A91,0)","v":0.96823560191660596},null,null,null,0,0,0,null,650,116,null,116,629.35314124579384,629.35314124579384,629.35314124579384,629.35314124579384,null,116,629.35314124579384,629.35314124579384,629.35314124579384,629.35314124579384,null,0,0,0,0,0]
[4,"Hewett",{"$f":"VLOOKUP($B92,'r_Storage parameters'!$B:$E,2,0)","v":454.98599999999999},{"$f":"VLOOKUP($B92,'r_Storage parameters'!$B:$E,3,0)","v":454.98599999999999},{"$f":"VLOOKUP($B92,'r_Storage parameters'!$B:$E,4,0)","v":45498.6},{"$f":"VLOOKUP($B92,Interface!$B$19:$E$44,4,0)","v":"LRS/MRS"},{"$f":"VLOOKUP($B92,Interface!$B$19:$E$44,2,0)","v":0},{"$f":"VLOOKUP($B92,Interface!$B$19:$E$44,3,0)","v":0},{"$f":"HLOOKUP(F92,'c_Storage stock levels(quarter)'!$B$3:$C$7,1+'c_Storage calculations'!A92,0)","v":0.96823560191660596},null,null,null,0,0,0,null,45498.6,454.98599999999999,null,0,0,0,0,0,null,0,0,0,0,0,null,0,0,0,0,0]
[4,"Bains",{"$f":"VLOOKUP($B93,'r_Storage parameters'!$B:$E,2,0)","v":64},{"$f":"VLOOKUP($B93,'r_Storage parameters'!$B:$E,3,0)","v":64},{"$f":"VLOOKUP($B93,'r_Storage parameters'!$B:$E,4,0)","v":2957},{"$f":"VLOOKUP($B93,Interface!$B$19:$E$44,4,0)","v":"LRS/MRS"},{"$f":"VLOOKUP($B93,Interface!$B$19:$E$44,2,0)","v":0},{"$f":"VLOOKUP($B93,Interface!$B$19:$E$44,3,0)","v":0},{"$f":"HLOOKUP(F93,'c_Storage stock levels(quarter)'!$B$3:$C$7,1+'c_Storage calculations'!A93,0)","v":0.96823560191660596},null,null,null,0,0,0,null,2957,64,null,0,0,0,0,0,null,0,0,0,0,0,null,0,0,0,0,0]
[4,"Baird",{"$f":"VLOOKUP($B94,'r_Storage parameters'!$B:$E,2,0)","v":206},{"$f":"VLOOKUP($B94,'r_Storage parameters'!$B:$E,3,0)","v":114},{"$f":"VLOOKUP($B94,'r_Storage parameters'!$B:$E,4,0)","v":10181},{"$f":"VLOOKUP($B94,Interface!$B$19:$E$44,4,0)","v":"LRS/MRS"},{"$f":"VLOOKUP($B94,Interface!$B$19:$E$44,2,0)","v":0},{"$f":"VLOOKUP($B94,Interface!$B$19:$E$44,3,0)","v":0},{"$f":"HLOOKUP(F94,'c_Storage stock levels(quarter)'!$B$3:$C$7,1+'c_Storage calculations'!A94,0)","v":0.96823560191660596},null,null,null,0,0,0,null,10181,206,null,0,0,0,0,0,null,0,0,0,0,0,null,0,0,0,0,0]
[4,"Portland",{"$f":"VLOOKUP($B95,'r_Storage parameters'!$B:$E,2,0)","v":216},{"$f":"VLOOKUP($B95,'r_Storage parameters'!$B:$E,3,0)","v":216},{"$f":"VLOOKUP($B95,'r_Storage parameters'!$B:$E,4,0)","v":10830},{"$f":"VLOOKUP($B95,Interface!$B$19:$E$44,4,0)","v":"LRS/MRS"},{"$f":"VLOOKUP($B95,Interface!$B$19:$E$44,2,0)","v":0},{"$f":"VLOOKUP($B95,Interface!$B$19:$E$44,3,0)","v":0},{"$f":"HLOOKUP(F95,'c_Storage stock levels(quarter)'!$B$3:$C$7,1+'c_Storage calculations'!A95,0)","v":0.96823560191660596},null,null,null,0,0,0,null,10830,216,null,0,0,0,0,0,null,0,0,0,0,0,null,0,0,0,0,0]
[4,"Caythorpe",{"$f":"VLOOKUP($B96,'r_Storage parameters'!$B:$E,2,0)","v":90},{"$f":"VLOOKUP($B96,'r_Storage parameters'!$B:$E,3,0)","v":90},{"$f":"VLOOKUP($B96,'r_Storage parameters'!$B:$E,4,0)","v":1744},{"$f":"VLOOKUP($B96,Interface!$B$19:$E$44,4,0)","v":"LRS/MRS"},{"$f":"VLOOKUP($B96,Interface!$B$19:$E$44,2,0)","v":0},{"$f":"VLOOKUP($B96,Interface!$B$19:$E$44,3,0)","v":0},{"$f":"HLOOKUP(F96,'c_Storage stock levels(quarter)'!$B$3:$C$7,1+'c_Storage calculations'!A96,0)","v":0.96823560191660596},null,null,null,0,0,0,null,1744,90,null,{"$f":"$G96*MIN(T$4*$C96,$E96*$I96)","v":0},0,0,0,0,null,{"$f":"$G96*MIN(Z$4*$R96,$Q96*$I96)","v":0},0,0,0,0,null,{"$f":"$G96*MIN(AF$4*$O96,$M96*(1-$I96))","v":0},0,0,0,0]
[4,"Stublach",{"$f":"VLOOKUP($B97,'r_Storage parameters'!$B:$E,2,0)","v":175},{"$f":"VLOOKUP($B97,'r_Storage parameters'!$B:$E,3,0)","v":175},{"$f":"VLOOKUP($B97,'r_Storage parameters'!$B:$E,4,0)","v":1500},{"$f":"VLOOKUP($B97,Interface!$B$19:$E$44,4,0)","v":"LRS/MRS"},{"$f":"VLOOKUP($B97,Interface!$B$19:$E$44,2,0)","v":1},{"$f":"VLOOKUP($B97,Interface!$B$19:$E$44,3,0)","v":0},{"$f":"HLOOKUP(F97,'c_Storage stock levels(quarter)'!$B$3:$C$7,1+'c_Storage calculations'!A97,0)","v":0.96823560191660596},null,null,null,0,0,0,null,1500,175,null,175,1225,1452.3534028749089,1452.3534028749089,1452.3534028749089,null,175,1225,1452.3534028749089,1452.3534028749089,1452.3534028749089,null,0,0,0,0,0]
[4,"Hill Top Farm",{"$f":"VLOOKUP($B98,'r_Storage parameters'!$B:$E,2,0)","v":195},{"$f":"VLOOKUP($B98,'r_Storage parameters'!$B:$E,3,0)","v":195},{"$f":"VLOOKUP($B98,'r_Storage parameters'!$B:$E,4,0)","v":1070},{"$f":"VLOOKUP($B98,Interface!$B$19:$E$44,4,0)","v":"LRS/MRS"},{"$f":"VLOOKUP($B98,Interface!$B$19:$E$44,2,0)","v":1},{"$f":"VLOOKUP($B98,Interface!$B$19:$E$44,3,0)","v":0},{"$f":"HLOOKUP(F98,'c_Storage stock levels(quarter)'!$B$3:$C$7,1+'c_Storage calculations'!A98,0)","v":0.96823560191660596},null,null,null,0,0,0,null,1070,195,null,195,1036.0120940507684,1036.0120940507684,1036.0120940507684,1036.0120940507684,null,195,1036.0120940507684,1036.0120940507684,1036.0120940507684,1036.0120940507684,null,0,0,0,0,0]
[4,"Avonmouth",{"$f":"VLOOKUP($B99,'r_Storage parameters'!$B:$E,2,0)","v":143},{"$f":"VLOOKUP($B99,'r_Storage parameters'!$B:$E,3,0)","v":2.6},{"$f":"VLOOKUP($B99,'r_Storage parameters'!$B:$E,4,0)","v":663},{"$f":"VLOOKUP($B99,Interface!$B$19:$E$44,4,0)","v":"SRS"},{"$f":"VLOOKUP($B99,Interface!$B$19:$E$44,2,0)","v":0},{"$f":"VLOOKUP($B99,Interface!$B$19:$E$44,3,0)","v":0},{"$f":"HLOOKUP(F99,'c_Storage stock levels(quarter)'!$B$3:$C$7,1+'c_Storage calculations'!A99,0)","v":0.99362112928824409},null,null,null,0,0,0,null,663,143,null,0,0,0,0,0,null,0,0,0,0,0,null,0,0,0,0,0]
[4,"Glenmavis",{"$f":"VLOOKUP($B100,'r_Storage parameters'!$B:$E,2,0)","v":92.6},{"$f":"VLOOKUP($B100,'r_Storage parameters'!$B:$E,3,0)","v":3.2},{"$f":"VLOOKUP($B100,'r_Storage parameters'!$B:$E,4,0)","v":385.1},{"$f":"VLOOKUP($B100,Interface!$B$19:$E$44,4,0)","v":"SRS"},{"$f":"VLOOKUP($B100,Interface!$B$19:$E$44,2,0)","v":0},{"$f":"VLOOKUP($B100,Interface!$B$19:$E$44,3,0)","v":0},{"$f":"HLOOKUP(F100,'c_Storage stock levels(quarter)'!$B$3:$C$7,1+'c_Storage calculations'!A100,0)","v":0.99362112928824409},null,null,null,0,0,0,null,385.1,92.6,null,0,0,0,0,0,null,0,0,0,0,0,null,0,0,0,0,0]
[4,"Partington",{"$f":"VLOOKUP($B101,'r_Storage parameters'!$B:$E,2,0)","v":154.19999999999999},{"$f":"VLOOKUP($B101,'r_Storage parameters'!$B:$E,3,0)","v":2.2000000000000002},{"$f":"VLOOKUP($B101,'r_Storage parameters'!$B:$E,4,0)","v":192.1},{"$f":"VLOOKUP($B101,Interface!$B$19:$E$44,4,0)","v":"SRS"},{"$f":"VLOOKUP($B101,Interface!$B$19:$E$44,2,0)","v":0},{"$f":"VLOOKUP($B101,Interface!$B$19:$E$44,3,0)","v":0},{"$f":"HLOOKUP(F101,'c_Storage stock levels(quarter)'!$B$3:$C$7,1+'c_Storage calculations'!A101,0)","v":0.99362112928824409},null,null,null,0,0,0,null,192.1,154.19999999999999,null,0,0,0,0,0,null,0,0,0,0,0,null,0,0,0,0,0]
[4,"Aldbrough 2",{"$f":"VLOOKUP($B102,'r_Storage parameters'!$B:$E,2,0)","v":420},{"$f":"VLOOKUP($B102,'r_Storage parameters'!$B:$E,3,0)","v":317},{"$f":"VLOOKUP($B102,'r_Storage parameters'!$B:$E,4,0)","v":3914},{"$f":"VLOOKUP($B102,Interface!$B$19:$E$44,4,0)","v":"LRS/MRS"},{"$f":"VLOOKUP($B102,Interface!$B$19:$E$44,2,0)","v":0},{"$f":"VLOOKUP($B102,Interface!$B$19:$E$44,3,0)","v":0},{"$f":"HLOOKUP(F102,'c_Storage stock levels(quarter)'!$B$3:$C$7,1+'c_Storage calculations'!A102,0)","v":0.96823560191660596},null,null,null,0,0,0,null,3914,420,null,0,0,0,0,0,null,0,0,0,0,0,null,0,0,0,0,0]
[4,"Whitehill F",{"$f":"VLOOKUP($B103,'r_Storage parameters'!$B:$E,2,0)","v":433},{"$f":"VLOOKUP($B103,'r_Storage parameters'!$B:$E,3,0)","v":317},{"$f":"VLOOKUP($B103,'r_Storage parameters'!$B:$E,4,0)","v":4443},{"$f":"VLOOKUP($B103,Interface!$B$19:$E$44,4,0)","v":"LRS/MRS"},{"$f":"VLOOKUP($B103,Interface!$B$19:$E$44,2,0)","v":0},{"$f":"VLOOKUP($B103,Interface!$B$19:$E$44,3,0)","v":0},{"$f":"HLOOKUP(F103,'c_Storage stock levels(quarter)'!$B$3:$C$7,1+'c_Storage calculations'!A103,0)","v":0.96823560191660596},null,null,null,0,0,0,null,4443,433,null,0,0,0,0,0,null,0,0,0,0,0,null,0,0,0,0,0]
[4,"Holford H165",{"$f":"VLOOKUP($B104,'r_Storage parameters'!$B:$E,2,0)","v":0},{"$f":"VLOOKUP($B104,'r_Storage parameters'!$B:$E,3,0)","v":0},{"$f":"VLOOKUP($B104,'r_Storage parameters'!$B:$E,4,0)","v":0},{"$f":"VLOOKUP($B104,Interface!$B$19:$E$44,4,0)","v":"LRS/MRS"},{"$f":"VLOOKUP($B104,Interface!$B$19:$E$44,2,0)","v":0},{"$f":"VLOOKUP($B104,Interface!$B$19:$E$44,3,0)","v":0},{"$f":"HLOOKUP(F104,'c_Storage stock levels(quarter)'!$B$3:$C$7,1+'c_Storage calculations'!A104,0)","v":0.96823560191660596},null,null,null,0,0,0,null,0,0,null,0,0,0,0,0,null,0,0,0,0,0,null,0,0,0,0,0]
[4,"Saltfleetby",{"$f":"VLOOKUP($B105,'r_Storage parameters'!$B:$E,2,0)","v":85},{"$f":"VLOOKUP($B105,'r_Storage parameters'!$B:$E,3,0)","v":47},{"$f":"VLOOKUP($B105,'r_Storage parameters'!$B:$E,4,0)","v":7650},{"$f":"VLOOKUP($B105,Interface!$B$19:$E$44,4,0)","v":"LRS/MRS"},{"$f":"VLOOKUP($B105,Interface!$B$19:$E$44,2,0)","v":0},{"$f":"VLOOKUP($B105,Interface!$B$19:$E$44,3,0)","v":0},{"$f":"HLOOKUP(F105,'c_Storage stock levels(quarter)'!$B$3:$C$7,1+'c_Storage calculations'!A105,0)","v":0.96823560191660596},null,null,null,0,0,0,null,7650,85,null,0,0,0,0,0,null,0,0,0,0,0,null,0,0,0,0,0]
[4,"Gateway",{"$f":"VLOOKUP($B106,'r_Storage parameters'!$B:$E,2,0)","v":396},{"$f":"VLOOKUP($B106,'r_Storage parameters'!$B:$E,3,0)","v":396},{"$f":"VLOOKUP($B106,'r_Storage parameters'!$B:$E,4,0)","v":15870},{"$f":"VLOOKUP($B106,Interface!$B$19:$E$44,4,0)","v":"LRS/MRS"},{"$f":"VLOOKUP($B106,Interface!$B$19:$E$44,2,0)","v":0},{"$f":"VLOOKUP($B106,Interface!$B$19:$E$44,3,0)","v":0},{"$f":"HLOOKUP(F106,'c_Storage stock levels(quarter)'!$B$3:$C$7,1+'c_Storage calculations'!A106,0)","v":0.96823560191660596},null,null,null,0,0,0,null,15870,396,null,0,0,0,0,0,null,0,0,0,0,0,null,0,0,0,0,0]
[4,"Albury",{"$f":"VLOOKUP($B107,'r_Storage parameters'!$B:$E,2,0)","v":46},{"$f":"VLOOKUP($B107,'r_Storage parameters'!$B:$E,3,0)","v":46},{"$f":"VLOOKUP($B107,'r_Storage parameters'!$B:$E,4,0)","v":1850},{"$f":"VLOOKUP($B107,Interface!$B$19:$E$44,4,0)","v":"LRS/MRS"},{"$f":"VLOOKUP($B107,Interface!$B$19:$E$44,2,0)","v":0},{"$f":"VLOOKUP($B107,Interface!$B$19:$E$44,3,0)","v":0},{"$f":"HLOOKUP(F107,'c_Storage stock levels(quarter)'!$B$3:$C$7,1+'c_Storage calculations'!A107,0)","v":0.96823560191660596},null,null,null,0,0,0,null,1850,46,null,0,0,0,0,0,null,0,0,0,0,0,null,0,0,0,0,0]
[4,"SNS Storage",{"$f":"VLOOKUP($B108,'r_Storage parameters'!$B:$E,2,0)","v":250},{"$f":"VLOOKUP($B108,'r_Storage parameters'!$B:$E,3,0)","v":250},{"$f":"VLOOKUP($B108,'r_Storage parameters'!$B:$E,4,0)","v":22000},{"$f":"VLOOKUP($B108,Interface!$B$19:$E$44,4,0)","v":"LRS/MRS"},{"$f":"VLOOKUP($B108,Interface!$B$19:$E$44,2,0)","v":0},{"$f":"VLOOKUP($B108,Interface!$B$19:$E$44,3,0)","v":0},{"$f":"HLOOKUP(F108,'c_Storage stock levels(quarter)'!$B$3:$C$7,1+'c_Storage calculations'!A108,0)","v":0.96823560191660596},null,null,null,0,0,0,null,22000,250,null,0,0,0,0,0,null,0,0,0,0,0,null,0,0,0,0,0]
[4,"Fleetwood",{"$f":"VLOOKUP($B109,'r_Storage parameters'!$B:$E,2,0)","v":700},{"$f":"VLOOKUP($B109,'r_Storage parameters'!$B:$E,3,0)","v":700},{"$f":"VLOOKUP($B109,'r_Storage parameters'!$B:$E,4,0)","v":12700},{"$f":"VLOOKUP($B109,Interface!$B$19:$E$44,4,0)","v":"LRS/MRS"},{"$f":"VLOOKUP($B109,Interface!$B$19:$E$44,2,0)","v":0},{"$f":"VLOOKUP($B109,Interface!$B$19:$E$44,3,0)","v":0},{"$f":"HLOOKUP(F109,'c_Storage stock levels(quarter)'!$B$3:$C$7,1+'c_Storage calculations'!A109,0)","v":0.96823560191660596},null,null,null,0,0,0,null,12700,700,null,0,0,0,0,0,null,0,0,0,0,0,null,0,0,0,0,0]
[]
[]
[null,null,null,null,null,null,null,null,null,null,null,null,null,null,null,null,null,"Season","Quarter","Daily","Weekly","Monthly","Quarterly","Seasonal",null,"Daily","Weekly","Monthly","Quarterly","Seasonal",null,"Daily","Weekly","Monthly","Quarterly","Seasonal"]
[null,null,null,null,null,null,null,null,null,null,null,null,null,null,null,null,null,"Winter",1,{"$f":"SUMIF($A$6:$A$109,$S113,T$6:T$109)","v":1833},8541.3799585606976,20115.224483265174,20166.362461045672,20166.362461045672,null,{"$f":"SUMIF($A$6:$A$109, $S113,Z$6:Z$109)","v":1833},8541.3799585606976,20115.224483265174,20166.362461045672,20166.362461045672,null,{"$f":"SUMIF($A$6:$A$109,$S113,AF$6:AF$109)","v":0},0,0,0,0]
[null,null,null,null,null,null,null,null,null,null,null,null,null,null,null,null,null,"Summer",2,1833,8507.6204449388606,20018.598092938453,20018.598092938453,20018.598092938453,null,1833,8507.6204449388606,20018.598092938453,20018.598092938453,20018.598092938453,null,0,0,0,0,0]
[null,null,null,null,null,null,null,null,null,null,null,null,null,null,null,null,null,"Summer",3,1833,11815.565410039069,26841.801443220247,43690.042438143391,43690.042438143391,null,1833,11815.565410039069,26841.801443220247,43690.042438143391,43690.042438143391,null,0,0,0,0,0]
[null,null,null,null,null,null,null,null,null,null,null,null,null,null,null,null,null,"Winter",4,1833,12213.699011830318,28841.915573718001,52444.481377812961,52444.481377812961,null,1833,12213.699011830318,28841.915573718001,52444.481377812961,52444.481377812961,null,0,0,0,0,0]

{"sheet":"c_Demand calculations","index":18,"n_rows":370,"n_cols":14,"rows_kept":370,"cut":false,"hidden":false,"merged":[]}
[null,{"$f":"10.833","v":10.833},{"$f":"\"<< 1 mcm=\"&conversion&\" GWh\"","v":"<< 1 mcm=10.833 GWh"},null,null,"Avg",{"$f":"AVERAGE(G6:G370)","v":238.26433635576029},"Avg",{"$f":"AVERAGE(I6:I370)","v":231.20516195964441},null,null,"Growth (avg)",{"$f":"I1/G1","v":0.97037250935626562}]
[null,null,null,null,null,"Peak",{"$f":"MAX(G6:G370)","v":437.33413999999999},"Peak",{"$f":"MAX(I6:I370)","v":467.00369300741704},null,null,"Growth (peak)",{"$f":"I2/G2","v":1.067841840583077}]
[null,null,null,null,null,"Diff",{"$f":"G2-G1","v":199.0698036442397}]
[null,"Day","Week","Month","Quarter","Season","Demand 09/10 (excl exports)","Demand deviation from average",{"$f":"\"Demand \"&Interface!$D$1&\" (excl exports)\"","v":"Demand 16/17 (excl exports)"},"IUK exports","Moffat exports",{"$f":"\"Demand \"&Interface!$D$1&\" (incl exports)\"","v":"Demand 16/17 (incl exports)"},{"$f":"\"Demand \"&Interface!$D$1&\" (incl exports)\"","v":"Demand 16/17 (incl exports)"},{"$f":"\"Selected (\"&Interface!$D$1&\")\"","v":"Selected (16/17)"}]
[null,"DD/MM/YYYY","WW","MM","Q","Season","mcm/day","mcm/day","mcm/day","mcm/day","mcm/day","mcm/day","GWh/day","GWh/day"]
[1,{"$f":"'c_Demand break down'!A3","v":"2009-10-01"},{"$f":"CEILING(A6/7,1)","v":1},{"$f":"MONTH(B6)","v":10},{"$f":"IF(D6<=3,1,IF(D6<=6,2,IF(D6<=9,3,4)))","v":4},{"$f":"IF(OR(D6<=3,D6>=10),\"Winter\",\"Summer\")","v":"Winter"},{"$f":"'c_Demand break down'!F3","v":180.032780253906},{"$f":"G6-$G$1","v":-58.231556101854295},{"$f":"$G$1*VLOOKUP(Interface!$D$1,'r_Demand growth forecast'!$A$7:$C$14, 2, FALSE)+H6*($G$2*VLOOKUP(Interface!$D$1,'r_Demand growth forecast'!$A$7:$C$14,3, FALSE)-$G$1*VLOOKUP(Interface!$D$1,'r_Demand growth forecast'!$A$7:$C$14,2, FALSE))/$G$3","v":162.22978177600845},{"$f":"'r_Bacton IUK exports'!E3","v":8.8264720100086276},{"$f":"'r_Moffat exports'!E3","v":8.7980768908335634},{"$f":"I6+J6+K6","v":179.85433067685062},{"$f":"L6*conversion","v":1948.3619642223227},{"$f":"M6*Interface!$E$4","v":1948.3619642223227}]
[2,{"$f":"'c_Demand break down'!A4","v":"2009-10-02"},{"$f":"CEILING(A7/7,1)","v":1},10,4,{"$f":"IF(OR(D7<=3,D7>=10),\"Winter\",\"Summer\")","v":"Winter"},{"$f":"'c_Demand break down'!F4","v":181.6015102539057},-56.662826101854591,{"$f":"$G$1*VLOOKUP(Interface!$D$1,'r_Demand growth forecast'!$A$7:$C$14, 2, FALSE)+H7*($G$2*VLOOKUP(Interface!$D$1,'r_Demand growth forecast'!$A$7:$C$14,3, FALSE)-$G$1*VLOOKUP(Interface!$D$1,'r_Demand growth forecast'!$A$7:$C$14,2, FALSE))/$G$3","v":164.08794520832669},{"$f":"'r_Bacton IUK exports'!E4","v":3.5647240819823196},{"$f":"'r_Moffat exports'!E4","v":7.4497900718059231},{"$f":"I7+J7+K7","v":175.10245936211493},{"$f":"L7*conversion","v":1896.8849422697911},{"$f":"M7*Interface!$E$4","v":1896.8849422697911}]
[3,{"$f":"'c_Demand break down'!A5","v":"2009-10-03"},1,10,4,"Winter",{"$f":"'c_Demand break down'!F5","v":169.74885412109401},-68.51548223466628,{"$f":"$G$1*VLOOKUP(Interface!$D$1,'r_Demand growth forecast'!$A$7:$C$14, 2, FALSE)+H8*($G$2*VLOOKUP(Interface!$D$1,'r_Demand growth forecast'!$A$7:$C$14,3, FALSE)-$G$1*VLOOKUP(Interface!$D$1,'r_Demand growth forecast'!$A$7:$C$14,2, FALSE))/$G$3","v":150.04845326144124},{"$f":"'r_Bacton IUK exports'!E5","v":12.644572745839069},{"$f":"'r_Moffat exports'!E5","v":6.8276732113388592},169.52069921861917,1836.4177346353015,{"$f":"M8*Interface!$E$4","v":1836.4177346353015}]
[4,{"$f":"'c_Demand break down'!A6","v":"2009-10-04"},1,10,4,"Winter",{"$f":"'c_Demand break down'!F6","v":180.440657109375},-57.823679246385296,{"$f":"$G$1*VLOOKUP(Interface!$D$1,'r_Demand growth forecast'!$A$7:$C$14, 2, FALSE)+H9*($G$2*VLOOKUP(Interface!$D$1,'r_Demand growth forecast'!$A$7:$C$14,3, FALSE)-$G$1*VLOOKUP(Interface!$D$1,'r_Demand growth forecast'!$A$7:$C$14,2, FALSE))/$G$3","v":162.71291262562664},{"$f":"'r_Bacton IUK exports'!E6","v":12.059448086587652},{"$f":"'r_Moffat exports'!E6","v":7.4671179578857014},182.2394786701,1974.2002724331933,{"$f":"M9*Interface!$E$4","v":1974.2002724331933}]
[5,{"$f":"'c_Demand break down'!A7","v":"2009-10-05"},1,10,4,"Winter",{"$f":"'c_Demand break down'!F7","v":194.89116000000001},-43.373176355760279,{"$f":"$G$1*VLOOKUP(Interface!$D$1,'r_Demand growth forecast'!$A$7:$C$14, 2, FALSE)+H10*($G$2*VLOOKUP(Interface!$D$1,'r_Demand growth forecast'!$A$7:$C$14,3, FALSE)-$G$1*VLOOKUP(Interface!$D$1,'r_Demand growth forecast'!$A$7:$C$14,2, FALSE))/$G$3","v":179.82955860675392},{"$f":"'r_Bacton IUK exports'!E7","v":10.215845390854774},{"$f":"'r_Moffat exports'!E7","v":8.2157686469074616},198.26117264451617,2147.7632832580434,{"$f":"M10*Interface!$E$4","v":2147.7632832580434}]
[6,{"$f":"'c_Demand break down'!A8","v":"2009-10-06"},1,10,4,"Winter",{"$f":"'c_Demand break down'!F8","v":186.76942148437502},-51.494914871385276,{"$f":"$G$1*VLOOKUP(Interface!$D$1,'r_Demand growth forecast'!$A$7:$C$14, 2, FALSE)+H11*($G$2*VLOOKUP(Interface!$D$1,'r_Demand growth forecast'!$A$7:$C$14,3, FALSE)-$G$1*VLOOKUP(Interface!$D$1,'r_Demand growth forecast'!$A$7:$C$14,2, FALSE))/$G$3","v":170.20934511138634},{"$f":"'r_Bacton IUK exports'!E8","v":14.305387043380009},{"$f":"'r_Moffat exports'!E8","v":8.4045680323628194},192.91930018712918,2089.8947789271706,{"$f":"M11*Interface!$E$4","v":2089.8947789271706}]
[7,{"$f":"'c_Demand break down'!A9","v":"2009-10-07"},1,10,4,"Winter",{"$f":"'c_Demand break down'!F9","v":206.03236582031201},-32.231970535448283,{"$f":"$G$1*VLOOKUP(Interface!$D$1,'r_Demand growth forecast'!$A$7:$C$14, 2, FALSE)+H12*($G$2*VLOOKUP(Interface!$D$1,'r_Demand growth forecast'!$A$7:$C$14,3, FALSE)-$G$1*VLOOKUP(Interface!$D$1,'r_Demand growth forecast'!$A$7:$C$14,2, FALSE))/$G$3","v":193.02633641251975},{"$f":"'r_Bacton IUK exports'!E9","v":7.9110874089910777},{"$f":"'r_Moffat exports'!E9","v":9.1714842576965196},210.10890807920737,2276.1098012220536,{"$f":"M12*Interface!$E$4","v":2276.1098012220536}]
[8,{"$f":"'c_Demand break down'!A10","v":"2009-10-08"},2,10,4,"Winter",{"$f":"'c_Demand break down'!F10","v":216.62457197265599},-21.639764383104307,{"$f":"$G$1*VLOOKUP(Interface!$D$1,'r_Demand growth forecast'!$A$7:$C$14, 2, FALSE)+H13*($G$2*VLOOKUP(Interface!$D$1,'r_Demand growth forecast'!$A$7:$C$14,3, FALSE)-$G$1*VLOOKUP(Interface!$D$1,'r_Demand growth forecast'!$A$7:$C$14,2, FALSE))/$G$3","v":205.57282315011372},{"$f":"'r_Bacton IUK exports'!E10","v":10.976363222950004},{"$f":"'r_Moffat exports'!E10","v":8.9283219751479646},225.47750834821167,2442.597847936177,{"$f":"M13*Interface!$E$4","v":2442.597847936177}]
[9,{"$f":"'c_Demand break down'!A11","v":"2009-10-09"},2,{"$f":"MONTH(B14)","v":10},{"$f":"IF(D14<=3,1,IF(D14<=6,2,IF(D14<=9,3,4)))","v":4},"Winter",{"$f":"'c_Demand break down'!F11","v":221.48040244140597},-16.783933914354321,{"$f":"$G$1*VLOOKUP(Interface!$D$1,'r_Demand growth forecast'!$A$7:$C$14, 2, FALSE)+H14*($G$2*VLOOKUP(Interface!$D$1,'r_Demand growth forecast'!$A$7:$C$14,3, FALSE)-$G$1*VLOOKUP(Interface!$D$1,'r_Demand growth forecast'!$A$7:$C$14,2, FALSE))/$G$3","v":211.32456284436944},{"$f":"'r_Bacton IUK exports'!E11","v":11.410787619315057},{"$f":"'r_Moffat exports'!E11","v":8.0766249210565633},230.81197538474106,2500.3861293428999,{"$f":"M14*Interface!$E$4","v":2500.3861293428999}]
[10,{"$f":"'c_Demand break down'!A12","v":"2009-10-10"},2,10,4,"Winter",{"$f":"'c_Demand break down'!F12","v":186.05924151062004},-52.205094845140252,{"$f":"$G$1*VLOOKUP(Interface!$D$1,'r_Demand growth forecast'!$A$7:$C$14, 2, FALSE)+H15*($G$2*VLOOKUP(Interface!$D$1,'r_Demand growth forecast'!$A$7:$C$14,3, FALSE)-$G$1*VLOOKUP(Interface!$D$1,'r_Demand growth forecast'!$A$7:$C$14,2, FALSE))/$G$3","v":169.36813568873458},{"$f":"'r_Bacton IUK exports'!E12","v":21.29739364783055},{"$f":"'r_Moffat exports'!E12","v":7.7683829871579952},198.43391232372312,2149.6345722028927,{"$f":"M15*Interface!$E$4","v":2149.6345722028927}]
[11,{"$f":"'c_Demand break down'!A13","v":"2009-10-11"},2,10,4,"Winter",{"$f":"'c_Demand break down'!F13","v":190.71975816223099},-47.544578193529304,{"$f":"$G$1*VLOOKUP(Interface!$D$1,'r_Demand growth forecast'!$A$7:$C$14, 2, FALSE)+H16*($G$2*VLOOKUP(Interface!$D$1,'r_Demand growth forecast'!$A$7:$C$14,3, FALSE)-$G$1*VLOOKUP(Interface!$D$1,'r_Demand growth forecast'!$A$7:$C$14,2, FALSE))/$G$3","v":174.8885258245358},{"$f":"'r_Bacton IUK exports'!E13","v":20.356923337657893},{"$f":"'r_Moffat exports'!E13","v":7.5598764767694639},202.80532563896315,2196.9900926468877,{"$f":"M16*Interface!$E$4","v":2196.9900926468877}]
[12,{"$f":"'c_Demand break down'!A14","v":"2009-10-12"},2,10,4,"Winter",{"$f":"'c_Demand break down'!F14","v":215.876787924805},-22.387548430955292,{"$f":"$G$1*VLOOKUP(Interface!$D$1,'r_Demand growth forecast'!$A$7:$C$14, 2, FALSE)+H17*($G$2*VLOOKUP(Interface!$D$1,'r_Demand growth forecast'!$A$7:$C$14,3, FALSE)-$G$1*VLOOKUP(Interface!$D$1,'r_Demand growth forecast'!$A$7:$C$14,2, FALSE))/$G$3","v":204.6870716358392},{"$f":"'r_Bacton IUK exports'!E14","v":17.325626385897017},{"$f":"'r_Moffat exports'!E14","v":7.6470305968550703},229.65972861859129,2487.9038401251996,{"$f":"M17*Interface!$E$4","v":2487.9038401251996}]
[13,{"$f":"'c_Demand break down'!A15","v":"2009-10-13"},2,10,4,"Winter",{"$f":"'c_Demand break down'!F15","v":218.66939101806599},-19.594945337694298,{"$f":"$G$1*VLOOKUP(Interface!$D$1,'r_Demand growth forecast'!$A$7:$C$14, 2, FALSE)+H18*($G$2*VLOOKUP(Interface!$D$1,'r_Demand growth forecast'!$A$7:$C$14,3, FALSE)-$G$1*VLOOKUP(Interface!$D$1,'r_Demand growth forecast'!$A$7:$C$14,2, FALSE))/$G$3","v":207.99491489049578},{"$f":"'r_Bacton IUK exports'!E15","v":14.961459645815085},{"$f":"'r_Moffat exports'!E15","v":8.969096835791456},231.92547137210232,2512.4486313739844,{"$f":"M18*Interface!$E$4","v":2512.4486313739844}]
[14,{"$f":"'c_Demand break down'!A16","v":"2009-10-14"},2,10,4,"Winter",{"$f":"'c_Demand break down'!F16","v":213.38576479003902},-24.878571565721273,{"$f":"$G$1*VLOOKUP(Interface!$D$1,'r_Demand growth forecast'!$A$7:$C$14, 2, FALSE)+H19*($G$2*VLOOKUP(Interface!$D$1,'r_Demand growth forecast'!$A$7:$C$14,3, FALSE)-$G$1*VLOOKUP(Interface!$D$1,'r_Demand growth forecast'!$A$7:$C$14,2, FALSE))/$G$3","v":201.73645037017727},{"$f":"'r_Bacton IUK exports'!E16","v":22.146298724029577},{"$f":"'r_Moffat exports'!E16","v":8.5516549069429892},232.43440400114983,2517.9618985444563,{"$f":"M19*Interface!$E$4","v":2517.9618985444563}]
[15,{"$f":"'c_Demand break down'!A17","v":"2009-10-15"},3,10,4,"Winter",{"$f":"'c_Demand break down'!F17","v":218.40949769287101},-19.854838662889279,{"$f":"$G$1*VLOOKUP(Interface!$D$1,'r_Demand growth forecast'!$A$7:$C$14, 2, FALSE)+H20*($G$2*VLOOKUP(Interface!$D$1,'r_Demand growth forecast'!$A$7:$C$14,3, FALSE)-$G$1*VLOOKUP(Interface!$D$1,'r_Demand growth forecast'!$A$7:$C$14,2, FALSE))/$G$3","v":207.68707079165085},{"$f":"'r_Bacton IUK exports'!E17","v":13.734314439610664},{"$f":"'r_Moffat exports'!E17","v":8.3914720392530757},229.8128572705146,2489.5626828114846,{"$f":"M20*Interface!$E$4","v":2489.5626828114846}]
[16,{"$f":"'c_Demand break down'!A18","v":"2009-10-16"},3,10,4,"Winter",{"$f":"'c_Demand break down'!F18","v":216.96833329589799},-21.296003059862301,{"$f":"$G$1*VLOOKUP(Interface!$D$1,'r_Demand growth forecast'!$A$7:$C$14, 2, FALSE)+H21*($G$2*VLOOKUP(Interface!$D$1,'r_Demand growth forecast'!$A$7:$C$14,3, FALSE)-$G$1*VLOOKUP(Interface!$D$1,'r_Demand growth forecast'!$A$7:$C$14,2, FALSE))/$G$3","v":205.98000903952348},{"$f":"'r_Bacton IUK exports'!E18","v":14.19162908760554},{"$f":"'r_Moffat exports'!E18","v":8.2204520942951849},228.39209022142421,2474.1715133686885,{"$f":"M21*Interface!$E$4","v":2474.1715133686885}]
[17,{"$f":"'c_Demand break down'!A19","v":"2009-10-17"},3,10,4,"Winter",{"$f":"'c_Demand break down'!F19","v":222.48127077148399},-15.783065584276301,{"$f":"$G$1*VLOOKUP(Interface!$D$1,'r_Demand growth forecast'!$A$7:$C$14, 2, FALSE)+H22*($G$2*VLOOKUP(Interface!$D$1,'r_Demand growth forecast'!$A$7:$C$14,3, FALSE)-$G$1*VLOOKUP(Interface!$D$1,'r_Demand growth forecast'!$A$7:$C$14,2, FALSE))/$G$3","v":212.51009313416867},{"$f":"'r_Bacton IUK exports'!E19","v":8.0950436395257057},{"$f":"'r_Moffat exports'!E19","v":7.6807427712583793},228.28587954495273,2473.0209331104729,{"$f":"M22*Interface!$E$4","v":2473.0209331104729}]
[18,{"$f":"'c_Demand break down'!A20","v":"2009-10-18"},3,10,4,"Winter",{"$f":"'c_Demand break down'!F20","v":226.68237025390599},-11.581966101854306,{"$f":"$G$1*VLOOKUP(Interface!$D$1,'r_Demand growth forecast'!$A$7:$C$14, 2, FALSE)+H23*($G$2*VLOOKUP(Interface!$D$1,'r_Demand growth forecast'!$A$7:$C$14,3, FALSE)-$G$1*VLOOKUP(Interface!$D$1,'r_Demand growth forecast'!$A$7:$C$14,2, FALSE))/$G$3","v":217.48630282848777},{"$f":"'r_Bacton IUK exports'!E20","v":8.8715197546598734},{"$f":"'r_Moffat exports'!E20","v":7.0712644019588193},233.42908698510647,2528.7372993096583,{"$f":"M23*Interface!$E$4","v":2528.7372993096583}]
[19,{"$f":"'c_Demand break down'!A21","v":"2009-10-19"},3,10,4,"Winter",{"$f":"'c_Demand break down'!F21","v":236.49377970703102},-1.7705566487292685,{"$f":"$G$1*VLOOKUP(Interface!$D$1,'r_Demand growth forecast'!$A$7:$C$14, 2, FALSE)+H24*($G$2*VLOOKUP(Interface!$D$1,'r_Demand growth forecast'!$A$7:$C$14,3, FALSE)-$G$1*VLOOKUP(Interface!$D$1,'r_Demand growth forecast'!$A$7:$C$14,2, FALSE))/$G$3","v":229.10793450844679},{"$f":"'r_Bacton IUK exports'!E21","v":9.3887797800690844},{"$f":"'r_Moffat exports'!E21","v":6.8347073037082078},245.33142159222407,2657.6752901085633,{"$f":"M24*Interface!$E$4","v":2657.6752901085633}]
[20,{"$f":"'c_Demand break down'!A22","v":"2009-10-20"},3,10,4,"Winter",{"$f":"'c_Demand break down'!F22","v":247.96135662109401},{"$f":"G25-$G$1","v":9.6970202653337196},{"$f":"$G$1*VLOOKUP(Interface!$D$1,'r_Demand growth forecast'!$A$7:$C$14, 2, FALSE)+H25*($G$2*VLOOKUP(Interface!$D$1,'r_Demand growth forecast'!$A$7:$C$14,3, FALSE)-$G$1*VLOOKUP(Interface!$D$1,'r_Demand growth forecast'!$A$7:$C$14,2, FALSE))/$G$3","v":242.69129944633471},{"$f":"'r_Bacton IUK exports'!E22","v":7.8339877476016966},{"$f":"'r_Moffat exports'!E22","v":7.9758887120467383},258.50117590598313,2800.3432385895153,{"$f":"M25*Interface!$E$4","v":2800.3432385895153}]
[21,{"$f":"'c_Demand break down'!A23","v":"2009-10-21"},3,10,4,"Winter",{"$f":"'c_Demand break down'!F23","v":222.36126755859402},-15.90306879716627,{"$f":"$G$1*VLOOKUP(Interface!$D$1,'r_Demand growth forecast'!$A$7:$C$14, 2, FALSE)+H26*($G$2*VLOOKUP(Interface!$D$1,'r_Demand growth forecast'!$A$7:$C$14,3, FALSE)-$G$1*VLOOKUP(Interface!$D$1,'r_Demand growth forecast'!$A$7:$C$14,2, FALSE))/$G$3","v":212.36794911833874},{"$f":"'r_Bacton IUK exports'!E23","v":8.6715000052260756},{"$f":"'r_Moffat exports'!E23","v":7.4090438050332654},228.44849292859809,2474.7825238955029,{"$f":"M26*Interface!$E$4","v":2474.7825238955029}]
[22,{"$f":"'c_Demand break down'!A24","v":"2009-10-22"},4,10,4,"Winter",{"$f":"'c_Demand break down'!F24","v":218.84946574706998},-19.414870608690308,{"$f":"$G$1*VLOOKUP(Interface!$D$1,'r_Demand growth forecast'!$A$7:$C$14, 2, FALSE)+H27*($G$2*VLOOKUP(Interface!$D$1,'r_Demand growth forecast'!$A$7:$C$14,3, FALSE)-$G$1*VLOOKUP(Interface!$D$1,'r_Demand growth forecast'!$A$7:$C$14,2, FALSE))/$G$3","v":208.20821372236608},{"$f":"'r_Bacton IUK exports'!E24","v":14.527773644664208},{"$f":"'r_Moffat exports'!E24","v":7.8812715915208473},230.61725895855116,2498.276766297985,{"$f":"M27*Interface!$E$4","v":2498.276766297985}]
[23,{"$f":"'c_Demand break down'!A25","v":"2009-10-23"},4,10,4,"Winter",{"$f":"'c_Demand break down'!F25","v":206.715498402099},-31.548837953661291,{"$f":"$G$1*VLOOKUP(Interface!$D$1,'r_Demand growth forecast'!$A$7:$C$14, 2, FALSE)+H28*($G$2*VLOOKUP(Interface!$D$1,'r_Demand growth forecast'!$A$7:$C$14,3, FALSE)-$G$1*VLOOKUP(Interface!$D$1,'r_Demand growth forecast'!$A$7:$C$14,2, FALSE))/$G$3","v":193.8355081520173},{"$f":"'r_Bacton IUK exports'!E25","v":22.615444605260446},{"$f":"'r_Moffat exports'!E25","v":8.3085158569152178},224.75946861419297,2434.8193234975524,{"$f":"M28*Interface!$E$4","v":2434.8193234975524}]
[24,{"$f":"'c_Demand break down'!A26","v":"2009-10-24"},4,10,4,"Winter",{"$f":"'c_Demand break down'!F26","v":190.56627173736501},-47.698064618395279,{"$f":"$G$1*VLOOKUP(Interface!$D$1,'r_Demand growth forecast'!$A$7:$C$14, 2, FALSE)+H29*($G$2*VLOOKUP(Interface!$D$1,'r_Demand growth forecast'!$A$7:$C$14,3, FALSE)-$G$1*VLOOKUP(Interface!$D$1,'r_Demand growth forecast'!$A$7:$C$14,2, FALSE))/$G$3","v":174.7067208854811},{"$f":"'r_Bacton IUK exports'!E26","v":21.107551392852685},{"$f":"'r_Moffat exports'!E26","v":5.8869451175713019},201.7012173959051,2185.02928804984,{"$f":"M29*Interface!$E$4","v":2185.02928804984}]
[25,{"$f":"'c_Demand break down'!A27","v":"2009-10-25"},4,10,4,"Winter",{"$f":"'c_Demand break down'!F27","v":192.82470372863799},-45.439632627122307,{"$f":"$G$1*VLOOKUP(Interface!$D$1,'r_Demand growth forecast'!$A$7:$C$14, 2, FALSE)+H30*($G$2*VLOOKUP(Interface!$D$1,'r_Demand growth forecast'!$A$7:$C$14,3, FALSE)-$G$1*VLOOKUP(Interface!$D$1,'r_Demand growth forecast'!$A$7:$C$14,2, FALSE))/$G$3","v":177.38183753433842},{"$f":"'r_Bacton IUK exports'!E27","v":20.88147845210338},{"$f":"'r_Moffat exports'!E27","v":6.4931597645156041},204.75647575095741,2218.1269018101216,{"$f":"M30*Interface!$E$4","v":2218.1269018101216}]
[26,{"$f":"'c_Demand break down'!A28","v":"2009-10-26"},4,10,4,"Winter",{"$f":"'c_Demand break down'!F28","v":209.52459115966803},-28.739745196092258,{"$f":"$G$1*VLOOKUP(Interface!$D$1,'r_Demand growth forecast'!$A$7:$C$14, 2, FALSE)+H31*($G$2*VLOOKUP(Interface!$D$1,'r_Demand growth forecast'!$A$7:$C$14,3, FALSE)-$G$1*VLOOKUP(Interface!$D$1,'r_Demand growth forecast'!$A$7:$C$14,2, FALSE))/$G$3","v":197.16288344292514},{"$f":"'r_Bacton IUK exports'!E28","v":13.097462659155404},{"$f":"'r_Moffat exports'!E28","v":7.4549548398307026},217.71530094191124,2358.5098551037245,{"$f":"M31*Interface!$E$4","v":2358.5098551037245}]
[27,{"$f":"'c_Demand break down'!A29","v":"2009-10-27"},4,10,4,"Winter",{"$f":"'c_Demand break down'!F29","v":196.56698109863299},-41.697355257127299,{"$f":"$G$1*VLOOKUP(Interface!$D$1,'r_Demand growth forecast'!$A$7:$C$14, 2, FALSE)+H32*($G$2*VLOOKUP(Interface!$D$1,'r_Demand growth forecast'!$A$7:$C$14,3, FALSE)-$G$1*VLOOKUP(Interface!$D$1,'r_Demand growth forecast'!$A$7:$C$14,2, FALSE))/$G$3","v":181.81457163295207},{"$f":"'r_Bacton IUK exports'!E29","v":16.546185416698304},{"$f":"'r_Moffat exports'!E29","v":7.3696914894926726},205.73044853914305,2228.6779490245367,{"$f":"M32*Interface!$E$4","v":2228.6779490245367}]
[28,{"$f":"'c_Demand break down'!A30","v":"2009-10-28"},4,10,4,"Winter",{"$f":"'c_Demand break down'!F30","v":191.60968053955099},-46.654655816209299,{"$f":"$G$1*VLOOKUP(Interface!$D$1,'r_Demand growth forecast'!$A$7:$C$14, 2, FALSE)+H33*($G$2*VLOOKUP(Interface!$D$1,'r_Demand growth forecast'!$A$7:$C$14,3, FALSE)-$G$1*VLOOKUP(Interface!$D$1,'r_Demand growth forecast'!$A$7:$C$14,2, FALSE))/$G$3","v":175.94264043899341},{"$f":"'r_Bacton IUK exports'!E30","v":20.550497024937428},{"$f":"'r_Moffat exports'!E30","v":7.6193910458945959},204.11252850982544,2211.1510213469392,{"$f":"M33*Interface!$E$4","v":2211.1510213469392}]
[29,{"$f":"'c_Demand break down'!A31","v":"2009-10-29"},5,10,4,"Winter",{"$f":"'c_Demand break down'!F31","v":200.57797899169901},-37.68635736406128,{"$f":"$G$1*VLOOKUP(Interface!$D$1,'r_Demand growth forecast'!$A$7:$C$14, 2, FALSE)+H34*($G$2*VLOOKUP(Interface!$D$1,'r_Demand growth forecast'!$A$7:$C$14,3, FALSE)-$G$1*VLOOKUP(Interface!$D$1,'r_Demand growth forecast'!$A$7:$C$14,2, FALSE))/$G$3","v":186.56560566175386},{"$f":"'r_Bacton IUK exports'!E31","v":16.496673481136245},{"$f":"'r_Moffat exports'!E31","v":7.4118495786662573},210.47412872155635,2280.0662364406198,{"$f":"M34*Interface!$E$4","v":2280.0662364406198}]
[30,{"$f":"'c_Demand break down'!A32","v":"2009-10-30"},5,10,4,"Winter",{"$f":"'c_Demand break down'!F32","v":199.454510366211},-38.809825989549296,{"$f":"$G$1*VLOOKUP(Interface!$D$1,'r_Demand growth forecast'!$A$7:$C$14, 2, FALSE)+H35*($G$2*VLOOKUP(Interface!$D$1,'r_Demand growth forecast'!$A$7:$C$14,3, FALSE)-$G$1*VLOOKUP(Interface!$D$1,'r_Demand growth forecast'!$A$7:$C$14,2, FALSE))/$G$3","v":185.23485510733147},{"$f":"'r_Bacton IUK exports'!E32","v":20.587614743188031},{"$f":"'r_Moffat exports'!E32","v":7.7107448908447891},213.53321474136428,2313.2053152931994,{"$f":"M35*Interface!$E$4","v":2313.2053152931994}]
[31,{"$f":"'c_Demand break down'!A33","v":"2009-10-31"},5,10,4,"Winter",{"$f":"'c_Demand break down'!F33","v":193.390753398437},-44.873582957323293,{"$f":"$G$1*VLOOKUP(Interface!$D$1,'r_Demand growth forecast'!$A$7:$C$14, 2, FALSE)+H36*($G$2*VLOOKUP(Interface!$D$1,'r_Demand growth forecast'!$A$7:$C$14,3, FALSE)-$G$1*VLOOKUP(Interface!$D$1,'r_Demand growth forecast'!$A$7:$C$14,2, FALSE))/$G$3","v":178.05232435953877},{"$f":"'r_Bacton IUK exports'!E33","v":17.098076654720838},{"$f":"'r_Moffat exports'!E33","v":7.4015522107216798},202.5519532249813,2194.2453092862224,{"$f":"M36*Interface!$E$4","v":2194.2453092862224}]
[32,{"$f":"'c_Demand break down'!A34","v":"2009-11-01"},5,11,4,"Winter",{"$f":"'c_Demand break down'!F34","v":209.43732585937502},-28.82701049638527,{"$f":"$G$1*VLOOKUP(Interface!$D$1,'r_Demand growth forecast'!$A$7:$C$14, 2, FALSE)+H37*($G$2*VLOOKUP(Interface!$D$1,'r_Demand growth forecast'!$A$7:$C$14,3, FALSE)-$G$1*VLOOKUP(Interface!$D$1,'r_Demand growth forecast'!$A$7:$C$14,2, FALSE))/$G$3","v":197.05951754190022},{"$f":"'r_Bacton IUK exports'!E34","v":9.1321202955032206},{"$f":"'r_Moffat exports'!E34","v":7.2469451479581526},213.43858298536159,2312.1801694804221,{"$f":"M37*Interface!$E$4","v":2312.1801694804221}]
[33,{"$f":"'c_Demand break down'!A35","v":"2009-11-02"},5,11,4,"Winter",{"$f":"'c_Demand break down'!F35","v":250.18709489807151},11.922758542311215,{"$f":"$G$1*VLOOKUP(Interface!$D$1,'r_Demand growth forecast'!$A$7:$C$14, 2, FALSE)+H38*($G$2*VLOOKUP(Interface!$D$1,'r_Demand growth forecast'!$A$7:$C$14,3, FALSE)-$G$1*VLOOKUP(Interface!$D$1,'r_Demand growth forecast'!$A$7:$C$14,2, FALSE))/$G$3","v":245.32769033335251},{"$f":"'r_Bacton IUK exports'!E35","v":8.3321910993313928},{"$f":"'r_Moffat exports'!E35","v":7.9210957059397975},261.58097713862372,2833.7067253427108,{"$f":"M38*Interface!$E$4","v":2833.7067253427108}]
[34,{"$f":"'c_Demand break down'!A36","v":"2009-11-03"},5,11,4,"Winter",{"$f":"'c_Demand break down'!F36","v":248.58591672363241},10.321580367872116,{"$f":"$G$1*VLOOKUP(Interface!$D$1,'r_Demand growth forecast'!$A$7:$C$14, 2, FALSE)+H39*($G$2*VLOOKUP(Interface!$D$1,'r_Demand growth forecast'!$A$7:$C$14,3, FALSE)-$G$1*VLOOKUP(Interface!$D$1,'r_Demand growth forecast'!$A$7:$C$14,2, FALSE))/$G$3","v":243.43109198158425},{"$f":"'r_Bacton IUK exports'!E36","v":5.9310834612876064},{"$f":"'r_Moffat exports'!E36","v":7.6400036529540163},257.00217909582585,2784.1046061450816,{"$f":"M39*Interface!$E$4","v":2784.1046061450816}]
[35,{"$f":"'c_Demand break down'!A37","v":"2009-11-04"},5,11,4,"Winter",{"$f":"'c_Demand break down'!F37","v":257.25365120117169},18.9893148454114,{"$f":"$G$1*VLOOKUP(Interface!$D$1,'r_Demand growth forecast'!$A$7:$C$14, 2, FALSE)+H40*($G$2*VLOOKUP(Interface!$D$1,'r_Demand growth forecast'!$A$7:$C$14,3, FALSE)-$G$1*VLOOKUP(Interface!$D$1,'r_Demand growth forecast'!$A$7:$C$14,2, FALSE))/$G$3","v":253.69803865004266},{"$f":"'r_Bacton IUK exports'!E37","v":4.1956630641221002},{"$f":"'r_Moffat exports'!E37","v":7.9684114146708023},265.86211312883557,2880.0842715246758,{"$f":"M40*Interface!$E$4","v":2880.0842715246758}]
[36,{"$f":"'c_Demand break down'!A38","v":"2009-11-05"},6,11,4,"Winter",{"$f":"'c_Demand break down'!F38","v":259.96665415039098},21.702317794630687,{"$f":"$G$1*VLOOKUP(Interface!$D$1,'r_Demand growth forecast'!$A$7:$C$14, 2, FALSE)+H41*($G$2*VLOOKUP(Interface!$D$1,'r_Demand growth forecast'!$A$7:$C$14,3, FALSE)-$G$1*VLOOKUP(Interface!$D$1,'r_Demand growth forecast'!$A$7:$C$14,2, FALSE))/$G$3","v":256.91159539467799},{"$f":"'r_Bacton IUK exports'!E38","v":2.2017527234273246},{"$f":"'r_Moffat exports'!E38","v":8.5858674740959575},267.69921559220126,2899.9856025103163,{"$f":"M41*Interface!$E$4","v":2899.9856025103163}]
[37,{"$f":"'c_Demand break down'!A39","v":"2009-11-06"},6,11,4,"Winter",{"$f":"'c_Demand break down'!F39","v":263.49168194335897},25.227345587598677,{"$f":"$G$1*VLOOKUP(Interface!$D$1,'r_Demand growth forecast'!$A$7:$C$14, 2, FALSE)+H42*($G$2*VLOOKUP(Interface!$D$1,'r_Demand growth forecast'!$A$7:$C$14,3, FALSE)-$G$1*VLOOKUP(Interface!$D$1,'r_Demand growth forecast'!$A$7:$C$14,2, FALSE))/$G$3","v":261.08699698883373},{"$f":"'r_Bacton IUK exports'!E39","v":1.5047308733592042},{"$f":"'r_Moffat exports'!E39","v":7.9768466067395734},270.56857446893252,2931.0693672219459,{"$f":"M42*Interface!$E$4","v":2931.0693672219459}]
[38,{"$f":"'c_Demand break down'!A40","v":"2009-11-07"},6,11,4,"Winter",{"$f":"'c_Demand break down'!F40","v":258.14454708007798},19.880210724317692,{"$f":"$G$1*VLOOKUP(Interface!$D$1,'r_Demand growth forecast'!$A$7:$C$14, 2, FALSE)+H43*($G$2*VLOOKUP(Interface!$D$1,'r_Demand growth forecast'!$A$7:$C$14,3, FALSE)-$G$1*VLOOKUP(Interface!$D$1,'r_Demand growth forecast'!$A$7:$C$14,2, FALSE))/$G$3","v":254.75330637883411},{"$f":"'r_Bacton IUK exports'!E40","v":6.0696274094579898},{"$f":"'r_Moffat exports'!E40","v":8.3150835117567254},269.13801730004883,2915.5721414114291,{"$f":"M43*Interface!$E$4","v":2915.5721414114291}]
[39,{"$f":"'c_Demand break down'!A41","v":"2009-11-08"},6,11,4,"Winter",{"$f":"'c_Demand break down'!F41","v":274.06292028320297},35.798583927442678,{"$f":"$G$1*VLOOKUP(Interface!$D$1,'r_Demand growth forecast'!$A$7:$C$14, 2, FALSE)+H44*($G$2*VLOOKUP(Interface!$D$1,'r_Demand growth forecast'!$A$7:$C$14,3, FALSE)-$G$1*VLOOKUP(Interface!$D$1,'r_Demand growth forecast'!$A$7:$C$14,2, FALSE))/$G$3","v":273.60864731580051},{"$f":"'r_Bacton IUK exports'!E41","v":7.6509919223571261},{"$f":"'r_Moffat exports'!E41","v":8.3197729066694688},289.57941214482713,3137.0137717649122,{"$f":"M44*Interface!$E$4","v":3137.0137717649122}]
[40,{"$f":"'c_Demand break down'!A42","v":"2009-11-09"},6,11,4,"Winter",{"$f":"'c_Demand break down'!F42","v":300.42690384765598},62.162567491895686,{"$f":"$G$1*VLOOKUP(Interface!$D$1,'r_Demand growth forecast'!$A$7:$C$14, 2, FALSE)+H45*($G$2*VLOOKUP(Interface!$D$1,'r_Demand growth forecast'!$A$7:$C$14,3, FALSE)-$G$1*VLOOKUP(Interface!$D$1,'r_Demand growth forecast'!$A$7:$C$14,2, FALSE))/$G$3","v":304.83683201916915},{"$f":"'r_Bacton IUK exports'!E42","v":10.549379144771116},{"$f":"'r_Moffat exports'!E42","v":9.4708334975836124},324.8570446615239,3519.1763648182887,{"$f":"M45*Interface!$E$4","v":3519.1763648182887}]
[41,{"$f":"'c_Demand break down'!A43","v":"2009-11-10"},6,11,4,"Winter",{"$f":"'c_Demand break down'!F43","v":300.58889734374998},62.324560987989685,{"$f":"$G$1*VLOOKUP(Interface!$D$1,'r_Demand growth forecast'!$A$7:$C$14, 2, FALSE)+H46*($G$2*VLOOKUP(Interface!$D$1,'r_Demand growth forecast'!$A$7:$C$14,3, FALSE)-$G$1*VLOOKUP(Interface!$D$1,'r_Demand growth forecast'!$A$7:$C$14,2, FALSE))/$G$3","v":305.02871359899189},{"$f":"'r_Bacton IUK exports'!E43","v":9.7647186796330558},{"$f":"'r_Moffat exports'!E43","v":9.1611618701138511},323.95459414873881,3509.4001184132876,{"$f":"M46*Interface!$E$4","v":3509.4001184132876}]
[42,{"$f":"'c_Demand break down'!A44","v":"2009-11-11"},6,11,4,"Winter",{"$f":"'c_Demand break down'!F44","v":287.03141999999997},48.767083644239676,{"$f":"$G$1*VLOOKUP(Interface!$D$1,'r_Demand growth forecast'!$A$7:$C$14, 2, FALSE)+H47*($G$2*VLOOKUP(Interface!$D$1,'r_Demand growth forecast'!$A$7:$C$14,3, FALSE)-$G$1*VLOOKUP(Interface!$D$1,'r_Demand growth forecast'!$A$7:$C$14,2, FALSE))/$G$3","v":288.96985794209468},{"$f":"'r_Bacton IUK exports'!E44","v":7.3607413473900944},{"$f":"'r_Moffat exports'!E44","v":8.4003505507040952},304.73094984018888,3301.1503796187662,{"$f":"M47*Interface!$E$4","v":3301.1503796187662}]
[43,{"$f":"'c_Demand break down'!A45","v":"2009-11-12"},7,11,4,"Winter",{"$f":"'c_Demand break down'!F45","v":265.89046999999999},27.626133644239701,{"$f":"$G$1*VLOOKUP(Interface!$D$1,'r_Demand growth forecast'!$A$7:$C$14, 2, FALSE)+H48*($G$2*VLOOKUP(Interface!$D$1,'r_Demand growth forecast'!$A$7:$C$14,3, FALSE)-$G$1*VLOOKUP(Interface!$D$1,'r_Demand growth forecast'!$A$7:$C$14,2, FALSE))/$G$3","v":263.92836564292526},{"$f":"'r_Bacton IUK exports'!E45","v":6.0711862796722498},{"$f":"'r_Moffat exports'!E45","v":8.6753494784417171},278.67490140103922,3018.8852068774581,{"$f":"M48*Interface!$E$4","v":3018.8852068774581}]
[44,{"$f":"'c_Demand break down'!A46","v":"2009-11-13"},7,11,4,"Winter",{"$f":"'c_Demand break down'!F46","v":250.49440683593701},12.230070480176721,{"$f":"$G$1*VLOOKUP(Interface!$D$1,'r_Demand growth forecast'!$A$7:$C$14, 2, FALSE)+H49*($G$2*VLOOKUP(Interface!$D$1,'r_Demand growth forecast'!$A$7:$C$14,3, FALSE)-$G$1*VLOOKUP(Interface!$D$1,'r_Demand growth forecast'!$A$7:$C$14,2, FALSE))/$G$3","v":245.69170186194992},{"$f":"'r_Bacton IUK exports'!E46","v":3.9481484791474166},{"$f":"'r_Moffat exports'!E46","v":9.0060973054080868},258.64594764650542,2801.9115508545933,{"$f":"M49*Interface!$E$4","v":2801.9115508545933}]
[45,{"$f":"'c_Demand break down'!A47","v":"2009-11-14"},7,11,4,"Winter",{"$f":"'c_Demand break down'!F47","v":241.57224124999999},3.307904894239698,{"$f":"$G$1*VLOOKUP(Interface!$D$1,'r_Demand growth forecast'!$A$7:$C$14, 2, FALSE)+H50*($G$2*VLOOKUP(Interface!$D$1,'r_Demand growth forecast'!$A$7:$C$14,3, FALSE)-$G$1*VLOOKUP(Interface!$D$1,'r_Demand growth forecast'!$A$7:$C$14,2, FALSE))/$G$3","v":235.12338110000891},{"$f":"'r_Bacton IUK exports'!E47","v":2.4018248959900865},{"$f":"'r_Moffat exports'!E47","v":8.0424266508392463},245.56763264683823,2660.2341644631988,{"$f":"M50*Interface!$E$4","v":2660.2341644631988}]
[46,{"$f":"'c_Demand break down'!A48","v":"2009-11-15"},7,11,4,"Winter",{"$f":"'c_Demand break down'!F48","v":241.98104315429703},3.7167067985367339,{"$f":"$G$1*VLOOKUP(Interface!$D$1,'r_Demand growth forecast'!$A$7:$C$14, 2, FALSE)+H51*($G$2*VLOOKUP(Interface!$D$1,'r_Demand growth forecast'!$A$7:$C$14,3, FALSE)-$G$1*VLOOKUP(Interface!$D$1,'r_Demand growth forecast'!$A$7:$C$14,2, FALSE))/$G$3","v":235.60760767158399},{"$f":"'r_Bacton IUK exports'!E48","v":1.4337838085841326},{"$f":"'r_Moffat exports'!E48","v":7.2666320284301875},244.30802350859832,2646.5888186686457,{"$f":"M51*Interface!$E$4","v":2646.5888186686457}]
[47,{"$f":"'c_Demand break down'!A49","v":"2009-11-16"},7,11,4,"Winter",{"$f":"'c_Demand break down'!F49","v":262.46850048828099},24.204164132520702,{"$f":"$G$1*VLOOKUP(Interface!$D$1,'r_Demand growth forecast'!$A$7:$C$14, 2, FALSE)+H52*($G$2*VLOOKUP(Interface!$D$1,'r_Demand growth forecast'!$A$7:$C$14,3, FALSE)-$G$1*VLOOKUP(Interface!$D$1,'r_Demand growth forecast'!$A$7:$C$14,2, FALSE))/$G$3","v":259.87503676339503},{"$f":"'r_Bacton IUK exports'!E49","v":0.23312128313158573},{"$f":"'r_Moffat exports'!E49","v":8.3680250646893626},268.47618311121596,2908.4024916438025,{"$f":"M52*Interface!$E$4","v":2908.4024916438025}]
[48,{"$f":"'c_Demand break down'!A50","v":"2009-11-17"},7,11,4,"Winter",{"$f":"'c_Demand break down'!F50","v":265.48792245063754},27.223586094877248,{"$f":"$G$1*VLOOKUP(Interface!$D$1,'r_Demand growth forecast'!$A$7:$C$14, 2, FALSE)+H53*($G$2*VLOOKUP(Interface!$D$1,'r_Demand growth forecast'!$A$7:$C$14,3, FALSE)-$G$1*VLOOKUP(Interface!$D$1,'r_Demand growth forecast'!$A$7:$C$14,2, FALSE))/$G$3","v":263.45154736572346},{"$f":"'r_Bacton IUK exports'!E50","v":0.2105065761887811},{"$f":"'r_Moffat exports'!E50","v":8.9878258215711231},272.64987976348334,2953.616147477815,{"$f":"M53*Interface!$E$4","v":2953.616147477815}]
[49,{"$f":"'c_Demand break down'!A51","v":"2009-11-18"},7,11,4,"Winter",{"$f":"'c_Demand break down'!F51","v":265.33028365234395},27.065947296583658,{"$f":"$G$1*VLOOKUP(Interface!$D$1,'r_Demand growth forecast'!$A$7:$C$14, 2, FALSE)+H54*($G$2*VLOOKUP(Interface!$D$1,'r_Demand growth forecast'!$A$7:$C$14,3, FALSE)-$G$1*VLOOKUP(Interface!$D$1,'r_Demand growth forecast'!$A$7:$C$14,2, FALSE))/$G$3","v":263.26482393307168},{"$f":"'r_Bacton IUK exports'!E51","v":5.4724101931549889},{"$f":"'r_Moffat exports'!E51","v":8.8046534812597361},277.54188760748639,3006.6112684519003,{"$f":"M54*Interface!$E$4","v":3006.6112684519003}]
[50,{"$f":"'c_Demand break down'!A52","v":"2009-11-19"},8,11,4,"Winter",{"$f":"'c_Demand break down'!F52","v":249.44015560546902},11.175819249708724,{"$f":"$G$1*VLOOKUP(Interface!$D$1,'r_Demand growth forecast'!$A$7:$C$14, 2, FALSE)+H55*($G$2*VLOOKUP(Interface!$D$1,'r_Demand growth forecast'!$A$7:$C$14,3, FALSE)-$G$1*VLOOKUP(Interface!$D$1,'r_Demand growth forecast'!$A$7:$C$14,2, FALSE))/$G$3","v":244.44293943314923},{"$f":"'r_Bacton IUK exports'!E52","v":0},{"$f":"'r_Moffat exports'!E52","v":8.3703697621455007},252.81330919529472,2738.7265785126278,{"$f":"M55*Interface!$E$4","v":2738.7265785126278}]
[51,{"$f":"'c_Demand break down'!A53","v":"2009-11-20"},8,11,4,"Winter",{"$f":"'c_Demand break down'!F53","v":241.66732733398402},3.4029909782237269,{"$f":"$G$1*VLOOKUP(Interface!$D$1,'r_Demand growth forecast'!$A$7:$C$14, 2, FALSE)+H56*($G$2*VLOOKUP(Interface!$D$1,'r_Demand growth forecast'!$A$7:$C$14,3, FALSE)-$G$1*VLOOKUP(Interface!$D$1,'r_Demand growth forecast'!$A$7:$C$14,2, FALSE))/$G$3","v":235.23601073301236},{"$f":"'r_Bacton IUK exports'!E53","v":0.35006610124307302},{"$f":"'r_Moffat exports'!E53","v":8.1871831248989313},243.77325995915436,2640.7957251375192,{"$f":"M56*Interface!$E$4","v":2640.7957251375192}]
[52,{"$f":"'c_Demand break down'!A54","v":"2009-11-21"},8,11,4,"Winter",{"$f":"'c_Demand break down'!F54","v":232.11006705078097},-6.1542693049793229,{"$f":"$G$1*VLOOKUP(Interface!$D$1,'r_Demand growth forecast'!$A$7:$C$14, 2, FALSE)+H57*($G$2*VLOOKUP(Interface!$D$1,'r_Demand growth forecast'!$A$7:$C$14,3, FALSE)-$G$1*VLOOKUP(Interface!$D$1,'r_Demand growth forecast'!$A$7:$C$14,2, FALSE))/$G$3","v":223.91541918991769},{"$f":"'r_Bacton IUK exports'!E54","v":0},{"$f":"'r_Moffat exports'!E54","v":6.7864408487526617},230.70186003867036,2499.193249798916,{"$f":"M57*Interface!$E$4","v":2499.193249798916}]
[53,{"$f":"'c_Demand break down'!A55","v":"2009-11-22"},8,11,4,"Winter",{"$f":"'c_Demand break down'!F55","v":253.851410722656},15.587074366895706,{"$f":"$G$1*VLOOKUP(Interface!$D$1,'r_Demand growth forecast'!$A$7:$C$14, 2, FALSE)+H58*($G$2*VLOOKUP(Interface!$D$1,'r_Demand growth forecast'!$A$7:$C$14,3, FALSE)-$G$1*VLOOKUP(Interface!$D$1,'r_Demand growth forecast'!$A$7:$C$14,2, FALSE))/$G$3","v":249.66807884489324},{"$f":"'r_Bacton IUK exports'!E55","v":0},{"$f":"'r_Moffat exports'!E55","v":7.0258287402738882},256.69390758516715,2780.7651008701159,{"$f":"M58*Interface!$E$4","v":2780.7651008701159}]
[54,{"$f":"'c_Demand break down'!A56","v":"2009-11-23"},8,11,4,"Winter",{"$f":"'c_Demand break down'!F56","v":279.186941015625},40.922604659864703,{"$f":"$G$1*VLOOKUP(Interface!$D$1,'r_Demand growth forecast'!$A$7:$C$14, 2, FALSE)+H59*($G$2*VLOOKUP(Interface!$D$1,'r_Demand growth forecast'!$A$7:$C$14,3, FALSE)-$G$1*VLOOKUP(Interface!$D$1,'r_Demand growth forecast'!$A$7:$C$14,2, FALSE))/$G$3","v":279.67805884705768},{"$f":"'r_Bacton IUK exports'!E56","v":0},{"$f":"'r_Moffat exports'!E56","v":9.1508394825316497},288.82889832958932,3128.8834556044412,{"$f":"M59*Interface!$E$4","v":3128.8834556044412}]
[55,{"$f":"'c_Demand break down'!A57","v":"2009-11-24"},8,11,4,"Winter",{"$f":"'c_Demand break down'!F57","v":268.39735900390622},30.133022648145925,{"$f":"$G$1*VLOOKUP(Interface!$D$1,'r_Demand growth forecast'!$A$7:$C$14, 2, FALSE)+H60*($G$2*VLOOKUP(Interface!$D$1,'r_Demand growth forecast'!$A$7:$C$14,3, FALSE)-$G$1*VLOOKUP(Interface!$D$1,'r_Demand growth forecast'!$A$7:$C$14,2, FALSE))/$G$3","v":266.89778005836968},{"$f":"'r_Bacton IUK exports'!E57","v":3.9688460915546977},{"$f":"'r_Moffat exports'!E57","v":7.9932451919982865},278.85987134192271,3020.8889862470487,{"$f":"M60*Interface!$E$4","v":3020.8889862470487}]
[56,{"$f":"'c_Demand break down'!A58","v":"2009-11-25"},8,11,4,"Winter",{"$f":"'c_Demand break down'!F58","v":284.00704558593696},45.742709230176672,{"$f":"$G$1*VLOOKUP(Interface!$D$1,'r_Demand growth forecast'!$A$7:$C$14, 2, FALSE)+H61*($G$2*VLOOKUP(Interface!$D$1,'r_Demand growth forecast'!$A$7:$C$14,3, FALSE)-$G$1*VLOOKUP(Interface!$D$1,'r_Demand growth forecast'!$A$7:$C$14,2, FALSE))/$G$3","v":285.38748115204675},{"$f":"'r_Bacton IUK exports'!E58","v":3.8698673132672954},{"$f":"'r_Moffat exports'!E58","v":8.9770459320462166},298.23439439736029,3230.7731945066039,{"$f":"M61*Interface!$E$4","v":3230.7731945066039}]
[57,{"$f":"'c_Demand break down'!A59","v":"2009-11-26"},9,11,4,"Winter",{"$f":"'c_Demand break down'!F59","v":302.413028515625},64.148692159864709,{"$f":"$G$1*VLOOKUP(Interface!$D$1,'r_Demand growth forecast'!$A$7:$C$14, 2, FALSE)+H62*($G$2*VLOOKUP(Interface!$D$1,'r_Demand growth forecast'!$A$7:$C$14,3, FALSE)-$G$1*VLOOKUP(Interface!$D$1,'r_Demand growth forecast'!$A$7:$C$14,2, FALSE))/$G$3","v":307.1894001666808},{"$f":"'r_Bacton IUK exports'!E59","v":0},{"$f":"'r_Moffat exports'!E59","v":9.8718625442372456},317.06126271091807,3434.7246589473757,{"$f":"M62*Interface!$E$4","v":3434.7246589473757}]
[58,{"$f":"'c_Demand break down'!A60","v":"2009-11-27"},9,11,4,"Winter",{"$f":"'c_Demand break down'!F60","v":314.55622388671901},76.291887530958718,{"$f":"$G$1*VLOOKUP(Interface!$D$1,'r_Demand growth forecast'!$A$7:$C$14, 2, FALSE)+H63*($G$2*VLOOKUP(Interface!$D$1,'r_Demand growth forecast'!$A$7:$C$14,3, FALSE)-$G$1*VLOOKUP(Interface!$D$1,'r_Demand growth forecast'!$A$7:$C$14,2, FALSE))/$G$3","v":321.57303635013335},{"$f":"'r_Bacton IUK exports'!E60","v":0},{"$f":"'r_Moffat exports'!E60","v":10.039108098167809},331.61214444830114,3592.3543608084465,{"$f":"M63*Interface!$E$4","v":3592.3543608084465}]
[59,{"$f":"'c_Demand break down'!A61","v":"2009-11-28"},9,11,4,"Winter",{"$f":"'c_Demand break down'!F61","v":303.25561050781198},64.991274152051687,{"$f":"$G$1*VLOOKUP(Interface!$D$1,'r_Demand growth forecast'!$A$7:$C$14, 2, FALSE)+H64*($G$2*VLOOKUP(Interface!$D$1,'r_Demand growth forecast'!$A$7:$C$14,3, FALSE)-$G$1*VLOOKUP(Interface!$D$1,'r_Demand growth forecast'!$A$7:$C$14,2, FALSE))/$G$3","v":308.18744001204107},{"$f":"'r_Bacton IUK exports'!E61","v":0},{"$f":"'r_Moffat exports'!E61","v":9.2895197589148228},317.47695977095589,3439.2279051987653,{"$f":"M64*Interface!$E$4","v":3439.2279051987653}]
[60,{"$f":"'c_Demand break down'!A62","v":"2009-11-29"},9,11,4,"Winter",{"$f":"'c_Demand break down'!F62","v":302.35508562499996},64.090749269239666,{"$f":"$G$1*VLOOKUP(Interface!$D$1,'r_Demand growth forecast'!$A$7:$C$14, 2, FALSE)+H65*($G$2*VLOOKUP(Interface!$D$1,'r_Demand growth forecast'!$A$7:$C$14,3, FALSE)-$G$1*VLOOKUP(Interface!$D$1,'r_Demand growth forecast'!$A$7:$C$14,2, FALSE))/$G$3","v":307.12076671125999},{"$f":"'r_Bacton IUK exports'!E62","v":0},{"$f":"'r_Moffat exports'!E62","v":8.296340229041407},315.41710694030138,3416.9135194842847,{"$f":"M65*Interface!$E$4","v":3416.9135194842847}]
[61,{"$f":"'c_Demand break down'!A63","v":"2009-11-30"},9,11,4,"Winter",{"$f":"'c_Demand break down'!F63","v":345.34115265624996},107.07681630048967,{"$f":"$G$1*VLOOKUP(Interface!$D$1,'r_Demand growth forecast'!$A$7:$C$14, 2, FALSE)+H66*($G$2*VLOOKUP(Interface!$D$1,'r_Demand growth forecast'!$A$7:$C$14,3, FALSE)-$G$1*VLOOKUP(Interface!$D$1,'r_Demand growth forecast'!$A$7:$C$14,2, FALSE))/$G$3","v":358.03783839132308},{"$f":"'r_Bacton IUK exports'!E63","v":0},{"$f":"'r_Moffat exports'!E63","v":10.58911121491551},368.62694960623861,3993.3357450843828,{"$f":"M66*Interface!$E$4","v":3993.3357450843828}]
[62,{"$f":"'c_Demand break down'!A64","v":"2009-12-01"},9,12,4,"Winter",{"$f":"'c_Demand break down'!F64","v":361.01465025390598},122.75031389814569,{"$f":"$G$1*VLOOKUP(Interface!$D$1,'r_Demand growth forecast'!$A$7:$C$14, 2, FALSE)+H67*($G$2*VLOOKUP(Interface!$D$1,'r_Demand growth forecast'!$A$7:$C$14,3, FALSE)-$G$1*VLOOKUP(Interface!$D$1,'r_Demand growth forecast'!$A$7:$C$14,2, FALSE))/$G$3","v":376.60312374476064},{"$f":"'r_Bacton IUK exports'!E64","v":0},{"$f":"'r_Moffat exports'!E64","v":9.3002996484397276},385.90342339320034,4180.4917856185393,{"$f":"M67*Interface!$E$4","v":4180.4917856185393}]
[63,{"$f":"'c_Demand break down'!A65","v":"2009-12-02"},9,12,4,"Winter",{"$f":"'c_Demand break down'!F65","v":316.58738705078099},78.323050695020697,{"$f":"$G$1*VLOOKUP(Interface!$D$1,'r_Demand growth forecast'!$A$7:$C$14, 2, FALSE)+H68*($G$2*VLOOKUP(Interface!$D$1,'r_Demand growth forecast'!$A$7:$C$14,3, FALSE)-$G$1*VLOOKUP(Interface!$D$1,'r_Demand growth forecast'!$A$7:$C$14,2, FALSE))/$G$3","v":323.97895267514309},{"$f":"'r_Bacton IUK exports'!E65","v":0},{"$f":"'r_Moffat exports'!E65","v":9.304531541409764},333.28348421655284,3610.4599845179168,{"$f":"M68*Interface!$E$4","v":3610.4599845179168}]
[64,{"$f":"'c_Demand break down'!A66","v":"2009-12-03"},10,12,4,"Winter",{"$f":"'c_Demand break down'!F66","v":326.932865839844},88.668529484083706,{"$f":"$G$1*VLOOKUP(Interface!$D$1,'r_Demand growth forecast'!$A$7:$C$14, 2, FALSE)+H69*($G$2*VLOOKUP(Interface!$D$1,'r_Demand growth forecast'!$A$7:$C$14,3, FALSE)-$G$1*VLOOKUP(Interface!$D$1,'r_Demand growth forecast'!$A$7:$C$14,2, FALSE))/$G$3","v":336.23319041883684},{"$f":"'r_Bacton IUK exports'!E66","v":0},{"$f":"'r_Moffat exports'!E66","v":9.7805051250529047},346.01369554388975,3748.3663638269577,{"$f":"M69*Interface!$E$4","v":3748.3663638269577}]
[65,{"$f":"'c_Demand break down'!A67","v":"2009-12-04"},10,12,4,"Winter",{"$f":"'c_Demand break down'!F67","v":334.02440000000001},95.760063644239722,{"$f":"$G$1*VLOOKUP(Interface!$D$1,'r_Demand growth forecast'!$A$7:$C$14, 2, FALSE)+H70*($G$2*VLOOKUP(Interface!$D$1,'r_Demand growth forecast'!$A$7:$C$14,3, FALSE)-$G$1*VLOOKUP(Interface!$D$1,'r_Demand growth forecast'!$A$7:$C$14,2, FALSE))/$G$3","v":344.63312505095337},{"$f":"'r_Bacton IUK exports'!E67","v":0},{"$f":"'r_Moffat exports'!E67","v":9.4551377496840896},354.08826280063744,{"$f":"L70*conversion","v":3835.8381509193055},{"$f":"M70*Interface!$E$4","v":3835.8381509193055}]
[66,{"$f":"'c_Demand break down'!A68","v":"2009-12-05"},{"$f":"CEILING(A71/7,1)","v":10},12,4,{"$f":"IF(OR(D71<=3,D71>=10),\"Winter\",\"Summer\")","v":"Winter"},{"$f":"'c_Demand break down'!F68","v":292.30636951171897},54.042033155958677,{"$f":"$G$1*VLOOKUP(Interface!$D$1,'r_Demand growth forecast'!$A$7:$C$14, 2, FALSE)+H71*($G$2*VLOOKUP(Interface!$D$1,'r_Demand growth forecast'!$A$7:$C$14,3, FALSE)-$G$1*VLOOKUP(Interface!$D$1,'r_Demand growth forecast'!$A$7:$C$14,2, FALSE))/$G$3","v":295.21804487675087},{"$f":"'r_Bacton IUK exports'!E68","v":0},{"$f":"'r_Moffat exports'!E68","v":6.7990793399196967},{"$f":"I71+J71+K71","v":302.01712421667054},3271.751506639192,{"$f":"M71*Interface!$E$4","v":3271.751506639192}]
[67,{"$f":"'c_Demand break down'!A69","v":"2009-12-06"},10,12,4,"Winter",{"$f":"'c_Demand break down'!F69","v":282.270458320312},44.00612196455171,{"$f":"$G$1*VLOOKUP(Interface!$D$1,'r_Demand growth forecast'!$A$7:$C$14, 2, FALSE)+H72*($G$2*VLOOKUP(Interface!$D$1,'r_Demand growth forecast'!$A$7:$C$14,3, FALSE)-$G$1*VLOOKUP(Interface!$D$1,'r_Demand growth forecast'!$A$7:$C$14,2, FALSE))/$G$3","v":283.33049049462676},{"$f":"'r_Bacton IUK exports'!E69","v":0},{"$f":"'r_Moffat exports'!E69","v":6.9667823957934347},290.29727289042017,3144.790357221922,{"$f":"M72*Interface!$E$4","v":3144.790357221922}]
[68,{"$f":"'c_Demand break down'!A70","v":"2009-12-07"},10,12,4,"Winter",{"$f":"'c_Demand break down'!F70","v":312.02247826171902},73.758141905958723,{"$f":"$G$1*VLOOKUP(Interface!$D$1,'r_Demand growth forecast'!$A$7:$C$14, 2, FALSE)+H73*($G$2*VLOOKUP(Interface!$D$1,'r_Demand growth forecast'!$A$7:$C$14,3, FALSE)-$G$1*VLOOKUP(Interface!$D$1,'r_Demand growth forecast'!$A$7:$C$14,2, FALSE))/$G$3","v":318.57181021996928},{"$f":"'r_Bacton IUK exports'!E70","v":0},{"$f":"'r_Moffat exports'!E70","v":9.5898411904299312},328.1616514103992,3554.9751697288548,{"$f":"M73*Interface!$E$4","v":3554.9751697288548}]
[69,{"$f":"'c_Demand break down'!A71","v":"2009-12-08"},10,12,4,"Winter",{"$f":"'c_Demand break down'!F71","v":304.80821220703098},66.543875851270684,{"$f":"$G$1*VLOOKUP(Interface!$D$1,'r_Demand growth forecast'!$A$7:$C$14, 2, FALSE)+H74*($G$2*VLOOKUP(Interface!$D$1,'r_Demand growth forecast'!$A$7:$C$14,3, FALSE)-$G$1*VLOOKUP(Interface!$D$1,'r_Demand growth forecast'!$A$7:$C$14,2, FALSE))/$G$3","v":310.02649944383904},{"$f":"'r_Bacton IUK exports'!E71","v":0},{"$f":"'r_Moffat exports'!E71","v":8.5732146859932712},318.59971412983231,3451.3907031684735,{"$f":"M74*Interface!$E$4","v":3451.3907031684735}]
[70,{"$f":"'c_Demand break down'!A72","v":"2009-12-09"},10,12,4,"Winter",{"$f":"'c_Demand break down'!F72","v":285.28793562499999},47.023599269239696,{"$f":"$G$1*VLOOKUP(Interface!$D$1,'r_Demand growth forecast'!$A$7:$C$14, 2, FALSE)+H75*($G$2*VLOOKUP(Interface!$D$1,'r_Demand growth forecast'!$A$7:$C$14,3, FALSE)-$G$1*VLOOKUP(Interface!$D$1,'r_Demand growth forecast'!$A$7:$C$14,2, FALSE))/$G$3","v":286.90469764654108},{"$f":"'r_Bacton IUK exports'!E72","v":0},{"$f":"'r_Moffat exports'!E72","v":9.5261054510367362},296.43080309757784,3211.2348899560607,{"$f":"M75*Interface!$E$4","v":3211.2348899560607}]
[71,{"$f":"'c_Demand break down'!A73","v":"2009-12-10"},11,12,4,"Winter",{"$f":"'c_Demand break down'!F73","v":308.56499925781202},70.300662902051727,{"$f":"$G$1*VLOOKUP(Interface!$D$1,'r_Demand growth forecast'!$A$7:$C$14, 2, FALSE)+H76*($G$2*VLOOKUP(Interface!$D$1,'r_Demand growth forecast'!$A$7:$C$14,3, FALSE)-$G$1*VLOOKUP(Interface!$D$1,'r_Demand growth forecast'!$A$7:$C$14,2, FALSE))/$G$3","v":314.47642028475462},{"$f":"'r_Bacton IUK exports'!E73","v":0},{"$f":"'r_Moffat exports'!E73","v":9.6207511654343971},324.09717145018902,3510.9446583198978,{"$f":"M76*Interface!$E$4","v":3510.9446583198978}]
[72,{"$f":"'c_Demand break down'!A74","v":"2009-12-11"},11,12,4,"Winter",{"$f":"'c_Demand break down'!F74","v":341.29291220703101},103.02857585127072,{"$f":"$G$1*VLOOKUP(Interface!$D$1,'r_Demand growth forecast'!$A$7:$C$14, 2, FALSE)+H77*($G$2*VLOOKUP(Interface!$D$1,'r_Demand growth forecast'!$A$7:$C$14,3, FALSE)-$G$1*VLOOKUP(Interface!$D$1,'r_Demand growth forecast'!$A$7:$C$14,2, FALSE))/$G$3","v":353.24269048953522},{"$f":"'r_Bacton IUK exports'!E74","v":0},{"$f":"'r_Moffat exports'!E74","v":8.4560941886603818},361.69878467819558,3918.2829344188926,{"$f":"M77*Interface!$E$4","v":3918.2829344188926}]
[73,{"$f":"'c_Demand break down'!A75","v":"2009-12-12"},11,{"$f":"MONTH(B78)","v":12},{"$f":"IF(D78<=3,1,IF(D78<=6,2,IF(D78<=9,3,4)))","v":4},"Winter",{"$f":"'c_Demand break down'!F75","v":315.87798093750001},77.61364458173972,{"$f":"$G$1*VLOOKUP(Interface!$D$1,'r_Demand growth forecast'!$A$7:$C$14, 2, FALSE)+H78*($G$2*VLOOKUP(Interface!$D$1,'r_Demand growth forecast'!$A$7:$C$14,3, FALSE)-$G$1*VLOOKUP(Interface!$D$1,'r_Demand growth forecast'!$A$7:$C$14,2, FALSE))/$G$3","v":323.13865989157807},{"$f":"'r_Bacton IUK exports'!E75","v":0},{"$f":"'r_Moffat exports'!E75","v":8.5685538849518306},331.7072137765299,3593.3842468411485,{"$f":"M78*Interface!$E$4","v":3593.3842468411485}]
[74,{"$f":"'c_Demand break down'!A76","v":"2009-12-13"},11,12,4,"Winter",{"$f":"'c_Demand break down'!F76","v":328.75071613281204},90.486379777051752,{"$f":"$G$1*VLOOKUP(Interface!$D$1,'r_Demand growth forecast'!$A$7:$C$14, 2, FALSE)+H79*($G$2*VLOOKUP(Interface!$D$1,'r_Demand growth forecast'!$A$7:$C$14,3, FALSE)-$G$1*VLOOKUP(Interface!$D$1,'r_Demand growth forecast'!$A$7:$C$14,2, FALSE))/$G$3","v":338.38643727446077},{"$f":"'r_Bacton IUK exports'!E76","v":0},{"$f":"'r_Moffat exports'!E76","v":9.0360636826553673},347.42250095711614,3763.627952868439,{"$f":"M79*Interface!$E$4","v":3763.627952868439}]
[75,{"$f":"'c_Demand break down'!A77","v":"2009-12-14"},11,12,4,"Winter",{"$f":"'c_Demand break down'!F77","v":346.52794681640603},108.26361046064574,{"$f":"$G$1*VLOOKUP(Interface!$D$1,'r_Demand growth forecast'!$A$7:$C$14, 2, FALSE)+H80*($G$2*VLOOKUP(Interface!$D$1,'r_Demand growth forecast'!$A$7:$C$14,3, FALSE)-$G$1*VLOOKUP(Interface!$D$1,'r_Demand growth forecast'!$A$7:$C$14,2, FALSE))/$G$3","v":359.4435981524619},{"$f":"'r_Bacton IUK exports'!E77","v":0},{"$f":"'r_Moffat exports'!E77","v":10.236806125160129},369.68040427762202,4004.7478195394792,{"$f":"M80*Interface!$E$4","v":4004.7478195394792}]
[76,{"$f":"'c_Demand break down'!A78","v":"2009-12-15"},11,12,4,"Winter",{"$f":"'c_Demand break down'!F78","v":353.287087070312},115.02275071455171,{"$f":"$G$1*VLOOKUP(Interface!$D$1,'r_Demand growth forecast'!$A$7:$C$14, 2, FALSE)+H81*($G$2*VLOOKUP(Interface!$D$1,'r_Demand growth forecast'!$A$7:$C$14,3, FALSE)-$G$1*VLOOKUP(Interface!$D$1,'r_Demand growth forecast'!$A$7:$C$14,2, FALSE))/$G$3","v":367.4498116205034},{"$f":"'r_Bacton IUK exports'!E78","v":0},{"$f":"'r_Moffat exports'!E78","v":9.9917852409694472},377.44159686147282,4088.8248188003349,{"$f":"M81*Interface!$E$4","v":4088.8248188003349}]
[77,{"$f":"'c_Demand break down'!A79","v":"2009-12-16"},11,12,4,"Winter",{"$f":"'c_Demand break down'!F79","v":363.20265632812499},124.9383199723647,{"$f":"$G$1*VLOOKUP(Interface!$D$1,'r_Demand growth forecast'!$A$7:$C$14, 2, FALSE)+H82*($G$2*VLOOKUP(Interface!$D$1,'r_Demand growth forecast'!$A$7:$C$14,3, FALSE)-$G$1*VLOOKUP(Interface!$D$1,'r_Demand growth forecast'!$A$7:$C$14,2, FALSE))/$G$3","v":379.19482077153049},{"$f":"'r_Bacton IUK exports'!E79","v":0},{"$f":"'r_Moffat exports'!E79","v":9.7158543817742959},388.91067515330479,4213.069343935751,{"$f":"M82*Interface!$E$4","v":4213.069343935751}]
[78,{"$f":"'c_Demand break down'!A80","v":"2009-12-17"},12,12,4,"Winter",{"$f":"'c_Demand break down'!F80","v":387.64143565856904},149.37709930280874,{"$f":"$G$1*VLOOKUP(Interface!$D$1,'r_Demand growth forecast'!$A$7:$C$14, 2, FALSE)+H83*($G$2*VLOOKUP(Interface!$D$1,'r_Demand growth forecast'!$A$7:$C$14,3, FALSE)-$G$1*VLOOKUP(Interface!$D$1,'r_Demand growth forecast'!$A$7:$C$14,2, FALSE))/$G$3","v":408.14259768810314},{"$f":"'r_Bacton IUK exports'!E80","v":0},{"$f":"'r_Moffat exports'!E80","v":10.305636041458504},418.44823372956165,4533.0497159923416,{"$f":"M83*Interface!$E$4","v":4533.0497159923416}]
[79,{"$f":"'c_Demand break down'!A81","v":"2009-12-18"},12,12,4,"Winter",{"$f":"'c_Demand break down'!F81","v":415.65862813842801},177.39429178266772,{"$f":"$G$1*VLOOKUP(Interface!$D$1,'r_Demand growth forecast'!$A$7:$C$14, 2, FALSE)+H84*($G$2*VLOOKUP(Interface!$D$1,'r_Demand growth forecast'!$A$7:$C$14,3, FALSE)-$G$1*VLOOKUP(Interface!$D$1,'r_Demand growth forecast'!$A$7:$C$14,2, FALSE))/$G$3","v":441.32901124703676},{"$f":"'r_Bacton IUK exports'!E81","v":0},{"$f":"'r_Moffat exports'!E81","v":10.633605065960566},451.96261631299734,4896.1110225187003,{"$f":"M84*Interface!$E$4","v":4896.1110225187003}]
[80,{"$f":"'c_Demand break down'!A82","v":"2009-12-19"},12,12,4,"Winter",{"$f":"'c_Demand break down'!F82","v":393.80838001525899},155.5440436594987,{"$f":"$G$1*VLOOKUP(Interface!$D$1,'r_Demand growth forecast'!$A$7:$C$14, 2, FALSE)+H85*($G$2*VLOOKUP(Interface!$D$1,'r_Demand growth forecast'!$A$7:$C$14,3, FALSE)-$G$1*VLOOKUP(Interface!$D$1,'r_Demand growth forecast'!$A$7:$C$14,2, FALSE))/$G$3","v":415.44735407877897},{"$f":"'r_Bacton IUK exports'!E82","v":0},{"$f":"'r_Moffat exports'!E82","v":9.5176800881112857},424.96503416689023,4603.646215129922,{"$f":"M85*Interface!$E$4","v":4603.646215129922}]
[81,{"$f":"'c_Demand break down'!A83","v":"2009-12-20"},12,12,4,"Winter",{"$f":"'c_Demand break down'!F83","v":384.20467551391602},145.94033915815572,{"$f":"$G$1*VLOOKUP(Interface!$D$1,'r_Demand growth forecast'!$A$7:$C$14, 2, FALSE)+H86*($G$2*VLOOKUP(Interface!$D$1,'r_Demand growth forecast'!$A$7:$C$14,3, FALSE)-$G$1*VLOOKUP(Interface!$D$1,'r_Demand growth forecast'!$A$7:$C$14,2, FALSE))/$G$3","v":404.07174927795973},{"$f":"'r_Bacton IUK exports'!E83","v":0},{"$f":"'r_Moffat exports'!E83","v":10.000218645920908},414.07196792388061,4485.6416285193991,{"$f":"M86*Interface!$E$4","v":4485.6416285193991}]
[82,{"$f":"'c_Demand break down'!A84","v":"2009-12-21"},12,12,4,"Winter",{"$f":"'c_Demand break down'!F84","v":395.36991847412099},157.1055821183607,{"$f":"$G$1*VLOOKUP(Interface!$D$1,'r_Demand growth forecast'!$A$7:$C$14, 2, FALSE)+H87*($G$2*VLOOKUP(Interface!$D$1,'r_Demand growth forecast'!$A$7:$C$14,3, FALSE)-$G$1*VLOOKUP(Interface!$D$1,'r_Demand growth forecast'!$A$7:$C$14,2, FALSE))/$G$3","v":417.29699911802504},{"$f":"'r_Bacton IUK exports'!E84","v":0},{"$f":"'r_Moffat exports'!E84","v":10.845358767872304},428.14235788589735,4638.0661629779261,{"$f":"M87*Interface!$E$4","v":4638.0661629779261}]
[83,{"$f":"'c_Demand break down'!A85","v":"2009-12-22"},12,12,4,"Winter",{"$f":"'c_Demand break down'!F85","v":386.15648999999996},147.89215364423967,{"$f":"$G$1*VLOOKUP(Interface!$D$1,'r_Demand growth forecast'!$A$7:$C$14, 2, FALSE)+H88*($G$2*VLOOKUP(Interface!$D$1,'r_Demand growth forecast'!$A$7:$C$14,3, FALSE)-$G$1*VLOOKUP(Interface!$D$1,'r_Demand growth forecast'!$A$7:$C$14,2, FALSE))/$G$3","v":406.38367695494105},{"$f":"'r_Bacton IUK exports'!E85","v":0},{"$f":"'r_Moffat exports'!E85","v":10.673893644930125},417.05757059987116,4517.984662308404,{"$f":"M88*Interface!$E$4","v":4517.984662308404}]
[84,{"$f":"'c_Demand break down'!A86","v":"2009-12-23"},12,12,4,"Winter",{"$f":"'c_Demand break down'!F86","v":379.79454781250001},{"$f":"G89-$G$1","v":141.53021145673972},{"$f":"$G$1*VLOOKUP(Interface!$D$1,'r_Demand growth forecast'!$A$7:$C$14, 2, FALSE)+H89*($G$2*VLOOKUP(Interface!$D$1,'r_Demand growth forecast'!$A$7:$C$14,3, FALSE)-$G$1*VLOOKUP(Interface!$D$1,'r_Demand growth forecast'!$A$7:$C$14,2, FALSE))/$G$3","v":398.84794529217089},{"$f":"'r_Bacton IUK exports'!E86","v":0},{"$f":"'r_Moffat exports'!E86","v":10.443396846163459},409.29134213833436,4433.8531093845759,{"$f":"M89*Interface!$E$4","v":4433.8531093845759}]
[85,{"$f":"'c_Demand break down'!A87","v":"2009-12-24"},13,12,4,"Winter",{"$f":"'c_Demand break down'!F87","v":353.15198524902297},114.88764889326268,{"$f":"$G$1*VLOOKUP(Interface!$D$1,'r_Demand growth forecast'!$A$7:$C$14, 2, FALSE)+H90*($G$2*VLOOKUP(Interface!$D$1,'r_Demand growth forecast'!$A$7:$C$14,3, FALSE)-$G$1*VLOOKUP(Interface!$D$1,'r_Demand growth forecast'!$A$7:$C$14,2, FALSE))/$G$3","v":367.28978327658263},{"$f":"'r_Bacton IUK exports'!E87","v":0},{"$f":"'r_Moffat exports'!E87","v":10.109370388712867},377.3991536652955,4088.3650316561461,{"$f":"M90*Interface!$E$4","v":4088.3650316561461}]
[86,{"$f":"'c_Demand break down'!A88","v":"2009-12-25"},13,12,4,"Winter",{"$f":"'c_Demand break down'!F88","v":319.01805536132798},80.753719005567689,{"$f":"$G$1*VLOOKUP(Interface!$D$1,'r_Demand growth forecast'!$A$7:$C$14, 2, FALSE)+H91*($G$2*VLOOKUP(Interface!$D$1,'r_Demand growth forecast'!$A$7:$C$14,3, FALSE)-$G$1*VLOOKUP(Interface!$D$1,'r_Demand growth forecast'!$A$7:$C$14,2, FALSE))/$G$3","v":326.85808354581815},{"$f":"'r_Bacton IUK exports'!E88","v":0},{"$f":"'r_Moffat exports'!E88","v":8.6954963771172604},335.5535799229354,3635.0519313051591,{"$f":"M91*Interface!$E$4","v":3635.0519313051591}]
[87,{"$f":"'c_Demand break down'!A89","v":"2009-12-26"},13,12,4,"Winter",{"$f":"'c_Demand break down'!F89","v":293.16224913574194},54.897912779981652,{"$f":"$G$1*VLOOKUP(Interface!$D$1,'r_Demand growth forecast'!$A$7:$C$14, 2, FALSE)+H92*($G$2*VLOOKUP(Interface!$D$1,'r_Demand growth forecast'!$A$7:$C$14,3, FALSE)-$G$1*VLOOKUP(Interface!$D$1,'r_Demand growth forecast'!$A$7:$C$14,2, FALSE))/$G$3","v":296.23183579030899},{"$f":"'r_Bacton IUK exports'!E89","v":0},{"$f":"'r_Moffat exports'!E89","v":8.2607480075924933},304.49258379790149,3298.5681602826667,{"$f":"M92*Interface!$E$4","v":3298.5681602826667}]
[88,{"$f":"'c_Demand break down'!A90","v":"2009-12-27"},13,12,4,"Winter",{"$f":"'c_Demand break down'!F90","v":316.41832622558599},78.153989869825693,{"$f":"$G$1*VLOOKUP(Interface!$D$1,'r_Demand growth forecast'!$A$7:$C$14, 2, FALSE)+H93*($G$2*VLOOKUP(Interface!$D$1,'r_Demand growth forecast'!$A$7:$C$14,3, FALSE)-$G$1*VLOOKUP(Interface!$D$1,'r_Demand growth forecast'!$A$7:$C$14,2, FALSE))/$G$3","v":323.77869983162321},{"$f":"'r_Bacton IUK exports'!E90","v":0},{"$f":"'r_Moffat exports'!E90","v":9.5701471614900697},333.34884699311328,3611.1680594763961,{"$f":"M93*Interface!$E$4","v":3611.1680594763961}]
[89,{"$f":"'c_Demand break down'!A91","v":"2009-12-28"},13,12,4,"Winter",{"$f":"'c_Demand break down'!F91","v":345.19273975585901},106.92840340009872,{"$f":"$G$1*VLOOKUP(Interface!$D$1,'r_Demand growth forecast'!$A$7:$C$14, 2, FALSE)+H94*($G$2*VLOOKUP(Interface!$D$1,'r_Demand growth forecast'!$A$7:$C$14,3, FALSE)-$G$1*VLOOKUP(Interface!$D$1,'r_Demand growth forecast'!$A$7:$C$14,2, FALSE))/$G$3","v":357.86204305089433},{"$f":"'r_Bacton IUK exports'!E91","v":0},{"$f":"'r_Moffat exports'!E91","v":9.8118868989357289},367.67392994983004,3983.0116831465089,{"$f":"M94*Interface!$E$4","v":3983.0116831465089}]
[90,{"$f":"'c_Demand break down'!A92","v":"2009-12-29"},13,12,4,"Winter",{"$f":"'c_Demand break down'!F92","v":352.26672707031202},114.00239071455172,{"$f":"$G$1*VLOOKUP(Interface!$D$1,'r_Demand growth forecast'!$A$7:$C$14, 2, FALSE)+H95*($G$2*VLOOKUP(Interface!$D$1,'r_Demand growth forecast'!$A$7:$C$14,3, FALSE)-$G$1*VLOOKUP(Interface!$D$1,'r_Demand growth forecast'!$A$7:$C$14,2, FALSE))/$G$3","v":366.24119341354583},{"$f":"'r_Bacton IUK exports'!E92","v":0},{"$f":"'r_Moffat exports'!E92","v":10.284586484301668},376.52577989784749,4078.9037736333817,{"$f":"M95*Interface!$E$4","v":4078.9037736333817}]
[91,{"$f":"'c_Demand break down'!A93","v":"2009-12-30"},13,12,4,"Winter",{"$f":"'c_Demand break down'!F93","v":341.97957830078099},103.71524194502069,{"$f":"$G$1*VLOOKUP(Interface!$D$1,'r_Demand growth forecast'!$A$7:$C$14, 2, FALSE)+H96*($G$2*VLOOKUP(Interface!$D$1,'r_Demand growth forecast'!$A$7:$C$14,3, FALSE)-$G$1*VLOOKUP(Interface!$D$1,'r_Demand growth forecast'!$A$7:$C$14,2, FALSE))/$G$3","v":354.05604768014115},{"$f":"'r_Bacton IUK exports'!E93","v":0},{"$f":"'r_Moffat exports'!E93","v":10.027384610886186},364.08343229102735,3944.1158220086995,{"$f":"M96*Interface!$E$4","v":3944.1158220086995}]
[92,{"$f":"'c_Demand break down'!A94","v":"2009-12-31"},14,12,4,"Winter",{"$f":"'c_Demand break down'!F94","v":366.97959680664098},128.71526045088069,{"$f":"$G$1*VLOOKUP(Interface!$D$1,'r_Demand growth forecast'!$A$7:$C$14, 2, FALSE)+H97*($G$2*VLOOKUP(Interface!$D$1,'r_Demand growth forecast'!$A$7:$C$14,3, FALSE)-$G$1*VLOOKUP(Interface!$D$1,'r_Demand growth forecast'!$A$7:$C$14,2, FALSE))/$G$3","v":383.66861338289277},{"$f":"'r_Bacton IUK exports'!E94","v":0},{"$f":"'r_Moffat exports'!E94","v":10.449501637711275},394.11811502060402,4269.4815400182033,{"$f":"M97*Interface!$E$4","v":4269.4815400182033}]
[93,{"$f":"'c_Demand break down'!A95","v":"2010-01-01"},14,1,1,"Winter",{"$f":"'c_Demand break down'!F95","v":352.82544172851601},114.56110537275572,{"$f":"$G$1*VLOOKUP(Interface!$D$1,'r_Demand growth forecast'!$A$7:$C$14, 2, FALSE)+H98*($G$2*VLOOKUP(Interface!$D$1,'r_Demand growth forecast'!$A$7:$C$14,3, FALSE)-$G$1*VLOOKUP(Interface!$D$1,'r_Demand growth forecast'!$A$7:$C$14,2, FALSE))/$G$3","v":366.90299190466612},{"$f":"'r_Bacton IUK exports'!E95","v":0},{"$f":"'r_Moffat exports'!E95","v":9.4792543927162622},376.38224629738238,4077.3488741395436,{"$f":"M98*Interface!$E$4","v":4077.3488741395436}]
[94,{"$f":"'c_Demand break down'!A96","v":"2010-01-02"},14,1,1,"Winter",{"$f":"'c_Demand break down'!F96","v":363.26623266601598},125.00189631025569,{"$f":"$G$1*VLOOKUP(Interface!$D$1,'r_Demand growth forecast'!$A$7:$C$14, 2, FALSE)+H99*($G$2*VLOOKUP(Interface!$D$1,'r_Demand growth forecast'!$A$7:$C$14,3, FALSE)-$G$1*VLOOKUP(Interface!$D$1,'r_Demand growth forecast'!$A$7:$C$14,2, FALSE))/$G$3","v":379.27012705510367},{"$f":"'r_Bacton IUK exports'!E96","v":0},{"$f":"'r_Moffat exports'!E96","v":9.9079337130323424},389.17806076813599,4215.9659323012174,{"$f":"M99*Interface!$E$4","v":4215.9659323012174}]
[95,{"$f":"'c_Demand break down'!A97","v":"2010-01-03"},14,1,1,"Winter",{"$f":"'c_Demand break down'!F97","v":374.79793124023399},136.5335948844737,{"$f":"$G$1*VLOOKUP(Interface!$D$1,'r_Demand growth forecast'!$A$7:$C$14, 2, FALSE)+H100*($G$2*VLOOKUP(Interface!$D$1,'r_Demand growth forecast'!$A$7:$C$14,3, FALSE)-$G$1*VLOOKUP(Interface!$D$1,'r_Demand growth forecast'!$A$7:$C$14,2, FALSE))/$G$3","v":392.92944421174161},{"$f":"'r_Bacton IUK exports'!E97","v":0},{"$f":"'r_Moffat exports'!E97","v":9.3096641413295629},402.23910835307117,4357.4562607888201,{"$f":"M100*Interface!$E$4","v":4357.4562607888201}]
[96,{"$f":"'c_Demand break down'!A98","v":"2010-01-04"},14,1,1,"Winter",{"$f":"'c_Demand break down'!F98","v":411.47343000000001},173.20909364423972,{"$f":"$G$1*VLOOKUP(Interface!$D$1,'r_Demand growth forecast'!$A$7:$C$14, 2, FALSE)+H101*($G$2*VLOOKUP(Interface!$D$1,'r_Demand growth forecast'!$A$7:$C$14,3, FALSE)-$G$1*VLOOKUP(Interface!$D$1,'r_Demand growth forecast'!$A$7:$C$14,2, FALSE))/$G$3","v":436.37163672252655},{"$f":"'r_Bacton IUK exports'!E98","v":0},{"$f":"'r_Moffat exports'!E98","v":11.349913155535559},447.72154987806209,4850.1675498290469,{"$f":"M101*Interface!$E$4","v":4850.1675498290469}]
[97,{"$f":"'c_Demand break down'!A99","v":"2010-01-05"},14,1,1,"Winter",{"$f":"'c_Demand break down'!F99","v":412.06458000000003},173.80024364423974,{"$f":"$G$1*VLOOKUP(Interface!$D$1,'r_Demand growth forecast'!$A$7:$C$14, 2, FALSE)+H102*($G$2*VLOOKUP(Interface!$D$1,'r_Demand growth forecast'!$A$7:$C$14,3, FALSE)-$G$1*VLOOKUP(Interface!$D$1,'r_Demand growth forecast'!$A$7:$C$14,2, FALSE))/$G$3","v":437.07185493280826},{"$f":"'r_Bacton IUK exports'!E99","v":0},{"$f":"'r_Moffat exports'!E99","v":10.687948104610072},447.75980303741835,4850.5819463043526,{"$f":"M102*Interface!$E$4","v":4850.5819463043526}]
[98,{"$f":"'c_Demand break down'!A100","v":"2010-01-06"},14,1,1,"Winter",{"$f":"'c_Demand break down'!F100","v":418.28298950195301},180.01865314619272,{"$f":"$G$1*VLOOKUP(Interface!$D$1,'r_Demand growth forecast'!$A$7:$C$14, 2, FALSE)+H103*($G$2*VLOOKUP(Interface!$D$1,'r_Demand growth forecast'!$A$7:$C$14,3, FALSE)-$G$1*VLOOKUP(Interface!$D$1,'r_Demand growth forecast'!$A$7:$C$14,2, FALSE))/$G$3","v":444.43757187817914},{"$f":"'r_Bacton IUK exports'!E100","v":0},{"$f":"'r_Moffat exports'!E100","v":11.345233253788185},455.78280513196734,4937.4951279946026,{"$f":"M103*Interface!$E$4","v":4937.4951279946026}]
[99,{"$f":"'c_Demand break down'!A101","v":"2010-01-07"},15,1,1,"Winter",{"$f":"'c_Demand break down'!F101","v":426.74558999999999},188.4812536442397,{"$f":"$G$1*VLOOKUP(Interface!$D$1,'r_Demand growth forecast'!$A$7:$C$14, 2, FALSE)+H104*($G$2*VLOOKUP(Interface!$D$1,'r_Demand growth forecast'!$A$7:$C$14,3, FALSE)-$G$1*VLOOKUP(Interface!$D$1,'r_Demand growth forecast'!$A$7:$C$14,2, FALSE))/$G$3","v":454.46153698867749},{"$f":"'r_Bacton IUK exports'!E101","v":0},{"$f":"'r_Moffat exports'!E101","v":12.260642142796099},466.72217913147358,5056.0013665312536,{"$f":"M104*Interface!$E$4","v":5056.0013665312536}]
[100,{"$f":"'c_Demand break down'!A102","v":"2010-01-08"},15,1,1,"Winter",{"$f":"'c_Demand break down'!F102","v":437.33413999999999},199.0698036442397,{"$f":"$G$1*VLOOKUP(Interface!$D$1,'r_Demand growth forecast'!$A$7:$C$14, 2, FALSE)+H105*($G$2*VLOOKUP(Interface!$D$1,'r_Demand growth forecast'!$A$7:$C$14,3, FALSE)-$G$1*VLOOKUP(Interface!$D$1,'r_Demand growth forecast'!$A$7:$C$14,2, FALSE))/$G$3","v":467.00369300741704},{"$f":"'r_Bacton IUK exports'!E102","v":0},{"$f":"'r_Moffat exports'!E102","v":12.138836825569896},479.14252983298695,5190.5510256807474,{"$f":"M105*Interface!$E$4","v":5190.5510256807474}]
[101,{"$f":"'c_Demand break down'!A103","v":"2010-01-09"},15,1,1,"Winter",{"$f":"'c_Demand break down'!F103","v":409.28276999999997},171.01843364423968,{"$f":"$G$1*VLOOKUP(Interface!$D$1,'r_Demand growth forecast'!$A$7:$C$14, 2, FALSE)+H106*($G$2*VLOOKUP(Interface!$D$1,'r_Demand growth forecast'!$A$7:$C$14,3, FALSE)-$G$1*VLOOKUP(Interface!$D$1,'r_Demand growth forecast'!$A$7:$C$14,2, FALSE))/$G$3","v":433.77679611602122},{"$f":"'r_Bacton IUK exports'!E103","v":0},{"$f":"'r_Moffat exports'!E103","v":11.689094115811605},445.46589023183282,4825.7319888814454,{"$f":"M106*Interface!$E$4","v":4825.7319888814454}]
[102,{"$f":"'c_Demand break down'!A104","v":"2010-01-10"},15,1,1,"Winter",{"$f":"'c_Demand break down'!F104","v":386.43002999999999},148.1656936442397,{"$f":"$G$1*VLOOKUP(Interface!$D$1,'r_Demand growth forecast'!$A$7:$C$14, 2, FALSE)+H107*($G$2*VLOOKUP(Interface!$D$1,'r_Demand growth forecast'!$A$7:$C$14,3, FALSE)-$G$1*VLOOKUP(Interface!$D$1,'r_Demand growth forecast'!$A$7:$C$14,2, FALSE))/$G$3","v":406.70768556399207},{"$f":"'r_Bacton IUK exports'!E104","v":0},{"$f":"'r_Moffat exports'!E104","v":9.9800718187300959},416.68775738272217,4513.978475727029,{"$f":"M107*Interface!$E$4","v":4513.978475727029}]
[103,{"$f":"'c_Demand break down'!A105","v":"2010-01-11"},15,1,1,"Winter",{"$f":"'c_Demand break down'!F105","v":399.86565000000002},161.60131364423972,{"$f":"$G$1*VLOOKUP(Interface!$D$1,'r_Demand growth forecast'!$A$7:$C$14, 2, FALSE)+H108*($G$2*VLOOKUP(Interface!$D$1,'r_Demand growth forecast'!$A$7:$C$14,3, FALSE)-$G$1*VLOOKUP(Interface!$D$1,'r_Demand growth forecast'!$A$7:$C$14,2, FALSE))/$G$3","v":422.6222009838084},{"$f":"'r_Bacton IUK exports'!E105","v":0},{"$f":"'r_Moffat exports'!E105","v":10.435904794349696},433.05810577815811,4691.3184598947864,{"$f":"M108*Interface!$E$4","v":4691.3184598947864}]
[104,{"$f":"'c_Demand break down'!A106","v":"2010-01-12"},15,1,1,"Winter",{"$f":"'c_Demand break down'!F106","v":404.39561220703098},166.13127585127069,{"$f":"$G$1*VLOOKUP(Interface!$D$1,'r_Demand growth forecast'!$A$7:$C$14, 2, FALSE)+H109*($G$2*VLOOKUP(Interface!$D$1,'r_Demand growth forecast'!$A$7:$C$14,3, FALSE)-$G$1*VLOOKUP(Interface!$D$1,'r_Demand growth forecast'!$A$7:$C$14,2, FALSE))/$G$3","v":427.98794915136455},{"$f":"'r_Bacton IUK exports'!E106","v":0},{"$f":"'r_Moffat exports'!E106","v":10.212901648653709},438.20085080001826,4747.0298167165975,{"$f":"M109*Interface!$E$4","v":4747.0298167165975}]
[105,{"$f":"'c_Demand break down'!A107","v":"2010-01-13"},15,1,1,"Winter",{"$f":"'c_Demand break down'!F107","v":409.50172509765599},171.2373887418957,{"$f":"$G$1*VLOOKUP(Interface!$D$1,'r_Demand growth forecast'!$A$7:$C$14, 2, FALSE)+H110*($G$2*VLOOKUP(Interface!$D$1,'r_Demand growth forecast'!$A$7:$C$14,3, FALSE)-$G$1*VLOOKUP(Interface!$D$1,'r_Demand growth forecast'!$A$7:$C$14,2, FALSE))/$G$3","v":434.03614881265105},{"$f":"'r_Bacton IUK exports'!E107","v":0},{"$f":"'r_Moffat exports'!E107","v":10.851459985186441},444.88760879783752,4819.4674661069739,{"$f":"M110*Interface!$E$4","v":4819.4674661069739}]
[106,{"$f":"'c_Demand break down'!A108","v":"2010-01-14"},16,1,1,"Winter",{"$f":"'c_Demand break down'!F108","v":391.58387027343701},153.31953391767672,{"$f":"$G$1*VLOOKUP(Interface!$D$1,'r_Demand growth forecast'!$A$7:$C$14, 2, FALSE)+H111*($G$2*VLOOKUP(Interface!$D$1,'r_Demand growth forecast'!$A$7:$C$14,3, FALSE)-$G$1*VLOOKUP(Interface!$D$1,'r_Demand growth forecast'!$A$7:$C$14,2, FALSE))/$G$3","v":412.81241839380448},{"$f":"'r_Bacton IUK exports'!E108","v":0},{"$f":"'r_Moffat exports'!E108","v":9.8704328506665213},422.68285124447101,4578.9233275313545,{"$f":"M111*Interface!$E$4","v":4578.9233275313545}]
[107,{"$f":"'c_Demand break down'!A109","v":"2010-01-15"},16,1,1,"Winter",{"$f":"'c_Demand break down'!F109","v":368.20166726562502},129.93733090986473,{"$f":"$G$1*VLOOKUP(Interface!$D$1,'r_Demand growth forecast'!$A$7:$C$14, 2, FALSE)+H112*($G$2*VLOOKUP(Interface!$D$1,'r_Demand growth forecast'!$A$7:$C$14,3, FALSE)-$G$1*VLOOKUP(Interface!$D$1,'r_Demand growth forecast'!$A$7:$C$14,2, FALSE))/$G$3","v":385.11615798177274},{"$f":"'r_Bacton IUK exports'!E109","v":0},{"$f":"'r_Moffat exports'!E109","v":8.3877262420970489},393.50388422386982,4262.8275777971821,{"$f":"M112*Interface!$E$4","v":4262.8275777971821}]
[108,{"$f":"'c_Demand break down'!A110","v":"2010-01-16"},16,1,1,"Winter",{"$f":"'c_Demand break down'!F110","v":331.671653203125},93.407316847364712,{"$f":"$G$1*VLOOKUP(Interface!$D$1,'r_Demand growth forecast'!$A$7:$C$14, 2, FALSE)+H113*($G$2*VLOOKUP(Interface!$D$1,'r_Demand growth forecast'!$A$7:$C$14,3, FALSE)-$G$1*VLOOKUP(Interface!$D$1,'r_Demand growth forecast'!$A$7:$C$14,2, FALSE))/$G$3","v":341.84629234968685},{"$f":"'r_Bacton IUK exports'!E110","v":7.0184769852288165},{"$f":"'r_Moffat exports'!E110","v":8.4284439149979367},357.29321324991361,3870.557379136314,{"$f":"M113*Interface!$E$4","v":3870.557379136314}]
[109,{"$f":"'c_Demand break down'!A111","v":"2010-01-17"},16,1,1,"Winter",{"$f":"'c_Demand break down'!F111","v":316.83228583984396},78.56794948408367,{"$f":"$G$1*VLOOKUP(Interface!$D$1,'r_Demand growth forecast'!$A$7:$C$14, 2, FALSE)+H114*($G$2*VLOOKUP(Interface!$D$1,'r_Demand growth forecast'!$A$7:$C$14,3, FALSE)-$G$1*VLOOKUP(Interface!$D$1,'r_Demand growth forecast'!$A$7:$C$14,2, FALSE))/$G$3","v":324.26903571967972},{"$f":"'r_Bacton IUK exports'!E111","v":5.6252238022154488},{"$f":"'r_Moffat exports'!E111","v":8.1408181623924669},338.03507768428761,3661.9339965538879,{"$f":"M114*Interface!$E$4","v":3661.9339965538879}]
[110,{"$f":"'c_Demand break down'!A112","v":"2010-01-18"},16,1,1,"Winter",{"$f":"'c_Demand break down'!F112","v":340.27895683593704},102.01462048017675,{"$f":"$G$1*VLOOKUP(Interface!$D$1,'r_Demand growth forecast'!$A$7:$C$14, 2, FALSE)+H115*($G$2*VLOOKUP(Interface!$D$1,'r_Demand growth forecast'!$A$7:$C$14,3, FALSE)-$G$1*VLOOKUP(Interface!$D$1,'r_Demand growth forecast'!$A$7:$C$14,2, FALSE))/$G$3","v":352.0416585767332},{"$f":"'r_Bacton IUK exports'!E112","v":4.8502436654133323},{"$f":"'r_Moffat exports'!E112","v":9.92853559739026},366.82043783953679,3973.7658031157021,{"$f":"M115*Interface!$E$4","v":3973.7658031157021}]
[111,{"$f":"'c_Demand break down'!A113","v":"2010-01-19"},16,1,1,"Winter",{"$f":"'c_Demand break down'!F113","v":351.74249242187449},113.4781560661142,{"$f":"$G$1*VLOOKUP(Interface!$D$1,'r_Demand growth forecast'!$A$7:$C$14, 2, FALSE)+H116*($G$2*VLOOKUP(Interface!$D$1,'r_Demand growth forecast'!$A$7:$C$14,3, FALSE)-$G$1*VLOOKUP(Interface!$D$1,'r_Demand growth forecast'!$A$7:$C$14,2, FALSE))/$G$3","v":365.62023655437883},{"$f":"'r_Bacton IUK exports'!E113","v":4.1904773878108807},{"$f":"'r_Moffat exports'!E113","v":9.2155188196820301},379.02623276187171,4105.9911795093567,{"$f":"M116*Interface!$E$4","v":4105.9911795093567}]
[112,{"$f":"'c_Demand break down'!A114","v":"2010-01-20"},16,1,1,"Winter",{"$f":"'c_Demand break down'!F114","v":366.16663269531199},127.9022963395517,{"$f":"$G$1*VLOOKUP(Interface!$D$1,'r_Demand growth forecast'!$A$7:$C$14, 2, FALSE)+H117*($G$2*VLOOKUP(Interface!$D$1,'r_Demand growth forecast'!$A$7:$C$14,3, FALSE)-$G$1*VLOOKUP(Interface!$D$1,'r_Demand growth forecast'!$A$7:$C$14,2, FALSE))/$G$3","v":382.70565596927861},{"$f":"'r_Bacton IUK exports'!E114","v":0},{"$f":"'r_Moffat exports'!E114","v":10.441052148707323},393.14670811798595,4258.9582890421416,{"$f":"M117*Interface!$E$4","v":4258.9582890421416}]
[113,{"$f":"'c_Demand break down'!A115","v":"2010-01-21"},17,1,1,"Winter",{"$f":"'c_Demand break down'!F115","v":355.39846734374999},117.13413098798969,{"$f":"$G$1*VLOOKUP(Interface!$D$1,'r_Demand growth forecast'!$A$7:$C$14, 2, FALSE)+H118*($G$2*VLOOKUP(Interface!$D$1,'r_Demand growth forecast'!$A$7:$C$14,3, FALSE)-$G$1*VLOOKUP(Interface!$D$1,'r_Demand growth forecast'!$A$7:$C$14,2, FALSE))/$G$3","v":369.95074525205337},{"$f":"'r_Bacton IUK exports'!E115","v":0},{"$f":"'r_Moffat exports'!E115","v":9.7312950723406431},379.68204032439399,4113.0955428341604,{"$f":"M118*Interface!$E$4","v":4113.0955428341604}]
[114,{"$f":"'c_Demand break down'!A116","v":"2010-01-22"},17,1,1,"Winter",{"$f":"'c_Demand break down'!F116","v":332.24449998046873},93.980163624708439,{"$f":"$G$1*VLOOKUP(Interface!$D$1,'r_Demand growth forecast'!$A$7:$C$14, 2, FALSE)+H119*($G$2*VLOOKUP(Interface!$D$1,'r_Demand growth forecast'!$A$7:$C$14,3, FALSE)-$G$1*VLOOKUP(Interface!$D$1,'r_Demand growth forecast'!$A$7:$C$14,2, FALSE))/$G$3","v":342.5248303606777},{"$f":"'r_Bacton IUK exports'!E116","v":4.5347612020359902},{"$f":"'r_Moffat exports'!E116","v":10.081741560453896},357.14133312316761,3868.9120617232747,{"$f":"M119*Interface!$E$4","v":3868.9120617232747}]
[115,{"$f":"'c_Demand break down'!A117","v":"2010-01-23"},17,1,1,"Winter",{"$f":"'c_Demand break down'!F117","v":323.44011048828099},85.175774132520701,{"$f":"$G$1*VLOOKUP(Interface!$D$1,'r_Demand growth forecast'!$A$7:$C$14, 2, FALSE)+H120*($G$2*VLOOKUP(Interface!$D$1,'r_Demand growth forecast'!$A$7:$C$14,3, FALSE)-$G$1*VLOOKUP(Interface!$D$1,'r_Demand growth forecast'!$A$7:$C$14,2, FALSE))/$G$3","v":332.09601558804411},{"$f":"'r_Bacton IUK exports'!E117","v":0},{"$f":"'r_Moffat exports'!E117","v":10.183392773349134},342.27940836139322,3707.9128307789729,{"$f":"M120*Interface!$E$4","v":3707.9128307789729}]
[116,{"$f":"'c_Demand break down'!A118","v":"2010-01-24"},17,1,1,"Winter",{"$f":"'c_Demand break down'!F118","v":328.93075343750002},90.666417081739723,{"$f":"$G$1*VLOOKUP(Interface!$D$1,'r_Demand growth forecast'!$A$7:$C$14, 2, FALSE)+H121*($G$2*VLOOKUP(Interface!$D$1,'r_Demand growth forecast'!$A$7:$C$14,3, FALSE)-$G$1*VLOOKUP(Interface!$D$1,'r_Demand growth forecast'!$A$7:$C$14,2, FALSE))/$G$3","v":338.59969177716317},{"$f":"'r_Bacton IUK exports'!E118","v":0.41376552772340941},{"$f":"'r_Moffat exports'!E118","v":10.072820272571118},349.08627757745768,3781.6516449965993,{"$f":"M121*Interface!$E$4","v":3781.6516449965993}]
[117,{"$f":"'c_Demand break down'!A119","v":"2010-01-25"},17,1,1,"Winter",{"$f":"'c_Demand break down'!F119","v":368.68960582031201},130.42526946455172,{"$f":"$G$1*VLOOKUP(Interface!$D$1,'r_Demand growth forecast'!$A$7:$C$14, 2, FALSE)+H122*($G$2*VLOOKUP(Interface!$D$1,'r_Demand growth forecast'!$A$7:$C$14,3, FALSE)-$G$1*VLOOKUP(Interface!$D$1,'r_Demand growth forecast'!$A$7:$C$14,2, FALSE))/$G$3","v":385.69412205432684},{"$f":"'r_Bacton IUK exports'!E119","v":0},{"$f":"'r_Moffat exports'!E119","v":10.967179382819909},396.66130143714673,4297.0318784686106,{"$f":"M122*Interface!$E$4","v":4297.0318784686106}]
[118,{"$f":"'c_Demand break down'!A120","v":"2010-01-26"},17,1,1,"Winter",{"$f":"'c_Demand break down'!F120","v":385.12945999999999},146.8651236442397,{"$f":"$G$1*VLOOKUP(Interface!$D$1,'r_Demand growth forecast'!$A$7:$C$14, 2, FALSE)+H123*($G$2*VLOOKUP(Interface!$D$1,'r_Demand growth forecast'!$A$7:$C$14,3, FALSE)-$G$1*VLOOKUP(Interface!$D$1,'r_Demand growth forecast'!$A$7:$C$14,2, FALSE))/$G$3","v":405.16715812130235},{"$f":"'r_Bacton IUK exports'!E120","v":5.3913267779819796},{"$f":"'r_Moffat exports'!E120","v":11.280577821114489},421.83906272039883,4569.7825664500806,{"$f":"M123*Interface!$E$4","v":4569.7825664500806}]
[119,{"$f":"'c_Demand break down'!A121","v":"2010-01-27"},17,1,1,"Winter",{"$f":"'c_Demand break down'!F121","v":360.81119634765599},122.5468599918957,{"$f":"$G$1*VLOOKUP(Interface!$D$1,'r_Demand growth forecast'!$A$7:$C$14, 2, FALSE)+H124*($G$2*VLOOKUP(Interface!$D$1,'r_Demand growth forecast'!$A$7:$C$14,3, FALSE)-$G$1*VLOOKUP(Interface!$D$1,'r_Demand growth forecast'!$A$7:$C$14,2, FALSE))/$G$3","v":376.36213223649844},{"$f":"'r_Bacton IUK exports'!E121","v":0},{"$f":"'r_Moffat exports'!E121","v":9.3490236053379796},385.71115584183644,4178.4089512346145,{"$f":"M124*Interface!$E$4","v":4178.4089512346145}]
[120,{"$f":"'c_Demand break down'!A122","v":"2010-01-28"},18,1,1,"Winter",{"$f":"'c_Demand break down'!F122","v":338.87389999999999},100.6095636442397,{"$f":"$G$1*VLOOKUP(Interface!$D$1,'r_Demand growth forecast'!$A$7:$C$14, 2, FALSE)+H125*($G$2*VLOOKUP(Interface!$D$1,'r_Demand growth forecast'!$A$7:$C$14,3, FALSE)-$G$1*VLOOKUP(Interface!$D$1,'r_Demand growth forecast'!$A$7:$C$14,2, FALSE))/$G$3","v":350.37736629388814},{"$f":"'r_Bacton IUK exports'!E122","v":0},{"$f":"'r_Moffat exports'!E122","v":9.2656227305397945},359.64298902442795,3896.0125001016281,{"$f":"M125*Interface!$E$4","v":3896.0125001016281}]
[121,{"$f":"'c_Demand break down'!A123","v":"2010-01-29"},18,1,1,"Winter",{"$f":"'c_Demand break down'!F123","v":348.79597484375},110.53163848798971,{"$f":"$G$1*VLOOKUP(Interface!$D$1,'r_Demand growth forecast'!$A$7:$C$14, 2, FALSE)+H126*($G$2*VLOOKUP(Interface!$D$1,'r_Demand growth forecast'!$A$7:$C$14,3, FALSE)-$G$1*VLOOKUP(Interface!$D$1,'r_Demand growth forecast'!$A$7:$C$14,2, FALSE))/$G$3","v":362.13008132285086},{"$f":"'r_Bacton IUK exports'!E123","v":0},{"$f":"'r_Moffat exports'!E123","v":9.4567939067166868},371.58687522956757,4025.4006193619057,{"$f":"M126*Interface!$E$4","v":4025.4006193619057}]
[122,{"$f":"'c_Demand break down'!A124","v":"2010-01-30"},18,1,1,"Winter",{"$f":"'c_Demand break down'!F124","v":354.22524050781203},115.96090415205174,{"$f":"$G$1*VLOOKUP(Interface!$D$1,'r_Demand growth forecast'!$A$7:$C$14, 2, FALSE)+H127*($G$2*VLOOKUP(Interface!$D$1,'r_Demand growth forecast'!$A$7:$C$14,3, FALSE)-$G$1*VLOOKUP(Interface!$D$1,'r_Demand growth forecast'!$A$7:$C$14,2, FALSE))/$G$3","v":368.56105601021136},{"$f":"'r_Bacton IUK exports'!E124","v":0},{"$f":"'r_Moffat exports'!E124","v":9.5237607535805981},378.08481676379193,4095.7928200021579,{"$f":"M127*Interface!$E$4","v":4095.7928200021579}]
[123,{"$f":"'c_Demand break down'!A125","v":"2010-01-31"},18,1,1,"Winter",{"$f":"'c_Demand break down'!F125","v":363.50662267578099},125.2422863200207,{"$f":"$G$1*VLOOKUP(Interface!$D$1,'r_Demand growth forecast'!$A$7:$C$14, 2, FALSE)+H128*($G$2*VLOOKUP(Interface!$D$1,'r_Demand growth forecast'!$A$7:$C$14,3, FALSE)-$G$1*VLOOKUP(Interface!$D$1,'r_Demand growth forecast'!$A$7:$C$14,2, FALSE))/$G$3","v":379.55486944266562},{"$f":"'r_Bacton IUK exports'!E125","v":0},{"$f":"'r_Moffat exports'!E125","v":9.2853164598160873},388.84018590248172,4212.3057338815843,{"$f":"M128*Interface!$E$4","v":4212.3057338815843}]
[124,{"$f":"'c_Demand break down'!A126","v":"2010-02-01"},18,2,1,"Winter",{"$f":"'c_Demand break down'!F126","v":374.20650464843698},135.94216829267668,{"$f":"$G$1*VLOOKUP(Interface!$D$1,'r_Demand growth forecast'!$A$7:$C$14, 2, FALSE)+H129*($G$2*VLOOKUP(Interface!$D$1,'r_Demand growth forecast'!$A$7:$C$14,3, FALSE)-$G$1*VLOOKUP(Interface!$D$1,'r_Demand growth forecast'!$A$7:$C$14,2, FALSE))/$G$3","v":392.22889837799198},{"$f":"'r_Bacton IUK exports'!E126","v":0},{"$f":"'r_Moffat exports'!E126","v":9.8896479322601998},402.11854631025216,4356.1502121789617,{"$f":"M129*Interface!$E$4","v":4356.1502121789617}]
[125,{"$f":"'c_Demand break down'!A127","v":"2010-02-02"},18,2,1,"Winter",{"$f":"'c_Demand break down'!F127","v":359.09285851562498},120.82852215986469,{"$f":"$G$1*VLOOKUP(Interface!$D$1,'r_Demand growth forecast'!$A$7:$C$14, 2, FALSE)+H130*($G$2*VLOOKUP(Interface!$D$1,'r_Demand growth forecast'!$A$7:$C$14,3, FALSE)-$G$1*VLOOKUP(Interface!$D$1,'r_Demand growth forecast'!$A$7:$C$14,2, FALSE))/$G$3","v":374.32675806513072},{"$f":"'r_Bacton IUK exports'!E127","v":0.71368181373236939},{"$f":"'r_Moffat exports'!E127","v":9.6376215495714685},384.67806142843455,4167.2174394542317,{"$f":"M130*Interface!$E$4","v":4167.2174394542317}]
[126,{"$f":"'c_Demand break down'!A128","v":"2010-02-03"},18,2,1,"Winter",{"$f":"'c_Demand break down'!F128","v":363.60751587890604},125.34317952314575,{"$f":"$G$1*VLOOKUP(Interface!$D$1,'r_Demand growth forecast'!$A$7:$C$14, 2, FALSE)+H131*($G$2*VLOOKUP(Interface!$D$1,'r_Demand growth forecast'!$A$7:$C$14,3, FALSE)-$G$1*VLOOKUP(Interface!$D$1,'r_Demand growth forecast'!$A$7:$C$14,2, FALSE))/$G$3","v":379.67437761846168},{"$f":"'r_Bacton IUK exports'!E128","v":0},{"$f":"'r_Moffat exports'!E128","v":9.749566556177605},389.4239441746393,4218.6295872438677,{"$f":"M131*Interface!$E$4","v":4218.6295872438677}]
[127,{"$f":"'c_Demand break down'!A129","v":"2010-02-04"},19,2,1,"Winter",{"$f":"'c_Demand break down'!F129","v":337.43514927612301},99.170812920362721,{"$f":"$G$1*VLOOKUP(Interface!$D$1,'r_Demand growth forecast'!$A$7:$C$14, 2, FALSE)+H132*($G$2*VLOOKUP(Interface!$D$1,'r_Demand growth forecast'!$A$7:$C$14,3, FALSE)-$G$1*VLOOKUP(Interface!$D$1,'r_Demand growth forecast'!$A$7:$C$14,2, FALSE))/$G$3","v":348.67316354177012},{"$f":"'r_Bacton IUK exports'!E129","v":3.9178460923551119},{"$f":"'r_Moffat exports'!E129","v":9.1733374979876618},361.7643471321129,3918.993172482179,{"$f":"M132*Interface!$E$4","v":3918.993172482179}]
[128,{"$f":"'c_Demand break down'!A130","v":"2010-02-05"},19,2,1,"Winter",{"$f":"'c_Demand break down'!F130","v":313.21474911499001},74.950412759229721,{"$f":"$G$1*VLOOKUP(Interface!$D$1,'r_Demand growth forecast'!$A$7:$C$14, 2, FALSE)+H133*($G$2*VLOOKUP(Interface!$D$1,'r_Demand growth forecast'!$A$7:$C$14,3, FALSE)-$G$1*VLOOKUP(Interface!$D$1,'r_Demand growth forecast'!$A$7:$C$14,2, FALSE))/$G$3","v":319.98405713369408},{"$f":"'r_Bacton IUK exports'!E130","v":0},{"$f":"'r_Moffat exports'!E130","v":9.1574178600751317},329.14147499376924,3565.589598607502,{"$f":"M133*Interface!$E$4","v":3565.589598607502}]
[129,{"$f":"'c_Demand break down'!A131","v":"2010-02-06"},19,2,1,"Winter",{"$f":"'c_Demand break down'!F131","v":310.84571810791005},72.581381752149753,{"$f":"$G$1*VLOOKUP(Interface!$D$1,'r_Demand growth forecast'!$A$7:$C$14, 2, FALSE)+H134*($G$2*VLOOKUP(Interface!$D$1,'r_Demand growth forecast'!$A$7:$C$14,3, FALSE)-$G$1*VLOOKUP(Interface!$D$1,'r_Demand growth forecast'!$A$7:$C$14,2, FALSE))/$G$3","v":317.17793575692122},{"$f":"'r_Bacton IUK exports'!E131","v":0},{"$f":"'r_Moffat exports'!E131","v":9.5762412303363824},326.75417698725761,{"$f":"L134*conversion","v":3539.7279993029615},{"$f":"M134*Interface!$E$4","v":3539.7279993029615}]
[130,{"$f":"'c_Demand break down'!A132","v":"2010-02-07"},{"$f":"CEILING(A135/7,1)","v":19},2,1,{"$f":"IF(OR(D135<=3,D135>=10),\"Winter\",\"Summer\")","v":"Winter"},{"$f":"'c_Demand break down'!F132","v":325.03066244140604},86.766326085645744,{"$f":"$G$1*VLOOKUP(Interface!$D$1,'r_Demand growth forecast'!$A$7:$C$14, 2, FALSE)+H135*($G$2*VLOOKUP(Interface!$D$1,'r_Demand growth forecast'!$A$7:$C$14,3, FALSE)-$G$1*VLOOKUP(Interface!$D$1,'r_Demand growth forecast'!$A$7:$C$14,2, FALSE))/$G$3","v":333.98002716205616},{"$f":"'r_Bacton IUK exports'!E132","v":0},{"$f":"'r_Moffat exports'!E132","v":8.5779040809060128},{"$f":"I135+J135+K135","v":342.55793124296218},3710.9300691550093,{"$f":"M135*Interface!$E$4","v":3710.9300691550093}]
[131,{"$f":"'c_Demand break down'!A133","v":"2010-02-08"},19,2,1,"Winter",{"$f":"'c_Demand break down'!F133","v":376.45529694824199},138.1909605924817,{"$f":"$G$1*VLOOKUP(Interface!$D$1,'r_Demand growth forecast'!$A$7:$C$14, 2, FALSE)+H136*($G$2*VLOOKUP(Interface!$D$1,'r_Demand growth forecast'!$A$7:$C$14,3, FALSE)-$G$1*VLOOKUP(Interface!$D$1,'r_Demand growth forecast'!$A$7:$C$14,2, FALSE))/$G$3","v":394.89259679542351},{"$f":"'r_Bacton IUK exports'!E133","v":0},{"$f":"'r_Moffat exports'!E133","v":10.505710040453758},405.39830683587729,4391.6798579530587,{"$f":"M136*Interface!$E$4","v":4391.6798579530587}]
[132,{"$f":"'c_Demand break down'!A134","v":"2010-02-09"},19,2,1,"Winter",{"$f":"'c_Demand break down'!F134","v":374.71243296142552},136.44809660566523,{"$f":"$G$1*VLOOKUP(Interface!$D$1,'r_Demand growth forecast'!$A$7:$C$14, 2, FALSE)+H137*($G$2*VLOOKUP(Interface!$D$1,'r_Demand growth forecast'!$A$7:$C$14,3, FALSE)-$G$1*VLOOKUP(Interface!$D$1,'r_Demand growth forecast'!$A$7:$C$14,2, FALSE))/$G$3","v":392.8281713507597},{"$f":"'r_Bacton IUK exports'!E134","v":2.6737347060460381},{"$f":"'r_Moffat exports'!E134","v":9.6291827832690196},405.13108884007477,4388.78508540453,{"$f":"M137*Interface!$E$4","v":4388.78508540453}]
[133,{"$f":"'c_Demand break down'!A135","v":"2010-02-10"},19,2,1,"Winter",{"$f":"'c_Demand break down'!F135","v":387.29720505887985},149.03286870311956,{"$f":"$G$1*VLOOKUP(Interface!$D$1,'r_Demand growth forecast'!$A$7:$C$14, 2, FALSE)+H138*($G$2*VLOOKUP(Interface!$D$1,'r_Demand growth forecast'!$A$7:$C$14,3, FALSE)-$G$1*VLOOKUP(Interface!$D$1,'r_Demand growth forecast'!$A$7:$C$14,2, FALSE))/$G$3","v":407.7348559399199},{"$f":"'r_Bacton IUK exports'!E135","v":0.4810481444931633},{"$f":"'r_Moffat exports'!E135","v":10.558176220273889},418.77408030468695,4536.5796119406741,{"$f":"M138*Interface!$E$4","v":4536.5796119406741}]
[134,{"$f":"'c_Demand break down'!A136","v":"2010-02-11"},20,2,1,"Winter",{"$f":"'c_Demand break down'!F136","v":389.34825708007799},151.08392072431769,{"$f":"$G$1*VLOOKUP(Interface!$D$1,'r_Demand growth forecast'!$A$7:$C$14, 2, FALSE)+H139*($G$2*VLOOKUP(Interface!$D$1,'r_Demand growth forecast'!$A$7:$C$14,3, FALSE)-$G$1*VLOOKUP(Interface!$D$1,'r_Demand growth forecast'!$A$7:$C$14,2, FALSE))/$G$3","v":410.16433065103877},{"$f":"'r_Bacton IUK exports'!E136","v":6.255184681028406},{"$f":"'r_Moffat exports'!E136","v":10.540372961081607},426.95988829314882,4625.2564698796814,{"$f":"M139*Interface!$E$4","v":4625.2564698796814}]
[135,{"$f":"'c_Demand break down'!A137","v":"2010-02-12"},20,2,1,"Winter",{"$f":"'c_Demand break down'!F137","v":366.30284596191399},128.0385096061537,{"$f":"$G$1*VLOOKUP(Interface!$D$1,'r_Demand growth forecast'!$A$7:$C$14, 2, FALSE)+H140*($G$2*VLOOKUP(Interface!$D$1,'r_Demand growth forecast'!$A$7:$C$14,3, FALSE)-$G$1*VLOOKUP(Interface!$D$1,'r_Demand growth forecast'!$A$7:$C$14,2, FALSE))/$G$3","v":382.86700082211917},{"$f":"'r_Bacton IUK exports'!E137","v":5.0194291057287703},{"$f":"'r_Moffat exports'!E137","v":9.676502066233704},397.56293199408162,4306.799242291886,{"$f":"M140*Interface!$E$4","v":4306.799242291886}]
[136,{"$f":"'c_Demand break down'!A138","v":"2010-02-13"},20,2,1,"Winter",{"$f":"'c_Demand break down'!F138","v":348.65640488281201},110.39206852705172,{"$f":"$G$1*VLOOKUP(Interface!$D$1,'r_Demand growth forecast'!$A$7:$C$14, 2, FALSE)+H141*($G$2*VLOOKUP(Interface!$D$1,'r_Demand growth forecast'!$A$7:$C$14,3, FALSE)-$G$1*VLOOKUP(Interface!$D$1,'r_Demand growth forecast'!$A$7:$C$14,2, FALSE))/$G$3","v":361.96476045969075},{"$f":"'r_Bacton IUK exports'!E138","v":6.1288866416313565},{"$f":"'r_Moffat exports'!E138","v":9.484415586507831},377.57806268782997,4090.3031530972621,{"$f":"M141*Interface!$E$4","v":4090.3031530972621}]
[137,{"$f":"'c_Demand break down'!A139","v":"2010-02-14"},20,{"$f":"MONTH(B142)","v":2},{"$f":"IF(D142<=3,1,IF(D142<=6,2,IF(D142<=9,3,4)))","v":1},"Winter",{"$f":"'c_Demand break down'!F139","v":338.79397754882802},100.52964119306773,{"$f":"$G$1*VLOOKUP(Interface!$D$1,'r_Demand growth forecast'!$A$7:$C$14, 2, FALSE)+H142*($G$2*VLOOKUP(Interface!$D$1,'r_Demand growth forecast'!$A$7:$C$14,3, FALSE)-$G$1*VLOOKUP(Interface!$D$1,'r_Demand growth forecast'!$A$7:$C$14,2, FALSE))/$G$3","v":350.28269801050669},{"$f":"'r_Bacton IUK exports'!E139","v":8.796169623216322},{"$f":"'r_Moffat exports'!E139","v":8.7198583555663856},367.79872598928938,3984.3635986419717,{"$f":"M142*Interface!$E$4","v":3984.3635986419717}]
[138,{"$f":"'c_Demand break down'!A140","v":"2010-02-15"},20,2,1,"Winter",{"$f":"'c_Demand break down'!F140","v":356.20381735351503},117.93948099775474,{"$f":"$G$1*VLOOKUP(Interface!$D$1,'r_Demand growth forecast'!$A$7:$C$14, 2, FALSE)+H143*($G$2*VLOOKUP(Interface!$D$1,'r_Demand growth forecast'!$A$7:$C$14,3, FALSE)-$G$1*VLOOKUP(Interface!$D$1,'r_Demand growth forecast'!$A$7:$C$14,2, FALSE))/$G$3","v":370.90468374903048},{"$f":"'r_Bacton IUK exports'!E140","v":8.1334401906472991},{"$f":"'r_Moffat exports'!E140","v":9.7486372553565417},388.78676119503433,4211.7269840258068,{"$f":"M143*Interface!$E$4","v":4211.7269840258068}]
[139,{"$f":"'c_Demand break down'!A141","v":"2010-02-16"},20,2,1,"Winter",{"$f":"'c_Demand break down'!F141","v":353.75773546386699},115.4933991081067,{"$f":"$G$1*VLOOKUP(Interface!$D$1,'r_Demand growth forecast'!$A$7:$C$14, 2, FALSE)+H144*($G$2*VLOOKUP(Interface!$D$1,'r_Demand growth forecast'!$A$7:$C$14,3, FALSE)-$G$1*VLOOKUP(Interface!$D$1,'r_Demand growth forecast'!$A$7:$C$14,2, FALSE))/$G$3","v":368.00729546691639},{"$f":"'r_Bacton IUK exports'!E141","v":7.6702465639649215},{"$f":"'r_Moffat exports'!E141","v":10.360481767515715},386.03802379839698,4181.9499118080348,{"$f":"M144*Interface!$E$4","v":4181.9499118080348}]
[140,{"$f":"'c_Demand break down'!A142","v":"2010-02-17"},20,2,1,"Winter",{"$f":"'c_Demand break down'!F142","v":357.68724074218699},119.42290438642669,{"$f":"$G$1*VLOOKUP(Interface!$D$1,'r_Demand growth forecast'!$A$7:$C$14, 2, FALSE)+H145*($G$2*VLOOKUP(Interface!$D$1,'r_Demand growth forecast'!$A$7:$C$14,3, FALSE)-$G$1*VLOOKUP(Interface!$D$1,'r_Demand growth forecast'!$A$7:$C$14,2, FALSE))/$G$3","v":372.66180135083346},{"$f":"'r_Bacton IUK exports'!E142","v":4.5952981992821051},{"$f":"'r_Moffat exports'!E142","v":10.46541412715645},387.72251367727205,4200.197990665888,{"$f":"M145*Interface!$E$4","v":4200.197990665888}]
[141,{"$f":"'c_Demand break down'!A143","v":"2010-02-18"},21,2,1,"Winter",{"$f":"'c_Demand break down'!F143","v":366.89771487304699},128.6333785172867,{"$f":"$G$1*VLOOKUP(Interface!$D$1,'r_Demand growth forecast'!$A$7:$C$14, 2, FALSE)+H146*($G$2*VLOOKUP(Interface!$D$1,'r_Demand growth forecast'!$A$7:$C$14,3, FALSE)-$G$1*VLOOKUP(Interface!$D$1,'r_Demand growth forecast'!$A$7:$C$14,2, FALSE))/$G$3","v":383.57162408915076},{"$f":"'r_Bacton IUK exports'!E143","v":0},{"$f":"'r_Moffat exports'!E143","v":10.751195575054973},394.32281966420572,4271.6991054223408,{"$f":"M146*Interface!$E$4","v":4271.6991054223408}]
[142,{"$f":"'c_Demand break down'!A144","v":"2010-02-19"},21,2,1,"Winter",{"$f":"'c_Demand break down'!F144","v":360.73762924804703},122.47329289228674,{"$f":"$G$1*VLOOKUP(Interface!$D$1,'r_Demand growth forecast'!$A$7:$C$14, 2, FALSE)+H147*($G$2*VLOOKUP(Interface!$D$1,'r_Demand growth forecast'!$A$7:$C$14,3, FALSE)-$G$1*VLOOKUP(Interface!$D$1,'r_Demand growth forecast'!$A$7:$C$14,2, FALSE))/$G$3","v":376.27499187817347},{"$f":"'r_Bacton IUK exports'!E144","v":0},{"$f":"'r_Moffat exports'!E144","v":9.9505671753184313},386.22555905349191,4183.9814812264776,{"$f":"M147*Interface!$E$4","v":4183.9814812264776}]
[143,{"$f":"'c_Demand break down'!A145","v":"2010-02-20"},21,2,1,"Winter",{"$f":"'c_Demand break down'!F145","v":340.87044733398403},102.60611097822374,{"$f":"$G$1*VLOOKUP(Interface!$D$1,'r_Demand growth forecast'!$A$7:$C$14, 2, FALSE)+H148*($G$2*VLOOKUP(Interface!$D$1,'r_Demand growth forecast'!$A$7:$C$14,3, FALSE)-$G$1*VLOOKUP(Interface!$D$1,'r_Demand growth forecast'!$A$7:$C$14,2, FALSE))/$G$3","v":352.74228010754786},{"$f":"'r_Bacton IUK exports'!E145","v":0},{"$f":"'r_Moffat exports'!E145","v":9.8268700875593691},362.56915019510723,3927.7116040635965,{"$f":"M148*Interface!$E$4","v":3927.7116040635965}]
[144,{"$f":"'c_Demand break down'!A146","v":"2010-02-21"},21,2,1,"Winter",{"$f":"'c_Demand break down'!F146","v":348.54035683593702},110.27602048017673,{"$f":"$G$1*VLOOKUP(Interface!$D$1,'r_Demand growth forecast'!$A$7:$C$14, 2, FALSE)+H149*($G$2*VLOOKUP(Interface!$D$1,'r_Demand growth forecast'!$A$7:$C$14,3, FALSE)-$G$1*VLOOKUP(Interface!$D$1,'r_Demand growth forecast'!$A$7:$C$14,2, FALSE))/$G$3","v":361.82730134493227},{"$f":"'r_Bacton IUK exports'!E146","v":0},{"$f":"'r_Moffat exports'!E146","v":9.694294602724483},371.52159594765675,4024.6934489009654,{"$f":"M149*Interface!$E$4","v":4024.6934489009654}]
[145,{"$f":"'c_Demand break down'!A147","v":"2010-02-22"},21,2,1,"Winter",{"$f":"'c_Demand break down'!F147","v":370.09314999999998},131.82881364423969,{"$f":"$G$1*VLOOKUP(Interface!$D$1,'r_Demand growth forecast'!$A$7:$C$14, 2, FALSE)+H150*($G$2*VLOOKUP(Interface!$D$1,'r_Demand growth forecast'!$A$7:$C$14,3, FALSE)-$G$1*VLOOKUP(Interface!$D$1,'r_Demand growth forecast'!$A$7:$C$14,2, FALSE))/$G$3","v":387.35662259319577},{"$f":"'r_Bacton IUK exports'!E147","v":0},{"$f":"'r_Moffat exports'!E147","v":10.575043945181168},397.93166653837693,4310.7937436102375,{"$f":"M150*Interface!$E$4","v":4310.7937436102375}]
[146,{"$f":"'c_Demand break down'!A148","v":"2010-02-23"},21,2,1,"Winter",{"$f":"'c_Demand break down'!F148","v":376.895295849609},138.63095949384871,{"$f":"$G$1*VLOOKUP(Interface!$D$1,'r_Demand growth forecast'!$A$7:$C$14, 2, FALSE)+H151*($G$2*VLOOKUP(Interface!$D$1,'r_Demand growth forecast'!$A$7:$C$14,3, FALSE)-$G$1*VLOOKUP(Interface!$D$1,'r_Demand growth forecast'!$A$7:$C$14,2, FALSE))/$G$3","v":395.41377626466328},{"$f":"'r_Bacton IUK exports'!E148","v":0},{"$f":"'r_Moffat exports'!E148","v":10.211972347832647},405.62574861249595,4394.1437347191686,{"$f":"M151*Interface!$E$4","v":4394.1437347191686}]
[147,{"$f":"'c_Demand break down'!A149","v":"2010-02-24"},21,2,1,"Winter",{"$f":"'c_Demand break down'!F149","v":342.29322000000002},104.02888364423973,{"$f":"$G$1*VLOOKUP(Interface!$D$1,'r_Demand growth forecast'!$A$7:$C$14, 2, FALSE)+H152*($G$2*VLOOKUP(Interface!$D$1,'r_Demand growth forecast'!$A$7:$C$14,3, FALSE)-$G$1*VLOOKUP(Interface!$D$1,'r_Demand growth forecast'!$A$7:$C$14,2, FALSE))/$G$3","v":354.42755682214715},{"$f":"'r_Bacton IUK exports'!E149","v":0},{"$f":"'r_Moffat exports'!E149","v":10.940928378849112},365.36848520099625,3958.0368001823922,{"$f":"M152*Interface!$E$4","v":3958.0368001823922}]
[148,{"$f":"'c_Demand break down'!A150","v":"2010-02-25"},22,2,1,"Winter",{"$f":"'c_Demand break down'!F150","v":326.325380244141},{"$f":"G153-$G$1","v":88.061043888380709},{"$f":"$G$1*VLOOKUP(Interface!$D$1,'r_Demand growth forecast'!$A$7:$C$14, 2, FALSE)+H153*($G$2*VLOOKUP(Interface!$D$1,'r_Demand growth forecast'!$A$7:$C$14,3, FALSE)-$G$1*VLOOKUP(Interface!$D$1,'r_Demand growth forecast'!$A$7:$C$14,2, FALSE))/$G$3","v":335.51362266683645},{"$f":"'r_Bacton IUK exports'!E150","v":0},{"$f":"'r_Moffat exports'!E150","v":10.684200134319758},346.19782280115624,3750.3610144049258,{"$f":"M153*Interface!$E$4","v":3750.3610144049258}]
[149,{"$f":"'c_Demand break down'!A151","v":"2010-02-26"},22,2,1,"Winter",{"$f":"'c_Demand break down'!F151","v":341.42204632812496},103.15770997236467,{"$f":"$G$1*VLOOKUP(Interface!$D$1,'r_Demand growth forecast'!$A$7:$C$14, 2, FALSE)+H154*($G$2*VLOOKUP(Interface!$D$1,'r_Demand growth forecast'!$A$7:$C$14,3, FALSE)-$G$1*VLOOKUP(Interface!$D$1,'r_Demand growth forecast'!$A$7:$C$14,2, FALSE))/$G$3","v":353.39565008212372},{"$f":"'r_Bacton IUK exports'!E151","v":0},{"$f":"'r_Moffat exports'!E151","v":9.8329748791071854},363.22862496123093,3934.855694205015,{"$f":"M154*Interface!$E$4","v":3934.855694205015}]
[150,{"$f":"'c_Demand break down'!A152","v":"2010-02-27"},22,2,1,"Winter",{"$f":"'c_Demand break down'!F152","v":317.17020073242202},78.905864376661725,{"$f":"$G$1*VLOOKUP(Interface!$D$1,'r_Demand growth forecast'!$A$7:$C$14, 2, FALSE)+H155*($G$2*VLOOKUP(Interface!$D$1,'r_Demand growth forecast'!$A$7:$C$14,3, FALSE)-$G$1*VLOOKUP(Interface!$D$1,'r_Demand growth forecast'!$A$7:$C$14,2, FALSE))/$G$3","v":324.66929650172915},{"$f":"'r_Bacton IUK exports'!E152","v":0},{"$f":"'r_Moffat exports'!E152","v":9.272663671712932},333.94196017344206,3617.593254558898,{"$f":"M155*Interface!$E$4","v":3617.593254558898}]
[151,{"$f":"'c_Demand break down'!A153","v":"2010-02-28"},22,2,1,"Winter",{"$f":"'c_Demand break down'!F153","v":332.81922951171896},94.554893155958666,{"$f":"$G$1*VLOOKUP(Interface!$D$1,'r_Demand growth forecast'!$A$7:$C$14, 2, FALSE)+H156*($G$2*VLOOKUP(Interface!$D$1,'r_Demand growth forecast'!$A$7:$C$14,3, FALSE)-$G$1*VLOOKUP(Interface!$D$1,'r_Demand growth forecast'!$A$7:$C$14,2, FALSE))/$G$3","v":343.20559849696804},{"$f":"'r_Bacton IUK exports'!E153","v":0},{"$f":"'r_Moffat exports'!E153","v":9.6685315245754655},352.87413002154352,3822.685450523381,{"$f":"M156*Interface!$E$4","v":3822.685450523381}]
[152,{"$f":"'c_Demand break down'!A154","v":"2010-03-01"},22,3,1,"Winter",{"$f":"'c_Demand break down'!F154","v":339.62536660156195},101.36103024580166,{"$f":"$G$1*VLOOKUP(Interface!$D$1,'r_Demand growth forecast'!$A$7:$C$14, 2, FALSE)+H157*($G$2*VLOOKUP(Interface!$D$1,'r_Demand growth forecast'!$A$7:$C$14,3, FALSE)-$G$1*VLOOKUP(Interface!$D$1,'r_Demand growth forecast'!$A$7:$C$14,2, FALSE))/$G$3","v":351.2674797994826},{"$f":"'r_Bacton IUK exports'!E154","v":3.3880012404058357},{"$f":"'r_Moffat exports'!E154","v":10.802249932474181},365.45773097236264,3959.0035996236047,{"$f":"M157*Interface!$E$4","v":3959.0035996236047}]
[153,{"$f":"'c_Demand break down'!A155","v":"2010-03-02"},22,3,1,"Winter",{"$f":"'c_Demand break down'!F155","v":347.56790851562505},109.30357215986476,{"$f":"$G$1*VLOOKUP(Interface!$D$1,'r_Demand growth forecast'!$A$7:$C$14, 2, FALSE)+H158*($G$2*VLOOKUP(Interface!$D$1,'r_Demand growth forecast'!$A$7:$C$14,3, FALSE)-$G$1*VLOOKUP(Interface!$D$1,'r_Demand growth forecast'!$A$7:$C$14,2, FALSE))/$G$3","v":360.67543460647289},{"$f":"'r_Bacton IUK exports'!E155","v":6.6574914044754294},{"$f":"'r_Moffat exports'!E155","v":10.22322403623591},377.55615004718425,4090.0657734611468,{"$f":"M158*Interface!$E$4","v":4090.0657734611468}]
[154,{"$f":"'c_Demand break down'!A156","v":"2010-03-03"},22,3,1,"Winter",{"$f":"'c_Demand break down'!F156","v":362.23214328323388},123.96780692747359,{"$f":"$G$1*VLOOKUP(Interface!$D$1,'r_Demand growth forecast'!$A$7:$C$14, 2, FALSE)+H159*($G$2*VLOOKUP(Interface!$D$1,'r_Demand growth forecast'!$A$7:$C$14,3, FALSE)-$G$1*VLOOKUP(Interface!$D$1,'r_Demand growth forecast'!$A$7:$C$14,2, FALSE))/$G$3","v":378.04524637019642},{"$f":"'r_Bacton IUK exports'!E156","v":5.8575620557770973},{"$f":"'r_Moffat exports'!E156","v":10.849572789672543},394.7523812156461,4276.3525457090946,{"$f":"M159*Interface!$E$4","v":4276.3525457090946}]
[155,{"$f":"'c_Demand break down'!A157","v":"2010-03-04"},23,3,1,"Winter",{"$f":"'c_Demand break down'!F157","v":361.11513121093702},122.85079485517673,{"$f":"$G$1*VLOOKUP(Interface!$D$1,'r_Demand growth forecast'!$A$7:$C$14, 2, FALSE)+H160*($G$2*VLOOKUP(Interface!$D$1,'r_Demand growth forecast'!$A$7:$C$14,3, FALSE)-$G$1*VLOOKUP(Interface!$D$1,'r_Demand growth forecast'!$A$7:$C$14,2, FALSE))/$G$3","v":376.72214361433629},{"$f":"'r_Bacton IUK exports'!E157","v":4.4830226038029037},{"$f":"'r_Moffat exports'!E157","v":10.826154408980599},392.03132062711978,4246.875296353589,{"$f":"M160*Interface!$E$4","v":4246.875296353589}]
[156,{"$f":"'c_Demand break down'!A158","v":"2010-03-05"},23,3,1,"Winter",{"$f":"'c_Demand break down'!F158","v":353.13984832031201},114.87551196455172,{"$f":"$G$1*VLOOKUP(Interface!$D$1,'r_Demand growth forecast'!$A$7:$C$14, 2, FALSE)+H161*($G$2*VLOOKUP(Interface!$D$1,'r_Demand growth forecast'!$A$7:$C$14,3, FALSE)-$G$1*VLOOKUP(Interface!$D$1,'r_Demand growth forecast'!$A$7:$C$14,2, FALSE))/$G$3","v":367.27540706326909},{"$f":"'r_Bacton IUK exports'!E158","v":9.7223189018368021},{"$f":"'r_Moffat exports'!E158","v":10.714638310445867},387.71236427555175,4200.0880421970523,{"$f":"M161*Interface!$E$4","v":4200.0880421970523}]
[157,{"$f":"'c_Demand break down'!A159","v":"2010-03-06"},23,3,1,"Winter",{"$f":"'c_Demand break down'!F159","v":338.50846292968703},100.24412657392674,{"$f":"$G$1*VLOOKUP(Interface!$D$1,'r_Demand growth forecast'!$A$7:$C$14, 2, FALSE)+H162*($G$2*VLOOKUP(Interface!$D$1,'r_Demand growth forecast'!$A$7:$C$14,3, FALSE)-$G$1*VLOOKUP(Interface!$D$1,'r_Demand growth forecast'!$A$7:$C$14,2, FALSE))/$G$3","v":349.94450544411211},{"$f":"'r_Bacton IUK exports'!E159","v":7.2430134001662303},{"$f":"'r_Moffat exports'!E159","v":9.6258980622898473},366.81341690656814,3973.6897453488527,{"$f":"M162*Interface!$E$4","v":3973.6897453488527}]
[158,{"$f":"'c_Demand break down'!A160","v":"2010-03-07"},23,3,1,"Winter",{"$f":"'c_Demand break down'!F160","v":353.85587537109399},115.59153901533369,{"$f":"$G$1*VLOOKUP(Interface!$D$1,'r_Demand growth forecast'!$A$7:$C$14, 2, FALSE)+H163*($G$2*VLOOKUP(Interface!$D$1,'r_Demand growth forecast'!$A$7:$C$14,3, FALSE)-$G$1*VLOOKUP(Interface!$D$1,'r_Demand growth forecast'!$A$7:$C$14,2, FALSE))/$G$3","v":368.12354235889927},{"$f":"'r_Bacton IUK exports'!E160","v":5.8825112676733138},{"$f":"'r_Moffat exports'!E160","v":9.0098431025636447},383.01589672913622,4149.211209266733,{"$f":"M163*Interface!$E$4","v":4149.211209266733}]
[159,{"$f":"'c_Demand break down'!A161","v":"2010-03-08"},23,3,1,"Winter",{"$f":"'c_Demand break down'!F161","v":363.50040019531201},125.23606383955172,{"$f":"$G$1*VLOOKUP(Interface!$D$1,'r_Demand growth forecast'!$A$7:$C$14, 2, FALSE)+H164*($G$2*VLOOKUP(Interface!$D$1,'r_Demand growth forecast'!$A$7:$C$14,3, FALSE)-$G$1*VLOOKUP(Interface!$D$1,'r_Demand growth forecast'!$A$7:$C$14,2, FALSE))/$G$3","v":379.54749890365269},{"$f":"'r_Bacton IUK exports'!E161","v":6.443083951925459},{"$f":"'r_Moffat exports'!E161","v":10.400791977749144},396.39137483332729,4294.1077635694346,{"$f":"M164*Interface!$E$4","v":4294.1077635694346}]
[160,{"$f":"'c_Demand break down'!A162","v":"2010-03-09"},23,3,1,"Winter",{"$f":"'c_Demand break down'!F162","v":348.61987386718801},110.35553751142771,{"$f":"$G$1*VLOOKUP(Interface!$D$1,'r_Demand growth forecast'!$A$7:$C$14, 2, FALSE)+H165*($G$2*VLOOKUP(Interface!$D$1,'r_Demand growth forecast'!$A$7:$C$14,3, FALSE)-$G$1*VLOOKUP(Interface!$D$1,'r_Demand growth forecast'!$A$7:$C$14,2, FALSE))/$G$3","v":361.92148940770733},{"$f":"'r_Bacton IUK exports'!E162","v":14.153243809693276},{"$f":"'r_Moffat exports'!E162","v":10.742288584107847},386.81702180150842,4190.3887971757404,{"$f":"M165*Interface!$E$4","v":4190.3887971757404}]
[161,{"$f":"'c_Demand break down'!A163","v":"2010-03-10"},23,3,1,"Winter",{"$f":"'c_Demand break down'!F163","v":344.82653901763871},106.56220266187842,{"$f":"$G$1*VLOOKUP(Interface!$D$1,'r_Demand growth forecast'!$A$7:$C$14, 2, FALSE)+H166*($G$2*VLOOKUP(Interface!$D$1,'r_Demand growth forecast'!$A$7:$C$14,3, FALSE)-$G$1*VLOOKUP(Interface!$D$1,'r_Demand growth forecast'!$A$7:$C$14,2, FALSE))/$G$3","v":357.42827763514464},{"$f":"'r_Bacton IUK exports'!E163","v":10.431804503048795},{"$f":"'r_Moffat exports'!E163","v":10.616275392763949},378.47635753095739,4100.0343811328612,{"$f":"M166*Interface!$E$4","v":4100.0343811328612}]
[162,{"$f":"'c_Demand break down'!A164","v":"2010-03-11"},24,3,1,"Winter",{"$f":"'c_Demand break down'!F164","v":339.76081708984401},101.49648073408372,{"$f":"$G$1*VLOOKUP(Interface!$D$1,'r_Demand growth forecast'!$A$7:$C$14, 2, FALSE)+H167*($G$2*VLOOKUP(Interface!$D$1,'r_Demand growth forecast'!$A$7:$C$14,3, FALSE)-$G$1*VLOOKUP(Interface!$D$1,'r_Demand growth forecast'!$A$7:$C$14,2, FALSE))/$G$3","v":351.42792114006727},{"$f":"'r_Bacton IUK exports'!E164","v":0},{"$f":"'r_Moffat exports'!E164","v":10.151996702530662},361.57991784259792,3916.9952499888632,{"$f":"M167*Interface!$E$4","v":3916.9952499888632}]
[163,{"$f":"'c_Demand break down'!A165","v":"2010-03-12"},24,3,1,"Winter",{"$f":"'c_Demand break down'!F165","v":324.80187095703099},86.537534601270693,{"$f":"$G$1*VLOOKUP(Interface!$D$1,'r_Demand growth forecast'!$A$7:$C$14, 2, FALSE)+H168*($G$2*VLOOKUP(Interface!$D$1,'r_Demand growth forecast'!$A$7:$C$14,3, FALSE)-$G$1*VLOOKUP(Interface!$D$1,'r_Demand growth forecast'!$A$7:$C$14,2, FALSE))/$G$3","v":333.70902324813107},{"$f":"'r_Bacton IUK exports'!E165","v":4.0487553469583011},{"$f":"'r_Moffat exports'!E165","v":9.4314883305108435},347.18926692560018,3761.101328605027,{"$f":"M168*Interface!$E$4","v":3761.101328605027}]
[164,{"$f":"'c_Demand break down'!A166","v":"2010-03-13"},24,3,1,"Winter",{"$f":"'c_Demand break down'!F166","v":295.66570613281198},57.401369777051684,{"$f":"$G$1*VLOOKUP(Interface!$D$1,'r_Demand growth forecast'!$A$7:$C$14, 2, FALSE)+H169*($G$2*VLOOKUP(Interface!$D$1,'r_Demand growth forecast'!$A$7:$C$14,3, FALSE)-$G$1*VLOOKUP(Interface!$D$1,'r_Demand growth forecast'!$A$7:$C$14,2, FALSE))/$G$3","v":299.19718498764553},{"$f":"'r_Bacton IUK exports'!E166","v":1.1141267585348733},{"$f":"'r_Moffat exports'!E166","v":9.0946239313218129},309.40593567750221,3351.7945011943816,{"$f":"M169*Interface!$E$4","v":3351.7945011943816}]
[165,{"$f":"'c_Demand break down'!A167","v":"2010-03-14"},24,3,1,"Winter",{"$f":"'c_Demand break down'!F167","v":285.17755363281202},46.913217277051729,{"$f":"$G$1*VLOOKUP(Interface!$D$1,'r_Demand growth forecast'!$A$7:$C$14, 2, FALSE)+H170*($G$2*VLOOKUP(Interface!$D$1,'r_Demand growth forecast'!$A$7:$C$14,3, FALSE)-$G$1*VLOOKUP(Interface!$D$1,'r_Demand growth forecast'!$A$7:$C$14,2, FALSE))/$G$3","v":286.77394998348234},{"$f":"'r_Bacton IUK exports'!E167","v":1.192092433279363},{"$f":"'r_Moffat exports'!E167","v":8.8786830143642987},296.84472543112599,3215.718910595388,{"$f":"M170*Interface!$E$4","v":3215.718910595388}]
[166,{"$f":"'c_Demand break down'!A168","v":"2010-03-15"},24,3,1,"Winter",{"$f":"'c_Demand break down'!F168","v":299.31254464843704},61.048208292676748,{"$f":"$G$1*VLOOKUP(Interface!$D$1,'r_Demand growth forecast'!$A$7:$C$14, 2, FALSE)+H171*($G$2*VLOOKUP(Interface!$D$1,'r_Demand growth forecast'!$A$7:$C$14,3, FALSE)-$G$1*VLOOKUP(Interface!$D$1,'r_Demand growth forecast'!$A$7:$C$14,2, FALSE))/$G$3","v":303.51687159611578},{"$f":"'r_Bacton IUK exports'!E168","v":4.25536844843697},{"$f":"'r_Moffat exports'!E168","v":9.8310876835937542},317.6033277281465,3440.5968492790112,{"$f":"M171*Interface!$E$4","v":3440.5968492790112}]
[167,{"$f":"'c_Demand break down'!A169","v":"2010-03-16"},24,3,1,"Winter",{"$f":"'c_Demand break down'!F169","v":290.544972441406},52.28063608564571,{"$f":"$G$1*VLOOKUP(Interface!$D$1,'r_Demand growth forecast'!$A$7:$C$14, 2, FALSE)+H172*($G$2*VLOOKUP(Interface!$D$1,'r_Demand growth forecast'!$A$7:$C$14,3, FALSE)-$G$1*VLOOKUP(Interface!$D$1,'r_Demand growth forecast'!$A$7:$C$14,2, FALSE))/$G$3","v":293.13166696222845},{"$f":"'r_Bacton IUK exports'!E169","v":0},{"$f":"'r_Moffat exports'!E169","v":9.4563078109026772},302.58797477313112,3277.9355307173296,{"$f":"M172*Interface!$E$4","v":3277.9355307173296}]
[168,{"$f":"'c_Demand break down'!A170","v":"2010-03-17"},24,3,1,"Winter",{"$f":"'c_Demand break down'!F170","v":275.268996816406},37.004660460645709,{"$f":"$G$1*VLOOKUP(Interface!$D$1,'r_Demand growth forecast'!$A$7:$C$14, 2, FALSE)+H173*($G$2*VLOOKUP(Interface!$D$1,'r_Demand growth forecast'!$A$7:$C$14,3, FALSE)-$G$1*VLOOKUP(Interface!$D$1,'r_Demand growth forecast'!$A$7:$C$14,2, FALSE))/$G$3","v":275.03724708158268},{"$f":"'r_Bacton IUK exports'!E170","v":4.6935291868119764},{"$f":"'r_Moffat exports'!E170","v":7.4259141891708058},287.15669045756545,3110.7684277268067,{"$f":"M173*Interface!$E$4","v":3110.7684277268067}]
[169,{"$f":"'c_Demand break down'!A171","v":"2010-03-18"},25,3,1,"Winter",{"$f":"'c_Demand break down'!F171","v":263.184483906249},24.920147550488707,{"$f":"$G$1*VLOOKUP(Interface!$D$1,'r_Demand growth forecast'!$A$7:$C$14, 2, FALSE)+H174*($G$2*VLOOKUP(Interface!$D$1,'r_Demand growth forecast'!$A$7:$C$14,3, FALSE)-$G$1*VLOOKUP(Interface!$D$1,'r_Demand growth forecast'!$A$7:$C$14,2, FALSE))/$G$3","v":260.72312037588068},{"$f":"'r_Bacton IUK exports'!E171","v":8.8848221417191784},{"$f":"'r_Moffat exports'!E171","v":8.196090115846058},277.8040326334459,3009.4510855181193,{"$f":"M174*Interface!$E$4","v":3009.4510855181193}]
[170,{"$f":"'c_Demand break down'!A172","v":"2010-03-19"},25,3,1,"Winter",{"$f":"'c_Demand break down'!F172","v":252.16223193359403},13.897895577833737,{"$f":"$G$1*VLOOKUP(Interface!$D$1,'r_Demand growth forecast'!$A$7:$C$14, 2, FALSE)+H175*($G$2*VLOOKUP(Interface!$D$1,'r_Demand growth forecast'!$A$7:$C$14,3, FALSE)-$G$1*VLOOKUP(Interface!$D$1,'r_Demand growth forecast'!$A$7:$C$14,2, FALSE))/$G$3","v":247.66724361098863},{"$f":"'r_Bacton IUK exports'!E172","v":8.9278491933511877},{"$f":"'r_Moffat exports'!E172","v":8.950825351954494},265.54591815629431,2876.6589313871364,{"$f":"M175*Interface!$E$4","v":2876.6589313871364}]
[171,{"$f":"'c_Demand break down'!A173","v":"2010-03-20"},25,3,1,"Winter",{"$f":"'c_Demand break down'!F173","v":251.43867291015599},13.174336554395694,{"$f":"$G$1*VLOOKUP(Interface!$D$1,'r_Demand growth forecast'!$A$7:$C$14, 2, FALSE)+H176*($G$2*VLOOKUP(Interface!$D$1,'r_Demand growth forecast'!$A$7:$C$14,3, FALSE)-$G$1*VLOOKUP(Interface!$D$1,'r_Demand growth forecast'!$A$7:$C$14,2, FALSE))/$G$3","v":246.81018668055654},{"$f":"'r_Bacton IUK exports'!E173","v":4.8480211440689054},{"$f":"'r_Moffat exports'!E173","v":8.3239905027038521},259.98219832732929,2816.3871544799581,{"$f":"M176*Interface!$E$4","v":2816.3871544799581}]
[172,{"$f":"'c_Demand break down'!A174","v":"2010-03-21"},25,3,1,"Winter",{"$f":"'c_Demand break down'!F174","v":258.252093671875},19.98775731611471,{"$f":"$G$1*VLOOKUP(Interface!$D$1,'r_Demand growth forecast'!$A$7:$C$14, 2, FALSE)+H177*($G$2*VLOOKUP(Interface!$D$1,'r_Demand growth forecast'!$A$7:$C$14,3, FALSE)-$G$1*VLOOKUP(Interface!$D$1,'r_Demand growth forecast'!$A$7:$C$14,2, FALSE))/$G$3","v":254.88069550516414},{"$f":"'r_Bacton IUK exports'!E174","v":7.2999232450024669},{"$f":"'r_Moffat exports'!E174","v":7.32517798016098},269.50579673032757,2919.5562959796389,{"$f":"M177*Interface!$E$4","v":2919.5562959796389}]
[173,{"$f":"'c_Demand break down'!A175","v":"2010-03-22"},25,3,1,"Winter",{"$f":"'c_Demand break down'!F175","v":280.02461613281201},41.760279777051721,{"$f":"$G$1*VLOOKUP(Interface!$D$1,'r_Demand growth forecast'!$A$7:$C$14, 2, FALSE)+H178*($G$2*VLOOKUP(Interface!$D$1,'r_Demand growth forecast'!$A$7:$C$14,3, FALSE)-$G$1*VLOOKUP(Interface!$D$1,'r_Demand growth forecast'!$A$7:$C$14,2, FALSE))/$G$3","v":280.67028649038707},{"$f":"'r_Bacton IUK exports'!E175","v":9.1411749228413974},{"$f":"'r_Moffat exports'!E175","v":7.8658023070831975},297.67726372031166,3224.7377978821364,{"$f":"M178*Interface!$E$4","v":3224.7377978821364}]
[174,{"$f":"'c_Demand break down'!A176","v":"2010-03-23"},25,3,1,"Winter",{"$f":"'c_Demand break down'!F176","v":281.25913283203101},42.994796476270722,{"$f":"$G$1*VLOOKUP(Interface!$D$1,'r_Demand growth forecast'!$A$7:$C$14, 2, FALSE)+H179*($G$2*VLOOKUP(Interface!$D$1,'r_Demand growth forecast'!$A$7:$C$14,3, FALSE)-$G$1*VLOOKUP(Interface!$D$1,'r_Demand growth forecast'!$A$7:$C$14,2, FALSE))/$G$3","v":282.13257368262248},{"$f":"'r_Bacton IUK exports'!E176","v":10.343259784610773},{"$f":"'r_Moffat exports'!E176","v":8.8833724092770421},301.35920587651032,3264.6242772602363,{"$f":"M179*Interface!$E$4","v":3264.6242772602363}]
[175,{"$f":"'c_Demand break down'!A177","v":"2010-03-24"},25,3,1,"Winter",{"$f":"'c_Demand break down'!F177","v":262.18790832031198},23.923571964551684,{"$f":"$G$1*VLOOKUP(Interface!$D$1,'r_Demand growth forecast'!$A$7:$C$14, 2, FALSE)+H180*($G$2*VLOOKUP(Interface!$D$1,'r_Demand growth forecast'!$A$7:$C$14,3, FALSE)-$G$1*VLOOKUP(Interface!$D$1,'r_Demand growth forecast'!$A$7:$C$14,2, FALSE))/$G$3","v":259.54267484903437},{"$f":"'r_Bacton IUK exports'!E177","v":13.163952048032549},{"$f":"'r_Moffat exports'!E177","v":9.2187785210235802},281.92540541809052,3054.0979168941744,{"$f":"M180*Interface!$E$4","v":3054.0979168941744}]
[176,{"$f":"'c_Demand break down'!A178","v":"2010-03-25"},26,3,1,"Winter",{"$f":"'c_Demand break down'!F178","v":258.036518873901},19.77218251814071,{"$f":"$G$1*VLOOKUP(Interface!$D$1,'r_Demand growth forecast'!$A$7:$C$14, 2, FALSE)+H181*($G$2*VLOOKUP(Interface!$D$1,'r_Demand growth forecast'!$A$7:$C$14,3, FALSE)-$G$1*VLOOKUP(Interface!$D$1,'r_Demand growth forecast'!$A$7:$C$14,2, FALSE))/$G$3","v":254.62534677942756},{"$f":"'r_Bacton IUK exports'!E178","v":4.1469937224986664},{"$f":"'r_Moffat exports'!E178","v":9.0290304838446733},267.80137098577092,2901.0922518888565,{"$f":"M181*Interface!$E$4","v":2901.0922518888565}]
[177,{"$f":"'c_Demand break down'!A179","v":"2010-03-26"},26,3,1,"Winter",{"$f":"'c_Demand break down'!F179","v":263.06506000000002},24.800723644239724,{"$f":"$G$1*VLOOKUP(Interface!$D$1,'r_Demand growth forecast'!$A$7:$C$14, 2, FALSE)+H182*($G$2*VLOOKUP(Interface!$D$1,'r_Demand growth forecast'!$A$7:$C$14,3, FALSE)-$G$1*VLOOKUP(Interface!$D$1,'r_Demand growth forecast'!$A$7:$C$14,2, FALSE))/$G$3","v":260.58166254978158},{"$f":"'r_Bacton IUK exports'!E179","v":6.3191131358340602},{"$f":"'r_Moffat exports'!E179","v":9.402902007873621},276.30367769348925,2993.1977404535692,{"$f":"M182*Interface!$E$4","v":2993.1977404535692}]
[178,{"$f":"'c_Demand break down'!A180","v":"2010-03-27"},26,3,1,"Winter",{"$f":"'c_Demand break down'!F180","v":236.40810845214799},-1.8562279036123073,{"$f":"$G$1*VLOOKUP(Interface!$D$1,'r_Demand growth forecast'!$A$7:$C$14, 2, FALSE)+H183*($G$2*VLOOKUP(Interface!$D$1,'r_Demand growth forecast'!$A$7:$C$14,3, FALSE)-$G$1*VLOOKUP(Interface!$D$1,'r_Demand growth forecast'!$A$7:$C$14,2, FALSE))/$G$3","v":229.00645675700164},{"$f":"'r_Bacton IUK exports'!E180","v":7.966461413427016},{"$f":"'r_Moffat exports'!E180","v":8.1572095991838225},245.1301277696125,2655.4946741282124,{"$f":"M183*Interface!$E$4","v":2655.4946741282124}]
[179,{"$f":"'c_Demand break down'!A181","v":"2010-03-28"},26,3,1,"Winter",{"$f":"'c_Demand break down'!F181","v":251.19235045776401},12.928014102003715,{"$f":"$G$1*VLOOKUP(Interface!$D$1,'r_Demand growth forecast'!$A$7:$C$14, 2, FALSE)+H184*($G$2*VLOOKUP(Interface!$D$1,'r_Demand growth forecast'!$A$7:$C$14,3, FALSE)-$G$1*VLOOKUP(Interface!$D$1,'r_Demand growth forecast'!$A$7:$C$14,2, FALSE))/$G$3","v":246.51841730431346},{"$f":"'r_Bacton IUK exports'!E181","v":5.8497676051633558},{"$f":"'r_Moffat exports'!E181","v":7.9548239643955982},260.32300887387242,2820.0791551306602,{"$f":"M184*Interface!$E$4","v":2820.0791551306602}]
[180,{"$f":"'c_Demand break down'!A182","v":"2010-03-29"},26,3,1,"Winter",{"$f":"'c_Demand break down'!F182","v":282.13790122070299},43.873564864942693,{"$f":"$G$1*VLOOKUP(Interface!$D$1,'r_Demand growth forecast'!$A$7:$C$14, 2, FALSE)+H185*($G$2*VLOOKUP(Interface!$D$1,'r_Demand growth forecast'!$A$7:$C$14,3, FALSE)-$G$1*VLOOKUP(Interface!$D$1,'r_Demand growth forecast'!$A$7:$C$14,2, FALSE))/$G$3","v":283.17347637799247},{"$f":"'r_Bacton IUK exports'!E182","v":5.9877682531830976},{"$f":"'r_Moffat exports'!E182","v":8.9737719337685462},298.13501656494412,3229.6966344480397,{"$f":"M185*Interface!$E$4","v":3229.6966344480397}]
[181,{"$f":"'c_Demand break down'!A183","v":"2010-03-30"},26,3,1,"Winter",{"$f":"'c_Demand break down'!F183","v":282.03393945068404},43.769603094923752,{"$f":"$G$1*VLOOKUP(Interface!$D$1,'r_Demand growth forecast'!$A$7:$C$14, 2, FALSE)+H186*($G$2*VLOOKUP(Interface!$D$1,'r_Demand growth forecast'!$A$7:$C$14,3, FALSE)-$G$1*VLOOKUP(Interface!$D$1,'r_Demand growth forecast'!$A$7:$C$14,2, FALSE))/$G$3","v":283.0503334793367},{"$f":"'r_Bacton IUK exports'!E183","v":7.1744009467073022},{"$f":"'r_Moffat exports'!E183","v":9.4862920593192896},299.71102648536328,3246.7695499159404,{"$f":"M186*Interface!$E$4","v":3246.7695499159404}]
[182,{"$f":"'c_Demand break down'!A184","v":"2010-03-31"},26,3,1,"Winter",{"$f":"'c_Demand break down'!F184","v":331.20797354980448},92.943637194044186,{"$f":"$G$1*VLOOKUP(Interface!$D$1,'r_Demand growth forecast'!$A$7:$C$14, 2, FALSE)+H187*($G$2*VLOOKUP(Interface!$D$1,'r_Demand growth forecast'!$A$7:$C$14,3, FALSE)-$G$1*VLOOKUP(Interface!$D$1,'r_Demand growth forecast'!$A$7:$C$14,2, FALSE))/$G$3","v":341.29706298828597},{"$f":"'r_Bacton IUK exports'!E184","v":4.6987638519818073},{"$f":"'r_Moffat exports'!E184","v":10.364227564671742},356.36005440493955,3860.44846936871,{"$f":"M187*Interface!$E$4","v":3860.44846936871}]
[183,{"$f":"'c_Demand break down'!A185","v":"2010-04-01"},27,4,2,"Summer",{"$f":"'c_Demand break down'!F185","v":318.48182877929696},80.217492423536669,{"$f":"$G$1*VLOOKUP(Interface!$D$1,'r_Demand growth forecast'!$A$7:$C$14, 2, FALSE)+H188*($G$2*VLOOKUP(Interface!$D$1,'r_Demand growth forecast'!$A$7:$C$14,3, FALSE)-$G$1*VLOOKUP(Interface!$D$1,'r_Demand growth forecast'!$A$7:$C$14,2, FALSE))/$G$3","v":326.22292222030819},{"$f":"'r_Bacton IUK exports'!E185","v":3.9076443465205344},{"$f":"'r_Moffat exports'!E185","v":9.9411883854929464},340.07175495232167,3683.9973213985008,{"$f":"M188*Interface!$E$4","v":3683.9973213985008}]
[184,{"$f":"'c_Demand break down'!A186","v":"2010-04-02"},27,4,2,"Summer",{"$f":"'c_Demand break down'!F186","v":275.20929910400429},36.944962748243995,{"$f":"$G$1*VLOOKUP(Interface!$D$1,'r_Demand growth forecast'!$A$7:$C$14, 2, FALSE)+H189*($G$2*VLOOKUP(Interface!$D$1,'r_Demand growth forecast'!$A$7:$C$14,3, FALSE)-$G$1*VLOOKUP(Interface!$D$1,'r_Demand growth forecast'!$A$7:$C$14,2, FALSE))/$G$3","v":274.96653503669421},{"$f":"'r_Bacton IUK exports'!E186","v":7.3052482275183932},{"$f":"'r_Moffat exports'!E186","v":8.6055472061001677},290.87733047031276,3151.0741209848979,{"$f":"M189*Interface!$E$4","v":3151.0741209848979}]
[185,{"$f":"'c_Demand break down'!A187","v":"2010-04-03"},27,4,2,"Summer",{"$f":"'c_Demand break down'!F187","v":250.08776015000001},11.823423794239716,{"$f":"$G$1*VLOOKUP(Interface!$D$1,'r_Demand growth forecast'!$A$7:$C$14, 2, FALSE)+H190*($G$2*VLOOKUP(Interface!$D$1,'r_Demand growth forecast'!$A$7:$C$14,3, FALSE)-$G$1*VLOOKUP(Interface!$D$1,'r_Demand growth forecast'!$A$7:$C$14,2, FALSE))/$G$3","v":245.21002815029675},{"$f":"'r_Bacton IUK exports'!E187","v":12.276657466590304},{"$f":"'r_Moffat exports'!E187","v":8.3356996941844876},265.82238531107151,2879.6539000748376,{"$f":"M190*Interface!$E$4","v":2879.6539000748376}]
[186,{"$f":"'c_Demand break down'!A188","v":"2010-04-04"},27,4,2,"Summer",{"$f":"'c_Demand break down'!F188","v":244.65676790999999},6.3924315542396926,{"$f":"$G$1*VLOOKUP(Interface!$D$1,'r_Demand growth forecast'!$A$7:$C$14, 2, FALSE)+H191*($G$2*VLOOKUP(Interface!$D$1,'r_Demand growth forecast'!$A$7:$C$14,3, FALSE)-$G$1*VLOOKUP(Interface!$D$1,'r_Demand growth forecast'!$A$7:$C$14,2, FALSE))/$G$3","v":238.77700833071393},{"$f":"'r_Bacton IUK exports'!E188","v":10.662377565188788},{"$f":"'r_Moffat exports'!E188","v":7.3907723228069448},256.83015821870964,2782.2411039832814,{"$f":"M191*Interface!$E$4","v":2782.2411039832814}]
[187,{"$f":"'c_Demand break down'!A189","v":"2010-04-05"},27,4,2,"Summer",{"$f":"'c_Demand break down'!F189","v":254.89579800000001},16.631461644239721,{"$f":"$G$1*VLOOKUP(Interface!$D$1,'r_Demand growth forecast'!$A$7:$C$14, 2, FALSE)+H192*($G$2*VLOOKUP(Interface!$D$1,'r_Demand growth forecast'!$A$7:$C$14,3, FALSE)-$G$1*VLOOKUP(Interface!$D$1,'r_Demand growth forecast'!$A$7:$C$14,2, FALSE))/$G$3","v":250.90515740394386},{"$f":"'r_Bacton IUK exports'!E189","v":9.6546506361190225},{"$f":"'r_Moffat exports'!E189","v":6.5311046023792585},267.09091264244216,2893.3958566555762,{"$f":"M192*Interface!$E$4","v":2893.3958566555762}]
[188,{"$f":"'c_Demand break down'!A190","v":"2010-04-06"},27,4,2,"Summer",{"$f":"'c_Demand break down'!F190","v":242.90814374389601},4.6438073881357127,{"$f":"$G$1*VLOOKUP(Interface!$D$1,'r_Demand growth forecast'!$A$7:$C$14, 2, FALSE)+H193*($G$2*VLOOKUP(Interface!$D$1,'r_Demand growth forecast'!$A$7:$C$14,3, FALSE)-$G$1*VLOOKUP(Interface!$D$1,'r_Demand growth forecast'!$A$7:$C$14,2, FALSE))/$G$3","v":236.70575994359629},{"$f":"'r_Bacton IUK exports'!E190","v":11.763190962590402},{"$f":"'r_Moffat exports'!E190","v":9.3195147300334042},257.78846563622011,2792.6224482371726,{"$f":"M193*Interface!$E$4","v":2792.6224482371726}]
[189,{"$f":"'c_Demand break down'!A191","v":"2010-04-07"},27,4,2,"Summer",{"$f":"'c_Demand break down'!F191","v":249.22742884033201},10.963092484571717,{"$f":"$G$1*VLOOKUP(Interface!$D$1,'r_Demand growth forecast'!$A$7:$C$14, 2, FALSE)+H194*($G$2*VLOOKUP(Interface!$D$1,'r_Demand growth forecast'!$A$7:$C$14,3, FALSE)-$G$1*VLOOKUP(Interface!$D$1,'r_Demand growth forecast'!$A$7:$C$14,2, FALSE))/$G$3","v":244.19096420729582},{"$f":"'r_Bacton IUK exports'!E191","v":13.748349585279113},{"$f":"'r_Moffat exports'!E191","v":8.5933651303086958},266.53267892288363,2887.3485107715983,{"$f":"M194*Interface!$E$4","v":2887.3485107715983}]
[190,{"$f":"'c_Demand break down'!A192","v":"2010-04-08"},28,4,2,"Summer",{"$f":"'c_Demand break down'!F192","v":233.97497943115201},-4.2893569246082848,{"$f":"$G$1*VLOOKUP(Interface!$D$1,'r_Demand growth forecast'!$A$7:$C$14, 2, FALSE)+H195*($G$2*VLOOKUP(Interface!$D$1,'r_Demand growth forecast'!$A$7:$C$14,3, FALSE)-$G$1*VLOOKUP(Interface!$D$1,'r_Demand growth forecast'!$A$7:$C$14,2, FALSE))/$G$3","v":226.12441117049033},{"$f":"'r_Bacton IUK exports'!E192","v":10.568549237308597},{"$f":"'r_Moffat exports'!E192","v":8.5390307127116039},245.23199112051051,2656.5981598084904,{"$f":"M195*Interface!$E$4","v":2656.5981598084904}]
[191,{"$f":"'c_Demand break down'!A193","v":"2010-04-09"},28,4,2,"Summer",{"$f":"'c_Demand break down'!F193","v":220.44720562500004},-17.817130730760255,{"$f":"$G$1*VLOOKUP(Interface!$D$1,'r_Demand growth forecast'!$A$7:$C$14, 2, FALSE)+H196*($G$2*VLOOKUP(Interface!$D$1,'r_Demand growth forecast'!$A$7:$C$14,3, FALSE)-$G$1*VLOOKUP(Interface!$D$1,'r_Demand growth forecast'!$A$7:$C$14,2, FALSE))/$G$3","v":210.10073940589785},{"$f":"'r_Bacton IUK exports'!E193","v":15.378727496347947},{"$f":"'r_Moffat exports'!E193","v":7.7107377423769643},233.19020464462278,2526.1494869151988,{"$f":"M196*Interface!$E$4","v":2526.1494869151988}]
[192,{"$f":"'c_Demand break down'!A194","v":"2010-04-10"},28,4,2,"Summer",{"$f":"'c_Demand break down'!F194","v":196.90155598144497},-41.362780374315321,{"$f":"$G$1*VLOOKUP(Interface!$D$1,'r_Demand growth forecast'!$A$7:$C$14, 2, FALSE)+H197*($G$2*VLOOKUP(Interface!$D$1,'r_Demand growth forecast'!$A$7:$C$14,3, FALSE)-$G$1*VLOOKUP(Interface!$D$1,'r_Demand growth forecast'!$A$7:$C$14,2, FALSE))/$G$3","v":182.21087616758422},{"$f":"'r_Bacton IUK exports'!E194","v":24.509727068898073},{"$f":"'r_Moffat exports'!E194","v":7.2366370573116026},213.95724029379392,2317.7987841026697,{"$f":"M197*Interface!$E$4","v":2317.7987841026697}]
[193,{"$f":"'c_Demand break down'!A195","v":"2010-04-11"},28,4,2,"Summer",{"$f":"'c_Demand break down'!F195","v":209.92760046874997},-28.33673588701032,{"$f":"$G$1*VLOOKUP(Interface!$D$1,'r_Demand growth forecast'!$A$7:$C$14, 2, FALSE)+H198*($G$2*VLOOKUP(Interface!$D$1,'r_Demand growth forecast'!$A$7:$C$14,3, FALSE)-$G$1*VLOOKUP(Interface!$D$1,'r_Demand growth forecast'!$A$7:$C$14,2, FALSE))/$G$3","v":197.64024867532333},{"$f":"'r_Bacton IUK exports'!E195","v":24.020638880287574},{"$f":"'r_Moffat exports'!E195","v":7.2061988811859639},228.86708643679688,{"$f":"L198*conversion","v":2479.3171473698208},{"$f":"M198*Interface!$E$4","v":2479.3171473698208}]
[194,{"$f":"'c_Demand break down'!A196","v":"2010-04-12"},{"$f":"CEILING(A199/7,1)","v":28},4,2,{"$f":"IF(OR(D199<=3,D199>=10),\"Winter\",\"Summer\")","v":"Summer"},{"$f":"'c_Demand break down'!F196","v":236.12218719238302},-2.1421491633772689,{"$f":"$G$1*VLOOKUP(Interface!$D$1,'r_Demand growth forecast'!$A$7:$C$14, 2, FALSE)+H199*($G$2*VLOOKUP(Interface!$D$1,'r_Demand growth forecast'!$A$7:$C$14,3, FALSE)-$G$1*VLOOKUP(Interface!$D$1,'r_Demand growth forecast'!$A$7:$C$14,2, FALSE))/$G$3","v":228.66778252407582},{"$f":"'r_Bacton IUK exports'!E196","v":19.388353143973212},{"$f":"'r_Moffat exports'!E196","v":8.4856173609006085},{"$f":"I199+J199+K199","v":256.54175302894964},2779.1168105626116,{"$f":"M199*Interface!$E$4","v":2779.1168105626116}]
[195,{"$f":"'c_Demand break down'!A197","v":"2010-04-13"},28,4,2,"Summer",{"$f":"'c_Demand break down'!F197","v":239.51965805663997},1.2553217008796764,{"$f":"$G$1*VLOOKUP(Interface!$D$1,'r_Demand growth forecast'!$A$7:$C$14, 2, FALSE)+H200*($G$2*VLOOKUP(Interface!$D$1,'r_Demand growth forecast'!$A$7:$C$14,3, FALSE)-$G$1*VLOOKUP(Interface!$D$1,'r_Demand growth forecast'!$A$7:$C$14,2, FALSE))/$G$3","v":232.69209271278271},{"$f":"'r_Bacton IUK exports'!E197","v":25.177608358150486},{"$f":"'r_Moffat exports'!E197","v":8.2073275073136713},266.07702857824688,2882.4124505881487,{"$f":"M200*Interface!$E$4","v":2882.4124505881487}]
[196,{"$f":"'c_Demand break down'!A198","v":"2010-04-14"},28,4,2,"Summer",{"$f":"'c_Demand break down'!F198","v":248.544212338867},10.279875983106706,{"$f":"$G$1*VLOOKUP(Interface!$D$1,'r_Demand growth forecast'!$A$7:$C$14, 2, FALSE)+H201*($G$2*VLOOKUP(Interface!$D$1,'r_Demand growth forecast'!$A$7:$C$14,3, FALSE)-$G$1*VLOOKUP(Interface!$D$1,'r_Demand growth forecast'!$A$7:$C$14,2, FALSE))/$G$3","v":243.3816930647927},{"$f":"'r_Bacton IUK exports'!E198","v":24.04279073670396},{"$f":"'r_Moffat exports'!E198","v":8.1192583833426504},275.54374218483929,2984.965359088364,{"$f":"M201*Interface!$E$4","v":2984.965359088364}]
[197,{"$f":"'c_Demand break down'!A199","v":"2010-04-15"},29,4,2,"Summer",{"$f":"'c_Demand break down'!F199","v":247.99339434570302},9.7290579899427314,{"$f":"$G$1*VLOOKUP(Interface!$D$1,'r_Demand growth forecast'!$A$7:$C$14, 2, FALSE)+H202*($G$2*VLOOKUP(Interface!$D$1,'r_Demand growth forecast'!$A$7:$C$14,3, FALSE)-$G$1*VLOOKUP(Interface!$D$1,'r_Demand growth forecast'!$A$7:$C$14,2, FALSE))/$G$3","v":242.72924818724178},{"$f":"'r_Bacton IUK exports'!E199","v":18.21737106686124},{"$f":"'r_Moffat exports'!E199","v":8.0789839154488217},269.02560316955186,2914.3543591357552,{"$f":"M202*Interface!$E$4","v":2914.3543591357552}]
[198,{"$f":"'c_Demand break down'!A200","v":"2010-04-16"},29,4,2,"Summer",{"$f":"'c_Demand break down'!F200","v":229.99288247070302},-8.2714538850572694,{"$f":"$G$1*VLOOKUP(Interface!$D$1,'r_Demand growth forecast'!$A$7:$C$14, 2, FALSE)+H203*($G$2*VLOOKUP(Interface!$D$1,'r_Demand growth forecast'!$A$7:$C$14,3, FALSE)-$G$1*VLOOKUP(Interface!$D$1,'r_Demand growth forecast'!$A$7:$C$14,2, FALSE))/$G$3","v":221.40761034698764},{"$f":"'r_Bacton IUK exports'!E200","v":20.929479777610588},{"$f":"'r_Moffat exports'!E200","v":8.1956183169672308},250.53270844156546,2714.0208305474789,{"$f":"M203*Interface!$E$4","v":2714.0208305474789}]
[199,{"$f":"'c_Demand break down'!A201","v":"2010-04-17"},29,4,2,"Summer",{"$f":"'c_Demand break down'!F201","v":197.353713173828},-40.910623181932294,{"$f":"$G$1*VLOOKUP(Interface!$D$1,'r_Demand growth forecast'!$A$7:$C$14, 2, FALSE)+H204*($G$2*VLOOKUP(Interface!$D$1,'r_Demand growth forecast'!$A$7:$C$14,3, FALSE)-$G$1*VLOOKUP(Interface!$D$1,'r_Demand growth forecast'!$A$7:$C$14,2, FALSE))/$G$3","v":182.7464571538253},{"$f":"'r_Bacton IUK exports'!E201","v":24.870999609647004},{"$f":"'r_Moffat exports'!E201","v":7.2914515088220204},214.90890827229433,2328.1082033137645,{"$f":"M204*Interface!$E$4","v":2328.1082033137645}]
[200,{"$f":"'c_Demand break down'!A202","v":"2010-04-18"},29,4,2,"Summer",{"$f":"'c_Demand break down'!F202","v":200.51382290038998},-37.75051345537031,{"$f":"$G$1*VLOOKUP(Interface!$D$1,'r_Demand growth forecast'!$A$7:$C$14, 2, FALSE)+H205*($G$2*VLOOKUP(Interface!$D$1,'r_Demand growth forecast'!$A$7:$C$14,3, FALSE)-$G$1*VLOOKUP(Interface!$D$1,'r_Demand growth forecast'!$A$7:$C$14,2, FALSE))/$G$3","v":186.48961265924169},{"$f":"'r_Bacton IUK exports'!E202","v":25.094863001358817},{"$f":"'r_Moffat exports'!E202","v":7.4099874027904491},218.99446306339095,2372.3670183657141,{"$f":"M205*Interface!$E$4","v":2372.3670183657141}]
[201,{"$f":"'c_Demand break down'!A203","v":"2010-04-19"},29,{"$f":"MONTH(B206)","v":4},{"$f":"IF(D206<=3,1,IF(D206<=6,2,IF(D206<=9,3,4)))","v":2},"Summer",{"$f":"'c_Demand break down'!F203","v":232.97213050781298},-5.2922058479473151,{"$f":"$G$1*VLOOKUP(Interface!$D$1,'r_Demand growth forecast'!$A$7:$C$14, 2, FALSE)+H206*($G$2*VLOOKUP(Interface!$D$1,'r_Demand growth forecast'!$A$7:$C$14,3, FALSE)-$G$1*VLOOKUP(Interface!$D$1,'r_Demand growth forecast'!$A$7:$C$14,2, FALSE))/$G$3","v":224.93653486450481},{"$f":"'r_Bacton IUK exports'!E203","v":22.580711847184567},{"$f":"'r_Moffat exports'!E203","v":9.083858338732087},256.60110505042149,2779.7597710112159,{"$f":"M206*Interface!$E$4","v":2779.7597710112159}]
[202,{"$f":"'c_Demand break down'!A204","v":"2010-04-20"},29,4,2,"Summer",{"$f":"'c_Demand break down'!F204","v":238.06174143554603},-0.20259492021426695,{"$f":"$G$1*VLOOKUP(Interface!$D$1,'r_Demand growth forecast'!$A$7:$C$14, 2, FALSE)+H207*($G$2*VLOOKUP(Interface!$D$1,'r_Demand growth forecast'!$A$7:$C$14,3, FALSE)-$G$1*VLOOKUP(Interface!$D$1,'r_Demand growth forecast'!$A$7:$C$14,2, FALSE))/$G$3","v":230.96518792184594},{"$f":"'r_Bacton IUK exports'!E204","v":24.715857702267744},{"$f":"'r_Moffat exports'!E204","v":9.1911568412329032},264.87220246534662,2869.3605693070999,{"$f":"M207*Interface!$E$4","v":2869.3605693070999}]
[203,{"$f":"'c_Demand break down'!A205","v":"2010-04-21"},29,4,2,"Summer",{"$f":"'c_Demand break down'!F205","v":236.50967073242199},-1.7546656233382976,{"$f":"$G$1*VLOOKUP(Interface!$D$1,'r_Demand growth forecast'!$A$7:$C$14, 2, FALSE)+H208*($G$2*VLOOKUP(Interface!$D$1,'r_Demand growth forecast'!$A$7:$C$14,3, FALSE)-$G$1*VLOOKUP(Interface!$D$1,'r_Demand growth forecast'!$A$7:$C$14,2, FALSE))/$G$3","v":229.12675745585236},{"$f":"'r_Bacton IUK exports'!E205","v":23.858101747560188},{"$f":"'r_Moffat exports'!E205","v":9.5387570999598772},262.52361630337242,2843.9183354144334,{"$f":"M208*Interface!$E$4","v":2843.9183354144334}]
[204,{"$f":"'c_Demand break down'!A206","v":"2010-04-22"},30,4,2,"Summer",{"$f":"'c_Demand break down'!F206","v":225.910519033203},-12.35381732255729,{"$f":"$G$1*VLOOKUP(Interface!$D$1,'r_Demand growth forecast'!$A$7:$C$14, 2, FALSE)+H209*($G$2*VLOOKUP(Interface!$D$1,'r_Demand growth forecast'!$A$7:$C$14,3, FALSE)-$G$1*VLOOKUP(Interface!$D$1,'r_Demand growth forecast'!$A$7:$C$14,2, FALSE))/$G$3","v":216.57204370582119},{"$f":"'r_Bacton IUK exports'!E206","v":23.115259997521655},{"$f":"'r_Moffat exports'!E206","v":8.9348842686384859},248.62218797198133,2693.3241623004737,{"$f":"M209*Interface!$E$4","v":2693.3241623004737}]
[205,{"$f":"'c_Demand break down'!A207","v":"2010-04-23"},30,4,2,"Summer",{"$f":"'c_Demand break down'!F207","v":212.96806488281197},-25.29627147294832,{"$f":"$G$1*VLOOKUP(Interface!$D$1,'r_Demand growth forecast'!$A$7:$C$14, 2, FALSE)+H210*($G$2*VLOOKUP(Interface!$D$1,'r_Demand growth forecast'!$A$7:$C$14,3, FALSE)-$G$1*VLOOKUP(Interface!$D$1,'r_Demand growth forecast'!$A$7:$C$14,2, FALSE))/$G$3","v":201.24168409854852},{"$f":"'r_Bacton IUK exports'!E207","v":31.011156011950469},{"$f":"'r_Moffat exports'!E207","v":8.1492533544612353},240.40209346496022,2604.2758785059141,{"$f":"M210*Interface!$E$4","v":2604.2758785059141}]
[206,{"$f":"'c_Demand break down'!A208","v":"2010-04-24"},30,4,2,"Summer",{"$f":"'c_Demand break down'!F208","v":186.98759804687398},-51.276738308886308,{"$f":"$G$1*VLOOKUP(Interface!$D$1,'r_Demand growth forecast'!$A$7:$C$14, 2, FALSE)+H211*($G$2*VLOOKUP(Interface!$D$1,'r_Demand growth forecast'!$A$7:$C$14,3, FALSE)-$G$1*VLOOKUP(Interface!$D$1,'r_Demand growth forecast'!$A$7:$C$14,2, FALSE))/$G$3","v":170.46777563175922},{"$f":"'r_Bacton IUK exports'!E208","v":32.465129463931248},{"$f":"'r_Moffat exports'!E208","v":7.8981419756583877},210.83104707134885,2283.9327329239222,{"$f":"M211*Interface!$E$4","v":2283.9327329239222}]
[207,{"$f":"'c_Demand break down'!A209","v":"2010-04-25"},30,4,2,"Summer",{"$f":"'c_Demand break down'!F209","v":186.24565341796898},-52.018682937791311,{"$f":"$G$1*VLOOKUP(Interface!$D$1,'r_Demand growth forecast'!$A$7:$C$14, 2, FALSE)+H212*($G$2*VLOOKUP(Interface!$D$1,'r_Demand growth forecast'!$A$7:$C$14,3, FALSE)-$G$1*VLOOKUP(Interface!$D$1,'r_Demand growth forecast'!$A$7:$C$14,2, FALSE))/$G$3","v":169.5889409194528},{"$f":"'r_Bacton IUK exports'!E209","v":26.629349714675126},{"$f":"'r_Moffat exports'!E209","v":7.4324621857256767},203.65075281985361,2206.1486052974742,{"$f":"M212*Interface!$E$4","v":2206.1486052974742}]
[208,{"$f":"'c_Demand break down'!A210","v":"2010-04-26"},30,4,2,"Summer",{"$f":"'c_Demand break down'!F210","v":193.421485839844},-44.842850515916297,{"$f":"$G$1*VLOOKUP(Interface!$D$1,'r_Demand growth forecast'!$A$7:$C$14, 2, FALSE)+H213*($G$2*VLOOKUP(Interface!$D$1,'r_Demand growth forecast'!$A$7:$C$14,3, FALSE)-$G$1*VLOOKUP(Interface!$D$1,'r_Demand growth forecast'!$A$7:$C$14,2, FALSE))/$G$3","v":178.08872699020714},{"$f":"'r_Bacton IUK exports'!E210","v":31.939121514626773},{"$f":"'r_Moffat exports'!E210","v":8.5596325970690526},218.58748110190297,2367.9581827769148,{"$f":"M213*Interface!$E$4","v":2367.9581827769148}]
[209,{"$f":"'c_Demand break down'!A211","v":"2010-04-27"},30,4,2,"Summer",{"$f":"'c_Demand break down'!F211","v":189.93445707031202},-48.329879285448271,{"$f":"$G$1*VLOOKUP(Interface!$D$1,'r_Demand growth forecast'!$A$7:$C$14, 2, FALSE)+H214*($G$2*VLOOKUP(Interface!$D$1,'r_Demand growth forecast'!$A$7:$C$14,3, FALSE)-$G$1*VLOOKUP(Interface!$D$1,'r_Demand growth forecast'!$A$7:$C$14,2, FALSE))/$G$3","v":173.95833530585909},{"$f":"'r_Bacton IUK exports'!E211","v":31.710816478422799},{"$f":"'r_Moffat exports'!E211","v":7.6859182619851314},213.35507004626703,2311.2754738112108,{"$f":"M214*Interface!$E$4","v":2311.2754738112108}]
[210,{"$f":"'c_Demand break down'!A212","v":"2010-04-28"},30,4,2,"Summer",{"$f":"'c_Demand break down'!F212","v":187.12549656249999},-51.138839793260303,{"$f":"$G$1*VLOOKUP(Interface!$D$1,'r_Demand growth forecast'!$A$7:$C$14, 2, FALSE)+H215*($G$2*VLOOKUP(Interface!$D$1,'r_Demand growth forecast'!$A$7:$C$14,3, FALSE)-$G$1*VLOOKUP(Interface!$D$1,'r_Demand growth forecast'!$A$7:$C$14,2, FALSE))/$G$3","v":170.63111666502004},{"$f":"'r_Bacton IUK exports'!E212","v":29.107291320345883},{"$f":"'r_Moffat exports'!E212","v":7.7187154325030267},207.45712341786896,2247.3830179857746,{"$f":"M215*Interface!$E$4","v":2247.3830179857746}]
[211,{"$f":"'c_Demand break down'!A213","v":"2010-04-29"},31,4,2,"Summer",{"$f":"'c_Demand break down'!F213","v":195.524571679687},-42.739764676073293,{"$f":"$G$1*VLOOKUP(Interface!$D$1,'r_Demand growth forecast'!$A$7:$C$14, 2, FALSE)+H216*($G$2*VLOOKUP(Interface!$D$1,'r_Demand growth forecast'!$A$7:$C$14,3, FALSE)-$G$1*VLOOKUP(Interface!$D$1,'r_Demand growth forecast'!$A$7:$C$14,2, FALSE))/$G$3","v":180.57983585063775},{"$f":"'r_Bacton IUK exports'!E213","v":33.803124137891487},{"$f":"'r_Moffat exports'!E213","v":8.3431957480056465},222.72615573653491,2412.7924450938826,{"$f":"M216*Interface!$E$4","v":2412.7924450938826}]
[212,{"$f":"'c_Demand break down'!A214","v":"2010-04-30"},31,4,2,"Summer",{"$f":"'c_Demand break down'!F214","v":200.95986734375001},{"$f":"G217-$G$1","v":-37.304469012010287},{"$f":"$G$1*VLOOKUP(Interface!$D$1,'r_Demand growth forecast'!$A$7:$C$14, 2, FALSE)+H217*($G$2*VLOOKUP(Interface!$D$1,'r_Demand growth forecast'!$A$7:$C$14,3, FALSE)-$G$1*VLOOKUP(Interface!$D$1,'r_Demand growth forecast'!$A$7:$C$14,2, FALSE))/$G$3","v":187.0179530835598},{"$f":"'r_Bacton IUK exports'!E214","v":29.345922616335283},{"$f":"'r_Moffat exports'!E214","v":8.2808709446037554},224.64474664449884,2433.5765403998557,{"$f":"M217*Interface!$E$4","v":2433.5765403998557}]
[213,{"$f":"'c_Demand break down'!A215","v":"2010-05-01"},31,5,2,"Summer",{"$f":"'c_Demand break down'!F215","v":191.25282144531297},-47.011514910447318,{"$f":"$G$1*VLOOKUP(Interface!$D$1,'r_Demand growth forecast'!$A$7:$C$14, 2, FALSE)+H218*($G$2*VLOOKUP(Interface!$D$1,'r_Demand growth forecast'!$A$7:$C$14,3, FALSE)-$G$1*VLOOKUP(Interface!$D$1,'r_Demand growth forecast'!$A$7:$C$14,2, FALSE))/$G$3","v":175.51994021690075},{"$f":"'r_Bacton IUK exports'!E215","v":29.962792633178637},{"$f":"'r_Moffat exports'!E215","v":8.1108517851451847},213.59358463522457,2313.8593023533876,{"$f":"M218*Interface!$E$4","v":2313.8593023533876}]
[214,{"$f":"'c_Demand break down'!A216","v":"2010-05-02"},31,5,2,"Summer",{"$f":"'c_Demand break down'!F216","v":226.03592048828102},-12.228415867479271,{"$f":"$G$1*VLOOKUP(Interface!$D$1,'r_Demand growth forecast'!$A$7:$C$14, 2, FALSE)+H219*($G$2*VLOOKUP(Interface!$D$1,'r_Demand growth forecast'!$A$7:$C$14,3, FALSE)-$G$1*VLOOKUP(Interface!$D$1,'r_Demand growth forecast'!$A$7:$C$14,2, FALSE))/$G$3","v":216.72058194897681},{"$f":"'r_Bacton IUK exports'!E216","v":28.72828602125481},{"$f":"'r_Moffat exports'!E216","v":7.4849319397799574},252.93379991001157,2740.0318544251554,{"$f":"M219*Interface!$E$4","v":2740.0318544251554}]
[215,{"$f":"'c_Demand break down'!A217","v":"2010-05-03"},31,5,2,"Summer",{"$f":"'c_Demand break down'!F217","v":236.15074515625003},-2.1135911995102674,{"$f":"$G$1*VLOOKUP(Interface!$D$1,'r_Demand growth forecast'!$A$7:$C$14, 2, FALSE)+H220*($G$2*VLOOKUP(Interface!$D$1,'r_Demand growth forecast'!$A$7:$C$14,3, FALSE)-$G$1*VLOOKUP(Interface!$D$1,'r_Demand growth forecast'!$A$7:$C$14,2, FALSE))/$G$3","v":228.70160948228988},{"$f":"'r_Bacton IUK exports'!E217","v":26.766026105103101},{"$f":"'r_Moffat exports'!E217","v":7.8868759903190035},263.354511577712,2852.9194239213543,{"$f":"M220*Interface!$E$4","v":2852.9194239213543}]
[216,{"$f":"'c_Demand break down'!A218","v":"2010-05-04"},31,5,2,"Summer",{"$f":"'c_Demand break down'!F218","v":237.78199315185498},-0.48234320390531593,{"$f":"$G$1*VLOOKUP(Interface!$D$1,'r_Demand growth forecast'!$A$7:$C$14, 2, FALSE)+H221*($G$2*VLOOKUP(Interface!$D$1,'r_Demand growth forecast'!$A$7:$C$14,3, FALSE)-$G$1*VLOOKUP(Interface!$D$1,'r_Demand growth forecast'!$A$7:$C$14,2, FALSE))/$G$3","v":230.63382558989039},{"$f":"'r_Bacton IUK exports'!E218","v":27.087363301651166},{"$f":"'r_Moffat exports'!E218","v":9.1864674463201617},266.90765633786168,2891.4106411080556,{"$f":"M221*Interface!$E$4","v":2891.4106411080556}]
[217,{"$f":"'c_Demand break down'!A219","v":"2010-05-05"},31,5,2,"Summer",{"$f":"'c_Demand break down'!F219","v":215.32415911621098},-22.940177239549314,{"$f":"$G$1*VLOOKUP(Interface!$D$1,'r_Demand growth forecast'!$A$7:$C$14, 2, FALSE)+H222*($G$2*VLOOKUP(Interface!$D$1,'r_Demand growth forecast'!$A$7:$C$14,3, FALSE)-$G$1*VLOOKUP(Interface!$D$1,'r_Demand growth forecast'!$A$7:$C$14,2, FALSE))/$G$3","v":204.03248184424012},{"$f":"'r_Bacton IUK exports'!E219","v":28.072963087243231},{"$f":"'r_Moffat exports'!E219","v":8.2185934926525874},240.32403842413595,2603.4303082486649,{"$f":"M222*Interface!$E$4","v":2603.4303082486649}]
[218,{"$f":"'c_Demand break down'!A220","v":"2010-05-06"},32,5,2,"Summer",{"$f":"'c_Demand break down'!F220","v":217.560013671875},-20.704322683885295,{"$f":"$G$1*VLOOKUP(Interface!$D$1,'r_Demand growth forecast'!$A$7:$C$14, 2, FALSE)+H223*($G$2*VLOOKUP(Interface!$D$1,'r_Demand growth forecast'!$A$7:$C$14,3, FALSE)-$G$1*VLOOKUP(Interface!$D$1,'r_Demand growth forecast'!$A$7:$C$14,2, FALSE))/$G$3","v":206.68085548107874},{"$f":"'r_Bacton IUK exports'!E220","v":32.816808503503893},{"$f":"'r_Moffat exports'!E220","v":7.9487245341987673},247.44638851878139,2680.586726823959,{"$f":"M223*Interface!$E$4","v":2680.586726823959}]
[219,{"$f":"'c_Demand break down'!A221","v":"2010-05-07"},32,5,2,"Summer",{"$f":"'c_Demand break down'!F221","v":228.45311965576101},-9.811216699999278,{"$f":"$G$1*VLOOKUP(Interface!$D$1,'r_Demand growth forecast'!$A$7:$C$14, 2, FALSE)+H224*($G$2*VLOOKUP(Interface!$D$1,'r_Demand growth forecast'!$A$7:$C$14,3, FALSE)-$G$1*VLOOKUP(Interface!$D$1,'r_Demand growth forecast'!$A$7:$C$14,2, FALSE))/$G$3","v":219.58375859610047},{"$f":"'r_Bacton IUK exports'!E221","v":31.547540950481245},{"$f":"'r_Moffat exports'!E221","v":8.0438563444104378},259.17515589099213,2807.6444637671179,{"$f":"M224*Interface!$E$4","v":2807.6444637671179}]
[220,{"$f":"'c_Demand break down'!A222","v":"2010-05-08"},32,5,2,"Summer",{"$f":"'c_Demand break down'!F222","v":224.19480990722599},-14.069526448534305,{"$f":"$G$1*VLOOKUP(Interface!$D$1,'r_Demand growth forecast'!$A$7:$C$14, 2, FALSE)+H225*($G$2*VLOOKUP(Interface!$D$1,'r_Demand growth forecast'!$A$7:$C$14,3, FALSE)-$G$1*VLOOKUP(Interface!$D$1,'r_Demand growth forecast'!$A$7:$C$14,2, FALSE))/$G$3","v":214.53978324137807},{"$f":"'r_Bacton IUK exports'!E222","v":33.60731976430651},{"$f":"'r_Moffat exports'!E222","v":7.142463141792768},255.28956614747736,2765.5518700756224,{"$f":"M225*Interface!$E$4","v":2765.5518700756224}]
[221,{"$f":"'c_Demand break down'!A223","v":"2010-05-09"},32,5,2,"Summer",{"$f":"'c_Demand break down'!F223","v":218.37156594238303},-19.892770413377264,{"$f":"$G$1*VLOOKUP(Interface!$D$1,'r_Demand growth forecast'!$A$7:$C$14, 2, FALSE)+H226*($G$2*VLOOKUP(Interface!$D$1,'r_Demand growth forecast'!$A$7:$C$14,3, FALSE)-$G$1*VLOOKUP(Interface!$D$1,'r_Demand growth forecast'!$A$7:$C$14,2, FALSE))/$G$3","v":207.64214056676792},{"$f":"'r_Bacton IUK exports'!E223","v":32.318115540508515},{"$f":"'r_Moffat exports'!E223","v":7.0595695085485},247.01982561582494,2675.9657708962318,{"$f":"M226*Interface!$E$4","v":2675.9657708962318}]
[222,{"$f":"'c_Demand break down'!A224","v":"2010-05-10"},32,5,2,"Summer",{"$f":"'c_Demand break down'!F224","v":241.11367511718797},2.8493387614276742,{"$f":"$G$1*VLOOKUP(Interface!$D$1,'r_Demand growth forecast'!$A$7:$C$14, 2, FALSE)+H227*($G$2*VLOOKUP(Interface!$D$1,'r_Demand growth forecast'!$A$7:$C$14,3, FALSE)-$G$1*VLOOKUP(Interface!$D$1,'r_Demand growth forecast'!$A$7:$C$14,2, FALSE))/$G$3","v":234.5802087126057},{"$f":"'r_Bacton IUK exports'!E224","v":29.645880171309113},{"$f":"'r_Moffat exports'!E224","v":8.3755166590009509},272.60160554291576,2953.0931928464065,{"$f":"M227*Interface!$E$4","v":2953.0931928464065}]
[223,{"$f":"'c_Demand break down'!A225","v":"2010-05-11"},32,5,2,"Summer",{"$f":"'c_Demand break down'!F225","v":239.653363203125},1.3890268473647041,{"$f":"$G$1*VLOOKUP(Interface!$D$1,'r_Demand growth forecast'!$A$7:$C$14, 2, FALSE)+H228*($G$2*VLOOKUP(Interface!$D$1,'r_Demand growth forecast'!$A$7:$C$14,3, FALSE)-$G$1*VLOOKUP(Interface!$D$1,'r_Demand growth forecast'!$A$7:$C$14,2, FALSE))/$G$3","v":232.85046669295221},{"$f":"'r_Bacton IUK exports'!E225","v":30.437124190720873},{"$f":"'r_Moffat exports'!E225","v":9.2140891261108369},272.50168000978391,2952.0106995459892,{"$f":"M228*Interface!$E$4","v":2952.0106995459892}]
[224,{"$f":"'c_Demand break down'!A226","v":"2010-05-12"},32,5,2,"Summer",{"$f":"'c_Demand break down'!F226","v":236.99369414062403},-1.2706422151362631,{"$f":"$G$1*VLOOKUP(Interface!$D$1,'r_Demand growth forecast'!$A$7:$C$14, 2, FALSE)+H229*($G$2*VLOOKUP(Interface!$D$1,'r_Demand growth forecast'!$A$7:$C$14,3, FALSE)-$G$1*VLOOKUP(Interface!$D$1,'r_Demand growth forecast'!$A$7:$C$14,2, FALSE))/$G$3","v":229.70008403053839},{"$f":"'r_Bacton IUK exports'!E226","v":30.102445150881227},{"$f":"'r_Moffat exports'!E226","v":8.8594679327706221},268.66199711419023,2910.4154147380227,{"$f":"M229*Interface!$E$4","v":2910.4154147380227}]
[225,{"$f":"'c_Demand break down'!A227","v":"2010-05-13"},33,5,2,"Summer",{"$f":"'c_Demand break down'!F227","v":233.01434095703101},-5.2499953987292827,{"$f":"$G$1*VLOOKUP(Interface!$D$1,'r_Demand growth forecast'!$A$7:$C$14, 2, FALSE)+H230*($G$2*VLOOKUP(Interface!$D$1,'r_Demand growth forecast'!$A$7:$C$14,3, FALSE)-$G$1*VLOOKUP(Interface!$D$1,'r_Demand growth forecast'!$A$7:$C$14,2, FALSE))/$G$3","v":224.98653321552678},{"$f":"'r_Bacton IUK exports'!E227","v":27.271606941305883},{"$f":"'r_Moffat exports'!E227","v":8.3774038545148475},260.63554401134752,2823.4648482749276,{"$f":"M230*Interface!$E$4","v":2823.4648482749276}]
[226,{"$f":"'c_Demand break down'!A228","v":"2010-05-14"},33,5,2,"Summer",{"$f":"'c_Demand break down'!F228","v":227.31659123046902},-10.947745125291277,{"$f":"$G$1*VLOOKUP(Interface!$D$1,'r_Demand growth forecast'!$A$7:$C$14, 2, FALSE)+H231*($G$2*VLOOKUP(Interface!$D$1,'r_Demand growth forecast'!$A$7:$C$14,3, FALSE)-$G$1*VLOOKUP(Interface!$D$1,'r_Demand growth forecast'!$A$7:$C$14,2, FALSE))/$G$3","v":218.2375386859386},{"$f":"'r_Bacton IUK exports'!E228","v":27.595172248906533},{"$f":"'r_Moffat exports'!E228","v":8.1169136858860469},253.94962462073119,2751.036283516381,{"$f":"M231*Interface!$E$4","v":2751.036283516381}]
[227,{"$f":"'c_Demand break down'!A229","v":"2010-05-15"},33,5,2,"Summer",{"$f":"'c_Demand break down'!F229","v":194.46963292968701},-43.794703426073283,{"$f":"$G$1*VLOOKUP(Interface!$D$1,'r_Demand growth forecast'!$A$7:$C$14, 2, FALSE)+H232*($G$2*VLOOKUP(Interface!$D$1,'r_Demand growth forecast'!$A$7:$C$14,3, FALSE)-$G$1*VLOOKUP(Interface!$D$1,'r_Demand growth forecast'!$A$7:$C$14,2, FALSE))/$G$3","v":179.33025905374734},{"$f":"'r_Bacton IUK exports'!E229","v":31.520930539758336},{"$f":"'r_Moffat exports'!E229","v":7.5575603731846286},218.40874996669029,2366.0219883891559,{"$f":"M232*Interface!$E$4","v":2366.0219883891559}]
[228,{"$f":"'c_Demand break down'!A230","v":"2010-05-16"},33,5,2,"Summer",{"$f":"'c_Demand break down'!F230","v":200.13743930664003},-38.126897049120259,{"$f":"$G$1*VLOOKUP(Interface!$D$1,'r_Demand growth forecast'!$A$7:$C$14, 2, FALSE)+H233*($G$2*VLOOKUP(Interface!$D$1,'r_Demand growth forecast'!$A$7:$C$14,3, FALSE)-$G$1*VLOOKUP(Interface!$D$1,'r_Demand growth forecast'!$A$7:$C$14,2, FALSE))/$G$3","v":186.04378563328387},{"$f":"'r_Bacton IUK exports'!E230","v":31.50544115008093},{"$f":"'r_Moffat exports'!E230","v":7.4942821357341396},225.04350891909897,2437.8963321205993,{"$f":"M233*Interface!$E$4","v":2437.8963321205993}]
[229,{"$f":"'c_Demand break down'!A231","v":"2010-05-17"},33,5,2,"Summer",{"$f":"'c_Demand break down'!F231","v":205.44294044921898},-32.821395906541312,{"$f":"$G$1*VLOOKUP(Interface!$D$1,'r_Demand growth forecast'!$A$7:$C$14, 2, FALSE)+H234*($G$2*VLOOKUP(Interface!$D$1,'r_Demand growth forecast'!$A$7:$C$14,3, FALSE)-$G$1*VLOOKUP(Interface!$D$1,'r_Demand growth forecast'!$A$7:$C$14,2, FALSE))/$G$3","v":192.32816102819874},{"$f":"'r_Bacton IUK exports'!E231","v":33.017742187352873},{"$f":"'r_Moffat exports'!E231","v":8.71941515055933},234.06531836611094,2535.6295938600797,{"$f":"M234*Interface!$E$4","v":2535.6295938600797}]
[230,{"$f":"'c_Demand break down'!A232","v":"2010-05-18"},33,5,2,"Summer",{"$f":"'c_Demand break down'!F232","v":190.72298410156202},-47.541352254198273,{"$f":"$G$1*VLOOKUP(Interface!$D$1,'r_Demand growth forecast'!$A$7:$C$14, 2, FALSE)+H235*($G$2*VLOOKUP(Interface!$D$1,'r_Demand growth forecast'!$A$7:$C$14,3, FALSE)-$G$1*VLOOKUP(Interface!$D$1,'r_Demand growth forecast'!$A$7:$C$14,2, FALSE))/$G$3","v":174.89234695532301},{"$f":"'r_Bacton IUK exports'!E232","v":38.368187726719562},{"$f":"'r_Moffat exports'!E232","v":8.4509472918049333},221.7114819738475,2401.8004842226901,{"$f":"M235*Interface!$E$4","v":2401.8004842226901}]
[231,{"$f":"'c_Demand break down'!A233","v":"2010-05-19"},33,5,2,"Summer",{"$f":"'c_Demand break down'!F233","v":188.62599878906201},-49.638337566698283,{"$f":"$G$1*VLOOKUP(Interface!$D$1,'r_Demand growth forecast'!$A$7:$C$14, 2, FALSE)+H236*($G$2*VLOOKUP(Interface!$D$1,'r_Demand growth forecast'!$A$7:$C$14,3, FALSE)-$G$1*VLOOKUP(Interface!$D$1,'r_Demand growth forecast'!$A$7:$C$14,2, FALSE))/$G$3","v":172.408464180214},{"$f":"'r_Bacton IUK exports'!E233","v":38.694704962973958},{"$f":"'r_Moffat exports'!E233","v":9.2014506349438019},220.30461977813175,2386.5599460565013,{"$f":"M236*Interface!$E$4","v":2386.5599460565013}]
[232,{"$f":"'c_Demand break down'!A234","v":"2010-05-20"},34,5,2,"Summer",{"$f":"'c_Demand break down'!F234","v":177.02955740905699},-61.234778946703301,{"$f":"$G$1*VLOOKUP(Interface!$D$1,'r_Demand growth forecast'!$A$7:$C$14, 2, FALSE)+H237*($G$2*VLOOKUP(Interface!$D$1,'r_Demand growth forecast'!$A$7:$C$14,3, FALSE)-$G$1*VLOOKUP(Interface!$D$1,'r_Demand growth forecast'!$A$7:$C$14,2, FALSE))/$G$3","v":158.67245905673724},{"$f":"'r_Bacton IUK exports'!E234","v":34.267084342810982},{"$f":"'r_Moffat exports'!E234","v":8.9268931751354259},201.86643657468366,2186.819107413548,{"$f":"M237*Interface!$E$4","v":2186.819107413548}]
[233,{"$f":"'c_Demand break down'!A235","v":"2010-05-21"},34,5,2,"Summer",{"$f":"'c_Demand break down'!F235","v":160.50632038024895},-77.758015975511341,{"$f":"$G$1*VLOOKUP(Interface!$D$1,'r_Demand growth forecast'!$A$7:$C$14, 2, FALSE)+H238*($G$2*VLOOKUP(Interface!$D$1,'r_Demand growth forecast'!$A$7:$C$14,3, FALSE)-$G$1*VLOOKUP(Interface!$D$1,'r_Demand growth forecast'!$A$7:$C$14,2, FALSE))/$G$3","v":139.10065585895057},{"$f":"'r_Bacton IUK exports'!E235","v":39.474856144363166},{"$f":"'r_Moffat exports'!E235","v":8.6552049316122854},187.23071693492602,2028.2703565560537,{"$f":"M238*Interface!$E$4","v":2028.2703565560537}]
[234,{"$f":"'c_Demand break down'!A236","v":"2010-05-22"},34,5,2,"Summer",{"$f":"'c_Demand break down'!F236","v":143.19202404785199},-95.072312307908305,{"$f":"$G$1*VLOOKUP(Interface!$D$1,'r_Demand growth forecast'!$A$7:$C$14, 2, FALSE)+H239*($G$2*VLOOKUP(Interface!$D$1,'r_Demand growth forecast'!$A$7:$C$14,3, FALSE)-$G$1*VLOOKUP(Interface!$D$1,'r_Demand growth forecast'!$A$7:$C$14,2, FALSE))/$G$3","v":118.59184153067974},{"$f":"'r_Bacton IUK exports'!E236","v":28.692797958151136},{"$f":"'r_Moffat exports'!E236","v":7.8138115003751007},155.09845098920599,1680.1815195660686,{"$f":"M239*Interface!$E$4","v":1680.1815195660686}]
[235,{"$f":"'c_Demand break down'!A237","v":"2010-05-23"},34,5,2,"Summer",{"$f":"'c_Demand break down'!F237","v":140.78051991088898},-97.483816444871309,{"$f":"$G$1*VLOOKUP(Interface!$D$1,'r_Demand growth forecast'!$A$7:$C$14, 2, FALSE)+H240*($G$2*VLOOKUP(Interface!$D$1,'r_Demand growth forecast'!$A$7:$C$14,3, FALSE)-$G$1*VLOOKUP(Interface!$D$1,'r_Demand growth forecast'!$A$7:$C$14,2, FALSE))/$G$3","v":115.73541065717716},{"$f":"'r_Bacton IUK exports'!E237","v":26.825909393287894},{"$f":"'r_Moffat exports'!E237","v":7.4521437048467254},150.01346375531176,1625.0958528612923,{"$f":"M240*Interface!$E$4","v":1625.0958528612923}]
[236,{"$f":"'c_Demand break down'!A238","v":"2010-05-24"},34,5,2,"Summer",{"$f":"'c_Demand break down'!F238","v":158.342737558593},-79.921598797167292,{"$f":"$G$1*VLOOKUP(Interface!$D$1,'r_Demand growth forecast'!$A$7:$C$14, 2, FALSE)+H241*($G$2*VLOOKUP(Interface!$D$1,'r_Demand growth forecast'!$A$7:$C$14,3, FALSE)-$G$1*VLOOKUP(Interface!$D$1,'r_Demand growth forecast'!$A$7:$C$14,2, FALSE))/$G$3","v":136.53788821761407},{"$f":"'r_Bacton IUK exports'!E238","v":29.65769449473148},{"$f":"'r_Moffat exports'!E238","v":8.688934083626739},174.8845167959723,1894.523970450768,{"$f":"M241*Interface!$E$4","v":1894.523970450768}]
[237,{"$f":"'c_Demand break down'!A239","v":"2010-05-25"},34,5,2,"Summer",{"$f":"'c_Demand break down'!F239","v":166.15307399658198},-72.111262359178312,{"$f":"$G$1*VLOOKUP(Interface!$D$1,'r_Demand growth forecast'!$A$7:$C$14, 2, FALSE)+H242*($G$2*VLOOKUP(Interface!$D$1,'r_Demand growth forecast'!$A$7:$C$14,3, FALSE)-$G$1*VLOOKUP(Interface!$D$1,'r_Demand growth forecast'!$A$7:$C$14,2, FALSE))/$G$3","v":145.78924540666299},{"$f":"'r_Bacton IUK exports'!E239","v":33.445492843769614},{"$f":"'r_Moffat exports'!E239","v":8.4457968207153371},187.68053507114794,2033.1432364257457,{"$f":"M242*Interface!$E$4","v":2033.1432364257457}]
[238,{"$f":"'c_Demand break down'!A240","v":"2010-05-26"},34,5,2,"Summer",{"$f":"'c_Demand break down'!F240","v":183.06326283935496},-55.20107351640533,{"$f":"$G$1*VLOOKUP(Interface!$D$1,'r_Demand growth forecast'!$A$7:$C$14, 2, FALSE)+H243*($G$2*VLOOKUP(Interface!$D$1,'r_Demand growth forecast'!$A$7:$C$14,3, FALSE)-$G$1*VLOOKUP(Interface!$D$1,'r_Demand growth forecast'!$A$7:$C$14,2, FALSE))/$G$3","v":165.81939370576029},{"$f":"'r_Bacton IUK exports'!E240","v":20.604450604993126},{"$f":"'r_Moffat exports'!E240","v":8.4940418302674061},194.91788614102083,2111.5454605656787,{"$f":"M243*Interface!$E$4","v":2111.5454605656787}]
[239,{"$f":"'c_Demand break down'!A241","v":"2010-05-27"},35,5,2,"Summer",{"$f":"'c_Demand break down'!F241","v":184.17722292968799},-54.087113426072307,{"$f":"$G$1*VLOOKUP(Interface!$D$1,'r_Demand growth forecast'!$A$7:$C$14, 2, FALSE)+H244*($G$2*VLOOKUP(Interface!$D$1,'r_Demand growth forecast'!$A$7:$C$14,3, FALSE)-$G$1*VLOOKUP(Interface!$D$1,'r_Demand growth forecast'!$A$7:$C$14,2, FALSE))/$G$3","v":167.13888138363933},{"$f":"'r_Bacton IUK exports'!E241","v":27.976904070182929},{"$f":"'r_Moffat exports'!E241","v":8.8093428761724795},203.92512832999475,2209.1209151988332,{"$f":"M244*Interface!$E$4","v":2209.1209151988332}]
[240,{"$f":"'c_Demand break down'!A242","v":"2010-05-28"},35,5,2,"Summer",{"$f":"'c_Demand break down'!F242","v":175.57430974365298},-62.690026612107317,{"$f":"$G$1*VLOOKUP(Interface!$D$1,'r_Demand growth forecast'!$A$7:$C$14, 2, FALSE)+H245*($G$2*VLOOKUP(Interface!$D$1,'r_Demand growth forecast'!$A$7:$C$14,3, FALSE)-$G$1*VLOOKUP(Interface!$D$1,'r_Demand growth forecast'!$A$7:$C$14,2, FALSE))/$G$3","v":156.94871564848933},{"$f":"'r_Bacton IUK exports'!E242","v":28.258367925181791},{"$f":"'r_Moffat exports'!E242","v":9.3279427736338825},194.53502634730501,2107.3979404203551,{"$f":"M245*Interface!$E$4","v":2107.3979404203551}]
[241,{"$f":"'c_Demand break down'!A243","v":"2010-05-29"},35,5,2,"Summer",{"$f":"'c_Demand break down'!F243","v":172.292346057739},-65.971990298021296,{"$f":"$G$1*VLOOKUP(Interface!$D$1,'r_Demand growth forecast'!$A$7:$C$14, 2, FALSE)+H246*($G$2*VLOOKUP(Interface!$D$1,'r_Demand growth forecast'!$A$7:$C$14,3, FALSE)-$G$1*VLOOKUP(Interface!$D$1,'r_Demand growth forecast'!$A$7:$C$14,2, FALSE))/$G$3","v":153.0612239148175},{"$f":"'r_Bacton IUK exports'!E243","v":23.299569180066619},{"$f":"'r_Moffat exports'!E243","v":8.1586106988832441},184.51940379376737,1998.8987012978819,{"$f":"M246*Interface!$E$4","v":1998.8987012978819}]
[242,{"$f":"'c_Demand break down'!A244","v":"2010-05-30"},35,5,2,"Summer",{"$f":"'c_Demand break down'!F244","v":161.80080124145499},-76.463535114305301,{"$f":"$G$1*VLOOKUP(Interface!$D$1,'r_Demand growth forecast'!$A$7:$C$14, 2, FALSE)+H247*($G$2*VLOOKUP(Interface!$D$1,'r_Demand growth forecast'!$A$7:$C$14,3, FALSE)-$G$1*VLOOKUP(Interface!$D$1,'r_Demand growth forecast'!$A$7:$C$14,2, FALSE))/$G$3","v":140.63397070607488},{"$f":"'r_Bacton IUK exports'!E244","v":24.161010065087094},{"$f":"'r_Moffat exports'!E244","v":7.6306391600641819},172.42561993122615,1867.886740714973,{"$f":"M247*Interface!$E$4","v":1867.886740714973}]
[243,{"$f":"'c_Demand break down'!A245","v":"2010-05-31"},35,5,2,"Summer",{"$f":"'c_Demand break down'!F245","v":168.01680140380901},-70.24753495195128,{"$f":"$G$1*VLOOKUP(Interface!$D$1,'r_Demand growth forecast'!$A$7:$C$14, 2, FALSE)+H248*($G$2*VLOOKUP(Interface!$D$1,'r_Demand growth forecast'!$A$7:$C$14,3, FALSE)-$G$1*VLOOKUP(Interface!$D$1,'r_Demand growth forecast'!$A$7:$C$14,2, FALSE))/$G$3","v":147.99683378447131},{"$f":"'r_Bacton IUK exports'!E245","v":26.696577498765702},{"$f":"'r_Moffat exports'!E245","v":8.461720032862015},183.15513131609902,1984.1195375473008,{"$f":"M248*Interface!$E$4","v":1984.1195375473008}]
[244,{"$f":"'c_Demand break down'!A246","v":"2010-06-01"},35,6,2,"Summer",{"$f":"'c_Demand break down'!F246","v":185.52273188232499},-52.741604473435302,{"$f":"$G$1*VLOOKUP(Interface!$D$1,'r_Demand growth forecast'!$A$7:$C$14, 2, FALSE)+H249*($G$2*VLOOKUP(Interface!$D$1,'r_Demand growth forecast'!$A$7:$C$14,3, FALSE)-$G$1*VLOOKUP(Interface!$D$1,'r_Demand growth forecast'!$A$7:$C$14,2, FALSE))/$G$3","v":168.73263909442917},{"$f":"'r_Bacton IUK exports'!E246","v":25.287685611064145},{"$f":"'r_Moffat exports'!E246","v":8.8589961338917949},202.87932083938512,2197.7916826530591,{"$f":"M249*Interface!$E$4","v":2197.7916826530591}]
[245,{"$f":"'c_Demand break down'!A247","v":"2010-06-02"},35,6,2,"Summer",{"$f":"'c_Demand break down'!F247","v":167.29772890136698},-70.966607454393312,{"$f":"$G$1*VLOOKUP(Interface!$D$1,'r_Demand growth forecast'!$A$7:$C$14, 2, FALSE)+H250*($G$2*VLOOKUP(Interface!$D$1,'r_Demand growth forecast'!$A$7:$C$14,3, FALSE)-$G$1*VLOOKUP(Interface!$D$1,'r_Demand growth forecast'!$A$7:$C$14,2, FALSE))/$G$3","v":147.14509114601623},{"$f":"'r_Bacton IUK exports'!E247","v":33.783892042702348},{"$f":"'r_Moffat exports'!E247","v":9.027649935990075},189.95663312470865,2057.8002066399686,{"$f":"M250*Interface!$E$4","v":2057.8002066399686}]
[246,{"$f":"'c_Demand break down'!A248","v":"2010-06-03"},36,6,2,"Summer",{"$f":"'c_Demand break down'!F248","v":153.85099304199201},-84.41334331376828,{"$f":"$G$1*VLOOKUP(Interface!$D$1,'r_Demand growth forecast'!$A$7:$C$14, 2, FALSE)+H251*($G$2*VLOOKUP(Interface!$D$1,'r_Demand growth forecast'!$A$7:$C$14,3, FALSE)-$G$1*VLOOKUP(Interface!$D$1,'r_Demand growth forecast'!$A$7:$C$14,2, FALSE))/$G$3","v":131.21740897130297},{"$f":"'r_Bacton IUK exports'!E248","v":27.09553074184144},{"$f":"'r_Moffat exports'!E248","v":8.2471587702004481},166.56009848334486,1804.3455468700749,{"$f":"M251*Interface!$E$4","v":1804.3455468700749}]
[247,{"$f":"'c_Demand break down'!A249","v":"2010-06-04"},36,6,2,"Summer",{"$f":"'c_Demand break down'!F249","v":155.550795859375},-82.713540496385292,{"$f":"$G$1*VLOOKUP(Interface!$D$1,'r_Demand growth forecast'!$A$7:$C$14, 2, FALSE)+H252*($G$2*VLOOKUP(Interface!$D$1,'r_Demand growth forecast'!$A$7:$C$14,3, FALSE)-$G$1*VLOOKUP(Interface!$D$1,'r_Demand growth forecast'!$A$7:$C$14,2, FALSE))/$G$3","v":133.2308283853597},{"$f":"'r_Bacton IUK exports'!E249","v":29.931058548796024},{"$f":"'r_Moffat exports'!E249","v":8.8219742188721568},171.98386115302787,1863.1011678707509,{"$f":"M252*Interface!$E$4","v":1863.1011678707509}]
[248,{"$f":"'c_Demand break down'!A250","v":"2010-06-05"},36,6,2,"Summer",{"$f":"'c_Demand break down'!F250","v":137.203366318359},-101.06097003740129,{"$f":"$G$1*VLOOKUP(Interface!$D$1,'r_Demand growth forecast'!$A$7:$C$14, 2, FALSE)+H253*($G$2*VLOOKUP(Interface!$D$1,'r_Demand growth forecast'!$A$7:$C$14,3, FALSE)-$G$1*VLOOKUP(Interface!$D$1,'r_Demand growth forecast'!$A$7:$C$14,2, FALSE))/$G$3","v":111.4982659621523},{"$f":"'r_Bacton IUK exports'!E250","v":33.306629450723541},{"$f":"'r_Moffat exports'!E250","v":8.3675675627466557},153.17246297562249,1659.3172914149186,{"$f":"M253*Interface!$E$4","v":1659.3172914149186}]
[249,{"$f":"'c_Demand break down'!A251","v":"2010-06-06"},36,6,2,"Summer",{"$f":"'c_Demand break down'!F251","v":141.36271685546899},-96.901619500291304,{"$f":"$G$1*VLOOKUP(Interface!$D$1,'r_Demand growth forecast'!$A$7:$C$14, 2, FALSE)+H254*($G$2*VLOOKUP(Interface!$D$1,'r_Demand growth forecast'!$A$7:$C$14,3, FALSE)-$G$1*VLOOKUP(Interface!$D$1,'r_Demand growth forecast'!$A$7:$C$14,2, FALSE))/$G$3","v":116.42502395763435},{"$f":"'r_Bacton IUK exports'!E251","v":32.731831051256812},{"$f":"'r_Moffat exports'!E251","v":7.6624855843570696},156.81934059324823,1698.8239166466581,{"$f":"M254*Interface!$E$4","v":1698.8239166466581}]
[250,{"$f":"'c_Demand break down'!A252","v":"2010-06-07"},36,6,2,"Summer",{"$f":"'c_Demand break down'!F252","v":163.08583899413998},-75.178497361620316,{"$f":"$G$1*VLOOKUP(Interface!$D$1,'r_Demand growth forecast'!$A$7:$C$14, 2, FALSE)+H255*($G$2*VLOOKUP(Interface!$D$1,'r_Demand growth forecast'!$A$7:$C$14,3, FALSE)-$G$1*VLOOKUP(Interface!$D$1,'r_Demand growth forecast'!$A$7:$C$14,2, FALSE))/$G$3","v":142.1561001746183},{"$f":"'r_Bacton IUK exports'!E252","v":33.18030186649964},{"$f":"'r_Moffat exports'!E252","v":8.1291089720464935},183.46551101316442,1987.4818808056102,{"$f":"M255*Interface!$E$4","v":1987.4818808056102}]
[251,{"$f":"'c_Demand break down'!A253","v":"2010-06-08"},36,6,2,"Summer",{"$f":"'c_Demand break down'!F253","v":166.39346512695298},-71.870871228807317,{"$f":"$G$1*VLOOKUP(Interface!$D$1,'r_Demand growth forecast'!$A$7:$C$14, 2, FALSE)+H256*($G$2*VLOOKUP(Interface!$D$1,'r_Demand growth forecast'!$A$7:$C$14,3, FALSE)-$G$1*VLOOKUP(Interface!$D$1,'r_Demand growth forecast'!$A$7:$C$14,2, FALSE))/$G$3","v":146.0739891215847},{"$f":"'r_Bacton IUK exports'!E253","v":34.497576381633799},{"$f":"'r_Moffat exports'!E253","v":9.0684033512300886},189.63996885444857,2054.3697826002413,{"$f":"M256*Interface!$E$4","v":2054.3697826002413}]
[252,{"$f":"'c_Demand break down'!A254","v":"2010-06-09"},36,6,2,"Summer",{"$f":"'c_Demand break down'!F254","v":164.01450291015601},-74.249833445604281,{"$f":"$G$1*VLOOKUP(Interface!$D$1,'r_Demand growth forecast'!$A$7:$C$14, 2, FALSE)+H257*($G$2*VLOOKUP(Interface!$D$1,'r_Demand growth forecast'!$A$7:$C$14,3, FALSE)-$G$1*VLOOKUP(Interface!$D$1,'r_Demand growth forecast'!$A$7:$C$14,2, FALSE))/$G$3","v":143.25610420950949},{"$f":"'r_Bacton IUK exports'!E254","v":35.521567081742425},{"$f":"'r_Moffat exports'!E254","v":8.644898149135166},187.42256944038709,2030.3486947477134,{"$f":"M257*Interface!$E$4","v":2030.3486947477134}]
[253,{"$f":"'c_Demand break down'!A255","v":"2010-06-10"},37,6,2,"Summer",{"$f":"'c_Demand break down'!F255","v":177.04365588867202},-61.220680467088272,{"$f":"$G$1*VLOOKUP(Interface!$D$1,'r_Demand growth forecast'!$A$7:$C$14, 2, FALSE)+H258*($G$2*VLOOKUP(Interface!$D$1,'r_Demand growth forecast'!$A$7:$C$14,3, FALSE)-$G$1*VLOOKUP(Interface!$D$1,'r_Demand growth forecast'!$A$7:$C$14,2, FALSE))/$G$3","v":158.68915873053191},{"$f":"'r_Bacton IUK exports'!E255","v":34.616508740509566},{"$f":"'r_Moffat exports'!E255","v":8.9606473467870345},202.26631481782852,2191.1509884215366,{"$f":"M258*Interface!$E$4","v":2191.1509884215366}]
[254,{"$f":"'c_Demand break down'!A256","v":"2010-06-11"},37,6,2,"Summer",{"$f":"'c_Demand break down'!F256","v":161.00022290039001},-77.264113455370278,{"$f":"$G$1*VLOOKUP(Interface!$D$1,'r_Demand growth forecast'!$A$7:$C$14, 2, FALSE)+H259*($G$2*VLOOKUP(Interface!$D$1,'r_Demand growth forecast'!$A$7:$C$14,3, FALSE)-$G$1*VLOOKUP(Interface!$D$1,'r_Demand growth forecast'!$A$7:$C$14,2, FALSE))/$G$3","v":139.6856842590297},{"$f":"'r_Bacton IUK exports'!E256","v":39.092198325435703},{"$f":"'r_Moffat exports'!E256","v":8.1380016660579724},186.91588425052336,2024.8597740859195,{"$f":"M259*Interface!$E$4","v":2024.8597740859195}]
[255,{"$f":"'c_Demand break down'!A257","v":"2010-06-12"},37,6,2,"Summer",{"$f":"'c_Demand break down'!F257","v":152.03778584960901},-86.226550506151284,{"$f":"$G$1*VLOOKUP(Interface!$D$1,'r_Demand growth forecast'!$A$7:$C$14, 2, FALSE)+H260*($G$2*VLOOKUP(Interface!$D$1,'r_Demand growth forecast'!$A$7:$C$14,3, FALSE)-$G$1*VLOOKUP(Interface!$D$1,'r_Demand growth forecast'!$A$7:$C$14,2, FALSE))/$G$3","v":129.06966187645349},{"$f":"'r_Bacton IUK exports'!E257","v":35.581405277089914},{"$f":"'r_Moffat exports'!E257","v":7.8526920170373362},172.50375917058074,1868.7332230949012,{"$f":"M260*Interface!$E$4","v":1868.7332230949012}]
[256,{"$f":"'c_Demand break down'!A258","v":"2010-06-13"},37,6,2,"Summer",{"$f":"'c_Demand break down'!F258","v":155.93065368164002},-82.333682674120269,{"$f":"$G$1*VLOOKUP(Interface!$D$1,'r_Demand growth forecast'!$A$7:$C$14, 2, FALSE)+H261*($G$2*VLOOKUP(Interface!$D$1,'r_Demand growth forecast'!$A$7:$C$14,3, FALSE)-$G$1*VLOOKUP(Interface!$D$1,'r_Demand growth forecast'!$A$7:$C$14,2, FALSE))/$G$3","v":133.68077064107808},{"$f":"'r_Bacton IUK exports'!E258","v":33.058370833930603},{"$f":"'r_Moffat exports'!E258","v":7.2314901604561532},173.97063163546485,1884.6238525069907,{"$f":"M261*Interface!$E$4","v":1884.6238525069907}]
[257,{"$f":"'c_Demand break down'!A259","v":"2010-06-14"},37,6,2,"Summer",{"$f":"'c_Demand break down'!F259","v":169.18631800781199},-69.078018347948301,{"$f":"$G$1*VLOOKUP(Interface!$D$1,'r_Demand growth forecast'!$A$7:$C$14, 2, FALSE)+H262*($G$2*VLOOKUP(Interface!$D$1,'r_Demand growth forecast'!$A$7:$C$14,3, FALSE)-$G$1*VLOOKUP(Interface!$D$1,'r_Demand growth forecast'!$A$7:$C$14,2, FALSE))/$G$3","v":149.38212825008856},{"$f":"'r_Bacton IUK exports'!E259","v":31.617744861846436},{"$f":"'r_Moffat exports'!E259","v":9.3448203062392476},190.34469341817424,{"$f":"L262*conversion","v":2062.0040637990815},{"$f":"M262*Interface!$E$4","v":2062.0040637990815}]
[258,{"$f":"'c_Demand break down'!A260","v":"2010-06-15"},{"$f":"CEILING(A263/7,1)","v":37},6,2,{"$f":"IF(OR(D263<=3,D263>=10),\"Winter\",\"Summer\")","v":"Summer"},{"$f":"'c_Demand break down'!F260","v":166.286419785156},-71.977916570604293,{"$f":"$G$1*VLOOKUP(Interface!$D$1,'r_Demand growth forecast'!$A$7:$C$14, 2, FALSE)+H263*($G$2*VLOOKUP(Interface!$D$1,'r_Demand growth forecast'!$A$7:$C$14,3, FALSE)-$G$1*VLOOKUP(Interface!$D$1,'r_Demand growth forecast'!$A$7:$C$14,2, FALSE))/$G$3","v":145.94719372675752},{"$f":"'r_Bacton IUK exports'!E260","v":37.962532560672571},{"$f":"'r_Moffat exports'!E260","v":9.5795188028477298},{"$f":"I263+J263+K263","v":193.48924509027782},2096.0689920629798,{"$f":"M263*Interface!$E$4","v":2096.0689920629798}]
[259,{"$f":"'c_Demand break down'!A261","v":"2010-06-16"},37,6,2,"Summer",{"$f":"'c_Demand break down'!F261","v":158.30021850585902},-79.964117849901271,{"$f":"$G$1*VLOOKUP(Interface!$D$1,'r_Demand growth forecast'!$A$7:$C$14, 2, FALSE)+H264*($G$2*VLOOKUP(Interface!$D$1,'r_Demand growth forecast'!$A$7:$C$14,3, FALSE)-$G$1*VLOOKUP(Interface!$D$1,'r_Demand growth forecast'!$A$7:$C$14,2, FALSE))/$G$3","v":136.487524325187},{"$f":"'r_Bacton IUK exports'!E261","v":30.651405354466458},{"$f":"'r_Moffat exports'!E261","v":9.6216804662554622},176.76061014590891,1914.8476897106314,{"$f":"M264*Interface!$E$4","v":1914.8476897106314}]
[260,{"$f":"'c_Demand break down'!A262","v":"2010-06-17"},38,6,2,"Summer",{"$f":"'c_Demand break down'!F262","v":158.43645976562402},-79.82787659013627,{"$f":"$G$1*VLOOKUP(Interface!$D$1,'r_Demand growth forecast'!$A$7:$C$14, 2, FALSE)+H265*($G$2*VLOOKUP(Interface!$D$1,'r_Demand growth forecast'!$A$7:$C$14,3, FALSE)-$G$1*VLOOKUP(Interface!$D$1,'r_Demand growth forecast'!$A$7:$C$14,2, FALSE))/$G$3","v":136.64890233597811},{"$f":"'r_Bacton IUK exports'!E262","v":31.010434526550654},{"$f":"'r_Moffat exports'!E262","v":9.2600108836102457},176.91934774613901,1916.567294133924,{"$f":"M265*Interface!$E$4","v":1916.567294133924}]
[261,{"$f":"'c_Demand break down'!A263","v":"2010-06-18"},38,6,2,"Summer",{"$f":"'c_Demand break down'!F263","v":152.77351805664},-85.490818299120292,{"$f":"$G$1*VLOOKUP(Interface!$D$1,'r_Demand growth forecast'!$A$7:$C$14, 2, FALSE)+H266*($G$2*VLOOKUP(Interface!$D$1,'r_Demand growth forecast'!$A$7:$C$14,3, FALSE)-$G$1*VLOOKUP(Interface!$D$1,'r_Demand growth forecast'!$A$7:$C$14,2, FALSE))/$G$3","v":129.94113796417037},{"$f":"'r_Bacton IUK exports'!E263","v":32.0137050678332},{"$f":"'r_Moffat exports'!E263","v":8.6158624452150114},170.57070547721858,1847.7924524347088,{"$f":"M266*Interface!$E$4","v":1847.7924524347088}]
[262,{"$f":"'c_Demand break down'!A264","v":"2010-06-19"},38,6,2,"Summer",{"$f":"'c_Demand break down'!F264","v":148.08698755859299},-90.177348797167298,{"$f":"$G$1*VLOOKUP(Interface!$D$1,'r_Demand growth forecast'!$A$7:$C$14, 2, FALSE)+H267*($G$2*VLOOKUP(Interface!$D$1,'r_Demand growth forecast'!$A$7:$C$14,3, FALSE)-$G$1*VLOOKUP(Interface!$D$1,'r_Demand growth forecast'!$A$7:$C$14,2, FALSE))/$G$3","v":124.38993438170756},{"$f":"'r_Bacton IUK exports'!E264","v":38.150975528537401},{"$f":"'r_Moffat exports'!E264","v":7.4024672146070936},169.94337712485208,1840.9966043935226,{"$f":"M267*Interface!$E$4","v":1840.9966043935226}]
[263,{"$f":"'c_Demand break down'!A265","v":"2010-06-20"},38,6,2,"Summer",{"$f":"'c_Demand break down'!F265","v":144.68400115722602},-93.580335198534272,{"$f":"$G$1*VLOOKUP(Interface!$D$1,'r_Demand growth forecast'!$A$7:$C$14, 2, FALSE)+H268*($G$2*VLOOKUP(Interface!$D$1,'r_Demand growth forecast'!$A$7:$C$14,3, FALSE)-$G$1*VLOOKUP(Interface!$D$1,'r_Demand growth forecast'!$A$7:$C$14,2, FALSE))/$G$3","v":120.35909102963447},{"$f":"'r_Bacton IUK exports'!E265","v":36.610502741043888},{"$f":"'r_Moffat exports'!E265","v":8.1862538240778662},165.15584759475621,1789.133296993994,{"$f":"M268*Interface!$E$4","v":1789.133296993994}]
[264,{"$f":"'c_Demand break down'!A266","v":"2010-06-21"},38,6,2,"Summer",{"$f":"'c_Demand break down'!F266","v":150.50994561767499},-87.754390738085306,{"$f":"$G$1*VLOOKUP(Interface!$D$1,'r_Demand growth forecast'!$A$7:$C$14, 2, FALSE)+H269*($G$2*VLOOKUP(Interface!$D$1,'r_Demand growth forecast'!$A$7:$C$14,3, FALSE)-$G$1*VLOOKUP(Interface!$D$1,'r_Demand growth forecast'!$A$7:$C$14,2, FALSE))/$G$3","v":127.25993244601935},{"$f":"'r_Bacton IUK exports'!E266","v":38.249948670219922},{"$f":"'r_Moffat exports'!E266","v":9.078268236870052},174.58814935310934,1891.3134219422336,{"$f":"M269*Interface!$E$4","v":1891.3134219422336}]
[265,{"$f":"'c_Demand break down'!A267","v":"2010-06-22"},38,{"$f":"MONTH(B270)","v":6},{"$f":"IF(D270<=3,1,IF(D270<=6,2,IF(D270<=9,3,4)))","v":2},"Summer",{"$f":"'c_Demand break down'!F267","v":146.295323244629},-91.969013111131289,{"$f":"$G$1*VLOOKUP(Interface!$D$1,'r_Demand growth forecast'!$A$7:$C$14, 2, FALSE)+H270*($G$2*VLOOKUP(Interface!$D$1,'r_Demand growth forecast'!$A$7:$C$14,3, FALSE)-$G$1*VLOOKUP(Interface!$D$1,'r_Demand growth forecast'!$A$7:$C$14,2, FALSE))/$G$3","v":122.26770486407349},{"$f":"'r_Bacton IUK exports'!E267","v":40.867520247173879},{"$f":"'r_Moffat exports'!E267","v":8.9465934589844576},172.08181857023183,1864.1623405713215,{"$f":"M270*Interface!$E$4","v":1864.1623405713215}]
[266,{"$f":"'c_Demand break down'!A268","v":"2010-06-23"},38,6,2,"Summer",{"$f":"'c_Demand break down'!F268","v":146.52575807617202},-91.738578279588268,{"$f":"$G$1*VLOOKUP(Interface!$D$1,'r_Demand growth forecast'!$A$7:$C$14, 2, FALSE)+H271*($G$2*VLOOKUP(Interface!$D$1,'r_Demand growth forecast'!$A$7:$C$14,3, FALSE)-$G$1*VLOOKUP(Interface!$D$1,'r_Demand growth forecast'!$A$7:$C$14,2, FALSE))/$G$3","v":122.54065532559697},{"$f":"'r_Bacton IUK exports'!E268","v":36.571395977731804},{"$f":"'r_Moffat exports'!E268","v":9.106804920546141},168.21885622387492,1822.314869473237,{"$f":"M271*Interface!$E$4","v":1822.314869473237}]
[267,{"$f":"'c_Demand break down'!A269","v":"2010-06-24"},39,6,2,"Summer",{"$f":"'c_Demand break down'!F269","v":147.83965902343701},-90.424677332323284,{"$f":"$G$1*VLOOKUP(Interface!$D$1,'r_Demand growth forecast'!$A$7:$C$14, 2, FALSE)+H272*($G$2*VLOOKUP(Interface!$D$1,'r_Demand growth forecast'!$A$7:$C$14,3, FALSE)-$G$1*VLOOKUP(Interface!$D$1,'r_Demand growth forecast'!$A$7:$C$14,2, FALSE))/$G$3","v":124.09697329866856},{"$f":"'r_Bacton IUK exports'!E269","v":40.46856700409888},{"$f":"'r_Moffat exports'!E269","v":8.9011577972995255},173.46669810006696,1879.1647405180254,{"$f":"M272*Interface!$E$4","v":1879.1647405180254}]
[268,{"$f":"'c_Demand break down'!A270","v":"2010-06-25"},39,6,2,"Summer",{"$f":"'c_Demand break down'!F270","v":144.202792207031},-94.061544148729297,{"$f":"$G$1*VLOOKUP(Interface!$D$1,'r_Demand growth forecast'!$A$7:$C$14, 2, FALSE)+H273*($G$2*VLOOKUP(Interface!$D$1,'r_Demand growth forecast'!$A$7:$C$14,3, FALSE)-$G$1*VLOOKUP(Interface!$D$1,'r_Demand growth forecast'!$A$7:$C$14,2, FALSE))/$G$3","v":119.78909818538669},{"$f":"'r_Bacton IUK exports'!E270","v":38.467887990406929},{"$f":"'r_Moffat exports'!E270","v":8.7756021078978677},167.0325882836915,1809.46402887723,{"$f":"M273*Interface!$E$4","v":1809.46402887723}]
[269,{"$f":"'c_Demand break down'!A271","v":"2010-06-26"},39,6,2,"Summer",{"$f":"'c_Demand break down'!F271","v":131.056234589843},-107.20810176591729,{"$f":"$G$1*VLOOKUP(Interface!$D$1,'r_Demand growth forecast'!$A$7:$C$14, 2, FALSE)+H274*($G$2*VLOOKUP(Interface!$D$1,'r_Demand growth forecast'!$A$7:$C$14,3, FALSE)-$G$1*VLOOKUP(Interface!$D$1,'r_Demand growth forecast'!$A$7:$C$14,2, FALSE))/$G$3","v":104.2169776642464},{"$f":"'r_Bacton IUK exports'!E271","v":35.775710313827886},{"$f":"'r_Moffat exports'!E271","v":7.395004214166808},147.3876921922411,1596.650869518548,{"$f":"M274*Interface!$E$4","v":1596.650869518548}]
[270,{"$f":"'c_Demand break down'!A272","v":"2010-06-27"},39,6,2,"Summer",{"$f":"'c_Demand break down'!F272","v":130.37016343750003},-107.89417291826027,{"$f":"$G$1*VLOOKUP(Interface!$D$1,'r_Demand growth forecast'!$A$7:$C$14, 2, FALSE)+H275*($G$2*VLOOKUP(Interface!$D$1,'r_Demand growth forecast'!$A$7:$C$14,3, FALSE)-$G$1*VLOOKUP(Interface!$D$1,'r_Demand growth forecast'!$A$7:$C$14,2, FALSE))/$G$3","v":103.40432518277896},{"$f":"'r_Bacton IUK exports'!E272","v":35.968527286928925},{"$f":"'r_Moffat exports'!E272","v":6.9410193176444182},146.3138717873523,1585.0181730723875,{"$f":"M275*Interface!$E$4","v":1585.0181730723875}]
[271,{"$f":"'c_Demand break down'!A273","v":"2010-06-28"},39,6,2,"Summer",{"$f":"'c_Demand break down'!F273","v":145.30887267578098},-92.955463679979317,{"$f":"$G$1*VLOOKUP(Interface!$D$1,'r_Demand growth forecast'!$A$7:$C$14, 2, FALSE)+H276*($G$2*VLOOKUP(Interface!$D$1,'r_Demand growth forecast'!$A$7:$C$14,3, FALSE)-$G$1*VLOOKUP(Interface!$D$1,'r_Demand growth forecast'!$A$7:$C$14,2, FALSE))/$G$3","v":121.09925243770101},{"$f":"'r_Bacton IUK exports'!E273","v":38.332699663615891},{"$f":"'r_Moffat exports'!E273","v":8.9292655729046793},168.36121767422159,1823.8570710648426,{"$f":"M276*Interface!$E$4","v":1823.8570710648426}]
[272,{"$f":"'c_Demand break down'!A274","v":"2010-06-29"},39,6,2,"Summer",{"$f":"'c_Demand break down'!F274","v":145.34929997070302},-92.915036385057277,{"$f":"$G$1*VLOOKUP(Interface!$D$1,'r_Demand growth forecast'!$A$7:$C$14, 2, FALSE)+H277*($G$2*VLOOKUP(Interface!$D$1,'r_Demand growth forecast'!$A$7:$C$14,3, FALSE)-$G$1*VLOOKUP(Interface!$D$1,'r_Demand growth forecast'!$A$7:$C$14,2, FALSE))/$G$3","v":121.14713863933653},{"$f":"'r_Bacton IUK exports'!E274","v":39.630764629980291},{"$f":"'r_Moffat exports'!E274","v":8.8871182064326},169.66502147574943,1837.9811776467936,{"$f":"M277*Interface!$E$4","v":1837.9811776467936}]
[273,{"$f":"'c_Demand break down'!A275","v":"2010-06-30"},39,6,2,"Summer",{"$f":"'c_Demand break down'!F275","v":146.78564826171902},-91.478688094041274,{"$f":"$G$1*VLOOKUP(Interface!$D$1,'r_Demand growth forecast'!$A$7:$C$14, 2, FALSE)+H278*($G$2*VLOOKUP(Interface!$D$1,'r_Demand growth forecast'!$A$7:$C$14,3, FALSE)-$G$1*VLOOKUP(Interface!$D$1,'r_Demand growth forecast'!$A$7:$C$14,2, FALSE))/$G$3","v":122.84849570552336},{"$f":"'r_Bacton IUK exports'!E275","v":39.403970203831172},{"$f":"'r_Moffat exports'!E275","v":7.7932024675498281},170.04566837690436,1842.104725527005,{"$f":"M278*Interface!$E$4","v":1842.104725527005}]
[274,{"$f":"'c_Demand break down'!A276","v":"2010-07-01"},40,7,3,"Summer",{"$f":"'c_Demand break down'!F276","v":143.511194394531},-94.753141961229289,{"$f":"$G$1*VLOOKUP(Interface!$D$1,'r_Demand growth forecast'!$A$7:$C$14, 2, FALSE)+H279*($G$2*VLOOKUP(Interface!$D$1,'r_Demand growth forecast'!$A$7:$C$14,3, FALSE)-$G$1*VLOOKUP(Interface!$D$1,'r_Demand growth forecast'!$A$7:$C$14,2, FALSE))/$G$3","v":118.96989936528442},{"$f":"'r_Bacton IUK exports'!E276","v":40.059259318214764},{"$f":"'r_Moffat exports'!E276","v":8.2738654461061802},167.30302412960538,1812.3936603960151,{"$f":"M279*Interface!$E$4","v":1812.3936603960151}]
[275,{"$f":"'c_Demand break down'!A277","v":"2010-07-02"},40,7,3,"Summer",{"$f":"'c_Demand break down'!F277","v":136.31071732421898},-101.95361903154131,{"$f":"$G$1*VLOOKUP(Interface!$D$1,'r_Demand growth forecast'!$A$7:$C$14, 2, FALSE)+H280*($G$2*VLOOKUP(Interface!$D$1,'r_Demand growth forecast'!$A$7:$C$14,3, FALSE)-$G$1*VLOOKUP(Interface!$D$1,'r_Demand growth forecast'!$A$7:$C$14,2, FALSE))/$G$3","v":110.44092166529626},{"$f":"'r_Bacton IUK exports'!E277","v":38.019439721582749},{"$f":"'r_Moffat exports'!E277","v":7.8325476346225953},156.2929090215016,1693.1210834299268,{"$f":"M280*Interface!$E$4","v":1693.1210834299268}]
[276,{"$f":"'c_Demand break down'!A278","v":"2010-07-03"},40,7,3,"Summer",{"$f":"'c_Demand break down'!F278","v":125.96724269531201},{"$f":"G281-$G$1","v":-112.29709366044828},{"$f":"$G$1*VLOOKUP(Interface!$D$1,'r_Demand growth forecast'!$A$7:$C$14, 2, FALSE)+H281*($G$2*VLOOKUP(Interface!$D$1,'r_Demand growth forecast'!$A$7:$C$14,3, FALSE)-$G$1*VLOOKUP(Interface!$D$1,'r_Demand growth forecast'!$A$7:$C$14,2, FALSE))/$G$3","v":98.189057852817228},{"$f":"'r_Bacton IUK exports'!E278","v":34.311410602062409},{"$f":"'r_Moffat exports'!E278","v":7.2474026499008595},139.7478711047805,1513.8886876780871,{"$f":"M281*Interface!$E$4","v":1513.8886876780871}]
[277,{"$f":"'c_Demand break down'!A279","v":"2010-07-04"},40,7,3,"Summer",{"$f":"'c_Demand break down'!F279","v":127.87928927734399},-110.38504707841631,{"$f":"$G$1*VLOOKUP(Interface!$D$1,'r_Demand growth forecast'!$A$7:$C$14, 2, FALSE)+H282*($G$2*VLOOKUP(Interface!$D$1,'r_Demand growth forecast'!$A$7:$C$14,3, FALSE)-$G$1*VLOOKUP(Interface!$D$1,'r_Demand growth forecast'!$A$7:$C$14,2, FALSE))/$G$3","v":100.45388037780342},{"$f":"'r_Bacton IUK exports'!E279","v":32.133381458527445},{"$f":"'r_Moffat exports'!E279","v":6.6215399922782359},139.2088018286091,1508.0489502093224,{"$f":"M282*Interface!$E$4","v":1508.0489502093224}]
[278,{"$f":"'c_Demand break down'!A280","v":"2010-07-05"},40,7,3,"Summer",{"$f":"'c_Demand break down'!F280","v":144.42681222656199},-93.8375241291983,{"$f":"$G$1*VLOOKUP(Interface!$D$1,'r_Demand growth forecast'!$A$7:$C$14, 2, FALSE)+H283*($G$2*VLOOKUP(Interface!$D$1,'r_Demand growth forecast'!$A$7:$C$14,3, FALSE)-$G$1*VLOOKUP(Interface!$D$1,'r_Demand growth forecast'!$A$7:$C$14,2, FALSE))/$G$3","v":120.05445029084767},{"$f":"'r_Bacton IUK exports'!E280","v":39.005755355970344},{"$f":"'r_Moffat exports'!E280","v":8.9461073631704497},168.00631300998847,1820.0123888372052,{"$f":"M283*Interface!$E$4","v":1820.0123888372052}]
[279,{"$f":"'c_Demand break down'!A281","v":"2010-07-06"},40,7,3,"Summer",{"$f":"'c_Demand break down'!F281","v":140.49941654296902},-97.764919812791277,{"$f":"$G$1*VLOOKUP(Interface!$D$1,'r_Demand growth forecast'!$A$7:$C$14, 2, FALSE)+H284*($G$2*VLOOKUP(Interface!$D$1,'r_Demand growth forecast'!$A$7:$C$14,3, FALSE)-$G$1*VLOOKUP(Interface!$D$1,'r_Demand growth forecast'!$A$7:$C$14,2, FALSE))/$G$3","v":115.4024432255793},{"$f":"'r_Bacton IUK exports'!E281","v":30.25391199200471},{"$f":"'r_Moffat exports'!E281","v":8.1783047278231038},153.83465994540711,1666.4908711885953,{"$f":"M284*Interface!$E$4","v":1666.4908711885953}]
[280,{"$f":"'c_Demand break down'!A282","v":"2010-07-07"},40,7,3,"Summer",{"$f":"'c_Demand break down'!F282","v":137.231745878906},-101.0325904768543,{"$f":"$G$1*VLOOKUP(Interface!$D$1,'r_Demand growth forecast'!$A$7:$C$14, 2, FALSE)+H285*($G$2*VLOOKUP(Interface!$D$1,'r_Demand growth forecast'!$A$7:$C$14,3, FALSE)-$G$1*VLOOKUP(Interface!$D$1,'r_Demand growth forecast'!$A$7:$C$14,2, FALSE))/$G$3","v":111.53188160132136},{"$f":"'r_Bacton IUK exports'!E282","v":33.698193105055445},{"$f":"'r_Moffat exports'!E282","v":7.4718073527984439},152.70188205917523,1654.2194883470454,{"$f":"M285*Interface!$E$4","v":1654.2194883470454}]
[281,{"$f":"'c_Demand break down'!A283","v":"2010-07-08"},41,7,3,"Summer",{"$f":"'c_Demand break down'!F283","v":140.46684757812403},-97.797488777636261,{"$f":"$G$1*VLOOKUP(Interface!$D$1,'r_Demand growth forecast'!$A$7:$C$14, 2, FALSE)+H286*($G$2*VLOOKUP(Interface!$D$1,'r_Demand growth forecast'!$A$7:$C$14,3, FALSE)-$G$1*VLOOKUP(Interface!$D$1,'r_Demand growth forecast'!$A$7:$C$14,2, FALSE))/$G$3","v":115.36386522968238},{"$f":"'r_Bacton IUK exports'!E283","v":34.928280618905767},{"$f":"'r_Moffat exports'!E283","v":8.7863819974232431},159.07852784601138,1723.2976921558413,{"$f":"M286*Interface!$E$4","v":1723.2976921558413}]
[282,{"$f":"'c_Demand break down'!A284","v":"2010-07-09"},41,7,3,"Summer",{"$f":"'c_Demand break down'!F284","v":132.82184699218701},-105.44248936357329,{"$f":"$G$1*VLOOKUP(Interface!$D$1,'r_Demand growth forecast'!$A$7:$C$14, 2, FALSE)+H287*($G$2*VLOOKUP(Interface!$D$1,'r_Demand growth forecast'!$A$7:$C$14,3, FALSE)-$G$1*VLOOKUP(Interface!$D$1,'r_Demand growth forecast'!$A$7:$C$14,2, FALSE))/$G$3","v":106.30834864694185},{"$f":"'r_Bacton IUK exports'!E284","v":33.71744774666324},{"$f":"'r_Moffat exports'!E284","v":8.5835370735754726},148.60933346718059,1609.8849094499674,{"$f":"M287*Interface!$E$4","v":1609.8849094499674}]
[283,{"$f":"'c_Demand break down'!A285","v":"2010-07-10"},41,7,3,"Summer",{"$f":"'c_Demand break down'!F285","v":111.91799655761702},-126.34633979814328,{"$f":"$G$1*VLOOKUP(Interface!$D$1,'r_Demand growth forecast'!$A$7:$C$14, 2, FALSE)+H288*($G$2*VLOOKUP(Interface!$D$1,'r_Demand growth forecast'!$A$7:$C$14,3, FALSE)-$G$1*VLOOKUP(Interface!$D$1,'r_Demand growth forecast'!$A$7:$C$14,2, FALSE))/$G$3","v":81.547701198256959},{"$f":"'r_Bacton IUK exports'!E285","v":31.653875497883902},{"$f":"'r_Moffat exports'!E285","v":7.1691698176980312},120.3707465138389,1303.9762969844169,{"$f":"M288*Interface!$E$4","v":1303.9762969844169}]
[284,{"$f":"'c_Demand break down'!A286","v":"2010-07-11"},41,7,3,"Summer",{"$f":"'c_Demand break down'!F286","v":116.32723047973602},-121.93710587602428,{"$f":"$G$1*VLOOKUP(Interface!$D$1,'r_Demand growth forecast'!$A$7:$C$14, 2, FALSE)+H289*($G$2*VLOOKUP(Interface!$D$1,'r_Demand growth forecast'!$A$7:$C$14,3, FALSE)-$G$1*VLOOKUP(Interface!$D$1,'r_Demand growth forecast'!$A$7:$C$14,2, FALSE))/$G$3","v":86.770446500903233},{"$f":"'r_Bacton IUK exports'!E286","v":31.85636206632363},{"$f":"'r_Moffat exports'!E286","v":7.4095299008477431},126.0363384680746,1365.3516546246522,{"$f":"M289*Interface!$E$4","v":1365.3516546246522}]
[285,{"$f":"'c_Demand break down'!A287","v":"2010-07-12"},41,7,3,"Summer",{"$f":"'c_Demand break down'!F287","v":136.79623564575201},-101.46810071000829,{"$f":"$G$1*VLOOKUP(Interface!$D$1,'r_Demand growth forecast'!$A$7:$C$14, 2, FALSE)+H290*($G$2*VLOOKUP(Interface!$D$1,'r_Demand growth forecast'!$A$7:$C$14,3, FALSE)-$G$1*VLOOKUP(Interface!$D$1,'r_Demand growth forecast'!$A$7:$C$14,2, FALSE))/$G$3","v":111.0160189674409},{"$f":"'r_Bacton IUK exports'!E287","v":33.471384587394851},{"$f":"'r_Moffat exports'!E287","v":7.8423839263907871},152.32978748122653,1650.1885877841271,{"$f":"M290*Interface!$E$4","v":1650.1885877841271}]
[286,{"$f":"'c_Demand break down'!A288","v":"2010-07-13"},41,7,3,"Summer",{"$f":"'c_Demand break down'!F288","v":140.976932502441},-97.28740385331929,{"$f":"$G$1*VLOOKUP(Interface!$D$1,'r_Demand growth forecast'!$A$7:$C$14, 2, FALSE)+H291*($G$2*VLOOKUP(Interface!$D$1,'r_Demand growth forecast'!$A$7:$C$14,3, FALSE)-$G$1*VLOOKUP(Interface!$D$1,'r_Demand growth forecast'!$A$7:$C$14,2, FALSE))/$G$3","v":115.96806171584811},{"$f":"'r_Bacton IUK exports'!E288","v":40.411676753002318},{"$f":"'r_Moffat exports'!E288","v":7.1335752515515729},163.51331372040201,1771.3397275331149,{"$f":"M291*Interface!$E$4","v":1771.3397275331149}]
[287,{"$f":"'c_Demand break down'!A289","v":"2010-07-14"},41,7,3,"Summer",{"$f":"'c_Demand break down'!F289","v":138.65515875976499},-99.609177595995305,{"$f":"$G$1*VLOOKUP(Interface!$D$1,'r_Demand growth forecast'!$A$7:$C$14, 2, FALSE)+H292*($G$2*VLOOKUP(Interface!$D$1,'r_Demand growth forecast'!$A$7:$C$14,3, FALSE)-$G$1*VLOOKUP(Interface!$D$1,'r_Demand growth forecast'!$A$7:$C$14,2, FALSE))/$G$3","v":113.21791665152342},{"$f":"'r_Bacton IUK exports'!E289","v":39.061151906824932},{"$f":"'r_Moffat exports'!E289","v":7.733241119183961},160.0123096775323,1733.4133507367073,{"$f":"M292*Interface!$E$4","v":1733.4133507367073}]
[288,{"$f":"'c_Demand break down'!A290","v":"2010-07-15"},42,7,3,"Summer",{"$f":"'c_Demand break down'!F290","v":138.265538320312},-99.998798035448289,{"$f":"$G$1*VLOOKUP(Interface!$D$1,'r_Demand growth forecast'!$A$7:$C$14, 2, FALSE)+H293*($G$2*VLOOKUP(Interface!$D$1,'r_Demand growth forecast'!$A$7:$C$14,3, FALSE)-$G$1*VLOOKUP(Interface!$D$1,'r_Demand growth forecast'!$A$7:$C$14,2, FALSE))/$G$3","v":112.75641055864865},{"$f":"'r_Bacton IUK exports'!E290","v":33.164789930403579},{"$f":"'r_Moffat exports'!E290","v":7.8967122820871953},153.81791277113945,1666.3094490497538,{"$f":"M293*Interface!$E$4","v":1666.3094490497538}]
[289,{"$f":"'c_Demand break down'!A291","v":"2010-07-16"},42,7,3,"Summer",{"$f":"'c_Demand break down'!F291","v":140.013723823242},-98.250612532518289,{"$f":"$G$1*VLOOKUP(Interface!$D$1,'r_Demand growth forecast'!$A$7:$C$14, 2, FALSE)+H294*($G$2*VLOOKUP(Interface!$D$1,'r_Demand growth forecast'!$A$7:$C$14,3, FALSE)-$G$1*VLOOKUP(Interface!$D$1,'r_Demand growth forecast'!$A$7:$C$14,2, FALSE))/$G$3","v":114.82713934846846},{"$f":"'r_Bacton IUK exports'!E291","v":32.696365534572536},{"$f":"'r_Moffat exports'!E291","v":7.2830091682854246},154.80651405132642,1677.0189667180191,{"$f":"M294*Interface!$E$4","v":1677.0189667180191}]
[290,{"$f":"'c_Demand break down'!A292","v":"2010-07-17"},42,7,3,"Summer",{"$f":"'c_Demand break down'!F292","v":124.98696845886199},-113.2773678968983,{"$f":"$G$1*VLOOKUP(Interface!$D$1,'r_Demand growth forecast'!$A$7:$C$14, 2, FALSE)+H295*($G$2*VLOOKUP(Interface!$D$1,'r_Demand growth forecast'!$A$7:$C$14,3, FALSE)-$G$1*VLOOKUP(Interface!$D$1,'r_Demand growth forecast'!$A$7:$C$14,2, FALSE))/$G$3","v":97.027921302986783},{"$f":"'r_Bacton IUK exports'!E292","v":24.622340258217992},{"$f":"'r_Moffat exports'!E292","v":6.8909023030732239},128.54116386427799,1392.4864281417235,{"$f":"M295*Interface!$E$4","v":1392.4864281417235}]
[291,{"$f":"'c_Demand break down'!A293","v":"2010-07-18"},42,7,3,"Summer",{"$f":"'c_Demand break down'!F293","v":125.09017855041499},-113.1741578053453,{"$f":"$G$1*VLOOKUP(Interface!$D$1,'r_Demand growth forecast'!$A$7:$C$14, 2, FALSE)+H296*($G$2*VLOOKUP(Interface!$D$1,'r_Demand growth forecast'!$A$7:$C$14,3, FALSE)-$G$1*VLOOKUP(Interface!$D$1,'r_Demand growth forecast'!$A$7:$C$14,2, FALSE))/$G$3","v":97.150173837183274},{"$f":"'r_Bacton IUK exports'!E293","v":24.579460245310099},{"$f":"'r_Moffat exports'!E293","v":6.432258392626701},128.16189247512008,1388.3777811829759,{"$f":"M296*Interface!$E$4","v":1388.3777811829759}]
[292,{"$f":"'c_Demand break down'!A294","v":"2010-07-19"},42,7,3,"Summer",{"$f":"'c_Demand break down'!F294","v":141.97784244140601},-96.286493914354281,{"$f":"$G$1*VLOOKUP(Interface!$D$1,'r_Demand growth forecast'!$A$7:$C$14, 2, FALSE)+H297*($G$2*VLOOKUP(Interface!$D$1,'r_Demand growth forecast'!$A$7:$C$14,3, FALSE)-$G$1*VLOOKUP(Interface!$D$1,'r_Demand growth forecast'!$A$7:$C$14,2, FALSE))/$G$3","v":117.15364129144687},{"$f":"'r_Bacton IUK exports'!E294","v":32.962345636498277},{"$f":"'r_Moffat exports'!E294","v":7.6451576982772913},157.76114462622246,1709.026479735868,{"$f":"M297*Interface!$E$4","v":1709.026479735868}]
[293,{"$f":"'c_Demand break down'!A295","v":"2010-07-20"},42,7,3,"Summer",{"$f":"'c_Demand break down'!F295","v":139.78378800537101},-98.480548350389284,{"$f":"$G$1*VLOOKUP(Interface!$D$1,'r_Demand growth forecast'!$A$7:$C$14, 2, FALSE)+H298*($G$2*VLOOKUP(Interface!$D$1,'r_Demand growth forecast'!$A$7:$C$14,3, FALSE)-$G$1*VLOOKUP(Interface!$D$1,'r_Demand growth forecast'!$A$7:$C$14,2, FALSE))/$G$3","v":114.55477996951342},{"$f":"'r_Bacton IUK exports'!E295","v":35.502334986553279},{"$f":"'r_Moffat exports'!E295","v":7.5313147734557511},157.58842972952246,1707.1554592599168,{"$f":"M298*Interface!$E$4","v":1707.1554592599168}]
[294,{"$f":"'c_Demand break down'!A296","v":"2010-07-21"},42,7,3,"Summer",{"$f":"'c_Demand break down'!F296","v":146.14251973632801},-92.121816619432281,{"$f":"$G$1*VLOOKUP(Interface!$D$1,'r_Demand growth forecast'!$A$7:$C$14, 2, FALSE)+H299*($G$2*VLOOKUP(Interface!$D$1,'r_Demand growth forecast'!$A$7:$C$14,3, FALSE)-$G$1*VLOOKUP(Interface!$D$1,'r_Demand growth forecast'!$A$7:$C$14,2, FALSE))/$G$3","v":122.08670884088602},{"$f":"'r_Bacton IUK exports'!E296","v":32.416384106605577},{"$f":"'r_Moffat exports'!E296","v":7.1912013956266714},161.69429434311829,1751.6342906190005,{"$f":"M299*Interface!$E$4","v":1751.6342906190005}]
[295,{"$f":"'c_Demand break down'!A297","v":"2010-07-22"},43,7,3,"Summer",{"$f":"'c_Demand break down'!F297","v":146.76949269531201},-91.494843660448282,{"$f":"$G$1*VLOOKUP(Interface!$D$1,'r_Demand growth forecast'!$A$7:$C$14, 2, FALSE)+H300*($G$2*VLOOKUP(Interface!$D$1,'r_Demand growth forecast'!$A$7:$C$14,3, FALSE)-$G$1*VLOOKUP(Interface!$D$1,'r_Demand growth forecast'!$A$7:$C$14,2, FALSE))/$G$3","v":122.82935940882101},{"$f":"'r_Bacton IUK exports'!E297","v":34.875093617087934},{"$f":"'r_Moffat exports'!E297","v":7.7683686902223439},165.47282171613128,1792.5670776508503,{"$f":"M300*Interface!$E$4","v":1792.5670776508503}]
[296,{"$f":"'c_Demand break down'!A298","v":"2010-07-23"},43,7,3,"Summer",{"$f":"'c_Demand break down'!F298","v":143.289053398438},-94.975282957322293,{"$f":"$G$1*VLOOKUP(Interface!$D$1,'r_Demand growth forecast'!$A$7:$C$14, 2, FALSE)+H301*($G$2*VLOOKUP(Interface!$D$1,'r_Demand growth forecast'!$A$7:$C$14,3, FALSE)-$G$1*VLOOKUP(Interface!$D$1,'r_Demand growth forecast'!$A$7:$C$14,2, FALSE))/$G$3","v":118.70677296637649},{"$f":"'r_Bacton IUK exports'!E298","v":28.214092395372699},{"$f":"'r_Moffat exports'!E298","v":7.9655949183358405},154.88646028008503,1677.8850242141611,{"$f":"M301*Interface!$E$4","v":1677.8850242141611}]
[297,{"$f":"'c_Demand break down'!A299","v":"2010-07-24"},43,7,3,"Summer",{"$f":"'c_Demand break down'!F299","v":127.81663915527299},-110.4476972004873,{"$f":"$G$1*VLOOKUP(Interface!$D$1,'r_Demand growth forecast'!$A$7:$C$14, 2, FALSE)+H302*($G$2*VLOOKUP(Interface!$D$1,'r_Demand growth forecast'!$A$7:$C$14,3, FALSE)-$G$1*VLOOKUP(Interface!$D$1,'r_Demand growth forecast'!$A$7:$C$14,2, FALSE))/$G$3","v":100.37967119849108},{"$f":"'r_Bacton IUK exports'!E299","v":25.923782086492345},{"$f":"'r_Moffat exports'!E299","v":7.2080646312959171},133.51151791627933,1446.3302735870541,{"$f":"M302*Interface!$E$4","v":1446.3302735870541}]
[298,{"$f":"'c_Demand break down'!A300","v":"2010-07-25"},43,7,3,"Summer",{"$f":"'c_Demand break down'!F300","v":130.76131693847699},-107.5030194172833,{"$f":"$G$1*VLOOKUP(Interface!$D$1,'r_Demand growth forecast'!$A$7:$C$14, 2, FALSE)+H303*($G$2*VLOOKUP(Interface!$D$1,'r_Demand growth forecast'!$A$7:$C$14,3, FALSE)-$G$1*VLOOKUP(Interface!$D$1,'r_Demand growth forecast'!$A$7:$C$14,2, FALSE))/$G$3","v":103.86764718971374},{"$f":"'r_Bacton IUK exports'!E300","v":24.61315876488711},{"$f":"'r_Moffat exports'!E300","v":6.8229766679582911},135.30378262255914,1465.7458771501831,{"$f":"M303*Interface!$E$4","v":1465.7458771501831}]
[299,{"$f":"'c_Demand break down'!A301","v":"2010-07-26"},43,7,3,"Summer",{"$f":"'c_Demand break down'!F301","v":145.32212729492198},-92.942209060838309,{"$f":"$G$1*VLOOKUP(Interface!$D$1,'r_Demand growth forecast'!$A$7:$C$14, 2, FALSE)+H304*($G$2*VLOOKUP(Interface!$D$1,'r_Demand growth forecast'!$A$7:$C$14,3, FALSE)-$G$1*VLOOKUP(Interface!$D$1,'r_Demand growth forecast'!$A$7:$C$14,2, FALSE))/$G$3","v":121.11495255728637},{"$f":"'r_Bacton IUK exports'!E301","v":26.803723717243528},{"$f":"'r_Moffat exports'!E301","v":7.4427702763722268},155.36144655090212,1683.0305504859227,{"$f":"M304*Interface!$E$4","v":1683.0305504859227}]
[300,{"$f":"'c_Demand break down'!A302","v":"2010-07-27"},43,7,3,"Summer",{"$f":"'c_Demand break down'!F302","v":142.87050511718701},-95.393831238573284,{"$f":"$G$1*VLOOKUP(Interface!$D$1,'r_Demand growth forecast'!$A$7:$C$14, 2, FALSE)+H305*($G$2*VLOOKUP(Interface!$D$1,'r_Demand growth forecast'!$A$7:$C$14,3, FALSE)-$G$1*VLOOKUP(Interface!$D$1,'r_Demand growth forecast'!$A$7:$C$14,2, FALSE))/$G$3","v":118.21100179423061},{"$f":"'r_Bacton IUK exports'!E302","v":20.199562017183258},{"$f":"'r_Moffat exports'!E302","v":7.2797423184760488},145.69030612988993,1578.2630863050977,{"$f":"M305*Interface!$E$4","v":1578.2630863050977}]
[301,{"$f":"'c_Demand break down'!A303","v":"2010-07-28"},43,7,3,"Summer",{"$f":"'c_Demand break down'!F303","v":144.81201144531303},-93.45232491044726,{"$f":"$G$1*VLOOKUP(Interface!$D$1,'r_Demand growth forecast'!$A$7:$C$14, 2, FALSE)+H306*($G$2*VLOOKUP(Interface!$D$1,'r_Demand growth forecast'!$A$7:$C$14,3, FALSE)-$G$1*VLOOKUP(Interface!$D$1,'r_Demand growth forecast'!$A$7:$C$14,2, FALSE))/$G$3","v":120.5107194400581},{"$f":"'r_Bacton IUK exports'!E303","v":24.412946566437952},{"$f":"'r_Moffat exports'!E303","v":7.0623717079473431},151.98603771444337,1646.4647465605651,{"$f":"M306*Interface!$E$4","v":1646.4647465605651}]
[302,{"$f":"'c_Demand break down'!A304","v":"2010-07-29"},44,7,3,"Summer",{"$f":"'c_Demand break down'!F304","v":147.38724184326117},-90.877094512499127,{"$f":"$G$1*VLOOKUP(Interface!$D$1,'r_Demand growth forecast'!$A$7:$C$14, 2, FALSE)+H307*($G$2*VLOOKUP(Interface!$D$1,'r_Demand growth forecast'!$A$7:$C$14,3, FALSE)-$G$1*VLOOKUP(Interface!$D$1,'r_Demand growth forecast'!$A$7:$C$14,2, FALSE))/$G$3","v":123.56108435643155},{"$f":"'r_Bacton IUK exports'!E304","v":27.567105999691879},{"$f":"'r_Moffat exports'!E304","v":7.3420483642985195},158.47023872042195,1716.708096058331,{"$f":"M307*Interface!$E$4","v":1716.708096058331}]
[303,{"$f":"'c_Demand break down'!A305","v":"2010-07-30"},44,7,3,"Summer",{"$f":"'c_Demand break down'!F305","v":144.255414150391},-94.008922205369288,{"$f":"$G$1*VLOOKUP(Interface!$D$1,'r_Demand growth forecast'!$A$7:$C$14, 2, FALSE)+H308*($G$2*VLOOKUP(Interface!$D$1,'r_Demand growth forecast'!$A$7:$C$14,3, FALSE)-$G$1*VLOOKUP(Interface!$D$1,'r_Demand growth forecast'!$A$7:$C$14,2, FALSE))/$G$3","v":119.85142896945349},{"$f":"'r_Bacton IUK exports'!E305","v":28.027104894434991},{"$f":"'r_Moffat exports'!E305","v":6.6533792681032979},154.53191313199179,1674.0442149588671,{"$f":"M308*Interface!$E$4","v":1674.0442149588671}]
[304,{"$f":"'c_Demand break down'!A306","v":"2010-07-31"},44,7,3,"Summer",{"$f":"'c_Demand break down'!F306","v":134.17421341796899},-104.09012293779131,{"$f":"$G$1*VLOOKUP(Interface!$D$1,'r_Demand growth forecast'!$A$7:$C$14, 2, FALSE)+H309*($G$2*VLOOKUP(Interface!$D$1,'r_Demand growth forecast'!$A$7:$C$14,3, FALSE)-$G$1*VLOOKUP(Interface!$D$1,'r_Demand growth forecast'!$A$7:$C$14,2, FALSE))/$G$3","v":107.91022904668145},{"$f":"'r_Bacton IUK exports'!E306","v":20.445720613637889},{"$f":"'r_Moffat exports'!E306","v":6.4575541396892238},134.81350380000856,1460.4346866654928,{"$f":"M309*Interface!$E$4","v":1460.4346866654928}]
[305,{"$f":"'c_Demand break down'!A307","v":"2010-08-01"},44,8,3,"Summer",{"$f":"'c_Demand break down'!F307","v":132.57501168945302},-105.68932466630727,{"$f":"$G$1*VLOOKUP(Interface!$D$1,'r_Demand growth forecast'!$A$7:$C$14, 2, FALSE)+H310*($G$2*VLOOKUP(Interface!$D$1,'r_Demand growth forecast'!$A$7:$C$14,3, FALSE)-$G$1*VLOOKUP(Interface!$D$1,'r_Demand growth forecast'!$A$7:$C$14,2, FALSE))/$G$3","v":106.0159717985705},{"$f":"'r_Bacton IUK exports'!E307","v":21.343973139805335},{"$f":"'r_Moffat exports'!E307","v":6.3409054412346926},133.70085037961053,1448.3813121623209,{"$f":"M310*Interface!$E$4","v":1448.3813121623209}]
[306,{"$f":"'c_Demand break down'!A308","v":"2010-08-02"},44,8,3,"Summer",{"$f":"'c_Demand break down'!F308","v":141.59985835998569},-96.664477995774604,{"$f":"$G$1*VLOOKUP(Interface!$D$1,'r_Demand growth forecast'!$A$7:$C$14, 2, FALSE)+H311*($G$2*VLOOKUP(Interface!$D$1,'r_Demand growth forecast'!$A$7:$C$14,3, FALSE)-$G$1*VLOOKUP(Interface!$D$1,'r_Demand growth forecast'!$A$7:$C$14,2, FALSE))/$G$3","v":116.70591848504057},{"$f":"'r_Bacton IUK exports'!E308","v":13.39138200135921},{"$f":"'r_Moffat exports'!E308","v":6.4875348138721565},136.58483530027192,1479.6235208078458,{"$f":"M311*Interface!$E$4","v":1479.6235208078458}]
[307,{"$f":"'c_Demand break down'!A309","v":"2010-08-03"},44,8,3,"Summer",{"$f":"'c_Demand break down'!F309","v":143.34941194335903},-94.914924412401263,{"$f":"$G$1*VLOOKUP(Interface!$D$1,'r_Demand growth forecast'!$A$7:$C$14, 2, FALSE)+H312*($G$2*VLOOKUP(Interface!$D$1,'r_Demand growth forecast'!$A$7:$C$14,3, FALSE)-$G$1*VLOOKUP(Interface!$D$1,'r_Demand growth forecast'!$A$7:$C$14,2, FALSE))/$G$3","v":118.77826776854143},{"$f":"'r_Bacton IUK exports'!E309","v":15.26067880557474},{"$f":"'r_Moffat exports'!E309","v":7.3181581847277517},141.35710475884392,1531.3215158525561,{"$f":"M312*Interface!$E$4","v":1531.3215158525561}]
[308,{"$f":"'c_Demand break down'!A310","v":"2010-08-04"},44,8,3,"Summer",{"$f":"'c_Demand break down'!F310","v":136.755649023437},-101.50868733232329,{"$f":"$G$1*VLOOKUP(Interface!$D$1,'r_Demand growth forecast'!$A$7:$C$14, 2, FALSE)+H313*($G$2*VLOOKUP(Interface!$D$1,'r_Demand growth forecast'!$A$7:$C$14,3, FALSE)-$G$1*VLOOKUP(Interface!$D$1,'r_Demand growth forecast'!$A$7:$C$14,2, FALSE))/$G$3","v":110.96794404222939},{"$f":"'r_Bacton IUK exports'!E310","v":14.77674247364763},{"$f":"'r_Moffat exports'!E310","v":6.4533508405909581},132.19803735646798,1432.1013386826176,{"$f":"M313*Interface!$E$4","v":1432.1013386826176}]
[309,{"$f":"'c_Demand break down'!A311","v":"2010-08-05"},45,8,3,"Summer",{"$f":"'c_Demand break down'!F311","v":141.89276706054599},-96.3715692952143,{"$f":"$G$1*VLOOKUP(Interface!$D$1,'r_Demand growth forecast'!$A$7:$C$14, 2, FALSE)+H314*($G$2*VLOOKUP(Interface!$D$1,'r_Demand growth forecast'!$A$7:$C$14,3, FALSE)-$G$1*VLOOKUP(Interface!$D$1,'r_Demand growth forecast'!$A$7:$C$14,2, FALSE))/$G$3","v":117.05286935382557},{"$f":"'r_Bacton IUK exports'!E311","v":10.723708054502216},{"$f":"'r_Moffat exports'!E311","v":7.1523137304966111},134.92889113882438,1461.6846777068845,{"$f":"M314*Interface!$E$4","v":1461.6846777068845}]
[310,{"$f":"'c_Demand break down'!A312","v":"2010-08-06"},45,8,3,"Summer",{"$f":"'c_Demand break down'!F312","v":140.87032778320301},-97.394008572557283,{"$f":"$G$1*VLOOKUP(Interface!$D$1,'r_Demand growth forecast'!$A$7:$C$14, 2, FALSE)+H315*($G$2*VLOOKUP(Interface!$D$1,'r_Demand growth forecast'!$A$7:$C$14,3, FALSE)-$G$1*VLOOKUP(Interface!$D$1,'r_Demand growth forecast'!$A$7:$C$14,2, FALSE))/$G$3","v":115.84178823921376},{"$f":"'r_Bacton IUK exports'!E312","v":9.6288088674421992},{"$f":"'r_Moffat exports'!E312","v":6.9667966927290861},132.43739379938503,1434.694287028738,{"$f":"M315*Interface!$E$4","v":1434.694287028738}]
[311,{"$f":"'c_Demand break down'!A313","v":"2010-08-07"},45,8,3,"Summer",{"$f":"'c_Demand break down'!F313","v":123.59905149414099},-114.6652848616193,{"$f":"$G$1*VLOOKUP(Interface!$D$1,'r_Demand growth forecast'!$A$7:$C$14, 2, FALSE)+H316*($G$2*VLOOKUP(Interface!$D$1,'r_Demand growth forecast'!$A$7:$C$14,3, FALSE)-$G$1*VLOOKUP(Interface!$D$1,'r_Demand growth forecast'!$A$7:$C$14,2, FALSE))/$G$3","v":95.383931227614255},{"$f":"'r_Bacton IUK exports'!E313","v":11.915376470811555},{"$f":"'r_Moffat exports'!E313","v":6.6037117134483303},113.90301941187414,1233.9114092888326,{"$f":"M316*Interface!$E$4","v":1233.9114092888326}]
[312,{"$f":"'c_Demand break down'!A314","v":"2010-08-08"},45,8,3,"Summer",{"$f":"'c_Demand break down'!F314","v":122.76689829101599},-115.4974380647443,{"$f":"$G$1*VLOOKUP(Interface!$D$1,'r_Demand growth forecast'!$A$7:$C$14, 2, FALSE)+H317*($G$2*VLOOKUP(Interface!$D$1,'r_Demand growth forecast'!$A$7:$C$14,3, FALSE)-$G$1*VLOOKUP(Interface!$D$1,'r_Demand growth forecast'!$A$7:$C$14,2, FALSE))/$G$3","v":94.398244301161839},{"$f":"'r_Bacton IUK exports'!E314","v":12.452477258137849},{"$f":"'r_Moffat exports'!E314","v":6.2673620039446076},113.1180835632443,1225.4081992406254,{"$f":"M317*Interface!$E$4","v":1225.4081992406254}]
[313,{"$f":"'c_Demand break down'!A315","v":"2010-08-09"},45,8,3,"Summer",{"$f":"'c_Demand break down'!F315","v":142.031988518677},-96.232347837083296,{"$f":"$G$1*VLOOKUP(Interface!$D$1,'r_Demand growth forecast'!$A$7:$C$14, 2, FALSE)+H318*($G$2*VLOOKUP(Interface!$D$1,'r_Demand growth forecast'!$A$7:$C$14,3, FALSE)-$G$1*VLOOKUP(Interface!$D$1,'r_Demand growth forecast'!$A$7:$C$14,2, FALSE))/$G$3","v":117.21777741480044},{"$f":"'r_Bacton IUK exports'!E315","v":17.830946586851951},{"$f":"'r_Moffat exports'!E315","v":7.3640656452910411},142.41278964694342,1542.7577502453382,{"$f":"M318*Interface!$E$4","v":1542.7577502453382}]
[314,{"$f":"'c_Demand break down'!A316","v":"2010-08-10"},45,8,3,"Summer",{"$f":"'c_Demand break down'!F316","v":144.94998745178199},-93.314348903978299,{"$f":"$G$1*VLOOKUP(Interface!$D$1,'r_Demand growth forecast'!$A$7:$C$14, 2, FALSE)+H319*($G$2*VLOOKUP(Interface!$D$1,'r_Demand growth forecast'!$A$7:$C$14,3, FALSE)-$G$1*VLOOKUP(Interface!$D$1,'r_Demand growth forecast'!$A$7:$C$14,2, FALSE))/$G$3","v":120.67415226135812},{"$f":"'r_Bacton IUK exports'!E316","v":13.753522579229712},{"$f":"'r_Moffat exports'!E316","v":7.6653020806920313},142.09297692127987,1539.2932189882249,{"$f":"M319*Interface!$E$4","v":1539.2932189882249}]
[315,{"$f":"'c_Demand break down'!A317","v":"2010-08-11"},45,8,3,"Summer",{"$f":"'c_Demand break down'!F317","v":143.73231677490202},-94.532019580858275,{"$f":"$G$1*VLOOKUP(Interface!$D$1,'r_Demand growth forecast'!$A$7:$C$14, 2, FALSE)+H320*($G$2*VLOOKUP(Interface!$D$1,'r_Demand growth forecast'!$A$7:$C$14,3, FALSE)-$G$1*VLOOKUP(Interface!$D$1,'r_Demand growth forecast'!$A$7:$C$14,2, FALSE))/$G$3","v":119.23181921208577},{"$f":"'r_Bacton IUK exports'!E317","v":12.78495238554577},{"$f":"'r_Moffat exports'!E317","v":7.905161771091616},139.92193336872316,1515.774304183378,{"$f":"M320*Interface!$E$4","v":1515.774304183378}]
[316,{"$f":"'c_Demand break down'!A318","v":"2010-08-12"},46,8,3,"Summer",{"$f":"'c_Demand break down'!F318","v":150.5413399243165},-87.722996431443789,{"$f":"$G$1*VLOOKUP(Interface!$D$1,'r_Demand growth forecast'!$A$7:$C$14, 2, FALSE)+H321*($G$2*VLOOKUP(Interface!$D$1,'r_Demand growth forecast'!$A$7:$C$14,3, FALSE)-$G$1*VLOOKUP(Interface!$D$1,'r_Demand growth forecast'!$A$7:$C$14,2, FALSE))/$G$3","v":127.29711905721712},{"$f":"'r_Bacton IUK exports'!E318","v":16.472588269312329},{"$f":"'r_Moffat exports'!E318","v":7.4277870877485856},151.19749441427803,1637.9224569898738,{"$f":"M321*Interface!$E$4","v":1637.9224569898738}]
[317,{"$f":"'c_Demand break down'!A319","v":"2010-08-13"},46,8,3,"Summer",{"$f":"'c_Demand break down'!F319","v":149.78911440429701},-88.475221951463283,{"$f":"$G$1*VLOOKUP(Interface!$D$1,'r_Demand growth forecast'!$A$7:$C$14, 2, FALSE)+H322*($G$2*VLOOKUP(Interface!$D$1,'r_Demand growth forecast'!$A$7:$C$14,3, FALSE)-$G$1*VLOOKUP(Interface!$D$1,'r_Demand growth forecast'!$A$7:$C$14,2, FALSE))/$G$3","v":126.40610661138062},{"$f":"'r_Bacton IUK exports'!E319","v":16.214525735537691},{"$f":"'r_Moffat exports'!E319","v":7.7552441032408312},150.37587645015915,1629.0218695845742,{"$f":"M322*Interface!$E$4","v":1629.0218695845742}]
[318,{"$f":"'c_Demand break down'!A320","v":"2010-08-14"},46,8,3,"Summer",{"$f":"'c_Demand break down'!F320","v":135.253932746582},-103.0104036091783,{"$f":"$G$1*VLOOKUP(Interface!$D$1,'r_Demand growth forecast'!$A$7:$C$14, 2, FALSE)+H323*($G$2*VLOOKUP(Interface!$D$1,'r_Demand growth forecast'!$A$7:$C$14,3, FALSE)-$G$1*VLOOKUP(Interface!$D$1,'r_Demand growth forecast'!$A$7:$C$14,2, FALSE))/$G$3","v":109.18915848233723},{"$f":"'r_Bacton IUK exports'!E320","v":23.224947579778622},{"$f":"'r_Moffat exports'!E320","v":7.469476952277958},139.88358301439382,1515.3588547949282,{"$f":"M323*Interface!$E$4","v":1515.3588547949282}]
[319,{"$f":"'c_Demand break down'!A321","v":"2010-08-15"},46,8,3,"Summer",{"$f":"'c_Demand break down'!F321","v":134.18479339843702},-104.07954295732327,{"$f":"$G$1*VLOOKUP(Interface!$D$1,'r_Demand growth forecast'!$A$7:$C$14, 2, FALSE)+H324*($G$2*VLOOKUP(Interface!$D$1,'r_Demand growth forecast'!$A$7:$C$14,3, FALSE)-$G$1*VLOOKUP(Interface!$D$1,'r_Demand growth forecast'!$A$7:$C$14,2, FALSE))/$G$3","v":107.92276105207456},{"$f":"'r_Bacton IUK exports'!E321","v":23.33060573461951},{"$f":"'r_Moffat exports'!E321","v":7.3729726362381687},138.62633942293223,1501.739134968625,{"$f":"M324*Interface!$E$4","v":1501.739134968625}]
[320,{"$f":"'c_Demand break down'!A322","v":"2010-08-16"},46,8,3,"Summer",{"$f":"'c_Demand break down'!F322","v":143.39377792480499},-94.870558430955299,{"$f":"$G$1*VLOOKUP(Interface!$D$1,'r_Demand growth forecast'!$A$7:$C$14, 2, FALSE)+H325*($G$2*VLOOKUP(Interface!$D$1,'r_Demand growth forecast'!$A$7:$C$14,3, FALSE)-$G$1*VLOOKUP(Interface!$D$1,'r_Demand growth forecast'!$A$7:$C$14,2, FALSE))/$G$3","v":118.83081935126236},{"$f":"'r_Bacton IUK exports'!E322","v":25.515229705636024},{"$f":"'r_Moffat exports'!E322","v":8.309936614901277},152.65598567179967,1653.7222927826058,{"$f":"M325*Interface!$E$4","v":1653.7222927826058}]
[321,{"$f":"'c_Demand break down'!A323","v":"2010-08-17"},46,8,3,"Summer",{"$f":"'c_Demand break down'!F323","v":150.69802839355398},-87.566307962206309,{"$f":"$G$1*VLOOKUP(Interface!$D$1,'r_Demand growth forecast'!$A$7:$C$14, 2, FALSE)+H326*($G$2*VLOOKUP(Interface!$D$1,'r_Demand growth forecast'!$A$7:$C$14,3, FALSE)-$G$1*VLOOKUP(Interface!$D$1,'r_Demand growth forecast'!$A$7:$C$14,2, FALSE))/$G$3","v":127.48271682343761},{"$f":"'r_Bacton IUK exports'!E323","v":35.729163232330379},{"$f":"'r_Moffat exports'!E323","v":8.0499325420869514},171.26181259785497,{"$f":"L326*conversion","v":1855.2792158725629},{"$f":"M326*Interface!$E$4","v":1855.2792158725629}]
[322,{"$f":"'c_Demand break down'!A324","v":"2010-08-18"},{"$f":"CEILING(A327/7,1)","v":46},8,3,{"$f":"IF(OR(D327<=3,D327>=10),\"Winter\",\"Summer\")","v":"Summer"},{"$f":"'c_Demand break down'!F324","v":152.59663757812501},-85.66769877763528,{"$f":"$G$1*VLOOKUP(Interface!$D$1,'r_Demand growth forecast'!$A$7:$C$14, 2, FALSE)+H327*($G$2*VLOOKUP(Interface!$D$1,'r_Demand growth forecast'!$A$7:$C$14,3, FALSE)-$G$1*VLOOKUP(Interface!$D$1,'r_Demand growth forecast'!$A$7:$C$14,2, FALSE))/$G$3","v":129.73162272759839},{"$f":"'r_Bacton IUK exports'!E324","v":32.661666596124633},{"$f":"'r_Moffat exports'!E324","v":8.2326187865838616},{"$f":"I327+J327+K327","v":170.62590811030688},1848.3904625589544,{"$f":"M327*Interface!$E$4","v":1848.3904625589544}]
[323,{"$f":"'c_Demand break down'!A325","v":"2010-08-19"},47,8,3,"Summer",{"$f":"'c_Demand break down'!F325","v":155.107245849609},-83.157090506151292,{"$f":"$G$1*VLOOKUP(Interface!$D$1,'r_Demand growth forecast'!$A$7:$C$14, 2, FALSE)+H328*($G$2*VLOOKUP(Interface!$D$1,'r_Demand growth forecast'!$A$7:$C$14,3, FALSE)-$G$1*VLOOKUP(Interface!$D$1,'r_Demand growth forecast'!$A$7:$C$14,2, FALSE))/$G$3","v":132.70544262200224},{"$f":"'r_Bacton IUK exports'!E325","v":32.59664272446652},{"$f":"'r_Moffat exports'!E325","v":8.3984775377506544},173.70056288421941,1881.698197724749,{"$f":"M328*Interface!$E$4","v":1881.698197724749}]
[324,{"$f":"'c_Demand break down'!A326","v":"2010-08-20"},47,8,3,"Summer",{"$f":"'c_Demand break down'!F326","v":148.37159636718701},-89.892739988573283,{"$f":"$G$1*VLOOKUP(Interface!$D$1,'r_Demand growth forecast'!$A$7:$C$14, 2, FALSE)+H329*($G$2*VLOOKUP(Interface!$D$1,'r_Demand growth forecast'!$A$7:$C$14,3, FALSE)-$G$1*VLOOKUP(Interface!$D$1,'r_Demand growth forecast'!$A$7:$C$14,2, FALSE))/$G$3","v":124.7270540139229},{"$f":"'r_Bacton IUK exports'!E326","v":39.838349507358913},{"$f":"'r_Moffat exports'!E326","v":7.1546569410714929},171.7200604623533,1860.2434149886733,{"$f":"M329*Interface!$E$4","v":1860.2434149886733}]
[325,{"$f":"'c_Demand break down'!A327","v":"2010-08-21"},47,8,3,"Summer",{"$f":"'c_Demand break down'!F327","v":131.60232115234399},-106.6620152034163,{"$f":"$G$1*VLOOKUP(Interface!$D$1,'r_Demand growth forecast'!$A$7:$C$14, 2, FALSE)+H330*($G$2*VLOOKUP(Interface!$D$1,'r_Demand growth forecast'!$A$7:$C$14,3, FALSE)-$G$1*VLOOKUP(Interface!$D$1,'r_Demand growth forecast'!$A$7:$C$14,2, FALSE))/$G$3","v":104.86381815389082},{"$f":"'r_Bacton IUK exports'!E327","v":40.327471515596656},{"$f":"'r_Moffat exports'!E327","v":7.0263148360878969},152.21760450557537,1648.973309608898,{"$f":"M330*Interface!$E$4","v":1648.973309608898}]
[326,{"$f":"'c_Demand break down'!A328","v":"2010-08-22"},47,8,3,"Summer",{"$f":"'c_Demand break down'!F328","v":134.271947373047},-103.99238898271329,{"$f":"$G$1*VLOOKUP(Interface!$D$1,'r_Demand growth forecast'!$A$7:$C$14, 2, FALSE)+H331*($G$2*VLOOKUP(Interface!$D$1,'r_Demand growth forecast'!$A$7:$C$14,3, FALSE)-$G$1*VLOOKUP(Interface!$D$1,'r_Demand growth forecast'!$A$7:$C$14,2, FALSE))/$G$3","v":108.02599508763294},{"$f":"'r_Bacton IUK exports'!E328","v":38.470841571262156},{"$f":"'r_Moffat exports'!E328","v":7.3612348520204263},153.85807151091552,1666.7444886777478,{"$f":"M331*Interface!$E$4","v":1666.7444886777478}]
[327,{"$f":"'c_Demand break down'!A329","v":"2010-08-23"},47,8,3,"Summer",{"$f":"'c_Demand break down'!F329","v":152.43222555664101},-85.832110799119278,{"$f":"$G$1*VLOOKUP(Interface!$D$1,'r_Demand growth forecast'!$A$7:$C$14, 2, FALSE)+H332*($G$2*VLOOKUP(Interface!$D$1,'r_Demand growth forecast'!$A$7:$C$14,3, FALSE)-$G$1*VLOOKUP(Interface!$D$1,'r_Demand growth forecast'!$A$7:$C$14,2, FALSE))/$G$3","v":129.53687640021565},{"$f":"'r_Bacton IUK exports'!E329","v":39.94921024832405},{"$f":"'r_Moffat exports'!E329","v":7.4671465517570033},176.95323320029669,1916.934375258814,{"$f":"M332*Interface!$E$4","v":1916.934375258814}]
[328,{"$f":"'c_Demand break down'!A330","v":"2010-08-24"},47,8,3,"Summer",{"$f":"'c_Demand break down'!F330","v":151.10069806640601},-87.163638289354282,{"$f":"$G$1*VLOOKUP(Interface!$D$1,'r_Demand growth forecast'!$A$7:$C$14, 2, FALSE)+H333*($G$2*VLOOKUP(Interface!$D$1,'r_Demand growth forecast'!$A$7:$C$14,3, FALSE)-$G$1*VLOOKUP(Interface!$D$1,'r_Demand growth forecast'!$A$7:$C$14,2, FALSE))/$G$3","v":127.95967975612668},{"$f":"'r_Bacton IUK exports'!E330","v":35.157307140509559},{"$f":"'r_Moffat exports'!E330","v":7.815219748542817},170.93220664517906,1851.7085945872248,{"$f":"M333*Interface!$E$4","v":1851.7085945872248}]
[329,{"$f":"'c_Demand break down'!A331","v":"2010-08-25"},47,{"$f":"MONTH(B334)","v":8},{"$f":"IF(D334<=3,1,IF(D334<=6,2,IF(D334<=9,3,4)))","v":3},"Summer",{"$f":"'c_Demand break down'!F331","v":164.034318300781},-74.230018054979297,{"$f":"$G$1*VLOOKUP(Interface!$D$1,'r_Demand growth forecast'!$A$7:$C$14, 2, FALSE)+H334*($G$2*VLOOKUP(Interface!$D$1,'r_Demand growth forecast'!$A$7:$C$14,3, FALSE)-$G$1*VLOOKUP(Interface!$D$1,'r_Demand growth forecast'!$A$7:$C$14,2, FALSE))/$G$3","v":143.27957557440749},{"$f":"'r_Bacton IUK exports'!E331","v":32.930577732487691},{"$f":"'r_Moffat exports'!E331","v":8.2949391293419836},184.50509243623713,1998.7436663617568,{"$f":"M334*Interface!$E$4","v":1998.7436663617568}]
[330,{"$f":"'c_Demand break down'!A332","v":"2010-08-26"},48,8,3,"Summer",{"$f":"'c_Demand break down'!F332","v":169.77306265624901},-68.491273699511282,{"$f":"$G$1*VLOOKUP(Interface!$D$1,'r_Demand growth forecast'!$A$7:$C$14, 2, FALSE)+H335*($G$2*VLOOKUP(Interface!$D$1,'r_Demand growth forecast'!$A$7:$C$14,3, FALSE)-$G$1*VLOOKUP(Interface!$D$1,'r_Demand growth forecast'!$A$7:$C$14,2, FALSE))/$G$3","v":150.07712831372879},{"$f":"'r_Bacton IUK exports'!E332","v":30.425309867299237},{"$f":"'r_Moffat exports'!E332","v":8.2785548410189218},188.78099302204694,2045.0644974078346,{"$f":"M335*Interface!$E$4","v":2045.0644974078346}]
[331,{"$f":"'c_Demand break down'!A333","v":"2010-08-27"},48,8,3,"Summer",{"$f":"'c_Demand break down'!F333","v":151.12968240234301},-87.134653953417285,{"$f":"$G$1*VLOOKUP(Interface!$D$1,'r_Demand growth forecast'!$A$7:$C$14, 2, FALSE)+H336*($G$2*VLOOKUP(Interface!$D$1,'r_Demand growth forecast'!$A$7:$C$14,3, FALSE)-$G$1*VLOOKUP(Interface!$D$1,'r_Demand growth forecast'!$A$7:$C$14,2, FALSE))/$G$3","v":127.99401175280435},{"$f":"'r_Bacton IUK exports'!E333","v":33.048811152383031},{"$f":"'r_Moffat exports'!E333","v":8.089749508038075},169.13257241322546,1832.2131569524715,{"$f":"M336*Interface!$E$4","v":1832.2131569524715}]
[332,{"$f":"'c_Demand break down'!A334","v":"2010-08-28"},48,8,3,"Summer",{"$f":"'c_Demand break down'!F334","v":141.22872589843701},-97.035610457323287,{"$f":"$G$1*VLOOKUP(Interface!$D$1,'r_Demand growth forecast'!$A$7:$C$14, 2, FALSE)+H337*($G$2*VLOOKUP(Interface!$D$1,'r_Demand growth forecast'!$A$7:$C$14,3, FALSE)-$G$1*VLOOKUP(Interface!$D$1,'r_Demand growth forecast'!$A$7:$C$14,2, FALSE))/$G$3","v":116.26631143437145},{"$f":"'r_Bacton IUK exports'!E334","v":30.140864248421469},{"$f":"'r_Moffat exports'!E334","v":6.959748303424087},153.36692398621699,1661.4238875426886,{"$f":"M337*Interface!$E$4","v":1661.4238875426886}]
[333,{"$f":"'c_Demand break down'!A335","v":"2010-08-29"},48,8,3,"Summer",{"$f":"'c_Demand break down'!F335","v":139.68632486328102},-98.578011492479277,{"$f":"$G$1*VLOOKUP(Interface!$D$1,'r_Demand growth forecast'!$A$7:$C$14, 2, FALSE)+H338*($G$2*VLOOKUP(Interface!$D$1,'r_Demand growth forecast'!$A$7:$C$14,3, FALSE)-$G$1*VLOOKUP(Interface!$D$1,'r_Demand growth forecast'!$A$7:$C$14,2, FALSE))/$G$3","v":114.43933470702051},{"$f":"'r_Bacton IUK exports'!E335","v":31.18553001451814},{"$f":"'r_Moffat exports'!E335","v":6.8243849161260073},152.44924963766465,1651.4827213248211,{"$f":"M338*Interface!$E$4","v":1651.4827213248211}]
[334,{"$f":"'c_Demand break down'!A336","v":"2010-08-30"},48,8,3,"Summer",{"$f":"'c_Demand break down'!F336","v":150.44470830078097},-87.819628054979319,{"$f":"$G$1*VLOOKUP(Interface!$D$1,'r_Demand growth forecast'!$A$7:$C$14, 2, FALSE)+H339*($G$2*VLOOKUP(Interface!$D$1,'r_Demand growth forecast'!$A$7:$C$14,3, FALSE)-$G$1*VLOOKUP(Interface!$D$1,'r_Demand growth forecast'!$A$7:$C$14,2, FALSE))/$G$3","v":127.1826587299082},{"$f":"'r_Bacton IUK exports'!E336","v":28.392118917777491},{"$f":"'r_Moffat exports'!E336","v":8.1862538240778662},163.76103147176354,1774.0232539336146,{"$f":"M339*Interface!$E$4","v":1774.0232539336146}]
[335,{"$f":"'c_Demand break down'!A337","v":"2010-08-31"},48,8,3,"Summer",{"$f":"'c_Demand break down'!F337","v":157.20401751953102},-81.060318836229271,{"$f":"$G$1*VLOOKUP(Interface!$D$1,'r_Demand growth forecast'!$A$7:$C$14, 2, FALSE)+H340*($G$2*VLOOKUP(Interface!$D$1,'r_Demand growth forecast'!$A$7:$C$14,3, FALSE)-$G$1*VLOOKUP(Interface!$D$1,'r_Demand growth forecast'!$A$7:$C$14,2, FALSE))/$G$3","v":135.18907233710348},{"$f":"'r_Bacton IUK exports'!E337","v":25.566962463444906},{"$f":"'r_Moffat exports'!E337","v":8.0930378032513968},168.84907260379978,1829.1420035169631,{"$f":"M340*Interface!$E$4","v":1829.1420035169631}]
[336,{"$f":"'c_Demand break down'!A338","v":"2010-09-01"},48,9,3,"Summer",{"$f":"'c_Demand break down'!F338","v":148.61836171875001},-89.645974637010283,{"$f":"$G$1*VLOOKUP(Interface!$D$1,'r_Demand growth forecast'!$A$7:$C$14, 2, FALSE)+H341*($G$2*VLOOKUP(Interface!$D$1,'r_Demand growth forecast'!$A$7:$C$14,3, FALSE)-$G$1*VLOOKUP(Interface!$D$1,'r_Demand growth forecast'!$A$7:$C$14,2, FALSE))/$G$3","v":125.0193480050097},{"$f":"'r_Bacton IUK exports'!E338","v":22.397477102049756},{"$f":"'r_Moffat exports'!E338","v":7.4357504809389985},154.85257558799844,1677.5179513447872,{"$f":"M341*Interface!$E$4","v":1677.5179513447872}]
[337,{"$f":"'c_Demand break down'!A339","v":"2010-09-02"},49,9,3,"Summer",{"$f":"'c_Demand break down'!F339","v":151.43875537109301},-86.825580984667283,{"$f":"$G$1*VLOOKUP(Interface!$D$1,'r_Demand growth forecast'!$A$7:$C$14, 2, FALSE)+H342*($G$2*VLOOKUP(Interface!$D$1,'r_Demand growth forecast'!$A$7:$C$14,3, FALSE)-$G$1*VLOOKUP(Interface!$D$1,'r_Demand growth forecast'!$A$7:$C$14,2, FALSE))/$G$3","v":128.36010922556855},{"$f":"'r_Bacton IUK exports'!E339","v":34.560368157836507},{"$f":"'r_Moffat exports'!E339","v":7.7664957916445649},170.68697317504962,1849.0519804053124,{"$f":"M342*Interface!$E$4","v":1849.0519804053124}]
[338,{"$f":"'c_Demand break down'!A340","v":"2010-09-03"},49,9,3,"Summer",{"$f":"'c_Demand break down'!F340","v":145.690537851562},-92.573798504198294,{"$f":"$G$1*VLOOKUP(Interface!$D$1,'r_Demand growth forecast'!$A$7:$C$14, 2, FALSE)+H343*($G$2*VLOOKUP(Interface!$D$1,'r_Demand growth forecast'!$A$7:$C$14,3, FALSE)-$G$1*VLOOKUP(Interface!$D$1,'r_Demand growth forecast'!$A$7:$C$14,2, FALSE))/$G$3","v":121.55133550682427},{"$f":"'r_Bacton IUK exports'!E340","v":30.32397086496367},{"$f":"'r_Moffat exports'!E340","v":7.1916446006337269},159.06695097242167,1723.1722798842438,{"$f":"M343*Interface!$E$4","v":1723.1722798842438}]
[339,{"$f":"'c_Demand break down'!A341","v":"2010-09-04"},49,9,3,"Summer",{"$f":"'c_Demand break down'!F341","v":132.38504085815453},-105.87929549760577,{"$f":"$G$1*VLOOKUP(Interface!$D$1,'r_Demand growth forecast'!$A$7:$C$14, 2, FALSE)+H344*($G$2*VLOOKUP(Interface!$D$1,'r_Demand growth forecast'!$A$7:$C$14,3, FALSE)-$G$1*VLOOKUP(Interface!$D$1,'r_Demand growth forecast'!$A$7:$C$14,2, FALSE))/$G$3","v":105.7909510162013},{"$f":"'r_Bacton IUK exports'!E341","v":35.230349082334193},{"$f":"'r_Moffat exports'!E341","v":7.3603198481350134},148.38161994667053,1607.4180888822818,{"$f":"M344*Interface!$E$4","v":1607.4180888822818}]
[340,{"$f":"'c_Demand break down'!A342","v":"2010-09-05"},49,9,3,"Summer",{"$f":"'c_Demand break down'!F342","v":133.15033248413101},{"$f":"G345-$G$1","v":-105.11400387162928},{"$f":"$G$1*VLOOKUP(Interface!$D$1,'r_Demand growth forecast'!$A$7:$C$14, 2, FALSE)+H345*($G$2*VLOOKUP(Interface!$D$1,'r_Demand growth forecast'!$A$7:$C$14,3, FALSE)-$G$1*VLOOKUP(Interface!$D$1,'r_Demand growth forecast'!$A$7:$C$14,2, FALSE))/$G$3","v":106.69744028742655},{"$f":"'r_Bacton IUK exports'!E342","v":32.781345805121759},{"$f":"'r_Moffat exports'!E342","v":6.4908374060211287},145.96962349856943,1581.2889313600026,{"$f":"M345*Interface!$E$4","v":1581.2889313600026}]
[341,{"$f":"'c_Demand break down'!A343","v":"2010-09-06"},49,9,3,"Summer",{"$f":"'c_Demand break down'!F343","v":151.8713977038577},-86.392938651902597,{"$f":"$G$1*VLOOKUP(Interface!$D$1,'r_Demand growth forecast'!$A$7:$C$14, 2, FALSE)+H346*($G$2*VLOOKUP(Interface!$D$1,'r_Demand growth forecast'!$A$7:$C$14,3, FALSE)-$G$1*VLOOKUP(Interface!$D$1,'r_Demand growth forecast'!$A$7:$C$14,2, FALSE))/$G$3","v":128.87257482641533},{"$f":"'r_Bacton IUK exports'!E343","v":32.597445940633982},{"$f":"'r_Moffat exports'!E343","v":8.3951892425373345},169.86521000958663,1840.1498200338519,{"$f":"M346*Interface!$E$4","v":1840.1498200338519}]
[342,{"$f":"'c_Demand break down'!A344","v":"2010-09-07"},49,9,3,"Summer",{"$f":"'c_Demand break down'!F344","v":158.95062117187518},-79.313715183885108,{"$f":"$G$1*VLOOKUP(Interface!$D$1,'r_Demand growth forecast'!$A$7:$C$14, 2, FALSE)+H347*($G$2*VLOOKUP(Interface!$D$1,'r_Demand growth forecast'!$A$7:$C$14,3, FALSE)-$G$1*VLOOKUP(Interface!$D$1,'r_Demand growth forecast'!$A$7:$C$14,2, FALSE))/$G$3","v":137.25792742213406},{"$f":"'r_Bacton IUK exports'!E344","v":28.733471697566028},{"$f":"'r_Moffat exports'!E344","v":8.5067053410720668},174.49810446077214,1890.3379656235447,{"$f":"M347*Interface!$E$4","v":1890.3379656235447}]
[343,{"$f":"'c_Demand break down'!A345","v":"2010-09-08"},49,9,3,"Summer",{"$f":"'c_Demand break down'!F345","v":157.38632513671899},-80.878011219041298,{"$f":"$G$1*VLOOKUP(Interface!$D$1,'r_Demand growth forecast'!$A$7:$C$14, 2, FALSE)+H348*($G$2*VLOOKUP(Interface!$D$1,'r_Demand growth forecast'!$A$7:$C$14,3, FALSE)-$G$1*VLOOKUP(Interface!$D$1,'r_Demand growth forecast'!$A$7:$C$14,2, FALSE))/$G$3","v":135.40501602893818},{"$f":"'r_Bacton IUK exports'!E345","v":27.412732717764634},{"$f":"'r_Moffat exports'!E345","v":8.2438704749871263},171.06161922168994,1853.1105210285671,{"$f":"M348*Interface!$E$4","v":1853.1105210285671}]
[344,{"$f":"'c_Demand break down'!A346","v":"2010-09-09"},50,9,3,"Summer",{"$f":"'c_Demand break down'!F346","v":158.62867025390599},-79.635666101854298,{"$f":"$G$1*VLOOKUP(Interface!$D$1,'r_Demand growth forecast'!$A$7:$C$14, 2, FALSE)+H349*($G$2*VLOOKUP(Interface!$D$1,'r_Demand growth forecast'!$A$7:$C$14,3, FALSE)-$G$1*VLOOKUP(Interface!$D$1,'r_Demand growth forecast'!$A$7:$C$14,2, FALSE))/$G$3","v":136.87657599596656},{"$f":"'r_Bacton IUK exports'!E346","v":0},{"$f":"'r_Moffat exports'!E346","v":7.6606126857792889},144.53718868174585,1565.7713649893528,{"$f":"M349*Interface!$E$4","v":1565.7713649893528}]
[345,{"$f":"'c_Demand break down'!A347","v":"2010-09-10"},50,9,3,"Summer",{"$f":"'c_Demand break down'!F347","v":154.45662804687498},-83.80770830888531,{"$f":"$G$1*VLOOKUP(Interface!$D$1,'r_Demand growth forecast'!$A$7:$C$14, 2, FALSE)+H350*($G$2*VLOOKUP(Interface!$D$1,'r_Demand growth forecast'!$A$7:$C$14,3, FALSE)-$G$1*VLOOKUP(Interface!$D$1,'r_Demand growth forecast'!$A$7:$C$14,2, FALSE))/$G$3","v":131.93478469523612},{"$f":"'r_Bacton IUK exports'!E347","v":0},{"$f":"'r_Moffat exports'!E347","v":7.8714352997526555},139.80621999498877,1514.5207812057133,{"$f":"M350*Interface!$E$4","v":1514.5207812057133}]
[346,{"$f":"'c_Demand break down'!A348","v":"2010-09-11"},50,9,3,"Summer",{"$f":"'c_Demand break down'!F348","v":141.95970585937499},-96.3046304963853,{"$f":"$G$1*VLOOKUP(Interface!$D$1,'r_Demand growth forecast'!$A$7:$C$14, 2, FALSE)+H351*($G$2*VLOOKUP(Interface!$D$1,'r_Demand growth forecast'!$A$7:$C$14,3, FALSE)-$G$1*VLOOKUP(Interface!$D$1,'r_Demand growth forecast'!$A$7:$C$14,2, FALSE))/$G$3","v":117.13215847826851},{"$f":"'r_Bacton IUK exports'!E348","v":0},{"$f":"'r_Moffat exports'!E348","v":6.8370234072930431},123.96918188556155,1342.9581473662884,{"$f":"M351*Interface!$E$4","v":1342.9581473662884}]
[347,{"$f":"'c_Demand break down'!A349","v":"2010-09-12"},50,9,3,"Summer",{"$f":"'c_Demand break down'!F349","v":145.312234609375},-92.952101746385296,{"$f":"$G$1*VLOOKUP(Interface!$D$1,'r_Demand growth forecast'!$A$7:$C$14, 2, FALSE)+H352*($G$2*VLOOKUP(Interface!$D$1,'r_Demand growth forecast'!$A$7:$C$14,3, FALSE)-$G$1*VLOOKUP(Interface!$D$1,'r_Demand growth forecast'!$A$7:$C$14,2, FALSE))/$G$3","v":121.1032346539309},{"$f":"'r_Bacton IUK exports'!E349","v":0},{"$f":"'r_Moffat exports'!E349","v":6.6412125758146194},127.74444722974552,1383.8555968398332,{"$f":"M352*Interface!$E$4","v":1383.8555968398332}]
[348,{"$f":"'c_Demand break down'!A350","v":"2010-09-13"},50,9,3,"Summer",{"$f":"'c_Demand break down'!F350","v":159.69296734375001},-78.57136901201028,{"$f":"$G$1*VLOOKUP(Interface!$D$1,'r_Demand growth forecast'!$A$7:$C$14, 2, FALSE)+H353*($G$2*VLOOKUP(Interface!$D$1,'r_Demand growth forecast'!$A$7:$C$14,3, FALSE)-$G$1*VLOOKUP(Interface!$D$1,'r_Demand growth forecast'!$A$7:$C$14,2, FALSE))/$G$3","v":138.13723776279147},{"$f":"'r_Bacton IUK exports'!E350","v":0},{"$f":"'r_Moffat exports'!E350","v":6.9789633850177637},145.11620114780925,1572.0438070342177,{"$f":"M353*Interface!$E$4","v":1572.0438070342177}]
[349,{"$f":"'c_Demand break down'!A351","v":"2010-09-14"},50,9,3,"Summer",{"$f":"'c_Demand break down'!F351","v":156.15514093749999},-82.109195418260299,{"$f":"$G$1*VLOOKUP(Interface!$D$1,'r_Demand growth forecast'!$A$7:$C$14, 2, FALSE)+H354*($G$2*VLOOKUP(Interface!$D$1,'r_Demand growth forecast'!$A$7:$C$14,3, FALSE)-$G$1*VLOOKUP(Interface!$D$1,'r_Demand growth forecast'!$A$7:$C$14,2, FALSE))/$G$3","v":133.94667618878896},{"$f":"'r_Bacton IUK exports'!E351","v":0},{"$f":"'r_Moffat exports'!E351","v":7.1045476682907243},141.05122385707969,1528.0079080437442,{"$f":"M354*Interface!$E$4","v":1528.0079080437442}]
[350,{"$f":"'c_Demand break down'!A352","v":"2010-09-15"},50,9,3,"Summer",{"$f":"'c_Demand break down'!F352","v":174.01654171874998},-64.247794637010315,{"$f":"$G$1*VLOOKUP(Interface!$D$1,'r_Demand growth forecast'!$A$7:$C$14, 2, FALSE)+H355*($G$2*VLOOKUP(Interface!$D$1,'r_Demand growth forecast'!$A$7:$C$14,3, FALSE)-$G$1*VLOOKUP(Interface!$D$1,'r_Demand growth forecast'!$A$7:$C$14,2, FALSE))/$G$3","v":155.10353669487083},{"$f":"'r_Bacton IUK exports'!E352","v":0},{"$f":"'r_Moffat exports'!E352","v":7.5252207046094393},162.62875739948026,1761.7573289085697,{"$f":"M355*Interface!$E$4","v":1761.7573289085697}]
[351,{"$f":"'c_Demand break down'!A353","v":"2010-09-16"},51,9,3,"Summer",{"$f":"'c_Demand break down'!F353","v":179.68435953125001},-58.579976824510283,{"$f":"$G$1*VLOOKUP(Interface!$D$1,'r_Demand growth forecast'!$A$7:$C$14, 2, FALSE)+H356*($G$2*VLOOKUP(Interface!$D$1,'r_Demand growth forecast'!$A$7:$C$14,3, FALSE)-$G$1*VLOOKUP(Interface!$D$1,'r_Demand growth forecast'!$A$7:$C$14,2, FALSE))/$G$3","v":161.81707681983283},{"$f":"'r_Bacton IUK exports'!E353","v":0},{"$f":"'r_Moffat exports'!E353","v":8.5404175154753759},170.35749433530822,1845.4827361343939,{"$f":"M356*Interface!$E$4","v":1845.4827361343939}]
[352,{"$f":"'c_Demand break down'!A354","v":"2010-09-17"},51,9,3,"Summer",{"$f":"'c_Demand break down'!F354","v":182.45881009033201},-55.805526265428284,{"$f":"$G$1*VLOOKUP(Interface!$D$1,'r_Demand growth forecast'!$A$7:$C$14, 2, FALSE)+H357*($G$2*VLOOKUP(Interface!$D$1,'r_Demand growth forecast'!$A$7:$C$14,3, FALSE)-$G$1*VLOOKUP(Interface!$D$1,'r_Demand growth forecast'!$A$7:$C$14,2, FALSE))/$G$3","v":165.10341836596382},{"$f":"'r_Bacton IUK exports'!E354","v":0},{"$f":"'r_Moffat exports'!E354","v":8.5624312222342169},173.66584958819803,1881.3221485889492,{"$f":"M357*Interface!$E$4","v":1881.3221485889492}]
[353,{"$f":"'c_Demand break down'!A355","v":"2010-09-18"},51,9,3,"Summer",{"$f":"'c_Demand break down'!F355","v":176.647758138428},-61.61657821733229,{"$f":"$G$1*VLOOKUP(Interface!$D$1,'r_Demand growth forecast'!$A$7:$C$14, 2, FALSE)+H358*($G$2*VLOOKUP(Interface!$D$1,'r_Demand growth forecast'!$A$7:$C$14,3, FALSE)-$G$1*VLOOKUP(Interface!$D$1,'r_Demand growth forecast'!$A$7:$C$14,2, FALSE))/$G$3","v":158.22021715203172},{"$f":"'r_Bacton IUK exports'!E355","v":0},{"$f":"'r_Moffat exports'!E355","v":7.7055926326383535},165.92580978467007,1797.4742973973309,{"$f":"M358*Interface!$E$4","v":1797.4742973973309}]
[354,{"$f":"'c_Demand break down'!A356","v":"2010-09-19"},51,9,3,"Summer",{"$f":"'c_Demand break down'!F356","v":166.51576781799301},-71.748568537767284,{"$f":"$G$1*VLOOKUP(Interface!$D$1,'r_Demand growth forecast'!$A$7:$C$14, 2, FALSE)+H359*($G$2*VLOOKUP(Interface!$D$1,'r_Demand growth forecast'!$A$7:$C$14,3, FALSE)-$G$1*VLOOKUP(Interface!$D$1,'r_Demand growth forecast'!$A$7:$C$14,2, FALSE))/$G$3","v":146.21885687331044},{"$f":"'r_Bacton IUK exports'!E356","v":0},{"$f":"'r_Moffat exports'!E356","v":7.5833189835408445},153.80217585685128,1666.1389710572698,{"$f":"M359*Interface!$E$4","v":1666.1389710572698}]
[355,{"$f":"'c_Demand break down'!A357","v":"2010-09-20"},51,9,3,"Summer",{"$f":"'c_Demand break down'!F357","v":171.63942},-66.624916355760291,{"$f":"$G$1*VLOOKUP(Interface!$D$1,'r_Demand growth forecast'!$A$7:$C$14, 2, FALSE)+H360*($G$2*VLOOKUP(Interface!$D$1,'r_Demand growth forecast'!$A$7:$C$14,3, FALSE)-$G$1*VLOOKUP(Interface!$D$1,'r_Demand growth forecast'!$A$7:$C$14,2, FALSE))/$G$3","v":152.28783185595555},{"$f":"'r_Bacton IUK exports'!E357","v":0},{"$f":"'r_Moffat exports'!E357","v":7.662022935517566},159.94985479147311,1732.7367769560283,{"$f":"M360*Interface!$E$4","v":1732.7367769560283}]
[356,{"$f":"'c_Demand break down'!A358","v":"2010-09-21"},51,9,3,"Summer",{"$f":"'c_Demand break down'!F358","v":165.63181},-72.632526355760291,{"$f":"$G$1*VLOOKUP(Interface!$D$1,'r_Demand growth forecast'!$A$7:$C$14, 2, FALSE)+H361*($G$2*VLOOKUP(Interface!$D$1,'r_Demand growth forecast'!$A$7:$C$14,3, FALSE)-$G$1*VLOOKUP(Interface!$D$1,'r_Demand growth forecast'!$A$7:$C$14,2, FALSE))/$G$3","v":145.1718072898214},{"$f":"'r_Bacton IUK exports'!E358","v":0},{"$f":"'r_Moffat exports'!E358","v":8.1679834839956431},153.33979077381704,1661.12995345276,{"$f":"M361*Interface!$E$4","v":1661.12995345276}]
[357,{"$f":"'c_Demand break down'!A359","v":"2010-09-22"},51,9,3,"Summer",{"$f":"'c_Demand break down'!F359","v":162.54736},-75.716976355760295,{"$f":"$G$1*VLOOKUP(Interface!$D$1,'r_Demand growth forecast'!$A$7:$C$14, 2, FALSE)+H362*($G$2*VLOOKUP(Interface!$D$1,'r_Demand growth forecast'!$A$7:$C$14,3, FALSE)-$G$1*VLOOKUP(Interface!$D$1,'r_Demand growth forecast'!$A$7:$C$14,2, FALSE))/$G$3","v":141.51827086302066},{"$f":"'r_Bacton IUK exports'!E359","v":0},{"$f":"'r_Moffat exports'!E359","v":9.0988571967974412},150.6171280598181,1631.6353482720094,{"$f":"M362*Interface!$E$4","v":1631.6353482720094}]
[358,{"$f":"'c_Demand break down'!A360","v":"2010-09-23"},52,9,3,"Summer",{"$f":"'c_Demand break down'!F360","v":168.44},-69.824336355760295,{"$f":"$G$1*VLOOKUP(Interface!$D$1,'r_Demand growth forecast'!$A$7:$C$14, 2, FALSE)+H363*($G$2*VLOOKUP(Interface!$D$1,'r_Demand growth forecast'!$A$7:$C$14,3, FALSE)-$G$1*VLOOKUP(Interface!$D$1,'r_Demand growth forecast'!$A$7:$C$14,2, FALSE))/$G$3","v":148.49811326280769},{"$f":"'r_Bacton IUK exports'!E360","v":4.4908243428846992},{"$f":"'r_Moffat exports'!E360","v":8.1108286812971944},161.09976628698959,1745.1937681869583,{"$f":"M363*Interface!$E$4","v":1745.1937681869583}]
[359,{"$f":"'c_Demand break down'!A361","v":"2010-09-24"},52,9,3,"Summer",{"$f":"'c_Demand break down'!F361","v":175.996776835937},-62.267559519823294,{"$f":"$G$1*VLOOKUP(Interface!$D$1,'r_Demand growth forecast'!$A$7:$C$14, 2, FALSE)+H364*($G$2*VLOOKUP(Interface!$D$1,'r_Demand growth forecast'!$A$7:$C$14,3, FALSE)-$G$1*VLOOKUP(Interface!$D$1,'r_Demand growth forecast'!$A$7:$C$14,2, FALSE))/$G$3","v":157.44912865916683},{"$f":"'r_Bacton IUK exports'!E361","v":34.312132087462231},{"$f":"'r_Moffat exports'!E361","v":8.5507332692795224},200.3119940159086,2169.979831174338,{"$f":"M364*Interface!$E$4","v":2169.979831174338}]
[360,{"$f":"'c_Demand break down'!A362","v":"2010-09-25"},52,9,3,"Summer",{"$f":"'c_Demand break down'!F362","v":175.94786388671901},-62.316472469041287,{"$f":"$G$1*VLOOKUP(Interface!$D$1,'r_Demand growth forecast'!$A$7:$C$14, 2, FALSE)+H365*($G$2*VLOOKUP(Interface!$D$1,'r_Demand growth forecast'!$A$7:$C$14,3, FALSE)-$G$1*VLOOKUP(Interface!$D$1,'r_Demand growth forecast'!$A$7:$C$14,2, FALSE))/$G$3","v":157.39119118515683},{"$f":"'r_Bacton IUK exports'!E362","v":28.576097694730773},{"$f":"'r_Moffat exports'!E362","v":8.3122759367097618},194.27956481659737,2104.6305256581995,{"$f":"M365*Interface!$E$4","v":2104.6305256581995}]
[361,{"$f":"'c_Demand break down'!A363","v":"2010-09-26"},52,9,3,"Summer",{"$f":"'c_Demand break down'!F363","v":181.006606582031},-57.257729773729295,{"$f":"$G$1*VLOOKUP(Interface!$D$1,'r_Demand growth forecast'!$A$7:$C$14, 2, FALSE)+H366*($G$2*VLOOKUP(Interface!$D$1,'r_Demand growth forecast'!$A$7:$C$14,3, FALSE)-$G$1*VLOOKUP(Interface!$D$1,'r_Demand growth forecast'!$A$7:$C$14,2, FALSE))/$G$3","v":163.38328076713566},{"$f":"'r_Bacton IUK exports'!E363","v":29.434575134838141},{"$f":"'r_Moffat exports'!E363","v":7.5664104463148885},200.38426634828869,2170.7627573510113,{"$f":"M366*Interface!$E$4","v":2170.7627573510113}]
[362,{"$f":"'c_Demand break down'!A364","v":"2010-09-27"},52,9,3,"Summer",{"$f":"'c_Demand break down'!F364","v":192.44567123046903},-45.818665125291261,{"$f":"$G$1*VLOOKUP(Interface!$D$1,'r_Demand growth forecast'!$A$7:$C$14, 2, FALSE)+H367*($G$2*VLOOKUP(Interface!$D$1,'r_Demand growth forecast'!$A$7:$C$14,3, FALSE)-$G$1*VLOOKUP(Interface!$D$1,'r_Demand growth forecast'!$A$7:$C$14,2, FALSE))/$G$3","v":176.93287287645725},{"$f":"'r_Bacton IUK exports'!E364","v":33.209837675054089},{"$f":"'r_Moffat exports'!E364","v":8.0986434647546801},218.24135401626603,2364.2085880582099,{"$f":"M367*Interface!$E$4","v":2364.2085880582099}]
[363,{"$f":"'c_Demand break down'!A365","v":"2010-09-28"},52,9,3,"Summer",{"$f":"'c_Demand break down'!F365","v":180.38578315429697},-57.878553201463319,{"$f":"$G$1*VLOOKUP(Interface!$D$1,'r_Demand growth forecast'!$A$7:$C$14, 2, FALSE)+H368*($G$2*VLOOKUP(Interface!$D$1,'r_Demand growth forecast'!$A$7:$C$14,3, FALSE)-$G$1*VLOOKUP(Interface!$D$1,'r_Demand growth forecast'!$A$7:$C$14,2, FALSE))/$G$3","v":162.64791432973593},{"$f":"'r_Bacton IUK exports'!E365","v":40.919247368377725},{"$f":"'r_Moffat exports'!E365","v":8.7062692897375999},212.27343098785124,2299.5580778913927,{"$f":"M368*Interface!$E$4","v":2299.5580778913927}]
[364,{"$f":"'c_Demand break down'!A366","v":"2010-09-29"},52,9,3,"Summer",{"$f":"'c_Demand break down'!F366","v":179.06185048828104},-59.202485867479254,{"$f":"$G$1*VLOOKUP(Interface!$D$1,'r_Demand growth forecast'!$A$7:$C$14, 2, FALSE)+H369*($G$2*VLOOKUP(Interface!$D$1,'r_Demand growth forecast'!$A$7:$C$14,3, FALSE)-$G$1*VLOOKUP(Interface!$D$1,'r_Demand growth forecast'!$A$7:$C$14,2, FALSE))/$G$3","v":161.07971376823528},{"$f":"'r_Bacton IUK exports'!E366","v":40.532102812120058},{"$f":"'r_Moffat exports'!E366","v":9.1349303099759709},210.74674689033131,2283.0195090629591,{"$f":"M369*Interface!$E$4","v":2283.0195090629591}]
[365,{"$f":"'c_Demand break down'!A367","v":"2010-09-30"},53,9,3,"Summer",{"$f":"'c_Demand break down'!F367","v":182.73408876953098},-55.530247586229308,{"$f":"$G$1*VLOOKUP(Interface!$D$1,'r_Demand growth forecast'!$A$7:$C$14, 2, FALSE)+H370*($G$2*VLOOKUP(Interface!$D$1,'r_Demand growth forecast'!$A$7:$C$14,3, FALSE)-$G$1*VLOOKUP(Interface!$D$1,'r_Demand growth forecast'!$A$7:$C$14,2, FALSE))/$G$3","v":165.42948644357085},{"$f":"'r_Bacton IUK exports'!E367","v":41.686118709127015},{"$f":"'r_Moffat exports'!E367","v":7.7407279097252664},214.85633306242315,{"$f":"L370*conversion","v":2327.53865606523},{"$f":"M370*Interface!$E$4","v":2327.53865606523}]

{"sheet":"c_Storage stock levels(quarter)","index":19,"n_rows":8,"n_cols":3,"rows_kept":8,"cut":false,"hidden":false,"merged":[[1,0,2,0],[1,1,1,2],[7,0,7,2],[0,0,0,2]]}
["Quarterly avg storage stock levels"]
["Quarter","Type*"]
[null,"LRS/MRS","SRS"]
[1,{"$f":"SUMIF('r_Storage stock levels (daily)'!$C$8:$C$372,'c_Storage stock levels(quarter)'!$A4,'r_Storage stock levels (daily)'!$H$8:$H$372)/COUNTIF('r_Storage stock levels (daily)'!$C$8:$C$372,'c_Storage stock levels(quarter)'!$A4)","v":0.37231353200490491},{"$f":"SUMIF('r_Storage stock levels (daily)'!$C$8:$C$372,'c_Storage stock levels(quarter)'!$A4,'r_Storage stock levels (daily)'!$I$8:$I$372)/COUNTIF('r_Storage stock levels (daily)'!$C$8:$C$372,'c_Storage stock levels(quarter)'!$A4)","v":0.5599080373150962}]
[2,{"$f":"SUMIF('r_Storage stock levels (daily)'!$C$8:$C$372,'c_Storage stock levels(quarter)'!$A5,'r_Storage stock levels (daily)'!$H$8:$H$372)/COUNTIF('r_Storage stock levels (daily)'!$C$8:$C$372,'c_Storage stock levels(quarter)'!$A5)","v":0.36958549050010991},{"$f":"SUMIF('r_Storage stock levels (daily)'!$C$8:$C$372,'c_Storage stock levels(quarter)'!$A5,'r_Storage stock levels (daily)'!$I$8:$I$372)/COUNTIF('r_Storage stock levels (daily)'!$C$8:$C$372,'c_Storage stock levels(quarter)'!$A5)","v":0.44731451520650184}]
[3,{"$f":"SUMIF('r_Storage stock levels (daily)'!$C$8:$C$372,'c_Storage stock levels(quarter)'!$A6,'r_Storage stock levels (daily)'!$H$8:$H$372)/COUNTIF('r_Storage stock levels (daily)'!$C$8:$C$372,'c_Storage stock levels(quarter)'!$A6)","v":0.80661021763395913},{"$f":"SUMIF('r_Storage stock levels (daily)'!$C$8:$C$372,'c_Storage stock levels(quarter)'!$A6,'r_Storage stock levels (daily)'!$I$8:$I$372)/COUNTIF('r_Storage stock levels (daily)'!$C$8:$C$372,'c_Storage stock levels(quarter)'!$A6)","v":0.39217974103179626}]
[4,{"$f":"SUMIF('r_Storage stock levels (daily)'!$C$8:$C$372,'c_Storage stock levels(quarter)'!$A7,'r_Storage stock levels (daily)'!$H$8:$H$372)/COUNTIF('r_Storage stock levels (daily)'!$C$8:$C$372,'c_Storage stock levels(quarter)'!$A7)","v":0.96823560191660596},{"$f":"SUMIF('r_Storage stock levels (daily)'!$C$8:$C$372,'c_Storage stock levels(quarter)'!$A7,'r_Storage stock levels (daily)'!$I$8:$I$372)/COUNTIF('r_Storage stock levels (daily)'!$C$8:$C$372,'c_Storage stock levels(quarter)'!$A7)","v":0.99362112928824409}]
["*Based on National Grid data for 2009/10 on daily storage stock levels"]

{"sheet":"c_Daily","index":20,"n_rows":369,"n_cols":22,"rows_kept":369,"cut":false,"hidden":false,"merged":[[1,1,1,4],[1,6,1,8],[1,10,1,13],[1,15,1,16],[1,18,1,21]]}
[]
[null,"Demand",null,null,null,null,"Unconstrained case",null,null,null,"Constrained case",null,null,null,null,"Resource adequacy",null,null,"Pivotality (total demand)"]
[null,null,null,null,null,null,null,2,null,null,null,8,14,null,null,"Sum",{"$f":"SUM(Q5:Q369)","v":0},null,"Sum",{"$f":"SUM(T5:T369)","v":0},{"$f":"SUM(U5:U369)","v":0},{"$f":"SUM(V5:V369)","v":0}]
[null,"Day","Month","Quarter","Total demand, GWh",null,"Source capacity, GWh","Storage deliverability, GWh","Total capacity, GWh",null,"Competitors' source capacity, GWh","Competitors' storage deliverability, GWh","Operators' injection capacity, GWh","Total constrained capacity, GWh",null,"Inadequacy, GWh","Inadequate? Y/N",null,"Pivotal capacity, GWh","Pivotality? Y/N","Pivotal capacity in pivotal periods, GWh","Demand in pivotal periods, GWh"]
[null,1,10,{"$f":"IF(C5<=3,1,IF(C5<=6,2,IF(C5<=9,3,4)))","v":4},{"$f":"'c_Demand calculations'!N6","v":1948.3619642223227},null,{"$f":"VLOOKUP(D5,'c_Sources calculations'!$U$27:$Z$30,2,0)","v":5291.317919251218},{"$f":"VLOOKUP($D5,'c_Storage calculations'!$S$112:$AJ$116,H$3,0)","v":1833},{"$f":"SUM(G5:H5)","v":7124.317919251218},null,{"$f":"VLOOKUP(D5,'c_Sources calculations'!$AB$27:$AG$30,2,0)","v":5291.317919251218},{"$f":"VLOOKUP($D5,'c_Storage calculations'!$S$112:$AJ$116,L$3,0)","v":1833},{"$f":"VLOOKUP($D5,'c_Storage calculations'!$S$112:$AJ$116,M$3,0)","v":0},{"$f":"SUM(K5:L5)-M5","v":7124.317919251218},null,{"$f":"E5-I5","v":-5175.955955028895},{"$f":"IF(P5>0,1,0)","v":0},null,{"$f":"E5-N5","v":-5175.955955028895},{"$f":"IF(S5>0,1,0)","v":0},{"$f":"T5*S5","v":0},{"$f":"T5*E5","v":0}]
[null,2,10,{"$f":"IF(C6<=3,1,IF(C6<=6,2,IF(C6<=9,3,4)))","v":4},{"$f":"'c_Demand calculations'!N7","v":1896.8849422697911},null,{"$f":"VLOOKUP(D6,'c_Sources calculations'!$U$27:$Z$30,2,0)","v":5291.317919251218},{"$f":"VLOOKUP($D6,'c_Storage calculations'!$S$112:$AJ$116,H$3,0)","v":1833},{"$f":"SUM(G6:H6)","v":7124.317919251218},null,{"$f":"VLOOKUP(D6,'c_Sources calculations'!$AB$27:$AG$30,2,0)","v":5291.317919251218},{"$f":"VLOOKUP($D6,'c_Storage calculations'!$S$112:$AJ$116,L$3,0)","v":1833},{"$f":"VLOOKUP($D6,'c_Storage calculations'!$S$112:$AJ$116,M$3,0)","v":0},{"$f":"SUM(K6:L6)-M6","v":7124.317919251218},null,{"$f":"E6-I6","v":-5227.4329769814267},{"$f":"IF(P6>0,1,0)","v":0},null,{"$f":"E6-N6","v":-5227.4329769814267},{"$f":"IF(S6>0,1,0)","v":0},{"$f":"T6*S6","v":0},0]
[null,3,10,4,{"$f":"'c_Demand calculations'!N8","v":1836.4177346353015},null,{"$f":"VLOOKUP(D7,'c_Sources calculations'!$U$27:$Z$30,2,0)","v":5291.317919251218},{"$f":"VLOOKUP($D7,'c_Storage calculations'!$S$112:$AJ$116,H$3,0)","v":1833},7124.317919251218,null,{"$f":"VLOOKUP(D7,'c_Sources calculations'!$AB$27:$AG$30,2,0)","v":5291.317919251218},{"$f":"VLOOKUP($D7,'c_Storage calculations'!$S$112:$AJ$116,L$3,0)","v":1833},{"$f":"VLOOKUP($D7,'c_Storage calculations'!$S$112:$AJ$116,M$3,0)","v":0},7124.317919251218,null,-5287.9001846159163,0,null,-5287.9001846159163,0,0,0]
[null,4,10,4,{"$f":"'c_Demand calculations'!N9","v":1974.2002724331933},null,{"$f":"VLOOKUP(D8,'c_Sources calculations'!$U$27:$Z$30,2,0)","v":5291.317919251218},{"$f":"VLOOKUP($D8,'c_Storage calculations'!$S$112:$AJ$116,H$3,0)","v":1833},7124.317919251218,null,{"$f":"VLOOKUP(D8,'c_Sources calculations'!$AB$27:$AG$30,2,0)","v":5291.317919251218},{"$f":"VLOOKUP($D8,'c_Storage calculations'!$S$112:$AJ$116,L$3,0)","v":1833},{"$f":"VLOOKUP($D8,'c_Storage calculations'!$S$112:$AJ$116,M$3,0)","v":0},7124.317919251218,null,-5150.1176468180247,0,null,-5150.1176468180247,0,0,0]
[null,5,10,4,{"$f":"'c_Demand calculations'!N10","v":2147.7632832580434},null,{"$f":"VLOOKUP(D9,'c_Sources calculations'!$U$27:$Z$30,2,0)","v":5291.317919251218},{"$f":"VLOOKUP($D9,'c_Storage calculations'!$S$112:$AJ$116,H$3,0)","v":1833},7124.317919251218,null,{"$f":"VLOOKUP(D9,'c_Sources calculations'!$AB$27:$AG$30,2,0)","v":5291.317919251218},{"$f":"VLOOKUP($D9,'c_Storage calculations'!$S$112:$AJ$116,L$3,0)","v":1833},{"$f":"VLOOKUP($D9,'c_Storage calculations'!$S$112:$AJ$116,M$3,0)","v":0},7124.317919251218,null,-4976.5546359931741,0,null,-4976.5546359931741,0,0,0]
[null,6,10,4,{"$f":"'c_Demand calculations'!N11","v":2089.8947789271706},null,{"$f":"VLOOKUP(D10,'c_Sources calculations'!$U$27:$Z$30,2,0)","v":5291.317919251218},{"$f":"VLOOKUP($D10,'c_Storage calculations'!$S$112:$AJ$116,H$3,0)","v":1833},7124.317919251218,null,{"$f":"VLOOKUP(D10,'c_Sources calculations'!$AB$27:$AG$30,2,0)","v":5291.317919251218},{"$f":"VLOOKUP($D10,'c_Storage calculations'!$S$112:$AJ$116,L$3,0)","v":1833},{"$f":"VLOOKUP($D10,'c_Storage calculations'!$S$112:$AJ$116,M$3,0)","v":0},7124.317919251218,null,-5034.4231403240474,0,null,-5034.4231403240474,0,0,0]
[null,7,10,4,{"$f":"'c_Demand calculations'!N12","v":2276.1098012220536},null,{"$f":"VLOOKUP(D11,'c_Sources calculations'!$U$27:$Z$30,2,0)","v":5291.317919251218},{"$f":"VLOOKUP($D11,'c_Storage calculations'!$S$112:$AJ$116,H$3,0)","v":1833},7124.317919251218,null,{"$f":"VLOOKUP(D11,'c_Sources calculations'!$AB$27:$AG$30,2,0)","v":5291.317919251218},{"$f":"VLOOKUP($D11,'c_Storage calculations'!$S$112:$AJ$116,L$3,0)","v":1833},{"$f":"VLOOKUP($D11,'c_Storage calculations'!$S$112:$AJ$116,M$3,0)","v":0},7124.317919251218,null,-4848.2081180291643,0,null,-4848.2081180291643,0,0,0]
[null,8,10,4,{"$f":"'c_Demand calculations'!N13","v":2442.597847936177},null,{"$f":"VLOOKUP(D12,'c_Sources calculations'!$U$27:$Z$30,2,0)","v":5291.317919251218},{"$f":"VLOOKUP($D12,'c_Storage calculations'!$S$112:$AJ$116,H$3,0)","v":1833},7124.317919251218,null,{"$f":"VLOOKUP(D12,'c_Sources calculations'!$AB$27:$AG$30,2,0)","v":5291.317919251218},{"$f":"VLOOKUP($D12,'c_Storage calculations'!$S$112:$AJ$116,L$3,0)","v":1833},{"$f":"VLOOKUP($D12,'c_Storage calculations'!$S$112:$AJ$116,M$3,0)","v":0},7124.317919251218,null,-4681.7200713150414,0,null,-4681.7200713150414,0,0,0]
[null,9,10,4,{"$f":"'c_Demand calculations'!N14","v":2500.3861293428999},null,{"$f":"VLOOKUP(D13,'c_Sources calculations'!$U$27:$Z$30,2,0)","v":5291.317919251218},{"$f":"VLOOKUP($D13,'c_Storage calculations'!$S$112:$AJ$116,H$3,0)","v":1833},7124.317919251218,null,{"$f":"VLOOKUP(D13,'c_Sources calculations'!$AB$27:$AG$30,2,0)","v":5291.317919251218},{"$f":"VLOOKUP($D13,'c_Storage calculations'!$S$112:$AJ$116,L$3,0)","v":1833},{"$f":"VLOOKUP($D13,'c_Storage calculations'!$S$112:$AJ$116,M$3,0)","v":0},7124.317919251218,null,-4623.931789908318,0,null,-4623.931789908318,0,0,0]
[null,10,10,4,{"$f":"'c_Demand calculations'!N15","v":2149.6345722028927},null,{"$f":"VLOOKUP(D14,'c_Sources calculations'!$U$27:$Z$30,2,0)","v":5291.317919251218},{"$f":"VLOOKUP($D14,'c_Storage calculations'!$S$112:$AJ$116,H$3,0)","v":1833},7124.317919251218,null,{"$f":"VLOOKUP(D14,'c_Sources calculations'!$AB$27:$AG$30,2,0)","v":5291.317919251218},{"$f":"VLOOKUP($D14,'c_Storage calculations'!$S$112:$AJ$116,L$3,0)","v":1833},{"$f":"VLOOKUP($D14,'c_Storage calculations'!$S$112:$AJ$116,M$3,0)","v":0},7124.317919251218,null,-4974.6833470483252,0,null,-4974.6833470483252,0,0,0]
[null,11,10,4,{"$f":"'c_Demand calculations'!N16","v":2196.9900926468877},null,{"$f":"VLOOKUP(D15,'c_Sources calculations'!$U$27:$Z$30,2,0)","v":5291.317919251218},{"$f":"VLOOKUP($D15,'c_Storage calculations'!$S$112:$AJ$116,H$3,0)","v":1833},7124.317919251218,null,{"$f":"VLOOKUP(D15,'c_Sources calculations'!$AB$27:$AG$30,2,0)","v":5291.317919251218},{"$f":"VLOOKUP($D15,'c_Storage calculations'!$S$112:$AJ$116,L$3,0)","v":1833},{"$f":"VLOOKUP($D15,'c_Storage calculations'!$S$112:$AJ$116,M$3,0)","v":0},7124.317919251218,null,-4927.3278266043308,0,null,-4927.3278266043308,0,0,0]
[null,12,10,4,{"$f":"'c_Demand calculations'!N17","v":2487.9038401251996},null,{"$f":"VLOOKUP(D16,'c_Sources calculations'!$U$27:$Z$30,2,0)","v":5291.317919251218},{"$f":"VLOOKUP($D16,'c_Storage calculations'!$S$112:$AJ$116,H$3,0)","v":1833},7124.317919251218,null,{"$f":"VLOOKUP(D16,'c_Sources calculations'!$AB$27:$AG$30,2,0)","v":5291.317919251218},{"$f":"VLOOKUP($D16,'c_Storage calculations'!$S$112:$AJ$116,L$3,0)","v":1833},{"$f":"VLOOKUP($D16,'c_Storage calculations'!$S$112:$AJ$116,M$3,0)","v":0},7124.317919251218,null,-4636.4140791260179,0,null,-4636.4140791260179,0,0,0]
[null,13,10,4,{"$f":"'c_Demand calculations'!N18","v":2512.4486313739844},null,{"$f":"VLOOKUP(D17,'c_Sources calculations'!$U$27:$Z$30,2,0)","v":5291.317919251218},{"$f":"VLOOKUP($D17,'c_Storage calculations'!$S$112:$AJ$116,H$3,0)","v":1833},7124.317919251218,null,{"$f":"VLOOKUP(D17,'c_Sources calculations'!$AB$27:$AG$30,2,0)","v":5291.317919251218},{"$f":"VLOOKUP($D17,'c_Storage calculations'!$S$112:$AJ$116,L$3,0)","v":1833},{"$f":"VLOOKUP($D17,'c_Storage calculations'!$S$112:$AJ$116,M$3,0)","v":0},7124.317919251218,null,-4611.8692878772335,0,null,-4611.8692878772335,0,0,0]
[null,14,10,4,{"$f":"'c_Demand calculations'!N19","v":2517.9618985444563},null,{"$f":"VLOOKUP(D18,'c_Sources calculations'!$U$27:$Z$30,2,0)","v":5291.317919251218},{"$f":"VLOOKUP($D18,'c_Storage calculations'!$S$112:$AJ$116,H$3,0)","v":1833},7124.317919251218,null,{"$f":"VLOOKUP(D18,'c_Sources calculations'!$AB$27:$AG$30,2,0)","v":5291.317919251218},{"$f":"VLOOKUP($D18,'c_Storage calculations'!$S$112:$AJ$116,L$3,0)","v":1833},{"$f":"VLOOKUP($D18,'c_Storage calculations'!$S$112:$AJ$116,M$3,0)","v":0},7124.317919251218,null,-4606.3560207067621,0,null,-4606.3560207067621,0,0,0]
[null,15,10,4,{"$f":"'c_Demand calculations'!N20","v":2489.5626828114846},null,{"$f":"VLOOKUP(D19,'c_Sources calculations'!$U$27:$Z$30,2,0)","v":5291.317919251218},{"$f":"VLOOKUP($D19,'c_Storage calculations'!$S$112:$AJ$116,H$3,0)","v":1833},7124.317919251218,null,{"$f":"VLOOKUP(D19,'c_Sources calculations'!$AB$27:$AG$30,2,0)","v":5291.317919251218},{"$f":"VLOOKUP($D19,'c_Storage calculations'!$S$112:$AJ$116,L$3,0)","v":1833},{"$f":"VLOOKUP($D19,'c_Storage calculations'!$S$112:$AJ$116,M$3,0)","v":0},7124.317919251218,null,-4634.7552364397334,0,null,-4634.7552364397334,0,0,0]
[null,16,10,4,{"$f":"'c_Demand calculations'!N21","v":2474.1715133686885},null,{"$f":"VLOOKUP(D20,'c_Sources calculations'!$U$27:$Z$30,2,0)","v":5291.317919251218},{"$f":"VLOOKUP($D20,'c_Storage calculations'!$S$112:$AJ$116,H$3,0)","v":1833},7124.317919251218,null,{"$f":"VLOOKUP(D20,'c_Sources calculations'!$AB$27:$AG$30,2,0)","v":5291.317919251218},{"$f":"VLOOKUP($D20,'c_Storage calculations'!$S$112:$AJ$116,L$3,0)","v":1833},{"$f":"VLOOKUP($D20,'c_Storage calculations'!$S$112:$AJ$116,M$3,0)","v":0},7124.317919251218,null,-4650.1464058825295,0,null,-4650.1464058825295,0,0,0]
[null,17,10,4,{"$f":"'c_Demand calculations'!N22","v":2473.0209331104729},null,{"$f":"VLOOKUP(D21,'c_Sources calculations'!$U$27:$Z$30,2,0)","v":5291.317919251218},{"$f":"VLOOKUP($D21,'c_Storage calculations'!$S$112:$AJ$116,H$3,0)","v":1833},7124.317919251218,null,{"$f":"VLOOKUP(D21,'c_Sources calculations'!$AB$27:$AG$30,2,0)","v":5291.317919251218},{"$f":"VLOOKUP($D21,'c_Storage calculations'!$S$112:$AJ$116,L$3,0)","v":1833},{"$f":"VLOOKUP($D21,'c_Storage calculations'!$S$112:$AJ$116,M$3,0)","v":0},7124.317919251218,null,-4651.2969861407455,0,null,-4651.2969861407455,0,0,0]
[null,18,10,4,{"$f":"'c_Demand calculations'!N23","v":2528.7372993096583},null,{"$f":"VLOOKUP(D22,'c_Sources calculations'!$U$27:$Z$30,2,0)","v":5291.317919251218},{"$f":"VLOOKUP($D22,'c_Storage calculations'!$S$112:$AJ$116,H$3,0)","v":1833},7124.317919251218,null,{"$f":"VLOOKUP(D22,'c_Sources calculations'!$AB$27:$AG$30,2,0)","v":5291.317919251218},{"$f":"VLOOKUP($D22,'c_Storage calculations'!$S$112:$AJ$116,L$3,0)","v":1833},{"$f":"VLOOKUP($D22,'c_Storage calculations'!$S$112:$AJ$116,M$3,0)","v":0},7124.317919251218,null,-4595.5806199415601,0,null,-4595.5806199415601,0,0,0]
[null,19,10,4,{"$f":"'c_Demand calculations'!N24","v":2657.6752901085633},null,{"$f":"VLOOKUP(D23,'c_Sources calculations'!$U$27:$Z$30,2,0)","v":5291.317919251218},{"$f":"VLOOKUP($D23,'c_Storage calculations'!$S$112:$AJ$116,H$3,0)","v":1833},7124.317919251218,null,{"$f":"VLOOKUP(D23,'c_Sources calculations'!$AB$27:$AG$30,2,0)","v":5291.317919251218},{"$f":"VLOOKUP($D23,'c_Storage calculations'!$S$112:$AJ$116,L$3,0)","v":1833},{"$f":"VLOOKUP($D23,'c_Storage calculations'!$S$112:$AJ$116,M$3,0)","v":0},7124.317919251218,null,-4466.6426291426542,0,null,-4466.6426291426542,0,0,0]
[null,20,10,4,{"$f":"'c_Demand calculations'!N25","v":2800.3432385895153},null,{"$f":"VLOOKUP(D24,'c_Sources calculations'!$U$27:$Z$30,2,0)","v":5291.317919251218},{"$f":"VLOOKUP($D24,'c_Storage calculations'!$S$112:$AJ$116,H$3,0)","v":1833},7124.317919251218,null,{"$f":"VLOOKUP(D24,'c_Sources calculations'!$AB$27:$AG$30,2,0)","v":5291.317919251218},{"$f":"VLOOKUP($D24,'c_Storage calculations'!$S$112:$AJ$116,L$3,0)","v":1833},{"$f":"VLOOKUP($D24,'c_Storage calculations'!$S$112:$AJ$116,M$3,0)","v":0},7124.317919251218,null,-4323.9746806617022,0,null,-4323.9746806617022,0,0,0]
[null,21,10,4,{"$f":"'c_Demand calculations'!N26","v":2474.7825238955029},null,{"$f":"VLOOKUP(D25,'c_Sources calculations'!$U$27:$Z$30,2,0)","v":5291.317919251218},{"$f":"VLOOKUP($D25,'c_Storage calculations'!$S$112:$AJ$116,H$3,0)","v":1833},7124.317919251218,null,{"$f":"VLOOKUP(D25,'c_Sources calculations'!$AB$27:$AG$30,2,0)","v":5291.317919251218},{"$f":"VLOOKUP($D25,'c_Storage calculations'!$S$112:$AJ$116,L$3,0)","v":1833},{"$f":"VLOOKUP($D25,'c_Storage calculations'!$S$112:$AJ$116,M$3,0)","v":0},7124.317919251218,null,-4649.5353953557151,0,null,-4649.5353953557151,0,0,0]
[null,22,10,4,{"$f":"'c_Demand calculations'!N27","v":2498.276766297985},null,{"$f":"VLOOKUP(D26,'c_Sources calculations'!$U$27:$Z$30,2,0)","v":5291.317919251218},{"$f":"VLOOKUP($D26,'c_Storage calculations'!$S$112:$AJ$116,H$3,0)","v":1833},7124.317919251218,null,{"$f":"VLOOKUP(D26,'c_Sources calculations'!$AB$27:$AG$30,2,0)","v":5291.317919251218},{"$f":"VLOOKUP($D26,'c_Storage calculations'!$S$112:$AJ$116,L$3,0)","v":1833},{"$f":"VLOOKUP($D26,'c_Storage calculations'!$S$112:$AJ$116,M$3,0)","v":0},7124.317919251218,null,-4626.041152953233,0,null,-4626.041152953233,0,0,0]
[null,23,10,4,{"$f":"'c_Demand calculations'!N28","v":2434.8193234975524},null,{"$f":"VLOOKUP(D27,'c_Sources calculations'!$U$27:$Z$30,2,0)","v":5291.317919251218},{"$f":"VLOOKUP($D27,'c_Storage calculations'!$S$112:$AJ$116,H$3,0)","v":1833},7124.317919251218,null,{"$f":"VLOOKUP(D27,'c_Sources calculations'!$AB$27:$AG$30,2,0)","v":5291.317919251218},{"$f":"VLOOKUP($D27,'c_Storage calculations'!$S$112:$AJ$116,L$3,0)","v":1833},{"$f":"VLOOKUP($D27,'c_Storage calculations'!$S$112:$AJ$116,M$3,0)","v":0},7124.317919251218,null,-4689.4985957536655,0,null,-4689.4985957536655,0,0,0]
[null,24,10,4,{"$f":"'c_Demand calculations'!N29","v":2185.02928804984},null,{"$f":"VLOOKUP(D28,'c_Sources calculations'!$U$27:$Z$30,2,0)","v":5291.317919251218},{"$f":"VLOOKUP($D28,'c_Storage calculations'!$S$112:$AJ$116,H$3,0)","v":1833},7124.317919251218,null,{"$f":"VLOOKUP(D28,'c_Sources calculations'!$AB$27:$AG$30,2,0)","v":5291.317919251218},{"$f":"VLOOKUP($D28,'c_Storage calculations'!$S$112:$AJ$116,L$3,0)","v":1833},{"$f":"VLOOKUP($D28,'c_Storage calculations'!$S$112:$AJ$116,M$3,0)","v":0},7124.317919251218,null,-4939.2886312013779,0,null,-4939.2886312013779,0,0,0]
[null,25,10,4,{"$f":"'c_Demand calculations'!N30","v":2218.1269018101216},null,{"$f":"VLOOKUP(D29,'c_Sources calculations'!$U$27:$Z$30,2,0)","v":5291.317919251218},{"$f":"VLOOKUP($D29,'c_Storage calculations'!$S$112:$AJ$116,H$3,0)","v":1833},7124.317919251218,null,{"$f":"VLOOKUP(D29,'c_Sources calculations'!$AB$27:$AG$30,2,0)","v":5291.317919251218},{"$f":"VLOOKUP($D29,'c_Storage calculations'!$S$112:$AJ$116,L$3,0)","v":1833},{"$f":"VLOOKUP($D29,'c_Storage calculations'!$S$112:$AJ$116,M$3,0)","v":0},7124.317919251218,null,-4906.1910174410968,0,null,-4906.1910174410968,0,0,0]
[null,26,10,4,{"$f":"'c_Demand calculations'!N31","v":2358.5098551037245},null,{"$f":"VLOOKUP(D30,'c_Sources calculations'!$U$27:$Z$30,2,0)","v":5291.317919251218},{"$f":"VLOOKUP($D30,'c_Storage calculations'!$S$112:$AJ$116,H$3,0)","v":1833},7124.317919251218,null,{"$f":"VLOOKUP(D30,'c_Sources calculations'!$AB$27:$AG$30,2,0)","v":5291.317919251218},{"$f":"VLOOKUP($D30,'c_Storage calculations'!$S$112:$AJ$116,L$3,0)","v":1833},{"$f":"VLOOKUP($D30,'c_Storage calculations'!$S$112:$AJ$116,M$3,0)","v":0},7124.317919251218,null,-4765.8080641474935,0,null,-4765.8080641474935,0,0,0]
[null,27,10,4,{"$f":"'c_Demand calculations'!N32","v":2228.6779490245367},null,{"$f":"VLOOKUP(D31,'c_Sources calculations'!$U$27:$Z$30,2,0)","v":5291.317919251218},{"$f":"VLOOKUP($D31,'c_Storage calculations'!$S$112:$AJ$116,H$3,0)","v":1833},7124.317919251218,null,{"$f":"VLOOKUP(D31,'c_Sources calculations'!$AB$27:$AG$30,2,0)","v":5291.317919251218},{"$f":"VLOOKUP($D31,'c_Storage calculations'!$S$112:$AJ$116,L$3,0)","v":1833},{"$f":"VLOOKUP($D31,'c_Storage calculations'!$S$112:$AJ$116,M$3,0)","v":0},7124.317919251218,null,-4895.6399702266808,0,null,-4895.6399702266808,0,0,0]
[null,28,10,4,{"$f":"'c_Demand calculations'!N33","v":2211.1510213469392},null,{"$f":"VLOOKUP(D32,'c_Sources calculations'!$U$27:$Z$30,2,0)","v":5291.317919251218},{"$f":"VLOOKUP($D32,'c_Storage calculations'!$S$112:$AJ$116,H$3,0)","v":1833},7124.317919251218,null,{"$f":"VLOOKUP(D32,'c_Sources calculations'!$AB$27:$AG$30,2,0)","v":5291.317919251218},{"$f":"VLOOKUP($D32,'c_Storage calculations'!$S$112:$AJ$116,L$3,0)","v":1833},{"$f":"VLOOKUP($D32,'c_Storage calculations'!$S$112:$AJ$116,M$3,0)","v":0},7124.317919251218,null,-4913.1668979042788,0,null,-4913.1668979042788,0,0,0]
[null,29,10,4,{"$f":"'c_Demand calculations'!N34","v":2280.0662364406198},null,{"$f":"VLOOKUP(D33,'c_Sources calculations'!$U$27:$Z$30,2,0)","v":5291.317919251218},{"$f":"VLOOKUP($D33,'c_Storage calculations'!$S$112:$AJ$116,H$3,0)","v":1833},7124.317919251218,null,{"$f":"VLOOKUP(D33,'c_Sources calculations'!$AB$27:$AG$30,2,0)","v":5291.317919251218},{"$f":"VLOOKUP($D33,'c_Storage calculations'!$S$112:$AJ$116,L$3,0)","v":1833},{"$f":"VLOOKUP($D33,'c_Storage calculations'!$S$112:$AJ$116,M$3,0)","v":0},7124.317919251218,null,-4844.2516828105981,0,null,-4844.2516828105981,0,0,0]
[null,30,10,4,{"$f":"'c_Demand calculations'!N35","v":2313.2053152931994},null,{"$f":"VLOOKUP(D34,'c_Sources calculations'!$U$27:$Z$30,2,0)","v":5291.317919251218},{"$f":"VLOOKUP($D34,'c_Storage calculations'!$S$112:$AJ$116,H$3,0)","v":1833},7124.317919251218,null,{"$f":"VLOOKUP(D34,'c_Sources calculations'!$AB$27:$AG$30,2,0)","v":5291.317919251218},{"$f":"VLOOKUP($D34,'c_Storage calculations'!$S$112:$AJ$116,L$3,0)","v":1833},{"$f":"VLOOKUP($D34,'c_Storage calculations'!$S$112:$AJ$116,M$3,0)","v":0},7124.317919251218,null,-4811.1126039580186,0,null,-4811.1126039580186,0,0,0]
[null,31,10,4,{"$f":"'c_Demand calculations'!N36","v":2194.2453092862224},null,{"$f":"VLOOKUP(D35,'c_Sources calculations'!$U$27:$Z$30,2,0)","v":5291.317919251218},{"$f":"VLOOKUP($D35,'c_Storage calculations'!$S$112:$AJ$116,H$3,0)","v":1833},7124.317919251218,null,{"$f":"VLOOKUP(D35,'c_Sources calculations'!$AB$27:$AG$30,2,0)","v":5291.317919251218},{"$f":"VLOOKUP($D35,'c_Storage calculations'!$S$112:$AJ$116,L$3,0)","v":1833},{"$f":"VLOOKUP($D35,'c_Storage calculations'!$S$112:$AJ$116,M$3,0)","v":0},7124.317919251218,null,-4930.0726099649955,0,null,-4930.0726099649955,0,0,0]
[null,1,11,4,{"$f":"'c_Demand calculations'!N37","v":2312.1801694804221},null,{"$f":"VLOOKUP(D36,'c_Sources calculations'!$U$27:$Z$30,2,0)","v":5291.317919251218},{"$f":"VLOOKUP($D36,'c_Storage calculations'!$S$112:$AJ$116,H$3,0)","v":1833},7124.317919251218,null,{"$f":"VLOOKUP(D36,'c_Sources calculations'!$AB$27:$AG$30,2,0)","v":5291.317919251218},{"$f":"VLOOKUP($D36,'c_Storage calculations'!$S$112:$AJ$116,L$3,0)","v":1833},{"$f":"VLOOKUP($D36,'c_Storage calculations'!$S$112:$AJ$116,M$3,0)","v":0},7124.317919251218,null,-4812.1377497707963,0,null,-4812.1377497707963,0,0,0]
[null,2,11,4,{"$f":"'c_Demand calculations'!N38","v":2833.7067253427108},null,{"$f":"VLOOKUP(D37,'c_Sources calculations'!$U$27:$Z$30,2,0)","v":5291.317919251218},{"$f":"VLOOKUP($D37,'c_Storage calculations'!$S$112:$AJ$116,H$3,0)","v":1833},7124.317919251218,null,{"$f":"VLOOKUP(D37,'c_Sources calculations'!$AB$27:$AG$30,2,0)","v":5291.317919251218},{"$f":"VLOOKUP($D37,'c_Storage calculations'!$S$112:$AJ$116,L$3,0)","v":1833},{"$f":"VLOOKUP($D37,'c_Storage calculations'!$S$112:$AJ$116,M$3,0)","v":0},7124.317919251218,null,-4290.6111939085076,0,null,-4290.6111939085076,0,0,0]
[null,3,11,4,{"$f":"'c_Demand calculations'!N39","v":2784.1046061450816},null,{"$f":"VLOOKUP(D38,'c_Sources calculations'!$U$27:$Z$30,2,0)","v":5291.317919251218},{"$f":"VLOOKUP($D38,'c_Storage calculations'!$S$112:$AJ$116,H$3,0)","v":1833},7124.317919251218,null,{"$f":"VLOOKUP(D38,'c_Sources calculations'!$AB$27:$AG$30,2,0)","v":5291.317919251218},{"$f":"VLOOKUP($D38,'c_Storage calculations'!$S$112:$AJ$116,L$3,0)","v":1833},{"$f":"VLOOKUP($D38,'c_Storage calculations'!$S$112:$AJ$116,M$3,0)","v":0},7124.317919251218,null,-4340.2133131061364,0,null,-4340.2133131061364,0,0,0]
[null,4,11,4,{"$f":"'c_Demand calculations'!N40","v":2880.0842715246758},null,{"$f":"VLOOKUP(D39,'c_Sources calculations'!$U$27:$Z$30,2,0)","v":5291.317919251218},{"$f":"VLOOKUP($D39,'c_Storage calculations'!$S$112:$AJ$116,H$3,0)","v":1833},7124.317919251218,null,{"$f":"VLOOKUP(D39,'c_Sources calculations'!$AB$27:$AG$30,2,0)","v":5291.317919251218},{"$f":"VLOOKUP($D39,'c_Storage calculations'!$S$112:$AJ$116,L$3,0)","v":1833},{"$f":"VLOOKUP($D39,'c_Storage calculations'!$S$112:$AJ$116,M$3,0)","v":0},7124.317919251218,null,-4244.2336477265417,0,null,-4244.2336477265417,0,0,0]
[null,5,11,4,{"$f":"'c_Demand calculations'!N41","v":2899.9856025103163},null,{"$f":"VLOOKUP(D40,'c_Sources calculations'!$U$27:$Z$30,2,0)","v":5291.317919251218},{"$f":"VLOOKUP($D40,'c_Storage calculations'!$S$112:$AJ$116,H$3,0)","v":1833},7124.317919251218,null,{"$f":"VLOOKUP(D40,'c_Sources calculations'!$AB$27:$AG$30,2,0)","v":5291.317919251218},{"$f":"VLOOKUP($D40,'c_Storage calculations'!$S$112:$AJ$116,L$3,0)","v":1833},{"$f":"VLOOKUP($D40,'c_Storage calculations'!$S$112:$AJ$116,M$3,0)","v":0},7124.317919251218,null,-4224.3323167409017,0,null,-4224.3323167409017,0,0,0]
[null,6,11,4,{"$f":"'c_Demand calculations'!N42","v":2931.0693672219459},null,{"$f":"VLOOKUP(D41,'c_Sources calculations'!$U$27:$Z$30,2,0)","v":5291.317919251218},{"$f":"VLOOKUP($D41,'c_Storage calculations'!$S$112:$AJ$116,H$3,0)","v":1833},7124.317919251218,null,{"$f":"VLOOKUP(D41,'c_Sources calculations'!$AB$27:$AG$30,2,0)","v":5291.317919251218},{"$f":"VLOOKUP($D41,'c_Storage calculations'!$S$112:$AJ$116,L$3,0)","v":1833},{"$f":"VLOOKUP($D41,'c_Storage calculations'!$S$112:$AJ$116,M$3,0)","v":0},7124.317919251218,null,-4193.2485520292721,0,null,-4193.2485520292721,0,0,0]
[null,7,11,4,{"$f":"'c_Demand calculations'!N43","v":2915.5721414114291},null,{"$f":"VLOOKUP(D42,'c_Sources calculations'!$U$27:$Z$30,2,0)","v":5291.317919251218},{"$f":"VLOOKUP($D42,'c_Storage calculations'!$S$112:$AJ$116,H$3,0)","v":1833},7124.317919251218,null,{"$f":"VLOOKUP(D42,'c_Sources calculations'!$AB$27:$AG$30,2,0)","v":5291.317919251218},{"$f":"VLOOKUP($D42,'c_Storage calculations'!$S$112:$AJ$116,L$3,0)","v":1833},{"$f":"VLOOKUP($D42,'c_Storage calculations'!$S$112:$AJ$116,M$3,0)","v":0},7124.317919251218,null,-4208.7457778397893,0,null,-4208.7457778397893,0,0,0]
[null,8,11,4,{"$f":"'c_Demand calculations'!N44","v":3137.0137717649122},null,{"$f":"VLOOKUP(D43,'c_Sources calculations'!$U$27:$Z$30,2,0)","v":5291.317919251218},{"$f":"VLOOKUP($D43,'c_Storage calculations'!$S$112:$AJ$116,H$3,0)","v":1833},7124.317919251218,null,{"$f":"VLOOKUP(D43,'c_Sources calculations'!$AB$27:$AG$30,2,0)","v":5291.317919251218},{"$f":"VLOOKUP($D43,'c_Storage calculations'!$S$112:$AJ$116,L$3,0)","v":1833},{"$f":"VLOOKUP($D43,'c_Storage calculations'!$S$112:$AJ$116,M$3,0)","v":0},7124.317919251218,null,-3987.3041474863057,0,null,-3987.3041474863057,0,0,0]
[null,9,11,4,{"$f":"'c_Demand calculations'!N45","v":3519.1763648182887},null,{"$f":"VLOOKUP(D44,'c_Sources calculations'!$U$27:$Z$30,2,0)","v":5291.317919251218},{"$f":"VLOOKUP($D44,'c_Storage calculations'!$S$112:$AJ$116,H$3,0)","v":1833},7124.317919251218,null,{"$f":"VLOOKUP(D44,'c_Sources calculations'!$AB$27:$AG$30,2,0)","v":5291.317919251218},{"$f":"VLOOKUP($D44,'c_Storage calculations'!$S$112:$AJ$116,L$3,0)","v":1833},{"$f":"VLOOKUP($D44,'c_Storage calculations'!$S$112:$AJ$116,M$3,0)","v":0},7124.317919251218,null,-3605.1415544329293,0,null,-3605.1415544329293,0,0,0]
[null,10,11,4,{"$f":"'c_Demand calculations'!N46","v":3509.4001184132876},null,{"$f":"VLOOKUP(D45,'c_Sources calculations'!$U$27:$Z$30,2,0)","v":5291.317919251218},{"$f":"VLOOKUP($D45,'c_Storage calculations'!$S$112:$AJ$116,H$3,0)","v":1833},7124.317919251218,null,{"$f":"VLOOKUP(D45,'c_Sources calculations'!$AB$27:$AG$30,2,0)","v":5291.317919251218},{"$f":"VLOOKUP($D45,'c_Storage calculations'!$S$112:$AJ$116,L$3,0)","v":1833},{"$f":"VLOOKUP($D45,'c_Storage calculations'!$S$112:$AJ$116,M$3,0)","v":0},7124.317919251218,null,-3614.9178008379304,0,null,-3614.9178008379304,0,0,0]
[null,11,11,4,{"$f":"'c_Demand calculations'!N47","v":3301.1503796187662},null,{"$f":"VLOOKUP(D46,'c_Sources calculations'!$U$27:$Z$30,2,0)","v":5291.317919251218},{"$f":"VLOOKUP($D46,'c_Storage calculations'!$S$112:$AJ$116,H$3,0)","v":1833},7124.317919251218,null,{"$f":"VLOOKUP(D46,'c_Sources calculations'!$AB$27:$AG$30,2,0)","v":5291.317919251218},{"$f":"VLOOKUP($D46,'c_Storage calculations'!$S$112:$AJ$116,L$3,0)","v":1833},{"$f":"VLOOKUP($D46,'c_Storage calculations'!$S$112:$AJ$116,M$3,0)","v":0},7124.317919251218,null,-3823.1675396324517,0,null,-3823.1675396324517,0,0,0]
[null,12,11,4,{"$f":"'c_Demand calculations'!N48","v":3018.8852068774581},null,{"$f":"VLOOKUP(D47,'c_Sources calculations'!$U$27:$Z$30,2,0)","v":5291.317919251218},{"$f":"VLOOKUP($D47,'c_Storage calculations'!$S$112:$AJ$116,H$3,0)","v":1833},7124.317919251218,null,{"$f":"VLOOKUP(D47,'c_Sources calculations'!$AB$27:$AG$30,2,0)","v":5291.317919251218},{"$f":"VLOOKUP($D47,'c_Storage calculations'!$S$112:$AJ$116,L$3,0)","v":1833},{"$f":"VLOOKUP($D47,'c_Storage calculations'!$S$112:$AJ$116,M$3,0)","v":0},7124.317919251218,null,-4105.4327123737603,0,null,-4105.4327123737603,0,0,0]
[null,13,11,4,{"$f":"'c_Demand calculations'!N49","v":2801.9115508545933},null,{"$f":"VLOOKUP(D48,'c_Sources calculations'!$U$27:$Z$30,2,0)","v":5291.317919251218},{"$f":"VLOOKUP($D48,'c_Storage calculations'!$S$112:$AJ$116,H$3,0)","v":1833},7124.317919251218,null,{"$f":"VLOOKUP(D48,'c_Sources calculations'!$AB$27:$AG$30,2,0)","v":5291.317919251218},{"$f":"VLOOKUP($D48,'c_Storage calculations'!$S$112:$AJ$116,L$3,0)","v":1833},{"$f":"VLOOKUP($D48,'c_Storage calculations'!$S$112:$AJ$116,M$3,0)","v":0},7124.317919251218,null,-4322.4063683966251,0,null,-4322.4063683966251,0,0,0]
[null,14,11,4,{"$f":"'c_Demand calculations'!N50","v":2660.2341644631988},null,{"$f":"VLOOKUP(D49,'c_Sources calculations'!$U$27:$Z$30,2,0)","v":5291.317919251218},{"$f":"VLOOKUP($D49,'c_Storage calculations'!$S$112:$AJ$116,H$3,0)","v":1833},7124.317919251218,null,{"$f":"VLOOKUP(D49,'c_Sources calculations'!$AB$27:$AG$30,2,0)","v":5291.317919251218},{"$f":"VLOOKUP($D49,'c_Storage calculations'!$S$112:$AJ$116,L$3,0)","v":1833},{"$f":"VLOOKUP($D49,'c_Storage calculations'!$S$112:$AJ$116,M$3,0)","v":0},7124.317919251218,null,-4464.0837547880192,0,null,-4464.0837547880192,0,0,0]
[null,15,11,4,{"$f":"'c_Demand calculations'!N51","v":2646.5888186686457},null,{"$f":"VLOOKUP(D50,'c_Sources calculations'!$U$27:$Z$30,2,0)","v":5291.317919251218},{"$f":"VLOOKUP($D50,'c_Storage calculations'!$S$112:$AJ$116,H$3,0)","v":1833},7124.317919251218,null,{"$f":"VLOOKUP(D50,'c_Sources calculations'!$AB$27:$AG$30,2,0)","v":5291.317919251218},{"$f":"VLOOKUP($D50,'c_Storage calculations'!$S$112:$AJ$116,L$3,0)","v":1833},{"$f":"VLOOKUP($D50,'c_Storage calculations'!$S$112:$AJ$116,M$3,0)","v":0},7124.317919251218,null,-4477.7291005825718,0,null,-4477.7291005825718,0,0,0]
[null,16,11,4,{"$f":"'c_Demand calculations'!N52","v":2908.4024916438025},null,{"$f":"VLOOKUP(D51,'c_Sources calculations'!$U$27:$Z$30,2,0)","v":5291.317919251218},{"$f":"VLOOKUP($D51,'c_Storage calculations'!$S$112:$AJ$116,H$3,0)","v":1833},7124.317919251218,null,{"$f":"VLOOKUP(D51,'c_Sources calculations'!$AB$27:$AG$30,2,0)","v":5291.317919251218},{"$f":"VLOOKUP($D51,'c_Storage calculations'!$S$112:$AJ$116,L$3,0)","v":1833},{"$f":"VLOOKUP($D51,'c_Storage calculations'!$S$112:$AJ$116,M$3,0)","v":0},7124.317919251218,null,-4215.915427607415,0,null,-4215.915427607415,0,0,0]
[null,17,11,4,{"$f":"'c_Demand calculations'!N53","v":2953.616147477815},null,{"$f":"VLOOKUP(D52,'c_Sources calculations'!$U$27:$Z$30,2,0)","v":5291.317919251218},{"$f":"VLOOKUP($D52,'c_Storage calculations'!$S$112:$AJ$116,H$3,0)","v":1833},7124.317919251218,null,{"$f":"VLOOKUP(D52,'c_Sources calculations'!$AB$27:$AG$30,2,0)","v":5291.317919251218},{"$f":"VLOOKUP($D52,'c_Storage calculations'!$S$112:$AJ$116,L$3,0)","v":1833},{"$f":"VLOOKUP($D52,'c_Storage calculations'!$S$112:$AJ$116,M$3,0)","v":0},7124.317919251218,null,-4170.7017717734034,0,null,-4170.7017717734034,0,0,0]
[null,18,11,4,{"$f":"'c_Demand calculations'!N54","v":3006.6112684519003},null,{"$f":"VLOOKUP(D53,'c_Sources calculations'!$U$27:$Z$30,2,0)","v":5291.317919251218},{"$f":"VLOOKUP($D53,'c_Storage calculations'!$S$112:$AJ$116,H$3,0)","v":1833},7124.317919251218,null,{"$f":"VLOOKUP(D53,'c_Sources calculations'!$AB$27:$AG$30,2,0)","v":5291.317919251218},{"$f":"VLOOKUP($D53,'c_Storage calculations'!$S$112:$AJ$116,L$3,0)","v":1833},{"$f":"VLOOKUP($D53,'c_Storage calculations'!$S$112:$AJ$116,M$3,0)","v":0},7124.317919251218,null,-4117.7066507993177,0,null,-4117.7066507993177,0,0,0]
[null,19,11,4,{"$f":"'c_Demand calculations'!N55","v":2738.7265785126278},null,{"$f":"VLOOKUP(D54,'c_Sources calculations'!$U$27:$Z$30,2,0)","v":5291.317919251218},{"$f":"VLOOKUP($D54,'c_Storage calculations'!$S$112:$AJ$116,H$3,0)","v":1833},7124.317919251218,null,{"$f":"VLOOKUP(D54,'c_Sources calculations'!$AB$27:$AG$30,2,0)","v":5291.317919251218},{"$f":"VLOOKUP($D54,'c_Storage calculations'!$S$112:$AJ$116,L$3,0)","v":1833},{"$f":"VLOOKUP($D54,'c_Storage calculations'!$S$112:$AJ$116,M$3,0)","v":0},7124.317919251218,null,-4385.5913407385906,0,null,-4385.5913407385906,0,0,0]
[null,20,11,4,{"$f":"'c_Demand calculations'!N56","v":2640.7957251375192},null,{"$f":"VLOOKUP(D55,'c_Sources calculations'!$U$27:$Z$30,2,0)","v":5291.317919251218},{"$f":"VLOOKUP($D55,'c_Storage calculations'!$S$112:$AJ$116,H$3,0)","v":1833},7124.317919251218,null,{"$f":"VLOOKUP(D55,'c_Sources calculations'!$AB$27:$AG$30,2,0)","v":5291.317919251218},{"$f":"VLOOKUP($D55,'c_Storage calculations'!$S$112:$AJ$116,L$3,0)","v":1833},{"$f":"VLOOKUP($D55,'c_Storage calculations'!$S$112:$AJ$116,M$3,0)","v":0},7124.317919251218,null,-4483.5221941136988,0,null,-4483.5221941136988,0,0,0]
[null,21,11,4,{"$f":"'c_Demand calculations'!N57","v":2499.193249798916},null,{"$f":"VLOOKUP(D56,'c_Sources calculations'!$U$27:$Z$30,2,0)","v":5291.317919251218},{"$f":"VLOOKUP($D56,'c_Storage calculations'!$S$112:$AJ$116,H$3,0)","v":1833},7124.317919251218,null,{"$f":"VLOOKUP(D56,'c_Sources calculations'!$AB$27:$AG$30,2,0)","v":5291.317919251218},{"$f":"VLOOKUP($D56,'c_Storage calculations'!$S$112:$AJ$116,L$3,0)","v":1833},{"$f":"VLOOKUP($D56,'c_Storage calculations'!$S$112:$AJ$116,M$3,0)","v":0},7124.317919251218,null,-4625.1246694523015,0,null,-4625.1246694523015,0,0,0]
[null,22,11,4,{"$f":"'c_Demand calculations'!N58","v":2780.7651008701159},null,{"$f":"VLOOKUP(D57,'c_Sources calculations'!$U$27:$Z$30,2,0)","v":5291.317919251218},{"$f":"VLOOKUP($D57,'c_Storage calculations'!$S$112:$AJ$116,H$3,0)","v":1833},7124.317919251218,null,{"$f":"VLOOKUP(D57,'c_Sources calculations'!$AB$27:$AG$30,2,0)","v":5291.317919251218},{"$f":"VLOOKUP($D57,'c_Storage calculations'!$S$112:$AJ$116,L$3,0)","v":1833},{"$f":"VLOOKUP($D57,'c_Storage calculations'!$S$112:$AJ$116,M$3,0)","v":0},7124.317919251218,null,-4343.552818381102,0,null,-4343.552818381102,0,0,0]
[null,23,11,4,{"$f":"'c_Demand calculations'!N59","v":3128.8834556044412},null,{"$f":"VLOOKUP(D58,'c_Sources calculations'!$U$27:$Z$30,2,0)","v":5291.317919251218},{"$f":"VLOOKUP($D58,'c_Storage calculations'!$S$112:$AJ$116,H$3,0)","v":1833},7124.317919251218,null,{"$f":"VLOOKUP(D58,'c_Sources calculations'!$AB$27:$AG$30,2,0)","v":5291.317919251218},{"$f":"VLOOKUP($D58,'c_Storage calculations'!$S$112:$AJ$116,L$3,0)","v":1833},{"$f":"VLOOKUP($D58,'c_Storage calculations'!$S$112:$AJ$116,M$3,0)","v":0},7124.317919251218,null,-3995.4344636467767,0,null,-3995.4344636467767,0,0,0]
[null,24,11,4,{"$f":"'c_Demand calculations'!N60","v":3020.8889862470487},null,{"$f":"VLOOKUP(D59,'c_Sources calculations'!$U$27:$Z$30,2,0)","v":5291.317919251218},{"$f":"VLOOKUP($D59,'c_Storage calculations'!$S$112:$AJ$116,H$3,0)","v":1833},7124.317919251218,null,{"$f":"VLOOKUP(D59,'c_Sources calculations'!$AB$27:$AG$30,2,0)","v":5291.317919251218},{"$f":"VLOOKUP($D59,'c_Storage calculations'!$S$112:$AJ$116,L$3,0)","v":1833},{"$f":"VLOOKUP($D59,'c_Storage calculations'!$S$112:$AJ$116,M$3,0)","v":0},7124.317919251218,null,-4103.4289330041693,0,null,-4103.4289330041693,0,0,0]
[null,25,11,4,{"$f":"'c_Demand calculations'!N61","v":3230.7731945066039},null,{"$f":"VLOOKUP(D60,'c_Sources calculations'!$U$27:$Z$30,2,0)","v":5291.317919251218},{"$f":"VLOOKUP($D60,'c_Storage calculations'!$S$112:$AJ$116,H$3,0)","v":1833},7124.317919251218,null,{"$f":"VLOOKUP(D60,'c_Sources calculations'!$AB$27:$AG$30,2,0)","v":5291.317919251218},{"$f":"VLOOKUP($D60,'c_Storage calculations'!$S$112:$AJ$116,L$3,0)","v":1833},{"$f":"VLOOKUP($D60,'c_Storage calculations'!$S$112:$AJ$116,M$3,0)","v":0},7124.317919251218,null,-3893.5447247446141,0,null,-3893.5447247446141,0,0,0]
[null,26,11,4,{"$f":"'c_Demand calculations'!N62","v":3434.7246589473757},null,{"$f":"VLOOKUP(D61,'c_Sources calculations'!$U$27:$Z$30,2,0)","v":5291.317919251218},{"$f":"VLOOKUP($D61,'c_Storage calculations'!$S$112:$AJ$116,H$3,0)","v":1833},7124.317919251218,null,{"$f":"VLOOKUP(D61,'c_Sources calculations'!$AB$27:$AG$30,2,0)","v":5291.317919251218},{"$f":"VLOOKUP($D61,'c_Storage calculations'!$S$112:$AJ$116,L$3,0)","v":1833},{"$f":"VLOOKUP($D61,'c_Storage calculations'!$S$112:$AJ$116,M$3,0)","v":0},7124.317919251218,null,-3689.5932603038423,0,null,-3689.5932603038423,0,0,0]
[null,27,11,4,{"$f":"'c_Demand calculations'!N63","v":3592.3543608084465},null,{"$f":"VLOOKUP(D62,'c_Sources calculations'!$U$27:$Z$30,2,0)","v":5291.317919251218},{"$f":"VLOOKUP($D62,'c_Storage calculations'!$S$112:$AJ$116,H$3,0)","v":1833},7124.317919251218,null,{"$f":"VLOOKUP(D62,'c_Sources calculations'!$AB$27:$AG$30,2,0)","v":5291.317919251218},{"$f":"VLOOKUP($D62,'c_Storage calculations'!$S$112:$AJ$116,L$3,0)","v":1833},{"$f":"VLOOKUP($D62,'c_Storage calculations'!$S$112:$AJ$116,M$3,0)","v":0},7124.317919251218,null,-3531.9635584427715,0,null,-3531.9635584427715,0,0,0]
[null,28,11,4,{"$f":"'c_Demand calculations'!N64","v":3439.2279051987653},null,{"$f":"VLOOKUP(D63,'c_Sources calculations'!$U$27:$Z$30,2,0)","v":5291.317919251218},{"$f":"VLOOKUP($D63,'c_Storage calculations'!$S$112:$AJ$116,H$3,0)","v":1833},7124.317919251218,null,{"$f":"VLOOKUP(D63,'c_Sources calculations'!$AB$27:$AG$30,2,0)","v":5291.317919251218},{"$f":"VLOOKUP($D63,'c_Storage calculations'!$S$112:$AJ$116,L$3,0)","v":1833},{"$f":"VLOOKUP($D63,'c_Storage calculations'!$S$112:$AJ$116,M$3,0)","v":0},7124.317919251218,null,-3685.0900140524527,0,null,-3685.0900140524527,0,0,0]
[null,29,11,4,{"$f":"'c_Demand calculations'!N65","v":3416.9135194842847},null,{"$f":"VLOOKUP(D64,'c_Sources calculations'!$U$27:$Z$30,2,0)","v":5291.317919251218},{"$f":"VLOOKUP($D64,'c_Storage calculations'!$S$112:$AJ$116,H$3,0)","v":1833},7124.317919251218,null,{"$f":"VLOOKUP(D64,'c_Sources calculations'!$AB$27:$AG$30,2,0)","v":5291.317919251218},{"$f":"VLOOKUP($D64,'c_Storage calculations'!$S$112:$AJ$116,L$3,0)","v":1833},{"$f":"VLOOKUP($D64,'c_Storage calculations'!$S$112:$AJ$116,M$3,0)","v":0},7124.317919251218,null,-3707.4043997669332,0,null,-3707.4043997669332,0,0,0]
[null,30,11,4,{"$f":"'c_Demand calculations'!N66","v":3993.3357450843828},null,{"$f":"VLOOKUP(D65,'c_Sources calculations'!$U$27:$Z$30,2,0)","v":5291.317919251218},{"$f":"VLOOKUP($D65,'c_Storage calculations'!$S$112:$AJ$116,H$3,0)","v":1833},7124.317919251218,null,{"$f":"VLOOKUP(D65,'c_Sources calculations'!$AB$27:$AG$30,2,0)","v":5291.317919251218},{"$f":"VLOOKUP($D65,'c_Storage calculations'!$S$112:$AJ$116,L$3,0)","v":1833},{"$f":"VLOOKUP($D65,'c_Storage calculations'!$S$112:$AJ$116,M$3,0)","v":0},7124.317919251218,null,-3130.9821741668352,0,null,-3130.9821741668352,0,0,0]
[null,1,12,4,{"$f":"'c_Demand calculations'!N67","v":4180.4917856185393},null,{"$f":"VLOOKUP(D66,'c_Sources calculations'!$U$27:$Z$30,2,0)","v":5291.317919251218},{"$f":"VLOOKUP($D66,'c_Storage calculations'!$S$112:$AJ$116,H$3,0)","v":1833},7124.317919251218,null,{"$f":"VLOOKUP(D66,'c_Sources calculations'!$AB$27:$AG$30,2,0)","v":5291.317919251218},{"$f":"VLOOKUP($D66,'c_Storage calculations'!$S$112:$AJ$116,L$3,0)","v":1833},{"$f":"VLOOKUP($D66,'c_Storage calculations'!$S$112:$AJ$116,M$3,0)","v":0},7124.317919251218,null,-2943.8261336326786,0,null,-2943.8261336326786,0,0,0]
[null,2,12,4,{"$f":"'c_Demand calculations'!N68","v":3610.4599845179168},null,{"$f":"VLOOKUP(D67,'c_Sources calculations'!$U$27:$Z$30,2,0)","v":5291.317919251218},{"$f":"VLOOKUP($D67,'c_Storage calculations'!$S$112:$AJ$116,H$3,0)","v":1833},7124.317919251218,null,{"$f":"VLOOKUP(D67,'c_Sources calculations'!$AB$27:$AG$30,2,0)","v":5291.317919251218},{"$f":"VLOOKUP($D67,'c_Storage calculations'!$S$112:$AJ$116,L$3,0)","v":1833},{"$f":"VLOOKUP($D67,'c_Storage calculations'!$S$112:$AJ$116,M$3,0)","v":0},7124.317919251218,null,-3513.8579347333011,0,null,-3513.8579347333011,0,0,0]
[null,3,12,4,{"$f":"'c_Demand calculations'!N69","v":3748.3663638269577},null,{"$f":"VLOOKUP(D68,'c_Sources calculations'!$U$27:$Z$30,2,0)","v":5291.317919251218},{"$f":"VLOOKUP($D68,'c_Storage calculations'!$S$112:$AJ$116,H$3,0)","v":1833},7124.317919251218,null,{"$f":"VLOOKUP(D68,'c_Sources calculations'!$AB$27:$AG$30,2,0)","v":5291.317919251218},{"$f":"VLOOKUP($D68,'c_Storage calculations'!$S$112:$AJ$116,L$3,0)","v":1833},{"$f":"VLOOKUP($D68,'c_Storage calculations'!$S$112:$AJ$116,M$3,0)","v":0},7124.317919251218,null,-3375.9515554242603,0,null,-3375.9515554242603,0,0,0]
[null,4,12,4,{"$f":"'c_Demand calculations'!N70","v":3835.8381509193055},null,{"$f":"VLOOKUP(D69,'c_Sources calculations'!$U$27:$Z$30,2,0)","v":5291.317919251218},{"$f":"VLOOKUP($D69,'c_Storage calculations'!$S$112:$AJ$116,H$3,0)","v":1833},7124.317919251218,null,{"$f":"VLOOKUP(D69,'c_Sources calculations'!$AB$27:$AG$30,2,0)","v":5291.317919251218},{"$f":"VLOOKUP($D69,'c_Storage calculations'!$S$112:$AJ$116,L$3,0)","v":1833},{"$f":"VLOOKUP($D69,'c_Storage calculations'!$S$112:$AJ$116,M$3,0)","v":0},7124.317919251218,null,{"$f":"E69-I69","v":-3288.4797683319125},0,null,{"$f":"E69-N69","v":-3288.4797683319125},0,0,{"$f":"T69*E69","v":0}]
[null,5,12,{"$f":"IF(C70<=3,1,IF(C70<=6,2,IF(C70<=9,3,4)))","v":4},{"$f":"'c_Demand calculations'!N71","v":3271.751506639192},null,{"$f":"VLOOKUP(D70,'c_Sources calculations'!$U$27:$Z$30,2,0)","v":5291.317919251218},{"$f":"VLOOKUP($D70,'c_Storage calculations'!$S$112:$AJ$116,H$3,0)","v":1833},{"$f":"SUM(G70:H70)","v":7124.317919251218},null,{"$f":"VLOOKUP(D70,'c_Sources calculations'!$AB$27:$AG$30,2,0)","v":5291.317919251218},{"$f":"VLOOKUP($D70,'c_Storage calculations'!$S$112:$AJ$116,L$3,0)","v":1833},{"$f":"VLOOKUP($D70,'c_Storage calculations'!$S$112:$AJ$116,M$3,0)","v":0},{"$f":"SUM(K70:L70)-M70","v":7124.317919251218},null,-3852.5664126120259,{"$f":"IF(P70>0,1,0)","v":0},null,-3852.5664126120259,{"$f":"IF(S70>0,1,0)","v":0},{"$f":"T70*S70","v":0},0]
[null,6,12,4,{"$f":"'c_Demand calculations'!N72","v":3144.790357221922},null,{"$f":"VLOOKUP(D71,'c_Sources calculations'!$U$27:$Z$30,2,0)","v":5291.317919251218},{"$f":"VLOOKUP($D71,'c_Storage calculations'!$S$112:$AJ$116,H$3,0)","v":1833},7124.317919251218,null,{"$f":"VLOOKUP(D71,'c_Sources calculations'!$AB$27:$AG$30,2,0)","v":5291.317919251218},{"$f":"VLOOKUP($D71,'c_Storage calculations'!$S$112:$AJ$116,L$3,0)","v":1833},{"$f":"VLOOKUP($D71,'c_Storage calculations'!$S$112:$AJ$116,M$3,0)","v":0},7124.317919251218,null,-3979.527562029296,0,null,-3979.527562029296,0,0,0]
[null,7,12,4,{"$f":"'c_Demand calculations'!N73","v":3554.9751697288548},null,{"$f":"VLOOKUP(D72,'c_Sources calculations'!$U$27:$Z$30,2,0)","v":5291.317919251218},{"$f":"VLOOKUP($D72,'c_Storage calculations'!$S$112:$AJ$116,H$3,0)","v":1833},7124.317919251218,null,{"$f":"VLOOKUP(D72,'c_Sources calculations'!$AB$27:$AG$30,2,0)","v":5291.317919251218},{"$f":"VLOOKUP($D72,'c_Storage calculations'!$S$112:$AJ$116,L$3,0)","v":1833},{"$f":"VLOOKUP($D72,'c_Storage calculations'!$S$112:$AJ$116,M$3,0)","v":0},7124.317919251218,null,-3569.3427495223632,0,null,-3569.3427495223632,0,0,0]
[null,8,12,4,{"$f":"'c_Demand calculations'!N74","v":3451.3907031684735},null,{"$f":"VLOOKUP(D73,'c_Sources calculations'!$U$27:$Z$30,2,0)","v":5291.317919251218},{"$f":"VLOOKUP($D73,'c_Storage calculations'!$S$112:$AJ$116,H$3,0)","v":1833},7124.317919251218,null,{"$f":"VLOOKUP(D73,'c_Sources calculations'!$AB$27:$AG$30,2,0)","v":5291.317919251218},{"$f":"VLOOKUP($D73,'c_Storage calculations'!$S$112:$AJ$116,L$3,0)","v":1833},{"$f":"VLOOKUP($D73,'c_Storage calculations'!$S$112:$AJ$116,M$3,0)","v":0},7124.317919251218,null,-3672.9272160827445,0,null,-3672.9272160827445,0,0,0]
[null,9,12,4,{"$f":"'c_Demand calculations'!N75","v":3211.2348899560607},null,{"$f":"VLOOKUP(D74,'c_Sources calculations'!$U$27:$Z$30,2,0)","v":5291.317919251218},{"$f":"VLOOKUP($D74,'c_Storage calculations'!$S$112:$AJ$116,H$3,0)","v":1833},7124.317919251218,null,{"$f":"VLOOKUP(D74,'c_Sources calculations'!$AB$27:$AG$30,2,0)","v":5291.317919251218},{"$f":"VLOOKUP($D74,'c_Storage calculations'!$S$112:$AJ$116,L$3,0)","v":1833},{"$f":"VLOOKUP($D74,'c_Storage calculations'!$S$112:$AJ$116,M$3,0)","v":0},7124.317919251218,null,-3913.0830292951573,0,null,-3913.0830292951573,0,0,0]
[null,10,12,4,{"$f":"'c_Demand calculations'!N76","v":3510.9446583198978},null,{"$f":"VLOOKUP(D75,'c_Sources calculations'!$U$27:$Z$30,2,0)","v":5291.317919251218},{"$f":"VLOOKUP($D75,'c_Storage calculations'!$S$112:$AJ$116,H$3,0)","v":1833},7124.317919251218,null,{"$f":"VLOOKUP(D75,'c_Sources calculations'!$AB$27:$AG$30,2,0)","v":5291.317919251218},{"$f":"VLOOKUP($D75,'c_Storage calculations'!$S$112:$AJ$116,L$3,0)","v":1833},{"$f":"VLOOKUP($D75,'c_Storage calculations'!$S$112:$AJ$116,M$3,0)","v":0},7124.317919251218,null,-3613.3732609313201,0,null,-3613.3732609313201,0,0,0]
[null,11,12,4,{"$f":"'c_Demand calculations'!N77","v":3918.2829344188926},null,{"$f":"VLOOKUP(D76,'c_Sources calculations'!$U$27:$Z$30,2,0)","v":5291.317919251218},{"$f":"VLOOKUP($D76,'c_Storage calculations'!$S$112:$AJ$116,H$3,0)","v":1833},7124.317919251218,null,{"$f":"VLOOKUP(D76,'c_Sources calculations'!$AB$27:$AG$30,2,0)","v":5291.317919251218},{"$f":"VLOOKUP($D76,'c_Storage calculations'!$S$112:$AJ$116,L$3,0)","v":1833},{"$f":"VLOOKUP($D76,'c_Storage calculations'!$S$112:$AJ$116,M$3,0)","v":0},7124.317919251218,null,-3206.0349848323253,0,null,-3206.0349848323253,0,0,0]
[null,12,12,4,{"$f":"'c_Demand calculations'!N78","v":3593.3842468411485},null,{"$f":"VLOOKUP(D77,'c_Sources calculations'!$U$27:$Z$30,2,0)","v":5291.317919251218},{"$f":"VLOOKUP($D77,'c_Storage calculations'!$S$112:$AJ$116,H$3,0)","v":1833},7124.317919251218,null,{"$f":"VLOOKUP(D77,'c_Sources calculations'!$AB$27:$AG$30,2,0)","v":5291.317919251218},{"$f":"VLOOKUP($D77,'c_Storage calculations'!$S$112:$AJ$116,L$3,0)","v":1833},{"$f":"VLOOKUP($D77,'c_Storage calculations'!$S$112:$AJ$116,M$3,0)","v":0},7124.317919251218,null,-3530.9336724100694,0,null,-3530.9336724100694,0,0,0]
[null,13,12,4,{"$f":"'c_Demand calculations'!N79","v":3763.627952868439},null,{"$f":"VLOOKUP(D78,'c_Sources calculations'!$U$27:$Z$30,2,0)","v":5291.317919251218},{"$f":"VLOOKUP($D78,'c_Storage calculations'!$S$112:$AJ$116,H$3,0)","v":1833},7124.317919251218,null,{"$f":"VLOOKUP(D78,'c_Sources calculations'!$AB$27:$AG$30,2,0)","v":5291.317919251218},{"$f":"VLOOKUP($D78,'c_Storage calculations'!$S$112:$AJ$116,L$3,0)","v":1833},{"$f":"VLOOKUP($D78,'c_Storage calculations'!$S$112:$AJ$116,M$3,0)","v":0},7124.317919251218,null,-3360.6899663827789,0,null,-3360.6899663827789,0,0,0]
[null,14,12,4,{"$f":"'c_Demand calculations'!N80","v":4004.7478195394792},null,{"$f":"VLOOKUP(D79,'c_Sources calculations'!$U$27:$Z$30,2,0)","v":5291.317919251218},{"$f":"VLOOKUP($D79,'c_Storage calculations'!$S$112:$AJ$116,H$3,0)","v":1833},7124.317919251218,null,{"$f":"VLOOKUP(D79,'c_Sources calculations'!$AB$27:$AG$30,2,0)","v":5291.317919251218},{"$f":"VLOOKUP($D79,'c_Storage calculations'!$S$112:$AJ$116,L$3,0)","v":1833},{"$f":"VLOOKUP($D79,'c_Storage calculations'!$S$112:$AJ$116,M$3,0)","v":0},7124.317919251218,null,-3119.5700997117387,0,null,-3119.5700997117387,0,0,0]
[null,15,12,4,{"$f":"'c_Demand calculations'!N81","v":4088.8248188003349},null,{"$f":"VLOOKUP(D80,'c_Sources calculations'!$U$27:$Z$30,2,0)","v":5291.317919251218},{"$f":"VLOOKUP($D80,'c_Storage calculations'!$S$112:$AJ$116,H$3,0)","v":1833},7124.317919251218,null,{"$f":"VLOOKUP(D80,'c_Sources calculations'!$AB$27:$AG$30,2,0)","v":5291.317919251218},{"$f":"VLOOKUP($D80,'c_Storage calculations'!$S$112:$AJ$116,L$3,0)","v":1833},{"$f":"VLOOKUP($D80,'c_Storage calculations'!$S$112:$AJ$116,M$3,0)","v":0},7124.317919251218,null,-3035.493100450883,0,null,-3035.493100450883,0,0,0]
[null,16,12,4,{"$f":"'c_Demand calculations'!N82","v":4213.069343935751},null,{"$f":"VLOOKUP(D81,'c_Sources calculations'!$U$27:$Z$30,2,0)","v":5291.317919251218},{"$f":"VLOOKUP($D81,'c_Storage calculations'!$S$112:$AJ$116,H$3,0)","v":1833},7124.317919251218,null,{"$f":"VLOOKUP(D81,'c_Sources calculations'!$AB$27:$AG$30,2,0)","v":5291.317919251218},{"$f":"VLOOKUP($D81,'c_Storage calculations'!$S$112:$AJ$116,L$3,0)","v":1833},{"$f":"VLOOKUP($D81,'c_Storage calculations'!$S$112:$AJ$116,M$3,0)","v":0},7124.317919251218,null,-2911.248575315467,0,null,-2911.248575315467,0,0,0]
[null,17,12,4,{"$f":"'c_Demand calculations'!N83","v":4533.0497159923416},null,{"$f":"VLOOKUP(D82,'c_Sources calculations'!$U$27:$Z$30,2,0)","v":5291.317919251218},{"$f":"VLOOKUP($D82,'c_Storage calculations'!$S$112:$AJ$116,H$3,0)","v":1833},7124.317919251218,null,{"$f":"VLOOKUP(D82,'c_Sources calculations'!$AB$27:$AG$30,2,0)","v":5291.317919251218},{"$f":"VLOOKUP($D82,'c_Storage calculations'!$S$112:$AJ$116,L$3,0)","v":1833},{"$f":"VLOOKUP($D82,'c_Storage calculations'!$S$112:$AJ$116,M$3,0)","v":0},7124.317919251218,null,-2591.2682032588764,0,null,-2591.2682032588764,0,0,0]
[null,18,12,4,{"$f":"'c_Demand calculations'!N84","v":4896.1110225187003},null,{"$f":"VLOOKUP(D83,'c_Sources calculations'!$U$27:$Z$30,2,0)","v":5291.317919251218},{"$f":"VLOOKUP($D83,'c_Storage calculations'!$S$112:$AJ$116,H$3,0)","v":1833},7124.317919251218,null,{"$f":"VLOOKUP(D83,'c_Sources calculations'!$AB$27:$AG$30,2,0)","v":5291.317919251218},{"$f":"VLOOKUP($D83,'c_Storage calculations'!$S$112:$AJ$116,L$3,0)","v":1833},{"$f":"VLOOKUP($D83,'c_Storage calculations'!$S$112:$AJ$116,M$3,0)","v":0},7124.317919251218,null,-2228.2068967325176,0,null,-2228.2068967325176,0,0,0]
[null,19,12,4,{"$f":"'c_Demand calculations'!N85","v":4603.646215129922},null,{"$f":"VLOOKUP(D84,'c_Sources calculations'!$U$27:$Z$30,2,0)","v":5291.317919251218},{"$f":"VLOOKUP($D84,'c_Storage calculations'!$S$112:$AJ$116,H$3,0)","v":1833},7124.317919251218,null,{"$f":"VLOOKUP(D84,'c_Sources calculations'!$AB$27:$AG$30,2,0)","v":5291.317919251218},{"$f":"VLOOKUP($D84,'c_Storage calculations'!$S$112:$AJ$116,L$3,0)","v":1833},{"$f":"VLOOKUP($D84,'c_Storage calculations'!$S$112:$AJ$116,M$3,0)","v":0},7124.317919251218,null,-2520.671704121296,0,null,-2520.671704121296,0,0,0]
[null,20,12,4,{"$f":"'c_Demand calculations'!N86","v":4485.6416285193991},null,{"$f":"VLOOKUP(D85,'c_Sources calculations'!$U$27:$Z$30,2,0)","v":5291.317919251218},{"$f":"VLOOKUP($D85,'c_Storage calculations'!$S$112:$AJ$116,H$3,0)","v":1833},7124.317919251218,null,{"$f":"VLOOKUP(D85,'c_Sources calculations'!$AB$27:$AG$30,2,0)","v":5291.317919251218},{"$f":"VLOOKUP($D85,'c_Storage calculations'!$S$112:$AJ$116,L$3,0)","v":1833},{"$f":"VLOOKUP($D85,'c_Storage calculations'!$S$112:$AJ$116,M$3,0)","v":0},7124.317919251218,null,-2638.6762907318189,0,null,-2638.6762907318189,0,0,0]
[null,21,12,4,{"$f":"'c_Demand calculations'!N87","v":4638.0661629779261},null,{"$f":"VLOOKUP(D86,'c_Sources calculations'!$U$27:$Z$30,2,0)","v":5291.317919251218},{"$f":"VLOOKUP($D86,'c_Storage calculations'!$S$112:$AJ$116,H$3,0)","v":1833},7124.317919251218,null,{"$f":"VLOOKUP(D86,'c_Sources calculations'!$AB$27:$AG$30,2,0)","v":5291.317919251218},{"$f":"VLOOKUP($D86,'c_Storage calculations'!$S$112:$AJ$116,L$3,0)","v":1833},{"$f":"VLOOKUP($D86,'c_Storage calculations'!$S$112:$AJ$116,M$3,0)","v":0},7124.317919251218,null,-2486.2517562732919,0,null,-2486.2517562732919,0,0,0]
[null,22,12,4,{"$f":"'c_Demand calculations'!N88","v":4517.984662308404},null,{"$f":"VLOOKUP(D87,'c_Sources calculations'!$U$27:$Z$30,2,0)","v":5291.317919251218},{"$f":"VLOOKUP($D87,'c_Storage calculations'!$S$112:$AJ$116,H$3,0)","v":1833},7124.317919251218,null,{"$f":"VLOOKUP(D87,'c_Sources calculations'!$AB$27:$AG$30,2,0)","v":5291.317919251218},{"$f":"VLOOKUP($D87,'c_Storage calculations'!$S$112:$AJ$116,L$3,0)","v":1833},{"$f":"VLOOKUP($D87,'c_Storage calculations'!$S$112:$AJ$116,M$3,0)","v":0},7124.317919251218,null,-2606.3332569428139,0,null,-2606.3332569428139,0,0,0]
[null,23,12,4,{"$f":"'c_Demand calculations'!N89","v":4433.8531093845759},null,{"$f":"VLOOKUP(D88,'c_Sources calculations'!$U$27:$Z$30,2,0)","v":5291.317919251218},{"$f":"VLOOKUP($D88,'c_Storage calculations'!$S$112:$AJ$116,H$3,0)","v":1833},7124.317919251218,null,{"$f":"VLOOKUP(D88,'c_Sources calculations'!$AB$27:$AG$30,2,0)","v":5291.317919251218},{"$f":"VLOOKUP($D88,'c_Storage calculations'!$S$112:$AJ$116,L$3,0)","v":1833},{"$f":"VLOOKUP($D88,'c_Storage calculations'!$S$112:$AJ$116,M$3,0)","v":0},7124.317919251218,null,-2690.4648098666421,0,null,-2690.4648098666421,0,0,0]
[null,24,12,4,{"$f":"'c_Demand calculations'!N90","v":4088.3650316561461},null,{"$f":"VLOOKUP(D89,'c_Sources calculations'!$U$27:$Z$30,2,0)","v":5291.317919251218},{"$f":"VLOOKUP($D89,'c_Storage calculations'!$S$112:$AJ$116,H$3,0)","v":1833},7124.317919251218,null,{"$f":"VLOOKUP(D89,'c_Sources calculations'!$AB$27:$AG$30,2,0)","v":5291.317919251218},{"$f":"VLOOKUP($D89,'c_Storage calculations'!$S$112:$AJ$116,L$3,0)","v":1833},{"$f":"VLOOKUP($D89,'c_Storage calculations'!$S$112:$AJ$116,M$3,0)","v":0},7124.317919251218,null,-3035.9528875950718,0,null,-3035.9528875950718,0,0,0]
[null,25,12,4,{"$f":"'c_Demand calculations'!N91","v":3635.0519313051591},null,{"$f":"VLOOKUP(D90,'c_Sources calculations'!$U$27:$Z$30,2,0)","v":5291.317919251218},{"$f":"VLOOKUP($D90,'c_Storage calculations'!$S$112:$AJ$116,H$3,0)","v":1833},7124.317919251218,null,{"$f":"VLOOKUP(D90,'c_Sources calculations'!$AB$27:$AG$30,2,0)","v":5291.317919251218},{"$f":"VLOOKUP($D90,'c_Storage calculations'!$S$112:$AJ$116,L$3,0)","v":1833},{"$f":"VLOOKUP($D90,'c_Storage calculations'!$S$112:$AJ$116,M$3,0)","v":0},7124.317919251218,null,-3489.2659879460589,0,null,-3489.2659879460589,0,0,0]
[null,26,12,4,{"$f":"'c_Demand calculations'!N92","v":3298.5681602826667},null,{"$f":"VLOOKUP(D91,'c_Sources calculations'!$U$27:$Z$30,2,0)","v":5291.317919251218},{"$f":"VLOOKUP($D91,'c_Storage calculations'!$S$112:$AJ$116,H$3,0)","v":1833},7124.317919251218,null,{"$f":"VLOOKUP(D91,'c_Sources calculations'!$AB$27:$AG$30,2,0)","v":5291.317919251218},{"$f":"VLOOKUP($D91,'c_Storage calculations'!$S$112:$AJ$116,L$3,0)","v":1833},{"$f":"VLOOKUP($D91,'c_Storage calculations'!$S$112:$AJ$116,M$3,0)","v":0},7124.317919251218,null,-3825.7497589685513,0,null,-3825.7497589685513,0,0,0]
[null,27,12,4,{"$f":"'c_Demand calculations'!N93","v":3611.1680594763961},null,{"$f":"VLOOKUP(D92,'c_Sources calculations'!$U$27:$Z$30,2,0)","v":5291.317919251218},{"$f":"VLOOKUP($D92,'c_Storage calculations'!$S$112:$AJ$116,H$3,0)","v":1833},7124.317919251218,null,{"$f":"VLOOKUP(D92,'c_Sources calculations'!$AB$27:$AG$30,2,0)","v":5291.317919251218},{"$f":"VLOOKUP($D92,'c_Storage calculations'!$S$112:$AJ$116,L$3,0)","v":1833},{"$f":"VLOOKUP($D92,'c_Storage calculations'!$S$112:$AJ$116,M$3,0)","v":0},7124.317919251218,null,-3513.1498597748218,0,null,-3513.1498597748218,0,0,0]
[null,28,12,4,{"$f":"'c_Demand calculations'!N94","v":3983.0116831465089},null,{"$f":"VLOOKUP(D93,'c_Sources calculations'!$U$27:$Z$30,2,0)","v":5291.317919251218},{"$f":"VLOOKUP($D93,'c_Storage calculations'!$S$112:$AJ$116,H$3,0)","v":1833},7124.317919251218,null,{"$f":"VLOOKUP(D93,'c_Sources calculations'!$AB$27:$AG$30,2,0)","v":5291.317919251218},{"$f":"VLOOKUP($D93,'c_Storage calculations'!$S$112:$AJ$116,L$3,0)","v":1833},{"$f":"VLOOKUP($D93,'c_Storage calculations'!$S$112:$AJ$116,M$3,0)","v":0},7124.317919251218,null,-3141.3062361047091,0,null,-3141.3062361047091,0,0,0]
[null,29,12,4,{"$f":"'c_Demand calculations'!N95","v":4078.9037736333817},null,{"$f":"VLOOKUP(D94,'c_Sources calculations'!$U$27:$Z$30,2,0)","v":5291.317919251218},{"$f":"VLOOKUP($D94,'c_Storage calculations'!$S$112:$AJ$116,H$3,0)","v":1833},7124.317919251218,null,{"$f":"VLOOKUP(D94,'c_Sources calculations'!$AB$27:$AG$30,2,0)","v":5291.317919251218},{"$f":"VLOOKUP($D94,'c_Storage calculations'!$S$112:$AJ$116,L$3,0)","v":1833},{"$f":"VLOOKUP($D94,'c_Storage calculations'!$S$112:$AJ$116,M$3,0)","v":0},7124.317919251218,null,-3045.4141456178363,0,null,-3045.4141456178363,0,0,0]
[null,30,12,4,{"$f":"'c_Demand calculations'!N96","v":3944.1158220086995},null,{"$f":"VLOOKUP(D95,'c_Sources calculations'!$U$27:$Z$30,2,0)","v":5291.317919251218},{"$f":"VLOOKUP($D95,'c_Storage calculations'!$S$112:$AJ$116,H$3,0)","v":1833},7124.317919251218,null,{"$f":"VLOOKUP(D95,'c_Sources calculations'!$AB$27:$AG$30,2,0)","v":5291.317919251218},{"$f":"VLOOKUP($D95,'c_Storage calculations'!$S$112:$AJ$116,L$3,0)","v":1833},{"$f":"VLOOKUP($D95,'c_Storage calculations'!$S$112:$AJ$116,M$3,0)","v":0},7124.317919251218,null,-3180.2020972425184,0,null,-3180.2020972425184,0,0,0]
[null,31,12,4,{"$f":"'c_Demand calculations'!N97","v":4269.4815400182033},null,{"$f":"VLOOKUP(D96,'c_Sources calculations'!$U$27:$Z$30,2,0)","v":5291.317919251218},{"$f":"VLOOKUP($D96,'c_Storage calculations'!$S$112:$AJ$116,H$3,0)","v":1833},7124.317919251218,null,{"$f":"VLOOKUP(D96,'c_Sources calculations'!$AB$27:$AG$30,2,0)","v":5291.317919251218},{"$f":"VLOOKUP($D96,'c_Storage calculations'!$S$112:$AJ$116,L$3,0)","v":1833},{"$f":"VLOOKUP($D96,'c_Storage calculations'!$S$112:$AJ$116,M$3,0)","v":0},7124.317919251218,null,-2854.8363792330147,0,null,-2854.8363792330147,0,0,0]
[null,1,1,1,{"$f":"'c_Demand calculations'!N98","v":4077.3488741395436},null,{"$f":"VLOOKUP(D97,'c_Sources calculations'!$U$27:$Z$30,2,0)","v":5291.317919251218},{"$f":"VLOOKUP($D97,'c_Storage calculations'!$S$112:$AJ$116,H$3,0)","v":1833},7124.317919251218,null,{"$f":"VLOOKUP(D97,'c_Sources calculations'!$AB$27:$AG$30,2,0)","v":5291.317919251218},{"$f":"VLOOKUP($D97,'c_Storage calculations'!$S$112:$AJ$116,L$3,0)","v":1833},{"$f":"VLOOKUP($D97,'c_Storage calculations'!$S$112:$AJ$116,M$3,0)","v":0},7124.317919251218,null,-3046.9690451116744,0,null,-3046.9690451116744,0,0,0]
[null,2,1,1,{"$f":"'c_Demand calculations'!N99","v":4215.9659323012174},null,{"$f":"VLOOKUP(D98,'c_Sources calculations'!$U$27:$Z$30,2,0)","v":5291.317919251218},{"$f":"VLOOKUP($D98,'c_Storage calculations'!$S$112:$AJ$116,H$3,0)","v":1833},7124.317919251218,null,{"$f":"VLOOKUP(D98,'c_Sources calculations'!$AB$27:$AG$30,2,0)","v":5291.317919251218},{"$f":"VLOOKUP($D98,'c_Storage calculations'!$S$112:$AJ$116,L$3,0)","v":1833},{"$f":"VLOOKUP($D98,'c_Storage calculations'!$S$112:$AJ$116,M$3,0)","v":0},7124.317919251218,null,-2908.3519869500005,0,null,-2908.3519869500005,0,0,0]
[null,3,1,1,{"$f":"'c_Demand calculations'!N100","v":4357.4562607888201},null,{"$f":"VLOOKUP(D99,'c_Sources calculations'!$U$27:$Z$30,2,0)","v":5291.317919251218},{"$f":"VLOOKUP($D99,'c_Storage calculations'!$S$112:$AJ$116,H$3,0)","v":1833},7124.317919251218,null,{"$f":"VLOOKUP(D99,'c_Sources calculations'!$AB$27:$AG$30,2,0)","v":5291.317919251218},{"$f":"VLOOKUP($D99,'c_Storage calculations'!$S$112:$AJ$116,L$3,0)","v":1833},{"$f":"VLOOKUP($D99,'c_Storage calculations'!$S$112:$AJ$116,M$3,0)","v":0},7124.317919251218,null,-2766.8616584623978,0,null,-2766.8616584623978,0,0,0]
[null,4,1,1,{"$f":"'c_Demand calculations'!N101","v":4850.1675498290469},null,{"$f":"VLOOKUP(D100,'c_Sources calculations'!$U$27:$Z$30,2,0)","v":5291.317919251218},{"$f":"VLOOKUP($D100,'c_Storage calculations'!$S$112:$AJ$116,H$3,0)","v":1833},7124.317919251218,null,{"$f":"VLOOKUP(D100,'c_Sources calculations'!$AB$27:$AG$30,2,0)","v":5291.317919251218},{"$f":"VLOOKUP($D100,'c_Storage calculations'!$S$112:$AJ$116,L$3,0)","v":1833},{"$f":"VLOOKUP($D100,'c_Storage calculations'!$S$112:$AJ$116,M$3,0)","v":0},7124.317919251218,null,-2274.150369422171,0,null,-2274.150369422171,0,0,0]
[null,5,1,1,{"$f":"'c_Demand calculations'!N102","v":4850.5819463043526},null,{"$f":"VLOOKUP(D101,'c_Sources calculations'!$U$27:$Z$30,2,0)","v":5291.317919251218},{"$f":"VLOOKUP($D101,'c_Storage calculations'!$S$112:$AJ$116,H$3,0)","v":1833},7124.317919251218,null,{"$f":"VLOOKUP(D101,'c_Sources calculations'!$AB$27:$AG$30,2,0)","v":5291.317919251218},{"$f":"VLOOKUP($D101,'c_Storage calculations'!$S$112:$AJ$116,L$3,0)","v":1833},{"$f":"VLOOKUP($D101,'c_Storage calculations'!$S$112:$AJ$116,M$3,0)","v":0},7124.317919251218,null,-2273.7359729468653,0,null,-2273.7359729468653,0,0,0]
[null,6,1,1,{"$f":"'c_Demand calculations'!N103","v":4937.4951279946026},null,{"$f":"VLOOKUP(D102,'c_Sources calculations'!$U$27:$Z$30,2,0)","v":5291.317919251218},{"$f":"VLOOKUP($D102,'c_Storage calculations'!$S$112:$AJ$116,H$3,0)","v":1833},7124.317919251218,null,{"$f":"VLOOKUP(D102,'c_Sources calculations'!$AB$27:$AG$30,2,0)","v":5291.317919251218},{"$f":"VLOOKUP($D102,'c_Storage calculations'!$S$112:$AJ$116,L$3,0)","v":1833},{"$f":"VLOOKUP($D102,'c_Storage calculations'!$S$112:$AJ$116,M$3,0)","v":0},7124.317919251218,null,-2186.8227912566153,0,null,-2186.8227912566153,0,0,0]
[null,7,1,1,{"$f":"'c_Demand calculations'!N104","v":5056.0013665312536},null,{"$f":"VLOOKUP(D103,'c_Sources calculations'!$U$27:$Z$30,2,0)","v":5291.317919251218},{"$f":"VLOOKUP($D103,'c_Storage calculations'!$S$112:$AJ$116,H$3,0)","v":1833},7124.317919251218,null,{"$f":"VLOOKUP(D103,'c_Sources calculations'!$AB$27:$AG$30,2,0)","v":5291.317919251218},{"$f":"VLOOKUP($D103,'c_Storage calculations'!$S$112:$AJ$116,L$3,0)","v":1833},{"$f":"VLOOKUP($D103,'c_Storage calculations'!$S$112:$AJ$116,M$3,0)","v":0},7124.317919251218,null,-2068.3165527199644,0,null,-2068.3165527199644,0,0,0]
[null,8,1,1,{"$f":"'c_Demand calculations'!N105","v":5190.5510256807474},null,{"$f":"VLOOKUP(D104,'c_Sources calculations'!$U$27:$Z$30,2,0)","v":5291.317919251218},{"$f":"VLOOKUP($D104,'c_Storage calculations'!$S$112:$AJ$116,H$3,0)","v":1833},7124.317919251218,null,{"$f":"VLOOKUP(D104,'c_Sources calculations'!$AB$27:$AG$30,2,0)","v":5291.317919251218},{"$f":"VLOOKUP($D104,'c_Storage calculations'!$S$112:$AJ$116,L$3,0)","v":1833},{"$f":"VLOOKUP($D104,'c_Storage calculations'!$S$112:$AJ$116,M$3,0)","v":0},7124.317919251218,null,-1933.7668935704705,0,null,-1933.7668935704705,0,0,0]
[null,9,1,1,{"$f":"'c_Demand calculations'!N106","v":4825.7319888814454},null,{"$f":"VLOOKUP(D105,'c_Sources calculations'!$U$27:$Z$30,2,0)","v":5291.317919251218},{"$f":"VLOOKUP($D105,'c_Storage calculations'!$S$112:$AJ$116,H$3,0)","v":1833},7124.317919251218,null,{"$f":"VLOOKUP(D105,'c_Sources calculations'!$AB$27:$AG$30,2,0)","v":5291.317919251218},{"$f":"VLOOKUP($D105,'c_Storage calculations'!$S$112:$AJ$116,L$3,0)","v":1833},{"$f":"VLOOKUP($D105,'c_Storage calculations'!$S$112:$AJ$116,M$3,0)","v":0},7124.317919251218,null,-2298.5859303697725,0,null,-2298.5859303697725,0,0,0]
[null,10,1,1,{"$f":"'c_Demand calculations'!N107","v":4513.978475727029},null,{"$f":"VLOOKUP(D106,'c_Sources calculations'!$U$27:$Z$30,2,0)","v":5291.317919251218},{"$f":"VLOOKUP($D106,'c_Storage calculations'!$S$112:$AJ$116,H$3,0)","v":1833},7124.317919251218,null,{"$f":"VLOOKUP(D106,'c_Sources calculations'!$AB$27:$AG$30,2,0)","v":5291.317919251218},{"$f":"VLOOKUP($D106,'c_Storage calculations'!$S$112:$AJ$116,L$3,0)","v":1833},{"$f":"VLOOKUP($D106,'c_Storage calculations'!$S$112:$AJ$116,M$3,0)","v":0},7124.317919251218,null,-2610.3394435241889,0,null,-2610.3394435241889,0,0,0]
[null,11,1,1,{"$f":"'c_Demand calculations'!N108","v":4691.3184598947864},null,{"$f":"VLOOKUP(D107,'c_Sources calculations'!$U$27:$Z$30,2,0)","v":5291.317919251218},{"$f":"VLOOKUP($D107,'c_Storage calculations'!$S$112:$AJ$116,H$3,0)","v":1833},7124.317919251218,null,{"$f":"VLOOKUP(D107,'c_Sources calculations'!$AB$27:$AG$30,2,0)","v":5291.317919251218},{"$f":"VLOOKUP($D107,'c_Storage calculations'!$S$112:$AJ$116,L$3,0)","v":1833},{"$f":"VLOOKUP($D107,'c_Storage calculations'!$S$112:$AJ$116,M$3,0)","v":0},7124.317919251218,null,-2432.9994593564315,0,null,-2432.9994593564315,0,0,0]
[null,12,1,1,{"$f":"'c_Demand calculations'!N109","v":4747.0298167165975},null,{"$f":"VLOOKUP(D108,'c_Sources calculations'!$U$27:$Z$30,2,0)","v":5291.317919251218},{"$f":"VLOOKUP($D108,'c_Storage calculations'!$S$112:$AJ$116,H$3,0)","v":1833},7124.317919251218,null,{"$f":"VLOOKUP(D108,'c_Sources calculations'!$AB$27:$AG$30,2,0)","v":5291.317919251218},{"$f":"VLOOKUP($D108,'c_Storage calculations'!$S$112:$AJ$116,L$3,0)","v":1833},{"$f":"VLOOKUP($D108,'c_Storage calculations'!$S$112:$AJ$116,M$3,0)","v":0},7124.317919251218,null,-2377.2881025346205,0,null,-2377.2881025346205,0,0,0]
[null,13,1,1,{"$f":"'c_Demand calculations'!N110","v":4819.4674661069739},null,{"$f":"VLOOKUP(D109,'c_Sources calculations'!$U$27:$Z$30,2,0)","v":5291.317919251218},{"$f":"VLOOKUP($D109,'c_Storage calculations'!$S$112:$AJ$116,H$3,0)","v":1833},7124.317919251218,null,{"$f":"VLOOKUP(D109,'c_Sources calculations'!$AB$27:$AG$30,2,0)","v":5291.317919251218},{"$f":"VLOOKUP($D109,'c_Storage calculations'!$S$112:$AJ$116,L$3,0)","v":1833},{"$f":"VLOOKUP($D109,'c_Storage calculations'!$S$112:$AJ$116,M$3,0)","v":0},7124.317919251218,null,-2304.8504531442441,0,null,-2304.8504531442441,0,0,0]
[null,14,1,1,{"$f":"'c_Demand calculations'!N111","v":4578.9233275313545},null,{"$f":"VLOOKUP(D110,'c_Sources calculations'!$U$27:$Z$30,2,0)","v":5291.317919251218},{"$f":"VLOOKUP($D110,'c_Storage calculations'!$S$112:$AJ$116,H$3,0)","v":1833},7124.317919251218,null,{"$f":"VLOOKUP(D110,'c_Sources calculations'!$AB$27:$AG$30,2,0)","v":5291.317919251218},{"$f":"VLOOKUP($D110,'c_Storage calculations'!$S$112:$AJ$116,L$3,0)","v":1833},{"$f":"VLOOKUP($D110,'c_Storage calculations'!$S$112:$AJ$116,M$3,0)","v":0},7124.317919251218,null,-2545.3945917198635,0,null,-2545.3945917198635,0,0,0]
[null,15,1,1,{"$f":"'c_Demand calculations'!N112","v":4262.8275777971821},null,{"$f":"VLOOKUP(D111,'c_Sources calculations'!$U$27:$Z$30,2,0)","v":5291.317919251218},{"$f":"VLOOKUP($D111,'c_Storage calculations'!$S$112:$AJ$116,H$3,0)","v":1833},7124.317919251218,null,{"$f":"VLOOKUP(D111,'c_Sources calculations'!$AB$27:$AG$30,2,0)","v":5291.317919251218},{"$f":"VLOOKUP($D111,'c_Storage calculations'!$S$112:$AJ$116,L$3,0)","v":1833},{"$f":"VLOOKUP($D111,'c_Storage calculations'!$S$112:$AJ$116,M$3,0)","v":0},7124.317919251218,null,-2861.4903414540358,0,null,-2861.4903414540358,0,0,0]
[null,16,1,1,{"$f":"'c_Demand calculations'!N113","v":3870.557379136314},null,{"$f":"VLOOKUP(D112,'c_Sources calculations'!$U$27:$Z$30,2,0)","v":5291.317919251218},{"$f":"VLOOKUP($D112,'c_Storage calculations'!$S$112:$AJ$116,H$3,0)","v":1833},7124.317919251218,null,{"$f":"VLOOKUP(D112,'c_Sources calculations'!$AB$27:$AG$30,2,0)","v":5291.317919251218},{"$f":"VLOOKUP($D112,'c_Storage calculations'!$S$112:$AJ$116,L$3,0)","v":1833},{"$f":"VLOOKUP($D112,'c_Storage calculations'!$S$112:$AJ$116,M$3,0)","v":0},7124.317919251218,null,-3253.760540114904,0,null,-3253.760540114904,0,0,0]
[null,17,1,1,{"$f":"'c_Demand calculations'!N114","v":3661.9339965538879},null,{"$f":"VLOOKUP(D113,'c_Sources calculations'!$U$27:$Z$30,2,0)","v":5291.317919251218},{"$f":"VLOOKUP($D113,'c_Storage calculations'!$S$112:$AJ$116,H$3,0)","v":1833},7124.317919251218,null,{"$f":"VLOOKUP(D113,'c_Sources calculations'!$AB$27:$AG$30,2,0)","v":5291.317919251218},{"$f":"VLOOKUP($D113,'c_Storage calculations'!$S$112:$AJ$116,L$3,0)","v":1833},{"$f":"VLOOKUP($D113,'c_Storage calculations'!$S$112:$AJ$116,M$3,0)","v":0},7124.317919251218,null,-3462.38392269733,0,null,-3462.38392269733,0,0,0]
[null,18,1,1,{"$f":"'c_Demand calculations'!N115","v":3973.7658031157021},null,{"$f":"VLOOKUP(D114,'c_Sources calculations'!$U$27:$Z$30,2,0)","v":5291.317919251218},{"$f":"VLOOKUP($D114,'c_Storage calculations'!$S$112:$AJ$116,H$3,0)","v":1833},7124.317919251218,null,{"$f":"VLOOKUP(D114,'c_Sources calculations'!$AB$27:$AG$30,2,0)","v":5291.317919251218},{"$f":"VLOOKUP($D114,'c_Storage calculations'!$S$112:$AJ$116,L$3,0)","v":1833},{"$f":"VLOOKUP($D114,'c_Storage calculations'!$S$112:$AJ$116,M$3,0)","v":0},7124.317919251218,null,-3150.5521161355159,0,null,-3150.5521161355159,0,0,0]
[null,19,1,1,{"$f":"'c_Demand calculations'!N116","v":4105.9911795093567},null,{"$f":"VLOOKUP(D115,'c_Sources calculations'!$U$27:$Z$30,2,0)","v":5291.317919251218},{"$f":"VLOOKUP($D115,'c_Storage calculations'!$S$112:$AJ$116,H$3,0)","v":1833},7124.317919251218,null,{"$f":"VLOOKUP(D115,'c_Sources calculations'!$AB$27:$AG$30,2,0)","v":5291.317919251218},{"$f":"VLOOKUP($D115,'c_Storage calculations'!$S$112:$AJ$116,L$3,0)","v":1833},{"$f":"VLOOKUP($D115,'c_Storage calculations'!$S$112:$AJ$116,M$3,0)","v":0},7124.317919251218,null,-3018.3267397418613,0,null,-3018.3267397418613,0,0,0]
[null,20,1,1,{"$f":"'c_Demand calculations'!N117","v":4258.9582890421416},null,{"$f":"VLOOKUP(D116,'c_Sources calculations'!$U$27:$Z$30,2,0)","v":5291.317919251218},{"$f":"VLOOKUP($D116,'c_Storage calculations'!$S$112:$AJ$116,H$3,0)","v":1833},7124.317919251218,null,{"$f":"VLOOKUP(D116,'c_Sources calculations'!$AB$27:$AG$30,2,0)","v":5291.317919251218},{"$f":"VLOOKUP($D116,'c_Storage calculations'!$S$112:$AJ$116,L$3,0)","v":1833},{"$f":"VLOOKUP($D116,'c_Storage calculations'!$S$112:$AJ$116,M$3,0)","v":0},7124.317919251218,null,-2865.3596302090764,0,null,-2865.3596302090764,0,0,0]
[null,21,1,1,{"$f":"'c_Demand calculations'!N118","v":4113.0955428341604},null,{"$f":"VLOOKUP(D117,'c_Sources calculations'!$U$27:$Z$30,2,0)","v":5291.317919251218},{"$f":"VLOOKUP($D117,'c_Storage calculations'!$S$112:$AJ$116,H$3,0)","v":1833},7124.317919251218,null,{"$f":"VLOOKUP(D117,'c_Sources calculations'!$AB$27:$AG$30,2,0)","v":5291.317919251218},{"$f":"VLOOKUP($D117,'c_Storage calculations'!$S$112:$AJ$116,L$3,0)","v":1833},{"$f":"VLOOKUP($D117,'c_Storage calculations'!$S$112:$AJ$116,M$3,0)","v":0},7124.317919251218,null,-3011.2223764170576,0,null,-3011.2223764170576,0,0,0]
[null,22,1,1,{"$f":"'c_Demand calculations'!N119","v":3868.9120617232747},null,{"$f":"VLOOKUP(D118,'c_Sources calculations'!$U$27:$Z$30,2,0)","v":5291.317919251218},{"$f":"VLOOKUP($D118,'c_Storage calculations'!$S$112:$AJ$116,H$3,0)","v":1833},7124.317919251218,null,{"$f":"VLOOKUP(D118,'c_Sources calculations'!$AB$27:$AG$30,2,0)","v":5291.317919251218},{"$f":"VLOOKUP($D118,'c_Storage calculations'!$S$112:$AJ$116,L$3,0)","v":1833},{"$f":"VLOOKUP($D118,'c_Storage calculations'!$S$112:$AJ$116,M$3,0)","v":0},7124.317919251218,null,-3255.4058575279432,0,null,-3255.4058575279432,0,0,0]
[null,23,1,1,{"$f":"'c_Demand calculations'!N120","v":3707.9128307789729},null,{"$f":"VLOOKUP(D119,'c_Sources calculations'!$U$27:$Z$30,2,0)","v":5291.317919251218},{"$f":"VLOOKUP($D119,'c_Storage calculations'!$S$112:$AJ$116,H$3,0)","v":1833},7124.317919251218,null,{"$f":"VLOOKUP(D119,'c_Sources calculations'!$AB$27:$AG$30,2,0)","v":5291.317919251218},{"$f":"VLOOKUP($D119,'c_Storage calculations'!$S$112:$AJ$116,L$3,0)","v":1833},{"$f":"VLOOKUP($D119,'c_Storage calculations'!$S$112:$AJ$116,M$3,0)","v":0},7124.317919251218,null,-3416.4050884722451,0,null,-3416.4050884722451,0,0,0]
[null,24,1,1,{"$f":"'c_Demand calculations'!N121","v":3781.6516449965993},null,{"$f":"VLOOKUP(D120,'c_Sources calculations'!$U$27:$Z$30,2,0)","v":5291.317919251218},{"$f":"VLOOKUP($D120,'c_Storage calculations'!$S$112:$AJ$116,H$3,0)","v":1833},7124.317919251218,null,{"$f":"VLOOKUP(D120,'c_Sources calculations'!$AB$27:$AG$30,2,0)","v":5291.317919251218},{"$f":"VLOOKUP($D120,'c_Storage calculations'!$S$112:$AJ$116,L$3,0)","v":1833},{"$f":"VLOOKUP($D120,'c_Storage calculations'!$S$112:$AJ$116,M$3,0)","v":0},7124.317919251218,null,-3342.6662742546187,0,null,-3342.6662742546187,0,0,0]
[null,25,1,1,{"$f":"'c_Demand calculations'!N122","v":4297.0318784686106},null,{"$f":"VLOOKUP(D121,'c_Sources calculations'!$U$27:$Z$30,2,0)","v":5291.317919251218},{"$f":"VLOOKUP($D121,'c_Storage calculations'!$S$112:$AJ$116,H$3,0)","v":1833},7124.317919251218,null,{"$f":"VLOOKUP(D121,'c_Sources calculations'!$AB$27:$AG$30,2,0)","v":5291.317919251218},{"$f":"VLOOKUP($D121,'c_Storage calculations'!$S$112:$AJ$116,L$3,0)","v":1833},{"$f":"VLOOKUP($D121,'c_Storage calculations'!$S$112:$AJ$116,M$3,0)","v":0},7124.317919251218,null,-2827.2860407826074,0,null,-2827.2860407826074,0,0,0]
[null,26,1,1,{"$f":"'c_Demand calculations'!N123","v":4569.7825664500806},null,{"$f":"VLOOKUP(D122,'c_Sources calculations'!$U$27:$Z$30,2,0)","v":5291.317919251218},{"$f":"VLOOKUP($D122,'c_Storage calculations'!$S$112:$AJ$116,H$3,0)","v":1833},7124.317919251218,null,{"$f":"VLOOKUP(D122,'c_Sources calculations'!$AB$27:$AG$30,2,0)","v":5291.317919251218},{"$f":"VLOOKUP($D122,'c_Storage calculations'!$S$112:$AJ$116,L$3,0)","v":1833},{"$f":"VLOOKUP($D122,'c_Storage calculations'!$S$112:$AJ$116,M$3,0)","v":0},7124.317919251218,null,-2554.5353528011374,0,null,-2554.5353528011374,0,0,0]
[null,27,1,1,{"$f":"'c_Demand calculations'!N124","v":4178.4089512346145},null,{"$f":"VLOOKUP(D123,'c_Sources calculations'!$U$27:$Z$30,2,0)","v":5291.317919251218},{"$f":"VLOOKUP($D123,'c_Storage calculations'!$S$112:$AJ$116,H$3,0)","v":1833},7124.317919251218,null,{"$f":"VLOOKUP(D123,'c_Sources calculations'!$AB$27:$AG$30,2,0)","v":5291.317919251218},{"$f":"VLOOKUP($D123,'c_Storage calculations'!$S$112:$AJ$116,L$3,0)","v":1833},{"$f":"VLOOKUP($D123,'c_Storage calculations'!$S$112:$AJ$116,M$3,0)","v":0},7124.317919251218,null,-2945.9089680166035,0,null,-2945.9089680166035,0,0,0]
[null,28,1,1,{"$f":"'c_Demand calculations'!N125","v":3896.0125001016281},null,{"$f":"VLOOKUP(D124,'c_Sources calculations'!$U$27:$Z$30,2,0)","v":5291.317919251218},{"$f":"VLOOKUP($D124,'c_Storage calculations'!$S$112:$AJ$116,H$3,0)","v":1833},7124.317919251218,null,{"$f":"VLOOKUP(D124,'c_Sources calculations'!$AB$27:$AG$30,2,0)","v":5291.317919251218},{"$f":"VLOOKUP($D124,'c_Storage calculations'!$S$112:$AJ$116,L$3,0)","v":1833},{"$f":"VLOOKUP($D124,'c_Storage calculations'!$S$112:$AJ$116,M$3,0)","v":0},7124.317919251218,null,-3228.3054191495899,0,null,-3228.3054191495899,0,0,0]
[null,29,1,1,{"$f":"'c_Demand calculations'!N126","v":4025.4006193619057},null,{"$f":"VLOOKUP(D125,'c_Sources calculations'!$U$27:$Z$30,2,0)","v":5291.317919251218},{"$f":"VLOOKUP($D125,'c_Storage calculations'!$S$112:$AJ$116,H$3,0)","v":1833},7124.317919251218,null,{"$f":"VLOOKUP(D125,'c_Sources calculations'!$AB$27:$AG$30,2,0)","v":5291.317919251218},{"$f":"VLOOKUP($D125,'c_Storage calculations'!$S$112:$AJ$116,L$3,0)","v":1833},{"$f":"VLOOKUP($D125,'c_Storage calculations'!$S$112:$AJ$116,M$3,0)","v":0},7124.317919251218,null,-3098.9172998893123,0,null,-3098.9172998893123,0,0,0]
[null,30,1,1,{"$f":"'c_Demand calculations'!N127","v":4095.7928200021579},null,{"$f":"VLOOKUP(D126,'c_Sources calculations'!$U$27:$Z$30,2,0)","v":5291.317919251218},{"$f":"VLOOKUP($D126,'c_Storage calculations'!$S$112:$AJ$116,H$3,0)","v":1833},7124.317919251218,null,{"$f":"VLOOKUP(D126,'c_Sources calculations'!$AB$27:$AG$30,2,0)","v":5291.317919251218},{"$f":"VLOOKUP($D126,'c_Storage calculations'!$S$112:$AJ$116,L$3,0)","v":1833},{"$f":"VLOOKUP($D126,'c_Storage calculations'!$S$112:$AJ$116,M$3,0)","v":0},7124.317919251218,null,-3028.5250992490601,0,null,-3028.5250992490601,0,0,0]
[null,31,1,1,{"$f":"'c_Demand calculations'!N128","v":4212.3057338815843},null,{"$f":"VLOOKUP(D127,'c_Sources calculations'!$U$27:$Z$30,2,0)","v":5291.317919251218},{"$f":"VLOOKUP($D127,'c_Storage calculations'!$S$112:$AJ$116,H$3,0)","v":1833},7124.317919251218,null,{"$f":"VLOOKUP(D127,'c_Sources calculations'!$AB$27:$AG$30,2,0)","v":5291.317919251218},{"$f":"VLOOKUP($D127,'c_Storage calculations'!$S$112:$AJ$116,L$3,0)","v":1833},{"$f":"VLOOKUP($D127,'c_Storage calculations'!$S$112:$AJ$116,M$3,0)","v":0},7124.317919251218,null,-2912.0121853696337,0,null,-2912.0121853696337,0,0,0]
[null,1,2,1,{"$f":"'c_Demand calculations'!N129","v":4356.1502121789617},null,{"$f":"VLOOKUP(D128,'c_Sources calculations'!$U$27:$Z$30,2,0)","v":5291.317919251218},{"$f":"VLOOKUP($D128,'c_Storage calculations'!$S$112:$AJ$116,H$3,0)","v":1833},7124.317919251218,null,{"$f":"VLOOKUP(D128,'c_Sources calculations'!$AB$27:$AG$30,2,0)","v":5291.317919251218},{"$f":"VLOOKUP($D128,'c_Storage calculations'!$S$112:$AJ$116,L$3,0)","v":1833},{"$f":"VLOOKUP($D128,'c_Storage calculations'!$S$112:$AJ$116,M$3,0)","v":0},7124.317919251218,null,-2768.1677070722562,0,null,-2768.1677070722562,0,0,0]
[null,2,2,1,{"$f":"'c_Demand calculations'!N130","v":4167.2174394542317},null,{"$f":"VLOOKUP(D129,'c_Sources calculations'!$U$27:$Z$30,2,0)","v":5291.317919251218},{"$f":"VLOOKUP($D129,'c_Storage calculations'!$S$112:$AJ$116,H$3,0)","v":1833},7124.317919251218,null,{"$f":"VLOOKUP(D129,'c_Sources calculations'!$AB$27:$AG$30,2,0)","v":5291.317919251218},{"$f":"VLOOKUP($D129,'c_Storage calculations'!$S$112:$AJ$116,L$3,0)","v":1833},{"$f":"VLOOKUP($D129,'c_Storage calculations'!$S$112:$AJ$116,M$3,0)","v":0},7124.317919251218,null,-2957.1004797969863,0,null,-2957.1004797969863,0,0,0]
[null,3,2,1,{"$f":"'c_Demand calculations'!N131","v":4218.6295872438677},null,{"$f":"VLOOKUP(D130,'c_Sources calculations'!$U$27:$Z$30,2,0)","v":5291.317919251218},{"$f":"VLOOKUP($D130,'c_Storage calculations'!$S$112:$AJ$116,H$3,0)","v":1833},7124.317919251218,null,{"$f":"VLOOKUP(D130,'c_Sources calculations'!$AB$27:$AG$30,2,0)","v":5291.317919251218},{"$f":"VLOOKUP($D130,'c_Storage calculations'!$S$112:$AJ$116,L$3,0)","v":1833},{"$f":"VLOOKUP($D130,'c_Storage calculations'!$S$112:$AJ$116,M$3,0)","v":0},7124.317919251218,null,-2905.6883320073503,0,null,-2905.6883320073503,0,0,0]
[null,4,2,1,{"$f":"'c_Demand calculations'!N132","v":3918.993172482179},null,{"$f":"VLOOKUP(D131,'c_Sources calculations'!$U$27:$Z$30,2,0)","v":5291.317919251218},{"$f":"VLOOKUP($D131,'c_Storage calculations'!$S$112:$AJ$116,H$3,0)","v":1833},7124.317919251218,null,{"$f":"VLOOKUP(D131,'c_Sources calculations'!$AB$27:$AG$30,2,0)","v":5291.317919251218},{"$f":"VLOOKUP($D131,'c_Storage calculations'!$S$112:$AJ$116,L$3,0)","v":1833},{"$f":"VLOOKUP($D131,'c_Storage calculations'!$S$112:$AJ$116,M$3,0)","v":0},7124.317919251218,null,-3205.3247467690389,0,null,-3205.3247467690389,0,0,0]
[null,5,2,1,{"$f":"'c_Demand calculations'!N133","v":3565.589598607502},null,{"$f":"VLOOKUP(D132,'c_Sources calculations'!$U$27:$Z$30,2,0)","v":5291.317919251218},{"$f":"VLOOKUP($D132,'c_Storage calculations'!$S$112:$AJ$116,H$3,0)","v":1833},7124.317919251218,null,{"$f":"VLOOKUP(D132,'c_Sources calculations'!$AB$27:$AG$30,2,0)","v":5291.317919251218},{"$f":"VLOOKUP($D132,'c_Storage calculations'!$S$112:$AJ$116,L$3,0)","v":1833},{"$f":"VLOOKUP($D132,'c_Storage calculations'!$S$112:$AJ$116,M$3,0)","v":0},7124.317919251218,null,-3558.728320643716,0,null,-3558.728320643716,0,0,0]
[null,6,2,1,{"$f":"'c_Demand calculations'!N134","v":3539.7279993029615},null,{"$f":"VLOOKUP(D133,'c_Sources calculations'!$U$27:$Z$30,2,0)","v":5291.317919251218},{"$f":"VLOOKUP($D133,'c_Storage calculations'!$S$112:$AJ$116,H$3,0)","v":1833},7124.317919251218,null,{"$f":"VLOOKUP(D133,'c_Sources calculations'!$AB$27:$AG$30,2,0)","v":5291.317919251218},{"$f":"VLOOKUP($D133,'c_Storage calculations'!$S$112:$AJ$116,L$3,0)","v":1833},{"$f":"VLOOKUP($D133,'c_Storage calculations'!$S$112:$AJ$116,M$3,0)","v":0},7124.317919251218,null,{"$f":"E133-I133","v":-3584.5899199482565},0,null,{"$f":"E133-N133","v":-3584.5899199482565},0,0,{"$f":"T133*E133","v":0}]
[null,7,2,{"$f":"IF(C134<=3,1,IF(C134<=6,2,IF(C134<=9,3,4)))","v":1},{"$f":"'c_Demand calculations'!N135","v":3710.9300691550093},null,{"$f":"VLOOKUP(D134,'c_Sources calculations'!$U$27:$Z$30,2,0)","v":5291.317919251218},{"$f":"VLOOKUP($D134,'c_Storage calculations'!$S$112:$AJ$116,H$3,0)","v":1833},{"$f":"SUM(G134:H134)","v":7124.317919251218},null,{"$f":"VLOOKUP(D134,'c_Sources calculations'!$AB$27:$AG$30,2,0)","v":5291.317919251218},{"$f":"VLOOKUP($D134,'c_Storage calculations'!$S$112:$AJ$116,L$3,0)","v":1833},{"$f":"VLOOKUP($D134,'c_Storage calculations'!$S$112:$AJ$116,M$3,0)","v":0},{"$f":"SUM(K134:L134)-M134","v":7124.317919251218},null,-3413.3878500962087,{"$f":"IF(P134>0,1,0)","v":0},null,-3413.3878500962087,{"$f":"IF(S134>0,1,0)","v":0},{"$f":"T134*S134","v":0},0]
[null,8,2,1,{"$f":"'c_Demand calculations'!N136","v":4391.6798579530587},null,{"$f":"VLOOKUP(D135,'c_Sources calculations'!$U$27:$Z$30,2,0)","v":5291.317919251218},{"$f":"VLOOKUP($D135,'c_Storage calculations'!$S$112:$AJ$116,H$3,0)","v":1833},7124.317919251218,null,{"$f":"VLOOKUP(D135,'c_Sources calculations'!$AB$27:$AG$30,2,0)","v":5291.317919251218},{"$f":"VLOOKUP($D135,'c_Storage calculations'!$S$112:$AJ$116,L$3,0)","v":1833},{"$f":"VLOOKUP($D135,'c_Storage calculations'!$S$112:$AJ$116,M$3,0)","v":0},7124.317919251218,null,-2732.6380612981593,0,null,-2732.6380612981593,0,0,0]
[null,9,2,1,{"$f":"'c_Demand calculations'!N137","v":4388.78508540453},null,{"$f":"VLOOKUP(D136,'c_Sources calculations'!$U$27:$Z$30,2,0)","v":5291.317919251218},{"$f":"VLOOKUP($D136,'c_Storage calculations'!$S$112:$AJ$116,H$3,0)","v":1833},7124.317919251218,null,{"$f":"VLOOKUP(D136,'c_Sources calculations'!$AB$27:$AG$30,2,0)","v":5291.317919251218},{"$f":"VLOOKUP($D136,'c_Storage calculations'!$S$112:$AJ$116,L$3,0)","v":1833},{"$f":"VLOOKUP($D136,'c_Storage calculations'!$S$112:$AJ$116,M$3,0)","v":0},7124.317919251218,null,-2735.5328338466879,0,null,-2735.5328338466879,0,0,0]
[null,10,2,1,{"$f":"'c_Demand calculations'!N138","v":4536.5796119406741},null,{"$f":"VLOOKUP(D137,'c_Sources calculations'!$U$27:$Z$30,2,0)","v":5291.317919251218},{"$f":"VLOOKUP($D137,'c_Storage calculations'!$S$112:$AJ$116,H$3,0)","v":1833},7124.317919251218,null,{"$f":"VLOOKUP(D137,'c_Sources calculations'!$AB$27:$AG$30,2,0)","v":5291.317919251218},{"$f":"VLOOKUP($D137,'c_Storage calculations'!$S$112:$AJ$116,L$3,0)","v":1833},{"$f":"VLOOKUP($D137,'c_Storage calculations'!$S$112:$AJ$116,M$3,0)","v":0},7124.317919251218,null,-2587.7383073105439,0,null,-2587.7383073105439,0,0,0]
[null,11,2,1,{"$f":"'c_Demand calculations'!N139","v":4625.2564698796814},null,{"$f":"VLOOKUP(D138,'c_Sources calculations'!$U$27:$Z$30,2,0)","v":5291.317919251218},{"$f":"VLOOKUP($D138,'c_Storage calculations'!$S$112:$AJ$116,H$3,0)","v":1833},7124.317919251218,null,{"$f":"VLOOKUP(D138,'c_Sources calculations'!$AB$27:$AG$30,2,0)","v":5291.317919251218},{"$f":"VLOOKUP($D138,'c_Storage calculations'!$S$112:$AJ$116,L$3,0)","v":1833},{"$f":"VLOOKUP($D138,'c_Storage calculations'!$S$112:$AJ$116,M$3,0)","v":0},7124.317919251218,null,-2499.0614493715366,0,null,-2499.0614493715366,0,0,0]
[null,12,2,1,{"$f":"'c_Demand calculations'!N140","v":4306.799242291886},null,{"$f":"VLOOKUP(D139,'c_Sources calculations'!$U$27:$Z$30,2,0)","v":5291.317919251218},{"$f":"VLOOKUP($D139,'c_Storage calculations'!$S$112:$AJ$116,H$3,0)","v":1833},7124.317919251218,null,{"$f":"VLOOKUP(D139,'c_Sources calculations'!$AB$27:$AG$30,2,0)","v":5291.317919251218},{"$f":"VLOOKUP($D139,'c_Storage calculations'!$S$112:$AJ$116,L$3,0)","v":1833},{"$f":"VLOOKUP($D139,'c_Storage calculations'!$S$112:$AJ$116,M$3,0)","v":0},7124.317919251218,null,-2817.518676959332,0,null,-2817.518676959332,0,0,0]
[null,13,2,1,{"$f":"'c_Demand calculations'!N141","v":4090.3031530972621},null,{"$f":"VLOOKUP(D140,'c_Sources calculations'!$U$27:$Z$30,2,0)","v":5291.317919251218},{"$f":"VLOOKUP($D140,'c_Storage calculations'!$S$112:$AJ$116,H$3,0)","v":1833},7124.317919251218,null,{"$f":"VLOOKUP(D140,'c_Sources calculations'!$AB$27:$AG$30,2,0)","v":5291.317919251218},{"$f":"VLOOKUP($D140,'c_Storage calculations'!$S$112:$AJ$116,L$3,0)","v":1833},{"$f":"VLOOKUP($D140,'c_Storage calculations'!$S$112:$AJ$116,M$3,0)","v":0},7124.317919251218,null,-3034.0147661539559,0,null,-3034.0147661539559,0,0,0]
[null,14,2,1,{"$f":"'c_Demand calculations'!N142","v":3984.3635986419717},null,{"$f":"VLOOKUP(D141,'c_Sources calculations'!$U$27:$Z$30,2,0)","v":5291.317919251218},{"$f":"VLOOKUP($D141,'c_Storage calculations'!$S$112:$AJ$116,H$3,0)","v":1833},7124.317919251218,null,{"$f":"VLOOKUP(D141,'c_Sources calculations'!$AB$27:$AG$30,2,0)","v":5291.317919251218},{"$f":"VLOOKUP($D141,'c_Storage calculations'!$S$112:$AJ$116,L$3,0)","v":1833},{"$f":"VLOOKUP($D141,'c_Storage calculations'!$S$112:$AJ$116,M$3,0)","v":0},7124.317919251218,null,-3139.9543206092462,0,null,-3139.9543206092462,0,0,0]
[null,15,2,1,{"$f":"'c_Demand calculations'!N143","v":4211.7269840258068},null,{"$f":"VLOOKUP(D142,'c_Sources calculations'!$U$27:$Z$30,2,0)","v":5291.317919251218},{"$f":"VLOOKUP($D142,'c_Storage calculations'!$S$112:$AJ$116,H$3,0)","v":1833},7124.317919251218,null,{"$f":"VLOOKUP(D142,'c_Sources calculations'!$AB$27:$AG$30,2,0)","v":5291.317919251218},{"$f":"VLOOKUP($D142,'c_Storage calculations'!$S$112:$AJ$116,L$3,0)","v":1833},{"$f":"VLOOKUP($D142,'c_Storage calculations'!$S$112:$AJ$116,M$3,0)","v":0},7124.317919251218,null,-2912.5909352254112,0,null,-2912.5909352254112,0,0,0]
[null,16,2,1,{"$f":"'c_Demand calculations'!N144","v":4181.9499118080348},null,{"$f":"VLOOKUP(D143,'c_Sources calculations'!$U$27:$Z$30,2,0)","v":5291.317919251218},{"$f":"VLOOKUP($D143,'c_Storage calculations'!$S$112:$AJ$116,H$3,0)","v":1833},7124.317919251218,null,{"$f":"VLOOKUP(D143,'c_Sources calculations'!$AB$27:$AG$30,2,0)","v":5291.317919251218},{"$f":"VLOOKUP($D143,'c_Storage calculations'!$S$112:$AJ$116,L$3,0)","v":1833},{"$f":"VLOOKUP($D143,'c_Storage calculations'!$S$112:$AJ$116,M$3,0)","v":0},7124.317919251218,null,-2942.3680074431832,0,null,-2942.3680074431832,0,0,0]
[null,17,2,1,{"$f":"'c_Demand calculations'!N145","v":4200.197990665888},null,{"$f":"VLOOKUP(D144,'c_Sources calculations'!$U$27:$Z$30,2,0)","v":5291.317919251218},{"$f":"VLOOKUP($D144,'c_Storage calculations'!$S$112:$AJ$116,H$3,0)","v":1833},7124.317919251218,null,{"$f":"VLOOKUP(D144,'c_Sources calculations'!$AB$27:$AG$30,2,0)","v":5291.317919251218},{"$f":"VLOOKUP($D144,'c_Storage calculations'!$S$112:$AJ$116,L$3,0)","v":1833},{"$f":"VLOOKUP($D144,'c_Storage calculations'!$S$112:$AJ$116,M$3,0)","v":0},7124.317919251218,null,-2924.1199285853299,0,null,-2924.1199285853299,0,0,0]
[null,18,2,1,{"$f":"'c_Demand calculations'!N146","v":4271.6991054223408},null,{"$f":"VLOOKUP(D145,'c_Sources calculations'!$U$27:$Z$30,2,0)","v":5291.317919251218},{"$f":"VLOOKUP($D145,'c_Storage calculations'!$S$112:$AJ$116,H$3,0)","v":1833},7124.317919251218,null,{"$f":"VLOOKUP(D145,'c_Sources calculations'!$AB$27:$AG$30,2,0)","v":5291.317919251218},{"$f":"VLOOKUP($D145,'c_Storage calculations'!$S$112:$AJ$116,L$3,0)","v":1833},{"$f":"VLOOKUP($D145,'c_Storage calculations'!$S$112:$AJ$116,M$3,0)","v":0},7124.317919251218,null,-2852.6188138288771,0,null,-2852.6188138288771,0,0,0]
[null,19,2,1,{"$f":"'c_Demand calculations'!N147","v":4183.9814812264776},null,{"$f":"VLOOKUP(D146,'c_Sources calculations'!$U$27:$Z$30,2,0)","v":5291.317919251218},{"$f":"VLOOKUP($D146,'c_Storage calculations'!$S$112:$AJ$116,H$3,0)","v":1833},7124.317919251218,null,{"$f":"VLOOKUP(D146,'c_Sources calculations'!$AB$27:$AG$30,2,0)","v":5291.317919251218},{"$f":"VLOOKUP($D146,'c_Storage calculations'!$S$112:$AJ$116,L$3,0)","v":1833},{"$f":"VLOOKUP($D146,'c_Storage calculations'!$S$112:$AJ$116,M$3,0)","v":0},7124.317919251218,null,-2940.3364380247403,0,null,-2940.3364380247403,0,0,0]
[null,20,2,1,{"$f":"'c_Demand calculations'!N148","v":3927.7116040635965},null,{"$f":"VLOOKUP(D147,'c_Sources calculations'!$U$27:$Z$30,2,0)","v":5291.317919251218},{"$f":"VLOOKUP($D147,'c_Storage calculations'!$S$112:$AJ$116,H$3,0)","v":1833},7124.317919251218,null,{"$f":"VLOOKUP(D147,'c_Sources calculations'!$AB$27:$AG$30,2,0)","v":5291.317919251218},{"$f":"VLOOKUP($D147,'c_Storage calculations'!$S$112:$AJ$116,L$3,0)","v":1833},{"$f":"VLOOKUP($D147,'c_Storage calculations'!$S$112:$AJ$116,M$3,0)","v":0},7124.317919251218,null,-3196.6063151876215,0,null,-3196.6063151876215,0,0,0]
[null,21,2,1,{"$f":"'c_Demand calculations'!N149","v":4024.6934489009654},null,{"$f":"VLOOKUP(D148,'c_Sources calculations'!$U$27:$Z$30,2,0)","v":5291.317919251218},{"$f":"VLOOKUP($D148,'c_Storage calculations'!$S$112:$AJ$116,H$3,0)","v":1833},7124.317919251218,null,{"$f":"VLOOKUP(D148,'c_Sources calculations'!$AB$27:$AG$30,2,0)","v":5291.317919251218},{"$f":"VLOOKUP($D148,'c_Storage calculations'!$S$112:$AJ$116,L$3,0)","v":1833},{"$f":"VLOOKUP($D148,'c_Storage calculations'!$S$112:$AJ$116,M$3,0)","v":0},7124.317919251218,null,-3099.6244703502525,0,null,-3099.6244703502525,0,0,0]
[null,22,2,1,{"$f":"'c_Demand calculations'!N150","v":4310.7937436102375},null,{"$f":"VLOOKUP(D149,'c_Sources calculations'!$U$27:$Z$30,2,0)","v":5291.317919251218},{"$f":"VLOOKUP($D149,'c_Storage calculations'!$S$112:$AJ$116,H$3,0)","v":1833},7124.317919251218,null,{"$f":"VLOOKUP(D149,'c_Sources calculations'!$AB$27:$AG$30,2,0)","v":5291.317919251218},{"$f":"VLOOKUP($D149,'c_Storage calculations'!$S$112:$AJ$116,L$3,0)","v":1833},{"$f":"VLOOKUP($D149,'c_Storage calculations'!$S$112:$AJ$116,M$3,0)","v":0},7124.317919251218,null,-2813.5241756409805,0,null,-2813.5241756409805,0,0,0]
[null,23,2,1,{"$f":"'c_Demand calculations'!N151","v":4394.1437347191686},null,{"$f":"VLOOKUP(D150,'c_Sources calculations'!$U$27:$Z$30,2,0)","v":5291.317919251218},{"$f":"VLOOKUP($D150,'c_Storage calculations'!$S$112:$AJ$116,H$3,0)","v":1833},7124.317919251218,null,{"$f":"VLOOKUP(D150,'c_Sources calculations'!$AB$27:$AG$30,2,0)","v":5291.317919251218},{"$f":"VLOOKUP($D150,'c_Storage calculations'!$S$112:$AJ$116,L$3,0)","v":1833},{"$f":"VLOOKUP($D150,'c_Storage calculations'!$S$112:$AJ$116,M$3,0)","v":0},7124.317919251218,null,-2730.1741845320494,0,null,-2730.1741845320494,0,0,0]
[null,24,2,1,{"$f":"'c_Demand calculations'!N152","v":3958.0368001823922},null,{"$f":"VLOOKUP(D151,'c_Sources calculations'!$U$27:$Z$30,2,0)","v":5291.317919251218},{"$f":"VLOOKUP($D151,'c_Storage calculations'!$S$112:$AJ$116,H$3,0)","v":1833},7124.317919251218,null,{"$f":"VLOOKUP(D151,'c_Sources calculations'!$AB$27:$AG$30,2,0)","v":5291.317919251218},{"$f":"VLOOKUP($D151,'c_Storage calculations'!$S$112:$AJ$116,L$3,0)","v":1833},{"$f":"VLOOKUP($D151,'c_Storage calculations'!$S$112:$AJ$116,M$3,0)","v":0},7124.317919251218,null,-3166.2811190688258,0,null,-3166.2811190688258,0,0,0]
[null,25,2,1,{"$f":"'c_Demand calculations'!N153","v":3750.3610144049258},null,{"$f":"VLOOKUP(D152,'c_Sources calculations'!$U$27:$Z$30,2,0)","v":5291.317919251218},{"$f":"VLOOKUP($D152,'c_Storage calculations'!$S$112:$AJ$116,H$3,0)","v":1833},7124.317919251218,null,{"$f":"VLOOKUP(D152,'c_Sources calculations'!$AB$27:$AG$30,2,0)","v":5291.317919251218},{"$f":"VLOOKUP($D152,'c_Storage calculations'!$S$112:$AJ$116,L$3,0)","v":1833},{"$f":"VLOOKUP($D152,'c_Storage calculations'!$S$112:$AJ$116,M$3,0)","v":0},7124.317919251218,null,-3373.9569048462922,0,null,-3373.9569048462922,0,0,0]
[null,26,2,1,{"$f":"'c_Demand calculations'!N154","v":3934.855694205015},null,{"$f":"VLOOKUP(D153,'c_Sources calculations'!$U$27:$Z$30,2,0)","v":5291.317919251218},{"$f":"VLOOKUP($D153,'c_Storage calculations'!$S$112:$AJ$116,H$3,0)","v":1833},7124.317919251218,null,{"$f":"VLOOKUP(D153,'c_Sources calculations'!$AB$27:$AG$30,2,0)","v":5291.317919251218},{"$f":"VLOOKUP($D153,'c_Storage calculations'!$S$112:$AJ$116,L$3,0)","v":1833},{"$f":"VLOOKUP($D153,'c_Storage calculations'!$S$112:$AJ$116,M$3,0)","v":0},7124.317919251218,null,-3189.462225046203,0,null,-3189.462225046203,0,0,0]
[null,27,2,1,{"$f":"'c_Demand calculations'!N155","v":3617.593254558898},null,{"$f":"VLOOKUP(D154,'c_Sources calculations'!$U$27:$Z$30,2,0)","v":5291.317919251218},{"$f":"VLOOKUP($D154,'c_Storage calculations'!$S$112:$AJ$116,H$3,0)","v":1833},7124.317919251218,null,{"$f":"VLOOKUP(D154,'c_Sources calculations'!$AB$27:$AG$30,2,0)","v":5291.317919251218},{"$f":"VLOOKUP($D154,'c_Storage calculations'!$S$112:$AJ$116,L$3,0)","v":1833},{"$f":"VLOOKUP($D154,'c_Storage calculations'!$S$112:$AJ$116,M$3,0)","v":0},7124.317919251218,null,-3506.7246646923199,0,null,-3506.7246646923199,0,0,0]
[null,28,2,1,{"$f":"'c_Demand calculations'!N156","v":3822.685450523381},null,{"$f":"VLOOKUP(D155,'c_Sources calculations'!$U$27:$Z$30,2,0)","v":5291.317919251218},{"$f":"VLOOKUP($D155,'c_Storage calculations'!$S$112:$AJ$116,H$3,0)","v":1833},7124.317919251218,null,{"$f":"VLOOKUP(D155,'c_Sources calculations'!$AB$27:$AG$30,2,0)","v":5291.317919251218},{"$f":"VLOOKUP($D155,'c_Storage calculations'!$S$112:$AJ$116,L$3,0)","v":1833},{"$f":"VLOOKUP($D155,'c_Storage calculations'!$S$112:$AJ$116,M$3,0)","v":0},7124.317919251218,null,-3301.632468727837,0,null,-3301.632468727837,0,0,0]
[null,1,3,1,{"$f":"'c_Demand calculations'!N157","v":3959.0035996236047},null,{"$f":"VLOOKUP(D156,'c_Sources calculations'!$U$27:$Z$30,2,0)","v":5291.317919251218},{"$f":"VLOOKUP($D156,'c_Storage calculations'!$S$112:$AJ$116,H$3,0)","v":1833},7124.317919251218,null,{"$f":"VLOOKUP(D156,'c_Sources calculations'!$AB$27:$AG$30,2,0)","v":5291.317919251218},{"$f":"VLOOKUP($D156,'c_Storage calculations'!$S$112:$AJ$116,L$3,0)","v":1833},{"$f":"VLOOKUP($D156,'c_Storage calculations'!$S$112:$AJ$116,M$3,0)","v":0},7124.317919251218,null,-3165.3143196276133,0,null,-3165.3143196276133,0,0,0]
[null,2,3,1,{"$f":"'c_Demand calculations'!N158","v":4090.0657734611468},null,{"$f":"VLOOKUP(D157,'c_Sources calculations'!$U$27:$Z$30,2,0)","v":5291.317919251218},{"$f":"VLOOKUP($D157,'c_Storage calculations'!$S$112:$AJ$116,H$3,0)","v":1833},7124.317919251218,null,{"$f":"VLOOKUP(D157,'c_Sources calculations'!$AB$27:$AG$30,2,0)","v":5291.317919251218},{"$f":"VLOOKUP($D157,'c_Storage calculations'!$S$112:$AJ$116,L$3,0)","v":1833},{"$f":"VLOOKUP($D157,'c_Storage calculations'!$S$112:$AJ$116,M$3,0)","v":0},7124.317919251218,null,-3034.2521457900712,0,null,-3034.2521457900712,0,0,0]
[null,3,3,1,{"$f":"'c_Demand calculations'!N159","v":4276.3525457090946},null,{"$f":"VLOOKUP(D158,'c_Sources calculations'!$U$27:$Z$30,2,0)","v":5291.317919251218},{"$f":"VLOOKUP($D158,'c_Storage calculations'!$S$112:$AJ$116,H$3,0)","v":1833},7124.317919251218,null,{"$f":"VLOOKUP(D158,'c_Sources calculations'!$AB$27:$AG$30,2,0)","v":5291.317919251218},{"$f":"VLOOKUP($D158,'c_Storage calculations'!$S$112:$AJ$116,L$3,0)","v":1833},{"$f":"VLOOKUP($D158,'c_Storage calculations'!$S$112:$AJ$116,M$3,0)","v":0},7124.317919251218,null,-2847.9653735421234,0,null,-2847.9653735421234,0,0,0]
[null,4,3,1,{"$f":"'c_Demand calculations'!N160","v":4246.875296353589},null,{"$f":"VLOOKUP(D159,'c_Sources calculations'!$U$27:$Z$30,2,0)","v":5291.317919251218},{"$f":"VLOOKUP($D159,'c_Storage calculations'!$S$112:$AJ$116,H$3,0)","v":1833},7124.317919251218,null,{"$f":"VLOOKUP(D159,'c_Sources calculations'!$AB$27:$AG$30,2,0)","v":5291.317919251218},{"$f":"VLOOKUP($D159,'c_Storage calculations'!$S$112:$AJ$116,L$3,0)","v":1833},{"$f":"VLOOKUP($D159,'c_Storage calculations'!$S$112:$AJ$116,M$3,0)","v":0},7124.317919251218,null,-2877.442622897629,0,null,-2877.442622897629,0,0,0]
[null,5,3,1,{"$f":"'c_Demand calculations'!N161","v":4200.0880421970523},null,{"$f":"VLOOKUP(D160,'c_Sources calculations'!$U$27:$Z$30,2,0)","v":5291.317919251218},{"$f":"VLOOKUP($D160,'c_Storage calculations'!$S$112:$AJ$116,H$3,0)","v":1833},7124.317919251218,null,{"$f":"VLOOKUP(D160,'c_Sources calculations'!$AB$27:$AG$30,2,0)","v":5291.317919251218},{"$f":"VLOOKUP($D160,'c_Storage calculations'!$S$112:$AJ$116,L$3,0)","v":1833},{"$f":"VLOOKUP($D160,'c_Storage calculations'!$S$112:$AJ$116,M$3,0)","v":0},7124.317919251218,null,-2924.2298770541656,0,null,-2924.2298770541656,0,0,0]
[null,6,3,1,{"$f":"'c_Demand calculations'!N162","v":3973.6897453488527},null,{"$f":"VLOOKUP(D161,'c_Sources calculations'!$U$27:$Z$30,2,0)","v":5291.317919251218},{"$f":"VLOOKUP($D161,'c_Storage calculations'!$S$112:$AJ$116,H$3,0)","v":1833},7124.317919251218,null,{"$f":"VLOOKUP(D161,'c_Sources calculations'!$AB$27:$AG$30,2,0)","v":5291.317919251218},{"$f":"VLOOKUP($D161,'c_Storage calculations'!$S$112:$AJ$116,L$3,0)","v":1833},{"$f":"VLOOKUP($D161,'c_Storage calculations'!$S$112:$AJ$116,M$3,0)","v":0},7124.317919251218,null,-3150.6281739023652,0,null,-3150.6281739023652,0,0,0]
[null,7,3,1,{"$f":"'c_Demand calculations'!N163","v":4149.211209266733},null,{"$f":"VLOOKUP(D162,'c_Sources calculations'!$U$27:$Z$30,2,0)","v":5291.317919251218},{"$f":"VLOOKUP($D162,'c_Storage calculations'!$S$112:$AJ$116,H$3,0)","v":1833},7124.317919251218,null,{"$f":"VLOOKUP(D162,'c_Sources calculations'!$AB$27:$AG$30,2,0)","v":5291.317919251218},{"$f":"VLOOKUP($D162,'c_Storage calculations'!$S$112:$AJ$116,L$3,0)","v":1833},{"$f":"VLOOKUP($D162,'c_Storage calculations'!$S$112:$AJ$116,M$3,0)","v":0},7124.317919251218,null,-2975.106709984485,0,null,-2975.106709984485,0,0,0]
[null,8,3,1,{"$f":"'c_Demand calculations'!N164","v":4294.1077635694346},null,{"$f":"VLOOKUP(D163,'c_Sources calculations'!$U$27:$Z$30,2,0)","v":5291.317919251218},{"$f":"VLOOKUP($D163,'c_Storage calculations'!$S$112:$AJ$116,H$3,0)","v":1833},7124.317919251218,null,{"$f":"VLOOKUP(D163,'c_Sources calculations'!$AB$27:$AG$30,2,0)","v":5291.317919251218},{"$f":"VLOOKUP($D163,'c_Storage calculations'!$S$112:$AJ$116,L$3,0)","v":1833},{"$f":"VLOOKUP($D163,'c_Storage calculations'!$S$112:$AJ$116,M$3,0)","v":0},7124.317919251218,null,-2830.2101556817834,0,null,-2830.2101556817834,0,0,0]
[null,9,3,1,{"$f":"'c_Demand calculations'!N165","v":4190.3887971757404},null,{"$f":"VLOOKUP(D164,'c_Sources calculations'!$U$27:$Z$30,2,0)","v":5291.317919251218},{"$f":"VLOOKUP($D164,'c_Storage calculations'!$S$112:$AJ$116,H$3,0)","v":1833},7124.317919251218,null,{"$f":"VLOOKUP(D164,'c_Sources calculations'!$AB$27:$AG$30,2,0)","v":5291.317919251218},{"$f":"VLOOKUP($D164,'c_Storage calculations'!$S$112:$AJ$116,L$3,0)","v":1833},{"$f":"VLOOKUP($D164,'c_Storage calculations'!$S$112:$AJ$116,M$3,0)","v":0},7124.317919251218,null,-2933.9291220754776,0,null,-2933.9291220754776,0,0,0]
[null,10,3,1,{"$f":"'c_Demand calculations'!N166","v":4100.0343811328612},null,{"$f":"VLOOKUP(D165,'c_Sources calculations'!$U$27:$Z$30,2,0)","v":5291.317919251218},{"$f":"VLOOKUP($D165,'c_Storage calculations'!$S$112:$AJ$116,H$3,0)","v":1833},7124.317919251218,null,{"$f":"VLOOKUP(D165,'c_Sources calculations'!$AB$27:$AG$30,2,0)","v":5291.317919251218},{"$f":"VLOOKUP($D165,'c_Storage calculations'!$S$112:$AJ$116,L$3,0)","v":1833},{"$f":"VLOOKUP($D165,'c_Storage calculations'!$S$112:$AJ$116,M$3,0)","v":0},7124.317919251218,null,-3024.2835381183568,0,null,-3024.2835381183568,0,0,0]
[null,11,3,1,{"$f":"'c_Demand calculations'!N167","v":3916.9952499888632},null,{"$f":"VLOOKUP(D166,'c_Sources calculations'!$U$27:$Z$30,2,0)","v":5291.317919251218},{"$f":"VLOOKUP($D166,'c_Storage calculations'!$S$112:$AJ$116,H$3,0)","v":1833},7124.317919251218,null,{"$f":"VLOOKUP(D166,'c_Sources calculations'!$AB$27:$AG$30,2,0)","v":5291.317919251218},{"$f":"VLOOKUP($D166,'c_Storage calculations'!$S$112:$AJ$116,L$3,0)","v":1833},{"$f":"VLOOKUP($D166,'c_Storage calculations'!$S$112:$AJ$116,M$3,0)","v":0},7124.317919251218,null,-3207.3226692623548,0,null,-3207.3226692623548,0,0,0]
[null,12,3,1,{"$f":"'c_Demand calculations'!N168","v":3761.101328605027},null,{"$f":"VLOOKUP(D167,'c_Sources calculations'!$U$27:$Z$30,2,0)","v":5291.317919251218},{"$f":"VLOOKUP($D167,'c_Storage calculations'!$S$112:$AJ$116,H$3,0)","v":1833},7124.317919251218,null,{"$f":"VLOOKUP(D167,'c_Sources calculations'!$AB$27:$AG$30,2,0)","v":5291.317919251218},{"$f":"VLOOKUP($D167,'c_Storage calculations'!$S$112:$AJ$116,L$3,0)","v":1833},{"$f":"VLOOKUP($D167,'c_Storage calculations'!$S$112:$AJ$116,M$3,0)","v":0},7124.317919251218,null,-3363.216590646191,0,null,-3363.216590646191,0,0,0]
[null,13,3,1,{"$f":"'c_Demand calculations'!N169","v":3351.7945011943816},null,{"$f":"VLOOKUP(D168,'c_Sources calculations'!$U$27:$Z$30,2,0)","v":5291.317919251218},{"$f":"VLOOKUP($D168,'c_Storage calculations'!$S$112:$AJ$116,H$3,0)","v":1833},7124.317919251218,null,{"$f":"VLOOKUP(D168,'c_Sources calculations'!$AB$27:$AG$30,2,0)","v":5291.317919251218},{"$f":"VLOOKUP($D168,'c_Storage calculations'!$S$112:$AJ$116,L$3,0)","v":1833},{"$f":"VLOOKUP($D168,'c_Storage calculations'!$S$112:$AJ$116,M$3,0)","v":0},7124.317919251218,null,-3772.5234180568364,0,null,-3772.5234180568364,0,0,0]
[null,14,3,1,{"$f":"'c_Demand calculations'!N170","v":3215.718910595388},null,{"$f":"VLOOKUP(D169,'c_Sources calculations'!$U$27:$Z$30,2,0)","v":5291.317919251218},{"$f":"VLOOKUP($D169,'c_Storage calculations'!$S$112:$AJ$116,H$3,0)","v":1833},7124.317919251218,null,{"$f":"VLOOKUP(D169,'c_Sources calculations'!$AB$27:$AG$30,2,0)","v":5291.317919251218},{"$f":"VLOOKUP($D169,'c_Storage calculations'!$S$112:$AJ$116,L$3,0)","v":1833},{"$f":"VLOOKUP($D169,'c_Storage calculations'!$S$112:$AJ$116,M$3,0)","v":0},7124.317919251218,null,-3908.5990086558299,0,null,-3908.5990086558299,0,0,0]
[null,15,3,1,{"$f":"'c_Demand calculations'!N171","v":3440.5968492790112},null,{"$f":"VLOOKUP(D170,'c_Sources calculations'!$U$27:$Z$30,2,0)","v":5291.317919251218},{"$f":"VLOOKUP($D170,'c_Storage calculations'!$S$112:$AJ$116,H$3,0)","v":1833},7124.317919251218,null,{"$f":"VLOOKUP(D170,'c_Sources calculations'!$AB$27:$AG$30,2,0)","v":5291.317919251218},{"$f":"VLOOKUP($D170,'c_Storage calculations'!$S$112:$AJ$116,L$3,0)","v":1833},{"$f":"VLOOKUP($D170,'c_Storage calculations'!$S$112:$AJ$116,M$3,0)","v":0},7124.317919251218,null,-3683.7210699722068,0,null,-3683.7210699722068,0,0,0]
[null,16,3,1,{"$f":"'c_Demand calculations'!N172","v":3277.9355307173296},null,{"$f":"VLOOKUP(D171,'c_Sources calculations'!$U$27:$Z$30,2,0)","v":5291.317919251218},{"$f":"VLOOKUP($D171,'c_Storage calculations'!$S$112:$AJ$116,H$3,0)","v":1833},7124.317919251218,null,{"$f":"VLOOKUP(D171,'c_Sources calculations'!$AB$27:$AG$30,2,0)","v":5291.317919251218},{"$f":"VLOOKUP($D171,'c_Storage calculations'!$S$112:$AJ$116,L$3,0)","v":1833},{"$f":"VLOOKUP($D171,'c_Storage calculations'!$S$112:$AJ$116,M$3,0)","v":0},7124.317919251218,null,-3846.3823885338884,0,null,-3846.3823885338884,0,0,0]
[null,17,3,1,{"$f":"'c_Demand calculations'!N173","v":3110.7684277268067},null,{"$f":"VLOOKUP(D172,'c_Sources calculations'!$U$27:$Z$30,2,0)","v":5291.317919251218},{"$f":"VLOOKUP($D172,'c_Storage calculations'!$S$112:$AJ$116,H$3,0)","v":1833},7124.317919251218,null,{"$f":"VLOOKUP(D172,'c_Sources calculations'!$AB$27:$AG$30,2,0)","v":5291.317919251218},{"$f":"VLOOKUP($D172,'c_Storage calculations'!$S$112:$AJ$116,L$3,0)","v":1833},{"$f":"VLOOKUP($D172,'c_Storage calculations'!$S$112:$AJ$116,M$3,0)","v":0},7124.317919251218,null,-4013.5494915244112,0,null,-4013.5494915244112,0,0,0]
[null,18,3,1,{"$f":"'c_Demand calculations'!N174","v":3009.4510855181193},null,{"$f":"VLOOKUP(D173,'c_Sources calculations'!$U$27:$Z$30,2,0)","v":5291.317919251218},{"$f":"VLOOKUP($D173,'c_Storage calculations'!$S$112:$AJ$116,H$3,0)","v":1833},7124.317919251218,null,{"$f":"VLOOKUP(D173,'c_Sources calculations'!$AB$27:$AG$30,2,0)","v":5291.317919251218},{"$f":"VLOOKUP($D173,'c_Storage calculations'!$S$112:$AJ$116,L$3,0)","v":1833},{"$f":"VLOOKUP($D173,'c_Storage calculations'!$S$112:$AJ$116,M$3,0)","v":0},7124.317919251218,null,-4114.8668337330982,0,null,-4114.8668337330982,0,0,0]
[null,19,3,1,{"$f":"'c_Demand calculations'!N175","v":2876.6589313871364},null,{"$f":"VLOOKUP(D174,'c_Sources calculations'!$U$27:$Z$30,2,0)","v":5291.317919251218},{"$f":"VLOOKUP($D174,'c_Storage calculations'!$S$112:$AJ$116,H$3,0)","v":1833},7124.317919251218,null,{"$f":"VLOOKUP(D174,'c_Sources calculations'!$AB$27:$AG$30,2,0)","v":5291.317919251218},{"$f":"VLOOKUP($D174,'c_Storage calculations'!$S$112:$AJ$116,L$3,0)","v":1833},{"$f":"VLOOKUP($D174,'c_Storage calculations'!$S$112:$AJ$116,M$3,0)","v":0},7124.317919251218,null,-4247.6589878640816,0,null,-4247.6589878640816,0,0,0]
[null,20,3,1,{"$f":"'c_Demand calculations'!N176","v":2816.3871544799581},null,{"$f":"VLOOKUP(D175,'c_Sources calculations'!$U$27:$Z$30,2,0)","v":5291.317919251218},{"$f":"VLOOKUP($D175,'c_Storage calculations'!$S$112:$AJ$116,H$3,0)","v":1833},7124.317919251218,null,{"$f":"VLOOKUP(D175,'c_Sources calculations'!$AB$27:$AG$30,2,0)","v":5291.317919251218},{"$f":"VLOOKUP($D175,'c_Storage calculations'!$S$112:$AJ$116,L$3,0)","v":1833},{"$f":"VLOOKUP($D175,'c_Storage calculations'!$S$112:$AJ$116,M$3,0)","v":0},7124.317919251218,null,-4307.9307647712594,0,null,-4307.9307647712594,0,0,0]
[null,21,3,1,{"$f":"'c_Demand calculations'!N177","v":2919.5562959796389},null,{"$f":"VLOOKUP(D176,'c_Sources calculations'!$U$27:$Z$30,2,0)","v":5291.317919251218},{"$f":"VLOOKUP($D176,'c_Storage calculations'!$S$112:$AJ$116,H$3,0)","v":1833},7124.317919251218,null,{"$f":"VLOOKUP(D176,'c_Sources calculations'!$AB$27:$AG$30,2,0)","v":5291.317919251218},{"$f":"VLOOKUP($D176,'c_Storage calculations'!$S$112:$AJ$116,L$3,0)","v":1833},{"$f":"VLOOKUP($D176,'c_Storage calculations'!$S$112:$AJ$116,M$3,0)","v":0},7124.317919251218,null,-4204.7616232715791,0,null,-4204.7616232715791,0,0,0]
[null,22,3,1,{"$f":"'c_Demand calculations'!N178","v":3224.7377978821364},null,{"$f":"VLOOKUP(D177,'c_Sources calculations'!$U$27:$Z$30,2,0)","v":5291.317919251218},{"$f":"VLOOKUP($D177,'c_Storage calculations'!$S$112:$AJ$116,H$3,0)","v":1833},7124.317919251218,null,{"$f":"VLOOKUP(D177,'c_Sources calculations'!$AB$27:$AG$30,2,0)","v":5291.317919251218},{"$f":"VLOOKUP($D177,'c_Storage calculations'!$S$112:$AJ$116,L$3,0)","v":1833},{"$f":"VLOOKUP($D177,'c_Storage calculations'!$S$112:$AJ$116,M$3,0)","v":0},7124.317919251218,null,-3899.5801213690816,0,null,-3899.5801213690816,0,0,0]
[null,23,3,1,{"$f":"'c_Demand calculations'!N179","v":3264.6242772602363},null,{"$f":"VLOOKUP(D178,'c_Sources calculations'!$U$27:$Z$30,2,0)","v":5291.317919251218},{"$f":"VLOOKUP($D178,'c_Storage calculations'!$S$112:$AJ$116,H$3,0)","v":1833},7124.317919251218,null,{"$f":"VLOOKUP(D178,'c_Sources calculations'!$AB$27:$AG$30,2,0)","v":5291.317919251218},{"$f":"VLOOKUP($D178,'c_Storage calculations'!$S$112:$AJ$116,L$3,0)","v":1833},{"$f":"VLOOKUP($D178,'c_Storage calculations'!$S$112:$AJ$116,M$3,0)","v":0},7124.317919251218,null,-3859.6936419909816,0,null,-3859.6936419909816,0,0,0]
[null,24,3,1,{"$f":"'c_Demand calculations'!N180","v":3054.0979168941744},null,{"$f":"VLOOKUP(D179,'c_Sources calculations'!$U$27:$Z$30,2,0)","v":5291.317919251218},{"$f":"VLOOKUP($D179,'c_Storage calculations'!$S$112:$AJ$116,H$3,0)","v":1833},7124.317919251218,null,{"$f":"VLOOKUP(D179,'c_Sources calculations'!$AB$27:$AG$30,2,0)","v":5291.317919251218},{"$f":"VLOOKUP($D179,'c_Storage calculations'!$S$112:$AJ$116,L$3,0)","v":1833},{"$f":"VLOOKUP($D179,'c_Storage calculations'!$S$112:$AJ$116,M$3,0)","v":0},7124.317919251218,null,-4070.2200023570435,0,null,-4070.2200023570435,0,0,0]
[null,25,3,1,{"$f":"'c_Demand calculations'!N181","v":2901.0922518888565},null,{"$f":"VLOOKUP(D180,'c_Sources calculations'!$U$27:$Z$30,2,0)","v":5291.317919251218},{"$f":"VLOOKUP($D180,'c_Storage calculations'!$S$112:$AJ$116,H$3,0)","v":1833},7124.317919251218,null,{"$f":"VLOOKUP(D180,'c_Sources calculations'!$AB$27:$AG$30,2,0)","v":5291.317919251218},{"$f":"VLOOKUP($D180,'c_Storage calculations'!$S$112:$AJ$116,L$3,0)","v":1833},{"$f":"VLOOKUP($D180,'c_Storage calculations'!$S$112:$AJ$116,M$3,0)","v":0},7124.317919251218,null,-4223.2256673623615,0,null,-4223.2256673623615,0,0,0]
[null,26,3,1,{"$f":"'c_Demand calculations'!N182","v":2993.1977404535692},null,{"$f":"VLOOKUP(D181,'c_Sources calculations'!$U$27:$Z$30,2,0)","v":5291.317919251218},{"$f":"VLOOKUP($D181,'c_Storage calculations'!$S$112:$AJ$116,H$3,0)","v":1833},7124.317919251218,null,{"$f":"VLOOKUP(D181,'c_Sources calculations'!$AB$27:$AG$30,2,0)","v":5291.317919251218},{"$f":"VLOOKUP($D181,'c_Storage calculations'!$S$112:$AJ$116,L$3,0)","v":1833},{"$f":"VLOOKUP($D181,'c_Storage calculations'!$S$112:$AJ$116,M$3,0)","v":0},7124.317919251218,null,-4131.1201787976488,0,null,-4131.1201787976488,0,0,0]
[null,27,3,1,{"$f":"'c_Demand calculations'!N183","v":2655.4946741282124},null,{"$f":"VLOOKUP(D182,'c_Sources calculations'!$U$27:$Z$30,2,0)","v":5291.317919251218},{"$f":"VLOOKUP($D182,'c_Storage calculations'!$S$112:$AJ$116,H$3,0)","v":1833},7124.317919251218,null,{"$f":"VLOOKUP(D182,'c_Sources calculations'!$AB$27:$AG$30,2,0)","v":5291.317919251218},{"$f":"VLOOKUP($D182,'c_Storage calculations'!$S$112:$AJ$116,L$3,0)","v":1833},{"$f":"VLOOKUP($D182,'c_Storage calculations'!$S$112:$AJ$116,M$3,0)","v":0},7124.317919251218,null,-4468.8232451230051,0,null,-4468.8232451230051,0,0,0]
[null,28,3,1,{"$f":"'c_Demand calculations'!N184","v":2820.0791551306602},null,{"$f":"VLOOKUP(D183,'c_Sources calculations'!$U$27:$Z$30,2,0)","v":5291.317919251218},{"$f":"VLOOKUP($D183,'c_Storage calculations'!$S$112:$AJ$116,H$3,0)","v":1833},7124.317919251218,null,{"$f":"VLOOKUP(D183,'c_Sources calculations'!$AB$27:$AG$30,2,0)","v":5291.317919251218},{"$f":"VLOOKUP($D183,'c_Storage calculations'!$S$112:$AJ$116,L$3,0)","v":1833},{"$f":"VLOOKUP($D183,'c_Storage calculations'!$S$112:$AJ$116,M$3,0)","v":0},7124.317919251218,null,-4304.2387641205578,0,null,-4304.2387641205578,0,0,0]
[null,29,3,1,{"$f":"'c_Demand calculations'!N185","v":3229.6966344480397},null,{"$f":"VLOOKUP(D184,'c_Sources calculations'!$U$27:$Z$30,2,0)","v":5291.317919251218},{"$f":"VLOOKUP($D184,'c_Storage calculations'!$S$112:$AJ$116,H$3,0)","v":1833},7124.317919251218,null,{"$f":"VLOOKUP(D184,'c_Sources calculations'!$AB$27:$AG$30,2,0)","v":5291.317919251218},{"$f":"VLOOKUP($D184,'c_Storage calculations'!$S$112:$AJ$116,L$3,0)","v":1833},{"$f":"VLOOKUP($D184,'c_Storage calculations'!$S$112:$AJ$116,M$3,0)","v":0},7124.317919251218,null,-3894.6212848031782,0,null,-3894.6212848031782,0,0,0]
[null,30,3,1,{"$f":"'c_Demand calculations'!N186","v":3246.7695499159404},null,{"$f":"VLOOKUP(D185,'c_Sources calculations'!$U$27:$Z$30,2,0)","v":5291.317919251218},{"$f":"VLOOKUP($D185,'c_Storage calculations'!$S$112:$AJ$116,H$3,0)","v":1833},7124.317919251218,null,{"$f":"VLOOKUP(D185,'c_Sources calculations'!$AB$27:$AG$30,2,0)","v":5291.317919251218},{"$f":"VLOOKUP($D185,'c_Storage calculations'!$S$112:$AJ$116,L$3,0)","v":1833},{"$f":"VLOOKUP($D185,'c_Storage calculations'!$S$112:$AJ$116,M$3,0)","v":0},7124.317919251218,null,-3877.5483693352776,0,null,-3877.5483693352776,0,0,0]
[null,31,3,1,{"$f":"'c_Demand calculations'!N187","v":3860.44846936871},null,{"$f":"VLOOKUP(D186,'c_Sources calculations'!$U$27:$Z$30,2,0)","v":5291.317919251218},{"$f":"VLOOKUP($D186,'c_Storage calculations'!$S$112:$AJ$116,H$3,0)","v":1833},7124.317919251218,null,{"$f":"VLOOKUP(D186,'c_Sources calculations'!$AB$27:$AG$30,2,0)","v":5291.317919251218},{"$f":"VLOOKUP($D186,'c_Storage calculations'!$S$112:$AJ$116,L$3,0)","v":1833},{"$f":"VLOOKUP($D186,'c_Storage calculations'!$S$112:$AJ$116,M$3,0)","v":0},7124.317919251218,null,-3263.869449882508,0,null,-3263.869449882508,0,0,0]
[null,1,4,2,{"$f":"'c_Demand calculations'!N188","v":3683.9973213985008},null,{"$f":"VLOOKUP(D187,'c_Sources calculations'!$U$27:$Z$30,2,0)","v":5291.317919251218},{"$f":"VLOOKUP($D187,'c_Storage calculations'!$S$112:$AJ$116,H$3,0)","v":1833},7124.317919251218,null,{"$f":"VLOOKUP(D187,'c_Sources calculations'!$AB$27:$AG$30,2,0)","v":5291.317919251218},{"$f":"VLOOKUP($D187,'c_Storage calculations'!$S$112:$AJ$116,L$3,0)","v":1833},{"$f":"VLOOKUP($D187,'c_Storage calculations'!$S$112:$AJ$116,M$3,0)","v":0},7124.317919251218,null,-3440.3205978527171,0,null,-3440.3205978527171,0,0,0]
[null,2,4,2,{"$f":"'c_Demand calculations'!N189","v":3151.0741209848979},null,{"$f":"VLOOKUP(D188,'c_Sources calculations'!$U$27:$Z$30,2,0)","v":5291.317919251218},{"$f":"VLOOKUP($D188,'c_Storage calculations'!$S$112:$AJ$116,H$3,0)","v":1833},7124.317919251218,null,{"$f":"VLOOKUP(D188,'c_Sources calculations'!$AB$27:$AG$30,2,0)","v":5291.317919251218},{"$f":"VLOOKUP($D188,'c_Storage calculations'!$S$112:$AJ$116,L$3,0)","v":1833},{"$f":"VLOOKUP($D188,'c_Storage calculations'!$S$112:$AJ$116,M$3,0)","v":0},7124.317919251218,null,-3973.24379826632,0,null,-3973.24379826632,0,0,0]
[null,3,4,2,{"$f":"'c_Demand calculations'!N190","v":2879.6539000748376},null,{"$f":"VLOOKUP(D189,'c_Sources calculations'!$U$27:$Z$30,2,0)","v":5291.317919251218},{"$f":"VLOOKUP($D189,'c_Storage calculations'!$S$112:$AJ$116,H$3,0)","v":1833},7124.317919251218,null,{"$f":"VLOOKUP(D189,'c_Sources calculations'!$AB$27:$AG$30,2,0)","v":5291.317919251218},{"$f":"VLOOKUP($D189,'c_Storage calculations'!$S$112:$AJ$116,L$3,0)","v":1833},{"$f":"VLOOKUP($D189,'c_Storage calculations'!$S$112:$AJ$116,M$3,0)","v":0},7124.317919251218,null,-4244.66401917638,0,null,-4244.66401917638,0,0,0]
[null,4,4,2,{"$f":"'c_Demand calculations'!N191","v":2782.2411039832814},null,{"$f":"VLOOKUP(D190,'c_Sources calculations'!$U$27:$Z$30,2,0)","v":5291.317919251218},{"$f":"VLOOKUP($D190,'c_Storage calculations'!$S$112:$AJ$116,H$3,0)","v":1833},7124.317919251218,null,{"$f":"VLOOKUP(D190,'c_Sources calculations'!$AB$27:$AG$30,2,0)","v":5291.317919251218},{"$f":"VLOOKUP($D190,'c_Storage calculations'!$S$112:$AJ$116,L$3,0)","v":1833},{"$f":"VLOOKUP($D190,'c_Storage calculations'!$S$112:$AJ$116,M$3,0)","v":0},7124.317919251218,null,-4342.0768152679366,0,null,-4342.0768152679366,0,0,0]
[null,5,4,2,{"$f":"'c_Demand calculations'!N192","v":2893.3958566555762},null,{"$f":"VLOOKUP(D191,'c_Sources calculations'!$U$27:$Z$30,2,0)","v":5291.317919251218},{"$f":"VLOOKUP($D191,'c_Storage calculations'!$S$112:$AJ$116,H$3,0)","v":1833},7124.317919251218,null,{"$f":"VLOOKUP(D191,'c_Sources calculations'!$AB$27:$AG$30,2,0)","v":5291.317919251218},{"$f":"VLOOKUP($D191,'c_Storage calculations'!$S$112:$AJ$116,L$3,0)","v":1833},{"$f":"VLOOKUP($D191,'c_Storage calculations'!$S$112:$AJ$116,M$3,0)","v":0},7124.317919251218,null,-4230.9220625956423,0,null,-4230.9220625956423,0,0,0]
[null,6,4,2,{"$f":"'c_Demand calculations'!N193","v":2792.6224482371726},null,{"$f":"VLOOKUP(D192,'c_Sources calculations'!$U$27:$Z$30,2,0)","v":5291.317919251218},{"$f":"VLOOKUP($D192,'c_Storage calculations'!$S$112:$AJ$116,H$3,0)","v":1833},7124.317919251218,null,{"$f":"VLOOKUP(D192,'c_Sources calculations'!$AB$27:$AG$30,2,0)","v":5291.317919251218},{"$f":"VLOOKUP($D192,'c_Storage calculations'!$S$112:$AJ$116,L$3,0)","v":1833},{"$f":"VLOOKUP($D192,'c_Storage calculations'!$S$112:$AJ$116,M$3,0)","v":0},7124.317919251218,null,-4331.6954710140453,0,null,-4331.6954710140453,0,0,0]
[null,7,4,2,{"$f":"'c_Demand calculations'!N194","v":2887.3485107715983},null,{"$f":"VLOOKUP(D193,'c_Sources calculations'!$U$27:$Z$30,2,0)","v":5291.317919251218},{"$f":"VLOOKUP($D193,'c_Storage calculations'!$S$112:$AJ$116,H$3,0)","v":1833},7124.317919251218,null,{"$f":"VLOOKUP(D193,'c_Sources calculations'!$AB$27:$AG$30,2,0)","v":5291.317919251218},{"$f":"VLOOKUP($D193,'c_Storage calculations'!$S$112:$AJ$116,L$3,0)","v":1833},{"$f":"VLOOKUP($D193,'c_Storage calculations'!$S$112:$AJ$116,M$3,0)","v":0},7124.317919251218,null,-4236.9694084796192,0,null,-4236.9694084796192,0,0,0]
[null,8,4,2,{"$f":"'c_Demand calculations'!N195","v":2656.5981598084904},null,{"$f":"VLOOKUP(D194,'c_Sources calculations'!$U$27:$Z$30,2,0)","v":5291.317919251218},{"$f":"VLOOKUP($D194,'c_Storage calculations'!$S$112:$AJ$116,H$3,0)","v":1833},7124.317919251218,null,{"$f":"VLOOKUP(D194,'c_Sources calculations'!$AB$27:$AG$30,2,0)","v":5291.317919251218},{"$f":"VLOOKUP($D194,'c_Storage calculations'!$S$112:$AJ$116,L$3,0)","v":1833},{"$f":"VLOOKUP($D194,'c_Storage calculations'!$S$112:$AJ$116,M$3,0)","v":0},7124.317919251218,null,-4467.7197594427271,0,null,-4467.7197594427271,0,0,0]
[null,9,4,2,{"$f":"'c_Demand calculations'!N196","v":2526.1494869151988},null,{"$f":"VLOOKUP(D195,'c_Sources calculations'!$U$27:$Z$30,2,0)","v":5291.317919251218},{"$f":"VLOOKUP($D195,'c_Storage calculations'!$S$112:$AJ$116,H$3,0)","v":1833},7124.317919251218,null,{"$f":"VLOOKUP(D195,'c_Sources calculations'!$AB$27:$AG$30,2,0)","v":5291.317919251218},{"$f":"VLOOKUP($D195,'c_Storage calculations'!$S$112:$AJ$116,L$3,0)","v":1833},{"$f":"VLOOKUP($D195,'c_Storage calculations'!$S$112:$AJ$116,M$3,0)","v":0},7124.317919251218,null,-4598.1684323360187,0,null,-4598.1684323360187,0,0,0]
[null,10,4,2,{"$f":"'c_Demand calculations'!N197","v":2317.7987841026697},null,{"$f":"VLOOKUP(D196,'c_Sources calculations'!$U$27:$Z$30,2,0)","v":5291.317919251218},{"$f":"VLOOKUP($D196,'c_Storage calculations'!$S$112:$AJ$116,H$3,0)","v":1833},7124.317919251218,null,{"$f":"VLOOKUP(D196,'c_Sources calculations'!$AB$27:$AG$30,2,0)","v":5291.317919251218},{"$f":"VLOOKUP($D196,'c_Storage calculations'!$S$112:$AJ$116,L$3,0)","v":1833},{"$f":"VLOOKUP($D196,'c_Storage calculations'!$S$112:$AJ$116,M$3,0)","v":0},7124.317919251218,null,-4806.5191351485482,0,null,-4806.5191351485482,0,0,0]
[null,11,4,2,{"$f":"'c_Demand calculations'!N198","v":2479.3171473698208},null,{"$f":"VLOOKUP(D197,'c_Sources calculations'!$U$27:$Z$30,2,0)","v":5291.317919251218},{"$f":"VLOOKUP($D197,'c_Storage calculations'!$S$112:$AJ$116,H$3,0)","v":1833},7124.317919251218,null,{"$f":"VLOOKUP(D197,'c_Sources calculations'!$AB$27:$AG$30,2,0)","v":5291.317919251218},{"$f":"VLOOKUP($D197,'c_Storage calculations'!$S$112:$AJ$116,L$3,0)","v":1833},{"$f":"VLOOKUP($D197,'c_Storage calculations'!$S$112:$AJ$116,M$3,0)","v":0},7124.317919251218,null,{"$f":"E197-I197","v":-4645.0007718813977},0,null,{"$f":"E197-N197","v":-4645.0007718813977},0,0,{"$f":"T197*E197","v":0}]
[null,12,4,{"$f":"IF(C198<=3,1,IF(C198<=6,2,IF(C198<=9,3,4)))","v":2},{"$f":"'c_Demand calculations'!N199","v":2779.1168105626116},null,{"$f":"VLOOKUP(D198,'c_Sources calculations'!$U$27:$Z$30,2,0)","v":5291.317919251218},{"$f":"VLOOKUP($D198,'c_Storage calculations'!$S$112:$AJ$116,H$3,0)","v":1833},{"$f":"SUM(G198:H198)","v":7124.317919251218},null,{"$f":"VLOOKUP(D198,'c_Sources calculations'!$AB$27:$AG$30,2,0)","v":5291.317919251218},{"$f":"VLOOKUP($D198,'c_Storage calculations'!$S$112:$AJ$116,L$3,0)","v":1833},{"$f":"VLOOKUP($D198,'c_Storage calculations'!$S$112:$AJ$116,M$3,0)","v":0},{"$f":"SUM(K198:L198)-M198","v":7124.317919251218},null,-4345.2011086886068,{"$f":"IF(P198>0,1,0)","v":0},null,-4345.2011086886068,{"$f":"IF(S198>0,1,0)","v":0},{"$f":"T198*S198","v":0},0]
[null,13,4,2,{"$f":"'c_Demand calculations'!N200","v":2882.4124505881487},null,{"$f":"VLOOKUP(D199,'c_Sources calculations'!$U$27:$Z$30,2,0)","v":5291.317919251218},{"$f":"VLOOKUP($D199,'c_Storage calculations'!$S$112:$AJ$116,H$3,0)","v":1833},7124.317919251218,null,{"$f":"VLOOKUP(D199,'c_Sources calculations'!$AB$27:$AG$30,2,0)","v":5291.317919251218},{"$f":"VLOOKUP($D199,'c_Storage calculations'!$S$112:$AJ$116,L$3,0)","v":1833},{"$f":"VLOOKUP($D199,'c_Storage calculations'!$S$112:$AJ$116,M$3,0)","v":0},7124.317919251218,null,-4241.9054686630698,0,null,-4241.9054686630698,0,0,0]
[null,14,4,2,{"$f":"'c_Demand calculations'!N201","v":2984.965359088364},null,{"$f":"VLOOKUP(D200,'c_Sources calculations'!$U$27:$Z$30,2,0)","v":5291.317919251218},{"$f":"VLOOKUP($D200,'c_Storage calculations'!$S$112:$AJ$116,H$3,0)","v":1833},7124.317919251218,null,{"$f":"VLOOKUP(D200,'c_Sources calculations'!$AB$27:$AG$30,2,0)","v":5291.317919251218},{"$f":"VLOOKUP($D200,'c_Storage calculations'!$S$112:$AJ$116,L$3,0)","v":1833},{"$f":"VLOOKUP($D200,'c_Storage calculations'!$S$112:$AJ$116,M$3,0)","v":0},7124.317919251218,null,-4139.3525601628535,0,null,-4139.3525601628535,0,0,0]
[null,15,4,2,{"$f":"'c_Demand calculations'!N202","v":2914.3543591357552},null,{"$f":"VLOOKUP(D201,'c_Sources calculations'!$U$27:$Z$30,2,0)","v":5291.317919251218},{"$f":"VLOOKUP($D201,'c_Storage calculations'!$S$112:$AJ$116,H$3,0)","v":1833},7124.317919251218,null,{"$f":"VLOOKUP(D201,'c_Sources calculations'!$AB$27:$AG$30,2,0)","v":5291.317919251218},{"$f":"VLOOKUP($D201,'c_Storage calculations'!$S$112:$AJ$116,L$3,0)","v":1833},{"$f":"VLOOKUP($D201,'c_Storage calculations'!$S$112:$AJ$116,M$3,0)","v":0},7124.317919251218,null,-4209.9635601154623,0,null,-4209.9635601154623,0,0,0]
[null,16,4,2,{"$f":"'c_Demand calculations'!N203","v":2714.0208305474789},null,{"$f":"VLOOKUP(D202,'c_Sources calculations'!$U$27:$Z$30,2,0)","v":5291.317919251218},{"$f":"VLOOKUP($D202,'c_Storage calculations'!$S$112:$AJ$116,H$3,0)","v":1833},7124.317919251218,null,{"$f":"VLOOKUP(D202,'c_Sources calculations'!$AB$27:$AG$30,2,0)","v":5291.317919251218},{"$f":"VLOOKUP($D202,'c_Storage calculations'!$S$112:$AJ$116,L$3,0)","v":1833},{"$f":"VLOOKUP($D202,'c_Storage calculations'!$S$112:$AJ$116,M$3,0)","v":0},7124.317919251218,null,-4410.2970887037391,0,null,-4410.2970887037391,0,0,0]
[null,17,4,2,{"$f":"'c_Demand calculations'!N204","v":2328.1082033137645},null,{"$f":"VLOOKUP(D203,'c_Sources calculations'!$U$27:$Z$30,2,0)","v":5291.317919251218},{"$f":"VLOOKUP($D203,'c_Storage calculations'!$S$112:$AJ$116,H$3,0)","v":1833},7124.317919251218,null,{"$f":"VLOOKUP(D203,'c_Sources calculations'!$AB$27:$AG$30,2,0)","v":5291.317919251218},{"$f":"VLOOKUP($D203,'c_Storage calculations'!$S$112:$AJ$116,L$3,0)","v":1833},{"$f":"VLOOKUP($D203,'c_Storage calculations'!$S$112:$AJ$116,M$3,0)","v":0},7124.317919251218,null,-4796.2097159374534,0,null,-4796.2097159374534,0,0,0]
[null,18,4,2,{"$f":"'c_Demand calculations'!N205","v":2372.3670183657141},null,{"$f":"VLOOKUP(D204,'c_Sources calculations'!$U$27:$Z$30,2,0)","v":5291.317919251218},{"$f":"VLOOKUP($D204,'c_Storage calculations'!$S$112:$AJ$116,H$3,0)","v":1833},7124.317919251218,null,{"$f":"VLOOKUP(D204,'c_Sources calculations'!$AB$27:$AG$30,2,0)","v":5291.317919251218},{"$f":"VLOOKUP($D204,'c_Storage calculations'!$S$112:$AJ$116,L$3,0)","v":1833},{"$f":"VLOOKUP($D204,'c_Storage calculations'!$S$112:$AJ$116,M$3,0)","v":0},7124.317919251218,null,-4751.9509008855039,0,null,-4751.9509008855039,0,0,0]
[null,19,4,2,{"$f":"'c_Demand calculations'!N206","v":2779.7597710112159},null,{"$f":"VLOOKUP(D205,'c_Sources calculations'!$U$27:$Z$30,2,0)","v":5291.317919251218},{"$f":"VLOOKUP($D205,'c_Storage calculations'!$S$112:$AJ$116,H$3,0)","v":1833},7124.317919251218,null,{"$f":"VLOOKUP(D205,'c_Sources calculations'!$AB$27:$AG$30,2,0)","v":5291.317919251218},{"$f":"VLOOKUP($D205,'c_Storage calculations'!$S$112:$AJ$116,L$3,0)","v":1833},{"$f":"VLOOKUP($D205,'c_Storage calculations'!$S$112:$AJ$116,M$3,0)","v":0},7124.317919251218,null,-4344.5581482400021,0,null,-4344.5581482400021,0,0,0]
[null,20,4,2,{"$f":"'c_Demand calculations'!N207","v":2869.3605693070999},null,{"$f":"VLOOKUP(D206,'c_Sources calculations'!$U$27:$Z$30,2,0)","v":5291.317919251218},{"$f":"VLOOKUP($D206,'c_Storage calculations'!$S$112:$AJ$116,H$3,0)","v":1833},7124.317919251218,null,{"$f":"VLOOKUP(D206,'c_Sources calculations'!$AB$27:$AG$30,2,0)","v":5291.317919251218},{"$f":"VLOOKUP($D206,'c_Storage calculations'!$S$112:$AJ$116,L$3,0)","v":1833},{"$f":"VLOOKUP($D206,'c_Storage calculations'!$S$112:$AJ$116,M$3,0)","v":0},7124.317919251218,null,-4254.9573499441176,0,null,-4254.9573499441176,0,0,0]
[null,21,4,2,{"$f":"'c_Demand calculations'!N208","v":2843.9183354144334},null,{"$f":"VLOOKUP(D207,'c_Sources calculations'!$U$27:$Z$30,2,0)","v":5291.317919251218},{"$f":"VLOOKUP($D207,'c_Storage calculations'!$S$112:$AJ$116,H$3,0)","v":1833},7124.317919251218,null,{"$f":"VLOOKUP(D207,'c_Sources calculations'!$AB$27:$AG$30,2,0)","v":5291.317919251218},{"$f":"VLOOKUP($D207,'c_Storage calculations'!$S$112:$AJ$116,L$3,0)","v":1833},{"$f":"VLOOKUP($D207,'c_Storage calculations'!$S$112:$AJ$116,M$3,0)","v":0},7124.317919251218,null,-4280.3995838367846,0,null,-4280.3995838367846,0,0,0]
[null,22,4,2,{"$f":"'c_Demand calculations'!N209","v":2693.3241623004737},null,{"$f":"VLOOKUP(D208,'c_Sources calculations'!$U$27:$Z$30,2,0)","v":5291.317919251218},{"$f":"VLOOKUP($D208,'c_Storage calculations'!$S$112:$AJ$116,H$3,0)","v":1833},7124.317919251218,null,{"$f":"VLOOKUP(D208,'c_Sources calculations'!$AB$27:$AG$30,2,0)","v":5291.317919251218},{"$f":"VLOOKUP($D208,'c_Storage calculations'!$S$112:$AJ$116,L$3,0)","v":1833},{"$f":"VLOOKUP($D208,'c_Storage calculations'!$S$112:$AJ$116,M$3,0)","v":0},7124.317919251218,null,-4430.9937569507438,0,null,-4430.9937569507438,0,0,0]
[null,23,4,2,{"$f":"'c_Demand calculations'!N210","v":2604.2758785059141},null,{"$f":"VLOOKUP(D209,'c_Sources calculations'!$U$27:$Z$30,2,0)","v":5291.317919251218},{"$f":"VLOOKUP($D209,'c_Storage calculations'!$S$112:$AJ$116,H$3,0)","v":1833},7124.317919251218,null,{"$f":"VLOOKUP(D209,'c_Sources calculations'!$AB$27:$AG$30,2,0)","v":5291.317919251218},{"$f":"VLOOKUP($D209,'c_Storage calculations'!$S$112:$AJ$116,L$3,0)","v":1833},{"$f":"VLOOKUP($D209,'c_Storage calculations'!$S$112:$AJ$116,M$3,0)","v":0},7124.317919251218,null,-4520.0420407453039,0,null,-4520.0420407453039,0,0,0]
[null,24,4,2,{"$f":"'c_Demand calculations'!N211","v":2283.9327329239222},null,{"$f":"VLOOKUP(D210,'c_Sources calculations'!$U$27:$Z$30,2,0)","v":5291.317919251218},{"$f":"VLOOKUP($D210,'c_Storage calculations'!$S$112:$AJ$116,H$3,0)","v":1833},7124.317919251218,null,{"$f":"VLOOKUP(D210,'c_Sources calculations'!$AB$27:$AG$30,2,0)","v":5291.317919251218},{"$f":"VLOOKUP($D210,'c_Storage calculations'!$S$112:$AJ$116,L$3,0)","v":1833},{"$f":"VLOOKUP($D210,'c_Storage calculations'!$S$112:$AJ$116,M$3,0)","v":0},7124.317919251218,null,-4840.3851863272957,0,null,-4840.3851863272957,0,0,0]
[null,25,4,2,{"$f":"'c_Demand calculations'!N212","v":2206.1486052974742},null,{"$f":"VLOOKUP(D211,'c_Sources calculations'!$U$27:$Z$30,2,0)","v":5291.317919251218},{"$f":"VLOOKUP($D211,'c_Storage calculations'!$S$112:$AJ$116,H$3,0)","v":1833},7124.317919251218,null,{"$f":"VLOOKUP(D211,'c_Sources calculations'!$AB$27:$AG$30,2,0)","v":5291.317919251218},{"$f":"VLOOKUP($D211,'c_Storage calculations'!$S$112:$AJ$116,L$3,0)","v":1833},{"$f":"VLOOKUP($D211,'c_Storage calculations'!$S$112:$AJ$116,M$3,0)","v":0},7124.317919251218,null,-4918.1693139537438,0,null,-4918.1693139537438,0,0,0]
[null,26,4,2,{"$f":"'c_Demand calculations'!N213","v":2367.9581827769148},null,{"$f":"VLOOKUP(D212,'c_Sources calculations'!$U$27:$Z$30,2,0)","v":5291.317919251218},{"$f":"VLOOKUP($D212,'c_Storage calculations'!$S$112:$AJ$116,H$3,0)","v":1833},7124.317919251218,null,{"$f":"VLOOKUP(D212,'c_Sources calculations'!$AB$27:$AG$30,2,0)","v":5291.317919251218},{"$f":"VLOOKUP($D212,'c_Storage calculations'!$S$112:$AJ$116,L$3,0)","v":1833},{"$f":"VLOOKUP($D212,'c_Storage calculations'!$S$112:$AJ$116,M$3,0)","v":0},7124.317919251218,null,-4756.3597364743036,0,null,-4756.3597364743036,0,0,0]
[null,27,4,2,{"$f":"'c_Demand calculations'!N214","v":2311.2754738112108},null,{"$f":"VLOOKUP(D213,'c_Sources calculations'!$U$27:$Z$30,2,0)","v":5291.317919251218},{"$f":"VLOOKUP($D213,'c_Storage calculations'!$S$112:$AJ$116,H$3,0)","v":1833},7124.317919251218,null,{"$f":"VLOOKUP(D213,'c_Sources calculations'!$AB$27:$AG$30,2,0)","v":5291.317919251218},{"$f":"VLOOKUP($D213,'c_Storage calculations'!$S$112:$AJ$116,L$3,0)","v":1833},{"$f":"VLOOKUP($D213,'c_Storage calculations'!$S$112:$AJ$116,M$3,0)","v":0},7124.317919251218,null,-4813.0424454400072,0,null,-4813.0424454400072,0,0,0]
[null,28,4,2,{"$f":"'c_Demand calculations'!N215","v":2247.3830179857746},null,{"$f":"VLOOKUP(D214,'c_Sources calculations'!$U$27:$Z$30,2,0)","v":5291.317919251218},{"$f":"VLOOKUP($D214,'c_Storage calculations'!$S$112:$AJ$116,H$3,0)","v":1833},7124.317919251218,null,{"$f":"VLOOKUP(D214,'c_Sources calculations'!$AB$27:$AG$30,2,0)","v":5291.317919251218},{"$f":"VLOOKUP($D214,'c_Storage calculations'!$S$112:$AJ$116,L$3,0)","v":1833},{"$f":"VLOOKUP($D214,'c_Storage calculations'!$S$112:$AJ$116,M$3,0)","v":0},7124.317919251218,null,-4876.9349012654438,0,null,-4876.9349012654438,0,0,0]
[null,29,4,2,{"$f":"'c_Demand calculations'!N216","v":2412.7924450938826},null,{"$f":"VLOOKUP(D215,'c_Sources calculations'!$U$27:$Z$30,2,0)","v":5291.317919251218},{"$f":"VLOOKUP($D215,'c_Storage calculations'!$S$112:$AJ$116,H$3,0)","v":1833},7124.317919251218,null,{"$f":"VLOOKUP(D215,'c_Sources calculations'!$AB$27:$AG$30,2,0)","v":5291.317919251218},{"$f":"VLOOKUP($D215,'c_Storage calculations'!$S$112:$AJ$116,L$3,0)","v":1833},{"$f":"VLOOKUP($D215,'c_Storage calculations'!$S$112:$AJ$116,M$3,0)","v":0},7124.317919251218,null,-4711.5254741573353,0,null,-4711.5254741573353,0,0,0]
[null,30,4,2,{"$f":"'c_Demand calculations'!N217","v":2433.5765403998557},null,{"$f":"VLOOKUP(D216,'c_Sources calculations'!$U$27:$Z$30,2,0)","v":5291.317919251218},{"$f":"VLOOKUP($D216,'c_Storage calculations'!$S$112:$AJ$116,H$3,0)","v":1833},7124.317919251218,null,{"$f":"VLOOKUP(D216,'c_Sources calculations'!$AB$27:$AG$30,2,0)","v":5291.317919251218},{"$f":"VLOOKUP($D216,'c_Storage calculations'!$S$112:$AJ$116,L$3,0)","v":1833},{"$f":"VLOOKUP($D216,'c_Storage calculations'!$S$112:$AJ$116,M$3,0)","v":0},7124.317919251218,null,-4690.7413788513622,0,null,-4690.7413788513622,0,0,0]
[null,1,5,2,{"$f":"'c_Demand calculations'!N218","v":2313.8593023533876},null,{"$f":"VLOOKUP(D217,'c_Sources calculations'!$U$27:$Z$30,2,0)","v":5291.317919251218},{"$f":"VLOOKUP($D217,'c_Storage calculations'!$S$112:$AJ$116,H$3,0)","v":1833},7124.317919251218,null,{"$f":"VLOOKUP(D217,'c_Sources calculations'!$AB$27:$AG$30,2,0)","v":5291.317919251218},{"$f":"VLOOKUP($D217,'c_Storage calculations'!$S$112:$AJ$116,L$3,0)","v":1833},{"$f":"VLOOKUP($D217,'c_Storage calculations'!$S$112:$AJ$116,M$3,0)","v":0},7124.317919251218,null,-4810.4586168978303,0,null,-4810.4586168978303,0,0,0]
[null,2,5,2,{"$f":"'c_Demand calculations'!N219","v":2740.0318544251554},null,{"$f":"VLOOKUP(D218,'c_Sources calculations'!$U$27:$Z$30,2,0)","v":5291.317919251218},{"$f":"VLOOKUP($D218,'c_Storage calculations'!$S$112:$AJ$116,H$3,0)","v":1833},7124.317919251218,null,{"$f":"VLOOKUP(D218,'c_Sources calculations'!$AB$27:$AG$30,2,0)","v":5291.317919251218},{"$f":"VLOOKUP($D218,'c_Storage calculations'!$S$112:$AJ$116,L$3,0)","v":1833},{"$f":"VLOOKUP($D218,'c_Storage calculations'!$S$112:$AJ$116,M$3,0)","v":0},7124.317919251218,null,-4384.286064826063,0,null,-4384.286064826063,0,0,0]
[null,3,5,2,{"$f":"'c_Demand calculations'!N220","v":2852.9194239213543},null,{"$f":"VLOOKUP(D219,'c_Sources calculations'!$U$27:$Z$30,2,0)","v":5291.317919251218},{"$f":"VLOOKUP($D219,'c_Storage calculations'!$S$112:$AJ$116,H$3,0)","v":1833},7124.317919251218,null,{"$f":"VLOOKUP(D219,'c_Sources calculations'!$AB$27:$AG$30,2,0)","v":5291.317919251218},{"$f":"VLOOKUP($D219,'c_Storage calculations'!$S$112:$AJ$116,L$3,0)","v":1833},{"$f":"VLOOKUP($D219,'c_Storage calculations'!$S$112:$AJ$116,M$3,0)","v":0},7124.317919251218,null,-4271.3984953298641,0,null,-4271.3984953298641,0,0,0]
[null,4,5,2,{"$f":"'c_Demand calculations'!N221","v":2891.4106411080556},null,{"$f":"VLOOKUP(D220,'c_Sources calculations'!$U$27:$Z$30,2,0)","v":5291.317919251218},{"$f":"VLOOKUP($D220,'c_Storage calculations'!$S$112:$AJ$116,H$3,0)","v":1833},7124.317919251218,null,{"$f":"VLOOKUP(D220,'c_Sources calculations'!$AB$27:$AG$30,2,0)","v":5291.317919251218},{"$f":"VLOOKUP($D220,'c_Storage calculations'!$S$112:$AJ$116,L$3,0)","v":1833},{"$f":"VLOOKUP($D220,'c_Storage calculations'!$S$112:$AJ$116,M$3,0)","v":0},7124.317919251218,null,-4232.9072781431623,0,null,-4232.9072781431623,0,0,0]
[null,5,5,2,{"$f":"'c_Demand calculations'!N222","v":2603.4303082486649},null,{"$f":"VLOOKUP(D221,'c_Sources calculations'!$U$27:$Z$30,2,0)","v":5291.317919251218},{"$f":"VLOOKUP($D221,'c_Storage calculations'!$S$112:$AJ$116,H$3,0)","v":1833},7124.317919251218,null,{"$f":"VLOOKUP(D221,'c_Sources calculations'!$AB$27:$AG$30,2,0)","v":5291.317919251218},{"$f":"VLOOKUP($D221,'c_Storage calculations'!$S$112:$AJ$116,L$3,0)","v":1833},{"$f":"VLOOKUP($D221,'c_Storage calculations'!$S$112:$AJ$116,M$3,0)","v":0},7124.317919251218,null,-4520.8876110025531,0,null,-4520.8876110025531,0,0,0]
[null,6,5,2,{"$f":"'c_Demand calculations'!N223","v":2680.586726823959},null,{"$f":"VLOOKUP(D222,'c_Sources calculations'!$U$27:$Z$30,2,0)","v":5291.317919251218},{"$f":"VLOOKUP($D222,'c_Storage calculations'!$S$112:$AJ$116,H$3,0)","v":1833},7124.317919251218,null,{"$f":"VLOOKUP(D222,'c_Sources calculations'!$AB$27:$AG$30,2,0)","v":5291.317919251218},{"$f":"VLOOKUP($D222,'c_Storage calculations'!$S$112:$AJ$116,L$3,0)","v":1833},{"$f":"VLOOKUP($D222,'c_Storage calculations'!$S$112:$AJ$116,M$3,0)","v":0},7124.317919251218,null,-4443.731192427259,0,null,-4443.731192427259,0,0,0]
[null,7,5,2,{"$f":"'c_Demand calculations'!N224","v":2807.6444637671179},null,{"$f":"VLOOKUP(D223,'c_Sources calculations'!$U$27:$Z$30,2,0)","v":5291.317919251218},{"$f":"VLOOKUP($D223,'c_Storage calculations'!$S$112:$AJ$116,H$3,0)","v":1833},7124.317919251218,null,{"$f":"VLOOKUP(D223,'c_Sources calculations'!$AB$27:$AG$30,2,0)","v":5291.317919251218},{"$f":"VLOOKUP($D223,'c_Storage calculations'!$S$112:$AJ$116,L$3,0)","v":1833},{"$f":"VLOOKUP($D223,'c_Storage calculations'!$S$112:$AJ$116,M$3,0)","v":0},7124.317919251218,null,-4316.6734554841005,0,null,-4316.6734554841005,0,0,0]
[null,8,5,2,{"$f":"'c_Demand calculations'!N225","v":2765.5518700756224},null,{"$f":"VLOOKUP(D224,'c_Sources calculations'!$U$27:$Z$30,2,0)","v":5291.317919251218},{"$f":"VLOOKUP($D224,'c_Storage calculations'!$S$112:$AJ$116,H$3,0)","v":1833},7124.317919251218,null,{"$f":"VLOOKUP(D224,'c_Sources calculations'!$AB$27:$AG$30,2,0)","v":5291.317919251218},{"$f":"VLOOKUP($D224,'c_Storage calculations'!$S$112:$AJ$116,L$3,0)","v":1833},{"$f":"VLOOKUP($D224,'c_Storage calculations'!$S$112:$AJ$116,M$3,0)","v":0},7124.317919251218,null,-4358.766049175596,0,null,-4358.766049175596,0,0,0]
[null,9,5,2,{"$f":"'c_Demand calculations'!N226","v":2675.9657708962318},null,{"$f":"VLOOKUP(D225,'c_Sources calculations'!$U$27:$Z$30,2,0)","v":5291.317919251218},{"$f":"VLOOKUP($D225,'c_Storage calculations'!$S$112:$AJ$116,H$3,0)","v":1833},7124.317919251218,null,{"$f":"VLOOKUP(D225,'c_Sources calculations'!$AB$27:$AG$30,2,0)","v":5291.317919251218},{"$f":"VLOOKUP($D225,'c_Storage calculations'!$S$112:$AJ$116,L$3,0)","v":1833},{"$f":"VLOOKUP($D225,'c_Storage calculations'!$S$112:$AJ$116,M$3,0)","v":0},7124.317919251218,null,-4448.3521483549866,0,null,-4448.3521483549866,0,0,0]
[null,10,5,2,{"$f":"'c_Demand calculations'!N227","v":2953.0931928464065},null,{"$f":"VLOOKUP(D226,'c_Sources calculations'!$U$27:$Z$30,2,0)","v":5291.317919251218},{"$f":"VLOOKUP($D226,'c_Storage calculations'!$S$112:$AJ$116,H$3,0)","v":1833},7124.317919251218,null,{"$f":"VLOOKUP(D226,'c_Sources calculations'!$AB$27:$AG$30,2,0)","v":5291.317919251218},{"$f":"VLOOKUP($D226,'c_Storage calculations'!$S$112:$AJ$116,L$3,0)","v":1833},{"$f":"VLOOKUP($D226,'c_Storage calculations'!$S$112:$AJ$116,M$3,0)","v":0},7124.317919251218,null,-4171.224726404811,0,null,-4171.224726404811,0,0,0]
[null,11,5,2,{"$f":"'c_Demand calculations'!N228","v":2952.0106995459892},null,{"$f":"VLOOKUP(D227,'c_Sources calculations'!$U$27:$Z$30,2,0)","v":5291.317919251218},{"$f":"VLOOKUP($D227,'c_Storage calculations'!$S$112:$AJ$116,H$3,0)","v":1833},7124.317919251218,null,{"$f":"VLOOKUP(D227,'c_Sources calculations'!$AB$27:$AG$30,2,0)","v":5291.317919251218},{"$f":"VLOOKUP($D227,'c_Storage calculations'!$S$112:$AJ$116,L$3,0)","v":1833},{"$f":"VLOOKUP($D227,'c_Storage calculations'!$S$112:$AJ$116,M$3,0)","v":0},7124.317919251218,null,-4172.3072197052288,0,null,-4172.3072197052288,0,0,0]
[null,12,5,2,{"$f":"'c_Demand calculations'!N229","v":2910.4154147380227},null,{"$f":"VLOOKUP(D228,'c_Sources calculations'!$U$27:$Z$30,2,0)","v":5291.317919251218},{"$f":"VLOOKUP($D228,'c_Storage calculations'!$S$112:$AJ$116,H$3,0)","v":1833},7124.317919251218,null,{"$f":"VLOOKUP(D228,'c_Sources calculations'!$AB$27:$AG$30,2,0)","v":5291.317919251218},{"$f":"VLOOKUP($D228,'c_Storage calculations'!$S$112:$AJ$116,L$3,0)","v":1833},{"$f":"VLOOKUP($D228,'c_Storage calculations'!$S$112:$AJ$116,M$3,0)","v":0},7124.317919251218,null,-4213.9025045131948,0,null,-4213.9025045131948,0,0,0]
[null,13,5,2,{"$f":"'c_Demand calculations'!N230","v":2823.4648482749276},null,{"$f":"VLOOKUP(D229,'c_Sources calculations'!$U$27:$Z$30,2,0)","v":5291.317919251218},{"$f":"VLOOKUP($D229,'c_Storage calculations'!$S$112:$AJ$116,H$3,0)","v":1833},7124.317919251218,null,{"$f":"VLOOKUP(D229,'c_Sources calculations'!$AB$27:$AG$30,2,0)","v":5291.317919251218},{"$f":"VLOOKUP($D229,'c_Storage calculations'!$S$112:$AJ$116,L$3,0)","v":1833},{"$f":"VLOOKUP($D229,'c_Storage calculations'!$S$112:$AJ$116,M$3,0)","v":0},7124.317919251218,null,-4300.8530709762908,0,null,-4300.8530709762908,0,0,0]
[null,14,5,2,{"$f":"'c_Demand calculations'!N231","v":2751.036283516381},null,{"$f":"VLOOKUP(D230,'c_Sources calculations'!$U$27:$Z$30,2,0)","v":5291.317919251218},{"$f":"VLOOKUP($D230,'c_Storage calculations'!$S$112:$AJ$116,H$3,0)","v":1833},7124.317919251218,null,{"$f":"VLOOKUP(D230,'c_Sources calculations'!$AB$27:$AG$30,2,0)","v":5291.317919251218},{"$f":"VLOOKUP($D230,'c_Storage calculations'!$S$112:$AJ$116,L$3,0)","v":1833},{"$f":"VLOOKUP($D230,'c_Storage calculations'!$S$112:$AJ$116,M$3,0)","v":0},7124.317919251218,null,-4373.2816357348365,0,null,-4373.2816357348365,0,0,0]
[null,15,5,2,{"$f":"'c_Demand calculations'!N232","v":2366.0219883891559},null,{"$f":"VLOOKUP(D231,'c_Sources calculations'!$U$27:$Z$30,2,0)","v":5291.317919251218},{"$f":"VLOOKUP($D231,'c_Storage calculations'!$S$112:$AJ$116,H$3,0)","v":1833},7124.317919251218,null,{"$f":"VLOOKUP(D231,'c_Sources calculations'!$AB$27:$AG$30,2,0)","v":5291.317919251218},{"$f":"VLOOKUP($D231,'c_Storage calculations'!$S$112:$AJ$116,L$3,0)","v":1833},{"$f":"VLOOKUP($D231,'c_Storage calculations'!$S$112:$AJ$116,M$3,0)","v":0},7124.317919251218,null,-4758.2959308620621,0,null,-4758.2959308620621,0,0,0]
[null,16,5,2,{"$f":"'c_Demand calculations'!N233","v":2437.8963321205993},null,{"$f":"VLOOKUP(D232,'c_Sources calculations'!$U$27:$Z$30,2,0)","v":5291.317919251218},{"$f":"VLOOKUP($D232,'c_Storage calculations'!$S$112:$AJ$116,H$3,0)","v":1833},7124.317919251218,null,{"$f":"VLOOKUP(D232,'c_Sources calculations'!$AB$27:$AG$30,2,0)","v":5291.317919251218},{"$f":"VLOOKUP($D232,'c_Storage calculations'!$S$112:$AJ$116,L$3,0)","v":1833},{"$f":"VLOOKUP($D232,'c_Storage calculations'!$S$112:$AJ$116,M$3,0)","v":0},7124.317919251218,null,-4686.4215871306187,0,null,-4686.4215871306187,0,0,0]
[null,17,5,2,{"$f":"'c_Demand calculations'!N234","v":2535.6295938600797},null,{"$f":"VLOOKUP(D233,'c_Sources calculations'!$U$27:$Z$30,2,0)","v":5291.317919251218},{"$f":"VLOOKUP($D233,'c_Storage calculations'!$S$112:$AJ$116,H$3,0)","v":1833},7124.317919251218,null,{"$f":"VLOOKUP(D233,'c_Sources calculations'!$AB$27:$AG$30,2,0)","v":5291.317919251218},{"$f":"VLOOKUP($D233,'c_Storage calculations'!$S$112:$AJ$116,L$3,0)","v":1833},{"$f":"VLOOKUP($D233,'c_Storage calculations'!$S$112:$AJ$116,M$3,0)","v":0},7124.317919251218,null,-4588.6883253911383,0,null,-4588.6883253911383,0,0,0]
[null,18,5,2,{"$f":"'c_Demand calculations'!N235","v":2401.8004842226901},null,{"$f":"VLOOKUP(D234,'c_Sources calculations'!$U$27:$Z$30,2,0)","v":5291.317919251218},{"$f":"VLOOKUP($D234,'c_Storage calculations'!$S$112:$AJ$116,H$3,0)","v":1833},7124.317919251218,null,{"$f":"VLOOKUP(D234,'c_Sources calculations'!$AB$27:$AG$30,2,0)","v":5291.317919251218},{"$f":"VLOOKUP($D234,'c_Storage calculations'!$S$112:$AJ$116,L$3,0)","v":1833},{"$f":"VLOOKUP($D234,'c_Storage calculations'!$S$112:$AJ$116,M$3,0)","v":0},7124.317919251218,null,-4722.5174350285279,0,null,-4722.5174350285279,0,0,0]
[null,19,5,2,{"$f":"'c_Demand calculations'!N236","v":2386.5599460565013},null,{"$f":"VLOOKUP(D235,'c_Sources calculations'!$U$27:$Z$30,2,0)","v":5291.317919251218},{"$f":"VLOOKUP($D235,'c_Storage calculations'!$S$112:$AJ$116,H$3,0)","v":1833},7124.317919251218,null,{"$f":"VLOOKUP(D235,'c_Sources calculations'!$AB$27:$AG$30,2,0)","v":5291.317919251218},{"$f":"VLOOKUP($D235,'c_Storage calculations'!$S$112:$AJ$116,L$3,0)","v":1833},{"$f":"VLOOKUP($D235,'c_Storage calculations'!$S$112:$AJ$116,M$3,0)","v":0},7124.317919251218,null,-4737.7579731947171,0,null,-4737.7579731947171,0,0,0]
[null,20,5,2,{"$f":"'c_Demand calculations'!N237","v":2186.819107413548},null,{"$f":"VLOOKUP(D236,'c_Sources calculations'!$U$27:$Z$30,2,0)","v":5291.317919251218},{"$f":"VLOOKUP($D236,'c_Storage calculations'!$S$112:$AJ$116,H$3,0)","v":1833},7124.317919251218,null,{"$f":"VLOOKUP(D236,'c_Sources calculations'!$AB$27:$AG$30,2,0)","v":5291.317919251218},{"$f":"VLOOKUP($D236,'c_Storage calculations'!$S$112:$AJ$116,L$3,0)","v":1833},{"$f":"VLOOKUP($D236,'c_Storage calculations'!$S$112:$AJ$116,M$3,0)","v":0},7124.317919251218,null,-4937.4988118376696,0,null,-4937.4988118376696,0,0,0]
[null,21,5,2,{"$f":"'c_Demand calculations'!N238","v":2028.2703565560537},null,{"$f":"VLOOKUP(D237,'c_Sources calculations'!$U$27:$Z$30,2,0)","v":5291.317919251218},{"$f":"VLOOKUP($D237,'c_Storage calculations'!$S$112:$AJ$116,H$3,0)","v":1833},7124.317919251218,null,{"$f":"VLOOKUP(D237,'c_Sources calculations'!$AB$27:$AG$30,2,0)","v":5291.317919251218},{"$f":"VLOOKUP($D237,'c_Storage calculations'!$S$112:$AJ$116,L$3,0)","v":1833},{"$f":"VLOOKUP($D237,'c_Storage calculations'!$S$112:$AJ$116,M$3,0)","v":0},7124.317919251218,null,-5096.0475626951647,0,null,-5096.0475626951647,0,0,0]
[null,22,5,2,{"$f":"'c_Demand calculations'!N239","v":1680.1815195660686},null,{"$f":"VLOOKUP(D238,'c_Sources calculations'!$U$27:$Z$30,2,0)","v":5291.317919251218},{"$f":"VLOOKUP($D238,'c_Storage calculations'!$S$112:$AJ$116,H$3,0)","v":1833},7124.317919251218,null,{"$f":"VLOOKUP(D238,'c_Sources calculations'!$AB$27:$AG$30,2,0)","v":5291.317919251218},{"$f":"VLOOKUP($D238,'c_Storage calculations'!$S$112:$AJ$116,L$3,0)","v":1833},{"$f":"VLOOKUP($D238,'c_Storage calculations'!$S$112:$AJ$116,M$3,0)","v":0},7124.317919251218,null,-5444.1363996851496,0,null,-5444.1363996851496,0,0,0]
[null,23,5,2,{"$f":"'c_Demand calculations'!N240","v":1625.0958528612923},null,{"$f":"VLOOKUP(D239,'c_Sources calculations'!$U$27:$Z$30,2,0)","v":5291.317919251218},{"$f":"VLOOKUP($D239,'c_Storage calculations'!$S$112:$AJ$116,H$3,0)","v":1833},7124.317919251218,null,{"$f":"VLOOKUP(D239,'c_Sources calculations'!$AB$27:$AG$30,2,0)","v":5291.317919251218},{"$f":"VLOOKUP($D239,'c_Storage calculations'!$S$112:$AJ$116,L$3,0)","v":1833},{"$f":"VLOOKUP($D239,'c_Storage calculations'!$S$112:$AJ$116,M$3,0)","v":0},7124.317919251218,null,-5499.2220663899261,0,null,-5499.2220663899261,0,0,0]
[null,24,5,2,{"$f":"'c_Demand calculations'!N241","v":1894.523970450768},null,{"$f":"VLOOKUP(D240,'c_Sources calculations'!$U$27:$Z$30,2,0)","v":5291.317919251218},{"$f":"VLOOKUP($D240,'c_Storage calculations'!$S$112:$AJ$116,H$3,0)","v":1833},7124.317919251218,null,{"$f":"VLOOKUP(D240,'c_Sources calculations'!$AB$27:$AG$30,2,0)","v":5291.317919251218},{"$f":"VLOOKUP($D240,'c_Storage calculations'!$S$112:$AJ$116,L$3,0)","v":1833},{"$f":"VLOOKUP($D240,'c_Storage calculations'!$S$112:$AJ$116,M$3,0)","v":0},7124.317919251218,null,-5229.7939488004504,0,null,-5229.7939488004504,0,0,0]
[null,25,5,2,{"$f":"'c_Demand calculations'!N242","v":2033.1432364257457},null,{"$f":"VLOOKUP(D241,'c_Sources calculations'!$U$27:$Z$30,2,0)","v":5291.317919251218},{"$f":"VLOOKUP($D241,'c_Storage calculations'!$S$112:$AJ$116,H$3,0)","v":1833},7124.317919251218,null,{"$f":"VLOOKUP(D241,'c_Sources calculations'!$AB$27:$AG$30,2,0)","v":5291.317919251218},{"$f":"VLOOKUP($D241,'c_Storage calculations'!$S$112:$AJ$116,L$3,0)","v":1833},{"$f":"VLOOKUP($D241,'c_Storage calculations'!$S$112:$AJ$116,M$3,0)","v":0},7124.317919251218,null,-5091.1746828254727,0,null,-5091.1746828254727,0,0,0]
[null,26,5,2,{"$f":"'c_Demand calculations'!N243","v":2111.5454605656787},null,{"$f":"VLOOKUP(D242,'c_Sources calculations'!$U$27:$Z$30,2,0)","v":5291.317919251218},{"$f":"VLOOKUP($D242,'c_Storage calculations'!$S$112:$AJ$116,H$3,0)","v":1833},7124.317919251218,null,{"$f":"VLOOKUP(D242,'c_Sources calculations'!$AB$27:$AG$30,2,0)","v":5291.317919251218},{"$f":"VLOOKUP($D242,'c_Storage calculations'!$S$112:$AJ$116,L$3,0)","v":1833},{"$f":"VLOOKUP($D242,'c_Storage calculations'!$S$112:$AJ$116,M$3,0)","v":0},7124.317919251218,null,-5012.7724586855393,0,null,-5012.7724586855393,0,0,0]
[null,27,5,2,{"$f":"'c_Demand calculations'!N244","v":2209.1209151988332},null,{"$f":"VLOOKUP(D243,'c_Sources calculations'!$U$27:$Z$30,2,0)","v":5291.317919251218},{"$f":"VLOOKUP($D243,'c_Storage calculations'!$S$112:$AJ$116,H$3,0)","v":1833},7124.317919251218,null,{"$f":"VLOOKUP(D243,'c_Sources calculations'!$AB$27:$AG$30,2,0)","v":5291.317919251218},{"$f":"VLOOKUP($D243,'c_Storage calculations'!$S$112:$AJ$116,L$3,0)","v":1833},{"$f":"VLOOKUP($D243,'c_Storage calculations'!$S$112:$AJ$116,M$3,0)","v":0},7124.317919251218,null,-4915.1970040523847,0,null,-4915.1970040523847,0,0,0]
[null,28,5,2,{"$f":"'c_Demand calculations'!N245","v":2107.3979404203551},null,{"$f":"VLOOKUP(D244,'c_Sources calculations'!$U$27:$Z$30,2,0)","v":5291.317919251218},{"$f":"VLOOKUP($D244,'c_Storage calculations'!$S$112:$AJ$116,H$3,0)","v":1833},7124.317919251218,null,{"$f":"VLOOKUP(D244,'c_Sources calculations'!$AB$27:$AG$30,2,0)","v":5291.317919251218},{"$f":"VLOOKUP($D244,'c_Storage calculations'!$S$112:$AJ$116,L$3,0)","v":1833},{"$f":"VLOOKUP($D244,'c_Storage calculations'!$S$112:$AJ$116,M$3,0)","v":0},7124.317919251218,null,-5016.9199788308633,0,null,-5016.9199788308633,0,0,0]
[null,29,5,2,{"$f":"'c_Demand calculations'!N246","v":1998.8987012978819},null,{"$f":"VLOOKUP(D245,'c_Sources calculations'!$U$27:$Z$30,2,0)","v":5291.317919251218},{"$f":"VLOOKUP($D245,'c_Storage calculations'!$S$112:$AJ$116,H$3,0)","v":1833},7124.317919251218,null,{"$f":"VLOOKUP(D245,'c_Sources calculations'!$AB$27:$AG$30,2,0)","v":5291.317919251218},{"$f":"VLOOKUP($D245,'c_Storage calculations'!$S$112:$AJ$116,L$3,0)","v":1833},{"$f":"VLOOKUP($D245,'c_Storage calculations'!$S$112:$AJ$116,M$3,0)","v":0},7124.317919251218,null,-5125.4192179533366,0,null,-5125.4192179533366,0,0,0]
[null,30,5,2,{"$f":"'c_Demand calculations'!N247","v":1867.886740714973},null,{"$f":"VLOOKUP(D246,'c_Sources calculations'!$U$27:$Z$30,2,0)","v":5291.317919251218},{"$f":"VLOOKUP($D246,'c_Storage calculations'!$S$112:$AJ$116,H$3,0)","v":1833},7124.317919251218,null,{"$f":"VLOOKUP(D246,'c_Sources calculations'!$AB$27:$AG$30,2,0)","v":5291.317919251218},{"$f":"VLOOKUP($D246,'c_Storage calculations'!$S$112:$AJ$116,L$3,0)","v":1833},{"$f":"VLOOKUP($D246,'c_Storage calculations'!$S$112:$AJ$116,M$3,0)","v":0},7124.317919251218,null,-5256.4311785362452,0,null,-5256.4311785362452,0,0,0]
[null,31,5,2,{"$f":"'c_Demand calculations'!N248","v":1984.1195375473008},null,{"$f":"VLOOKUP(D247,'c_Sources calculations'!$U$27:$Z$30,2,0)","v":5291.317919251218},{"$f":"VLOOKUP($D247,'c_Storage calculations'!$S$112:$AJ$116,H$3,0)","v":1833},7124.317919251218,null,{"$f":"VLOOKUP(D247,'c_Sources calculations'!$AB$27:$AG$30,2,0)","v":5291.317919251218},{"$f":"VLOOKUP($D247,'c_Storage calculations'!$S$112:$AJ$116,L$3,0)","v":1833},{"$f":"VLOOKUP($D247,'c_Storage calculations'!$S$112:$AJ$116,M$3,0)","v":0},7124.317919251218,null,-5140.1983817039172,0,null,-5140.1983817039172,0,0,0]
[null,1,6,2,{"$f":"'c_Demand calculations'!N249","v":2197.7916826530591},null,{"$f":"VLOOKUP(D248,'c_Sources calculations'!$U$27:$Z$30,2,0)","v":5291.317919251218},{"$f":"VLOOKUP($D248,'c_Storage calculations'!$S$112:$AJ$116,H$3,0)","v":1833},7124.317919251218,null,{"$f":"VLOOKUP(D248,'c_Sources calculations'!$AB$27:$AG$30,2,0)","v":5291.317919251218},{"$f":"VLOOKUP($D248,'c_Storage calculations'!$S$112:$AJ$116,L$3,0)","v":1833},{"$f":"VLOOKUP($D248,'c_Storage calculations'!$S$112:$AJ$116,M$3,0)","v":0},7124.317919251218,null,-4926.5262365981589,0,null,-4926.5262365981589,0,0,0]
[null,2,6,2,{"$f":"'c_Demand calculations'!N250","v":2057.8002066399686},null,{"$f":"VLOOKUP(D249,'c_Sources calculations'!$U$27:$Z$30,2,0)","v":5291.317919251218},{"$f":"VLOOKUP($D249,'c_Storage calculations'!$S$112:$AJ$116,H$3,0)","v":1833},7124.317919251218,null,{"$f":"VLOOKUP(D249,'c_Sources calculations'!$AB$27:$AG$30,2,0)","v":5291.317919251218},{"$f":"VLOOKUP($D249,'c_Storage calculations'!$S$112:$AJ$116,L$3,0)","v":1833},{"$f":"VLOOKUP($D249,'c_Storage calculations'!$S$112:$AJ$116,M$3,0)","v":0},7124.317919251218,null,-5066.5177126112494,0,null,-5066.5177126112494,0,0,0]
[null,3,6,2,{"$f":"'c_Demand calculations'!N251","v":1804.3455468700749},null,{"$f":"VLOOKUP(D250,'c_Sources calculations'!$U$27:$Z$30,2,0)","v":5291.317919251218},{"$f":"VLOOKUP($D250,'c_Storage calculations'!$S$112:$AJ$116,H$3,0)","v":1833},7124.317919251218,null,{"$f":"VLOOKUP(D250,'c_Sources calculations'!$AB$27:$AG$30,2,0)","v":5291.317919251218},{"$f":"VLOOKUP($D250,'c_Storage calculations'!$S$112:$AJ$116,L$3,0)","v":1833},{"$f":"VLOOKUP($D250,'c_Storage calculations'!$S$112:$AJ$116,M$3,0)","v":0},7124.317919251218,null,-5319.972372381143,0,null,-5319.972372381143,0,0,0]
[null,4,6,2,{"$f":"'c_Demand calculations'!N252","v":1863.1011678707509},null,{"$f":"VLOOKUP(D251,'c_Sources calculations'!$U$27:$Z$30,2,0)","v":5291.317919251218},{"$f":"VLOOKUP($D251,'c_Storage calculations'!$S$112:$AJ$116,H$3,0)","v":1833},7124.317919251218,null,{"$f":"VLOOKUP(D251,'c_Sources calculations'!$AB$27:$AG$30,2,0)","v":5291.317919251218},{"$f":"VLOOKUP($D251,'c_Storage calculations'!$S$112:$AJ$116,L$3,0)","v":1833},{"$f":"VLOOKUP($D251,'c_Storage calculations'!$S$112:$AJ$116,M$3,0)","v":0},7124.317919251218,null,-5261.216751380467,0,null,-5261.216751380467,0,0,0]
[null,5,6,2,{"$f":"'c_Demand calculations'!N253","v":1659.3172914149186},null,{"$f":"VLOOKUP(D252,'c_Sources calculations'!$U$27:$Z$30,2,0)","v":5291.317919251218},{"$f":"VLOOKUP($D252,'c_Storage calculations'!$S$112:$AJ$116,H$3,0)","v":1833},7124.317919251218,null,{"$f":"VLOOKUP(D252,'c_Sources calculations'!$AB$27:$AG$30,2,0)","v":5291.317919251218},{"$f":"VLOOKUP($D252,'c_Storage calculations'!$S$112:$AJ$116,L$3,0)","v":1833},{"$f":"VLOOKUP($D252,'c_Storage calculations'!$S$112:$AJ$116,M$3,0)","v":0},7124.317919251218,null,-5465.0006278362998,0,null,-5465.0006278362998,0,0,0]
[null,6,6,2,{"$f":"'c_Demand calculations'!N254","v":1698.8239166466581},null,{"$f":"VLOOKUP(D253,'c_Sources calculations'!$U$27:$Z$30,2,0)","v":5291.317919251218},{"$f":"VLOOKUP($D253,'c_Storage calculations'!$S$112:$AJ$116,H$3,0)","v":1833},7124.317919251218,null,{"$f":"VLOOKUP(D253,'c_Sources calculations'!$AB$27:$AG$30,2,0)","v":5291.317919251218},{"$f":"VLOOKUP($D253,'c_Storage calculations'!$S$112:$AJ$116,L$3,0)","v":1833},{"$f":"VLOOKUP($D253,'c_Storage calculations'!$S$112:$AJ$116,M$3,0)","v":0},7124.317919251218,null,-5425.4940026045597,0,null,-5425.4940026045597,0,0,0]
[null,7,6,2,{"$f":"'c_Demand calculations'!N255","v":1987.4818808056102},null,{"$f":"VLOOKUP(D254,'c_Sources calculations'!$U$27:$Z$30,2,0)","v":5291.317919251218},{"$f":"VLOOKUP($D254,'c_Storage calculations'!$S$112:$AJ$116,H$3,0)","v":1833},7124.317919251218,null,{"$f":"VLOOKUP(D254,'c_Sources calculations'!$AB$27:$AG$30,2,0)","v":5291.317919251218},{"$f":"VLOOKUP($D254,'c_Storage calculations'!$S$112:$AJ$116,L$3,0)","v":1833},{"$f":"VLOOKUP($D254,'c_Storage calculations'!$S$112:$AJ$116,M$3,0)","v":0},7124.317919251218,null,-5136.8360384456082,0,null,-5136.8360384456082,0,0,0]
[null,8,6,2,{"$f":"'c_Demand calculations'!N256","v":2054.3697826002413},null,{"$f":"VLOOKUP(D255,'c_Sources calculations'!$U$27:$Z$30,2,0)","v":5291.317919251218},{"$f":"VLOOKUP($D255,'c_Storage calculations'!$S$112:$AJ$116,H$3,0)","v":1833},7124.317919251218,null,{"$f":"VLOOKUP(D255,'c_Sources calculations'!$AB$27:$AG$30,2,0)","v":5291.317919251218},{"$f":"VLOOKUP($D255,'c_Storage calculations'!$S$112:$AJ$116,L$3,0)","v":1833},{"$f":"VLOOKUP($D255,'c_Storage calculations'!$S$112:$AJ$116,M$3,0)","v":0},7124.317919251218,null,-5069.9481366509772,0,null,-5069.9481366509772,0,0,0]
[null,9,6,2,{"$f":"'c_Demand calculations'!N257","v":2030.3486947477134},null,{"$f":"VLOOKUP(D256,'c_Sources calculations'!$U$27:$Z$30,2,0)","v":5291.317919251218},{"$f":"VLOOKUP($D256,'c_Storage calculations'!$S$112:$AJ$116,H$3,0)","v":1833},7124.317919251218,null,{"$f":"VLOOKUP(D256,'c_Sources calculations'!$AB$27:$AG$30,2,0)","v":5291.317919251218},{"$f":"VLOOKUP($D256,'c_Storage calculations'!$S$112:$AJ$116,L$3,0)","v":1833},{"$f":"VLOOKUP($D256,'c_Storage calculations'!$S$112:$AJ$116,M$3,0)","v":0},7124.317919251218,null,-5093.9692245035048,0,null,-5093.9692245035048,0,0,0]
[null,10,6,2,{"$f":"'c_Demand calculations'!N258","v":2191.1509884215366},null,{"$f":"VLOOKUP(D257,'c_Sources calculations'!$U$27:$Z$30,2,0)","v":5291.317919251218},{"$f":"VLOOKUP($D257,'c_Storage calculations'!$S$112:$AJ$116,H$3,0)","v":1833},7124.317919251218,null,{"$f":"VLOOKUP(D257,'c_Sources calculations'!$AB$27:$AG$30,2,0)","v":5291.317919251218},{"$f":"VLOOKUP($D257,'c_Storage calculations'!$S$112:$AJ$116,L$3,0)","v":1833},{"$f":"VLOOKUP($D257,'c_Storage calculations'!$S$112:$AJ$116,M$3,0)","v":0},7124.317919251218,null,-4933.1669308296814,0,null,-4933.1669308296814,0,0,0]
[null,11,6,2,{"$f":"'c_Demand calculations'!N259","v":2024.8597740859195},null,{"$f":"VLOOKUP(D258,'c_Sources calculations'!$U$27:$Z$30,2,0)","v":5291.317919251218},{"$f":"VLOOKUP($D258,'c_Storage calculations'!$S$112:$AJ$116,H$3,0)","v":1833},7124.317919251218,null,{"$f":"VLOOKUP(D258,'c_Sources calculations'!$AB$27:$AG$30,2,0)","v":5291.317919251218},{"$f":"VLOOKUP($D258,'c_Storage calculations'!$S$112:$AJ$116,L$3,0)","v":1833},{"$f":"VLOOKUP($D258,'c_Storage calculations'!$S$112:$AJ$116,M$3,0)","v":0},7124.317919251218,null,-5099.4581451652984,0,null,-5099.4581451652984,0,0,0]
[null,12,6,2,{"$f":"'c_Demand calculations'!N260","v":1868.7332230949012},null,{"$f":"VLOOKUP(D259,'c_Sources calculations'!$U$27:$Z$30,2,0)","v":5291.317919251218},{"$f":"VLOOKUP($D259,'c_Storage calculations'!$S$112:$AJ$116,H$3,0)","v":1833},7124.317919251218,null,{"$f":"VLOOKUP(D259,'c_Sources calculations'!$AB$27:$AG$30,2,0)","v":5291.317919251218},{"$f":"VLOOKUP($D259,'c_Storage calculations'!$S$112:$AJ$116,L$3,0)","v":1833},{"$f":"VLOOKUP($D259,'c_Storage calculations'!$S$112:$AJ$116,M$3,0)","v":0},7124.317919251218,null,-5255.5846961563166,0,null,-5255.5846961563166,0,0,0]
[null,13,6,2,{"$f":"'c_Demand calculations'!N261","v":1884.6238525069907},null,{"$f":"VLOOKUP(D260,'c_Sources calculations'!$U$27:$Z$30,2,0)","v":5291.317919251218},{"$f":"VLOOKUP($D260,'c_Storage calculations'!$S$112:$AJ$116,H$3,0)","v":1833},7124.317919251218,null,{"$f":"VLOOKUP(D260,'c_Sources calculations'!$AB$27:$AG$30,2,0)","v":5291.317919251218},{"$f":"VLOOKUP($D260,'c_Storage calculations'!$S$112:$AJ$116,L$3,0)","v":1833},{"$f":"VLOOKUP($D260,'c_Storage calculations'!$S$112:$AJ$116,M$3,0)","v":0},7124.317919251218,null,-5239.6940667442268,0,null,-5239.6940667442268,0,0,0]
[null,14,6,2,{"$f":"'c_Demand calculations'!N262","v":2062.0040637990815},null,{"$f":"VLOOKUP(D261,'c_Sources calculations'!$U$27:$Z$30,2,0)","v":5291.317919251218},{"$f":"VLOOKUP($D261,'c_Storage calculations'!$S$112:$AJ$116,H$3,0)","v":1833},7124.317919251218,null,{"$f":"VLOOKUP(D261,'c_Sources calculations'!$AB$27:$AG$30,2,0)","v":5291.317919251218},{"$f":"VLOOKUP($D261,'c_Storage calculations'!$S$112:$AJ$116,L$3,0)","v":1833},{"$f":"VLOOKUP($D261,'c_Storage calculations'!$S$112:$AJ$116,M$3,0)","v":0},7124.317919251218,null,{"$f":"E261-I261","v":-5062.3138554521365},0,null,{"$f":"E261-N261","v":-5062.3138554521365},0,0,{"$f":"T261*E261","v":0}]
[null,15,6,{"$f":"IF(C262<=3,1,IF(C262<=6,2,IF(C262<=9,3,4)))","v":2},{"$f":"'c_Demand calculations'!N263","v":2096.0689920629798},null,{"$f":"VLOOKUP(D262,'c_Sources calculations'!$U$27:$Z$30,2,0)","v":5291.317919251218},{"$f":"VLOOKUP($D262,'c_Storage calculations'!$S$112:$AJ$116,H$3,0)","v":1833},{"$f":"SUM(G262:H262)","v":7124.317919251218},null,{"$f":"VLOOKUP(D262,'c_Sources calculations'!$AB$27:$AG$30,2,0)","v":5291.317919251218},{"$f":"VLOOKUP($D262,'c_Storage calculations'!$S$112:$AJ$116,L$3,0)","v":1833},{"$f":"VLOOKUP($D262,'c_Storage calculations'!$S$112:$AJ$116,M$3,0)","v":0},{"$f":"SUM(K262:L262)-M262","v":7124.317919251218},null,-5028.2489271882387,{"$f":"IF(P262>0,1,0)","v":0},null,-5028.2489271882387,{"$f":"IF(S262>0,1,0)","v":0},{"$f":"T262*S262","v":0},0]
[null,16,6,2,{"$f":"'c_Demand calculations'!N264","v":1914.8476897106314},null,{"$f":"VLOOKUP(D263,'c_Sources calculations'!$U$27:$Z$30,2,0)","v":5291.317919251218},{"$f":"VLOOKUP($D263,'c_Storage calculations'!$S$112:$AJ$116,H$3,0)","v":1833},7124.317919251218,null,{"$f":"VLOOKUP(D263,'c_Sources calculations'!$AB$27:$AG$30,2,0)","v":5291.317919251218},{"$f":"VLOOKUP($D263,'c_Storage calculations'!$S$112:$AJ$116,L$3,0)","v":1833},{"$f":"VLOOKUP($D263,'c_Storage calculations'!$S$112:$AJ$116,M$3,0)","v":0},7124.317919251218,null,-5209.4702295405868,0,null,-5209.4702295405868,0,0,0]
[null,17,6,2,{"$f":"'c_Demand calculations'!N265","v":1916.567294133924},null,{"$f":"VLOOKUP(D264,'c_Sources calculations'!$U$27:$Z$30,2,0)","v":5291.317919251218},{"$f":"VLOOKUP($D264,'c_Storage calculations'!$S$112:$AJ$116,H$3,0)","v":1833},7124.317919251218,null,{"$f":"VLOOKUP(D264,'c_Sources calculations'!$AB$27:$AG$30,2,0)","v":5291.317919251218},{"$f":"VLOOKUP($D264,'c_Storage calculations'!$S$112:$AJ$116,L$3,0)","v":1833},{"$f":"VLOOKUP($D264,'c_Storage calculations'!$S$112:$AJ$116,M$3,0)","v":0},7124.317919251218,null,-5207.7506251172945,0,null,-5207.7506251172945,0,0,0]
[null,18,6,2,{"$f":"'c_Demand calculations'!N266","v":1847.7924524347088},null,{"$f":"VLOOKUP(D265,'c_Sources calculations'!$U$27:$Z$30,2,0)","v":5291.317919251218},{"$f":"VLOOKUP($D265,'c_Storage calculations'!$S$112:$AJ$116,H$3,0)","v":1833},7124.317919251218,null,{"$f":"VLOOKUP(D265,'c_Sources calculations'!$AB$27:$AG$30,2,0)","v":5291.317919251218},{"$f":"VLOOKUP($D265,'c_Storage calculations'!$S$112:$AJ$116,L$3,0)","v":1833},{"$f":"VLOOKUP($D265,'c_Storage calculations'!$S$112:$AJ$116,M$3,0)","v":0},7124.317919251218,null,-5276.5254668165089,0,null,-5276.5254668165089,0,0,0]
[null,19,6,2,{"$f":"'c_Demand calculations'!N267","v":1840.9966043935226},null,{"$f":"VLOOKUP(D266,'c_Sources calculations'!$U$27:$Z$30,2,0)","v":5291.317919251218},{"$f":"VLOOKUP($D266,'c_Storage calculations'!$S$112:$AJ$116,H$3,0)","v":1833},7124.317919251218,null,{"$f":"VLOOKUP(D266,'c_Sources calculations'!$AB$27:$AG$30,2,0)","v":5291.317919251218},{"$f":"VLOOKUP($D266,'c_Storage calculations'!$S$112:$AJ$116,L$3,0)","v":1833},{"$f":"VLOOKUP($D266,'c_Storage calculations'!$S$112:$AJ$116,M$3,0)","v":0},7124.317919251218,null,-5283.3213148576951,0,null,-5283.3213148576951,0,0,0]
[null,20,6,2,{"$f":"'c_Demand calculations'!N268","v":1789.133296993994},null,{"$f":"VLOOKUP(D267,'c_Sources calculations'!$U$27:$Z$30,2,0)","v":5291.317919251218},{"$f":"VLOOKUP($D267,'c_Storage calculations'!$S$112:$AJ$116,H$3,0)","v":1833},7124.317919251218,null,{"$f":"VLOOKUP(D267,'c_Sources calculations'!$AB$27:$AG$30,2,0)","v":5291.317919251218},{"$f":"VLOOKUP($D267,'c_Storage calculations'!$S$112:$AJ$116,L$3,0)","v":1833},{"$f":"VLOOKUP($D267,'c_Storage calculations'!$S$112:$AJ$116,M$3,0)","v":0},7124.317919251218,null,-5335.184622257224,0,null,-5335.184622257224,0,0,0]
[null,21,6,2,{"$f":"'c_Demand calculations'!N269","v":1891.3134219422336},null,{"$f":"VLOOKUP(D268,'c_Sources calculations'!$U$27:$Z$30,2,0)","v":5291.317919251218},{"$f":"VLOOKUP($D268,'c_Storage calculations'!$S$112:$AJ$116,H$3,0)","v":1833},7124.317919251218,null,{"$f":"VLOOKUP(D268,'c_Sources calculations'!$AB$27:$AG$30,2,0)","v":5291.317919251218},{"$f":"VLOOKUP($D268,'c_Storage calculations'!$S$112:$AJ$116,L$3,0)","v":1833},{"$f":"VLOOKUP($D268,'c_Storage calculations'!$S$112:$AJ$116,M$3,0)","v":0},7124.317919251218,null,-5233.0044973089844,0,null,-5233.0044973089844,0,0,0]
[null,22,6,2,{"$f":"'c_Demand calculations'!N270","v":1864.1623405713215},null,{"$f":"VLOOKUP(D269,'c_Sources calculations'!$U$27:$Z$30,2,0)","v":5291.317919251218},{"$f":"VLOOKUP($D269,'c_Storage calculations'!$S$112:$AJ$116,H$3,0)","v":1833},7124.317919251218,null,{"$f":"VLOOKUP(D269,'c_Sources calculations'!$AB$27:$AG$30,2,0)","v":5291.317919251218},{"$f":"VLOOKUP($D269,'c_Storage calculations'!$S$112:$AJ$116,L$3,0)","v":1833},{"$f":"VLOOKUP($D269,'c_Storage calculations'!$S$112:$AJ$116,M$3,0)","v":0},7124.317919251218,null,-5260.1555786798963,0,null,-5260.1555786798963,0,0,0]
[null,23,6,2,{"$f":"'c_Demand calculations'!N271","v":1822.314869473237},null,{"$f":"VLOOKUP(D270,'c_Sources calculations'!$U$27:$Z$30,2,0)","v":5291.317919251218},{"$f":"VLOOKUP($D270,'c_Storage calculations'!$S$112:$AJ$116,H$3,0)","v":1833},7124.317919251218,null,{"$f":"VLOOKUP(D270,'c_Sources calculations'!$AB$27:$AG$30,2,0)","v":5291.317919251218},{"$f":"VLOOKUP($D270,'c_Storage calculations'!$S$112:$AJ$116,L$3,0)","v":1833},{"$f":"VLOOKUP($D270,'c_Storage calculations'!$S$112:$AJ$116,M$3,0)","v":0},7124.317919251218,null,-5302.0030497779808,0,null,-5302.0030497779808,0,0,0]
[null,24,6,2,{"$f":"'c_Demand calculations'!N272","v":1879.1647405180254},null,{"$f":"VLOOKUP(D271,'c_Sources calculations'!$U$27:$Z$30,2,0)","v":5291.317919251218},{"$f":"VLOOKUP($D271,'c_Storage calculations'!$S$112:$AJ$116,H$3,0)","v":1833},7124.317919251218,null,{"$f":"VLOOKUP(D271,'c_Sources calculations'!$AB$27:$AG$30,2,0)","v":5291.317919251218},{"$f":"VLOOKUP($D271,'c_Storage calculations'!$S$112:$AJ$116,L$3,0)","v":1833},{"$f":"VLOOKUP($D271,'c_Storage calculations'!$S$112:$AJ$116,M$3,0)","v":0},7124.317919251218,null,-5245.1531787331924,0,null,-5245.1531787331924,0,0,0]
[null,25,6,2,{"$f":"'c_Demand calculations'!N273","v":1809.46402887723},null,{"$f":"VLOOKUP(D272,'c_Sources calculations'!$U$27:$Z$30,2,0)","v":5291.317919251218},{"$f":"VLOOKUP($D272,'c_Storage calculations'!$S$112:$AJ$116,H$3,0)","v":1833},7124.317919251218,null,{"$f":"VLOOKUP(D272,'c_Sources calculations'!$AB$27:$AG$30,2,0)","v":5291.317919251218},{"$f":"VLOOKUP($D272,'c_Storage calculations'!$S$112:$AJ$116,L$3,0)","v":1833},{"$f":"VLOOKUP($D272,'c_Storage calculations'!$S$112:$AJ$116,M$3,0)","v":0},7124.317919251218,null,-5314.8538903739882,0,null,-5314.8538903739882,0,0,0]
[null,26,6,2,{"$f":"'c_Demand calculations'!N274","v":1596.650869518548},null,{"$f":"VLOOKUP(D273,'c_Sources calculations'!$U$27:$Z$30,2,0)","v":5291.317919251218},{"$f":"VLOOKUP($D273,'c_Storage calculations'!$S$112:$AJ$116,H$3,0)","v":1833},7124.317919251218,null,{"$f":"VLOOKUP(D273,'c_Sources calculations'!$AB$27:$AG$30,2,0)","v":5291.317919251218},{"$f":"VLOOKUP($D273,'c_Storage calculations'!$S$112:$AJ$116,L$3,0)","v":1833},{"$f":"VLOOKUP($D273,'c_Storage calculations'!$S$112:$AJ$116,M$3,0)","v":0},7124.317919251218,null,-5527.6670497326704,0,null,-5527.6670497326704,0,0,0]
[null,27,6,2,{"$f":"'c_Demand calculations'!N275","v":1585.0181730723875},null,{"$f":"VLOOKUP(D274,'c_Sources calculations'!$U$27:$Z$30,2,0)","v":5291.317919251218},{"$f":"VLOOKUP($D274,'c_Storage calculations'!$S$112:$AJ$116,H$3,0)","v":1833},7124.317919251218,null,{"$f":"VLOOKUP(D274,'c_Sources calculations'!$AB$27:$AG$30,2,0)","v":5291.317919251218},{"$f":"VLOOKUP($D274,'c_Storage calculations'!$S$112:$AJ$116,L$3,0)","v":1833},{"$f":"VLOOKUP($D274,'c_Storage calculations'!$S$112:$AJ$116,M$3,0)","v":0},7124.317919251218,null,-5539.2997461788309,0,null,-5539.2997461788309,0,0,0]
[null,28,6,2,{"$f":"'c_Demand calculations'!N276","v":1823.8570710648426},null,{"$f":"VLOOKUP(D275,'c_Sources calculations'!$U$27:$Z$30,2,0)","v":5291.317919251218},{"$f":"VLOOKUP($D275,'c_Storage calculations'!$S$112:$AJ$116,H$3,0)","v":1833},7124.317919251218,null,{"$f":"VLOOKUP(D275,'c_Sources calculations'!$AB$27:$AG$30,2,0)","v":5291.317919251218},{"$f":"VLOOKUP($D275,'c_Storage calculations'!$S$112:$AJ$116,L$3,0)","v":1833},{"$f":"VLOOKUP($D275,'c_Storage calculations'!$S$112:$AJ$116,M$3,0)","v":0},7124.317919251218,null,-5300.4608481863752,0,null,-5300.4608481863752,0,0,0]
[null,29,6,2,{"$f":"'c_Demand calculations'!N277","v":1837.9811776467936},null,{"$f":"VLOOKUP(D276,'c_Sources calculations'!$U$27:$Z$30,2,0)","v":5291.317919251218},{"$f":"VLOOKUP($D276,'c_Storage calculations'!$S$112:$AJ$116,H$3,0)","v":1833},7124.317919251218,null,{"$f":"VLOOKUP(D276,'c_Sources calculations'!$AB$27:$AG$30,2,0)","v":5291.317919251218},{"$f":"VLOOKUP($D276,'c_Storage calculations'!$S$112:$AJ$116,L$3,0)","v":1833},{"$f":"VLOOKUP($D276,'c_Storage calculations'!$S$112:$AJ$116,M$3,0)","v":0},7124.317919251218,null,-5286.3367416044239,0,null,-5286.3367416044239,0,0,0]
[null,30,6,2,{"$f":"'c_Demand calculations'!N278","v":1842.104725527005},null,{"$f":"VLOOKUP(D277,'c_Sources calculations'!$U$27:$Z$30,2,0)","v":5291.317919251218},{"$f":"VLOOKUP($D277,'c_Storage calculations'!$S$112:$AJ$116,H$3,0)","v":1833},7124.317919251218,null,{"$f":"VLOOKUP(D277,'c_Sources calculations'!$AB$27:$AG$30,2,0)","v":5291.317919251218},{"$f":"VLOOKUP($D277,'c_Storage calculations'!$S$112:$AJ$116,L$3,0)","v":1833},{"$f":"VLOOKUP($D277,'c_Storage calculations'!$S$112:$AJ$116,M$3,0)","v":0},7124.317919251218,null,-5282.2131937242129,0,null,-5282.2131937242129,0,0,0]
[null,1,7,3,{"$f":"'c_Demand calculations'!N279","v":1812.3936603960151},null,{"$f":"VLOOKUP(D278,'c_Sources calculations'!$U$27:$Z$30,2,0)","v":5291.317919251218},{"$f":"VLOOKUP($D278,'c_Storage calculations'!$S$112:$AJ$116,H$3,0)","v":1833},7124.317919251218,null,{"$f":"VLOOKUP(D278,'c_Sources calculations'!$AB$27:$AG$30,2,0)","v":5291.317919251218},{"$f":"VLOOKUP($D278,'c_Storage calculations'!$S$112:$AJ$116,L$3,0)","v":1833},{"$f":"VLOOKUP($D278,'c_Storage calculations'!$S$112:$AJ$116,M$3,0)","v":0},7124.317919251218,null,-5311.9242588552024,0,null,-5311.9242588552024,0,0,0]
[null,2,7,3,{"$f":"'c_Demand calculations'!N280","v":1693.1210834299268},null,{"$f":"VLOOKUP(D279,'c_Sources calculations'!$U$27:$Z$30,2,0)","v":5291.317919251218},{"$f":"VLOOKUP($D279,'c_Storage calculations'!$S$112:$AJ$116,H$3,0)","v":1833},7124.317919251218,null,{"$f":"VLOOKUP(D279,'c_Sources calculations'!$AB$27:$AG$30,2,0)","v":5291.317919251218},{"$f":"VLOOKUP($D279,'c_Storage calculations'!$S$112:$AJ$116,L$3,0)","v":1833},{"$f":"VLOOKUP($D279,'c_Storage calculations'!$S$112:$AJ$116,M$3,0)","v":0},7124.317919251218,null,-5431.1968358212907,0,null,-5431.1968358212907,0,0,0]
[null,3,7,3,{"$f":"'c_Demand calculations'!N281","v":1513.8886876780871},null,{"$f":"VLOOKUP(D280,'c_Sources calculations'!$U$27:$Z$30,2,0)","v":5291.317919251218},{"$f":"VLOOKUP($D280,'c_Storage calculations'!$S$112:$AJ$116,H$3,0)","v":1833},7124.317919251218,null,{"$f":"VLOOKUP(D280,'c_Sources calculations'!$AB$27:$AG$30,2,0)","v":5291.317919251218},{"$f":"VLOOKUP($D280,'c_Storage calculations'!$S$112:$AJ$116,L$3,0)","v":1833},{"$f":"VLOOKUP($D280,'c_Storage calculations'!$S$112:$AJ$116,M$3,0)","v":0},7124.317919251218,null,-5610.4292315731309,0,null,-5610.4292315731309,0,0,0]
[null,4,7,3,{"$f":"'c_Demand calculations'!N282","v":1508.0489502093224},null,{"$f":"VLOOKUP(D281,'c_Sources calculations'!$U$27:$Z$30,2,0)","v":5291.317919251218},{"$f":"VLOOKUP($D281,'c_Storage calculations'!$S$112:$AJ$116,H$3,0)","v":1833},7124.317919251218,null,{"$f":"VLOOKUP(D281,'c_Sources calculations'!$AB$27:$AG$30,2,0)","v":5291.317919251218},{"$f":"VLOOKUP($D281,'c_Storage calculations'!$S$112:$AJ$116,L$3,0)","v":1833},{"$f":"VLOOKUP($D281,'c_Storage calculations'!$S$112:$AJ$116,M$3,0)","v":0},7124.317919251218,null,-5616.2689690418956,0,null,-5616.2689690418956,0,0,0]
[null,5,7,3,{"$f":"'c_Demand calculations'!N283","v":1820.0123888372052},null,{"$f":"VLOOKUP(D282,'c_Sources calculations'!$U$27:$Z$30,2,0)","v":5291.317919251218},{"$f":"VLOOKUP($D282,'c_Storage calculations'!$S$112:$AJ$116,H$3,0)","v":1833},7124.317919251218,null,{"$f":"VLOOKUP(D282,'c_Sources calculations'!$AB$27:$AG$30,2,0)","v":5291.317919251218},{"$f":"VLOOKUP($D282,'c_Storage calculations'!$S$112:$AJ$116,L$3,0)","v":1833},{"$f":"VLOOKUP($D282,'c_Storage calculations'!$S$112:$AJ$116,M$3,0)","v":0},7124.317919251218,null,-5304.3055304140125,0,null,-5304.3055304140125,0,0,0]
[null,6,7,3,{"$f":"'c_Demand calculations'!N284","v":1666.4908711885953},null,{"$f":"VLOOKUP(D283,'c_Sources calculations'!$U$27:$Z$30,2,0)","v":5291.317919251218},{"$f":"VLOOKUP($D283,'c_Storage calculations'!$S$112:$AJ$116,H$3,0)","v":1833},7124.317919251218,null,{"$f":"VLOOKUP(D283,'c_Sources calculations'!$AB$27:$AG$30,2,0)","v":5291.317919251218},{"$f":"VLOOKUP($D283,'c_Storage calculations'!$S$112:$AJ$116,L$3,0)","v":1833},{"$f":"VLOOKUP($D283,'c_Storage calculations'!$S$112:$AJ$116,M$3,0)","v":0},7124.317919251218,null,-5457.8270480626225,0,null,-5457.8270480626225,0,0,0]
[null,7,7,3,{"$f":"'c_Demand calculations'!N285","v":1654.2194883470454},null,{"$f":"VLOOKUP(D284,'c_Sources calculations'!$U$27:$Z$30,2,0)","v":5291.317919251218},{"$f":"VLOOKUP($D284,'c_Storage calculations'!$S$112:$AJ$116,H$3,0)","v":1833},7124.317919251218,null,{"$f":"VLOOKUP(D284,'c_Sources calculations'!$AB$27:$AG$30,2,0)","v":5291.317919251218},{"$f":"VLOOKUP($D284,'c_Storage calculations'!$S$112:$AJ$116,L$3,0)","v":1833},{"$f":"VLOOKUP($D284,'c_Storage calculations'!$S$112:$AJ$116,M$3,0)","v":0},7124.317919251218,null,-5470.0984309041723,0,null,-5470.0984309041723,0,0,0]
[null,8,7,3,{"$f":"'c_Demand calculations'!N286","v":1723.2976921558413},null,{"$f":"VLOOKUP(D285,'c_Sources calculations'!$U$27:$Z$30,2,0)","v":5291.317919251218},{"$f":"VLOOKUP($D285,'c_Storage calculations'!$S$112:$AJ$116,H$3,0)","v":1833},7124.317919251218,null,{"$f":"VLOOKUP(D285,'c_Sources calculations'!$AB$27:$AG$30,2,0)","v":5291.317919251218},{"$f":"VLOOKUP($D285,'c_Storage calculations'!$S$112:$AJ$116,L$3,0)","v":1833},{"$f":"VLOOKUP($D285,'c_Storage calculations'!$S$112:$AJ$116,M$3,0)","v":0},7124.317919251218,null,-5401.0202270953769,0,null,-5401.0202270953769,0,0,0]
[null,9,7,3,{"$f":"'c_Demand calculations'!N287","v":1609.8849094499674},null,{"$f":"VLOOKUP(D286,'c_Sources calculations'!$U$27:$Z$30,2,0)","v":5291.317919251218},{"$f":"VLOOKUP($D286,'c_Storage calculations'!$S$112:$AJ$116,H$3,0)","v":1833},7124.317919251218,null,{"$f":"VLOOKUP(D286,'c_Sources calculations'!$AB$27:$AG$30,2,0)","v":5291.317919251218},{"$f":"VLOOKUP($D286,'c_Storage calculations'!$S$112:$AJ$116,L$3,0)","v":1833},{"$f":"VLOOKUP($D286,'c_Storage calculations'!$S$112:$AJ$116,M$3,0)","v":0},7124.317919251218,null,-5514.4330098012506,0,null,-5514.4330098012506,0,0,0]
[null,10,7,3,{"$f":"'c_Demand calculations'!N288","v":1303.9762969844169},null,{"$f":"VLOOKUP(D287,'c_Sources calculations'!$U$27:$Z$30,2,0)","v":5291.317919251218},{"$f":"VLOOKUP($D287,'c_Storage calculations'!$S$112:$AJ$116,H$3,0)","v":1833},7124.317919251218,null,{"$f":"VLOOKUP(D287,'c_Sources calculations'!$AB$27:$AG$30,2,0)","v":5291.317919251218},{"$f":"VLOOKUP($D287,'c_Storage calculations'!$S$112:$AJ$116,L$3,0)","v":1833},{"$f":"VLOOKUP($D287,'c_Storage calculations'!$S$112:$AJ$116,M$3,0)","v":0},7124.317919251218,null,-5820.3416222668011,0,null,-5820.3416222668011,0,0,0]
[null,11,7,3,{"$f":"'c_Demand calculations'!N289","v":1365.3516546246522},null,{"$f":"VLOOKUP(D288,'c_Sources calculations'!$U$27:$Z$30,2,0)","v":5291.317919251218},{"$f":"VLOOKUP($D288,'c_Storage calculations'!$S$112:$AJ$116,H$3,0)","v":1833},7124.317919251218,null,{"$f":"VLOOKUP(D288,'c_Sources calculations'!$AB$27:$AG$30,2,0)","v":5291.317919251218},{"$f":"VLOOKUP($D288,'c_Storage calculations'!$S$112:$AJ$116,L$3,0)","v":1833},{"$f":"VLOOKUP($D288,'c_Storage calculations'!$S$112:$AJ$116,M$3,0)","v":0},7124.317919251218,null,-5758.966264626566,0,null,-5758.966264626566,0,0,0]
[null,12,7,3,{"$f":"'c_Demand calculations'!N290","v":1650.1885877841271},null,{"$f":"VLOOKUP(D289,'c_Sources calculations'!$U$27:$Z$30,2,0)","v":5291.317919251218},{"$f":"VLOOKUP($D289,'c_Storage calculations'!$S$112:$AJ$116,H$3,0)","v":1833},7124.317919251218,null,{"$f":"VLOOKUP(D289,'c_Sources calculations'!$AB$27:$AG$30,2,0)","v":5291.317919251218},{"$f":"VLOOKUP($D289,'c_Storage calculations'!$S$112:$AJ$116,L$3,0)","v":1833},{"$f":"VLOOKUP($D289,'c_Storage calculations'!$S$112:$AJ$116,M$3,0)","v":0},7124.317919251218,null,-5474.1293314670911,0,null,-5474.1293314670911,0,0,0]
[null,13,7,3,{"$f":"'c_Demand calculations'!N291","v":1771.3397275331149},null,{"$f":"VLOOKUP(D290,'c_Sources calculations'!$U$27:$Z$30,2,0)","v":5291.317919251218},{"$f":"VLOOKUP($D290,'c_Storage calculations'!$S$112:$AJ$116,H$3,0)","v":1833},7124.317919251218,null,{"$f":"VLOOKUP(D290,'c_Sources calculations'!$AB$27:$AG$30,2,0)","v":5291.317919251218},{"$f":"VLOOKUP($D290,'c_Storage calculations'!$S$112:$AJ$116,L$3,0)","v":1833},{"$f":"VLOOKUP($D290,'c_Storage calculations'!$S$112:$AJ$116,M$3,0)","v":0},7124.317919251218,null,-5352.9781917181026,0,null,-5352.9781917181026,0,0,0]
[null,14,7,3,{"$f":"'c_Demand calculations'!N292","v":1733.4133507367073},null,{"$f":"VLOOKUP(D291,'c_Sources calculations'!$U$27:$Z$30,2,0)","v":5291.317919251218},{"$f":"VLOOKUP($D291,'c_Storage calculations'!$S$112:$AJ$116,H$3,0)","v":1833},7124.317919251218,null,{"$f":"VLOOKUP(D291,'c_Sources calculations'!$AB$27:$AG$30,2,0)","v":5291.317919251218},{"$f":"VLOOKUP($D291,'c_Storage calculations'!$S$112:$AJ$116,L$3,0)","v":1833},{"$f":"VLOOKUP($D291,'c_Storage calculations'!$S$112:$AJ$116,M$3,0)","v":0},7124.317919251218,null,-5390.9045685145102,0,null,-5390.9045685145102,0,0,0]
[null,15,7,3,{"$f":"'c_Demand calculations'!N293","v":1666.3094490497538},null,{"$f":"VLOOKUP(D292,'c_Sources calculations'!$U$27:$Z$30,2,0)","v":5291.317919251218},{"$f":"VLOOKUP($D292,'c_Storage calculations'!$S$112:$AJ$116,H$3,0)","v":1833},7124.317919251218,null,{"$f":"VLOOKUP(D292,'c_Sources calculations'!$AB$27:$AG$30,2,0)","v":5291.317919251218},{"$f":"VLOOKUP($D292,'c_Storage calculations'!$S$112:$AJ$116,L$3,0)","v":1833},{"$f":"VLOOKUP($D292,'c_Storage calculations'!$S$112:$AJ$116,M$3,0)","v":0},7124.317919251218,null,-5458.0084702014647,0,null,-5458.0084702014647,0,0,0]
[null,16,7,3,{"$f":"'c_Demand calculations'!N294","v":1677.0189667180191},null,{"$f":"VLOOKUP(D293,'c_Sources calculations'!$U$27:$Z$30,2,0)","v":5291.317919251218},{"$f":"VLOOKUP($D293,'c_Storage calculations'!$S$112:$AJ$116,H$3,0)","v":1833},7124.317919251218,null,{"$f":"VLOOKUP(D293,'c_Sources calculations'!$AB$27:$AG$30,2,0)","v":5291.317919251218},{"$f":"VLOOKUP($D293,'c_Storage calculations'!$S$112:$AJ$116,L$3,0)","v":1833},{"$f":"VLOOKUP($D293,'c_Storage calculations'!$S$112:$AJ$116,M$3,0)","v":0},7124.317919251218,null,-5447.2989525331986,0,null,-5447.2989525331986,0,0,0]
[null,17,7,3,{"$f":"'c_Demand calculations'!N295","v":1392.4864281417235},null,{"$f":"VLOOKUP(D294,'c_Sources calculations'!$U$27:$Z$30,2,0)","v":5291.317919251218},{"$f":"VLOOKUP($D294,'c_Storage calculations'!$S$112:$AJ$116,H$3,0)","v":1833},7124.317919251218,null,{"$f":"VLOOKUP(D294,'c_Sources calculations'!$AB$27:$AG$30,2,0)","v":5291.317919251218},{"$f":"VLOOKUP($D294,'c_Storage calculations'!$S$112:$AJ$116,L$3,0)","v":1833},{"$f":"VLOOKUP($D294,'c_Storage calculations'!$S$112:$AJ$116,M$3,0)","v":0},7124.317919251218,null,-5731.8314911094949,0,null,-5731.8314911094949,0,0,0]
[null,18,7,3,{"$f":"'c_Demand calculations'!N296","v":1388.3777811829759},null,{"$f":"VLOOKUP(D295,'c_Sources calculations'!$U$27:$Z$30,2,0)","v":5291.317919251218},{"$f":"VLOOKUP($D295,'c_Storage calculations'!$S$112:$AJ$116,H$3,0)","v":1833},7124.317919251218,null,{"$f":"VLOOKUP(D295,'c_Sources calculations'!$AB$27:$AG$30,2,0)","v":5291.317919251218},{"$f":"VLOOKUP($D295,'c_Storage calculations'!$S$112:$AJ$116,L$3,0)","v":1833},{"$f":"VLOOKUP($D295,'c_Storage calculations'!$S$112:$AJ$116,M$3,0)","v":0},7124.317919251218,null,-5735.940138068242,0,null,-5735.940138068242,0,0,0]
[null,19,7,3,{"$f":"'c_Demand calculations'!N297","v":1709.026479735868},null,{"$f":"VLOOKUP(D296,'c_Sources calculations'!$U$27:$Z$30,2,0)","v":5291.317919251218},{"$f":"VLOOKUP($D296,'c_Storage calculations'!$S$112:$AJ$116,H$3,0)","v":1833},7124.317919251218,null,{"$f":"VLOOKUP(D296,'c_Sources calculations'!$AB$27:$AG$30,2,0)","v":5291.317919251218},{"$f":"VLOOKUP($D296,'c_Storage calculations'!$S$112:$AJ$116,L$3,0)","v":1833},{"$f":"VLOOKUP($D296,'c_Storage calculations'!$S$112:$AJ$116,M$3,0)","v":0},7124.317919251218,null,-5415.2914395153502,0,null,-5415.2914395153502,0,0,0]
[null,20,7,3,{"$f":"'c_Demand calculations'!N298","v":1707.1554592599168},null,{"$f":"VLOOKUP(D297,'c_Sources calculations'!$U$27:$Z$30,2,0)","v":5291.317919251218},{"$f":"VLOOKUP($D297,'c_Storage calculations'!$S$112:$AJ$116,H$3,0)","v":1833},7124.317919251218,null,{"$f":"VLOOKUP(D297,'c_Sources calculations'!$AB$27:$AG$30,2,0)","v":5291.317919251218},{"$f":"VLOOKUP($D297,'c_Storage calculations'!$S$112:$AJ$116,L$3,0)","v":1833},{"$f":"VLOOKUP($D297,'c_Storage calculations'!$S$112:$AJ$116,M$3,0)","v":0},7124.317919251218,null,-5417.1624599913011,0,null,-5417.1624599913011,0,0,0]
[null,21,7,3,{"$f":"'c_Demand calculations'!N299","v":1751.6342906190005},null,{"$f":"VLOOKUP(D298,'c_Sources calculations'!$U$27:$Z$30,2,0)","v":5291.317919251218},{"$f":"VLOOKUP($D298,'c_Storage calculations'!$S$112:$AJ$116,H$3,0)","v":1833},7124.317919251218,null,{"$f":"VLOOKUP(D298,'c_Sources calculations'!$AB$27:$AG$30,2,0)","v":5291.317919251218},{"$f":"VLOOKUP($D298,'c_Storage calculations'!$S$112:$AJ$116,L$3,0)","v":1833},{"$f":"VLOOKUP($D298,'c_Storage calculations'!$S$112:$AJ$116,M$3,0)","v":0},7124.317919251218,null,-5372.6836286322177,0,null,-5372.6836286322177,0,0,0]
[null,22,7,3,{"$f":"'c_Demand calculations'!N300","v":1792.5670776508503},null,{"$f":"VLOOKUP(D299,'c_Sources calculations'!$U$27:$Z$30,2,0)","v":5291.317919251218},{"$f":"VLOOKUP($D299,'c_Storage calculations'!$S$112:$AJ$116,H$3,0)","v":1833},7124.317919251218,null,{"$f":"VLOOKUP(D299,'c_Sources calculations'!$AB$27:$AG$30,2,0)","v":5291.317919251218},{"$f":"VLOOKUP($D299,'c_Storage calculations'!$S$112:$AJ$116,L$3,0)","v":1833},{"$f":"VLOOKUP($D299,'c_Storage calculations'!$S$112:$AJ$116,M$3,0)","v":0},7124.317919251218,null,-5331.7508416003675,0,null,-5331.7508416003675,0,0,0]
[null,23,7,3,{"$f":"'c_Demand calculations'!N301","v":1677.8850242141611},null,{"$f":"VLOOKUP(D300,'c_Sources calculations'!$U$27:$Z$30,2,0)","v":5291.317919251218},{"$f":"VLOOKUP($D300,'c_Storage calculations'!$S$112:$AJ$116,H$3,0)","v":1833},7124.317919251218,null,{"$f":"VLOOKUP(D300,'c_Sources calculations'!$AB$27:$AG$30,2,0)","v":5291.317919251218},{"$f":"VLOOKUP($D300,'c_Storage calculations'!$S$112:$AJ$116,L$3,0)","v":1833},{"$f":"VLOOKUP($D300,'c_Storage calculations'!$S$112:$AJ$116,M$3,0)","v":0},7124.317919251218,null,-5446.4328950370564,0,null,-5446.4328950370564,0,0,0]
[null,24,7,3,{"$f":"'c_Demand calculations'!N302","v":1446.3302735870541},null,{"$f":"VLOOKUP(D301,'c_Sources calculations'!$U$27:$Z$30,2,0)","v":5291.317919251218},{"$f":"VLOOKUP($D301,'c_Storage calculations'!$S$112:$AJ$116,H$3,0)","v":1833},7124.317919251218,null,{"$f":"VLOOKUP(D301,'c_Sources calculations'!$AB$27:$AG$30,2,0)","v":5291.317919251218},{"$f":"VLOOKUP($D301,'c_Storage calculations'!$S$112:$AJ$116,L$3,0)","v":1833},{"$f":"VLOOKUP($D301,'c_Storage calculations'!$S$112:$AJ$116,M$3,0)","v":0},7124.317919251218,null,-5677.9876456641641,0,null,-5677.9876456641641,0,0,0]
[null,25,7,3,{"$f":"'c_Demand calculations'!N303","v":1465.7458771501831},null,{"$f":"VLOOKUP(D302,'c_Sources calculations'!$U$27:$Z$30,2,0)","v":5291.317919251218},{"$f":"VLOOKUP($D302,'c_Storage calculations'!$S$112:$AJ$116,H$3,0)","v":1833},7124.317919251218,null,{"$f":"VLOOKUP(D302,'c_Sources calculations'!$AB$27:$AG$30,2,0)","v":5291.317919251218},{"$f":"VLOOKUP($D302,'c_Storage calculations'!$S$112:$AJ$116,L$3,0)","v":1833},{"$f":"VLOOKUP($D302,'c_Storage calculations'!$S$112:$AJ$116,M$3,0)","v":0},7124.317919251218,null,-5658.5720421010346,0,null,-5658.5720421010346,0,0,0]
[null,26,7,3,{"$f":"'c_Demand calculations'!N304","v":1683.0305504859227},null,{"$f":"VLOOKUP(D303,'c_Sources calculations'!$U$27:$Z$30,2,0)","v":5291.317919251218},{"$f":"VLOOKUP($D303,'c_Storage calculations'!$S$112:$AJ$116,H$3,0)","v":1833},7124.317919251218,null,{"$f":"VLOOKUP(D303,'c_Sources calculations'!$AB$27:$AG$30,2,0)","v":5291.317919251218},{"$f":"VLOOKUP($D303,'c_Storage calculations'!$S$112:$AJ$116,L$3,0)","v":1833},{"$f":"VLOOKUP($D303,'c_Storage calculations'!$S$112:$AJ$116,M$3,0)","v":0},7124.317919251218,null,-5441.2873687652955,0,null,-5441.2873687652955,0,0,0]
[null,27,7,3,{"$f":"'c_Demand calculations'!N305","v":1578.2630863050977},null,{"$f":"VLOOKUP(D304,'c_Sources calculations'!$U$27:$Z$30,2,0)","v":5291.317919251218},{"$f":"VLOOKUP($D304,'c_Storage calculations'!$S$112:$AJ$116,H$3,0)","v":1833},7124.317919251218,null,{"$f":"VLOOKUP(D304,'c_Sources calculations'!$AB$27:$AG$30,2,0)","v":5291.317919251218},{"$f":"VLOOKUP($D304,'c_Storage calculations'!$S$112:$AJ$116,L$3,0)","v":1833},{"$f":"VLOOKUP($D304,'c_Storage calculations'!$S$112:$AJ$116,M$3,0)","v":0},7124.317919251218,null,-5546.0548329461199,0,null,-5546.0548329461199,0,0,0]
[null,28,7,3,{"$f":"'c_Demand calculations'!N306","v":1646.4647465605651},null,{"$f":"VLOOKUP(D305,'c_Sources calculations'!$U$27:$Z$30,2,0)","v":5291.317919251218},{"$f":"VLOOKUP($D305,'c_Storage calculations'!$S$112:$AJ$116,H$3,0)","v":1833},7124.317919251218,null,{"$f":"VLOOKUP(D305,'c_Sources calculations'!$AB$27:$AG$30,2,0)","v":5291.317919251218},{"$f":"VLOOKUP($D305,'c_Storage calculations'!$S$112:$AJ$116,L$3,0)","v":1833},{"$f":"VLOOKUP($D305,'c_Storage calculations'!$S$112:$AJ$116,M$3,0)","v":0},7124.317919251218,null,-5477.8531726906531,0,null,-5477.8531726906531,0,0,0]
[null,29,7,3,{"$f":"'c_Demand calculations'!N307","v":1716.708096058331},null,{"$f":"VLOOKUP(D306,'c_Sources calculations'!$U$27:$Z$30,2,0)","v":5291.317919251218},{"$f":"VLOOKUP($D306,'c_Storage calculations'!$S$112:$AJ$116,H$3,0)","v":1833},7124.317919251218,null,{"$f":"VLOOKUP(D306,'c_Sources calculations'!$AB$27:$AG$30,2,0)","v":5291.317919251218},{"$f":"VLOOKUP($D306,'c_Storage calculations'!$S$112:$AJ$116,L$3,0)","v":1833},{"$f":"VLOOKUP($D306,'c_Storage calculations'!$S$112:$AJ$116,M$3,0)","v":0},7124.317919251218,null,-5407.6098231928872,0,null,-5407.6098231928872,0,0,0]
[null,30,7,3,{"$f":"'c_Demand calculations'!N308","v":1674.0442149588671},null,{"$f":"VLOOKUP(D307,'c_Sources calculations'!$U$27:$Z$30,2,0)","v":5291.317919251218},{"$f":"VLOOKUP($D307,'c_Storage calculations'!$S$112:$AJ$116,H$3,0)","v":1833},7124.317919251218,null,{"$f":"VLOOKUP(D307,'c_Sources calculations'!$AB$27:$AG$30,2,0)","v":5291.317919251218},{"$f":"VLOOKUP($D307,'c_Storage calculations'!$S$112:$AJ$116,L$3,0)","v":1833},{"$f":"VLOOKUP($D307,'c_Storage calculations'!$S$112:$AJ$116,M$3,0)","v":0},7124.317919251218,null,-5450.2737042923509,0,null,-5450.2737042923509,0,0,0]
[null,31,7,3,{"$f":"'c_Demand calculations'!N309","v":1460.4346866654928},null,{"$f":"VLOOKUP(D308,'c_Sources calculations'!$U$27:$Z$30,2,0)","v":5291.317919251218},{"$f":"VLOOKUP($D308,'c_Storage calculations'!$S$112:$AJ$116,H$3,0)","v":1833},7124.317919251218,null,{"$f":"VLOOKUP(D308,'c_Sources calculations'!$AB$27:$AG$30,2,0)","v":5291.317919251218},{"$f":"VLOOKUP($D308,'c_Storage calculations'!$S$112:$AJ$116,L$3,0)","v":1833},{"$f":"VLOOKUP($D308,'c_Storage calculations'!$S$112:$AJ$116,M$3,0)","v":0},7124.317919251218,null,-5663.8832325857256,0,null,-5663.8832325857256,0,0,0]
[null,1,8,3,{"$f":"'c_Demand calculations'!N310","v":1448.3813121623209},null,{"$f":"VLOOKUP(D309,'c_Sources calculations'!$U$27:$Z$30,2,0)","v":5291.317919251218},{"$f":"VLOOKUP($D309,'c_Storage calculations'!$S$112:$AJ$116,H$3,0)","v":1833},7124.317919251218,null,{"$f":"VLOOKUP(D309,'c_Sources calculations'!$AB$27:$AG$30,2,0)","v":5291.317919251218},{"$f":"VLOOKUP($D309,'c_Storage calculations'!$S$112:$AJ$116,L$3,0)","v":1833},{"$f":"VLOOKUP($D309,'c_Storage calculations'!$S$112:$AJ$116,M$3,0)","v":0},7124.317919251218,null,-5675.9366070888973,0,null,-5675.9366070888973,0,0,0]
[null,2,8,3,{"$f":"'c_Demand calculations'!N311","v":1479.6235208078458},null,{"$f":"VLOOKUP(D310,'c_Sources calculations'!$U$27:$Z$30,2,0)","v":5291.317919251218},{"$f":"VLOOKUP($D310,'c_Storage calculations'!$S$112:$AJ$116,H$3,0)","v":1833},7124.317919251218,null,{"$f":"VLOOKUP(D310,'c_Sources calculations'!$AB$27:$AG$30,2,0)","v":5291.317919251218},{"$f":"VLOOKUP($D310,'c_Storage calculations'!$S$112:$AJ$116,L$3,0)","v":1833},{"$f":"VLOOKUP($D310,'c_Storage calculations'!$S$112:$AJ$116,M$3,0)","v":0},7124.317919251218,null,-5644.6943984433719,0,null,-5644.6943984433719,0,0,0]
[null,3,8,3,{"$f":"'c_Demand calculations'!N312","v":1531.3215158525561},null,{"$f":"VLOOKUP(D311,'c_Sources calculations'!$U$27:$Z$30,2,0)","v":5291.317919251218},{"$f":"VLOOKUP($D311,'c_Storage calculations'!$S$112:$AJ$116,H$3,0)","v":1833},7124.317919251218,null,{"$f":"VLOOKUP(D311,'c_Sources calculations'!$AB$27:$AG$30,2,0)","v":5291.317919251218},{"$f":"VLOOKUP($D311,'c_Storage calculations'!$S$112:$AJ$116,L$3,0)","v":1833},{"$f":"VLOOKUP($D311,'c_Storage calculations'!$S$112:$AJ$116,M$3,0)","v":0},7124.317919251218,null,-5592.9964033986616,0,null,-5592.9964033986616,0,0,0]
[null,4,8,3,{"$f":"'c_Demand calculations'!N313","v":1432.1013386826176},null,{"$f":"VLOOKUP(D312,'c_Sources calculations'!$U$27:$Z$30,2,0)","v":5291.317919251218},{"$f":"VLOOKUP($D312,'c_Storage calculations'!$S$112:$AJ$116,H$3,0)","v":1833},7124.317919251218,null,{"$f":"VLOOKUP(D312,'c_Sources calculations'!$AB$27:$AG$30,2,0)","v":5291.317919251218},{"$f":"VLOOKUP($D312,'c_Storage calculations'!$S$112:$AJ$116,L$3,0)","v":1833},{"$f":"VLOOKUP($D312,'c_Storage calculations'!$S$112:$AJ$116,M$3,0)","v":0},7124.317919251218,null,-5692.2165805686,0,null,-5692.2165805686,0,0,0]
[null,5,8,3,{"$f":"'c_Demand calculations'!N314","v":1461.6846777068845},null,{"$f":"VLOOKUP(D313,'c_Sources calculations'!$U$27:$Z$30,2,0)","v":5291.317919251218},{"$f":"VLOOKUP($D313,'c_Storage calculations'!$S$112:$AJ$116,H$3,0)","v":1833},7124.317919251218,null,{"$f":"VLOOKUP(D313,'c_Sources calculations'!$AB$27:$AG$30,2,0)","v":5291.317919251218},{"$f":"VLOOKUP($D313,'c_Storage calculations'!$S$112:$AJ$116,L$3,0)","v":1833},{"$f":"VLOOKUP($D313,'c_Storage calculations'!$S$112:$AJ$116,M$3,0)","v":0},7124.317919251218,null,-5662.6332415443339,0,null,-5662.6332415443339,0,0,0]
[null,6,8,3,{"$f":"'c_Demand calculations'!N315","v":1434.694287028738},null,{"$f":"VLOOKUP(D314,'c_Sources calculations'!$U$27:$Z$30,2,0)","v":5291.317919251218},{"$f":"VLOOKUP($D314,'c_Storage calculations'!$S$112:$AJ$116,H$3,0)","v":1833},7124.317919251218,null,{"$f":"VLOOKUP(D314,'c_Sources calculations'!$AB$27:$AG$30,2,0)","v":5291.317919251218},{"$f":"VLOOKUP($D314,'c_Storage calculations'!$S$112:$AJ$116,L$3,0)","v":1833},{"$f":"VLOOKUP($D314,'c_Storage calculations'!$S$112:$AJ$116,M$3,0)","v":0},7124.317919251218,null,-5689.6236322224795,0,null,-5689.6236322224795,0,0,0]
[null,7,8,3,{"$f":"'c_Demand calculations'!N316","v":1233.9114092888326},null,{"$f":"VLOOKUP(D315,'c_Sources calculations'!$U$27:$Z$30,2,0)","v":5291.317919251218},{"$f":"VLOOKUP($D315,'c_Storage calculations'!$S$112:$AJ$116,H$3,0)","v":1833},7124.317919251218,null,{"$f":"VLOOKUP(D315,'c_Sources calculations'!$AB$27:$AG$30,2,0)","v":5291.317919251218},{"$f":"VLOOKUP($D315,'c_Storage calculations'!$S$112:$AJ$116,L$3,0)","v":1833},{"$f":"VLOOKUP($D315,'c_Storage calculations'!$S$112:$AJ$116,M$3,0)","v":0},7124.317919251218,null,-5890.4065099623858,0,null,-5890.4065099623858,0,0,0]
[null,8,8,3,{"$f":"'c_Demand calculations'!N317","v":1225.4081992406254},null,{"$f":"VLOOKUP(D316,'c_Sources calculations'!$U$27:$Z$30,2,0)","v":5291.317919251218},{"$f":"VLOOKUP($D316,'c_Storage calculations'!$S$112:$AJ$116,H$3,0)","v":1833},7124.317919251218,null,{"$f":"VLOOKUP(D316,'c_Sources calculations'!$AB$27:$AG$30,2,0)","v":5291.317919251218},{"$f":"VLOOKUP($D316,'c_Storage calculations'!$S$112:$AJ$116,L$3,0)","v":1833},{"$f":"VLOOKUP($D316,'c_Storage calculations'!$S$112:$AJ$116,M$3,0)","v":0},7124.317919251218,null,-5898.9097200105925,0,null,-5898.9097200105925,0,0,0]
[null,9,8,3,{"$f":"'c_Demand calculations'!N318","v":1542.7577502453382},null,{"$f":"VLOOKUP(D317,'c_Sources calculations'!$U$27:$Z$30,2,0)","v":5291.317919251218},{"$f":"VLOOKUP($D317,'c_Storage calculations'!$S$112:$AJ$116,H$3,0)","v":1833},7124.317919251218,null,{"$f":"VLOOKUP(D317,'c_Sources calculations'!$AB$27:$AG$30,2,0)","v":5291.317919251218},{"$f":"VLOOKUP($D317,'c_Storage calculations'!$S$112:$AJ$116,L$3,0)","v":1833},{"$f":"VLOOKUP($D317,'c_Storage calculations'!$S$112:$AJ$116,M$3,0)","v":0},7124.317919251218,null,-5581.5601690058793,0,null,-5581.5601690058793,0,0,0]
[null,10,8,3,{"$f":"'c_Demand calculations'!N319","v":1539.2932189882249},null,{"$f":"VLOOKUP(D318,'c_Sources calculations'!$U$27:$Z$30,2,0)","v":5291.317919251218},{"$f":"VLOOKUP($D318,'c_Storage calculations'!$S$112:$AJ$116,H$3,0)","v":1833},7124.317919251218,null,{"$f":"VLOOKUP(D318,'c_Sources calculations'!$AB$27:$AG$30,2,0)","v":5291.317919251218},{"$f":"VLOOKUP($D318,'c_Storage calculations'!$S$112:$AJ$116,L$3,0)","v":1833},{"$f":"VLOOKUP($D318,'c_Storage calculations'!$S$112:$AJ$116,M$3,0)","v":0},7124.317919251218,null,-5585.0247002629931,0,null,-5585.0247002629931,0,0,0]
[null,11,8,3,{"$f":"'c_Demand calculations'!N320","v":1515.774304183378},null,{"$f":"VLOOKUP(D319,'c_Sources calculations'!$U$27:$Z$30,2,0)","v":5291.317919251218},{"$f":"VLOOKUP($D319,'c_Storage calculations'!$S$112:$AJ$116,H$3,0)","v":1833},7124.317919251218,null,{"$f":"VLOOKUP(D319,'c_Sources calculations'!$AB$27:$AG$30,2,0)","v":5291.317919251218},{"$f":"VLOOKUP($D319,'c_Storage calculations'!$S$112:$AJ$116,L$3,0)","v":1833},{"$f":"VLOOKUP($D319,'c_Storage calculations'!$S$112:$AJ$116,M$3,0)","v":0},7124.317919251218,null,-5608.5436150678397,0,null,-5608.5436150678397,0,0,0]
[null,12,8,3,{"$f":"'c_Demand calculations'!N321","v":1637.9224569898738},null,{"$f":"VLOOKUP(D320,'c_Sources calculations'!$U$27:$Z$30,2,0)","v":5291.317919251218},{"$f":"VLOOKUP($D320,'c_Storage calculations'!$S$112:$AJ$116,H$3,0)","v":1833},7124.317919251218,null,{"$f":"VLOOKUP(D320,'c_Sources calculations'!$AB$27:$AG$30,2,0)","v":5291.317919251218},{"$f":"VLOOKUP($D320,'c_Storage calculations'!$S$112:$AJ$116,L$3,0)","v":1833},{"$f":"VLOOKUP($D320,'c_Storage calculations'!$S$112:$AJ$116,M$3,0)","v":0},7124.317919251218,null,-5486.3954622613437,0,null,-5486.3954622613437,0,0,0]
[null,13,8,3,{"$f":"'c_Demand calculations'!N322","v":1629.0218695845742},null,{"$f":"VLOOKUP(D321,'c_Sources calculations'!$U$27:$Z$30,2,0)","v":5291.317919251218},{"$f":"VLOOKUP($D321,'c_Storage calculations'!$S$112:$AJ$116,H$3,0)","v":1833},7124.317919251218,null,{"$f":"VLOOKUP(D321,'c_Sources calculations'!$AB$27:$AG$30,2,0)","v":5291.317919251218},{"$f":"VLOOKUP($D321,'c_Storage calculations'!$S$112:$AJ$116,L$3,0)","v":1833},{"$f":"VLOOKUP($D321,'c_Storage calculations'!$S$112:$AJ$116,M$3,0)","v":0},7124.317919251218,null,-5495.2960496666437,0,null,-5495.2960496666437,0,0,0]
[null,14,8,3,{"$f":"'c_Demand calculations'!N323","v":1515.3588547949282},null,{"$f":"VLOOKUP(D322,'c_Sources calculations'!$U$27:$Z$30,2,0)","v":5291.317919251218},{"$f":"VLOOKUP($D322,'c_Storage calculations'!$S$112:$AJ$116,H$3,0)","v":1833},7124.317919251218,null,{"$f":"VLOOKUP(D322,'c_Sources calculations'!$AB$27:$AG$30,2,0)","v":5291.317919251218},{"$f":"VLOOKUP($D322,'c_Storage calculations'!$S$112:$AJ$116,L$3,0)","v":1833},{"$f":"VLOOKUP($D322,'c_Storage calculations'!$S$112:$AJ$116,M$3,0)","v":0},7124.317919251218,null,-5608.9590644562895,0,null,-5608.9590644562895,0,0,0]
[null,15,8,3,{"$f":"'c_Demand calculations'!N324","v":1501.739134968625},null,{"$f":"VLOOKUP(D323,'c_Sources calculations'!$U$27:$Z$30,2,0)","v":5291.317919251218},{"$f":"VLOOKUP($D323,'c_Storage calculations'!$S$112:$AJ$116,H$3,0)","v":1833},7124.317919251218,null,{"$f":"VLOOKUP(D323,'c_Sources calculations'!$AB$27:$AG$30,2,0)","v":5291.317919251218},{"$f":"VLOOKUP($D323,'c_Storage calculations'!$S$112:$AJ$116,L$3,0)","v":1833},{"$f":"VLOOKUP($D323,'c_Storage calculations'!$S$112:$AJ$116,M$3,0)","v":0},7124.317919251218,null,-5622.578784282593,0,null,-5622.578784282593,0,0,0]
[null,16,8,3,{"$f":"'c_Demand calculations'!N325","v":1653.7222927826058},null,{"$f":"VLOOKUP(D324,'c_Sources calculations'!$U$27:$Z$30,2,0)","v":5291.317919251218},{"$f":"VLOOKUP($D324,'c_Storage calculations'!$S$112:$AJ$116,H$3,0)","v":1833},7124.317919251218,null,{"$f":"VLOOKUP(D324,'c_Sources calculations'!$AB$27:$AG$30,2,0)","v":5291.317919251218},{"$f":"VLOOKUP($D324,'c_Storage calculations'!$S$112:$AJ$116,L$3,0)","v":1833},{"$f":"VLOOKUP($D324,'c_Storage calculations'!$S$112:$AJ$116,M$3,0)","v":0},7124.317919251218,null,-5470.595626468612,0,null,-5470.595626468612,0,0,0]
[null,17,8,3,{"$f":"'c_Demand calculations'!N326","v":1855.2792158725629},null,{"$f":"VLOOKUP(D325,'c_Sources calculations'!$U$27:$Z$30,2,0)","v":5291.317919251218},{"$f":"VLOOKUP($D325,'c_Storage calculations'!$S$112:$AJ$116,H$3,0)","v":1833},7124.317919251218,null,{"$f":"VLOOKUP(D325,'c_Sources calculations'!$AB$27:$AG$30,2,0)","v":5291.317919251218},{"$f":"VLOOKUP($D325,'c_Storage calculations'!$S$112:$AJ$116,L$3,0)","v":1833},{"$f":"VLOOKUP($D325,'c_Storage calculations'!$S$112:$AJ$116,M$3,0)","v":0},7124.317919251218,null,{"$f":"E325-I325","v":-5269.0387033786556},0,null,{"$f":"E325-N325","v":-5269.0387033786556},0,0,{"$f":"T325*E325","v":0}]
[null,18,8,{"$f":"IF(C326<=3,1,IF(C326<=6,2,IF(C326<=9,3,4)))","v":3},{"$f":"'c_Demand calculations'!N327","v":1848.3904625589544},null,{"$f":"VLOOKUP(D326,'c_Sources calculations'!$U$27:$Z$30,2,0)","v":5291.317919251218},{"$f":"VLOOKUP($D326,'c_Storage calculations'!$S$112:$AJ$116,H$3,0)","v":1833},{"$f":"SUM(G326:H326)","v":7124.317919251218},null,{"$f":"VLOOKUP(D326,'c_Sources calculations'!$AB$27:$AG$30,2,0)","v":5291.317919251218},{"$f":"VLOOKUP($D326,'c_Storage calculations'!$S$112:$AJ$116,L$3,0)","v":1833},{"$f":"VLOOKUP($D326,'c_Storage calculations'!$S$112:$AJ$116,M$3,0)","v":0},{"$f":"SUM(K326:L326)-M326","v":7124.317919251218},null,-5275.9274566922631,{"$f":"IF(P326>0,1,0)","v":0},null,-5275.9274566922631,{"$f":"IF(S326>0,1,0)","v":0},{"$f":"T326*S326","v":0},0]
[null,19,8,3,{"$f":"'c_Demand calculations'!N328","v":1881.698197724749},null,{"$f":"VLOOKUP(D327,'c_Sources calculations'!$U$27:$Z$30,2,0)","v":5291.317919251218},{"$f":"VLOOKUP($D327,'c_Storage calculations'!$S$112:$AJ$116,H$3,0)","v":1833},7124.317919251218,null,{"$f":"VLOOKUP(D327,'c_Sources calculations'!$AB$27:$AG$30,2,0)","v":5291.317919251218},{"$f":"VLOOKUP($D327,'c_Storage calculations'!$S$112:$AJ$116,L$3,0)","v":1833},{"$f":"VLOOKUP($D327,'c_Storage calculations'!$S$112:$AJ$116,M$3,0)","v":0},7124.317919251218,null,-5242.6197215264692,0,null,-5242.6197215264692,0,0,0]
[null,20,8,3,{"$f":"'c_Demand calculations'!N329","v":1860.2434149886733},null,{"$f":"VLOOKUP(D328,'c_Sources calculations'!$U$27:$Z$30,2,0)","v":5291.317919251218},{"$f":"VLOOKUP($D328,'c_Storage calculations'!$S$112:$AJ$116,H$3,0)","v":1833},7124.317919251218,null,{"$f":"VLOOKUP(D328,'c_Sources calculations'!$AB$27:$AG$30,2,0)","v":5291.317919251218},{"$f":"VLOOKUP($D328,'c_Storage calculations'!$S$112:$AJ$116,L$3,0)","v":1833},{"$f":"VLOOKUP($D328,'c_Storage calculations'!$S$112:$AJ$116,M$3,0)","v":0},7124.317919251218,null,-5264.0745042625449,0,null,-5264.0745042625449,0,0,0]
[null,21,8,3,{"$f":"'c_Demand calculations'!N330","v":1648.973309608898},null,{"$f":"VLOOKUP(D329,'c_Sources calculations'!$U$27:$Z$30,2,0)","v":5291.317919251218},{"$f":"VLOOKUP($D329,'c_Storage calculations'!$S$112:$AJ$116,H$3,0)","v":1833},7124.317919251218,null,{"$f":"VLOOKUP(D329,'c_Sources calculations'!$AB$27:$AG$30,2,0)","v":5291.317919251218},{"$f":"VLOOKUP($D329,'c_Storage calculations'!$S$112:$AJ$116,L$3,0)","v":1833},{"$f":"VLOOKUP($D329,'c_Storage calculations'!$S$112:$AJ$116,M$3,0)","v":0},7124.317919251218,null,-5475.3446096423195,0,null,-5475.3446096423195,0,0,0]
[null,22,8,3,{"$f":"'c_Demand calculations'!N331","v":1666.7444886777478},null,{"$f":"VLOOKUP(D330,'c_Sources calculations'!$U$27:$Z$30,2,0)","v":5291.317919251218},{"$f":"VLOOKUP($D330,'c_Storage calculations'!$S$112:$AJ$116,H$3,0)","v":1833},7124.317919251218,null,{"$f":"VLOOKUP(D330,'c_Sources calculations'!$AB$27:$AG$30,2,0)","v":5291.317919251218},{"$f":"VLOOKUP($D330,'c_Storage calculations'!$S$112:$AJ$116,L$3,0)","v":1833},{"$f":"VLOOKUP($D330,'c_Storage calculations'!$S$112:$AJ$116,M$3,0)","v":0},7124.317919251218,null,-5457.5734305734704,0,null,-5457.5734305734704,0,0,0]
[null,23,8,3,{"$f":"'c_Demand calculations'!N332","v":1916.934375258814},null,{"$f":"VLOOKUP(D331,'c_Sources calculations'!$U$27:$Z$30,2,0)","v":5291.317919251218},{"$f":"VLOOKUP($D331,'c_Storage calculations'!$S$112:$AJ$116,H$3,0)","v":1833},7124.317919251218,null,{"$f":"VLOOKUP(D331,'c_Sources calculations'!$AB$27:$AG$30,2,0)","v":5291.317919251218},{"$f":"VLOOKUP($D331,'c_Storage calculations'!$S$112:$AJ$116,L$3,0)","v":1833},{"$f":"VLOOKUP($D331,'c_Storage calculations'!$S$112:$AJ$116,M$3,0)","v":0},7124.317919251218,null,-5207.3835439924042,0,null,-5207.3835439924042,0,0,0]
[null,24,8,3,{"$f":"'c_Demand calculations'!N333","v":1851.7085945872248},null,{"$f":"VLOOKUP(D332,'c_Sources calculations'!$U$27:$Z$30,2,0)","v":5291.317919251218},{"$f":"VLOOKUP($D332,'c_Storage calculations'!$S$112:$AJ$116,H$3,0)","v":1833},7124.317919251218,null,{"$f":"VLOOKUP(D332,'c_Sources calculations'!$AB$27:$AG$30,2,0)","v":5291.317919251218},{"$f":"VLOOKUP($D332,'c_Storage calculations'!$S$112:$AJ$116,L$3,0)","v":1833},{"$f":"VLOOKUP($D332,'c_Storage calculations'!$S$112:$AJ$116,M$3,0)","v":0},7124.317919251218,null,-5272.609324663993,0,null,-5272.609324663993,0,0,0]
[null,25,8,3,{"$f":"'c_Demand calculations'!N334","v":1998.7436663617568},null,{"$f":"VLOOKUP(D333,'c_Sources calculations'!$U$27:$Z$30,2,0)","v":5291.317919251218},{"$f":"VLOOKUP($D333,'c_Storage calculations'!$S$112:$AJ$116,H$3,0)","v":1833},7124.317919251218,null,{"$f":"VLOOKUP(D333,'c_Sources calculations'!$AB$27:$AG$30,2,0)","v":5291.317919251218},{"$f":"VLOOKUP($D333,'c_Storage calculations'!$S$112:$AJ$116,L$3,0)","v":1833},{"$f":"VLOOKUP($D333,'c_Storage calculations'!$S$112:$AJ$116,M$3,0)","v":0},7124.317919251218,null,-5125.5742528894607,0,null,-5125.5742528894607,0,0,0]
[null,26,8,3,{"$f":"'c_Demand calculations'!N335","v":2045.0644974078346},null,{"$f":"VLOOKUP(D334,'c_Sources calculations'!$U$27:$Z$30,2,0)","v":5291.317919251218},{"$f":"VLOOKUP($D334,'c_Storage calculations'!$S$112:$AJ$116,H$3,0)","v":1833},7124.317919251218,null,{"$f":"VLOOKUP(D334,'c_Sources calculations'!$AB$27:$AG$30,2,0)","v":5291.317919251218},{"$f":"VLOOKUP($D334,'c_Storage calculations'!$S$112:$AJ$116,L$3,0)","v":1833},{"$f":"VLOOKUP($D334,'c_Storage calculations'!$S$112:$AJ$116,M$3,0)","v":0},7124.317919251218,null,-5079.253421843383,0,null,-5079.253421843383,0,0,0]
[null,27,8,3,{"$f":"'c_Demand calculations'!N336","v":1832.2131569524715},null,{"$f":"VLOOKUP(D335,'c_Sources calculations'!$U$27:$Z$30,2,0)","v":5291.317919251218},{"$f":"VLOOKUP($D335,'c_Storage calculations'!$S$112:$AJ$116,H$3,0)","v":1833},7124.317919251218,null,{"$f":"VLOOKUP(D335,'c_Sources calculations'!$AB$27:$AG$30,2,0)","v":5291.317919251218},{"$f":"VLOOKUP($D335,'c_Storage calculations'!$S$112:$AJ$116,L$3,0)","v":1833},{"$f":"VLOOKUP($D335,'c_Storage calculations'!$S$112:$AJ$116,M$3,0)","v":0},7124.317919251218,null,-5292.1047622987462,0,null,-5292.1047622987462,0,0,0]
[null,28,8,3,{"$f":"'c_Demand calculations'!N337","v":1661.4238875426886},null,{"$f":"VLOOKUP(D336,'c_Sources calculations'!$U$27:$Z$30,2,0)","v":5291.317919251218},{"$f":"VLOOKUP($D336,'c_Storage calculations'!$S$112:$AJ$116,H$3,0)","v":1833},7124.317919251218,null,{"$f":"VLOOKUP(D336,'c_Sources calculations'!$AB$27:$AG$30,2,0)","v":5291.317919251218},{"$f":"VLOOKUP($D336,'c_Storage calculations'!$S$112:$AJ$116,L$3,0)","v":1833},{"$f":"VLOOKUP($D336,'c_Storage calculations'!$S$112:$AJ$116,M$3,0)","v":0},7124.317919251218,null,-5462.8940317085289,0,null,-5462.8940317085289,0,0,0]
[null,29,8,3,{"$f":"'c_Demand calculations'!N338","v":1651.4827213248211},null,{"$f":"VLOOKUP(D337,'c_Sources calculations'!$U$27:$Z$30,2,0)","v":5291.317919251218},{"$f":"VLOOKUP($D337,'c_Storage calculations'!$S$112:$AJ$116,H$3,0)","v":1833},7124.317919251218,null,{"$f":"VLOOKUP(D337,'c_Sources calculations'!$AB$27:$AG$30,2,0)","v":5291.317919251218},{"$f":"VLOOKUP($D337,'c_Storage calculations'!$S$112:$AJ$116,L$3,0)","v":1833},{"$f":"VLOOKUP($D337,'c_Storage calculations'!$S$112:$AJ$116,M$3,0)","v":0},7124.317919251218,null,-5472.8351979263971,0,null,-5472.8351979263971,0,0,0]
[null,30,8,3,{"$f":"'c_Demand calculations'!N339","v":1774.0232539336146},null,{"$f":"VLOOKUP(D338,'c_Sources calculations'!$U$27:$Z$30,2,0)","v":5291.317919251218},{"$f":"VLOOKUP($D338,'c_Storage calculations'!$S$112:$AJ$116,H$3,0)","v":1833},7124.317919251218,null,{"$f":"VLOOKUP(D338,'c_Sources calculations'!$AB$27:$AG$30,2,0)","v":5291.317919251218},{"$f":"VLOOKUP($D338,'c_Storage calculations'!$S$112:$AJ$116,L$3,0)","v":1833},{"$f":"VLOOKUP($D338,'c_Storage calculations'!$S$112:$AJ$116,M$3,0)","v":0},7124.317919251218,null,-5350.2946653176032,0,null,-5350.2946653176032,0,0,0]
[null,31,8,3,{"$f":"'c_Demand calculations'!N340","v":1829.1420035169631},null,{"$f":"VLOOKUP(D339,'c_Sources calculations'!$U$27:$Z$30,2,0)","v":5291.317919251218},{"$f":"VLOOKUP($D339,'c_Storage calculations'!$S$112:$AJ$116,H$3,0)","v":1833},7124.317919251218,null,{"$f":"VLOOKUP(D339,'c_Sources calculations'!$AB$27:$AG$30,2,0)","v":5291.317919251218},{"$f":"VLOOKUP($D339,'c_Storage calculations'!$S$112:$AJ$116,L$3,0)","v":1833},{"$f":"VLOOKUP($D339,'c_Storage calculations'!$S$112:$AJ$116,M$3,0)","v":0},7124.317919251218,null,-5295.1759157342549,0,null,-5295.1759157342549,0,0,0]
[null,1,9,3,{"$f":"'c_Demand calculations'!N341","v":1677.5179513447872},null,{"$f":"VLOOKUP(D340,'c_Sources calculations'!$U$27:$Z$30,2,0)","v":5291.317919251218},{"$f":"VLOOKUP($D340,'c_Storage calculations'!$S$112:$AJ$116,H$3,0)","v":1833},7124.317919251218,null,{"$f":"VLOOKUP(D340,'c_Sources calculations'!$AB$27:$AG$30,2,0)","v":5291.317919251218},{"$f":"VLOOKUP($D340,'c_Storage calculations'!$S$112:$AJ$116,L$3,0)","v":1833},{"$f":"VLOOKUP($D340,'c_Storage calculations'!$S$112:$AJ$116,M$3,0)","v":0},7124.317919251218,null,-5446.7999679064305,0,null,-5446.7999679064305,0,0,0]
[null,2,9,3,{"$f":"'c_Demand calculations'!N342","v":1849.0519804053124},null,{"$f":"VLOOKUP(D341,'c_Sources calculations'!$U$27:$Z$30,2,0)","v":5291.317919251218},{"$f":"VLOOKUP($D341,'c_Storage calculations'!$S$112:$AJ$116,H$3,0)","v":1833},7124.317919251218,null,{"$f":"VLOOKUP(D341,'c_Sources calculations'!$AB$27:$AG$30,2,0)","v":5291.317919251218},{"$f":"VLOOKUP($D341,'c_Storage calculations'!$S$112:$AJ$116,L$3,0)","v":1833},{"$f":"VLOOKUP($D341,'c_Storage calculations'!$S$112:$AJ$116,M$3,0)","v":0},7124.317919251218,null,-5275.2659388459051,0,null,-5275.2659388459051,0,0,0]
[null,3,9,3,{"$f":"'c_Demand calculations'!N343","v":1723.1722798842438},null,{"$f":"VLOOKUP(D342,'c_Sources calculations'!$U$27:$Z$30,2,0)","v":5291.317919251218},{"$f":"VLOOKUP($D342,'c_Storage calculations'!$S$112:$AJ$116,H$3,0)","v":1833},7124.317919251218,null,{"$f":"VLOOKUP(D342,'c_Sources calculations'!$AB$27:$AG$30,2,0)","v":5291.317919251218},{"$f":"VLOOKUP($D342,'c_Storage calculations'!$S$112:$AJ$116,L$3,0)","v":1833},{"$f":"VLOOKUP($D342,'c_Storage calculations'!$S$112:$AJ$116,M$3,0)","v":0},7124.317919251218,null,-5401.1456393669741,0,null,-5401.1456393669741,0,0,0]
[null,4,9,3,{"$f":"'c_Demand calculations'!N344","v":1607.4180888822818},null,{"$f":"VLOOKUP(D343,'c_Sources calculations'!$U$27:$Z$30,2,0)","v":5291.317919251218},{"$f":"VLOOKUP($D343,'c_Storage calculations'!$S$112:$AJ$116,H$3,0)","v":1833},7124.317919251218,null,{"$f":"VLOOKUP(D343,'c_Sources calculations'!$AB$27:$AG$30,2,0)","v":5291.317919251218},{"$f":"VLOOKUP($D343,'c_Storage calculations'!$S$112:$AJ$116,L$3,0)","v":1833},{"$f":"VLOOKUP($D343,'c_Storage calculations'!$S$112:$AJ$116,M$3,0)","v":0},7124.317919251218,null,-5516.8998303689359,0,null,-5516.8998303689359,0,0,0]
[null,5,9,3,{"$f":"'c_Demand calculations'!N345","v":1581.2889313600026},null,{"$f":"VLOOKUP(D344,'c_Sources calculations'!$U$27:$Z$30,2,0)","v":5291.317919251218},{"$f":"VLOOKUP($D344,'c_Storage calculations'!$S$112:$AJ$116,H$3,0)","v":1833},7124.317919251218,null,{"$f":"VLOOKUP(D344,'c_Sources calculations'!$AB$27:$AG$30,2,0)","v":5291.317919251218},{"$f":"VLOOKUP($D344,'c_Storage calculations'!$S$112:$AJ$116,L$3,0)","v":1833},{"$f":"VLOOKUP($D344,'c_Storage calculations'!$S$112:$AJ$116,M$3,0)","v":0},7124.317919251218,null,-5543.0289878912154,0,null,-5543.0289878912154,0,0,0]
[null,6,9,3,{"$f":"'c_Demand calculations'!N346","v":1840.1498200338519},null,{"$f":"VLOOKUP(D345,'c_Sources calculations'!$U$27:$Z$30,2,0)","v":5291.317919251218},{"$f":"VLOOKUP($D345,'c_Storage calculations'!$S$112:$AJ$116,H$3,0)","v":1833},7124.317919251218,null,{"$f":"VLOOKUP(D345,'c_Sources calculations'!$AB$27:$AG$30,2,0)","v":5291.317919251218},{"$f":"VLOOKUP($D345,'c_Storage calculations'!$S$112:$AJ$116,L$3,0)","v":1833},{"$f":"VLOOKUP($D345,'c_Storage calculations'!$S$112:$AJ$116,M$3,0)","v":0},7124.317919251218,null,-5284.168099217366,0,null,-5284.168099217366,0,0,0]
[null,7,9,3,{"$f":"'c_Demand calculations'!N347","v":1890.3379656235447},null,{"$f":"VLOOKUP(D346,'c_Sources calculations'!$U$27:$Z$30,2,0)","v":5291.317919251218},{"$f":"VLOOKUP($D346,'c_Storage calculations'!$S$112:$AJ$116,H$3,0)","v":1833},7124.317919251218,null,{"$f":"VLOOKUP(D346,'c_Sources calculations'!$AB$27:$AG$30,2,0)","v":5291.317919251218},{"$f":"VLOOKUP($D346,'c_Storage calculations'!$S$112:$AJ$116,L$3,0)","v":1833},{"$f":"VLOOKUP($D346,'c_Storage calculations'!$S$112:$AJ$116,M$3,0)","v":0},7124.317919251218,null,-5233.9799536276732,0,null,-5233.9799536276732,0,0,0]
[null,8,9,3,{"$f":"'c_Demand calculations'!N348","v":1853.1105210285671},null,{"$f":"VLOOKUP(D347,'c_Sources calculations'!$U$27:$Z$30,2,0)","v":5291.317919251218},{"$f":"VLOOKUP($D347,'c_Storage calculations'!$S$112:$AJ$116,H$3,0)","v":1833},7124.317919251218,null,{"$f":"VLOOKUP(D347,'c_Sources calculations'!$AB$27:$AG$30,2,0)","v":5291.317919251218},{"$f":"VLOOKUP($D347,'c_Storage calculations'!$S$112:$AJ$116,L$3,0)","v":1833},{"$f":"VLOOKUP($D347,'c_Storage calculations'!$S$112:$AJ$116,M$3,0)","v":0},7124.317919251218,null,-5271.2073982226511,0,null,-5271.2073982226511,0,0,0]
[null,9,9,3,{"$f":"'c_Demand calculations'!N349","v":1565.7713649893528},null,{"$f":"VLOOKUP(D348,'c_Sources calculations'!$U$27:$Z$30,2,0)","v":5291.317919251218},{"$f":"VLOOKUP($D348,'c_Storage calculations'!$S$112:$AJ$116,H$3,0)","v":1833},7124.317919251218,null,{"$f":"VLOOKUP(D348,'c_Sources calculations'!$AB$27:$AG$30,2,0)","v":5291.317919251218},{"$f":"VLOOKUP($D348,'c_Storage calculations'!$S$112:$AJ$116,L$3,0)","v":1833},{"$f":"VLOOKUP($D348,'c_Storage calculations'!$S$112:$AJ$116,M$3,0)","v":0},7124.317919251218,null,-5558.5465542618649,0,null,-5558.5465542618649,0,0,0]
[null,10,9,3,{"$f":"'c_Demand calculations'!N350","v":1514.5207812057133},null,{"$f":"VLOOKUP(D349,'c_Sources calculations'!$U$27:$Z$30,2,0)","v":5291.317919251218},{"$f":"VLOOKUP($D349,'c_Storage calculations'!$S$112:$AJ$116,H$3,0)","v":1833},7124.317919251218,null,{"$f":"VLOOKUP(D349,'c_Sources calculations'!$AB$27:$AG$30,2,0)","v":5291.317919251218},{"$f":"VLOOKUP($D349,'c_Storage calculations'!$S$112:$AJ$116,L$3,0)","v":1833},{"$f":"VLOOKUP($D349,'c_Storage calculations'!$S$112:$AJ$116,M$3,0)","v":0},7124.317919251218,null,-5609.7971380455047,0,null,-5609.7971380455047,0,0,0]
[null,11,9,3,{"$f":"'c_Demand calculations'!N351","v":1342.9581473662884},null,{"$f":"VLOOKUP(D350,'c_Sources calculations'!$U$27:$Z$30,2,0)","v":5291.317919251218},{"$f":"VLOOKUP($D350,'c_Storage calculations'!$S$112:$AJ$116,H$3,0)","v":1833},7124.317919251218,null,{"$f":"VLOOKUP(D350,'c_Sources calculations'!$AB$27:$AG$30,2,0)","v":5291.317919251218},{"$f":"VLOOKUP($D350,'c_Storage calculations'!$S$112:$AJ$116,L$3,0)","v":1833},{"$f":"VLOOKUP($D350,'c_Storage calculations'!$S$112:$AJ$116,M$3,0)","v":0},7124.317919251218,null,-5781.3597718849296,0,null,-5781.3597718849296,0,0,0]
[null,12,9,3,{"$f":"'c_Demand calculations'!N352","v":1383.8555968398332},null,{"$f":"VLOOKUP(D351,'c_Sources calculations'!$U$27:$Z$30,2,0)","v":5291.317919251218},{"$f":"VLOOKUP($D351,'c_Storage calculations'!$S$112:$AJ$116,H$3,0)","v":1833},7124.317919251218,null,{"$f":"VLOOKUP(D351,'c_Sources calculations'!$AB$27:$AG$30,2,0)","v":5291.317919251218},{"$f":"VLOOKUP($D351,'c_Storage calculations'!$S$112:$AJ$116,L$3,0)","v":1833},{"$f":"VLOOKUP($D351,'c_Storage calculations'!$S$112:$AJ$116,M$3,0)","v":0},7124.317919251218,null,-5740.4623224113848,0,null,-5740.4623224113848,0,0,0]
[null,13,9,3,{"$f":"'c_Demand calculations'!N353","v":1572.0438070342177},null,{"$f":"VLOOKUP(D352,'c_Sources calculations'!$U$27:$Z$30,2,0)","v":5291.317919251218},{"$f":"VLOOKUP($D352,'c_Storage calculations'!$S$112:$AJ$116,H$3,0)","v":1833},7124.317919251218,null,{"$f":"VLOOKUP(D352,'c_Sources calculations'!$AB$27:$AG$30,2,0)","v":5291.317919251218},{"$f":"VLOOKUP($D352,'c_Storage calculations'!$S$112:$AJ$116,L$3,0)","v":1833},{"$f":"VLOOKUP($D352,'c_Storage calculations'!$S$112:$AJ$116,M$3,0)","v":0},7124.317919251218,null,-5552.274112217,0,null,-5552.274112217,0,0,0]
[null,14,9,3,{"$f":"'c_Demand calculations'!N354","v":1528.0079080437442},null,{"$f":"VLOOKUP(D353,'c_Sources calculations'!$U$27:$Z$30,2,0)","v":5291.317919251218},{"$f":"VLOOKUP($D353,'c_Storage calculations'!$S$112:$AJ$116,H$3,0)","v":1833},7124.317919251218,null,{"$f":"VLOOKUP(D353,'c_Sources calculations'!$AB$27:$AG$30,2,0)","v":5291.317919251218},{"$f":"VLOOKUP($D353,'c_Storage calculations'!$S$112:$AJ$116,L$3,0)","v":1833},{"$f":"VLOOKUP($D353,'c_Storage calculations'!$S$112:$AJ$116,M$3,0)","v":0},7124.317919251218,null,-5596.3100112074735,0,null,-5596.3100112074735,0,0,0]
[null,15,9,3,{"$f":"'c_Demand calculations'!N355","v":1761.7573289085697},null,{"$f":"VLOOKUP(D354,'c_Sources calculations'!$U$27:$Z$30,2,0)","v":5291.317919251218},{"$f":"VLOOKUP($D354,'c_Storage calculations'!$S$112:$AJ$116,H$3,0)","v":1833},7124.317919251218,null,{"$f":"VLOOKUP(D354,'c_Sources calculations'!$AB$27:$AG$30,2,0)","v":5291.317919251218},{"$f":"VLOOKUP($D354,'c_Storage calculations'!$S$112:$AJ$116,L$3,0)","v":1833},{"$f":"VLOOKUP($D354,'c_Storage calculations'!$S$112:$AJ$116,M$3,0)","v":0},7124.317919251218,null,-5362.5605903426485,0,null,-5362.5605903426485,0,0,0]
[null,16,9,3,{"$f":"'c_Demand calculations'!N356","v":1845.4827361343939},null,{"$f":"VLOOKUP(D355,'c_Sources calculations'!$U$27:$Z$30,2,0)","v":5291.317919251218},{"$f":"VLOOKUP($D355,'c_Storage calculations'!$S$112:$AJ$116,H$3,0)","v":1833},7124.317919251218,null,{"$f":"VLOOKUP(D355,'c_Sources calculations'!$AB$27:$AG$30,2,0)","v":5291.317919251218},{"$f":"VLOOKUP($D355,'c_Storage calculations'!$S$112:$AJ$116,L$3,0)","v":1833},{"$f":"VLOOKUP($D355,'c_Storage calculations'!$S$112:$AJ$116,M$3,0)","v":0},7124.317919251218,null,-5278.8351831168238,0,null,-5278.8351831168238,0,0,0]
[null,17,9,3,{"$f":"'c_Demand calculations'!N357","v":1881.3221485889492},null,{"$f":"VLOOKUP(D356,'c_Sources calculations'!$U$27:$Z$30,2,0)","v":5291.317919251218},{"$f":"VLOOKUP($D356,'c_Storage calculations'!$S$112:$AJ$116,H$3,0)","v":1833},7124.317919251218,null,{"$f":"VLOOKUP(D356,'c_Sources calculations'!$AB$27:$AG$30,2,0)","v":5291.317919251218},{"$f":"VLOOKUP($D356,'c_Storage calculations'!$S$112:$AJ$116,L$3,0)","v":1833},{"$f":"VLOOKUP($D356,'c_Storage calculations'!$S$112:$AJ$116,M$3,0)","v":0},7124.317919251218,null,-5242.995770662269,0,null,-5242.995770662269,0,0,0]
[null,18,9,3,{"$f":"'c_Demand calculations'!N358","v":1797.4742973973309},null,{"$f":"VLOOKUP(D357,'c_Sources calculations'!$U$27:$Z$30,2,0)","v":5291.317919251218},{"$f":"VLOOKUP($D357,'c_Storage calculations'!$S$112:$AJ$116,H$3,0)","v":1833},7124.317919251218,null,{"$f":"VLOOKUP(D357,'c_Sources calculations'!$AB$27:$AG$30,2,0)","v":5291.317919251218},{"$f":"VLOOKUP($D357,'c_Storage calculations'!$S$112:$AJ$116,L$3,0)","v":1833},{"$f":"VLOOKUP($D357,'c_Storage calculations'!$S$112:$AJ$116,M$3,0)","v":0},7124.317919251218,null,-5326.8436218538873,0,null,-5326.8436218538873,0,0,0]
[null,19,9,3,{"$f":"'c_Demand calculations'!N359","v":1666.1389710572698},null,{"$f":"VLOOKUP(D358,'c_Sources calculations'!$U$27:$Z$30,2,0)","v":5291.317919251218},{"$f":"VLOOKUP($D358,'c_Storage calculations'!$S$112:$AJ$116,H$3,0)","v":1833},7124.317919251218,null,{"$f":"VLOOKUP(D358,'c_Sources calculations'!$AB$27:$AG$30,2,0)","v":5291.317919251218},{"$f":"VLOOKUP($D358,'c_Storage calculations'!$S$112:$AJ$116,L$3,0)","v":1833},{"$f":"VLOOKUP($D358,'c_Storage calculations'!$S$112:$AJ$116,M$3,0)","v":0},7124.317919251218,null,-5458.1789481939486,0,null,-5458.1789481939486,0,0,0]
[null,20,9,3,{"$f":"'c_Demand calculations'!N360","v":1732.7367769560283},null,{"$f":"VLOOKUP(D359,'c_Sources calculations'!$U$27:$Z$30,2,0)","v":5291.317919251218},{"$f":"VLOOKUP($D359,'c_Storage calculations'!$S$112:$AJ$116,H$3,0)","v":1833},7124.317919251218,null,{"$f":"VLOOKUP(D359,'c_Sources calculations'!$AB$27:$AG$30,2,0)","v":5291.317919251218},{"$f":"VLOOKUP($D359,'c_Storage calculations'!$S$112:$AJ$116,L$3,0)","v":1833},{"$f":"VLOOKUP($D359,'c_Storage calculations'!$S$112:$AJ$116,M$3,0)","v":0},7124.317919251218,null,-5391.5811422951901,0,null,-5391.5811422951901,0,0,0]
[null,21,9,3,{"$f":"'c_Demand calculations'!N361","v":1661.12995345276},null,{"$f":"VLOOKUP(D360,'c_Sources calculations'!$U$27:$Z$30,2,0)","v":5291.317919251218},{"$f":"VLOOKUP($D360,'c_Storage calculations'!$S$112:$AJ$116,H$3,0)","v":1833},7124.317919251218,null,{"$f":"VLOOKUP(D360,'c_Sources calculations'!$AB$27:$AG$30,2,0)","v":5291.317919251218},{"$f":"VLOOKUP($D360,'c_Storage calculations'!$S$112:$AJ$116,L$3,0)","v":1833},{"$f":"VLOOKUP($D360,'c_Storage calculations'!$S$112:$AJ$116,M$3,0)","v":0},7124.317919251218,null,-5463.1879657984582,0,null,-5463.1879657984582,0,0,0]
[null,22,9,3,{"$f":"'c_Demand calculations'!N362","v":1631.6353482720094},null,{"$f":"VLOOKUP(D361,'c_Sources calculations'!$U$27:$Z$30,2,0)","v":5291.317919251218},{"$f":"VLOOKUP($D361,'c_Storage calculations'!$S$112:$AJ$116,H$3,0)","v":1833},7124.317919251218,null,{"$f":"VLOOKUP(D361,'c_Sources calculations'!$AB$27:$AG$30,2,0)","v":5291.317919251218},{"$f":"VLOOKUP($D361,'c_Storage calculations'!$S$112:$AJ$116,L$3,0)","v":1833},{"$f":"VLOOKUP($D361,'c_Storage calculations'!$S$112:$AJ$116,M$3,0)","v":0},7124.317919251218,null,-5492.6825709792083,0,null,-5492.6825709792083,0,0,0]
[null,23,9,3,{"$f":"'c_Demand calculations'!N363","v":1745.1937681869583},null,{"$f":"VLOOKUP(D362,'c_Sources calculations'!$U$27:$Z$30,2,0)","v":5291.317919251218},{"$f":"VLOOKUP($D362,'c_Storage calculations'!$S$112:$AJ$116,H$3,0)","v":1833},7124.317919251218,null,{"$f":"VLOOKUP(D362,'c_Sources calculations'!$AB$27:$AG$30,2,0)","v":5291.317919251218},{"$f":"VLOOKUP($D362,'c_Storage calculations'!$S$112:$AJ$116,L$3,0)","v":1833},{"$f":"VLOOKUP($D362,'c_Storage calculations'!$S$112:$AJ$116,M$3,0)","v":0},7124.317919251218,null,-5379.1241510642594,0,null,-5379.1241510642594,0,0,0]
[null,24,9,3,{"$f":"'c_Demand calculations'!N364","v":2169.979831174338},null,{"$f":"VLOOKUP(D363,'c_Sources calculations'!$U$27:$Z$30,2,0)","v":5291.317919251218},{"$f":"VLOOKUP($D363,'c_Storage calculations'!$S$112:$AJ$116,H$3,0)","v":1833},7124.317919251218,null,{"$f":"VLOOKUP(D363,'c_Sources calculations'!$AB$27:$AG$30,2,0)","v":5291.317919251218},{"$f":"VLOOKUP($D363,'c_Storage calculations'!$S$112:$AJ$116,L$3,0)","v":1833},{"$f":"VLOOKUP($D363,'c_Storage calculations'!$S$112:$AJ$116,M$3,0)","v":0},7124.317919251218,null,-4954.33808807688,0,null,-4954.33808807688,0,0,0]
[null,25,9,3,{"$f":"'c_Demand calculations'!N365","v":2104.6305256581995},null,{"$f":"VLOOKUP(D364,'c_Sources calculations'!$U$27:$Z$30,2,0)","v":5291.317919251218},{"$f":"VLOOKUP($D364,'c_Storage calculations'!$S$112:$AJ$116,H$3,0)","v":1833},7124.317919251218,null,{"$f":"VLOOKUP(D364,'c_Sources calculations'!$AB$27:$AG$30,2,0)","v":5291.317919251218},{"$f":"VLOOKUP($D364,'c_Storage calculations'!$S$112:$AJ$116,L$3,0)","v":1833},{"$f":"VLOOKUP($D364,'c_Storage calculations'!$S$112:$AJ$116,M$3,0)","v":0},7124.317919251218,null,-5019.687393593018,0,null,-5019.687393593018,0,0,0]
[null,26,9,3,{"$f":"'c_Demand calculations'!N366","v":2170.7627573510113},null,{"$f":"VLOOKUP(D365,'c_Sources calculations'!$U$27:$Z$30,2,0)","v":5291.317919251218},{"$f":"VLOOKUP($D365,'c_Storage calculations'!$S$112:$AJ$116,H$3,0)","v":1833},7124.317919251218,null,{"$f":"VLOOKUP(D365,'c_Sources calculations'!$AB$27:$AG$30,2,0)","v":5291.317919251218},{"$f":"VLOOKUP($D365,'c_Storage calculations'!$S$112:$AJ$116,L$3,0)","v":1833},{"$f":"VLOOKUP($D365,'c_Storage calculations'!$S$112:$AJ$116,M$3,0)","v":0},7124.317919251218,null,-4953.5551619002072,0,null,-4953.5551619002072,0,0,0]
[null,27,9,3,{"$f":"'c_Demand calculations'!N367","v":2364.2085880582099},null,{"$f":"VLOOKUP(D366,'c_Sources calculations'!$U$27:$Z$30,2,0)","v":5291.317919251218},{"$f":"VLOOKUP($D366,'c_Storage calculations'!$S$112:$AJ$116,H$3,0)","v":1833},7124.317919251218,null,{"$f":"VLOOKUP(D366,'c_Sources calculations'!$AB$27:$AG$30,2,0)","v":5291.317919251218},{"$f":"VLOOKUP($D366,'c_Storage calculations'!$S$112:$AJ$116,L$3,0)","v":1833},{"$f":"VLOOKUP($D366,'c_Storage calculations'!$S$112:$AJ$116,M$3,0)","v":0},7124.317919251218,null,-4760.1093311930081,0,null,-4760.1093311930081,0,0,0]
[null,28,9,3,{"$f":"'c_Demand calculations'!N368","v":2299.5580778913927},null,{"$f":"VLOOKUP(D367,'c_Sources calculations'!$U$27:$Z$30,2,0)","v":5291.317919251218},{"$f":"VLOOKUP($D367,'c_Storage calculations'!$S$112:$AJ$116,H$3,0)","v":1833},7124.317919251218,null,{"$f":"VLOOKUP(D367,'c_Sources calculations'!$AB$27:$AG$30,2,0)","v":5291.317919251218},{"$f":"VLOOKUP($D367,'c_Storage calculations'!$S$112:$AJ$116,L$3,0)","v":1833},{"$f":"VLOOKUP($D367,'c_Storage calculations'!$S$112:$AJ$116,M$3,0)","v":0},7124.317919251218,null,-4824.7598413598253,0,null,-4824.7598413598253,0,0,0]
[null,29,9,3,{"$f":"'c_Demand calculations'!N369","v":2283.0195090629591},null,{"$f":"VLOOKUP(D368,'c_Sources calculations'!$U$27:$Z$30,2,0)","v":5291.317919251218},{"$f":"VLOOKUP($D368,'c_Storage calculations'!$S$112:$AJ$116,H$3,0)","v":1833},7124.317919251218,null,{"$f":"VLOOKUP(D368,'c_Sources calculations'!$AB$27:$AG$30,2,0)","v":5291.317919251218},{"$f":"VLOOKUP($D368,'c_Storage calculations'!$S$112:$AJ$116,L$3,0)","v":1833},{"$f":"VLOOKUP($D368,'c_Storage calculations'!$S$112:$AJ$116,M$3,0)","v":0},7124.317919251218,null,-4841.2984101882594,0,null,-4841.2984101882594,0,0,0]
[null,30,9,3,{"$f":"'c_Demand calculations'!N370","v":2327.53865606523},null,{"$f":"VLOOKUP(D369,'c_Sources calculations'!$U$27:$Z$30,2,0)","v":5291.317919251218},{"$f":"VLOOKUP($D369,'c_Storage calculations'!$S$112:$AJ$116,H$3,0)","v":1833},7124.317919251218,null,{"$f":"VLOOKUP(D369,'c_Sources calculations'!$AB$27:$AG$30,2,0)","v":5291.317919251218},{"$f":"VLOOKUP($D369,'c_Storage calculations'!$S$112:$AJ$116,L$3,0)","v":1833},{"$f":"VLOOKUP($D369,'c_Storage calculations'!$S$112:$AJ$116,M$3,0)","v":0},7124.317919251218,null,-4796.7792631859884,0,null,-4796.7792631859884,0,0,0]

{"sheet":"c_Weekly","index":21,"n_rows":57,"n_cols":21,"rows_kept":57,"cut":false,"hidden":false,"merged":[[1,1,1,3],[1,5,1,7],[1,9,1,12],[1,14,1,15],[1,17,1,20]]}
[]
[null,"Demand",null,null,null,"Unconstrained case",null,null,null,"Constrained case",null,null,null,null,"Resource adequacy",null,null,"Pivotality (total demand)"]
[null,null,null,null,null,null,3,null,null,null,9,15,null,null,"Sum",{"$f":"SUM(P5:P369)","v":0},null,"Sum",{"$f":"SUM(S5:S369)","v":0},{"$f":"SUM(T5:T369)","v":0},{"$f":"SUM(U5:U369)","v":0}]
[null,"Week","Quarter","Total demand, GWh",null,"Source capacity, GWh","Storage deliverability, GWh","Total capacity, GWh",null,"Competitors' source capacity, GWh","Competitors' storage deliverability, GWh","Operators' injection capacity, GWh","Total constrained capacity, GWh",null,"Inadequacy, GWh","Inadequate? Y/N",null,"Pivotal capacity, GWh","Pivotality? Y/N","Pivotal capacity in pivotal periods, GWh","Demand in pivotal periods, GWh"]
[null,1,{"$f":"VLOOKUP(B5,'c_Demand calculations'!C:E,3,0)","v":4},{"$f":"SUMIF('c_Demand calculations'!C:C,B5,'c_Demand calculations'!N:N)","v":14169.632776967876},null,{"$f":"VLOOKUP(C5,'c_Sources calculations'!$U$27:$Z$30,3,0)","v":34469.243718889287},{"$f":"VLOOKUP($C5,'c_Storage calculations'!$S$112:$AJ$116,G$3,0)","v":12213.699011830318},{"$f":"SUM(F5:G5)","v":46682.942730719602},null,{"$f":"VLOOKUP(C5,'c_Sources calculations'!$AB$27:$AG$30,3,0)","v":34469.243718889287},{"$f":"VLOOKUP($C5,'c_Storage calculations'!$S$112:$AJ$116,K$3,0)","v":12213.699011830318},{"$f":"VLOOKUP($C5,'c_Storage calculations'!$S$112:$AJ$116,L$3,0)","v":0},{"$f":"SUM(J5:K5)-L5","v":46682.942730719602},null,{"$f":"D5-H5","v":-32513.309953751726},{"$f":"IF(O5>0,1,0)","v":0},null,{"$f":"D5-M5","v":-32513.309953751726},{"$f":"IF(R5>0,1,0)","v":0},{"$f":"S5*R5","v":0},{"$f":"S5*D5","v":0}]
[null,2,{"$f":"VLOOKUP(B6,'c_Demand calculations'!C:E,3,0)","v":4},{"$f":"SUMIF('c_Demand calculations'!C:C,B6,'c_Demand calculations'!N:N)","v":16807.923012172498},null,{"$f":"VLOOKUP(C6,'c_Sources calculations'!$U$27:$Z$30,3,0)","v":34469.243718889287},{"$f":"VLOOKUP($C6,'c_Storage calculations'!$S$112:$AJ$116,G$3,0)","v":12213.699011830318},{"$f":"SUM(F6:G6)","v":46682.942730719602},null,{"$f":"VLOOKUP(C6,'c_Sources calculations'!$AB$27:$AG$30,3,0)","v":34469.243718889287},{"$f":"VLOOKUP($C6,'c_Storage calculations'!$S$112:$AJ$116,K$3,0)","v":12213.699011830318},{"$f":"VLOOKUP($C6,'c_Storage calculations'!$S$112:$AJ$116,L$3,0)","v":0},{"$f":"SUM(J6:K6)-L6","v":46682.942730719602},null,-29875.019718547104,{"$f":"IF(O6>0,1,0)","v":0},null,-29875.019718547104,{"$f":"IF(R6>0,1,0)","v":0},{"$f":"S6*R6","v":0},0]
[null,3,{"$f":"VLOOKUP(B7,'c_Demand calculations'!C:E,3,0)","v":4},{"$f":"SUMIF('c_Demand calculations'!C:C,B7,'c_Demand calculations'!N:N)","v":17898.293481193887},null,{"$f":"VLOOKUP(C7,'c_Sources calculations'!$U$27:$Z$30,3,0)","v":34469.243718889287},{"$f":"VLOOKUP($C7,'c_Storage calculations'!$S$112:$AJ$116,G$3,0)","v":12213.699011830318},46682.942730719602,null,{"$f":"VLOOKUP(C7,'c_Sources calculations'!$AB$27:$AG$30,3,0)","v":34469.243718889287},{"$f":"VLOOKUP($C7,'c_Storage calculations'!$S$112:$AJ$116,K$3,0)","v":12213.699011830318},{"$f":"VLOOKUP($C7,'c_Storage calculations'!$S$112:$AJ$116,L$3,0)","v":0},46682.942730719602,null,-28784.649249525715,0,null,-28784.649249525715,0,0,0]
[null,4,{"$f":"VLOOKUP(B8,'c_Demand calculations'!C:E,3,0)","v":4},{"$f":"SUMIF('c_Demand calculations'!C:C,B8,'c_Demand calculations'!N:N)","v":16134.591105130699},null,{"$f":"VLOOKUP(C8,'c_Sources calculations'!$U$27:$Z$30,3,0)","v":34469.243718889287},{"$f":"VLOOKUP($C8,'c_Storage calculations'!$S$112:$AJ$116,G$3,0)","v":12213.699011830318},46682.942730719602,null,{"$f":"VLOOKUP(C8,'c_Sources calculations'!$AB$27:$AG$30,3,0)","v":34469.243718889287},{"$f":"VLOOKUP($C8,'c_Storage calculations'!$S$112:$AJ$116,K$3,0)","v":12213.699011830318},{"$f":"VLOOKUP($C8,'c_Storage calculations'!$S$112:$AJ$116,L$3,0)","v":0},46682.942730719602,null,-30548.351625588904,0,null,-30548.351625588904,0,0,0]
[null,5,{"$f":"VLOOKUP(B9,'c_Demand calculations'!C:E,3,0)","v":4},{"$f":"SUMIF('c_Demand calculations'!C:C,B9,'c_Demand calculations'!N:N)","v":17597.59263351293},null,{"$f":"VLOOKUP(C9,'c_Sources calculations'!$U$27:$Z$30,3,0)","v":34469.243718889287},{"$f":"VLOOKUP($C9,'c_Storage calculations'!$S$112:$AJ$116,G$3,0)","v":12213.699011830318},46682.942730719602,null,{"$f":"VLOOKUP(C9,'c_Sources calculations'!$AB$27:$AG$30,3,0)","v":34469.243718889287},{"$f":"VLOOKUP($C9,'c_Storage calculations'!$S$112:$AJ$116,K$3,0)","v":12213.699011830318},{"$f":"VLOOKUP($C9,'c_Storage calculations'!$S$112:$AJ$116,L$3,0)","v":0},46682.942730719602,null,-29085.350097206672,0,null,-29085.350097206672,0,0,0]
[null,6,{"$f":"VLOOKUP(B10,'c_Demand calculations'!C:E,3,0)","v":4},{"$f":"SUMIF('c_Demand calculations'!C:C,B10,'c_Demand calculations'!N:N)","v":22213.367745758944},null,{"$f":"VLOOKUP(C10,'c_Sources calculations'!$U$27:$Z$30,3,0)","v":34469.243718889287},{"$f":"VLOOKUP($C10,'c_Storage calculations'!$S$112:$AJ$116,G$3,0)","v":12213.699011830318},46682.942730719602,null,{"$f":"VLOOKUP(C10,'c_Sources calculations'!$AB$27:$AG$30,3,0)","v":34469.243718889287},{"$f":"VLOOKUP($C10,'c_Storage calculations'!$S$112:$AJ$116,K$3,0)","v":12213.699011830318},{"$f":"VLOOKUP($C10,'c_Storage calculations'!$S$112:$AJ$116,L$3,0)","v":0},46682.942730719602,null,-24469.574984960658,0,null,-24469.574984960658,0,0,0]
[null,7,{"$f":"VLOOKUP(B11,'c_Demand calculations'!C:E,3,0)","v":4},{"$f":"SUMIF('c_Demand calculations'!C:C,B11,'c_Demand calculations'!N:N)","v":19996.249648437413},null,{"$f":"VLOOKUP(C11,'c_Sources calculations'!$U$27:$Z$30,3,0)","v":34469.243718889287},{"$f":"VLOOKUP($C11,'c_Storage calculations'!$S$112:$AJ$116,G$3,0)","v":12213.699011830318},46682.942730719602,null,{"$f":"VLOOKUP(C11,'c_Sources calculations'!$AB$27:$AG$30,3,0)","v":34469.243718889287},{"$f":"VLOOKUP($C11,'c_Storage calculations'!$S$112:$AJ$116,K$3,0)","v":12213.699011830318},{"$f":"VLOOKUP($C11,'c_Storage calculations'!$S$112:$AJ$116,L$3,0)","v":0},46682.942730719602,null,-26686.693082282189,0,null,-26686.693082282189,0,0,0]
[null,8,{"$f":"VLOOKUP(B12,'c_Demand calculations'!C:E,3,0)","v":4},{"$f":"SUMIF('c_Demand calculations'!C:C,B12,'c_Demand calculations'!N:N)","v":20040.026290677273},null,{"$f":"VLOOKUP(C12,'c_Sources calculations'!$U$27:$Z$30,3,0)","v":34469.243718889287},{"$f":"VLOOKUP($C12,'c_Storage calculations'!$S$112:$AJ$116,G$3,0)","v":12213.699011830318},46682.942730719602,null,{"$f":"VLOOKUP(C12,'c_Sources calculations'!$AB$27:$AG$30,3,0)","v":34469.243718889287},{"$f":"VLOOKUP($C12,'c_Storage calculations'!$S$112:$AJ$116,K$3,0)","v":12213.699011830318},{"$f":"VLOOKUP($C12,'c_Storage calculations'!$S$112:$AJ$116,L$3,0)","v":0},46682.942730719602,null,-26642.916440042329,0,null,-26642.916440042329,0,0,0]
[null,9,{"$f":"VLOOKUP(B13,'c_Demand calculations'!C:E,3,0)","v":4},{"$f":"SUMIF('c_Demand calculations'!C:C,B13,'c_Demand calculations'!N:N)","v":25667.507959659713},null,{"$f":"VLOOKUP(C13,'c_Sources calculations'!$U$27:$Z$30,3,0)","v":34469.243718889287},{"$f":"VLOOKUP($C13,'c_Storage calculations'!$S$112:$AJ$116,G$3,0)","v":12213.699011830318},46682.942730719602,null,{"$f":"VLOOKUP(C13,'c_Sources calculations'!$AB$27:$AG$30,3,0)","v":34469.243718889287},{"$f":"VLOOKUP($C13,'c_Storage calculations'!$S$112:$AJ$116,K$3,0)","v":12213.699011830318},{"$f":"VLOOKUP($C13,'c_Storage calculations'!$S$112:$AJ$116,L$3,0)","v":0},46682.942730719602,null,-21015.434771059889,0,null,-21015.434771059889,0,0,0]
[null,10,{"$f":"VLOOKUP(B14,'c_Demand calculations'!C:E,3,0)","v":4},{"$f":"SUMIF('c_Demand calculations'!C:C,B14,'c_Demand calculations'!N:N)","v":24218.347141460763},null,{"$f":"VLOOKUP(C14,'c_Sources calculations'!$U$27:$Z$30,3,0)","v":34469.243718889287},{"$f":"VLOOKUP($C14,'c_Storage calculations'!$S$112:$AJ$116,G$3,0)","v":12213.699011830318},46682.942730719602,null,{"$f":"VLOOKUP(C14,'c_Sources calculations'!$AB$27:$AG$30,3,0)","v":34469.243718889287},{"$f":"VLOOKUP($C14,'c_Storage calculations'!$S$112:$AJ$116,K$3,0)","v":12213.699011830318},{"$f":"VLOOKUP($C14,'c_Storage calculations'!$S$112:$AJ$116,L$3,0)","v":0},46682.942730719602,null,-22464.595589258839,0,null,-22464.595589258839,0,0,0]
[null,11,{"$f":"VLOOKUP(B15,'c_Demand calculations'!C:E,3,0)","v":4},{"$f":"SUMIF('c_Demand calculations'!C:C,B15,'c_Demand calculations'!N:N)","v":27092.881774723945},null,{"$f":"VLOOKUP(C15,'c_Sources calculations'!$U$27:$Z$30,3,0)","v":34469.243718889287},{"$f":"VLOOKUP($C15,'c_Storage calculations'!$S$112:$AJ$116,G$3,0)","v":12213.699011830318},46682.942730719602,null,{"$f":"VLOOKUP(C15,'c_Sources calculations'!$AB$27:$AG$30,3,0)","v":34469.243718889287},{"$f":"VLOOKUP($C15,'c_Storage calculations'!$S$112:$AJ$116,K$3,0)","v":12213.699011830318},{"$f":"VLOOKUP($C15,'c_Storage calculations'!$S$112:$AJ$116,L$3,0)","v":0},46682.942730719602,null,-19590.060955995657,0,null,-19590.060955995657,0,0,0]
[null,12,{"$f":"VLOOKUP(B16,'c_Demand calculations'!C:E,3,0)","v":4},{"$f":"SUMIF('c_Demand calculations'!C:C,B16,'c_Demand calculations'!N:N)","v":32108.35251683127},null,{"$f":"VLOOKUP(C16,'c_Sources calculations'!$U$27:$Z$30,3,0)","v":34469.243718889287},{"$f":"VLOOKUP($C16,'c_Storage calculations'!$S$112:$AJ$116,G$3,0)","v":12213.699011830318},46682.942730719602,null,{"$f":"VLOOKUP(C16,'c_Sources calculations'!$AB$27:$AG$30,3,0)","v":34469.243718889287},{"$f":"VLOOKUP($C16,'c_Storage calculations'!$S$112:$AJ$116,K$3,0)","v":12213.699011830318},{"$f":"VLOOKUP($C16,'c_Storage calculations'!$S$112:$AJ$116,L$3,0)","v":0},46682.942730719602,null,-14574.590213888332,0,null,-14574.590213888332,0,0,0]
[null,13,{"$f":"VLOOKUP(B17,'c_Demand calculations'!C:E,3,0)","v":4},{"$f":"SUMIF('c_Demand calculations'!C:C,B17,'c_Demand calculations'!N:N)","v":26639.184461508958},null,{"$f":"VLOOKUP(C17,'c_Sources calculations'!$U$27:$Z$30,3,0)","v":34469.243718889287},{"$f":"VLOOKUP($C17,'c_Storage calculations'!$S$112:$AJ$116,G$3,0)","v":12213.699011830318},46682.942730719602,null,{"$f":"VLOOKUP(C17,'c_Sources calculations'!$AB$27:$AG$30,3,0)","v":34469.243718889287},{"$f":"VLOOKUP($C17,'c_Storage calculations'!$S$112:$AJ$116,K$3,0)","v":12213.699011830318},{"$f":"VLOOKUP($C17,'c_Storage calculations'!$S$112:$AJ$116,L$3,0)","v":0},46682.942730719602,null,-20043.758269210644,0,null,-20043.758269210644,0,0,0]
[null,14,{"$f":"VLOOKUP(B18,'c_Demand calculations'!C:E,3,0)","v":4},{"$f":"SUMIF('c_Demand calculations'!C:C,B18,'c_Demand calculations'!N:N)","v":31558.497231375786},null,{"$f":"VLOOKUP(C18,'c_Sources calculations'!$U$27:$Z$30,3,0)","v":34469.243718889287},{"$f":"VLOOKUP($C18,'c_Storage calculations'!$S$112:$AJ$116,G$3,0)","v":12213.699011830318},46682.942730719602,null,{"$f":"VLOOKUP(C18,'c_Sources calculations'!$AB$27:$AG$30,3,0)","v":34469.243718889287},{"$f":"VLOOKUP($C18,'c_Storage calculations'!$S$112:$AJ$116,K$3,0)","v":12213.699011830318},{"$f":"VLOOKUP($C18,'c_Storage calculations'!$S$112:$AJ$116,L$3,0)","v":0},46682.942730719602,null,-15124.445499343816,0,null,-15124.445499343816,0,0,0]
[null,15,{"$f":"VLOOKUP(B19,'c_Demand calculations'!C:E,3,0)","v":1},{"$f":"SUMIF('c_Demand calculations'!C:C,B19,'c_Demand calculations'!N:N)","v":33844.078599538829},null,{"$f":"VLOOKUP(C19,'c_Sources calculations'!$U$27:$Z$30,3,0)","v":34469.243718889287},{"$f":"VLOOKUP($C19,'c_Storage calculations'!$S$112:$AJ$116,G$3,0)","v":8541.3799585606976},43010.623677449985,null,{"$f":"VLOOKUP(C19,'c_Sources calculations'!$AB$27:$AG$30,3,0)","v":34469.243718889287},{"$f":"VLOOKUP($C19,'c_Storage calculations'!$S$112:$AJ$116,K$3,0)","v":8541.3799585606976},{"$f":"VLOOKUP($C19,'c_Storage calculations'!$S$112:$AJ$116,L$3,0)","v":0},43010.623677449985,null,-9166.5450779111561,0,null,-9166.5450779111561,0,0,0]
[null,16,{"$f":"VLOOKUP(B20,'c_Demand calculations'!C:E,3,0)","v":1},{"$f":"SUMIF('c_Demand calculations'!C:C,B20,'c_Demand calculations'!N:N)","v":28712.957552685937},null,{"$f":"VLOOKUP(C20,'c_Sources calculations'!$U$27:$Z$30,3,0)","v":34469.243718889287},{"$f":"VLOOKUP($C20,'c_Storage calculations'!$S$112:$AJ$116,G$3,0)","v":8541.3799585606976},43010.623677449985,null,{"$f":"VLOOKUP(C20,'c_Sources calculations'!$AB$27:$AG$30,3,0)","v":34469.243718889287},{"$f":"VLOOKUP($C20,'c_Storage calculations'!$S$112:$AJ$116,K$3,0)","v":8541.3799585606976},{"$f":"VLOOKUP($C20,'c_Storage calculations'!$S$112:$AJ$116,L$3,0)","v":0},43010.623677449985,null,-14297.666124764048,0,null,-14297.666124764048,0,0,0]
[null,17,{"$f":"VLOOKUP(B21,'c_Demand calculations'!C:E,3,0)","v":1},{"$f":"SUMIF('c_Demand calculations'!C:C,B21,'c_Demand calculations'!N:N)","v":28516.795476486313},null,{"$f":"VLOOKUP(C21,'c_Sources calculations'!$U$27:$Z$30,3,0)","v":34469.243718889287},{"$f":"VLOOKUP($C21,'c_Storage calculations'!$S$112:$AJ$116,G$3,0)","v":8541.3799585606976},43010.623677449985,null,{"$f":"VLOOKUP(C21,'c_Sources calculations'!$AB$27:$AG$30,3,0)","v":34469.243718889287},{"$f":"VLOOKUP($C21,'c_Storage calculations'!$S$112:$AJ$116,K$3,0)","v":8541.3799585606976},{"$f":"VLOOKUP($C21,'c_Storage calculations'!$S$112:$AJ$116,L$3,0)","v":0},43010.623677449985,null,-14493.828200963671,0,null,-14493.828200963671,0,0,0]
[null,18,{"$f":"VLOOKUP(B22,'c_Demand calculations'!C:E,3,0)","v":1},{"$f":"SUMIF('c_Demand calculations'!C:C,B22,'c_Demand calculations'!N:N)","v":28971.508912224333},null,{"$f":"VLOOKUP(C22,'c_Sources calculations'!$U$27:$Z$30,3,0)","v":34469.243718889287},{"$f":"VLOOKUP($C22,'c_Storage calculations'!$S$112:$AJ$116,G$3,0)","v":8541.3799585606976},43010.623677449985,null,{"$f":"VLOOKUP(C22,'c_Sources calculations'!$AB$27:$AG$30,3,0)","v":34469.243718889287},{"$f":"VLOOKUP($C22,'c_Storage calculations'!$S$112:$AJ$116,K$3,0)","v":8541.3799585606976},{"$f":"VLOOKUP($C22,'c_Storage calculations'!$S$112:$AJ$116,L$3,0)","v":0},43010.623677449985,null,-14039.114765225651,0,null,-14039.114765225651,0,0,0]
[null,19,{"$f":"VLOOKUP(B23,'c_Demand calculations'!C:E,3,0)","v":1},{"$f":"SUMIF('c_Demand calculations'!C:C,B23,'c_Demand calculations'!N:N)","v":28052.285394845916},null,{"$f":"VLOOKUP(C23,'c_Sources calculations'!$U$27:$Z$30,3,0)","v":34469.243718889287},{"$f":"VLOOKUP($C23,'c_Storage calculations'!$S$112:$AJ$116,G$3,0)","v":8541.3799585606976},43010.623677449985,null,{"$f":"VLOOKUP(C23,'c_Sources calculations'!$AB$27:$AG$30,3,0)","v":34469.243718889287},{"$f":"VLOOKUP($C23,'c_Storage calculations'!$S$112:$AJ$116,K$3,0)","v":8541.3799585606976},{"$f":"VLOOKUP($C23,'c_Storage calculations'!$S$112:$AJ$116,L$3,0)","v":0},43010.623677449985,null,-14958.338282604069,0,null,-14958.338282604069,0,0,0]
[null,20,{"$f":"VLOOKUP(B24,'c_Demand calculations'!C:E,3,0)","v":1},{"$f":"SUMIF('c_Demand calculations'!C:C,B24,'c_Demand calculations'!N:N)","v":29600.597350410535},null,{"$f":"VLOOKUP(C24,'c_Sources calculations'!$U$27:$Z$30,3,0)","v":34469.243718889287},{"$f":"VLOOKUP($C24,'c_Storage calculations'!$S$112:$AJ$116,G$3,0)","v":8541.3799585606976},43010.623677449985,null,{"$f":"VLOOKUP(C24,'c_Sources calculations'!$AB$27:$AG$30,3,0)","v":34469.243718889287},{"$f":"VLOOKUP($C24,'c_Storage calculations'!$S$112:$AJ$116,K$3,0)","v":8541.3799585606976},{"$f":"VLOOKUP($C24,'c_Storage calculations'!$S$112:$AJ$116,L$3,0)","v":0},43010.623677449985,null,-13410.02632703945,0,null,-13410.02632703945,0,0,0]
[null,21,{"$f":"VLOOKUP(B25,'c_Demand calculations'!C:E,3,0)","v":1},{"$f":"SUMIF('c_Demand calculations'!C:C,B25,'c_Demand calculations'!N:N)","v":29071.059918125175},null,{"$f":"VLOOKUP(C25,'c_Sources calculations'!$U$27:$Z$30,3,0)","v":34469.243718889287},{"$f":"VLOOKUP($C25,'c_Storage calculations'!$S$112:$AJ$116,G$3,0)","v":8541.3799585606976},43010.623677449985,null,{"$f":"VLOOKUP(C25,'c_Sources calculations'!$AB$27:$AG$30,3,0)","v":34469.243718889287},{"$f":"VLOOKUP($C25,'c_Storage calculations'!$S$112:$AJ$116,K$3,0)","v":8541.3799585606976},{"$f":"VLOOKUP($C25,'c_Storage calculations'!$S$112:$AJ$116,L$3,0)","v":0},43010.623677449985,null,-13939.56375932481,0,null,-13939.56375932481,0,0,0]
[null,22,{"$f":"VLOOKUP(B26,'c_Demand calculations'!C:E,3,0)","v":1},{"$f":"SUMIF('c_Demand calculations'!C:C,B26,'c_Demand calculations'!N:N)","v":27450.917332486068},null,{"$f":"VLOOKUP(C26,'c_Sources calculations'!$U$27:$Z$30,3,0)","v":34469.243718889287},{"$f":"VLOOKUP($C26,'c_Storage calculations'!$S$112:$AJ$116,G$3,0)","v":8541.3799585606976},43010.623677449985,null,{"$f":"VLOOKUP(C26,'c_Sources calculations'!$AB$27:$AG$30,3,0)","v":34469.243718889287},{"$f":"VLOOKUP($C26,'c_Storage calculations'!$S$112:$AJ$116,K$3,0)","v":8541.3799585606976},{"$f":"VLOOKUP($C26,'c_Storage calculations'!$S$112:$AJ$116,L$3,0)","v":0},43010.623677449985,null,-15559.706344963917,0,null,-15559.706344963917,0,0,0]
[null,23,{"$f":"VLOOKUP(B27,'c_Demand calculations'!C:E,3,0)","v":1},{"$f":"SUMIF('c_Demand calculations'!C:C,B27,'c_Demand calculations'!N:N)","v":29154.395235044263},null,{"$f":"VLOOKUP(C27,'c_Sources calculations'!$U$27:$Z$30,3,0)","v":34469.243718889287},{"$f":"VLOOKUP($C27,'c_Storage calculations'!$S$112:$AJ$116,G$3,0)","v":8541.3799585606976},43010.623677449985,null,{"$f":"VLOOKUP(C27,'c_Sources calculations'!$AB$27:$AG$30,3,0)","v":34469.243718889287},{"$f":"VLOOKUP($C27,'c_Storage calculations'!$S$112:$AJ$116,K$3,0)","v":8541.3799585606976},{"$f":"VLOOKUP($C27,'c_Storage calculations'!$S$112:$AJ$116,L$3,0)","v":0},43010.623677449985,null,-13856.228442405722,0,null,-13856.228442405722,0,0,0]
[null,24,{"$f":"VLOOKUP(B28,'c_Demand calculations'!C:E,3,0)","v":1},{"$f":"SUMIF('c_Demand calculations'!C:C,B28,'c_Demand calculations'!N:N)","v":24074.910798106805},null,{"$f":"VLOOKUP(C28,'c_Sources calculations'!$U$27:$Z$30,3,0)","v":34469.243718889287},{"$f":"VLOOKUP($C28,'c_Storage calculations'!$S$112:$AJ$116,G$3,0)","v":8541.3799585606976},43010.623677449985,null,{"$f":"VLOOKUP(C28,'c_Sources calculations'!$AB$27:$AG$30,3,0)","v":34469.243718889287},{"$f":"VLOOKUP($C28,'c_Storage calculations'!$S$112:$AJ$116,K$3,0)","v":8541.3799585606976},{"$f":"VLOOKUP($C28,'c_Storage calculations'!$S$112:$AJ$116,L$3,0)","v":0},43010.623677449985,null,-18935.71287934318,0,null,-18935.71287934318,0,0,0]
[null,25,{"$f":"VLOOKUP(B29,'c_Demand calculations'!C:E,3,0)","v":1},{"$f":"SUMIF('c_Demand calculations'!C:C,B29,'c_Demand calculations'!N:N)","v":21165.513459401398},null,{"$f":"VLOOKUP(C29,'c_Sources calculations'!$U$27:$Z$30,3,0)","v":34469.243718889287},{"$f":"VLOOKUP($C29,'c_Storage calculations'!$S$112:$AJ$116,G$3,0)","v":8541.3799585606976},43010.623677449985,null,{"$f":"VLOOKUP(C29,'c_Sources calculations'!$AB$27:$AG$30,3,0)","v":34469.243718889287},{"$f":"VLOOKUP($C29,'c_Storage calculations'!$S$112:$AJ$116,K$3,0)","v":8541.3799585606976},{"$f":"VLOOKUP($C29,'c_Storage calculations'!$S$112:$AJ$116,L$3,0)","v":0},43010.623677449985,null,-21845.110218048587,0,null,-21845.110218048587,0,0,0]
[null,26,{"$f":"VLOOKUP(B30,'c_Demand calculations'!C:E,3,0)","v":1},{"$f":"SUMIF('c_Demand calculations'!C:C,B30,'c_Demand calculations'!N:N)","v":21706.778475333987},null,{"$f":"VLOOKUP(C30,'c_Sources calculations'!$U$27:$Z$30,3,0)","v":34469.243718889287},{"$f":"VLOOKUP($C30,'c_Storage calculations'!$S$112:$AJ$116,G$3,0)","v":8541.3799585606976},43010.623677449985,null,{"$f":"VLOOKUP(C30,'c_Sources calculations'!$AB$27:$AG$30,3,0)","v":34469.243718889287},{"$f":"VLOOKUP($C30,'c_Storage calculations'!$S$112:$AJ$116,K$3,0)","v":8541.3799585606976},{"$f":"VLOOKUP($C30,'c_Storage calculations'!$S$112:$AJ$116,L$3,0)","v":0},43010.623677449985,null,-21303.845202115997,0,null,-21303.845202115997,0,0,0]
[null,27,{"$f":"VLOOKUP(B31,'c_Demand calculations'!C:E,3,0)","v":2},{"$f":"SUMIF('c_Demand calculations'!C:C,B31,'c_Demand calculations'!N:N)","v":21070.333262105865},null,{"$f":"VLOOKUP(C31,'c_Sources calculations'!$U$27:$Z$30,3,0)","v":34469.243718889287},{"$f":"VLOOKUP($C31,'c_Storage calculations'!$S$112:$AJ$116,G$3,0)","v":8507.6204449388606},42976.864163828148,null,{"$f":"VLOOKUP(C31,'c_Sources calculations'!$AB$27:$AG$30,3,0)","v":34469.243718889287},{"$f":"VLOOKUP($C31,'c_Storage calculations'!$S$112:$AJ$116,K$3,0)","v":8507.6204449388606},{"$f":"VLOOKUP($C31,'c_Storage calculations'!$S$112:$AJ$116,L$3,0)","v":0},42976.864163828148,null,-21906.530901722283,0,null,-21906.530901722283,0,0,0]
[null,28,{"$f":"VLOOKUP(B32,'c_Demand calculations'!C:E,3,0)","v":2},{"$f":"SUMIF('c_Demand calculations'!C:C,B32,'c_Demand calculations'!N:N)","v":18626.358198435304},null,{"$f":"VLOOKUP(C32,'c_Sources calculations'!$U$27:$Z$30,3,0)","v":34469.243718889287},{"$f":"VLOOKUP($C32,'c_Storage calculations'!$S$112:$AJ$116,G$3,0)","v":8507.6204449388606},42976.864163828148,null,{"$f":"VLOOKUP(C32,'c_Sources calculations'!$AB$27:$AG$30,3,0)","v":34469.243718889287},{"$f":"VLOOKUP($C32,'c_Storage calculations'!$S$112:$AJ$116,K$3,0)","v":8507.6204449388606},{"$f":"VLOOKUP($C32,'c_Storage calculations'!$S$112:$AJ$116,L$3,0)","v":0},42976.864163828148,null,-24350.505965392844,0,null,-24350.505965392844,0,0,0]
[null,29,{"$f":"VLOOKUP(B33,'c_Demand calculations'!C:E,3,0)","v":2},{"$f":"SUMIF('c_Demand calculations'!C:C,B33,'c_Demand calculations'!N:N)","v":18821.889087095464},null,{"$f":"VLOOKUP(C33,'c_Sources calculations'!$U$27:$Z$30,3,0)","v":34469.243718889287},{"$f":"VLOOKUP($C33,'c_Storage calculations'!$S$112:$AJ$116,G$3,0)","v":8507.6204449388606},42976.864163828148,null,{"$f":"VLOOKUP(C33,'c_Sources calculations'!$AB$27:$AG$30,3,0)","v":34469.243718889287},{"$f":"VLOOKUP($C33,'c_Storage calculations'!$S$112:$AJ$116,K$3,0)","v":8507.6204449388606},{"$f":"VLOOKUP($C33,'c_Storage calculations'!$S$112:$AJ$116,L$3,0)","v":0},42976.864163828148,null,-24154.975076732684,0,null,-24154.975076732684,0,0,0]
[null,30,{"$f":"VLOOKUP(B34,'c_Demand calculations'!C:E,3,0)","v":2},{"$f":"SUMIF('c_Demand calculations'!C:C,B34,'c_Demand calculations'!N:N)","v":16714.298053601684},null,{"$f":"VLOOKUP(C34,'c_Sources calculations'!$U$27:$Z$30,3,0)","v":34469.243718889287},{"$f":"VLOOKUP($C34,'c_Storage calculations'!$S$112:$AJ$116,G$3,0)","v":8507.6204449388606},42976.864163828148,null,{"$f":"VLOOKUP(C34,'c_Sources calculations'!$AB$27:$AG$30,3,0)","v":34469.243718889287},{"$f":"VLOOKUP($C34,'c_Storage calculations'!$S$112:$AJ$116,K$3,0)","v":8507.6204449388606},{"$f":"VLOOKUP($C34,'c_Storage calculations'!$S$112:$AJ$116,L$3,0)","v":0},42976.864163828148,null,-26262.566110226464,0,null,-26262.566110226464,0,0,0]
[null,31,{"$f":"VLOOKUP(B35,'c_Demand calculations'!C:E,3,0)","v":2},{"$f":"SUMIF('c_Demand calculations'!C:C,B35,'c_Demand calculations'!N:N)","v":18248.020515550357},null,{"$f":"VLOOKUP(C35,'c_Sources calculations'!$U$27:$Z$30,3,0)","v":34469.243718889287},{"$f":"VLOOKUP($C35,'c_Storage calculations'!$S$112:$AJ$116,G$3,0)","v":8507.6204449388606},42976.864163828148,null,{"$f":"VLOOKUP(C35,'c_Sources calculations'!$AB$27:$AG$30,3,0)","v":34469.243718889287},{"$f":"VLOOKUP($C35,'c_Storage calculations'!$S$112:$AJ$116,K$3,0)","v":8507.6204449388606},{"$f":"VLOOKUP($C35,'c_Storage calculations'!$S$112:$AJ$116,L$3,0)","v":0},42976.864163828148,null,-24728.843648277791,0,null,-24728.843648277791,0,0,0]
[null,32,{"$f":"VLOOKUP(B36,'c_Demand calculations'!C:E,3,0)","v":2},{"$f":"SUMIF('c_Demand calculations'!C:C,B36,'c_Demand calculations'!N:N)","v":19745.268138693347},null,{"$f":"VLOOKUP(C36,'c_Sources calculations'!$U$27:$Z$30,3,0)","v":34469.243718889287},{"$f":"VLOOKUP($C36,'c_Storage calculations'!$S$112:$AJ$116,G$3,0)","v":8507.6204449388606},42976.864163828148,null,{"$f":"VLOOKUP(C36,'c_Sources calculations'!$AB$27:$AG$30,3,0)","v":34469.243718889287},{"$f":"VLOOKUP($C36,'c_Storage calculations'!$S$112:$AJ$116,K$3,0)","v":8507.6204449388606},{"$f":"VLOOKUP($C36,'c_Storage calculations'!$S$112:$AJ$116,L$3,0)","v":0},42976.864163828148,null,-23231.596025134801,0,null,-23231.596025134801,0,0,0]
[null,33,{"$f":"VLOOKUP(B37,'c_Demand calculations'!C:E,3,0)","v":2},{"$f":"SUMIF('c_Demand calculations'!C:C,B37,'c_Demand calculations'!N:N)","v":17702.409476440334},null,{"$f":"VLOOKUP(C37,'c_Sources calculations'!$U$27:$Z$30,3,0)","v":34469.243718889287},{"$f":"VLOOKUP($C37,'c_Storage calculations'!$S$112:$AJ$116,G$3,0)","v":8507.6204449388606},42976.864163828148,null,{"$f":"VLOOKUP(C37,'c_Sources calculations'!$AB$27:$AG$30,3,0)","v":34469.243718889287},{"$f":"VLOOKUP($C37,'c_Storage calculations'!$S$112:$AJ$116,K$3,0)","v":8507.6204449388606},{"$f":"VLOOKUP($C37,'c_Storage calculations'!$S$112:$AJ$116,L$3,0)","v":0},42976.864163828148,null,{"$f":"D37-H37","v":-25274.454687387813},0,null,{"$f":"D37-M37","v":-25274.454687387813},0,0,{"$f":"S37*D37","v":0}]
[null,34,{"$f":"VLOOKUP(B38,'c_Demand calculations'!C:E,3,0)","v":2},{"$f":"SUMIF('c_Demand calculations'!C:C,B38,'c_Demand calculations'!N:N)","v":13559.579503839155},null,{"$f":"VLOOKUP(C38,'c_Sources calculations'!$U$27:$Z$30,3,0)","v":34469.243718889287},{"$f":"VLOOKUP($C38,'c_Storage calculations'!$S$112:$AJ$116,G$3,0)","v":8507.6204449388606},42976.864163828148,null,{"$f":"VLOOKUP(C38,'c_Sources calculations'!$AB$27:$AG$30,3,0)","v":34469.243718889287},{"$f":"VLOOKUP($C38,'c_Storage calculations'!$S$112:$AJ$116,K$3,0)","v":8507.6204449388606},{"$f":"VLOOKUP($C38,'c_Storage calculations'!$S$112:$AJ$116,L$3,0)","v":0},42976.864163828148,null,-29417.284659988993,0,null,-29417.284659988993,0,0,0]
[null,35,{"$f":"VLOOKUP(B39,'c_Demand calculations'!C:E,3,0)","v":2},{"$f":"SUMIF('c_Demand calculations'!C:C,B39,'c_Demand calculations'!N:N)","v":14423.01572447237},null,{"$f":"VLOOKUP(C39,'c_Sources calculations'!$U$27:$Z$30,3,0)","v":34469.243718889287},{"$f":"VLOOKUP($C39,'c_Storage calculations'!$S$112:$AJ$116,G$3,0)","v":8507.6204449388606},42976.864163828148,null,{"$f":"VLOOKUP(C39,'c_Sources calculations'!$AB$27:$AG$30,3,0)","v":34469.243718889287},{"$f":"VLOOKUP($C39,'c_Storage calculations'!$S$112:$AJ$116,K$3,0)","v":8507.6204449388606},{"$f":"VLOOKUP($C39,'c_Storage calculations'!$S$112:$AJ$116,L$3,0)","v":0},42976.864163828148,null,-28553.848439355777,0,null,-28553.848439355777,0,0,0]
[null,36,{"$f":"VLOOKUP(B40,'c_Demand calculations'!C:E,3,0)","v":2},{"$f":"SUMIF('c_Demand calculations'!C:C,B40,'c_Demand calculations'!N:N)","v":13097.788280955969},null,{"$f":"VLOOKUP(C40,'c_Sources calculations'!$U$27:$Z$30,3,0)","v":34469.243718889287},{"$f":"VLOOKUP($C40,'c_Storage calculations'!$S$112:$AJ$116,G$3,0)","v":8507.6204449388606},42976.864163828148,null,{"$f":"VLOOKUP(C40,'c_Sources calculations'!$AB$27:$AG$30,3,0)","v":34469.243718889287},{"$f":"VLOOKUP($C40,'c_Storage calculations'!$S$112:$AJ$116,K$3,0)","v":8507.6204449388606},{"$f":"VLOOKUP($C40,'c_Storage calculations'!$S$112:$AJ$116,L$3,0)","v":0},42976.864163828148,null,-29879.075882872181,0,null,-29879.075882872181,0,0,0]
[null,37,{"$f":"VLOOKUP(B41,'c_Demand calculations'!C:E,3,0)","v":2},{"$f":"SUMIF('c_Demand calculations'!C:C,B41,'c_Demand calculations'!N:N)","v":14042.288583682042},null,{"$f":"VLOOKUP(C41,'c_Sources calculations'!$U$27:$Z$30,3,0)","v":34469.243718889287},{"$f":"VLOOKUP($C41,'c_Storage calculations'!$S$112:$AJ$116,G$3,0)","v":8507.6204449388606},42976.864163828148,null,{"$f":"VLOOKUP(C41,'c_Sources calculations'!$AB$27:$AG$30,3,0)","v":34469.243718889287},{"$f":"VLOOKUP($C41,'c_Storage calculations'!$S$112:$AJ$116,K$3,0)","v":8507.6204449388606},{"$f":"VLOOKUP($C41,'c_Storage calculations'!$S$112:$AJ$116,L$3,0)","v":0},42976.864163828148,null,-28934.575580146105,0,null,-28934.575580146105,0,0,0]
[null,38,{"$f":"VLOOKUP(B42,'c_Demand calculations'!C:E,3,0)","v":2},{"$f":"SUMIF('c_Demand calculations'!C:C,B42,'c_Demand calculations'!N:N)","v":12972.280279942941},null,{"$f":"VLOOKUP(C42,'c_Sources calculations'!$U$27:$Z$30,3,0)","v":34469.243718889287},{"$f":"VLOOKUP($C42,'c_Storage calculations'!$S$112:$AJ$116,G$3,0)","v":8507.6204449388606},42976.864163828148,null,{"$f":"VLOOKUP(C42,'c_Sources calculations'!$AB$27:$AG$30,3,0)","v":34469.243718889287},{"$f":"VLOOKUP($C42,'c_Storage calculations'!$S$112:$AJ$116,K$3,0)","v":8507.6204449388606},{"$f":"VLOOKUP($C42,'c_Storage calculations'!$S$112:$AJ$116,L$3,0)","v":0},42976.864163828148,null,-30004.583883885207,0,null,-30004.583883885207,0,0,0]
[null,39,{"$f":"VLOOKUP(B43,'c_Demand calculations'!C:E,3,0)","v":2},{"$f":"SUMIF('c_Demand calculations'!C:C,B43,'c_Demand calculations'!N:N)","v":12374.240786224833},null,{"$f":"VLOOKUP(C43,'c_Sources calculations'!$U$27:$Z$30,3,0)","v":34469.243718889287},{"$f":"VLOOKUP($C43,'c_Storage calculations'!$S$112:$AJ$116,G$3,0)","v":8507.6204449388606},42976.864163828148,null,{"$f":"VLOOKUP(C43,'c_Sources calculations'!$AB$27:$AG$30,3,0)","v":34469.243718889287},{"$f":"VLOOKUP($C43,'c_Storage calculations'!$S$112:$AJ$116,K$3,0)","v":8507.6204449388606},{"$f":"VLOOKUP($C43,'c_Storage calculations'!$S$112:$AJ$116,L$3,0)","v":0},42976.864163828148,null,-30602.623377603315,0,null,-30602.623377603315,0,0,0]
[null,40,{"$f":"VLOOKUP(B44,'c_Demand calculations'!C:E,3,0)","v":3},{"$f":"SUMIF('c_Demand calculations'!C:C,B44,'c_Demand calculations'!N:N)","v":11668.175130086196},null,{"$f":"VLOOKUP(C44,'c_Sources calculations'!$U$27:$Z$30,3,0)","v":34469.243718889287},{"$f":"VLOOKUP($C44,'c_Storage calculations'!$S$112:$AJ$116,G$3,0)","v":11815.565410039069},46284.809128928355,null,{"$f":"VLOOKUP(C44,'c_Sources calculations'!$AB$27:$AG$30,3,0)","v":34469.243718889287},{"$f":"VLOOKUP($C44,'c_Storage calculations'!$S$112:$AJ$116,K$3,0)","v":11815.565410039069},{"$f":"VLOOKUP($C44,'c_Storage calculations'!$S$112:$AJ$116,L$3,0)","v":0},46284.809128928355,null,-34616.633998842161,0,null,-34616.633998842161,0,0,0]
[null,41,{"$f":"VLOOKUP(B45,'c_Demand calculations'!C:E,3,0)","v":3},{"$f":"SUMIF('c_Demand calculations'!C:C,B45,'c_Demand calculations'!N:N)","v":11157.452219268827},null,{"$f":"VLOOKUP(C45,'c_Sources calculations'!$U$27:$Z$30,3,0)","v":34469.243718889287},{"$f":"VLOOKUP($C45,'c_Storage calculations'!$S$112:$AJ$116,G$3,0)","v":11815.565410039069},46284.809128928355,null,{"$f":"VLOOKUP(C45,'c_Sources calculations'!$AB$27:$AG$30,3,0)","v":34469.243718889287},{"$f":"VLOOKUP($C45,'c_Storage calculations'!$S$112:$AJ$116,K$3,0)","v":11815.565410039069},{"$f":"VLOOKUP($C45,'c_Storage calculations'!$S$112:$AJ$116,L$3,0)","v":0},46284.809128928355,null,-35127.356909659531,0,null,-35127.356909659531,0,0,0]
[null,42,{"$f":"VLOOKUP(B46,'c_Demand calculations'!C:E,3,0)","v":3},{"$f":"SUMIF('c_Demand calculations'!C:C,B46,'c_Demand calculations'!N:N)","v":11292.008854707257},null,{"$f":"VLOOKUP(C46,'c_Sources calculations'!$U$27:$Z$30,3,0)","v":34469.243718889287},{"$f":"VLOOKUP($C46,'c_Storage calculations'!$S$112:$AJ$116,G$3,0)","v":11815.565410039069},46284.809128928355,null,{"$f":"VLOOKUP(C46,'c_Sources calculations'!$AB$27:$AG$30,3,0)","v":34469.243718889287},{"$f":"VLOOKUP($C46,'c_Storage calculations'!$S$112:$AJ$116,K$3,0)","v":11815.565410039069},{"$f":"VLOOKUP($C46,'c_Storage calculations'!$S$112:$AJ$116,L$3,0)","v":0},46284.809128928355,null,-34992.800274221096,0,null,-34992.800274221096,0,0,0]
[null,43,{"$f":"VLOOKUP(B47,'c_Demand calculations'!C:E,3,0)","v":3},{"$f":"SUMIF('c_Demand calculations'!C:C,B47,'c_Demand calculations'!N:N)","v":11290.286635953833},null,{"$f":"VLOOKUP(C47,'c_Sources calculations'!$U$27:$Z$30,3,0)","v":34469.243718889287},{"$f":"VLOOKUP($C47,'c_Storage calculations'!$S$112:$AJ$116,G$3,0)","v":11815.565410039069},46284.809128928355,null,{"$f":"VLOOKUP(C47,'c_Sources calculations'!$AB$27:$AG$30,3,0)","v":34469.243718889287},{"$f":"VLOOKUP($C47,'c_Storage calculations'!$S$112:$AJ$116,K$3,0)","v":11815.565410039069},{"$f":"VLOOKUP($C47,'c_Storage calculations'!$S$112:$AJ$116,L$3,0)","v":0},46284.809128928355,null,-34994.522492974524,0,null,-34994.522492974524,0,0,0]
[null,44,{"$f":"VLOOKUP(B48,'c_Demand calculations'!C:E,3,0)","v":3},{"$f":"SUMIF('c_Demand calculations'!C:C,B48,'c_Demand calculations'!N:N)","v":10742.614685188031},null,{"$f":"VLOOKUP(C48,'c_Sources calculations'!$U$27:$Z$30,3,0)","v":34469.243718889287},{"$f":"VLOOKUP($C48,'c_Storage calculations'!$S$112:$AJ$116,G$3,0)","v":11815.565410039069},46284.809128928355,null,{"$f":"VLOOKUP(C48,'c_Sources calculations'!$AB$27:$AG$30,3,0)","v":34469.243718889287},{"$f":"VLOOKUP($C48,'c_Storage calculations'!$S$112:$AJ$116,K$3,0)","v":11815.565410039069},{"$f":"VLOOKUP($C48,'c_Storage calculations'!$S$112:$AJ$116,L$3,0)","v":0},46284.809128928355,null,-35542.194443740322,0,null,-35542.194443740322,0,0,0]
[null,45,{"$f":"VLOOKUP(B49,'c_Demand calculations'!C:E,3,0)","v":3},{"$f":"SUMIF('c_Demand calculations'!C:C,B49,'c_Demand calculations'!N:N)","v":9953.523846682021},null,{"$f":"VLOOKUP(C49,'c_Sources calculations'!$U$27:$Z$30,3,0)","v":34469.243718889287},{"$f":"VLOOKUP($C49,'c_Storage calculations'!$S$112:$AJ$116,G$3,0)","v":11815.565410039069},46284.809128928355,null,{"$f":"VLOOKUP(C49,'c_Sources calculations'!$AB$27:$AG$30,3,0)","v":34469.243718889287},{"$f":"VLOOKUP($C49,'c_Storage calculations'!$S$112:$AJ$116,K$3,0)","v":11815.565410039069},{"$f":"VLOOKUP($C49,'c_Storage calculations'!$S$112:$AJ$116,L$3,0)","v":0},46284.809128928355,null,-36331.285282246332,0,null,-36331.285282246332,0,0,0]
[null,46,{"$f":"VLOOKUP(B50,'c_Demand calculations'!C:E,3,0)","v":3},{"$f":"SUMIF('c_Demand calculations'!C:C,B50,'c_Demand calculations'!N:N)","v":11641.434287552125},null,{"$f":"VLOOKUP(C50,'c_Sources calculations'!$U$27:$Z$30,3,0)","v":34469.243718889287},{"$f":"VLOOKUP($C50,'c_Storage calculations'!$S$112:$AJ$116,G$3,0)","v":11815.565410039069},46284.809128928355,null,{"$f":"VLOOKUP(C50,'c_Sources calculations'!$AB$27:$AG$30,3,0)","v":34469.243718889287},{"$f":"VLOOKUP($C50,'c_Storage calculations'!$S$112:$AJ$116,K$3,0)","v":11815.565410039069},{"$f":"VLOOKUP($C50,'c_Storage calculations'!$S$112:$AJ$116,L$3,0)","v":0},46284.809128928355,null,-34643.37484137623,0,null,-34643.37484137623,0,0,0]
[null,47,{"$f":"VLOOKUP(B51,'c_Demand calculations'!C:E,3,0)","v":3},{"$f":"SUMIF('c_Demand calculations'!C:C,B51,'c_Demand calculations'!N:N)","v":12825.046047207863},null,{"$f":"VLOOKUP(C51,'c_Sources calculations'!$U$27:$Z$30,3,0)","v":34469.243718889287},{"$f":"VLOOKUP($C51,'c_Storage calculations'!$S$112:$AJ$116,G$3,0)","v":11815.565410039069},46284.809128928355,null,{"$f":"VLOOKUP(C51,'c_Sources calculations'!$AB$27:$AG$30,3,0)","v":34469.243718889287},{"$f":"VLOOKUP($C51,'c_Storage calculations'!$S$112:$AJ$116,K$3,0)","v":11815.565410039069},{"$f":"VLOOKUP($C51,'c_Storage calculations'!$S$112:$AJ$116,L$3,0)","v":0},46284.809128928355,null,-33459.763081720492,0,null,-33459.763081720492,0,0,0]
[null,48,{"$f":"VLOOKUP(B52,'c_Demand calculations'!C:E,3,0)","v":3},{"$f":"SUMIF('c_Demand calculations'!C:C,B52,'c_Demand calculations'!N:N)","v":12470.867472023179},null,{"$f":"VLOOKUP(C52,'c_Sources calculations'!$U$27:$Z$30,3,0)","v":34469.243718889287},{"$f":"VLOOKUP($C52,'c_Storage calculations'!$S$112:$AJ$116,G$3,0)","v":11815.565410039069},46284.809128928355,null,{"$f":"VLOOKUP(C52,'c_Sources calculations'!$AB$27:$AG$30,3,0)","v":34469.243718889287},{"$f":"VLOOKUP($C52,'c_Storage calculations'!$S$112:$AJ$116,K$3,0)","v":11815.565410039069},{"$f":"VLOOKUP($C52,'c_Storage calculations'!$S$112:$AJ$116,L$3,0)","v":0},46284.809128928355,null,-33813.941656905175,0,null,-33813.941656905175,0,0,0]
[null,49,{"$f":"VLOOKUP(B53,'c_Demand calculations'!C:E,3,0)","v":3},{"$f":"SUMIF('c_Demand calculations'!C:C,B53,'c_Demand calculations'!N:N)","v":12344.529587217805},null,{"$f":"VLOOKUP(C53,'c_Sources calculations'!$U$27:$Z$30,3,0)","v":34469.243718889287},{"$f":"VLOOKUP($C53,'c_Storage calculations'!$S$112:$AJ$116,G$3,0)","v":11815.565410039069},46284.809128928355,null,{"$f":"VLOOKUP(C53,'c_Sources calculations'!$AB$27:$AG$30,3,0)","v":34469.243718889287},{"$f":"VLOOKUP($C53,'c_Storage calculations'!$S$112:$AJ$116,K$3,0)","v":11815.565410039069},{"$f":"VLOOKUP($C53,'c_Storage calculations'!$S$112:$AJ$116,L$3,0)","v":0},46284.809128928355,null,-33940.279541710552,0,null,-33940.279541710552,0,0,0]
[null,50,{"$f":"VLOOKUP(B54,'c_Demand calculations'!C:E,3,0)","v":3},{"$f":"SUMIF('c_Demand calculations'!C:C,B54,'c_Demand calculations'!N:N)","v":10668.91493438772},null,{"$f":"VLOOKUP(C54,'c_Sources calculations'!$U$27:$Z$30,3,0)","v":34469.243718889287},{"$f":"VLOOKUP($C54,'c_Storage calculations'!$S$112:$AJ$116,G$3,0)","v":11815.565410039069},46284.809128928355,null,{"$f":"VLOOKUP(C54,'c_Sources calculations'!$AB$27:$AG$30,3,0)","v":34469.243718889287},{"$f":"VLOOKUP($C54,'c_Storage calculations'!$S$112:$AJ$116,K$3,0)","v":11815.565410039069},{"$f":"VLOOKUP($C54,'c_Storage calculations'!$S$112:$AJ$116,L$3,0)","v":0},46284.809128928355,null,-35615.894194540633,0,null,-35615.894194540633,0,0,0]
[null,51,{"$f":"VLOOKUP(B55,'c_Demand calculations'!C:E,3,0)","v":3},{"$f":"SUMIF('c_Demand calculations'!C:C,B55,'c_Demand calculations'!N:N)","v":12215.920231858741},null,{"$f":"VLOOKUP(C55,'c_Sources calculations'!$U$27:$Z$30,3,0)","v":34469.243718889287},{"$f":"VLOOKUP($C55,'c_Storage calculations'!$S$112:$AJ$116,G$3,0)","v":11815.565410039069},46284.809128928355,null,{"$f":"VLOOKUP(C55,'c_Sources calculations'!$AB$27:$AG$30,3,0)","v":34469.243718889287},{"$f":"VLOOKUP($C55,'c_Storage calculations'!$S$112:$AJ$116,K$3,0)","v":11815.565410039069},{"$f":"VLOOKUP($C55,'c_Storage calculations'!$S$112:$AJ$116,L$3,0)","v":0},46284.809128928355,null,-34068.888897069613,0,null,-34068.888897069613,0,0,0]
[null,52,{"$f":"VLOOKUP(B56,'c_Demand calculations'!C:E,3,0)","v":3},{"$f":"SUMIF('c_Demand calculations'!C:C,B56,'c_Demand calculations'!N:N)","v":15137.35305738307},null,{"$f":"VLOOKUP(C56,'c_Sources calculations'!$U$27:$Z$30,3,0)","v":34469.243718889287},{"$f":"VLOOKUP($C56,'c_Storage calculations'!$S$112:$AJ$116,G$3,0)","v":11815.565410039069},46284.809128928355,null,{"$f":"VLOOKUP(C56,'c_Sources calculations'!$AB$27:$AG$30,3,0)","v":34469.243718889287},{"$f":"VLOOKUP($C56,'c_Storage calculations'!$S$112:$AJ$116,K$3,0)","v":11815.565410039069},{"$f":"VLOOKUP($C56,'c_Storage calculations'!$S$112:$AJ$116,L$3,0)","v":0},46284.809128928355,null,-31147.456071545283,0,null,-31147.456071545283,0,0,0]
[null,53,{"$f":"VLOOKUP(B57,'c_Demand calculations'!C:E,3,0)","v":3},{"$f":"SUMIF('c_Demand calculations'!C:C,B57,'c_Demand calculations'!N:N)","v":2327.53865606523},null,{"$f":"VLOOKUP(C57,'c_Sources calculations'!$U$27:$Z$30,3,0)","v":34469.243718889287},{"$f":"VLOOKUP($C57,'c_Storage calculations'!$S$112:$AJ$116,G$3,0)","v":11815.565410039069},46284.809128928355,null,{"$f":"VLOOKUP(C57,'c_Sources calculations'!$AB$27:$AG$30,3,0)","v":34469.243718889287},{"$f":"VLOOKUP($C57,'c_Storage calculations'!$S$112:$AJ$116,K$3,0)","v":11815.565410039069},{"$f":"VLOOKUP($C57,'c_Storage calculations'!$S$112:$AJ$116,L$3,0)","v":0},46284.809128928355,null,-43957.270472863122,0,null,-43957.270472863122,0,0,0]

{"sheet":"c_Monthly","index":22,"n_rows":16,"n_cols":21,"rows_kept":16,"cut":false,"hidden":false,"merged":[[1,1,1,3],[1,5,1,7],[1,9,1,12],[1,14,1,15],[1,17,1,20]]}
[]
[null,"Demand",null,null,null,"Unconstrained case",null,null,null,"Constrained case",null,null,null,null,"Resource adequacy",null,null,"Pivotality (total demand)"]
[null,null,null,null,null,null,4,null,null,null,10,16,null,null,"Sum",{"$f":"SUM(P5:P369)","v":0},null,"Sum",{"$f":"SUM(S5:S369)","v":0},{"$f":"SUM(T5:T369)","v":0},{"$f":"SUM(U5:U369)","v":0}]
[null,"Month","Quarter","Total demand, GWh",null,"Source capacity, GWh","Storage deliverability, GWh","Total capacity, GWh",null,"Competitors' source capacity, GWh","Competitors' storage deliverability, GWh","Operators' injection capacity, GWh","Total constrained capacity, GWh",null,"Inadequacy, GWh","Inadequate? Y/N",null,"Pivotal capacity, GWh","Pivotality? Y/N","Pivotal capacity in pivotal periods, GWh","Demand in pivotal periods, GWh"]
[null,10,{"$f":"IF(B5<=3,1,IF(B5<=6,2,IF(B5<=9,3,4)))","v":4},{"$f":"SUMIF('c_Demand calculations'!D:D,B5,'c_Demand calculations'!N:N)","v":71797.957236485003},null,{"$f":"VLOOKUP(C5,'c_Sources calculations'!$U$27:$Z$30,4,0)","v":138140.49962955239},{"$f":"VLOOKUP($C5,'c_Storage calculations'!$S$112:$AJ$116,G$3,0)","v":28841.915573718001},{"$f":"SUM(F5:G5)","v":166982.41520327039},null,{"$f":"VLOOKUP(C5,'c_Sources calculations'!$AB$27:$AG$30,4,0)","v":138140.49962955239},{"$f":"VLOOKUP($C5,'c_Storage calculations'!$S$112:$AJ$116,K$3,0)","v":28841.915573718001},{"$f":"VLOOKUP($C5,'c_Storage calculations'!$S$112:$AJ$116,L$3,0)","v":0},{"$f":"SUM(J5:K5)-L5","v":166982.41520327039},null,{"$f":"D5-H5","v":-95184.457966785383},{"$f":"IF(O5>0,1,0)","v":0},null,{"$f":"D5-M5","v":-95184.457966785383},{"$f":"IF(R5>0,1,0)","v":0},{"$f":"S5*R5","v":0},{"$f":"S5*D5","v":0}]
[null,11,{"$f":"IF(B6<=3,1,IF(B6<=6,2,IF(B6<=9,3,4)))","v":4},{"$f":"SUMIF('c_Demand calculations'!D:D,B6,'c_Demand calculations'!N:N)","v":90936.275646889771},null,{"$f":"VLOOKUP(C6,'c_Sources calculations'!$U$27:$Z$30,4,0)","v":138140.49962955239},{"$f":"VLOOKUP($C6,'c_Storage calculations'!$S$112:$AJ$116,G$3,0)","v":28841.915573718001},{"$f":"SUM(F6:G6)","v":166982.41520327039},null,{"$f":"VLOOKUP(C6,'c_Sources calculations'!$AB$27:$AG$30,4,0)","v":138140.49962955239},{"$f":"VLOOKUP($C6,'c_Storage calculations'!$S$112:$AJ$116,K$3,0)","v":28841.915573718001},{"$f":"VLOOKUP($C6,'c_Storage calculations'!$S$112:$AJ$116,L$3,0)","v":0},{"$f":"SUM(J6:K6)-L6","v":166982.41520327039},null,-76046.139556380615,{"$f":"IF(O6>0,1,0)","v":0},null,-76046.139556380615,{"$f":"IF(R6>0,1,0)","v":0},{"$f":"S6*R6","v":0},0]
[null,12,4,{"$f":"SUMIF('c_Demand calculations'!D:D,B7,'c_Demand calculations'!N:N)","v":122119.19920467958},null,{"$f":"VLOOKUP(C7,'c_Sources calculations'!$U$27:$Z$30,4,0)","v":138140.49962955239},{"$f":"VLOOKUP($C7,'c_Storage calculations'!$S$112:$AJ$116,G$3,0)","v":28841.915573718001},166982.41520327039,null,{"$f":"VLOOKUP(C7,'c_Sources calculations'!$AB$27:$AG$30,4,0)","v":138140.49962955239},{"$f":"VLOOKUP($C7,'c_Storage calculations'!$S$112:$AJ$116,K$3,0)","v":28841.915573718001},{"$f":"VLOOKUP($C7,'c_Storage calculations'!$S$112:$AJ$116,L$3,0)","v":0},166982.41520327039,null,-44863.215998590807,0,null,-44863.215998590807,0,0,0]
[null,1,1,{"$f":"SUMIF('c_Demand calculations'!D:D,B8,'c_Demand calculations'!N:N)","v":134592.35899341592},null,{"$f":"VLOOKUP(C8,'c_Sources calculations'!$U$27:$Z$30,4,0)","v":138140.49962955239},{"$f":"VLOOKUP($C8,'c_Storage calculations'!$S$112:$AJ$116,G$3,0)","v":20115.224483265174},158255.72411281755,null,{"$f":"VLOOKUP(C8,'c_Sources calculations'!$AB$27:$AG$30,4,0)","v":138140.49962955239},{"$f":"VLOOKUP($C8,'c_Storage calculations'!$S$112:$AJ$116,K$3,0)","v":20115.224483265174},{"$f":"VLOOKUP($C8,'c_Storage calculations'!$S$112:$AJ$116,L$3,0)","v":0},158255.72411281755,null,-23663.365119401627,0,null,-23663.365119401627,0,0,0]
[null,2,1,{"$f":"SUMIF('c_Demand calculations'!D:D,B9,'c_Demand calculations'!N:N)","v":114591.43531595092},null,{"$f":"VLOOKUP(C9,'c_Sources calculations'!$U$27:$Z$30,4,0)","v":138140.49962955239},{"$f":"VLOOKUP($C9,'c_Storage calculations'!$S$112:$AJ$116,G$3,0)","v":20115.224483265174},158255.72411281755,null,{"$f":"VLOOKUP(C9,'c_Sources calculations'!$AB$27:$AG$30,4,0)","v":138140.49962955239},{"$f":"VLOOKUP($C9,'c_Storage calculations'!$S$112:$AJ$116,K$3,0)","v":20115.224483265174},{"$f":"VLOOKUP($C9,'c_Storage calculations'!$S$112:$AJ$116,L$3,0)","v":0},158255.72411281755,null,-43664.288796866633,0,null,-43664.288796866633,0,0,0]
[null,3,1,{"$f":"SUMIF('c_Demand calculations'!D:D,B10,'c_Demand calculations'!N:N)","v":108427.01988668034},null,{"$f":"VLOOKUP(C10,'c_Sources calculations'!$U$27:$Z$30,4,0)","v":138140.49962955239},{"$f":"VLOOKUP($C10,'c_Storage calculations'!$S$112:$AJ$116,G$3,0)","v":20115.224483265174},158255.72411281755,null,{"$f":"VLOOKUP(C10,'c_Sources calculations'!$AB$27:$AG$30,4,0)","v":138140.49962955239},{"$f":"VLOOKUP($C10,'c_Storage calculations'!$S$112:$AJ$116,K$3,0)","v":20115.224483265174},{"$f":"VLOOKUP($C10,'c_Storage calculations'!$S$112:$AJ$116,L$3,0)","v":0},158255.72411281755,null,-49828.704226137212,0,null,-49828.704226137212,0,0,0]
[null,4,2,{"$f":"SUMIF('c_Demand calculations'!D:D,B11,'c_Demand calculations'!N:N)","v":80079.247586732061},null,{"$f":"VLOOKUP(C11,'c_Sources calculations'!$U$27:$Z$30,4,0)","v":138140.49962955239},{"$f":"VLOOKUP($C11,'c_Storage calculations'!$S$112:$AJ$116,G$3,0)","v":20018.598092938453},158159.09772249084,null,{"$f":"VLOOKUP(C11,'c_Sources calculations'!$AB$27:$AG$30,4,0)","v":138140.49962955239},{"$f":"VLOOKUP($C11,'c_Storage calculations'!$S$112:$AJ$116,K$3,0)","v":20018.598092938453},{"$f":"VLOOKUP($C11,'c_Storage calculations'!$S$112:$AJ$116,L$3,0)","v":0},158159.09772249084,null,-78079.850135758781,0,null,-78079.850135758781,0,0,0]
[null,5,2,{"$f":"SUMIF('c_Demand calculations'!D:D,B12,'c_Demand calculations'!N:N)","v":74576.33248420879},null,{"$f":"VLOOKUP(C12,'c_Sources calculations'!$U$27:$Z$30,4,0)","v":138140.49962955239},{"$f":"VLOOKUP($C12,'c_Storage calculations'!$S$112:$AJ$116,G$3,0)","v":20018.598092938453},158159.09772249084,null,{"$f":"VLOOKUP(C12,'c_Sources calculations'!$AB$27:$AG$30,4,0)","v":138140.49962955239},{"$f":"VLOOKUP($C12,'c_Storage calculations'!$S$112:$AJ$116,K$3,0)","v":20018.598092938453},{"$f":"VLOOKUP($C12,'c_Storage calculations'!$S$112:$AJ$116,L$3,0)","v":0},158159.09772249084,null,-83582.765238282052,0,null,-83582.765238282052,0,0,0]
[null,6,2,{"$f":"SUMIF('c_Demand calculations'!D:D,B13,'c_Demand calculations'!N:N)","v":56742.189820098793},null,{"$f":"VLOOKUP(C13,'c_Sources calculations'!$U$27:$Z$30,4,0)","v":138140.49962955239},{"$f":"VLOOKUP($C13,'c_Storage calculations'!$S$112:$AJ$116,G$3,0)","v":20018.598092938453},158159.09772249084,null,{"$f":"VLOOKUP(C13,'c_Sources calculations'!$AB$27:$AG$30,4,0)","v":138140.49962955239},{"$f":"VLOOKUP($C13,'c_Storage calculations'!$S$112:$AJ$116,K$3,0)","v":20018.598092938453},{"$f":"VLOOKUP($C13,'c_Storage calculations'!$S$112:$AJ$116,L$3,0)","v":0},158159.09772249084,null,-101416.90790239205,0,null,-101416.90790239205,0,0,0]
[null,7,3,{"$f":"SUMIF('c_Demand calculations'!D:D,B14,'c_Demand calculations'!N:N)","v":50259.109837698808},null,{"$f":"VLOOKUP(C14,'c_Sources calculations'!$U$27:$Z$30,4,0)","v":138140.49962955239},{"$f":"VLOOKUP($C14,'c_Storage calculations'!$S$112:$AJ$116,G$3,0)","v":26841.801443220247},164982.30107277265,null,{"$f":"VLOOKUP(C14,'c_Sources calculations'!$AB$27:$AG$30,4,0)","v":138140.49962955239},{"$f":"VLOOKUP($C14,'c_Storage calculations'!$S$112:$AJ$116,K$3,0)","v":26841.801443220247},{"$f":"VLOOKUP($C14,'c_Storage calculations'!$S$112:$AJ$116,L$3,0)","v":0},164982.30107277265,null,-114723.19123507384,0,null,-114723.19123507384,0,0,0]
[null,8,3,{"$f":"SUMIF('c_Demand calculations'!D:D,B15,'c_Demand calculations'!N:N)","v":51104.781389625743},null,{"$f":"VLOOKUP(C15,'c_Sources calculations'!$U$27:$Z$30,4,0)","v":138140.49962955239},{"$f":"VLOOKUP($C15,'c_Storage calculations'!$S$112:$AJ$116,G$3,0)","v":26841.801443220247},164982.30107277265,null,{"$f":"VLOOKUP(C15,'c_Sources calculations'!$AB$27:$AG$30,4,0)","v":138140.49962955239},{"$f":"VLOOKUP($C15,'c_Storage calculations'!$S$112:$AJ$116,K$3,0)","v":26841.801443220247},{"$f":"VLOOKUP($C15,'c_Storage calculations'!$S$112:$AJ$116,L$3,0)","v":0},164982.30107277265,null,-113877.51968314691,0,null,-113877.51968314691,0,0,0]
[null,9,3,{"$f":"SUMIF('c_Demand calculations'!D:D,B16,'c_Demand calculations'!N:N)","v":54371.774418257337},null,{"$f":"VLOOKUP(C16,'c_Sources calculations'!$U$27:$Z$30,4,0)","v":138140.49962955239},{"$f":"VLOOKUP($C16,'c_Storage calculations'!$S$112:$AJ$116,G$3,0)","v":26841.801443220247},164982.30107277265,null,{"$f":"VLOOKUP(C16,'c_Sources calculations'!$AB$27:$AG$30,4,0)","v":138140.49962955239},{"$f":"VLOOKUP($C16,'c_Storage calculations'!$S$112:$AJ$116,K$3,0)","v":26841.801443220247},{"$f":"VLOOKUP($C16,'c_Storage calculations'!$S$112:$AJ$116,L$3,0)","v":0},164982.30107277265,null,-110610.52665451531,0,null,-110610.52665451531,0,0,0]

{"sheet":"c_Quarterly","index":23,"n_rows":8,"n_cols":20,"rows_kept":8,"cut":false,"hidden":false,"merged":[[1,1,1,2],[1,4,1,6],[1,8,1,11],[1,13,1,14],[1,16,1,19]]}
[]
[null,"Demand",null,null,"Unconstrained case",null,null,null,"Constrained case",null,null,null,null,"Resource adequacy",null,null,"Pivotality (total demand)"]
[null,null,null,null,null,5,null,null,null,11,17,null,null,"Sum",{"$f":"SUM(O5:O369)","v":0},null,"Sum",{"$f":"SUM(R5:R369)","v":0},{"$f":"SUM(S5:S369)","v":0},{"$f":"SUM(T5:T369)","v":0}]
[null,"Quarter","Total demand, GWh",null,"Source capacity, GWh","Storage deliverability, GWh","Total capacity, GWh",null,"Competitors' source capacity, GWh","Competitors' storage deliverability, GWh","Operators' injection capacity, GWh","Total constrained capacity, GWh",null,"Inadequacy, GWh","Inadequate? Y/N",null,"Pivotal capacity, GWh","Pivotality? Y/N","Pivotal capacity in pivotal periods, GWh","Demand in pivotal periods, GWh"]
[null,4,{"$f":"SUMIF('c_Demand calculations'!E:E,B5,'c_Demand calculations'!N:N)","v":284853.43208805437},null,{"$f":"VLOOKUP(B5,'c_Sources calculations'!$U$27:$Z$30,5,0)","v":348361.77845763764},{"$f":"VLOOKUP($B5,'c_Storage calculations'!$S$112:$AJ$116,F$3,0)","v":52444.481377812961},{"$f":"SUM(E5:F5)","v":400806.25983545062},null,{"$f":"VLOOKUP(B5,'c_Sources calculations'!$AB$27:$AG$30,5,0)","v":348361.77845763764},{"$f":"VLOOKUP($B5,'c_Storage calculations'!$S$112:$AJ$116,J$3,0)","v":52444.481377812961},{"$f":"VLOOKUP($B5,'c_Storage calculations'!$S$112:$AJ$116,K$3,0)","v":0},{"$f":"SUM(I5:J5)-K5","v":400806.25983545062},null,{"$f":"C5-G5","v":-115952.82774739625},{"$f":"IF(N5>0,1,0)","v":0},null,{"$f":"C5-L5","v":-115952.82774739625},{"$f":"IF(Q5>0,1,0)","v":0},{"$f":"R5*Q5","v":0},{"$f":"R5*C5","v":0}]
[null,1,{"$f":"SUMIF('c_Demand calculations'!E:E,B6,'c_Demand calculations'!N:N)","v":357610.81419604708},null,{"$f":"VLOOKUP(B6,'c_Sources calculations'!$U$27:$Z$30,5,0)","v":348361.77845763764},{"$f":"VLOOKUP($B6,'c_Storage calculations'!$S$112:$AJ$116,F$3,0)","v":20166.362461045672},{"$f":"SUM(E6:F6)","v":368528.14091868332},null,{"$f":"VLOOKUP(B6,'c_Sources calculations'!$AB$27:$AG$30,5,0)","v":348361.77845763764},{"$f":"VLOOKUP($B6,'c_Storage calculations'!$S$112:$AJ$116,J$3,0)","v":20166.362461045672},{"$f":"VLOOKUP($B6,'c_Storage calculations'!$S$112:$AJ$116,K$3,0)","v":0},{"$f":"SUM(I6:J6)-K6","v":368528.14091868332},null,{"$f":"C6-G6","v":-10917.326722636237},{"$f":"IF(N6>0,1,0)","v":0},null,{"$f":"C6-L6","v":-10917.326722636237},{"$f":"IF(Q6>0,1,0)","v":0},{"$f":"R6*Q6","v":0},{"$f":"R6*C6","v":0}]
[null,2,{"$f":"SUMIF('c_Demand calculations'!E:E,B7,'c_Demand calculations'!N:N)","v":211397.76989103967},null,{"$f":"VLOOKUP(B7,'c_Sources calculations'!$U$27:$Z$30,5,0)","v":348361.77845763764},0,{"$f":"SUM(E7:F7)","v":348361.77845763764},null,{"$f":"VLOOKUP(B7,'c_Sources calculations'!$AB$27:$AG$30,5,0)","v":348361.77845763764},0,{"$f":"VLOOKUP($B7,'c_Storage calculations'!$S$112:$AJ$116,K$3,0)","v":0},{"$f":"SUM(I7:J7)-K7","v":348361.77845763764},null,{"$f":"C7-G7","v":-136964.00856659797},{"$f":"IF(N7>0,1,0)","v":0},null,{"$f":"C7-L7","v":-136964.00856659797},{"$f":"IF(Q7>0,1,0)","v":0},{"$f":"R7*Q7","v":0},{"$f":"R7*C7","v":0}]
[null,3,{"$f":"SUMIF('c_Demand calculations'!E:E,B8,'c_Demand calculations'!N:N)","v":155735.66564558193},null,{"$f":"VLOOKUP(B8,'c_Sources calculations'!$U$27:$Z$30,5,0)","v":348361.77845763764},0,{"$f":"SUM(E8:F8)","v":348361.77845763764},null,{"$f":"VLOOKUP(B8,'c_Sources calculations'!$AB$27:$AG$30,5,0)","v":348361.77845763764},0,{"$f":"VLOOKUP($B8,'c_Storage calculations'!$S$112:$AJ$116,K$3,0)","v":0},{"$f":"SUM(I8:J8)-K8","v":348361.77845763764},null,{"$f":"C8-G8","v":-192626.11281205571},{"$f":"IF(N8>0,1,0)","v":0},null,{"$f":"C8-L8","v":-192626.11281205571},{"$f":"IF(Q8>0,1,0)","v":0},{"$f":"R8*Q8","v":0},{"$f":"R8*C8","v":0}]

{"sheet":"c_Seasonal","index":24,"n_rows":6,"n_cols":20,"rows_kept":6,"cut":false,"hidden":false,"merged":[[1,1,1,2],[1,13,1,14],[1,16,1,19],[1,4,1,6],[1,8,1,11]]}
[]
[null,"Demand",null,null,"Unconstrained case",null,null,null,"Constrained case",null,null,null,null,"Resource adequacy",null,null,"Pivotality (total demand)"]
[null,null,null,null,null,null,null,null,null,null,null,null,null,"Sum",{"$f":"SUM(O5:O369)","v":1},null,"Sum",{"$f":"SUM(R5:R6)","v":1},{"$f":"SUM(S5:S369)","v":2555.5841079552192},{"$f":"SUM(T5:T369)","v":642464.24628410151}]
[null,"Season","Total demand, GWh",null,"Source capacity, GWh","Storage deliverability, GWh","Total capacity, GWh",null,"Competitors' source capacity, GWh","Competitors' storage deliverability, GWh","Operators' injection capacity, GWh","Total constrained capacity, GWh",null,"Inadequacy, GWh","Inadequate? Y/N",null,"Pivotal capacity, GWh","Pivotality? Y/N","Pivotal capacity in pivotal periods, GWh","Demand in pivotal periods, GWh"]
[null,"Winter",{"$f":"SUMIF('c_Demand calculations'!F:F,B5,'c_Demand calculations'!N:N)","v":642464.24628410151},null,{"$f":"SUMIF('c_Sources calculations'!$T$27:$T$30,c_Seasonal!$B5,'c_Sources calculations'!$Z$27:$Z$30)/COUNTIF('c_Sources calculations'!$T$27:$T$30,c_Seasonal!$B5)","v":587464.18079833337},{"$f":"SUMIF('c_Storage calculations'!A6:A109,4,'c_Storage calculations'!X6:X109)","v":52444.481377812961},{"$f":"SUM(E5:F5)","v":639908.66217614629},null,{"$f":"SUMIF('c_Sources calculations'!$T$27:$T$30,c_Seasonal!$B5,'c_Sources calculations'!$AG$27:$AG$30)/COUNTIF('c_Sources calculations'!$T$27:$T$30,c_Seasonal!$B5)","v":587464.18079833337},{"$f":"SUMIF('c_Storage calculations'!A6:A109,4,'c_Storage calculations'!AD6:AD109)","v":52444.481377812961},{"$f":"SUMIF('c_Storage calculations'!$R$113:$R$116,c_Seasonal!$B5,'c_Storage calculations'!$AJ$113:$AJ$116)/COUNTIF('c_Storage calculations'!$R$113:$R$116,c_Seasonal!$B5)","v":0},{"$f":"SUM(I5:J5)-K5","v":639908.66217614629},null,{"$f":"C5-G5","v":2555.5841079552192},{"$f":"IF(N5>0,1,0)","v":1},null,{"$f":"C5-L5","v":2555.5841079552192},{"$f":"IF(Q5>0,1,0)","v":1},{"$f":"R5*Q5","v":2555.5841079552192},{"$f":"R5*C5","v":642464.24628410151}]
[null,"Summer",{"$f":"SUMIF('c_Demand calculations'!F:F,B6,'c_Demand calculations'!N:N)","v":367133.43553662143},null,{"$f":"SUMIF('c_Sources calculations'!$T$27:$T$30,c_Seasonal!$B6,'c_Sources calculations'!$Z$27:$Z$30)/COUNTIF('c_Sources calculations'!$T$27:$T$30,c_Seasonal!$B6)","v":587464.18079833337},0,{"$f":"SUM(E6:F6)","v":587464.18079833337},null,{"$f":"SUMIF('c_Sources calculations'!$T$27:$T$30,c_Seasonal!$B6,'c_Sources calculations'!$AG$27:$AG$30)/COUNTIF('c_Sources calculations'!$T$27:$T$30,c_Seasonal!$B6)","v":587464.18079833337},0,{"$f":"SUMIF('c_Storage calculations'!$R$113:$R$116,c_Seasonal!$B6,'c_Storage calculations'!$AJ$113:$AJ$116)/COUNTIF('c_Storage calculations'!$R$113:$R$116,c_Seasonal!$B6)","v":0},{"$f":"SUM(I6:J6)-K6","v":587464.18079833337},null,{"$f":"C6-G6","v":-220330.74526171194},{"$f":"IF(N6>0,1,0)","v":0},null,{"$f":"C6-L6","v":-220330.74526171194},{"$f":"IF(Q6>0,1,0)","v":0},{"$f":"R6*Q6","v":0},{"$f":"R6*C6","v":0}]