Workbook

Sheet Cover
D3: DATA COMMUNICATIONS COMPANY - Regulatory reporting
D5: Cover sheet
B8: Requirement This workbook comprises the templates for the Price Control Information reporting referred to in Condition 23: Price Control Information of the Smart Meter Communication Licence. This requires the Licensee to collect and provide the Authority with Price Control Information in such a manner as will: a) ensure that the Authority is provided with such information on a consistent basis in respect of each year of a Price Control Period to enable it to calculate the Licensee’s Required Revenue; b) enable the Authority to monitor the Licensee's compliance with the Price Control Conditions in the Licence; and c) facilitate any review or modification by the Authority of those conditions. Price Control Information means the specified information contained in the Regulatory Instruction and Guidance (RIGs) issued by the Authority under Condition 23 of the Smart Meter Communication Licence.
B16: Guidance The tables in this cost reporting pack are to be completed as described in the associated regulatory instructions and guidance (RIGs). All monetary amounts are to be reported in £m nominal (unless otherwise indicated) and to three decimal places. All percentages are to be reported to three decimal places. This workbook uses the convention that '2026' refers to the year ending 31st March 2026 ("Regulatory Reporting Year"). Supplementary documents may be used to answer qualitative questions. A corresponding reference to the document should be included in this workbook.
B25: Disclaimer In the event of any inconsistency, the Licence Conditions and then the RIGs take precedence. This model is provided to facilitate revenue reporting by the licensee with the expectation that any identified inconsistencies with any licence condition must be promptly notified to the Authority.
B34: Key | C34: Cells
E35: Cells to be populated by the Licensee (values not stated in the Licence)
E36: Cells contains a total, other formulae or links to other cells in the reporting pack - not to be amended by Licensee
E37: Cells where NO DATA should be input
E38: Cells where data should be input by the Authority
C40: Sheets
E41: Summary and Fixed data sheets
E42: Sheets to input cost, financial and resourcing reporting

Sheet Sign-off
D3: DATA COMMUNICATIONS COMPANY - Regulatory reporting
D5: Sign-off
B9: Declaration The below declaration is to be signed off by a director of the licensee.
B16: Condition 23 of the Smart Meter Communication Licence requires (amongst other things) the Licensee to collect and provide the Authority with Price Control Information. For that purpose the Licence requires that the Licensee has in place and maintains (and ensures that any Affiliate or Related Undertaking of the Licensee, and any External Service Provider from whom Relevant Service Capability is procured pursuant to Condition 10, has in place and maintains) appropriate accounting records, systems, processes, and procedures to enable the Licensee: a) to measure, record, and collect such Price Control Information as is specified from time to time in the RIGs; and b) to report Price Control Information to the Authority in respect of each Price Control Period no later than 31 July in the Regulatory Year immediately preceding a new Price Control Period.
B20: =CONCATENATE("I, ",G22,", confirm that the information provided by ",'Universal Data'!F9," in these templates is accurate and has been provided in accordance with the requirements of the Licence. I also confirm that I am aware that section 59 of the Electricity Act 1989 provides that a person commits an offence if, ","in giving any information or …. for the purpose of any provision of this Part [1] … he makes any statement which he knows to be false in a material particular, or recklessly makes any statement which is false in a material particular."," I also confirm that I am aware that Section 108 of the Electricity Act 1989 makes it possible for a director/officer to be guilty of an offence committed by a body corporate where it is committed with the 'consent….of that person'.") -> I, , confirm that the information provided by in these templates is accurate and has been provided in accordance with the requirements of the Licence. I also confirm that I am aware that section 59 of the Electricity Act 1989 provides that a person commits an offence if, in giving any information or …. for the purpose of any provision of this Part [1] … he makes any statement which he knows to be false in a material particular, or recklessly makes any statement which is false in a material particular. I also confirm that I am aware that Section 108 of the Electricity Act 1989 makes it possible for a director/officer to be guilty of an offence committed by a body corporate where it is committed with the 'consent….of that person'.
B22: Name:
B23: Position:
B24: Date:

Sheet Version Control
D3: DATA COMMUNICATIONS COMPANY - Regulatory reporting
D5: Version Control
B8: Date | C8: Version | F8: Amendment
B9: 46321 | C9: 1.0 | F9: New template published for the reporting of Comms Hubs costs

Sheet Data Change Log
D3: DATA COMMUNICATIONS COMPANY - Regulatory reporting
D5: Data Change Log
B9: Date | C9: Version | E9: Amendment

Sheet Universal Data
D3: DATA COMMUNICATIONS COMPANY - Regulatory reporting
D5: Universal data
C8: Company number:
C9: Company name:
C10: Company short name:
C11: Reporting year: (enter 2014 for 2013/14) | G11: regulatoryYear
C12: Version (number):
C13: Submitted date:
C14: Date to which last statutory accounts were made up:
C19: Flag for pre-price control submission:
C20: Yes
C21: No

Sheet Index
D3: DATA COMMUNICATIONS COMPANY - Regulatory reporting
D5: Index
E8: Universal Data | F8: Universal data
E9: Fixed Data | F9: Sheet 1
E10: Summary Data | F10: Sheet 2
E11: Comms Hubs & Financing costs | F11: Sheet 3
E12: Comms Hubs Volumes | F12: Sheet 4

Sheet 1
D3: DATA COMMUNICATIONS COMPANY - Regulatory reporting
D5: 1. Fixed data
B7: PURPOSE: this worksheet contains data that is common across worksheets.
B9: 1. Fixed Data
C11: Year of licence term | H11: =I11-1 -> -13 | I11: =J11-1 -> -12 | J11: =K11-1 -> -11 | K11: =L11-1 -> -10 | L11: =M11-1 -> -9 | M11: =N11-1 -> -8 | N11: =O11-1 -> -7 | O11: =P11-1 -> -6 | ... S11: =T11-1 -> -2 | T11: =U11-2 -> -1 | U11: 1 | V11: =U11+1 -> 2 | W11: =V11+1 -> 3 | X11: =W11+1 -> 4 | Y11: =X11+1 -> 5 | Z11: =Y11+1 -> 6
C12: Regulatory year | H12: 2014 | I12: =H12+1 -> 2015 | J12: =I12+1 -> 2016 | K12: =J12+1 -> 2017 | L12: =K12+1 -> 2018 | M12: =L12+1 -> 2019 | N12: =M12+1 -> 2020 | O12: =N12+1 -> 2021 | P12: =O12+1 -> 2022 | ... Z12: =Y12+1 -> 2032
C14: Month - reference | H14: 1 | I14: =H14+1 -> 2 | J14: =I14+1 -> 3 | K14: =J14+1 -> 4 | L14: =K14+1 -> 5 | M14: =L14+1 -> 6 | N14: =M14+1 -> 7 | O14: =N14+1 -> 8 | P14: =O14+1 -> 9 | ... S14: =R14+1 -> 12
C15: Month - date | H15: Apr | I15: May | J15: Jun | K15: Jul | L15: Aug | M15: Sep | N15: Oct | O15: Nov | P15: Dec | Q15: Jan | R15: Feb | S15: Mar

Sheet 2
D3: DATA COMMUNICATIONS COMPANY – Regulatory Reporting
D5: 2. Summary
B7: Purpose: Summarises all reportable Communications Hub costs, maintenance charges and financing charges for each Regulatory Year and reconciles to the RIG outputs.
G9: Historical and Forecast Costs | L9: Business Plan Submission Forecast
C11: Year of licence term | G11: -2 | H11: -1 | I11: 1 | J11: 2 | L11: 3 | M11: 4 | N11: 5
C13: Regulatory year | G13: =_xlfn.XLOOKUP(G11,'1'!$H$11:$Z$11,'1'!$H$12:$Z$12) -> 2025 | H13: =_xlfn.XLOOKUP(H11,'1'!$H$11:$Z$11,'1'!$H$12:$Z$12) -> 2026 | I13: =_xlfn.XLOOKUP(I11,'1'!$H$11:$Z$11,'1'!$H$12:$Z$12) -> 2027 | J13: =_xlfn.XLOOKUP(J11,'1'!$H$11:$Z$11,'1'!$H$12:$Z$12) -> 2028 | L13: =_xlfn.XLOOKUP(L11,'1'!$H$11:$Z$11,'1'!$H$12:$Z$12) -> 2029 | M13: =_xlfn.XLOOKUP(M11,'1'!$H$11:$Z$11,'1'!$H$12:$Z$12) -> 2030 | N13: =_xlfn.XLOOKUP(N11,'1'!$H$11:$Z$11,'1'!$H$12:$Z$12) -> 2031
C14: CSP North Asset Charge | E14: £m (nominal) | L14: =SUMIF('3'!$G$12:$AR$12,"2028-29",'3'!$G$18:$AR$18)+SUMIF('3'!$G$12:$AR$12,"2028-29",'3'!$G$23:$AR$23) -> 0 | M14: =SUMIF('3'!$G$12:$AR$12,"2029-30",'3'!$G$18:$AR$18)+SUMIF('3'!$G$12:$AR$12,"2029-30",'3'!$G$23:$AR$23) -> 0 | N14: =SUMIF('3'!$G$12:$AR$12,"2030-31",'3'!$G$18:$AR$18)+SUMIF('3'!$G$12:$AR$12,"2030-31",'3'!$G$23:$AR$23) -> 0
C15: CSP North Maintenance Charge | E15: £m (nominal) | L15: =SUMIF('3'!$G$12:$AR$12,"2028-29",'3'!$G$36:$AR$36) -> 0 | M15: =SUMIF('3'!$G$12:$AR$12,"2029-30",'3'!$G$36:$AR$36) -> 0 | N15: =SUMIF('3'!$G$12:$AR$12,"2030-31",'3'!$G$36:$AR$36) -> 0
C16: CSP C&S Asset Charge | E16: £m (nominal) | L16: =SUMIF('3'!$G$12:$AR$12,"2028-29",'3'!$G$30:$AR$30) -> 0 | M16: =SUMIF('3'!$G$12:$AR$12,"2029-30",'3'!$G$30:$AR$30) -> 0 | N16: =SUMIF('3'!$G$12:$AR$12,"2030-31",'3'!$G$30:$AR$30) -> 0
C17: CSP C&S Maintenance Charge | E17: £m (nominal) | L17: =SUMIF('3'!$G$12:$AR$12,"2028-29",'3'!$G$40:$AR$40) -> 0 | M17: =SUMIF('3'!$G$12:$AR$12,"2029-30",'3'!$G$40:$AR$40) -> 0 | N17: =SUMIF('3'!$G$12:$AR$12,"2030-31",'3'!$G$40:$AR$40) -> 0
C18: 4G Asset Charge | E18: £m (nominal) | L18: =SUMIF('3'!$G$12:$AR$12,"2028-29",'3'!$G$66:$AR$66) -> 0 | M18: =SUMIF('3'!$G$12:$AR$12,"2029-30",'3'!$G$66:$AR$66) -> 0 | N18: =SUMIF('3'!$G$12:$AR$12,"2030-31",'3'!$G$66:$AR$66) -> 0

Sheet 3
E3: DATA COMMUNICATIONS COMPANY – Regulatory Reporting
E5: 3. CH & Financing reporting
B7: PURPOSE: this worksheet is a summary of comms hub financing costs for business plan submissions, Ofgem defined allowances, actual costs, and performance under the price control.
C10: Year of licence term | G10: 3 | H10: 3 | I10: 3 | J10: 3 | K10: 3 | L10: 3 | M10: 3 | N10: 3 | O10: 3 | P10: 3 | Q10: 3 | R10: 3 | T10: 4 | U10: 4 | V10: 4 | W10: 4 | X10: 4 | Y10: 4 | Z10: 4 | AA10: 4 | AB10: 4 | AC10: 4 | AD10: 4 | AE10: 4 | AG10: 5 | AH10: 5 | AI10: 5 | AJ10: 5 | AK10: 5 | AL10: 5 | AM10: 5 | AN10: 5 | AO10: 5 | AP10: 5 | AQ10: 5 | AR10: 5
C12: Regulatory year | G12: 2028-29 | H12: 2028-29 | I12: 2028-29 | J12: 2028-29 | K12: 2028-29 | L12: 2028-29 | M12: 2028-29 | N12: 2028-29 | O12: 2028-29 | P12: 2028-29 | Q12: 2028-29 | R12: 2028-29 | T12: 2029-30 | U12: 2029-30 | V12: 2029-30 | W12: 2029-30 | X12: 2029-30 | Y12: 2029-30 | Z12: 2029-30 | AA12: 2029-30 | AB12: 2029-30 | AC12: 2029-30 | AD12: 2029-30 | AE12: 2029-30 | AG12: 2030-31 | AH12: 2030-31 | AI12: 2030-31 | AJ12: 2030-31 | AK12: 2030-31 | AL12: 2030-31 | AM12: 2030-31 | AN12: 2030-31 | AO12: 2030-31 | AP12: 2030-31 | AQ12: 2030-31 | AR12: 2030-31
C14: Start Date | G14: 46844 | H14: 46874 | I14: 46905 | J14: 46935 | K14: 46966 | L14: 46997 | M14: 47027 | N14: 47058 | O14: 47088 | P14: 47119 | Q14: 47150 | R14: 47178 | T14: 47209 | U14: 47239 | V14: 47270 | W14: 47300 | X14: 47331 | Y14: 47362 | Z14: 47392 | AA14: 47423 | AB14: 47453 | AC14: 47484 | AD14: 47515 | AE14: 47543 | AG14: 47574 | AH14: 47604 | AI14: 47635 | AJ14: 47665 | AK14: 47696 | AL14: 47727 | AM14: 47757 | AN14: 47788 | AO14: 47818 | AP14: 47849 | AQ14: 47880 | AR14: 47908
C15: End Date | G15: 46873 | H15: 46904 | I15: 46934 | J15: 46965 | K15: 46996 | L15: 47026 | M15: 47057 | N15: 47087 | O15: 47118 | P15: 47149 | Q15: 47177 | R15: 47208 | T15: 47238 | U15: 47269 | V15: 47299 | W15: 47330 | X15: 47361 | Y15: 47391 | Z15: 47422 | AA15: 47452 | AB15: 47483 | AC15: 47514 | AD15: 47542 | AE15: 47573 | AG15: 47603 | AH15: 47634 | AI15: 47664 | AJ15: 47695 | AK15: 47726 | AL15: 47756 | AM15: 47787 | AN15: 47817 | AO15: 47848 | AP15: 47879 | AQ15: 47907 | AR15: 47938
B17: 1 | C17: LRR Tranche 1 Financing
C18: Total CH Asset Cost (£m) | E18: £m (nominal) | G18: =SUM(G$19:G$20) -> 0 | H18: =SUM(H$19:H$20) -> 0 | I18: =SUM(I$19:I$20) -> 0 | J18: =SUM(J$19:J$20) -> 0 | K18: =SUM(K$19:K$20) -> 0 | L18: =SUM(L$19:L$20) -> 0 | M18: =SUM(M$19:M$20) -> 0 | N18: =SUM(N$19:N$20) -> 0 | ... R18: =SUM(R$19:R$20) -> 0 | T18: =SUM(T$19:T$20) -> 0 | U18: =SUM(U$19:U$20) -> 0 | V18: =SUM(V$19:V$20) -> 0 | W18: =SUM(W$19:W$20) -> 0 | X18: =SUM(X$19:X$20) -> 0 | Y18: =SUM(Y$19:Y$20) -> 0 | Z18: =SUM(Z$19:Z$20) -> 0 | AA18: =SUM(AA$19:AA$20) -> 0 | ... AE18: =SUM(AE$19:AE$20) -> 0 | AG18: =SUM(AG$19:AG$20) -> 0 | AH18: =SUM(AH$19:AH$20) -> 0 | AI18: =SUM(AI$19:AI$20) -> 0 | AJ18: =SUM(AJ$19:AJ$20) -> 0 | AK18: =SUM(AK$19:AK$20) -> 0 | AL18: =SUM(AL$19:AL$20) -> 0 | AM18: =SUM(AM$19:AM$20) -> 0 | AN18: =SUM(AN$19:AN$20) -> 0 | ... AR18: =SUM(AR$19:AR$20) -> 0
C19: Repayment | E19: £m (nominal)
C20: Interest | E20: £m (nominal)
B22: =B17+1 -> 2 | C22: LRR Tranche 2 Financing
C23: Total Asset Cost | E23: £m (nominal) | G23: =SUM(G$24:G$27) -> 0 | H23: =SUM(H$24:H$27) -> 0 | I23: =SUM(I$24:I$27) -> 0 | J23: =SUM(J$24:J$27) -> 0 | K23: =SUM(K$24:K$27) -> 0 | L23: =SUM(L$24:L$27) -> 0 | M23: =SUM(M$24:M$27) -> 0 | N23: =SUM(N$24:N$27) -> 0 | ... R23: =SUM(R$24:R$27) -> 0 | T23: =SUM(T$24:T$27) -> 0 | U23: =SUM(U$24:U$27) -> 0 | V23: =SUM(V$24:V$27) -> 0 | W23: =SUM(W$24:W$27) -> 0 | X23: =SUM(X$24:X$27) -> 0 | Y23: =SUM(Y$24:Y$27) -> 0 | Z23: =SUM(Z$24:Z$27) -> 0 | AA23: =SUM(AA$24:AA$27) -> 0 | ... AE23: =SUM(AE$24:AE$27) -> 0 | AG23: =SUM(AG$24:AG$27) -> 0 | AH23: =SUM(AH$24:AH$27) -> 0 | AI23: =SUM(AI$24:AI$27) -> 0 | AJ23: =SUM(AJ$24:AJ$27) -> 0 | AK23: =SUM(AK$24:AK$27) -> 0 | AL23: =SUM(AL$24:AL$27) -> 0 | AM23: =SUM(AM$24:AM$27) -> 0 | AN23: =SUM(AN$24:AN$27) -> 0 | ... AR23: =SUM(AR$24:AR$27) -> 0
C24: Repayment | E24: £m (nominal)
C25: Interest | E25: £m (nominal)
C26: Fees | E26: £m (nominal)
C27: Non-Financed CH Costs | E27: £m (nominal)
B29: =B22+1 -> 3 | C29: 2G/3G Technology Financing
C30: Total CH Asset Cost (£m) | E30: £m (nominal) | G30: =SUM(G$31:G$32) -> 0 | H30: =SUM(H$31:H$32) -> 0 | I30: =SUM(I$31:I$32) -> 0 | J30: =SUM(J$31:J$32) -> 0 | K30: =SUM(K$31:K$32) -> 0 | L30: =SUM(L$31:L$32) -> 0 | M30: =SUM(M$31:M$32) -> 0 | N30: =SUM(N$31:N$32) -> 0 | ... R30: =SUM(R$31:R$32) -> 0 | T30: =SUM(T$31:T$32) -> 0 | U30: =SUM(U$31:U$32) -> 0 | V30: =SUM(V$31:V$32) -> 0 | W30: =SUM(W$31:W$32) -> 0 | X30: =SUM(X$31:X$32) -> 0 | Y30: =SUM(Y$31:Y$32) -> 0 | Z30: =SUM(Z$31:Z$32) -> 0 | AA30: =SUM(AA$31:AA$32) -> 0 | ... AE30: =SUM(AE$31:AE$32) -> 0 | AG30: =SUM(AG$31:AG$32) -> 0 | AH30: =SUM(AH$31:AH$32) -> 0 | AI30: =SUM(AI$31:AI$32) -> 0 | AJ30: =SUM(AJ$31:AJ$32) -> 0 | AK30: =SUM(AK$31:AK$32) -> 0 | AL30: =SUM(AL$31:AL$32) -> 0 | AM30: =SUM(AM$31:AM$32) -> 0 | AN30: =SUM(AN$31:AN$32) -> 0 | ... AR30: =SUM(AR$31:AR$32) -> 0
C31: Repayment | E31: £m (nominal)
C32: Interest | E32: £m (nominal)
B34: =B29+1 -> 4 | C34: Maintenance Charges
C35: LRR
C36: Maintenance Cost | E36: £m (nominal) | G36: =G$37*G$38/1000000 -> 0 | H36: =H$37*H$38/1000000 -> 0 | I36: =I$37*I$38/1000000 -> 0 | J36: =J$37*J$38/1000000 -> 0 | K36: =K$37*K$38/1000000 -> 0 | L36: =L$37*L$38/1000000 -> 0 | M36: =M$37*M$38/1000000 -> 0 | N36: =N$37*N$38/1000000 -> 0 | ... R36: =R$37*R$38/1000000 -> 0 | T36: =T$37*T$38/1000000 -> 0 | U36: =U$37*U$38/1000000 -> 0 | V36: =V$37*V$38/1000000 -> 0 | W36: =W$37*W$38/1000000 -> 0 | X36: =X$37*X$38/1000000 -> 0 | Y36: =Y$37*Y$38/1000000 -> 0 | Z36: =Z$37*Z$38/1000000 -> 0 | AA36: =AA$37*AA$38/1000000 -> 0 | ... AE36: =AE$37*AE$38/1000000 -> 0 | AG36: =AG$37*AG$38/1000000 -> 0 | AH36: =AH$37*AH$38/1000000 -> 0 | AI36: =AI$37*AI$38/1000000 -> 0 | AJ36: =AJ$37*AJ$38/1000000 -> 0 | AK36: =AK$37*AK$38/1000000 -> 0 | AL36: =AL$37*AL$38/1000000 -> 0 | AM36: =AM$37*AM$38/1000000 -> 0 | AN36: =AN$37*AN$38/1000000 -> 0 | ... AR36: =AR$37*AR$38/1000000 -> 0
C37: Installed CHs | E37: CH
C38: Charge Rate | E38: £/CH/Month
C39: 2G/3G Technology
C40: Maintenance Cost | E40: £m (nominal) | G40: =G$41*G$42/1000000 -> 0 | H40: =H$41*H$42/1000000 -> 0 | I40: =I$41*I$42/1000000 -> 0 | J40: =J$41*J$42/1000000 -> 0 | K40: =K$41*K$42/1000000 -> 0 | L40: =L$41*L$42/1000000 -> 0 | M40: =M$41*M$42/1000000 -> 0 | N40: =N$41*N$42/1000000 -> 0 | ... R40: =R$41*R$42/1000000 -> 0 | T40: =T$41*T$42/1000000 -> 0 | U40: =U$41*U$42/1000000 -> 0 | V40: =V$41*V$42/1000000 -> 0 | W40: =W$41*W$42/1000000 -> 0 | X40: =X$41*X$42/1000000 -> 0 | Y40: =Y$41*Y$42/1000000 -> 0 | Z40: =Z$41*Z$42/1000000 -> 0 | AA40: =AA$41*AA$42/1000000 -> 0 | ... AE40: =AE$41*AE$42/1000000 -> 0 | AG40: =AG$41*AG$42/1000000 -> 0 | AH40: =AH$41*AH$42/1000000 -> 0 | AI40: =AI$41*AI$42/1000000 -> 0 | AJ40: =AJ$41*AJ$42/1000000 -> 0 | AK40: =AK$41*AK$42/1000000 -> 0 | AL40: =AL$41*AL$42/1000000 -> 0 | AM40: =AM$41*AM$42/1000000 -> 0 | AN40: =AN$41*AN$42/1000000 -> 0 | ... AR40: =AR$41*AR$42/1000000 -> 0
C41: Installed CHs | E41: CH
C42: Charge Rate | E42: £/CH/Month
B44: =B34+1 -> 5 | C44: 4G Volumes
C45: Cumulative CH Orders | E45: CH | H45: =H46+G45 -> 0 | I45: =I46+H45 -> 0 | J45: =J46+I45 -> 0 | K45: =K46+J45 -> 0 | L45: =L46+K45 -> 0 | M45: =M46+L45 -> 0 | N45: =N46+M45 -> 0 | O45: =O46+N45 -> 0 | ... R45: =R46+Q45 -> 0 | T45: =T46+S45 -> 0 | U45: =U46+T45 -> 0 | V45: =V46+U45 -> 0 | W45: =W46+V45 -> 0 | X45: =X46+W45 -> 0 | Y45: =Y46+X45 -> 0 | Z45: =Z46+Y45 -> 0 | AA45: =AA46+Z45 -> 0 | ... AE45: =AE46+AD45 -> 0 | AG45: =AG46+R45 -> 0 | AH45: =AH46+AG45 -> 0 | AI45: =AI46+AH45 -> 0 | AJ45: =AJ46+AI45 -> 0 | AK45: =AK46+AJ45 -> 0 | AL45: =AL46+AK45 -> 0 | AM45: =AM46+AL45 -> 0 | AN45: =AN46+AM45 -> 0 | AO45: =AO46+AN45 -> 0 | ... AR45: =AR46+AQ45 -> 0
C46: CH Orders | E46: CH
B48: =B44+1 -> 6 | C48: 4G Unit Price Build Up
C49: Modelled Unit Price | E49: £/CH | G49: =IFERROR(G50+(G51/G52),"-") -> - | H49: =IFERROR(H50+(H51/H52),"-") -> - | I49: =IFERROR(I50+(I51/I52),"-") -> - | J49: =IFERROR(J50+(J51/J52),"-") -> - | K49: =IFERROR(K50+(K51/K52),"-") -> - | L49: =IFERROR(L50+(L51/L52),"-") -> - | M49: =IFERROR(M50+(M51/M52),"-") -> - | N49: =IFERROR(N50+(N51/N52),"-") -> - | ... R49: =IFERROR(R50+(R51/R52),"-") -> - | T49: =IFERROR(T50+(T51/T52),"-") -> - | U49: =IFERROR(U50+(U51/U52),"-") -> - | V49: =IFERROR(V50+(V51/V52),"-") -> - | W49: =IFERROR(W50+(W51/W52),"-") -> - | X49: =IFERROR(X50+(X51/X52),"-") -> - | Y49: =IFERROR(Y50+(Y51/Y52),"-") -> - | Z49: =IFERROR(Z50+(Z51/Z52),"-") -> - | AA49: =IFERROR(AA50+(AA51/AA52),"-") -> - | ... AE49: =IFERROR(AE50+(AE51/AE52),"-") -> - | AG49: =IFERROR(AG50+(AG51/AG52),"-") -> - | AH49: =IFERROR(AH50+(AH51/AH52),"-") -> - | AI49: =IFERROR(AI50+(AI51/AI52),"-") -> - | AJ49: =IFERROR(AJ50+(AJ51/AJ52),"-") -> - | AK49: =IFERROR(AK50+(AK51/AK52),"-") -> - | AL49: =IFERROR(AL50+(AL51/AL52),"-") -> - | AM49: =IFERROR(AM50+(AM51/AM52),"-") -> - | AN49: =IFERROR(AN50+(AN51/AN52),"-") -> - | ... AR49: =IFERROR(AR50+(AR51/AR52),"-") -> -
C50: GBP Element | E50: £
C51: USD Element | E51: $
C52: FX Rate
C53: Indexation
C54: Indicative Unit Price | E54: £/CH
...

Sheet 4
D3: DATA COMMUNICATIONS COMPANY - Regulatory reporting
D5: 4. Comms Hub Volumes
B7: PURPOSE: this worksheet is for DCC to report its comms hub volumes for business plan submissions, Ofgem defined allowances, actual costs, and performance under the price control.
G9: Historical and Forecast Costs | L9: Business Plan Submission Forecast
C11: Year of licence term | G11: -2 | H11: -1 | I11: 1 | J11: 2 | L11: 3 | M11: 4 | N11: 5
C13: Regulatory year | G13: =_xlfn.XLOOKUP(G11,'1'!$H$11:$Z$11,'1'!$H$12:$Z$12) -> 2025 | H13: =_xlfn.XLOOKUP(H11,'1'!$H$11:$Z$11,'1'!$H$12:$Z$12) -> 2026 | I13: =_xlfn.XLOOKUP(I11,'1'!$H$11:$Z$11,'1'!$H$12:$Z$12) -> 2027 | J13: =_xlfn.XLOOKUP(J11,'1'!$H$11:$Z$11,'1'!$H$12:$Z$12) -> 2028 | L13: =_xlfn.XLOOKUP(L11,'1'!$H$11:$Z$11,'1'!$H$12:$Z$12) -> 2029 | M13: =_xlfn.XLOOKUP(M11,'1'!$H$11:$Z$11,'1'!$H$12:$Z$12) -> 2030 | N13: =_xlfn.XLOOKUP(N11,'1'!$H$11:$Z$11,'1'!$H$12:$Z$12) -> 2031
B15: 1. Comms hub volumes
C16: Comms Hub Volumes | E16: millions | G16: =SUM(G17:G20) -> 0 | H16: =SUM(H17:H20) -> 0 | I16: =SUM(I17:I20) -> 0 | J16: =SUM(J17:J20) -> 0 | L16: =SUM(L17:L20) -> 0 | M16: =SUM(M17:M20) -> 0 | N16: =SUM(N17:N20) -> 0
C17: SMETS1 | E17: millions
C18: SMETS2 - LRR | E18: millions
C19: SMETS2 - 2G/3G | E19: millions
C20: SMETS2 - 4G | E20: millions
C21: SMETS1 | E21: % | G21: =IFERROR(G17/G$16,0) -> 0 | H21: =IFERROR(H17/H$16,0) -> 0 | I21: =IFERROR(I17/I$16,0) -> 0 | J21: =IFERROR(J17/J$16,0) -> 0 | L21: =IFERROR(L17/L$16,0) -> 0 | M21: =IFERROR(M17/M$16,0) -> 0 | N21: =IFERROR(N17/N$16,0) -> 0
C22: SMETS2 - LRR | E22: % | G22: =IFERROR(G18/G$16,0) -> 0 | H22: =IFERROR(H18/H$16,0) -> 0 | I22: =IFERROR(I18/I$16,0) -> 0 | J22: =IFERROR(J18/J$16,0) -> 0 | L22: =IFERROR(L18/L$16,0) -> 0 | M22: =IFERROR(M18/M$16,0) -> 0 | N22: =IFERROR(N18/N$16,0) -> 0
C23: SMETS2 - 2G/3G | E23: % | G23: =IFERROR(G19/G$16,0) -> 0 | H23: =IFERROR(H19/H$16,0) -> 0 | I23: =IFERROR(I19/I$16,0) -> 0 | J23: =IFERROR(J19/J$16,0) -> 0 | L23: =IFERROR(L19/L$16,0) -> 0 | M23: =IFERROR(M19/M$16,0) -> 0 | N23: =IFERROR(N19/N$16,0) -> 0
C24: SMETS2 - 4G | E24: % | G24: =IFERROR(G20/G$16,0) -> 0 | H24: =IFERROR(H20/H$16,0) -> 0 | I24: =IFERROR(I20/I$16,0) -> 0 | J24: =IFERROR(J20/J$16,0) -> 0 | L24: =IFERROR(L20/L$16,0) -> 0 | M24: =IFERROR(M20/M$16,0) -> 0 | N24: =IFERROR(N20/N$16,0) -> 0
