{"text_format":"1","workbook":"xlsx","n_sheets":21,"sheets":["Cover","UserInterface","Input","Totex","TIM","Depn","SystemOperator","Return&RAV","TaxPools","Finance&Tax","NonCore","ReturnAdj","Revenue","AR","SOAR","LiveResults","SavedResults","Annual Inflation","Monthly Inflation","NGGT TO","NGGT SO"],"not_rendered":{"charts":0,"images":1,"macros":1,"external_links":0,"defined_names":112,"comments":0,"pivot_tables":0},"unopened":[],"bounds":{"document_bytes":16777216,"sheet_cells":100000,"rows_first":2000,"rows_last":500,"rows_between":2000,"halvings":0,"cell_chars":16384,"cell_head_chars":4096},"cells_cut":0,"cells_raw":0,"read":"whole","date_system":"1900"}

{"sheet":"Cover","index":0,"n_rows":46,"n_cols":11,"rows_kept":46,"cut":false,"hidden":false,"merged":[]}
[]
["RIIO-2 Price Control Financial Model (PCFM)"]
[null,"Gas Transmission"]
[null,null,"Model Version",null,null,null,{"$f":"MID(CELL(\"filename\"),SEARCH(\"[\",CELL(\"filename\"))+1,SEARCH(\"]\",CELL(\"filename\"))-SEARCH(\"[\",CELL(\"filename\"))-1)","v":"Full Model GT2 - C01.xlsm"}]
[]
[]
[null,"Model key"]
[]
[null,null,null,null,"Sample",null,"Calculated value",null,"Sample",null,"Information and interface"]
[null,null,null,null,"Sample",null,"Import",null,"Sample",null,"Fixed input value"]
[null,null,null,null,"Sample",null,"Export",null,"Sample",null,"Ofgem annual update input (outturn value)"]
[null,null,null,null,"Sample",null,"Named range",null,"Sample",null,"Ofgem annual update input (forecasted value)"]
[null,null,null,null,"Sample",null,"Formula change in cells to the right",null,"Sample",null,"Other annual update input (outturn value)"]
[null,null,null,null,null,null,null,null,"Sample",null,"Other annual update input (forecasted value)"]
[null,null,null,null,null,null,null,null,"Sample",null,"Input linked from annual update"]
[null,null,null,null,null,null,null,null,"Sample",null,"Notes and instructions"]
[null,null,null,null,null,null,null,null,"Sample",null,"Check"]
[]
[null,"Contents"]
[]
[null,null,null,null,"INTERFACE >",null,null,null,"GENERAL INPUT SHEETS >"]
[null,null,null,null,"Cover",null,"Model key and content directory",null,"Annual Inflation",null,"Derivation of annual inflation rates and price indices"]
[null,null,null,null,"UserInterface",null,"Model operation",null,"Monthly Inflation",null,"Dataset and derivation of monthly inflation rates and price indices"]
[]
[null,null,null,null,"INPUT SELECTION >",null,null,null,"COMPANY SPECIFIC INPUT SHEETS >"]
[null,null,null,null,"Input",null,"Inputs for selected licensee",null,"NGGT TO",null,"Inputs for NGGT TO"]
[null,null,null,null,null,null,null,null,"NGGT SO",null,"Inputs for NGGT SO"]
[null,null,null,null,"CALCULATION >"]
[null,null,null,null,"Totex",null,"Totex allowance and actuals"]
[null,null,null,null,"TIM",null,"Totex Incentive Mechanism and capitalisation"]
[null,null,null,null,"Depn",null,"Gas transmission regulatory depreciation"]
[null,null,null,null,"SystemOperator",null,"System operator calculations"]
[null,null,null,null,"Return&RAV",null,"RAV and return calculations"]
[null,null,null,null,"TaxPools",null,"Tax pools and capital allowances"]
[null,null,null,null,"Finance&Tax",null,"Net debt, equity issuance, financing costs and tax"]
[null,null,null,null,"NonCore",null,"Calculations for non-core regulatory assets (Revenue drivers)"]
[null,null,null,null,"ReturnAdj",null,"Calculations for the Return Adjustment"]
[null,null,null,null,"Revenue",null,"Summary of calculated revenue"]
[null,null,null,null,"AR",null,"Derivation of allowed revenue (TO)"]
[null,null,null,null,"SOAR",null,"Derivation of allowed revenue (SO)"]
[]
[null,null,null,null,"OUTPUT >"]
[null,null,null,null,"LiveResults",null,"Live results for NGGT TO and SO"]
[null,null,null,null,"SavedResults",null,"Saved results for NGGT TO and SO"]
[]
[null,"End of sheet"]

{"sheet":"UserInterface","index":1,"n_rows":47,"n_cols":7,"rows_kept":47,"cut":false,"hidden":false,"merged":[]}
["User Interface"]
[null,{"$f":"UserInterface!G17","v":"NGGT TO"}]
[null,"Model operation"]
[]
[null,null,"PCFM year t"]
[null,null,"Instruction: Use the following drop-down list to identify year t in the model. Year t is identified here by its end date."]
[]
[null,null,null,null,"Year t selection:"]
[]
[null,null,null,null,"Year t selected:",null,{"$f":"INDEX($G$37:$G$43,m_PCFM_year_t)","v":"2022-03-31"}]
[]
[null,null,"Active company"]
[null,null,"Instruction: Use the following drop-down list to select the active company in the model."]
[]
[null,null,null,null,"Company selection:"]
[]
[null,null,null,null,"Selected company:",null,{"$f":"INDEX(E37:E37, E38)","v":"NGGT TO"}]
[]
[null,null,"Run model for all licensees"]
[null,null,"Instruction: Click on the left button to save results for the selected company only. Click the right button to save results for all."]
[null,null,"Note: Annual iterations must have been completed for all prior years before running the model to generate MOD."]
[null,null,"The macros save results and values required for future years which cannot be recreated once inputs are revised."]
[null,null,"Running the macro saves the output from year t's iteration for use in future iterations."]
[null,null,"Results for the selected company can be found on the \"LiveResults\" sheet and also on the \"SavedResults\" sheet once saved by a macro."]
[]
[]
[]
[]
[]
[null,"User selection lists"]
[null,"Note: The lists below drive the drop-down lists above."]
[null,"Using the drop-down lists above returns an integer in the \"cell link\" positioned below their \"source list.\""]
[null,"The number returned in the cell link corresponds to the position of the selected item in the source list."]
[null,"The company selection output is set as a \"named range.\" This gives a stable anchor point for the \"RunForAll\" macro to change the company."]
[]
[null,null,null,null,{"$f":"\"Source for ''\"&C12&\"'' drop-down list\"","v":"Source for ''Active company'' drop-down list"},null,{"$f":"\"Source for ''\"&C5&\"'' drop-down list\"","v":"Source for ''PCFM year t'' drop-down list"}]
[null,null,null,null,"NGGT TO",null,"2022-03-31"]
[null,null,null,null,1,null,"2023-03-31"]
[null,null,null,null,"Adjacent named range: m_identity",null,"2024-03-31"]
[null,null,null,null,null,null,"2025-03-31"]
[null,null,null,null,null,null,"2026-03-31"]
[null,null,null,null,null,null,"2027-03-31"]
[null,null,null,null,null,null,"2028-03-31"]
[null,null,null,null,null,null,1]
[null,null,null,null,null,null,"Adjacent named range: m_PCFM_year_t"]
[]
[null,"End of sheet"]

{"sheet":"Input","index":2,"n_rows":587,"n_cols":58,"rows_kept":587,"cut":false,"hidden":false,"merged":[[2,54,3,54],[2,55,3,55],[2,56,3,56],[2,57,3,57]]}
["Input"]
[null,{"$f":"UserInterface!G17","v":"NGGT TO"}]
[null,null,null,null,"Parameter","Licence condition","Units","Term","Constant",null,null,null,null,null,null,null,null,null,null,null,null,null,null,null,null,null,null,null,null,null,null,null,null,null,null,null,null,null,null,null,null,"Annual values",null,null,null,null,null,null,null,null,null,null,null,null,"TIM/\nNon-TIM","RPE Incl. or Excl.","Baseline/UM","Capitalisation method: Fast/slow split or 100% fast money award"]
[null,null,null,null,"PCFM year ending",{"$f":"Cover!C4","v":"Model Version"},null,null,{"$f":"UserInterface!$G$10","v":"2022-03-31"},null,"1991-03-31","1992-03-31","1993-03-31","1994-03-31","1995-03-31","1996-03-31","1997-03-31","1998-03-31","1999-03-31","2000-03-31","2001-03-31","2002-03-31","2003-03-31","2004-03-31","2005-03-31","2006-03-31","2007-03-31","2008-03-31","2009-03-31","2010-03-31","2011-03-31","2012-03-31","2013-03-31","2014-03-31","2015-03-31","2016-03-31","2017-03-31","2018-03-31","2019-03-31","2020-03-31","2021-03-31","2022-03-31","2023-03-31","2024-03-31","2025-03-31","2026-03-31"]
[]
[null,"Totex allowance"]
[]
[null,null,"Non-variant allowances"]
[null,null,"Note: Disposals net sales proceeds are deducted from non-variant \"other capex\"."]
[]
[null,null,null,null,"Non-variant allowed load related capex expenditure",null,"£m 18/19 prices",null,null,null,null,null,null,null,null,null,null,null,null,null,null,null,null,null,null,null,null,null,null,null,null,null,null,null,null,null,null,null,null,null,null,{"$f":"'NGGT TO'!AP10","v":0.31650104352540254},{"$f":"'NGGT TO'!AQ10","v":1.2666284344636372},{"$f":"'NGGT TO'!AR10","v":0.70913873811068939},{"$f":"'NGGT TO'!AS10","v":0.31881086822521826},{"$f":"'NGGT TO'!AT10","v":0}]
[null,null,null,null,"Non-variant allowed asset replacement capex expenditure",null,"£m 18/19 prices",null,null,null,null,null,null,null,null,null,null,null,null,null,null,null,null,null,null,null,null,null,null,null,null,null,null,null,null,null,null,null,null,null,null,{"$f":"'NGGT TO'!AP11","v":13.639842929590206},{"$f":"'NGGT TO'!AQ11","v":5.3530614230958395},{"$f":"'NGGT TO'!AR11","v":16.124589966960787},{"$f":"'NGGT TO'!AS11","v":15.973671666856042},{"$f":"'NGGT TO'!AT11","v":11.034723555600564}]
[null,null,null,null,"Non-variant allowed other capex expenditure (net of disposals)",null,"£m 18/19 prices",null,null,null,null,null,null,null,null,null,null,null,null,null,null,null,null,null,null,null,null,null,null,null,null,null,null,null,null,null,null,null,null,null,null,{"$f":" - AP529 + 'NGGT TO'!AP12","v":0.62565859757358866},{"$f":" - AQ529 + 'NGGT TO'!AQ12","v":2.4778704625551304},{"$f":" - AR529 + 'NGGT TO'!AR12","v":2.9460348374212035},{"$f":" - AS529 + 'NGGT TO'!AS12","v":3.2048324047842756},{"$f":" - AT529 + 'NGGT TO'!AT12","v":1.9364556361922172}]
[null,null,null,null,"Non-variant allowed non-load (opex)",null,"£m 18/19 prices",null,null,null,null,null,null,null,null,null,null,null,null,null,null,null,null,null,null,null,null,null,null,null,null,null,null,null,null,null,null,null,null,null,null,{"$f":"'NGGT TO'!AP13","v":42.354845299374347},{"$f":"'NGGT TO'!AQ13","v":42.13955032361168},{"$f":"'NGGT TO'!AR13","v":41.968502501799506},{"$f":"'NGGT TO'!AS13","v":43.741056767300968},{"$f":"'NGGT TO'!AT13","v":40.241902762409978}]
[null,null,null,null,"Non-variant allowed indirects (opex)",null,"£m 18/19 prices",null,null,null,null,null,null,null,null,null,null,null,null,null,null,null,null,null,null,null,null,null,null,null,null,null,null,null,null,null,null,null,null,null,null,{"$f":"'NGGT TO'!AP14","v":62.623581490557754},{"$f":"'NGGT TO'!AQ14","v":63.775403447719562},{"$f":"'NGGT TO'!AR14","v":62.18446250532854},{"$f":"'NGGT TO'!AS14","v":54.076288937050322},{"$f":"'NGGT TO'!AT14","v":52.249696223562189}]
[null,null,null,null,"Non-variant allowed non-operational capex",null,"£m 18/19 prices",null,null,null,null,null,null,null,null,null,null,null,null,null,null,null,null,null,null,null,null,null,null,null,null,null,null,null,null,null,null,null,null,null,null,{"$f":"'NGGT TO'!AP15","v":26.098080323629379},{"$f":"'NGGT TO'!AQ15","v":24.561490913576101},{"$f":"'NGGT TO'!AR15","v":22.040793881754087},{"$f":"'NGGT TO'!AS15","v":19.980853548696892},{"$f":"'NGGT TO'!AT15","v":18.865248832350218}]
[null,null,null,null,"Total",null,"£m 18/19 prices",null,null,null,null,null,null,null,null,null,null,null,null,null,null,null,null,null,null,null,null,null,null,null,null,null,null,null,null,null,null,null,null,null,null,{"$f":"SUM(AP11:AP16)","v":145.65850968425067},{"$f":"SUM(AQ11:AQ16)","v":139.57400500502195},{"$f":"SUM(AR11:AR16)","v":145.97352243137482},{"$f":"SUM(AS11:AS16)","v":137.29551419291371},{"$f":"SUM(AT11:AT16)","v":124.32802701011518}]
[]
[null,null,"Variant allowances (including Real Price Effects)"]
[null,null,"Note: In the table below RPEs are aggregated in three groups: RPE non-variant allowances, PCDs and UMs. This allows to apply the correct capitalisation rate to each group."]
[]
[null,null,null,null,{"$f":"'NGGT TO'!E20","v":"Baseline Allowed NARM Expenditure"},null,"£m 18/19 prices",{"$f":"'NGGT TO'!H20","v":"NARMt"},{"$f":"'NGGT TO'!I20","v":"PCD"},null,null,null,null,null,null,null,null,null,null,null,null,null,null,null,null,null,null,null,null,null,null,null,null,null,null,null,null,null,null,null,null,{"$f":"'NGGT TO'!AP20","v":70.556934412542631},{"$f":"'NGGT TO'!AQ20","v":93.600010951421822},{"$f":"'NGGT TO'!AR20","v":79.776008397428896},{"$f":"'NGGT TO'!AS20","v":49.846759348011666},{"$f":"'NGGT TO'!AT20","v":60.647809617431683},null,null,null,null,null,null,null,null,{"$f":"'NGGT TO'!BC20","v":"TIM"},{"$f":"'NGGT TO'!BD20","v":"RPEs Apply"},{"$f":"'NGGT TO'!BE20","v":"CapRate 1 (Baseline)"},{"$f":"'NGGT TO'!BF20","v":"Fast/Slow Split"}]
[null,null,null,null,{"$f":"'NGGT TO'!E21","v":"Physical security Price Control Deliverable"},null,"£m 18/19 prices",{"$f":"'NGGT TO'!H21","v":"PSUPt"},{"$f":"'NGGT TO'!I21","v":"PCD"},null,null,null,null,null,null,null,null,null,null,null,null,null,null,null,null,null,null,null,null,null,null,null,null,null,null,null,null,null,null,null,null,{"$f":"'NGGT TO'!AP21","v":9.5980010803474709},{"$f":"'NGGT TO'!AQ21","v":14.901237294179282},{"$f":"'NGGT TO'!AR21","v":1.0257589332958597},{"$f":"'NGGT TO'!AS21","v":0},{"$f":"'NGGT TO'!AT21","v":0},null,null,null,null,null,null,null,null,{"$f":"'NGGT TO'!BC21","v":"TIM"},{"$f":"'NGGT TO'!BD21","v":"RPEs Apply"},{"$f":"'NGGT TO'!BE21","v":"CapRate 1 (Baseline)"},{"$f":"'NGGT TO'!BF21","v":"Fast/Slow Split"}]
[null,null,null,null,{"$f":"'NGGT TO'!E22","v":"Bacton terminal site redevelopment Price Control Deliverable"},null,"£m 18/19 prices",{"$f":"'NGGT TO'!H22","v":"BTRt"},{"$f":"'NGGT TO'!I22","v":"PCD"},null,null,null,null,null,null,null,null,null,null,null,null,null,null,null,null,null,null,null,null,null,null,null,null,null,null,null,null,null,null,null,null,{"$f":"'NGGT TO'!AP22","v":7.1260238418300279},{"$f":"'NGGT TO'!AQ22","v":3.373682904271154},{"$f":"'NGGT TO'!AR22","v":0},{"$f":"'NGGT TO'!AS22","v":0},{"$f":"'NGGT TO'!AT22","v":0},null,null,null,null,null,null,null,null,{"$f":"'NGGT TO'!BC22","v":"TIM"},{"$f":"'NGGT TO'!BD22","v":"RPEs Apply"},{"$f":"'NGGT TO'!BE22","v":"CapRate 1 (Baseline)"},{"$f":"'NGGT TO'!BF22","v":"Fast/Slow Split"}]
[null,null,null,null,{"$f":"'NGGT TO'!E23","v":"King's Lynn subsidence Price Control Deliverable"},null,"£m 18/19 prices",{"$f":"'NGGT TO'!H23","v":"KLSt"},{"$f":"'NGGT TO'!I23","v":"PCD"},null,null,null,null,null,null,null,null,null,null,null,null,null,null,null,null,null,null,null,null,null,null,null,null,null,null,null,null,null,null,null,null,{"$f":"'NGGT TO'!AP23","v":1.1608360565476097},{"$f":"'NGGT TO'!AQ23","v":0},{"$f":"'NGGT TO'!AR23","v":0},{"$f":"'NGGT TO'!AS23","v":0},{"$f":"'NGGT TO'!AT23","v":0},null,null,null,null,null,null,null,null,{"$f":"'NGGT TO'!BC23","v":"TIM"},{"$f":"'NGGT TO'!BD23","v":"RPEs Apply"},{"$f":"'NGGT TO'!BE23","v":"CapRate 1 (Baseline)"},{"$f":"'NGGT TO'!BF23","v":"Fast/Slow Split"}]
[null,null,null,null,{"$f":"'NGGT TO'!E24","v":"Asset health - non lead assets Price Control Deliverable"},null,"£m 18/19 prices",{"$f":"'NGGT TO'!H24","v":"NLAt"},{"$f":"'NGGT TO'!I24","v":"PCD"},null,null,null,null,null,null,null,null,null,null,null,null,null,null,null,null,null,null,null,null,null,null,null,null,null,null,null,null,null,null,null,null,{"$f":"'NGGT TO'!AP24","v":7.4572879522201427},{"$f":"'NGGT TO'!AQ24","v":9.8607254755791303},{"$f":"'NGGT TO'!AR24","v":11.920313506946851},{"$f":"'NGGT TO'!AS24","v":7.7169522615819179},{"$f":"'NGGT TO'!AT24","v":9.4350243388455457},null,null,null,null,null,null,null,null,{"$f":"'NGGT TO'!BC24","v":"TIM"},{"$f":"'NGGT TO'!BD24","v":"RPEs Apply"},{"$f":"'NGGT TO'!BE24","v":"CapRate 1 (Baseline)"},{"$f":"'NGGT TO'!BF24","v":"Fast/Slow Split"}]
[null,null,null,null,{"$f":"'NGGT TO'!E25","v":"Compressor emissions Price Control Deliverable"},null,"£m 18/19 prices",{"$f":"'NGGT TO'!H25","v":"CEPt"},{"$f":"'NGGT TO'!I25","v":"PCD"},null,null,null,null,null,null,null,null,null,null,null,null,null,null,null,null,null,null,null,null,null,null,null,null,null,null,null,null,null,null,null,null,{"$f":"'NGGT TO'!AP25","v":8.3822001755056519},{"$f":"'NGGT TO'!AQ25","v":34.512774359354644},{"$f":"'NGGT TO'!AR25","v":59.500470100496784},{"$f":"'NGGT TO'!AS25","v":20.474768891513815},{"$f":"'NGGT TO'!AT25","v":1.006283648583417},null,null,null,null,null,null,null,null,{"$f":"'NGGT TO'!BC25","v":"TIM"},{"$f":"'NGGT TO'!BD25","v":"RPEs Apply"},{"$f":"'NGGT TO'!BE25","v":"CapRate 1 (Baseline)"},{"$f":"'NGGT TO'!BF25","v":"Fast/Slow Split"}]
[null,null,null,null,{"$f":"'NGGT TO'!E26","v":"Redundant Assets Price Control Deliverable"},null,"£m 18/19 prices",{"$f":"'NGGT TO'!H26","v":"RAt"},{"$f":"'NGGT TO'!I26","v":"PCD"},null,null,null,null,null,null,null,null,null,null,null,null,null,null,null,null,null,null,null,null,null,null,null,null,null,null,null,null,null,null,null,null,{"$f":"'NGGT TO'!AP26","v":3.5809826021106526},{"$f":"'NGGT TO'!AQ26","v":22.378095325061317},{"$f":"'NGGT TO'!AR26","v":21.286803132998141},{"$f":"'NGGT TO'!AS26","v":13.135867253351169},{"$f":"'NGGT TO'!AT26","v":17.134269515484011},null,null,null,null,null,null,null,null,{"$f":"'NGGT TO'!BC26","v":"TIM"},{"$f":"'NGGT TO'!BD26","v":"RPEs Apply"},{"$f":"'NGGT TO'!BE26","v":"CapRate 1 (Baseline)"},{"$f":"'NGGT TO'!BF26","v":"Fast/Slow Split"}]
[null,null,null,null,{"$f":"'NGGT TO'!E27","v":"Funded incremental obligated capacity Price Control Deliverable"},null,"£m 18/19 prices",{"$f":"'NGGT TO'!H27","v":"FIOCt"},{"$f":"'NGGT TO'!I27","v":"PCD"},null,null,null,null,null,null,null,null,null,null,null,null,null,null,null,null,null,null,null,null,null,null,null,null,null,null,null,null,null,null,null,null,{"$f":"'NGGT TO'!AP27","v":0},{"$f":"'NGGT TO'!AQ27","v":0},{"$f":"'NGGT TO'!AR27","v":0},{"$f":"'NGGT TO'!AS27","v":0},{"$f":"'NGGT TO'!AT27","v":0},null,null,null,null,null,null,null,null,{"$f":"'NGGT TO'!BC27","v":"TIM"},{"$f":"'NGGT TO'!BD27","v":"RPEs Apply"},{"$f":"'NGGT TO'!BE27","v":"CapRate 1 (Baseline)"},{"$f":"'NGGT TO'!BF27","v":"Fast/Slow Split"}]
[null,null,null,null,{"$f":"'NGGT TO'!E28","v":"Cyber Resilience OT Price Control Deliverable and use it or lose it allowance"},null,"£m 18/19 prices",{"$f":"'NGGT TO'!H28","v":"CROTt"},{"$f":"'NGGT TO'!I28","v":"PCD"},null,null,null,null,null,null,null,null,null,null,null,null,null,null,null,null,null,null,null,null,null,null,null,null,null,null,null,null,null,null,null,null,{"$f":"'NGGT TO'!AP28","v":41.296175834066005},{"$f":"'NGGT TO'!AQ28","v":88.130230209126793},{"$f":"'NGGT TO'!AR28","v":92.76179849029505},{"$f":"'NGGT TO'!AS28","v":0},{"$f":"'NGGT TO'!AT28","v":0},null,null,null,null,null,null,null,null,{"$f":"'NGGT TO'!BC28","v":"Non-Tim"},{"$f":"'NGGT TO'!BD28","v":"RPEs Don’t Apply"},{"$f":"'NGGT TO'!BE28","v":"CapRate 1 (Baseline)"},{"$f":"'NGGT TO'!BF28","v":"Fast/Slow Split"}]
[null,null,null,null,{"$f":"'NGGT TO'!E29","v":"Cyber Resilience IT Price Control Deliverable"},null,"£m 18/19 prices",{"$f":"'NGGT TO'!H29","v":"CRITt"},{"$f":"'NGGT TO'!I29","v":"PCD"},null,null,null,null,null,null,null,null,null,null,null,null,null,null,null,null,null,null,null,null,null,null,null,null,null,null,null,null,null,null,null,null,{"$f":"'NGGT TO'!AP29","v":4.4619255058621405},{"$f":"'NGGT TO'!AQ29","v":4.0336790035632992},{"$f":"'NGGT TO'!AR29","v":3.5696218516262466},{"$f":"'NGGT TO'!AS29","v":0},{"$f":"'NGGT TO'!AT29","v":0},null,null,null,null,null,null,null,null,{"$f":"'NGGT TO'!BC29","v":"TIM"},{"$f":"'NGGT TO'!BD29","v":"RPEs Apply"},{"$f":"'NGGT TO'!BE29","v":"CapRate 1 (Baseline)"},{"$f":"'NGGT TO'!BF29","v":"Fast/Slow Split"}]
[null,null,null,null,{"$f":"'NGGT TO'!E30","v":"Net Zero And Re-opener Development Fund use it or lose it allowance"},null,"£m 18/19 prices",{"$f":"'NGGT TO'!H30","v":"RDFt"},{"$f":"'NGGT TO'!I30","v":"PCD"},null,null,null,null,null,null,null,null,null,null,null,null,null,null,null,null,null,null,null,null,null,null,null,null,null,null,null,null,null,null,null,null,{"$f":"'NGGT TO'!AP30","v":1.6600000000000001},{"$f":"'NGGT TO'!AQ30","v":1.6600000000000001},{"$f":"'NGGT TO'!AR30","v":1.6600000000000001},{"$f":"'NGGT TO'!AS30","v":1.6600000000000001},{"$f":"'NGGT TO'!AT30","v":1.6600000000000001},null,null,null,null,null,null,null,null,{"$f":"'NGGT TO'!BC30","v":"Non-Tim"},{"$f":"'NGGT TO'!BD30","v":"RPEs Don’t Apply"},{"$f":"'NGGT TO'!BE30","v":"CapRate 1 (Baseline)"},{"$f":"'NGGT TO'!BF30","v":"Fast/Slow Split"}]
[null,null,null,null,{"$f":"'NGGT TO'!E31","v":"Spare PCD 1"},null,"£m 18/19 prices",{"$f":"'NGGT TO'!H31","v":0},{"$f":"'NGGT TO'!I31","v":"PCD"},null,null,null,null,null,null,null,null,null,null,null,null,null,null,null,null,null,null,null,null,null,null,null,null,null,null,null,null,null,null,null,null,{"$f":"'NGGT TO'!AP31","v":0},{"$f":"'NGGT TO'!AQ31","v":0},{"$f":"'NGGT TO'!AR31","v":0},{"$f":"'NGGT TO'!AS31","v":0},{"$f":"'NGGT TO'!AT31","v":0},null,null,null,null,null,null,null,null,{"$f":"'NGGT TO'!BC31","v":"TIM"},{"$f":"'NGGT TO'!BD31","v":"RPEs Apply"},{"$f":"'NGGT TO'!BE31","v":"CapRate 1 (Baseline)"},{"$f":"'NGGT TO'!BF31","v":"Fast/Slow Split"}]
[null,null,null,null,{"$f":"'NGGT TO'!E32","v":"Spare PCD 2"},null,"£m 18/19 prices",{"$f":"'NGGT TO'!H32","v":0},{"$f":"'NGGT TO'!I32","v":"PCD"},null,null,null,null,null,null,null,null,null,null,null,null,null,null,null,null,null,null,null,null,null,null,null,null,null,null,null,null,null,null,null,null,{"$f":"'NGGT TO'!AP32","v":0},{"$f":"'NGGT TO'!AQ32","v":0},{"$f":"'NGGT TO'!AR32","v":0},{"$f":"'NGGT TO'!AS32","v":0},{"$f":"'NGGT TO'!AT32","v":0},null,null,null,null,null,null,null,null,{"$f":"'NGGT TO'!BC32","v":0},{"$f":"'NGGT TO'!BD32","v":0},{"$f":"'NGGT TO'!BE32","v":0},{"$f":"'NGGT TO'!BF32","v":0}]
[null,null,null,null,{"$f":"'NGGT TO'!E33","v":"Spare PCD 3"},null,"£m 18/19 prices",{"$f":"'NGGT TO'!H33","v":0},{"$f":"'NGGT TO'!I33","v":"PCD"},null,null,null,null,null,null,null,null,null,null,null,null,null,null,null,null,null,null,null,null,null,null,null,null,null,null,null,null,null,null,null,null,{"$f":"'NGGT TO'!AP33","v":0},{"$f":"'NGGT TO'!AQ33","v":0},{"$f":"'NGGT TO'!AR33","v":0},{"$f":"'NGGT TO'!AS33","v":0},{"$f":"'NGGT TO'!AT33","v":0},null,null,null,null,null,null,null,null,{"$f":"'NGGT TO'!BC33","v":0},{"$f":"'NGGT TO'!BD33","v":0},{"$f":"'NGGT TO'!BE33","v":0},{"$f":"'NGGT TO'!BF33","v":0}]
[null,null,null,null,{"$f":"'NGGT TO'!E34","v":"NARM Asset Health Re-opener"},null,"£m 18/19 prices",{"$f":"'NGGT TO'!H34","v":"NARMAHt"},{"$f":"'NGGT TO'!I34","v":"UM"},null,null,null,null,null,null,null,null,null,null,null,null,null,null,null,null,null,null,null,null,null,null,null,null,null,null,null,null,null,null,null,null,{"$f":"'NGGT TO'!AP34","v":0},{"$f":"'NGGT TO'!AQ34","v":0},{"$f":"'NGGT TO'!AR34","v":0},{"$f":"'NGGT TO'!AS34","v":0},{"$f":"'NGGT TO'!AT34","v":0},null,null,null,null,null,null,null,null,{"$f":"'NGGT TO'!BC34","v":"TIM"},{"$f":"'NGGT TO'!BD34","v":"RPEs Don’t Apply"},{"$f":"'NGGT TO'!BE34","v":"CapRate 2 (UM)"},{"$f":"'NGGT TO'!BF34","v":"Fast/Slow Split"}]
[null,null,null,null,{"$f":"'NGGT TO'!E35","v":"Non-operational IT Capex Re-opener"},null,"£m 18/19 prices",{"$f":"'NGGT TO'!H35","v":"NOITt"},{"$f":"'NGGT TO'!I35","v":"UM"},null,null,null,null,null,null,null,null,null,null,null,null,null,null,null,null,null,null,null,null,null,null,null,null,null,null,null,null,null,null,null,null,{"$f":"'NGGT TO'!AP35","v":0},{"$f":"'NGGT TO'!AQ35","v":0},{"$f":"'NGGT TO'!AR35","v":0},{"$f":"'NGGT TO'!AS35","v":0},{"$f":"'NGGT TO'!AT35","v":0},null,null,null,null,null,null,null,null,{"$f":"'NGGT TO'!BC35","v":"TIM"},{"$f":"'NGGT TO'!BD35","v":"RPEs Don’t Apply"},{"$f":"'NGGT TO'!BE35","v":"CapRate 2 (UM)"},{"$f":"'NGGT TO'!BF35","v":"Fast/Slow Split"}]
[null,null,null,null,{"$f":"'NGGT TO'!E36","v":"Coordinated adjustment mechanism Re-opener"},null,"£m 18/19 prices",{"$f":"'NGGT TO'!H36","v":"CAMt"},{"$f":"'NGGT TO'!I36","v":"UM"},null,null,null,null,null,null,null,null,null,null,null,null,null,null,null,null,null,null,null,null,null,null,null,null,null,null,null,null,null,null,null,null,{"$f":"'NGGT TO'!AP36","v":0},{"$f":"'NGGT TO'!AQ36","v":0},{"$f":"'NGGT TO'!AR36","v":0},{"$f":"'NGGT TO'!AS36","v":0},{"$f":"'NGGT TO'!AT36","v":0},null,null,null,null,null,null,null,null,{"$f":"'NGGT TO'!BC36","v":"TIM"},{"$f":"'NGGT TO'!BD36","v":"RPEs Don’t Apply"},{"$f":"'NGGT TO'!BE36","v":"CapRate 2 (UM)"},{"$f":"'NGGT TO'!BF36","v":"Fast/Slow Split"}]
[null,null,null,null,{"$f":"'NGGT TO'!E37","v":"Net zero Re-opener"},null,"£m 18/19 prices",{"$f":"'NGGT TO'!H37","v":"NZt"},{"$f":"'NGGT TO'!I37","v":"UM"},null,null,null,null,null,null,null,null,null,null,null,null,null,null,null,null,null,null,null,null,null,null,null,null,null,null,null,null,null,null,null,null,{"$f":"'NGGT TO'!AP37","v":0},{"$f":"'NGGT TO'!AQ37","v":0},{"$f":"'NGGT TO'!AR37","v":0},{"$f":"'NGGT TO'!AS37","v":0},{"$f":"'NGGT TO'!AT37","v":0},null,null,null,null,null,null,null,null,{"$f":"'NGGT TO'!BC37","v":"TIM"},{"$f":"'NGGT TO'!BD37","v":"RPEs Don’t Apply"},{"$f":"'NGGT TO'!BE37","v":"CapRate 2 (UM)"},{"$f":"'NGGT TO'!BF37","v":"Fast/Slow Split"}]
[null,null,null,null,{"$f":"'NGGT TO'!E38","v":"Asset health Re-opener"},null,"£m 18/19 prices",{"$f":"'NGGT TO'!H38","v":"AHt"},{"$f":"'NGGT TO'!I38","v":"UM"},null,null,null,null,null,null,null,null,null,null,null,null,null,null,null,null,null,null,null,null,null,null,null,null,null,null,null,null,null,null,null,null,{"$f":"'NGGT TO'!AP38","v":0},{"$f":"'NGGT TO'!AQ38","v":0},{"$f":"'NGGT TO'!AR38","v":0},{"$f":"'NGGT TO'!AS38","v":0},{"$f":"'NGGT TO'!AT38","v":0},null,null,null,null,null,null,null,null,{"$f":"'NGGT TO'!BC38","v":"TIM"},{"$f":"'NGGT TO'!BD38","v":"RPEs Don’t Apply"},{"$f":"'NGGT TO'!BE38","v":"CapRate 2 (UM)"},{"$f":"'NGGT TO'!BF38","v":"Fast/Slow Split"}]
[null,null,null,null,{"$f":"'NGGT TO'!E39","v":"Asset health – non lead assets Re-opener"},null,"£m 18/19 prices",{"$f":"'NGGT TO'!H39","v":"NLAAHt"},{"$f":"'NGGT TO'!I39","v":"UM"},null,null,null,null,null,null,null,null,null,null,null,null,null,null,null,null,null,null,null,null,null,null,null,null,null,null,null,null,null,null,null,null,{"$f":"'NGGT TO'!AP39","v":0},{"$f":"'NGGT TO'!AQ39","v":0},{"$f":"'NGGT TO'!AR39","v":0},{"$f":"'NGGT TO'!AS39","v":0},{"$f":"'NGGT TO'!AT39","v":0},null,null,null,null,null,null,null,null,{"$f":"'NGGT TO'!BC39","v":"TIM"},{"$f":"'NGGT TO'!BD39","v":"RPEs Don’t Apply"},{"$f":"'NGGT TO'!BE39","v":"CapRate 2 (UM)"},{"$f":"'NGGT TO'!BF39","v":"Fast/Slow Split"}]
[null,null,null,null,{"$f":"'NGGT TO'!E40","v":"Uncertain Costs Re-opener"},null,"£m 18/19 prices",{"$f":"'NGGT TO'!H40","v":"QLt and PDt"},{"$f":"'NGGT TO'!I40","v":"UM"},null,null,null,null,null,null,null,null,null,null,null,null,null,null,null,null,null,null,null,null,null,null,null,null,null,null,null,null,null,null,null,null,{"$f":"'NGGT TO'!AP40","v":0},{"$f":"'NGGT TO'!AQ40","v":0},{"$f":"'NGGT TO'!AR40","v":0},{"$f":"'NGGT TO'!AS40","v":0},{"$f":"'NGGT TO'!AT40","v":0},null,null,null,null,null,null,null,null,{"$f":"'NGGT TO'!BC40","v":"TIM"},{"$f":"'NGGT TO'!BD40","v":"RPEs Don’t Apply"},{"$f":"'NGGT TO'!BE40","v":"CapRate 2 (UM)"},{"$f":"'NGGT TO'!BF40","v":"Fast/Slow Split"}]
[null,null,null,null,{"$f":"'NGGT TO'!E41","v":"Net Zero Pre-construction Work and Small Net Zero Projects Re-opener"},null,"£m 18/19 prices",{"$f":"'NGGT TO'!H41","v":"NZPt"},{"$f":"'NGGT TO'!I41","v":"UM"},null,null,null,null,null,null,null,null,null,null,null,null,null,null,null,null,null,null,null,null,null,null,null,null,null,null,null,null,null,null,null,null,{"$f":"'NGGT TO'!AP41","v":0},{"$f":"'NGGT TO'!AQ41","v":0},{"$f":"'NGGT TO'!AR41","v":0},{"$f":"'NGGT TO'!AS41","v":0},{"$f":"'NGGT TO'!AT41","v":0},null,null,null,null,null,null,null,null,{"$f":"'NGGT TO'!BC41","v":"TIM"},{"$f":"'NGGT TO'!BD41","v":"RPEs Don’t Apply"},{"$f":"'NGGT TO'!BE41","v":"CapRate 2 (UM)"},{"$f":"'NGGT TO'!BF41","v":"Fast/Slow Split"}]
[null,null,null,null,{"$f":"'NGGT TO'!E42","v":"Bacton terminal site redevelopment Re-Opener"},null,"£m 18/19 prices",{"$f":"'NGGT TO'!H42","v":"BTREt"},{"$f":"'NGGT TO'!I42","v":"UM"},null,null,null,null,null,null,null,null,null,null,null,null,null,null,null,null,null,null,null,null,null,null,null,null,null,null,null,null,null,null,null,null,{"$f":"'NGGT TO'!AP42","v":0},{"$f":"'NGGT TO'!AQ42","v":0},{"$f":"'NGGT TO'!AR42","v":0},{"$f":"'NGGT TO'!AS42","v":0},{"$f":"'NGGT TO'!AT42","v":0},null,null,null,null,null,null,null,null,{"$f":"'NGGT TO'!BC42","v":"TIM"},{"$f":"'NGGT TO'!BD42","v":"RPEs Don’t Apply"},{"$f":"'NGGT TO'!BE42","v":"CapRate 2 (UM)"},{"$f":"'NGGT TO'!BF42","v":"Fast/Slow Split"}]
[null,null,null,null,{"$f":"'NGGT TO'!E43","v":"Physical Security Re-Opener"},null,"£m 18/19 prices",{"$f":"'NGGT TO'!H43","v":"PSUPREt"},{"$f":"'NGGT TO'!I43","v":"UM"},null,null,null,null,null,null,null,null,null,null,null,null,null,null,null,null,null,null,null,null,null,null,null,null,null,null,null,null,null,null,null,null,{"$f":"'NGGT TO'!AP43","v":0},{"$f":"'NGGT TO'!AQ43","v":0},{"$f":"'NGGT TO'!AR43","v":0},{"$f":"'NGGT TO'!AS43","v":0},{"$f":"'NGGT TO'!AT43","v":0},null,null,null,null,null,null,null,null,{"$f":"'NGGT TO'!BC43","v":"TIM"},{"$f":"'NGGT TO'!BD43","v":"RPEs Don’t Apply"},{"$f":"'NGGT TO'!BE43","v":"CapRate 2 (UM)"},{"$f":"'NGGT TO'!BF43","v":"Fast/Slow Split"}]
[null,null,null,null,{"$f":"'NGGT TO'!E44","v":"Compressor emissions Re-Opener"},null,"£m 18/19 prices",{"$f":"'NGGT TO'!H44","v":"CEPREt"},{"$f":"'NGGT TO'!I44","v":"UM"},null,null,null,null,null,null,null,null,null,null,null,null,null,null,null,null,null,null,null,null,null,null,null,null,null,null,null,null,null,null,null,null,{"$f":"'NGGT TO'!AP44","v":0},{"$f":"'NGGT TO'!AQ44","v":0},{"$f":"'NGGT TO'!AR44","v":0},{"$f":"'NGGT TO'!AS44","v":0},{"$f":"'NGGT TO'!AT44","v":0},null,null,null,null,null,null,null,null,{"$f":"'NGGT TO'!BC44","v":"TIM"},{"$f":"'NGGT TO'!BD44","v":"RPEs Don’t Apply"},{"$f":"'NGGT TO'!BE44","v":"CapRate 2 (UM)"},{"$f":"'NGGT TO'!BF44","v":"Fast/Slow Split"}]
[null,null,null,null,{"$f":"'NGGT TO'!E45","v":"Cyber Resilience OT Re-Opener"},null,"£m 18/19 prices",{"$f":"'NGGT TO'!H45","v":"CROTREt"},{"$f":"'NGGT TO'!I45","v":"UM"},null,null,null,null,null,null,null,null,null,null,null,null,null,null,null,null,null,null,null,null,null,null,null,null,null,null,null,null,null,null,null,null,{"$f":"'NGGT TO'!AP45","v":0},{"$f":"'NGGT TO'!AQ45","v":0},{"$f":"'NGGT TO'!AR45","v":0},{"$f":"'NGGT TO'!AS45","v":0},{"$f":"'NGGT TO'!AT45","v":0},null,null,null,null,null,null,null,null,{"$f":"'NGGT TO'!BC45","v":"Non-Tim"},{"$f":"'NGGT TO'!BD45","v":"RPEs Don’t Apply"},{"$f":"'NGGT TO'!BE45","v":"CapRate 2 (UM)"},{"$f":"'NGGT TO'!BF45","v":"Fast/Slow Split"}]
[null,null,null,null,{"$f":"'NGGT TO'!E46","v":"Cyber Resilience IT Re-Opener"},null,"£m 18/19 prices",{"$f":"'NGGT TO'!H46","v":"CRITREt"},{"$f":"'NGGT TO'!I46","v":"UM"},null,null,null,null,null,null,null,null,null,null,null,null,null,null,null,null,null,null,null,null,null,null,null,null,null,null,null,null,null,null,null,null,{"$f":"'NGGT TO'!AP46","v":0},{"$f":"'NGGT TO'!AQ46","v":0},{"$f":"'NGGT TO'!AR46","v":0},{"$f":"'NGGT TO'!AS46","v":0},{"$f":"'NGGT TO'!AT46","v":0},null,null,null,null,null,null,null,null,{"$f":"'NGGT TO'!BC46","v":"TIM"},{"$f":"'NGGT TO'!BD46","v":"RPEs Don’t Apply"},{"$f":"'NGGT TO'!BE46","v":"CapRate 2 (UM)"},{"$f":"'NGGT TO'!BF46","v":"Fast/Slow Split"}]
[null,null,null,null,{"$f":"'NGGT TO'!E47","v":"King's Lynn subsidence Re-Opener"},null,"£m 18/19 prices",{"$f":"'NGGT TO'!H47","v":"KLSREt"},{"$f":"'NGGT TO'!I47","v":"UM"},null,null,null,null,null,null,null,null,null,null,null,null,null,null,null,null,null,null,null,null,null,null,null,null,null,null,null,null,null,null,null,null,{"$f":"'NGGT TO'!AP47","v":0},{"$f":"'NGGT TO'!AQ47","v":0},{"$f":"'NGGT TO'!AR47","v":0},{"$f":"'NGGT TO'!AS47","v":0},{"$f":"'NGGT TO'!AT47","v":0},null,null,null,null,null,null,null,null,{"$f":"'NGGT TO'!BC47","v":"TIM"},{"$f":"'NGGT TO'!BD47","v":"RPEs Don’t Apply"},{"$f":"'NGGT TO'!BE47","v":"CapRate 2 (UM)"},{"$f":"'NGGT TO'!BF47","v":"Fast/Slow Split"}]
[null,null,null,null,{"$f":"'NGGT TO'!E48","v":"Funded incremental obligated capacity Re-Opener"},null,"£m 18/19 prices",{"$f":"'NGGT TO'!H48","v":"FIOCREt"},{"$f":"'NGGT TO'!I48","v":"UM"},null,null,null,null,null,null,null,null,null,null,null,null,null,null,null,null,null,null,null,null,null,null,null,null,null,null,null,null,null,null,null,null,{"$f":"'NGGT TO'!AP48","v":0},{"$f":"'NGGT TO'!AQ48","v":0},{"$f":"'NGGT TO'!AR48","v":0},{"$f":"'NGGT TO'!AS48","v":0},{"$f":"'NGGT TO'!AT48","v":0},null,null,null,null,null,null,null,null,{"$f":"'NGGT TO'!BC48","v":"TIM"},{"$f":"'NGGT TO'!BD48","v":"RPEs Don’t Apply"},{"$f":"'NGGT TO'!BE48","v":"CapRate 2 (UM)"},{"$f":"'NGGT TO'!BF48","v":"Fast/Slow Split"}]
[null,null,null,null,{"$f":"'NGGT TO'!E49","v":"Opex Escalator"},null,"£m 18/19 prices",{"$f":"'NGGT TO'!H49","v":"OEt"},{"$f":"'NGGT TO'!I49","v":"UM"},null,null,null,null,null,null,null,null,null,null,null,null,null,null,null,null,null,null,null,null,null,null,null,null,null,null,null,null,null,null,null,null,{"$f":"'NGGT TO'!AP49","v":0},{"$f":"'NGGT TO'!AQ49","v":0},{"$f":"'NGGT TO'!AR49","v":0},{"$f":"'NGGT TO'!AS49","v":0},{"$f":"'NGGT TO'!AT49","v":0},null,null,null,null,null,null,null,null,{"$f":"'NGGT TO'!BC49","v":"TIM"},{"$f":"'NGGT TO'!BD49","v":"RPEs Don’t Apply"},{"$f":"'NGGT TO'!BE49","v":"CapRate 2 (UM)"},{"$f":"'NGGT TO'!BF49","v":"Fast/Slow Split"}]
[null,null,null,null,{"$f":"'NGGT TO'!E50","v":"Spare UM 1"},null,"£m 18/19 prices",{"$f":"'NGGT TO'!H50","v":0},{"$f":"'NGGT TO'!I50","v":"UM"},null,null,null,null,null,null,null,null,null,null,null,null,null,null,null,null,null,null,null,null,null,null,null,null,null,null,null,null,null,null,null,null,{"$f":"'NGGT TO'!AP50","v":0},{"$f":"'NGGT TO'!AQ50","v":0},{"$f":"'NGGT TO'!AR50","v":0},{"$f":"'NGGT TO'!AS50","v":0},{"$f":"'NGGT TO'!AT50","v":0},null,null,null,null,null,null,null,null,{"$f":"'NGGT TO'!BC50","v":0},{"$f":"'NGGT TO'!BD50","v":0},{"$f":"'NGGT TO'!BE50","v":0},{"$f":"'NGGT TO'!BF50","v":0}]
[null,null,null,null,{"$f":"'NGGT TO'!E51","v":"Spare UM 2"},null,"£m 18/19 prices",{"$f":"'NGGT TO'!H51","v":0},{"$f":"'NGGT TO'!I51","v":"UM"},null,null,null,null,null,null,null,null,null,null,null,null,null,null,null,null,null,null,null,null,null,null,null,null,null,null,null,null,null,null,null,null,{"$f":"'NGGT TO'!AP51","v":0},{"$f":"'NGGT TO'!AQ51","v":0},{"$f":"'NGGT TO'!AR51","v":0},{"$f":"'NGGT TO'!AS51","v":0},{"$f":"'NGGT TO'!AT51","v":0},null,null,null,null,null,null,null,null,{"$f":"'NGGT TO'!BC51","v":0},{"$f":"'NGGT TO'!BD51","v":0},{"$f":"'NGGT TO'!BE51","v":0},{"$f":"'NGGT TO'!BF51","v":0}]
[null,null,null,null,{"$f":"'NGGT TO'!E52","v":"Spare UM 3"},null,"£m 18/19 prices",{"$f":"'NGGT TO'!H52","v":0},{"$f":"'NGGT TO'!I52","v":"UM"},null,null,null,null,null,null,null,null,null,null,null,null,null,null,null,null,null,null,null,null,null,null,null,null,null,null,null,null,null,null,null,null,{"$f":"'NGGT TO'!AP52","v":0},{"$f":"'NGGT TO'!AQ52","v":0},{"$f":"'NGGT TO'!AR52","v":0},{"$f":"'NGGT TO'!AS52","v":0},{"$f":"'NGGT TO'!AT52","v":0},null,null,null,null,null,null,null,null,{"$f":"'NGGT TO'!BC52","v":0},{"$f":"'NGGT TO'!BD52","v":0},{"$f":"'NGGT TO'!BE52","v":0},{"$f":"'NGGT TO'!BF52","v":0}]
[null,null,null,null,"RPE non-variant allowances",null,"£m 18/19 prices",{"$f":"'NGGT TO'!H53","v":"RPEAt (non-variant)"},{"$f":"'NGGT TO'!I53","v":"UM"},null,null,null,null,null,null,null,null,null,null,null,null,null,null,null,null,null,null,null,null,null,null,null,null,null,null,null,null,null,null,null,null,{"$f":"SUMPRODUCT((AP$482:AP$499) * ($E$482:$E$499 = $E55))","v":0.66750421626868728},{"$f":"SUMPRODUCT((AQ$482:AQ$499) * ($E$482:$E$499 = $E55))","v":2.2680108140216029},{"$f":"SUMPRODUCT((AR$482:AR$499) * ($E$482:$E$499 = $E55))","v":4.3097991060835472},{"$f":"SUMPRODUCT((AS$482:AS$499) * ($E$482:$E$499 = $E55))","v":5.9888924143276041},{"$f":"SUMPRODUCT((AT$482:AT$499) * ($E$482:$E$499 = $E55))","v":7.142363633966462},null,null,null,null,null,null,null,null,{"$f":"'NGGT TO'!BC53","v":"TIM"},{"$f":"'NGGT TO'!BD53","v":0},{"$f":"'NGGT TO'!BE53","v":"CapRate 1 (Baseline)"},{"$f":"'NGGT TO'!BF53","v":"Fast/Slow Split"}]
[null,null,null,null,"RPE PCDs",null,"£m 18/19 prices",{"$f":"'NGGT TO'!H54","v":"RPEAt (PCD)"},{"$f":"'NGGT TO'!I54","v":"UM"},null,null,null,null,null,null,null,null,null,null,null,null,null,null,null,null,null,null,null,null,null,null,null,null,null,null,null,null,null,null,null,null,{"$f":"SUMPRODUCT((AP$482:AP$499) * ($E$482:$E$499 = $E56))","v":0.51474418942293276},{"$f":"SUMPRODUCT((AQ$482:AQ$499) * ($E$482:$E$499 = $E56))","v":2.9681409581057809},{"$f":"SUMPRODUCT((AR$482:AR$499) * ($E$482:$E$499 = $E56))","v":5.2281728866070667},{"$f":"SUMPRODUCT((AS$482:AS$499) * ($E$482:$E$499 = $E56))","v":3.9770662782231421},{"$f":"SUMPRODUCT((AT$482:AT$499) * ($E$482:$E$499 = $E56))","v":5.0682338245617675},null,null,null,null,null,null,null,null,{"$f":"'NGGT TO'!BC54","v":"TIM"},{"$f":"'NGGT TO'!BD54","v":0},{"$f":"'NGGT TO'!BE54","v":"CapRate 1 (Baseline)"},{"$f":"'NGGT TO'!BF54","v":"Fast/Slow Split"}]
[null,null,null,null,"RPE UMs",null,"£m 18/19 prices",{"$f":"'NGGT TO'!H55","v":"RPEAt (UM)"},{"$f":"'NGGT TO'!I55","v":"UM"},null,null,null,null,null,null,null,null,null,null,null,null,null,null,null,null,null,null,null,null,null,null,null,null,null,null,null,null,null,null,null,null,{"$f":"SUMPRODUCT((AP$482:AP$499) * ($E$482:$E$499 = $E57))","v":0},{"$f":"SUMPRODUCT((AQ$482:AQ$499) * ($E$482:$E$499 = $E57))","v":0},{"$f":"SUMPRODUCT((AR$482:AR$499) * ($E$482:$E$499 = $E57))","v":0},{"$f":"SUMPRODUCT((AS$482:AS$499) * ($E$482:$E$499 = $E57))","v":0},{"$f":"SUMPRODUCT((AT$482:AT$499) * ($E$482:$E$499 = $E57))","v":0},null,null,null,null,null,null,null,null,{"$f":"'NGGT TO'!BC55","v":"TIM"},{"$f":"'NGGT TO'!BD55","v":0},{"$f":"'NGGT TO'!BE55","v":"CapRate 2 (UM)"},{"$f":"'NGGT TO'!BF55","v":"Fast/Slow Split"}]
[null,null,null,null,"Total",null,"£m 18/19 prices",null,null,null,null,null,null,null,null,null,null,null,null,null,null,null,null,null,null,null,null,null,null,null,null,null,null,null,null,null,null,null,null,null,null,{"$f":"SUM(AP22:AP57)","v":156.46261586672398},{"$f":"SUM(AQ22:AQ57)","v":277.68658729468478},281.03874640577851,102.80030644700932,102.09398457887289]
[]
[null,"Actual totex"]
[]
[null,null,null,null,"Capitalisation rate 1:"]
[null,null,null,null,"Actual load related capex expenditure",null,"£m 18/19 prices",{"$f":"'NGGT TO'!H60","v":"ALC"},null,null,null,null,null,null,null,null,null,null,null,null,null,null,null,null,null,null,null,null,null,null,null,null,null,{"$f":"'NGGT TO'!AH60","v":3.8842254841001029},{"$f":"'NGGT TO'!AI60","v":1.6075532847894727},{"$f":"'NGGT TO'!AJ60","v":1.504713519673716},{"$f":"'NGGT TO'!AK60","v":1.8047572329368637},{"$f":"'NGGT TO'!AL60","v":2.741304626813073},{"$f":"'NGGT TO'!AM60","v":2.4580965199999989},{"$f":"'NGGT TO'!AN60","v":8.0545578557774817},{"$f":"'NGGT TO'!AO60","v":1.527043688745604},{"$f":"'NGGT TO'!AP60","v":1.9779514619147203},{"$f":"'NGGT TO'!AQ60","v":2.9472105406130411},{"$f":"'NGGT TO'!AR60","v":2.3900757234535996},{"$f":"'NGGT TO'!AS60","v":1.9927175424639441},{"$f":"'NGGT TO'!AT60","v":1.6600000000000001}]
[null,null,null,null,"Actual asset replacement capex expenditure",null,"£m 18/19 prices",{"$f":"'NGGT TO'!H61","v":"ARC"},null,null,null,null,null,null,null,null,null,null,null,null,null,null,null,null,null,null,null,null,null,null,null,null,null,{"$f":"'NGGT TO'!AH61","v":63.309012974075131},{"$f":"'NGGT TO'!AI61","v":60.431977371442791},{"$f":"'NGGT TO'!AJ61","v":81.456583995344701},{"$f":"'NGGT TO'!AK61","v":103.16389642225062},{"$f":"'NGGT TO'!AL61","v":130.37473696357736},{"$f":"'NGGT TO'!AM61","v":113.13051973999997},{"$f":"'NGGT TO'!AN61","v":64.750474675560682},{"$f":"'NGGT TO'!AO61","v":76.363184673928714},{"$f":"'NGGT TO'!AP61","v":112.41692705692083},{"$f":"'NGGT TO'!AQ61","v":171.82579275225982},{"$f":"'NGGT TO'!AR61","v":194.17675243146417},{"$f":"'NGGT TO'!AS61","v":111.82186448096374},{"$f":"'NGGT TO'!AT61","v":104.96026438269078}]
[null,null,null,null,"Actual other capex expenditure",null,"£m 18/19 prices",{"$f":"'NGGT TO'!H62","v":"AOC"},null,null,null,null,null,null,null,null,null,null,null,null,null,null,null,null,null,null,null,null,null,null,null,null,null,{"$f":"'NGGT TO'!AH62","v":33.691715310966515},{"$f":"'NGGT TO'!AI62","v":37.340614169595412},{"$f":"'NGGT TO'!AJ62","v":30.840153157821391},{"$f":"'NGGT TO'!AK62","v":16.016923286094016},{"$f":"'NGGT TO'!AL62","v":46.275895268043648},{"$f":"'NGGT TO'!AM62","v":51.037120609999981},{"$f":"'NGGT TO'!AN62","v":32.707050357345175},{"$f":"'NGGT TO'!AO62","v":40.494890935746213},{"$f":"'NGGT TO'!AP62","v":46.941091304769124},{"$f":"'NGGT TO'!AQ62","v":94.006934147213556},{"$f":"'NGGT TO'!AR62","v":84.222842453303983},{"$f":"'NGGT TO'!AS62","v":3.3446286435108754},{"$f":"'NGGT TO'!AT62","v":2.0477006277467233}]
[null,null,null,null,"Actual non-load (opex)",null,"£m 18/19 prices",{"$f":"'NGGT TO'!H63","v":"ACO"},null,null,null,null,null,null,null,null,null,null,null,null,null,null,null,null,null,null,null,null,null,null,null,null,null,{"$f":"'NGGT TO'!AH63","v":86.368094128219639},{"$f":"'NGGT TO'!AI63","v":91.348182502192884},{"$f":"'NGGT TO'!AJ63","v":91.68794060508624},{"$f":"'NGGT TO'!AK63","v":103.52788319541833},{"$f":"'NGGT TO'!AL63","v":111.05072158904547},{"$f":"'NGGT TO'!AM63","v":117.33320346345241},{"$f":"'NGGT TO'!AN63","v":110.57330475977166},{"$f":"'NGGT TO'!AO63","v":105.49942412706345},{"$f":"'NGGT TO'!AP63","v":42.548943384532755},{"$f":"'NGGT TO'!AQ63","v":42.824297858287068},{"$f":"'NGGT TO'!AR63","v":43.20760265882253},{"$f":"'NGGT TO'!AS63","v":45.649061443260607},{"$f":"'NGGT TO'!AT63","v":42.553708955783151}]
[null,null,null,null,"Actual indirects (opex)",null,"£m 18/19 prices",{"$f":"'NGGT TO'!H64","v":"AIO"},null,null,null,null,null,null,null,null,null,null,null,null,null,null,null,null,null,null,null,null,null,null,null,null,null,null,null,null,null,null,null,null,null,{"$f":"'NGGT TO'!AP64","v":72.01853324883524},{"$f":"'NGGT TO'!AQ64","v":80.695753609767621},{"$f":"'NGGT TO'!AR64","v":80.323457689122989},{"$f":"'NGGT TO'!AS64","v":56.435121113861555},{"$f":"'NGGT TO'!AT64","v":55.251322961856715}]
[null,null,null,null,"Actual non-operational capex",null,"£m 18/19 prices",{"$f":"'NGGT TO'!H65","v":"ANC"},null,null,null,null,null,null,null,null,null,null,null,null,null,null,null,null,null,null,null,null,null,null,null,null,null,{"$f":"'NGGT TO'!AH65","v":13.835551486661796},{"$f":"'NGGT TO'!AI65","v":13.081375920997472},{"$f":"'NGGT TO'!AJ65","v":14.631779909658695},{"$f":"'NGGT TO'!AK65","v":23.588516317735717},{"$f":"'NGGT TO'!AL65","v":18.810076909853908},{"$f":"'NGGT TO'!AM65","v":21.901896941999986},{"$f":"'NGGT TO'!AN65","v":23.105789686819655},{"$f":"'NGGT TO'!AO65","v":16.096250859441142},{"$f":"'NGGT TO'!AP65","v":26.217679094001976},{"$f":"'NGGT TO'!AQ65","v":24.960603391565677},{"$f":"'NGGT TO'!AR65","v":22.691537880985955},{"$f":"'NGGT TO'!AS65","v":20.852427415862305},{"$f":"'NGGT TO'!AT65","v":19.949014660910692}]
[null,null,null,null,"Total",null,"£m 18/19 prices",null,null,null,null,null,null,null,null,null,null,null,null,null,null,null,null,null,null,null,null,null,null,null,null,null,null,{"$f":"SUM(AH63:AH68)","v":201.08859938402318},203.80970324901801,220.12117118758474,248.10197645443554,309.25273535733351,305.86083727545235,239.19117733527463,239.98079428492511,302.12112555097468,417.26059229970679,427.01226883715321,240.09582063992303,226.42201158898803]
[]
[null,null,null,null,"Capitalisation rate 2:"]
[null,null,null,null,"Actual load related capex expenditure",null,"£m 18/19 prices",{"$f":"'NGGT TO'!H68","v":"ALCU"},null,null,null,null,null,null,null,null,null,null,null,null,null,null,null,null,null,null,null,null,null,null,null,null,null,{"$f":"'NGGT TO'!AH68","v":0},{"$f":"'NGGT TO'!AI68","v":0},{"$f":"'NGGT TO'!AJ68","v":0},{"$f":"'NGGT TO'!AK68","v":0},{"$f":"'NGGT TO'!AL68","v":0},{"$f":"'NGGT TO'!AM68","v":0},{"$f":"'NGGT TO'!AN68","v":0},{"$f":"'NGGT TO'!AO68","v":0},{"$f":"'NGGT TO'!AP68","v":0},{"$f":"'NGGT TO'!AQ68","v":0},{"$f":"'NGGT TO'!AR68","v":0},{"$f":"'NGGT TO'!AS68","v":0},{"$f":"'NGGT TO'!AT68","v":0}]
[null,null,null,null,"Actual asset replacement capex expenditure",null,"£m 18/19 prices",{"$f":"'NGGT TO'!H69","v":"ARCU"},null,null,null,null,null,null,null,null,null,null,null,null,null,null,null,null,null,null,null,null,null,null,null,null,null,{"$f":"'NGGT TO'!AH69","v":0},{"$f":"'NGGT TO'!AI69","v":5.0442877995053967},{"$f":"'NGGT TO'!AJ69","v":3.1922234111366521},{"$f":"'NGGT TO'!AK69","v":32.866556215508616},{"$f":"'NGGT TO'!AL69","v":56.260005540805558},{"$f":"'NGGT TO'!AM69","v":41.692763889999981},{"$f":"'NGGT TO'!AN69","v":26.516551078985952},{"$f":"'NGGT TO'!AO69","v":11.121878893241854},{"$f":"'NGGT TO'!AP69","v":0},{"$f":"'NGGT TO'!AQ69","v":0},{"$f":"'NGGT TO'!AR69","v":0},{"$f":"'NGGT TO'!AS69","v":0},{"$f":"'NGGT TO'!AT69","v":0}]
[null,null,null,null,"Actual other capex expenditure",null,"£m 18/19 prices",{"$f":"'NGGT TO'!H70","v":"AOCU"},null,null,null,null,null,null,null,null,null,null,null,null,null,null,null,null,null,null,null,null,null,null,null,null,null,{"$f":"'NGGT TO'!AH70","v":40.174414935883647},{"$f":"'NGGT TO'!AI70","v":26.13474431929076},{"$f":"'NGGT TO'!AJ70","v":15.890135228021656},{"$f":"'NGGT TO'!AK70","v":4.2556300528393258},{"$f":"'NGGT TO'!AL70","v":23.365912949301627},{"$f":"'NGGT TO'!AM70","v":27.283441769999992},{"$f":"'NGGT TO'!AN70","v":27.563450248731417},{"$f":"'NGGT TO'!AO70","v":10.126440292876769},{"$f":"'NGGT TO'!AP70","v":0},{"$f":"'NGGT TO'!AQ70","v":0},{"$f":"'NGGT TO'!AR70","v":0},{"$f":"'NGGT TO'!AS70","v":0},{"$f":"'NGGT TO'!AT70","v":0}]
[null,null,null,null,"Actual non-load (opex)",null,"£m 18/19 prices",{"$f":"'NGGT TO'!H71","v":"ACOU"},null,null,null,null,null,null,null,null,null,null,null,null,null,null,null,null,null,null,null,null,null,null,null,null,null,null,null,null,null,null,null,null,null,{"$f":"'NGGT TO'!AP71","v":0},{"$f":"'NGGT TO'!AQ71","v":0},{"$f":"'NGGT TO'!AR71","v":0},{"$f":"'NGGT TO'!AS71","v":0},{"$f":"'NGGT TO'!AT71","v":0}]
[null,null,null,null,"Actual indirects (opex)",null,"£m 18/19 prices",{"$f":"'NGGT TO'!H72","v":"AIOU"},null,null,null,null,null,null,null,null,null,null,null,null,null,null,null,null,null,null,null,null,null,null,null,null,null,{"$f":"'NGGT TO'!AH72","v":6.7486199634385162},{"$f":"'NGGT TO'!AI72","v":4.758754566539265},{"$f":"'NGGT TO'!AJ72","v":6.7049057332634074},{"$f":"'NGGT TO'!AK72","v":8.4555396179768358},{"$f":"'NGGT TO'!AL72","v":10.91740062215375},{"$f":"'NGGT TO'!AM72","v":8.7336940939659335},{"$f":"'NGGT TO'!AN72","v":7.9306251834061117},{"$f":"'NGGT TO'!AO72","v":6.9407642925661079},{"$f":"'NGGT TO'!AP72","v":0},{"$f":"'NGGT TO'!AQ72","v":0},{"$f":"'NGGT TO'!AR72","v":0},{"$f":"'NGGT TO'!AS72","v":0},{"$f":"'NGGT TO'!AT72","v":0}]
[null,null,null,null,"Actual non-operational capex",null,"£m 18/19 prices",{"$f":"'NGGT TO'!H73","v":"ANCU"},null,null,null,null,null,null,null,null,null,null,null,null,null,null,null,null,null,null,null,null,null,null,null,null,null,null,null,null,null,null,null,null,null,{"$f":"'NGGT TO'!AP73","v":0},{"$f":"'NGGT TO'!AQ73","v":0},{"$f":"'NGGT TO'!AR73","v":0},{"$f":"'NGGT TO'!AS73","v":0},{"$f":"'NGGT TO'!AT73","v":0}]
[null,null,null,null,"Total",null,"£m 18/19 prices",null,null,null,null,null,null,null,null,null,null,null,null,null,null,null,null,null,null,null,null,null,null,null,null,null,null,{"$f":"SUM(AH72:AH77)","v":46.923034899322161},35.937786685335425,25.787264372421717,45.577725886324785,90.543319112260932,77.709899753965914,62.010626511123483,28.189083478684729,0,0,0,0,0]
[]
[null,"Pass-through costs"]
[]
[null,null,null,null,{"$f":"'NGGT TO'!E77","v":"Licence Fees"},null,"£m 18/19 prices",{"$f":"'NGGT TO'!H77","v":"LFt"},null,null,null,null,null,null,null,null,null,null,null,null,null,null,null,null,null,null,null,null,null,null,null,null,null,null,null,null,null,null,null,null,null,{"$f":"'NGGT TO'!AP77","v":18.302749364945146},{"$f":"'NGGT TO'!AQ77","v":18.299667805855627},{"$f":"'NGGT TO'!AR77","v":18.300072978146023},{"$f":"'NGGT TO'!AS77","v":18.296503800337184},{"$f":"'NGGT TO'!AT77","v":18.301755109932824}]
[null,null,null,null,{"$f":"'NGGT TO'!E78","v":"Prescribed Rates"},null,"£m 18/19 prices",{"$f":"'NGGT TO'!H78","v":"RBt"},null,null,null,null,null,null,null,null,null,null,null,null,null,null,null,null,null,null,null,null,null,null,null,null,null,null,null,null,null,null,null,null,null,{"$f":"'NGGT TO'!AP78","v":103.00000000000011},{"$f":"'NGGT TO'!AQ78","v":103.00000000000011},{"$f":"'NGGT TO'!AR78","v":103.00000000000011},{"$f":"'NGGT TO'!AS78","v":103.00000000000011},{"$f":"'NGGT TO'!AT78","v":103.00000000000011}]
[null,null,null,null,{"$f":"'NGGT TO'!E79","v":"Pension Scheme Established Deficit repair"},null,"£m 18/19 prices",{"$f":"'NGGT TO'!H79","v":"EDEt"},null,null,null,null,null,null,null,null,null,null,null,null,null,null,null,null,null,null,null,null,null,null,null,null,null,null,null,null,null,null,null,null,null,{"$f":"'NGGT TO'!AP79","v":-11.029447860342966},{"$f":"'NGGT TO'!AQ79","v":-11.029447860342966},{"$f":"'NGGT TO'!AR79","v":-11.029447860342966},{"$f":"'NGGT TO'!AS79","v":0},{"$f":"'NGGT TO'!AT79","v":0}]
[null,null,null,null,{"$f":"'NGGT TO'!E80","v":"Bad Debt"},null,"£m 18/19 prices",{"$f":"'NGGT TO'!H80","v":"BDt"},null,null,null,null,null,null,null,null,null,null,null,null,null,null,null,null,null,null,null,null,null,null,null,null,null,null,null,null,null,null,null,null,null,{"$f":"'NGGT TO'!AP80","v":0},{"$f":"'NGGT TO'!AQ80","v":0},{"$f":"'NGGT TO'!AR80","v":0},{"$f":"'NGGT TO'!AS80","v":0},{"$f":"'NGGT TO'!AT80","v":0}]
[null,null,null,null,{"$f":"'NGGT TO'!E81","v":"Secretary of State in respect of Policing Costs"},null,"£m 18/19 prices",{"$f":"'NGGT TO'!H81","v":"OPTCt"},null,null,null,null,null,null,null,null,null,null,null,null,null,null,null,null,null,null,null,null,null,null,null,null,null,null,null,null,null,null,null,null,null,{"$f":"'NGGT TO'!AP81","v":16.037898716771146},{"$f":"'NGGT TO'!AQ81","v":15.968271414731161},{"$f":"'NGGT TO'!AR81","v":16.344327792041856},{"$f":"'NGGT TO'!AS81","v":16.729194718379556},{"$f":"'NGGT TO'!AT81","v":17.1237922693911}]
[null,null,null,null,{"$f":"'NGGT TO'!E82","v":"PARCA Termination Value"},null,"£m 18/19 prices",{"$f":"'NGGT TO'!H82","v":"PTVt"},null,null,null,null,null,null,null,null,null,null,null,null,null,null,null,null,null,null,null,null,null,null,null,null,null,null,null,null,null,null,null,null,null,{"$f":"'NGGT TO'!AP82","v":0},{"$f":"'NGGT TO'!AQ82","v":0},{"$f":"'NGGT TO'!AR82","v":0},{"$f":"'NGGT TO'!AS82","v":0},{"$f":"'NGGT TO'!AT82","v":0}]
[null,null,null,null,{"$f":"'NGGT TO'!E83","v":"Gas conveyed to Independent Systems"},null,"£m 18/19 prices",{"$f":"'NGGT TO'!H83","v":"ISt"},null,null,null,null,null,null,null,null,null,null,null,null,null,null,null,null,null,null,null,null,null,null,null,null,null,null,null,null,null,null,null,null,null,{"$f":"'NGGT TO'!AP83","v":16.469435949029975},{"$f":"'NGGT TO'!AQ83","v":16.469435949029975},{"$f":"'NGGT TO'!AR83","v":16.469435949029975},{"$f":"'NGGT TO'!AS83","v":16.469435949029975},{"$f":"'NGGT TO'!AT83","v":16.469435949029975}]
[null,null,null,null,{"$f":"'NGGT TO'!E84","v":"Hy-Net"},null,"£m 18/19 prices",{"$f":"'NGGT TO'!H84","v":"Hyt"},null,null,null,null,null,null,null,null,null,null,null,null,null,null,null,null,null,null,null,null,null,null,null,null,null,null,null,null,null,null,null,null,null,{"$f":"'NGGT TO'!AP84","v":4.05},{"$f":"'NGGT TO'!AQ84","v":4.05},{"$f":"'NGGT TO'!AR84","v":4.05},{"$f":"'NGGT TO'!AS84","v":0},{"$f":"'NGGT TO'!AT84","v":0}]
[null,null,null,null,"Net Zero Pre-construction Work and Small Net Zero Projects Re-opener",null,"£m 18/19 prices","NZPSt",null,null,null,null,null,null,null,null,null,null,null,null,null,null,null,null,null,null,null,null,null,null,null,null,null,null,null,null,null,null,null,null,null,{"$f":"'NGGT TO'!AP85","v":0},{"$f":"'NGGT TO'!AQ85","v":0},{"$f":"'NGGT TO'!AR85","v":0},{"$f":"'NGGT TO'!AS85","v":0},{"$f":"'NGGT TO'!AT85","v":0}]
[null,null,null,null,"Pass-through expenditure",null,"£m 18/19 prices","PTt",null,null,null,null,null,null,null,null,null,null,null,null,null,null,null,null,null,null,null,null,null,null,null,null,null,null,null,null,null,null,null,null,null,{"$f":"SUM(AP82:AP90)","v":146.83063617040344},{"$f":"SUM(AQ82:AQ90)","v":146.75792730927392},147.13438885887501,154.49513446774682,154.89498332835402]
[]
[null,"Incentive revenue"]
[]
[null,null,null,null,{"$f":"'NGGT TO'!E89","v":"Business plan incentive"},null,"£m 18/19 prices",{"$f":"'NGGT TO'!H89","v":"BPIt"},null,null,null,null,null,null,null,null,null,null,null,null,null,null,null,null,null,null,null,null,null,null,null,null,null,null,null,null,null,null,null,null,null,{"$f":"'NGGT TO'!AP89","v":-4.3390000000000004},{"$f":"'NGGT TO'!AQ89","v":-4.3390000000000004},{"$f":"'NGGT TO'!AR89","v":-4.3390000000000004},{"$f":"'NGGT TO'!AS89","v":-4.3390000000000004},{"$f":"'NGGT TO'!AT89","v":-4.3390000000000004}]
[]
[null,null,null,null,{"$f":"'NGGT TO'!E91","v":"Customer satisfaction survey ODI"},null,"£m 18/19 prices",{"$f":"'NGGT TO'!H91","v":"CSIt"},null,null,null,null,null,null,null,null,null,null,null,null,null,null,null,null,null,null,null,null,null,null,null,null,null,null,null,null,null,null,null,null,null,{"$f":"'NGGT TO'!AP91","v":0},{"$f":"'NGGT TO'!AQ91","v":0},{"$f":"'NGGT TO'!AR91","v":0},{"$f":"'NGGT TO'!AS91","v":0},{"$f":"'NGGT TO'!AT91","v":0}]
[null,null,null,null,{"$f":"'NGGT TO'!E92","v":"Environmental scorecard ODI"},null,"£m 18/19 prices",{"$f":"'NGGT TO'!H92","v":"ESIt"},null,null,null,null,null,null,null,null,null,null,null,null,null,null,null,null,null,null,null,null,null,null,null,null,null,null,null,null,null,null,null,null,null,{"$f":"'NGGT TO'!AP92","v":0},{"$f":"'NGGT TO'!AQ92","v":0},{"$f":"'NGGT TO'!AR92","v":0},{"$f":"'NGGT TO'!AS92","v":0},{"$f":"'NGGT TO'!AT92","v":0}]
[null,null,null,null,"Output delivery incentives",null,"£m 18/19 prices","ODIt",null,null,null,null,null,null,null,null,null,null,null,null,null,null,null,null,null,null,null,null,null,null,null,null,null,null,null,null,null,null,null,null,null,{"$f":"SUM(AP97:AP98)","v":0},{"$f":"SUM(AQ97:AQ98)","v":0},{"$f":"SUM(AR97:AR98)","v":0},{"$f":"SUM(AS97:AS98)","v":0},{"$f":"SUM(AT97:AT98)","v":0}]
[]
[null,"Other revenue allowances"]
[]
[null,null,null,null,{"$f":"'NGGT TO'!E101","v":"Pre-RIIO-1 pension true-up"},null,"£m 18/19 prices","PRPNt",{"$f":"'NGGT TO'!I101","v":131.58850436734917},null,null,null,null,null,null,null,null,null,null,null,null,null,null,null,null,null,null,null,null,null,null,null,null,null,null,null,null,null,null,null,null,{"$f":"(($I$103/9)*(1+$AH$169)*(1+$AI$169)*(1+$AJ$169)*(1+$AK$169)*(1+$AL$169)*(1+$AM$169)*(1+$AN$169)*(1+$AO$169)*(1+$AP$169)) * (AP$4 = $I$174)","v":20.449695721089025},{"$f":"(($I$103/9)*(1+$AH$169)*(1+$AI$169)*(1+$AJ$169)*(1+$AK$169)*(1+$AL$169)*(1+$AM$169)*(1+$AN$169)*(1+$AO$169)*(1+$AP$169)) * (AQ$4 = $I$174)","v":0},{"$f":"(($I$103/9)*(1+$AH$169)*(1+$AI$169)*(1+$AJ$169)*(1+$AK$169)*(1+$AL$169)*(1+$AM$169)*(1+$AN$169)*(1+$AO$169)*(1+$AP$169)) * (AR$4 = $I$174)","v":0},{"$f":"(($I$103/9)*(1+$AH$169)*(1+$AI$169)*(1+$AJ$169)*(1+$AK$169)*(1+$AL$169)*(1+$AM$169)*(1+$AN$169)*(1+$AO$169)*(1+$AP$169)) * (AS$4 = $I$174)","v":0},{"$f":"(($I$103/9)*(1+$AH$169)*(1+$AI$169)*(1+$AJ$169)*(1+$AK$169)*(1+$AL$169)*(1+$AM$169)*(1+$AN$169)*(1+$AO$169)*(1+$AP$169)) * (AT$4 = $I$174)","v":0}]
[null,null,null,null,null,null,null,null,"Assumed cost multipliers:"]
[null,null,null,null,{"$f":"'NGGT TO'!E96","v":"RIIO-2 Network Innovation Allowance\n"},null,"£m 18/19 prices",{"$f":"'NGGT TO'!H96","v":"NIAt"},{"$f":"'NGGT TO'!I409","v":1.1111111111111112},null,null,null,null,null,null,null,null,null,null,null,null,null,null,null,null,null,null,null,null,null,null,null,null,null,null,null,null,null,null,null,null,{"$f":"'NGGT TO'!AP96","v":5},{"$f":"'NGGT TO'!AQ96","v":5},{"$f":"'NGGT TO'!AR96","v":5},{"$f":"'NGGT TO'!AS96","v":5},{"$f":"'NGGT TO'!AT96","v":5}]
[null,null,null,null,{"$f":"'NGGT TO'!E97","v":"Carry-over Network Innovation Allowance "},null,"£m 18/19 prices",{"$f":"'NGGT TO'!H97","v":"CNIAt"},{"$f":"'NGGT TO'!I411","v":1.1111111111111112},null,null,null,null,null,null,null,null,null,null,null,null,null,null,null,null,null,null,null,null,null,null,null,null,null,null,null,null,null,null,null,null,{"$f":"'NGGT TO'!AP97","v":0.04},{"$f":"'NGGT TO'!AQ97","v":0},{"$f":"'NGGT TO'!AR97","v":0},{"$f":"'NGGT TO'!AS97","v":0},{"$f":"'NGGT TO'!AT97","v":0}]
[null,null,null,null,{"$f":"'NGGT TO'!E98","v":"The Strategic Innovation Fund "},null,"£m 18/19 prices",{"$f":"'NGGT TO'!H98","v":"SIFFt"},{"$f":"'NGGT TO'!I412","v":0},null,null,null,null,null,null,null,null,null,null,null,null,null,null,null,null,null,null,null,null,null,null,null,null,null,null,null,null,null,null,null,null,{"$f":"'NGGT TO'!AP98","v":0},{"$f":"'NGGT TO'!AQ98","v":0},{"$f":"'NGGT TO'!AR98","v":0},{"$f":"'NGGT TO'!AS98","v":0},{"$f":"'NGGT TO'!AT98","v":0}]
[null,null,null,null,{"$f":"'NGGT TO'!E99","v":"Spare 2"},null,"£m 18/19 prices",{"$f":"'NGGT TO'!H99","v":0},{"$f":"'NGGT TO'!I413","v":0},null,null,null,null,null,null,null,null,null,null,null,null,null,null,null,null,null,null,null,null,null,null,null,null,null,null,null,null,null,null,null,null,{"$f":"'NGGT TO'!AP99","v":0},{"$f":"'NGGT TO'!AQ99","v":0},{"$f":"'NGGT TO'!AR99","v":0},{"$f":"'NGGT TO'!AS99","v":0},{"$f":"'NGGT TO'!AT99","v":0}]
[null,null,null,null,{"$f":"'NGGT TO'!E100","v":"Spare 3"},null,"£m 18/19 prices",{"$f":"'NGGT TO'!H100","v":0},{"$f":"'NGGT TO'!I414","v":0},null,null,null,null,null,null,null,null,null,null,null,null,null,null,null,null,null,null,null,null,null,null,null,null,null,null,null,null,null,null,null,null,{"$f":"'NGGT TO'!AP100","v":0},{"$f":"'NGGT TO'!AQ100","v":0},{"$f":"'NGGT TO'!AR100","v":0},{"$f":"'NGGT TO'!AS100","v":0},{"$f":"'NGGT TO'!AT100","v":0}]
[null,null,null,null,{"$f":"E103","v":"Pre-RIIO-1 pension true-up"},null,"£m 18/19 prices",{"$f":"H103","v":"PRPNt"},{"$f":"'NGGT TO'!I415","v":0},null,null,null,null,null,null,null,null,null,null,null,null,null,null,null,null,null,null,null,null,null,null,null,null,null,null,null,null,null,null,null,null,{"$f":"AP103","v":20.449695721089025},{"$f":"AQ103","v":0},{"$f":"AR103","v":0},{"$f":"AS103","v":0},{"$f":"AT103","v":0}]
[null,null,null,null,"NGGT SO revenue driver income (reallocated to TO)",null,"£m 18/19 prices",null,{"$f":"'NGGT TO'!I416","v":0},null,null,null,null,null,null,null,null,null,null,null,null,null,null,null,null,null,null,null,null,null,null,null,null,null,null,null,null,null,null,null,null,{"$f":"AP585","v":0},{"$f":"AQ585","v":0},0,0,0]
[null,null,null,null,"Other revenue allowance",null,"£m 18/19 prices","ORAt",null,null,null,null,null,null,null,null,null,null,null,null,null,null,null,null,null,null,null,null,null,null,null,null,null,null,null,null,null,null,null,null,null,{"$f":"SUM(AP105:AP111)","v":25.489695721089024},{"$f":"SUM(AQ105:AQ111)","v":5},{"$f":"SUM(AR105:AR111)","v":5},{"$f":"SUM(AS105:AS111)","v":5},{"$f":"SUM(AT105:AT111)","v":5}]
[]
[null,null,null,null,"Costs associated with \"Other revenue\"",null,"£m 18/19 prices",null,null,null,null,null,null,null,null,null,null,null,null,null,null,null,null,null,null,null,null,null,null,null,null,null,null,null,null,null,null,null,null,null,null,{"$f":"SUMPRODUCT((AP105:AP111) * ($I105:$I111))","v":5.6},{"$f":"SUMPRODUCT((AQ105:AQ111) * ($I105:$I111))","v":5.5555555555555554},{"$f":"SUMPRODUCT((AR105:AR111) * ($I105:$I111))","v":5.5555555555555554},{"$f":"SUMPRODUCT((AS105:AS111) * ($I105:$I111))","v":5.5555555555555554},{"$f":"SUMPRODUCT((AT105:AT111) * ($I105:$I111))","v":5.5555555555555554}]
[]
[null,"Legacy adjustments"]
[]
[null,null,null,null,{"$f":"'NGGT TO'!E105","v":"Legacy pass-through"},null,"£m nominal",{"$f":"'NGGT TO'!H105","v":"LPTt"},null,null,null,null,null,null,null,null,null,null,null,null,null,null,null,null,null,null,null,null,null,null,null,null,null,null,null,null,null,null,null,null,null,{"$f":"'NGGT TO'!AP105","v":-16.595102708643282},{"$f":"'NGGT TO'!AQ105","v":0},{"$f":"'NGGT TO'!AR105","v":0},{"$f":"'NGGT TO'!AS105","v":0},{"$f":"'NGGT TO'!AT105","v":0}]
[null,null,null,null,{"$f":"'NGGT TO'!E106","v":"Legacy MOD"},null,"£m nominal",{"$f":"'NGGT TO'!H106","v":"LMODt"},null,null,null,null,null,null,null,null,null,null,null,null,null,null,null,null,null,null,null,null,null,null,null,null,null,null,null,null,null,null,null,null,null,{"$f":"'NGGT TO'!AP106","v":1.6847999999999999},{"$f":"'NGGT TO'!AQ106","v":-1.3113000000000001},{"$f":"'NGGT TO'!AR106","v":0},{"$f":"'NGGT TO'!AS106","v":0},{"$f":"'NGGT TO'!AT106","v":0}]
[null,null,null,null,{"$f":" 'NGGT TO'!E107","v":"Legacy K correction"},null,"£m nominal",{"$f":" 'NGGT TO'!H107","v":"LKt"},null,null,null,null,null,null,null,null,null,null,null,null,null,null,null,null,null,null,null,null,null,null,null,null,null,null,null,null,null,null,null,null,null,{"$f":" 'NGGT TO'!AP107","v":16.350991573564983},{"$f":" 'NGGT TO'!AQ107","v":0},{"$f":" 'NGGT TO'!AR107","v":0},{"$f":" 'NGGT TO'!AS107","v":0},{"$f":" 'NGGT TO'!AT107","v":0}]
[null,null,null,null,{"$f":"'NGGT TO'!E108","v":"Legacy TRU"},null,"£m nominal",{"$f":"'NGGT TO'!H108","v":"LTRUt"},null,null,null,null,null,null,null,null,null,null,null,null,null,null,null,null,null,null,null,null,null,null,null,null,null,null,null,null,null,null,null,null,null,{"$f":"'NGGT TO'!AP108","v":-6.0956124848115714},{"$f":"'NGGT TO'!AQ108","v":-1.1770835387499441},{"$f":"'NGGT TO'!AR108","v":0},{"$f":"'NGGT TO'!AS108","v":0},{"$f":"'NGGT TO'!AT108","v":0}]
[null,null,null,null,{"$f":"'NGGT TO'!E109","v":"Close out of the RIIO-GT1 network outputs"},null,"£m nominal",{"$f":"'NGGT TO'!H109","v":"NOCOt"},null,null,null,null,null,null,null,null,null,null,null,null,null,null,null,null,null,null,null,null,null,null,null,null,null,null,null,null,null,null,null,null,null,{"$f":"'NGGT TO'!AP109","v":0},{"$f":"'NGGT TO'!AQ109","v":0},{"$f":"'NGGT TO'!AR109","v":0},{"$f":"'NGGT TO'!AS109","v":0},{"$f":"'NGGT TO'!AT109","v":0}]
[null,null,null,null,{"$f":"'NGGT TO'!E110","v":"RIIO-GT1 network innovation competition"},null,"£m nominal",{"$f":"'NGGT TO'!H110","v":"NICFt"},null,null,null,null,null,null,null,null,null,null,null,null,null,null,null,null,null,null,null,null,null,null,null,null,null,null,null,null,null,null,null,null,null,{"$f":"'NGGT TO'!AP110","v":27.17},{"$f":"'NGGT TO'!AQ110","v":0},{"$f":"'NGGT TO'!AR110","v":0},{"$f":"'NGGT TO'!AS110","v":0},{"$f":"'NGGT TO'!AT110","v":0}]
[null,null,null,null,{"$f":"'NGGT TO'!E111","v":"Close out of the RIIO-GT1 stakeholder satisfaction output"},null,"£m nominal",{"$f":"'NGGT TO'!H111","v":"SSCOt"},null,null,null,null,null,null,null,null,null,null,null,null,null,null,null,null,null,null,null,null,null,null,null,null,null,null,null,null,null,null,null,null,null,{"$f":"'NGGT TO'!AP111","v":4.6837157644795937},{"$f":"'NGGT TO'!AQ111","v":-7.6633679090531839},{"$f":"'NGGT TO'!AR111","v":0},{"$f":"'NGGT TO'!AS111","v":0},{"$f":"'NGGT TO'!AT111","v":0}]
[null,null,null,null,"Legacy adjustments",null,"£m nominal","LARt",null,null,null,null,null,null,null,null,null,null,null,null,null,null,null,null,null,null,null,null,null,null,null,null,null,null,null,null,null,null,null,null,null,{"$f":"SUM(AP118:AP124)","v":27.198792144589724},{"$f":"SUM(AQ118:AQ124)","v":-10.151751447803129},0,0,0]
[]
[null,"Directly remunerated services"]
[]
[null,null,null,null,{"$f":"'NGGT TO'!E116","v":"Pre-vesting directly remunerated services"},null,"£m 18/19 prices",{"$f":"'NGGT TO'!H116","v":"PREDRSt"},null,null,null,null,null,null,null,null,null,null,null,null,null,null,null,null,null,null,null,null,null,null,null,null,null,null,null,null,null,null,null,null,null,{"$f":"'NGGT TO'!AP116","v":0},{"$f":"'NGGT TO'!AQ116","v":0},{"$f":"'NGGT TO'!AR116","v":0},{"$f":"'NGGT TO'!AS116","v":0},{"$f":"'NGGT TO'!AT116","v":0}]
[null,null,null,null,{"$f":"'NGGT TO'!E117","v":"Post-vesting directly remunerated services"},null,"£m 18/19 prices",{"$f":"'NGGT TO'!H117","v":"POSDRSt"},null,null,null,null,null,null,null,null,null,null,null,null,null,null,null,null,null,null,null,null,null,null,null,null,null,null,null,null,null,null,null,null,null,{"$f":"'NGGT TO'!AP117","v":13.857556726197064},{"$f":"'NGGT TO'!AQ117","v":13.857556726197064},{"$f":"'NGGT TO'!AR117","v":13.857556726197064},{"$f":"'NGGT TO'!AS117","v":13.857556726197064},{"$f":"'NGGT TO'!AT117","v":13.857556726197064}]
[null,null,null,null,{"$f":"'NGGT TO'!E118","v":"Other income from directly remenerated services"},null,"£m 18/19 prices",{"$f":"'NGGT TO'!H118","v":"OIDRSt"},null,null,null,null,null,null,null,null,null,null,null,null,null,null,null,null,null,null,null,null,null,null,null,null,null,null,null,null,null,null,null,null,null,{"$f":"'NGGT TO'!AP118","v":0},{"$f":"'NGGT TO'!AQ118","v":0},{"$f":"'NGGT TO'!AR118","v":0},{"$f":"'NGGT TO'!AS118","v":0},{"$f":"'NGGT TO'!AT118","v":0}]
[null,null,null,null,{"$f":"'NGGT TO'!E119","v":"Identified directly remunerated services costs"},null,"£m 18/19 prices",{"$f":"'NGGT TO'!H119","v":"IDRSt"},null,null,null,null,null,null,null,null,null,null,null,null,null,null,null,null,null,null,null,null,null,null,null,null,null,null,null,null,null,null,null,null,null,{"$f":"'NGGT TO'!AP119","v":-13.857556726197064},{"$f":"'NGGT TO'!AQ119","v":-13.857556726197064},{"$f":"'NGGT TO'!AR119","v":-13.857556726197064},{"$f":"'NGGT TO'!AS119","v":-13.857556726197064},{"$f":"'NGGT TO'!AT119","v":-13.857556726197064}]
[null,null,null,null,"Directly remunerated services net position",null,"£m 18/19 prices",null,null,null,null,null,null,null,null,null,null,null,null,null,null,null,null,null,null,null,null,null,null,null,null,null,null,null,null,null,null,null,null,null,null,{"$f":"SUM(AP129:AP132)","v":0},{"$f":"SUM(AQ129:AQ132)","v":0},0,0,0]
[]
[null,null,null,null,"Directly remunerated services adjustment",null,"£m 18/19 prices","DRSt",null,null,null,null,null,null,null,null,null,null,null,null,null,null,null,null,null,null,null,null,null,null,null,null,null,null,null,null,null,null,null,null,null,{"$f":" - AP133","v":0},{"$f":" - AQ133","v":0},0,0,0]
[]
[null,"Finance inputs"]
[]
[null,null,"Allowed return on debt"]
[]
[null,null,null,null,{"$f":"'NGGT TO'!E123","v":"iBoxx trailing average"},null,"annual real %",{"$f":"'NGGT TO'!H123","v":"iBTAt"},null,null,null,null,null,null,null,null,null,null,null,null,null,null,null,null,null,null,null,null,null,null,null,null,null,null,null,null,null,null,null,null,null,{"$f":"'NGGT TO'!AP123","v":2.0500000000000001E-2},{"$f":"'NGGT TO'!AQ123","v":1.9E-2},{"$f":"'NGGT TO'!AR123","v":1.7999999999999999E-2},{"$f":"'NGGT TO'!AS123","v":1.7100000000000001E-2},{"$f":"'NGGT TO'!AT123","v":1.6500000000000001E-2}]
[null,null,null,null,{"$f":"'NGGT TO'!E175","v":"Uplift on iBoxx trailing average"},null,"annual real %",{"$f":"'NGGT TO'!H175","v":"CDEUt"},null,null,null,null,null,null,null,null,null,null,null,null,null,null,null,null,null,null,null,null,null,null,null,null,null,null,null,null,null,null,null,null,null,{"$f":"'NGGT TO'!AP175","v":0},{"$f":"'NGGT TO'!AQ175","v":0},{"$f":"'NGGT TO'!AR175","v":0},{"$f":"'NGGT TO'!AS175","v":0},{"$f":"'NGGT TO'!AT175","v":0}]
[null,null,null,null,"Allowed return on debt",null,"annual real %","CDEt",null,null,null,null,null,null,null,null,null,null,null,null,null,null,null,null,null,null,null,null,null,null,null,null,null,null,null,null,null,null,null,null,null,{"$f":"SUM(AP141:AP142)","v":2.0500000000000001E-2},{"$f":"SUM(AQ141:AQ142)","v":1.9E-2},1.7999999999999999E-2,1.7100000000000001E-2,1.6500000000000001E-2]
[]
[null,null,"Allowed return on equity"]
[]
[null,null,null,null,{"$f":"'NGGT TO'!E124","v":"Risk-free rate"},null,"annual real %",{"$f":"'NGGT TO'!H124","v":"RFRt"},null,null,null,null,null,null,null,null,null,null,null,null,null,null,null,null,null,null,null,null,null,null,null,null,null,null,null,null,null,null,null,null,null,{"$f":"'NGGT TO'!AP124","v":-1.7100000000000001E-2},{"$f":"'NGGT TO'!AQ124","v":-1.66E-2},{"$f":"'NGGT TO'!AR124","v":-1.5800000000000002E-2},{"$f":"'NGGT TO'!AS124","v":-1.5100000000000001E-2},{"$f":"'NGGT TO'!AT124","v":-1.43E-2}]
[null,null,null,null,"Equity Beta",null,"scalar",null,null,null,null,null,null,null,null,null,null,null,null,null,null,null,null,null,null,null,null,null,null,null,null,null,null,null,null,null,null,null,null,null,null,{"$f":"'NGGT TO'!AP177","v":0.75861000000000001},{"$f":"'NGGT TO'!AQ177","v":0.75861000000000001},{"$f":"'NGGT TO'!AR177","v":0.75861000000000001},{"$f":"'NGGT TO'!AS177","v":0.75861000000000001},{"$f":"'NGGT TO'!AT177","v":0.75861000000000001}]
[null,null,null,null,"Total Market Return",null,"%",null,null,null,null,null,null,null,null,null,null,null,null,null,null,null,null,null,null,null,null,null,null,null,null,null,null,null,null,null,null,null,null,null,null,{"$f":"'NGGT TO'!AP178","v":6.5000000000000002E-2},{"$f":"'NGGT TO'!AQ178","v":6.5000000000000002E-2},{"$f":"'NGGT TO'!AR178","v":6.5000000000000002E-2},{"$f":"'NGGT TO'!AS178","v":6.5000000000000002E-2},{"$f":"'NGGT TO'!AT178","v":6.5000000000000002E-2}]
[]
[null,null,null,null,"Cost of equity at 60% gearing",null,"annual real %",null,null,null,null,null,null,null,null,null,null,null,null,null,null,null,null,null,null,null,null,null,null,null,null,null,null,null,null,null,null,null,null,null,null,{"$f":"AP147 + AP148 * (AP149 - AP147)","v":4.5181881000000007E-2},{"$f":"AQ147 + AQ148 * (AQ149 - AQ147)","v":4.5302576000000011E-2},4.5495688000000006E-2,4.5664661000000002E-2,4.5857773000000004E-2]
[null,null,null,null,"Expected outperformance at 60% gearing",null,"%",null,null,null,null,null,null,null,null,null,null,null,null,null,null,null,null,null,null,null,null,null,null,null,null,null,null,null,null,null,null,null,null,null,null,{"$f":"'NGGT TO'!AP183","v":2.5000000000000001E-3},{"$f":"'NGGT TO'!AQ183","v":2.5000000000000001E-3},{"$f":"'NGGT TO'!AR183","v":2.5000000000000001E-3},{"$f":"'NGGT TO'!AS183","v":2.5000000000000001E-3},{"$f":"'NGGT TO'!AT183","v":2.5000000000000001E-3}]
[null,null,null,null,"Allowed return on equity at 60% gearing",null,"annual real %",null,null,null,null,null,null,null,null,null,null,null,null,null,null,null,null,null,null,null,null,null,null,null,null,null,null,null,null,null,null,null,null,null,null,{"$f":"AP151 - AP152","v":4.2681881000000005E-2},{"$f":"AQ151 - AQ152","v":4.2802576000000009E-2},4.2995688000000004E-2,4.3164661E-2,4.3357773000000002E-2]
[null,null,null,null,"Benchmark gearing (60%)",null,"%",null,null,null,null,null,null,null,null,null,null,null,null,null,null,null,null,null,null,null,null,null,null,null,null,null,null,null,null,null,null,null,null,null,null,{"$f":"'NGGT TO'!AP179","v":0.6},{"$f":"'NGGT TO'!AQ179","v":0.6},{"$f":"'NGGT TO'!AR179","v":0.6},{"$f":"'NGGT TO'!AS179","v":0.6},{"$f":"'NGGT TO'!AT179","v":0.6}]
[null,null,null,null,"Vanilla WACC at 60% gearing",null,"annual real %",null,null,null,null,null,null,null,null,null,null,null,null,null,null,null,null,null,null,null,null,null,null,null,null,null,null,null,null,null,null,null,null,null,null,{"$f":"(AP143 * AP154) + (AP151 * (1 - AP154))","v":3.0372752400000001E-2},{"$f":"(AQ143 * AQ154) + (AQ151 * (1 - AQ154))","v":2.9521030400000002E-2},2.89982752E-2,2.8525864400000003E-2,2.8243109200000005E-2]
[null,null,null,null,"Allowed return on capital at 60% gearing",null,"annual real %",null,null,null,null,null,null,null,null,null,null,null,null,null,null,null,null,null,null,null,null,null,null,null,null,null,null,null,null,null,null,null,null,null,null,{"$f":"(AP143* AP154) + (AP153 * (1 - AP154))","v":2.93727524E-2},{"$f":"(AQ143* AQ154) + (AQ153 * (1 - AQ154))","v":2.8521030400000001E-2},2.7998275199999999E-2,2.7525864400000002E-2,2.7243109200000004E-2]
[]
[null,null,null,null,"Notional gearing",null,"%",null,null,">",null,null,null,null,null,null,null,null,null,null,null,null,null,null,null,null,null,null,null,null,null,null,null,null,null,null,null,null,null,null,{"$f":"'NGGT TO'!AO181","v":0.625},{"$f":"'NGGT TO'!AP181","v":0.6},{"$f":"'NGGT TO'!AQ181","v":0.6},{"$f":"'NGGT TO'!AR181","v":0.6},{"$f":"'NGGT TO'!AS181","v":0.6},{"$f":"'NGGT TO'!AT181","v":0.6}]
[null,null,null,null,"Cost of equity at notional gearing",null,"annual real %",null,null,null,null,null,null,null,null,null,null,null,null,null,null,null,null,null,null,null,null,null,null,null,null,null,null,null,null,null,null,null,null,null,null,{"$f":"(AP155 - (AP158 * AP143)) / (1 - AP158)","v":4.5181881000000007E-2},{"$f":"(AQ155 - (AQ158 * AQ143)) / (1 - AQ158)","v":4.5302576000000004E-2},4.5495688000000006E-2,4.5664661000000009E-2,4.5857773000000011E-2]
[null,null,null,null,"Allowed return on equity",null,"annual real %",null,null,null,null,null,null,null,null,null,null,null,null,null,null,null,null,null,null,null,null,null,null,null,null,null,null,null,null,null,null,null,null,null,null,{"$f":"(AP156 - (AP143 * AP158)) / (1 - AP158)","v":4.2681881000000005E-2},{"$f":"(AQ156 - (AQ143 * AQ158)) / (1 - AQ158)","v":4.2802576000000002E-2},4.2995688000000004E-2,4.3164661000000007E-2,4.3357773000000009E-2]
[null,null,null,null,"Expected outperformance at notional gearing",null,"%",null,null,null,null,null,null,null,null,null,null,null,null,null,null,null,null,null,null,null,null,null,null,null,null,null,null,null,null,null,null,null,null,null,null,{"$f":"AP159 - AP160","v":2.5000000000000022E-3},{"$f":"AQ159 - AQ160","v":2.5000000000000022E-3},2.5000000000000022E-3,2.5000000000000022E-3,2.5000000000000022E-3]
[]
[null,null,"Vanilla allowed return on capital"]
[]
[null,null,null,null,"Allowed return on debt",null,"annual real %",null,null,">",null,null,null,null,null,null,null,null,null,null,null,null,null,null,null,null,null,null,null,null,null,null,null,null,null,null,null,null,null,null,null,{"$f":"AP143","v":2.0500000000000001E-2},{"$f":"AQ143","v":1.9E-2},1.7999999999999999E-2,1.7100000000000001E-2,1.6500000000000001E-2]
[null,null,null,null,"Allowed return on equity",null,"annual real %",null,null,">",null,null,null,null,null,null,null,null,null,null,null,null,null,null,null,null,null,null,null,null,null,null,null,null,null,null,null,null,null,null,null,{"$f":"AP153","v":4.2681881000000005E-2},{"$f":"AQ153","v":4.2802576000000009E-2},4.2995688000000004E-2,4.3164661E-2,4.3357773000000002E-2]
[null,null,null,null,"Notional gearing",null,"%",null,null,">",null,null,null,null,null,null,null,null,null,null,null,null,null,null,null,null,null,null,null,null,null,null,null,null,null,null,null,null,null,null,{"$f":"AO158","v":0.625},0.6,0.6,0.6,0.6,0.6]
[]
[null,null,null,null,"Vanilla allowed return on capital",null,"annual real %",null,null,">",null,null,null,null,null,null,null,null,null,null,null,null,null,null,null,null,null,null,null,null,null,null,null,{"$f":"'NGGT TO'!AH185","v":4.3749999999999997E-2},{"$f":"'NGGT TO'!AI185","v":4.2499999999999996E-2},{"$f":"'NGGT TO'!AJ185","v":4.1437500000000002E-2},{"$f":"'NGGT TO'!AK185","v":4.0375000000000001E-2},{"$f":"'NGGT TO'!AL185","v":3.9375E-2},{"$f":"'NGGT TO'!AM185","v":3.7437499999999999E-2},{"$f":"'NGGT TO'!AN185","v":3.5375000000000004E-2},{"$f":"'NGGT TO'!AO185","v":3.2312500000000001E-2},{"$f":"(AP165 * AP167) + (AP166 * (1 - AP167))","v":2.93727524E-2},{"$f":"(AQ165 * AQ167) + (AQ166 * (1 - AQ167))","v":2.8521030400000001E-2},2.7998275199999999E-2,2.7525864400000002E-2,2.7243109200000004E-2]
[null,null,null,null,"Vanilla weighted average cost of capital ",null,"annual real %",null,null,null,null,null,null,null,null,null,null,null,null,null,null,null,null,null,null,null,null,null,null,null,null,null,null,{"$f":"AH169","v":4.3749999999999997E-2},{"$f":"AI169","v":4.2499999999999996E-2},4.1437500000000002E-2,4.0375000000000001E-2,3.9375E-2,3.7437499999999999E-2,3.5375000000000004E-2,3.2312500000000001E-2,{"$f":"(AP165 * AP167) + (AP159 * (1 - AP167))","v":3.0372752400000001E-2},{"$f":"(AQ165 * AQ167) + (AQ159 * (1 - AQ167))","v":2.9521030400000002E-2},{"$f":"(AR165 * AR167) + (AR159 * (1 - AR167))","v":2.89982752E-2},{"$f":"(AS165 * AS167) + (AS159 * (1 - AS167))","v":2.8525864400000003E-2},{"$f":"(AT165 * AT167) + (AT159 * (1 - AT167))","v":2.8243109200000005E-2}]
[]
[null,null,"Inflation and price conversion"]
[]
[null,null,null,null,"Start of RIIO-2",null,"year ending",null,{"$f":"'Annual Inflation'!I15","v":"2022-03-31"}]
[]
[null,null,null,"Price indices and inflation rates"]
[]
[null,null,null,null,"Retail Prices Index (financial year average)","Spc2.1","index value","RPIt",null,">",null,null,null,null,null,null,null,null,null,null,null,{"$f":"'Annual Inflation'!V23","v":173.875},{"$f":"'Annual Inflation'!W23","v":177.51666666666665},{"$f":"'Annual Inflation'!X23","v":182.47499999999999},{"$f":"'Annual Inflation'!Y23","v":188.15},{"$f":"'Annual Inflation'!Z23","v":193.10833333333332},{"$f":"'Annual Inflation'!AA23","v":200.31666666666669},{"$f":"'Annual Inflation'!AB23","v":208.5916666666667},{"$f":"'Annual Inflation'!AC23","v":214.78333333333339},{"$f":"'Annual Inflation'!AD23","v":215.76666666666662},{"$f":"'Annual Inflation'!AE23","v":226.47499999999999},{"$f":"'Annual Inflation'!AF23","v":237.3416666666667},{"$f":"'Annual Inflation'!AG23","v":244.67499999999998},{"$f":"'Annual Inflation'!AH23","v":251.73333333333335},{"$f":"'Annual Inflation'!AI23","v":256.66666666666669},{"$f":"'Annual Inflation'!AJ23","v":259.43333333333334},{"$f":"'Annual Inflation'!AK23","v":264.99166666666673},{"$f":"'Annual Inflation'!AL23","v":274.90833333333336},{"$f":"'Annual Inflation'!AM23","v":283.30833333333334},{"$f":"'Annual Inflation'!AN23","v":290.64166666666665},{"$f":"'Annual Inflation'!AO23","v":294.17509269226207},{"$f":"'Annual Inflation'!AP23","v":298.31993410998405},{"$f":"'Annual Inflation'!AQ23","v":303.87812996757594},{"$f":"'Annual Inflation'!AR23","v":312.0253475439311},{"$f":"'Annual Inflation'!AS23","v":321.33052371186744},{"$f":"'Annual Inflation'!AT23","v":330.95442761580398}]
[null,null,null,null,"RPI inflation (financial year average)",null,"annual %",null,null,">",null,null,null,null,null,null,null,null,null,null,null,null,{"$f":"'Annual Inflation'!W24","v":2.0944164869398429E-2},{"$f":"'Annual Inflation'!X24","v":2.7931649610365206E-2},{"$f":"'Annual Inflation'!Y24","v":3.1100150705576146E-2},{"$f":"'Annual Inflation'!Z24","v":2.635308707591455E-2},{"$f":"'Annual Inflation'!AA24","v":3.7327924739999352E-2},{"$f":"'Annual Inflation'!AB24","v":4.1309593144188472E-2},{"$f":"'Annual Inflation'!AC24","v":2.9683192840877393E-2},{"$f":"'Annual Inflation'!AD24","v":4.57825715837612E-3},{"$f":"'Annual Inflation'!AE24","v":4.9629229105515371E-2},{"$f":"'Annual Inflation'!AF24","v":4.7981749273282803E-2},{"$f":"'Annual Inflation'!AG24","v":3.0897791510129391E-2},{"$f":"'Annual Inflation'!AH24","v":2.8847791287762714E-2},{"$f":"'Annual Inflation'!AI24","v":1.9597457627118731E-2},{"$f":"'Annual Inflation'!AJ24","v":1.0779220779220777E-2},{"$f":"'Annual Inflation'!AK24","v":2.1424900424001248E-2},{"$f":"'Annual Inflation'!AL24","v":3.7422560457875953E-2},{"$f":"'Annual Inflation'!AM24","v":3.0555639758707454E-2},{"$f":"'Annual Inflation'!AN24","v":2.5884636879724532E-2},{"$f":"'Annual Inflation'!AO24","v":1.2157327839878773E-2},{"$f":"'Annual Inflation'!AP24","v":1.4089708886598107E-2},{"$f":"'Annual Inflation'!AQ24","v":1.8631660918585258E-2},{"$f":"'Annual Inflation'!AR24","v":2.6810805954428085E-2},{"$f":"'Annual Inflation'!AS24","v":2.9821859798189188E-2},{"$f":"'Annual Inflation'!AT24","v":2.9950170288105538E-2}]
[]
[null,null,null,null,"Consumer Prices Index incl. housing costs (financial year average)","Spc2.1","index value","CPIHt",null,">",null,null,null,null,null,null,null,null,null,null,null,{"$f":"'Annual Inflation'!V26","v":74.86666666666666},{"$f":"'Annual Inflation'!W26","v":75.958333333333329},{"$f":"'Annual Inflation'!X26","v":76.974999999999994},{"$f":"'Annual Inflation'!Y26","v":78.124999999999986},{"$f":"'Annual Inflation'!Z26","v":79.825000000000003},{"$f":"'Annual Inflation'!AA26","v":81.916666666666671},{"$f":"'Annual Inflation'!AB26","v":83.825000000000003},{"$f":"'Annual Inflation'!AC26","v":86.858333333333334},{"$f":"'Annual Inflation'!AD26","v":88.433333333333337},{"$f":"'Annual Inflation'!AE26","v":90.908333333333317},{"$f":"'Annual Inflation'!AF26","v":94.308333333333351},{"$f":"'Annual Inflation'!AG26","v":96.583333333333314},{"$f":"'Annual Inflation'!AH26","v":98.600000000000009},{"$f":"'Annual Inflation'!AI26","v":99.72499999999998},{"$f":"'Annual Inflation'!AJ26","v":100.16666666666667},{"$f":"'Annual Inflation'!AK26","v":101.54166666666667},{"$f":"'Annual Inflation'!AL26","v":104.21666666666665},{"$f":"'Annual Inflation'!AM26","v":106.43333333333334},{"$f":"'Annual Inflation'!AN26","v":108.24166666666663},{"$f":"'Annual Inflation'!AO26","v":109.16563279586747},{"$f":"'Annual Inflation'!AP26","v":110.55301778572785},{"$f":"'Annual Inflation'!AQ26","v":112.31941388122272},{"$f":"'Annual Inflation'!AR26","v":114.3196897521745},{"$f":"'Annual Inflation'!AS26","v":116.52962435487591},{"$f":"'Annual Inflation'!AT26","v":118.85619116070755}]
[null,null,null,null,"CPIH inflation (financial year average)",null,"annual %",null,null,">",null,null,null,null,null,null,null,null,null,null,null,null,{"$f":"'Annual Inflation'!W27","v":1.4581478183437246E-2},{"$f":"'Annual Inflation'!X27","v":1.3384530992868848E-2},{"$f":"'Annual Inflation'!Y27","v":1.4939915556998917E-2},{"$f":"'Annual Inflation'!Z27","v":2.1760000000000224E-2},{"$f":"'Annual Inflation'!AA27","v":2.6203152729930013E-2},{"$f":"'Annual Inflation'!AB27","v":2.3296032553407953E-2},{"$f":"'Annual Inflation'!AC27","v":3.6186499652052895E-2},{"$f":"'Annual Inflation'!AD27","v":1.8132975151108122E-2},{"$f":"'Annual Inflation'!AE27","v":2.7987184319637981E-2},{"$f":"'Annual Inflation'!AF27","v":3.7400311669264275E-2},{"$f":"'Annual Inflation'!AG27","v":2.4123000795263305E-2},{"$f":"'Annual Inflation'!AH27","v":2.088006902502193E-2},{"$f":"'Annual Inflation'!AI27","v":1.1409736308316099E-2},{"$f":"'Annual Inflation'!AJ27","v":4.4288459931480784E-3},{"$f":"'Annual Inflation'!AK27","v":1.3727121464226277E-2},{"$f":"'Annual Inflation'!AL27","v":2.6343865408288814E-2},{"$f":"'Annual Inflation'!AM27","v":2.1269790500559882E-2},{"$f":"'Annual Inflation'!AN27","v":1.6990291262135582E-2},{"$f":"'Annual Inflation'!AO27","v":8.5361410042421593E-3},{"$f":"'Annual Inflation'!AP27","v":1.2708990497537709E-2},{"$f":"'Annual Inflation'!AQ27","v":1.5977818886124595E-2},{"$f":"'Annual Inflation'!AR27","v":1.7808816853932985E-2},{"$f":"'Annual Inflation'!AS27","v":1.9331180897115496E-2},{"$f":"'Annual Inflation'!AT27","v":1.9965453580682579E-2}]
[]
[null,null,null,null,"Combined RPI-CPIH price index (financial year average)",null,"index value","PIt",null,">",null,null,null,null,null,null,null,null,null,null,null,{"$f":"'Annual Inflation'!V29","v":173.875},{"$f":"'Annual Inflation'!W29","v":177.51666666666665},{"$f":"'Annual Inflation'!X29","v":182.47499999999999},{"$f":"'Annual Inflation'!Y29","v":188.15},{"$f":"'Annual Inflation'!Z29","v":193.10833333333332},{"$f":"'Annual Inflation'!AA29","v":200.31666666666669},{"$f":"'Annual Inflation'!AB29","v":208.5916666666667},{"$f":"'Annual Inflation'!AC29","v":214.78333333333339},{"$f":"'Annual Inflation'!AD29","v":215.76666666666662},{"$f":"'Annual Inflation'!AE29","v":226.47499999999999},{"$f":"'Annual Inflation'!AF29","v":237.3416666666667},{"$f":"'Annual Inflation'!AG29","v":244.67499999999998},{"$f":"'Annual Inflation'!AH29","v":251.73333333333335},{"$f":"'Annual Inflation'!AI29","v":256.66666666666669},{"$f":"'Annual Inflation'!AJ29","v":259.43333333333334},{"$f":"'Annual Inflation'!AK29","v":264.99166666666673},{"$f":"'Annual Inflation'!AL29","v":274.90833333333336},{"$f":"'Annual Inflation'!AM29","v":283.30833333333334},{"$f":"'Annual Inflation'!AN29","v":290.64166666666665},{"$f":"'Annual Inflation'!AO29","v":294.17509269226207},{"$f":"'Annual Inflation'!AP29","v":298.21373265120474},{"$f":"'Annual Inflation'!AQ29","v":302.97853766086087},{"$f":"'Annual Inflation'!AR29","v":308.3742269487355},{"$f":"'Annual Inflation'!AS29","v":314.33546491388961},{"$f":"'Annual Inflation'!AT29","v":320.61131504739012}]
[null,null,null,null,"Combined RPI-CPIH inflation (financial year average)",null,"annual %",null,null,">",null,null,null,null,null,null,null,null,null,null,null,null,{"$f":"'Annual Inflation'!W30","v":2.0944164869398429E-2},{"$f":"'Annual Inflation'!X30","v":2.7931649610365206E-2},{"$f":"'Annual Inflation'!Y30","v":3.1100150705576146E-2},{"$f":"'Annual Inflation'!Z30","v":2.635308707591455E-2},{"$f":"'Annual Inflation'!AA30","v":3.7327924739999352E-2},{"$f":"'Annual Inflation'!AB30","v":4.1309593144188472E-2},{"$f":"'Annual Inflation'!AC30","v":2.9683192840877393E-2},{"$f":"'Annual Inflation'!AD30","v":4.57825715837612E-3},{"$f":"'Annual Inflation'!AE30","v":4.9629229105515371E-2},{"$f":"'Annual Inflation'!AF30","v":4.7981749273282803E-2},{"$f":"'Annual Inflation'!AG30","v":3.0897791510129391E-2},{"$f":"'Annual Inflation'!AH30","v":2.8847791287762714E-2},{"$f":"'Annual Inflation'!AI30","v":1.9597457627118731E-2},{"$f":"'Annual Inflation'!AJ30","v":1.0779220779220777E-2},{"$f":"'Annual Inflation'!AK30","v":2.1424900424001248E-2},{"$f":"'Annual Inflation'!AL30","v":3.7422560457875953E-2},{"$f":"'Annual Inflation'!AM30","v":3.0555639758707454E-2},{"$f":"'Annual Inflation'!AN30","v":2.5884636879724532E-2},{"$f":"'Annual Inflation'!AO30","v":1.2157327839878773E-2},{"$f":"'Annual Inflation'!AP30","v":1.3728694438340794E-2},{"$f":"'Annual Inflation'!AQ30","v":1.5977818886124595E-2},{"$f":"'Annual Inflation'!AR30","v":1.7808816853932763E-2},{"$f":"'Annual Inflation'!AS30","v":1.9331180897115274E-2},{"$f":"'Annual Inflation'!AT30","v":1.9965453580682579E-2}]
[]
[null,null,null,null,"Forecast Debt inflation (CPIH long term forecast)",null,"annual %",null,null,null,null,null,null,null,null,null,null,null,null,null,null,null,null,null,null,null,null,null,null,null,null,null,null,null,null,null,null,null,null,null,null,{"$f":"'Annual Inflation'!AP$34","v":0.02},{"$f":"'Annual Inflation'!AQ$34","v":0.02},{"$f":"'Annual Inflation'!AR$34","v":0.02},{"$f":"'Annual Inflation'!AS$34","v":0.02},{"$f":"'Annual Inflation'!AT$34","v":0.02}]
[]
[null,null,null,"Price conversion factors"]
[]
[null,null,null,null,"Real to nominal prices conversion factor (financial year average)",null,"scalar",null,null,">",null,null,null,null,null,null,null,null,null,null,null,{"$f":"'Annual Inflation'!V32","v":0.61373062329029027},{"$f":"'Annual Inflation'!W32","v":0.62658469864988076},{"$f":"'Annual Inflation'!X32","v":0.64408624290378558},{"$f":"'Annual Inflation'!Y32","v":0.66411742212548164},{"$f":"'Annual Inflation'!Z32","v":0.68161896637938635},{"$f":"'Annual Inflation'!AA32","v":0.70706238785775222},{"$f":"'Annual Inflation'!AB32","v":0.73627084742771431},{"$f":"'Annual Inflation'!AC32","v":0.7581257169750274},{"$f":"'Annual Inflation'!AD32","v":0.76159661146571744},{"$f":"'Annual Inflation'!AE32","v":0.79939406418213366},{"$f":"'Annual Inflation'!AF32","v":0.83775038974027127},{"$f":"'Annual Inflation'!AG32","v":0.8636350266199958},{"$f":"'Annual Inflation'!AH32","v":0.8885489896167309},{"$f":"'Annual Inflation'!AI32","v":0.90596229079036394},{"$f":"'Annual Inflation'!AJ32","v":0.91572785834044179},{"$f":"'Annual Inflation'!AK32","v":0.93534723652086971},{"$f":"'Annual Inflation'!AL32","v":0.97035032502867913},{"$f":"'Annual Inflation'!AM32","v":1},{"$f":"'Annual Inflation'!AN32","v":1.0258846368797245},{"$f":"'Annual Inflation'!AO32","v":1.0383566527361663},{"$f":"'Annual Inflation'!AP32","v":1.0526119339395996},{"$f":"'Annual Inflation'!AQ32","v":1.0694303767774598},{"$f":"'Annual Inflation'!AR32","v":1.088475666495522},{"$f":"'Annual Inflation'!AS32","v":1.1095171865066551},{"$f":"'Annual Inflation'!AT32","v":1.1316692003908231}]
[null,null,null,null,null,null,null,null,null,null,null,null,null,null,null,null,null,null,null,null,null,null,null,null,null,null,null,null,null,null,null,null,null,null,null,null,null,null,null,null,null,"Adjacent named range: TOpf"]
[null,null,null,null,"Real to nominal prices conversion factor (financial year end)",null,"scalar",null,null,">",null,null,null,null,null,null,null,null,null,null,null,{"$f":"'Annual Inflation'!V45","v":0.6180545342236079},{"$f":"'Annual Inflation'!W45","v":0.63729152572285797},{"$f":"'Annual Inflation'!X45","v":0.65352825249286695},{"$f":"'Annual Inflation'!Y45","v":0.67435361943700922},{"$f":"'Annual Inflation'!Z45","v":0.69094331852810542},{"$f":"'Annual Inflation'!AA45","v":0.72324028590758005},{"$f":"'Annual Inflation'!AB45","v":0.75200753007618326},{"$f":"'Annual Inflation'!AC45","v":0.7461834867782452},{"$f":"'Annual Inflation'!AD45","v":0.78271612201076568},{"$f":"'Annual Inflation'!AE45","v":0.82401388357796268},{"$f":"'Annual Inflation'!AF45","v":0.85295761390710945},{"$f":"'Annual Inflation'!AG45","v":0.87925405182810246},{"$f":"'Annual Inflation'!AH45","v":0.9009618495749625},{"$f":"'Annual Inflation'!AI45","v":0.9090802129599671},{"$f":"'Annual Inflation'!AJ45","v":0.92214018884019178},{"$f":"'Annual Inflation'!AK45","v":0.95284878077477442},{"$f":"'Annual Inflation'!AL45","v":0.98479277583316172},{"$f":"'Annual Inflation'!AM45","v":1.0117951583963289},{"$f":"'Annual Inflation'!AN45","v":1.0327970115010148},{"$f":"'Annual Inflation'!AO45","v":1.0452343986883279},{"$f":"'Annual Inflation'!AP45","v":1.0606454571397199},{"$f":"'Annual Inflation'!AQ45","v":1.0785770775826966},{"$f":"'Annual Inflation'!AR45","v":1.0987601131013411},{"$f":"'Annual Inflation'!AS45","v":1.1205065599926722},{"$f":"'Annual Inflation'!AT45","v":1.1419681372984609}]
[]
[null,null,"Real Price Effects indexation"]
[]
[null,null,null,null,"RPE index",null,"index value","RPEIt",null,">",null,null,null,null,null,null,null,null,null,null,null,null,null,null,null,null,null,null,null,null,null,null,null,null,null,null,null,null,null,{"$f":"PRODUCT(1 + $AN198:AN198)","v":0.99455412876391935},{"$f":"PRODUCT(1 + $AN198:AO198)","v":0.98481141218164625},{"$f":"PRODUCT(1 + $AN198:AP198)","v":1.0045826654255605},{"$f":"PRODUCT(1 + $AN198:AQ198)","v":1.0162495216350638},{"$f":"PRODUCT(1 + $AN198:AR198)","v":1.0295245263270925},{"$f":"PRODUCT(1 + $AN198:AS198)","v":1.0436204522014654},{"$f":"PRODUCT(1 + $AN198:AT198)","v":1.0574477356854168}]
[null,null,null,null,{"$f":"'NGGT TO'!E127","v":"RPE annual growth"},null,"annual %",{"$f":"'NGGT TO'!H127","v":"RPEt"},null,">",null,null,null,null,null,null,null,null,null,null,null,null,null,null,null,null,null,null,null,null,null,null,null,null,null,null,null,null,null,{"$f":"'NGGT TO'!AN127","v":-5.4458712360806894E-3},{"$f":"'NGGT TO'!AO127","v":-9.7960646891906977E-3},{"$f":"'NGGT TO'!AP127","v":2.0076182098778844E-2},{"$f":"'NGGT TO'!AQ127","v":1.1613634806808996E-2},{"$f":"'NGGT TO'!AR127","v":1.3062741393147441E-2},{"$f":"'NGGT TO'!AS127","v":1.3691685349800312E-2},{"$f":"'NGGT TO'!AT127","v":1.3249341228205577E-2}]
[]
[null,null,"Tax allowance"]
[]
[null,null,null,null,{"$f":"'NGGT TO'!E129","v":"Adjusted net debt"},null,"£m nominal",{"$f":"'NGGT TO'!H129","v":"ANDt"},null,null,null,null,null,null,null,null,null,null,null,null,null,null,null,null,null,null,null,null,null,null,null,null,null,null,null,null,null,null,null,null,null,{"$f":"'NGGT TO'!AP129","v":0},{"$f":"'NGGT TO'!AQ129","v":0},{"$f":"'NGGT TO'!AR129","v":0},{"$f":"'NGGT TO'!AS129","v":0},{"$f":"'NGGT TO'!AT129","v":0}]
[null,null,null,null,{"$f":"'NGGT TO'!E130","v":"Tax deductible net interest cost"},null,"£m nominal",{"$f":"'NGGT TO'!H130","v":"TDNIt"},null,null,null,null,null,null,null,null,null,null,null,null,null,null,null,null,null,null,null,null,null,null,null,null,null,null,null,null,null,null,null,null,null,{"$f":"'NGGT TO'!AP130","v":0},{"$f":"'NGGT TO'!AQ130","v":0},{"$f":"'NGGT TO'!AR130","v":0},{"$f":"'NGGT TO'!AS130","v":0},{"$f":"'NGGT TO'!AT130","v":0}]
[null,null,null,null,{"$f":"'NGGT TO'!E131","v":"Tax allowance adjustment"},null,"£m nominal",{"$f":"'NGGT TO'!H131","v":"TAXAt"},null,null,null,null,null,null,null,null,null,null,null,null,null,null,null,null,null,null,null,null,null,null,null,null,null,null,null,null,null,null,null,null,null,{"$f":"'NGGT TO'!AP131","v":0},{"$f":"'NGGT TO'!AQ131","v":0},{"$f":"'NGGT TO'!AR131","v":0},{"$f":"'NGGT TO'!AS131","v":0},{"$f":"'NGGT TO'!AT131","v":0}]
[null,null,null,null,{"$f":"'NGGT TO'!E132","v":"Tax liability – tax trigger events"},null,"£m 18/19 prices",{"$f":"'NGGT TO'!H132","v":"TTEt"},null,null,null,null,null,null,null,null,null,null,null,null,null,null,null,null,null,null,null,null,null,null,null,null,null,null,null,null,null,null,null,null,null,{"$f":"'NGGT TO'!AP132","v":0},{"$f":"'NGGT TO'!AQ132","v":0},{"$f":"'NGGT TO'!AR132","v":0},{"$f":"'NGGT TO'!AS132","v":0},{"$f":"'NGGT TO'!AT132","v":0}]
[]
[null,null,null,null,"Notional gearing for \"Tax clawback gearing level test\"",null,"%",null,null,null,null,null,null,null,null,null,null,null,null,null,null,null,null,null,null,null,null,null,null,null,null,null,null,null,null,null,null,null,null,null,null,{"$f":"'NGGT TO'!AP134","v":0.625},{"$f":"'NGGT TO'!AQ134","v":0.61880000000000002},{"$f":"'NGGT TO'!AR134","v":0.61250000000000004},{"$f":"'NGGT TO'!AS134","v":0.60629999999999995},{"$f":"'NGGT TO'!AT134","v":0.6}]
[null,null,null,null,"Tax trigger deadband",null,"£m 18/19 prices",null,null,null,null,null,null,null,null,null,null,null,null,null,null,null,null,null,null,null,null,null,null,null,null,null,null,null,null,null,null,null,null,null,null,{"$f":"'NGGT TO'!AP135","v":2.4079045095034153},{"$f":"'NGGT TO'!AQ135","v":2.4996671737090232},{"$f":"'NGGT TO'!AR135","v":2.5160510965805876},{"$f":"'NGGT TO'!AS135","v":2.3238778201799244},{"$f":"'NGGT TO'!AT135","v":2.2881683619967679}]
[]
[null,null,null,null,{"$f":"'NGGT TO'!E137","v":"General pool capital allowance opening balance brought forward"},null,"£m nominal",{"$f":"'NGGT TO'!H137","v":"OGPt"},null,null,null,null,null,null,null,null,null,null,null,null,null,null,null,null,null,null,null,null,null,null,null,null,null,null,null,null,null,null,null,null,null,{"$f":"'NGGT TO'!AP137","v":218.62847778800551}]
[null,null,null,null,{"$f":"'NGGT TO'!E138","v":"Special Rate capital allowance opening balance brought forward"},null,"£m nominal",{"$f":"'NGGT TO'!H138","v":"OSRPt"},null,null,null,null,null,null,null,null,null,null,null,null,null,null,null,null,null,null,null,null,null,null,null,null,null,null,null,null,null,null,null,null,null,{"$f":"'NGGT TO'!AP138","v":1634.022843171673}]
[null,null,null,null,{"$f":"'NGGT TO'!E139","v":"Structures and buildings capital allowance opening balance brought forward"},null,"£m nominal",{"$f":"'NGGT TO'!H139","v":"OSBPt"},null,null,null,null,null,null,null,null,null,null,null,null,null,null,null,null,null,null,null,null,null,null,null,null,null,null,null,null,null,null,null,null,null,{"$f":"'NGGT TO'!AP139","v":0}]
[null,null,null,null,{"$f":"'NGGT TO'!E140","v":"Deferred revenue expenditure opening balance brought forward"},null,"£m nominal",{"$f":"'NGGT TO'!H140","v":"ODRPt"},null,null,null,null,null,null,null,null,null,null,null,null,null,null,null,null,null,null,null,null,null,null,null,null,null,null,null,null,null,null,null,null,null,{"$f":"'NGGT TO'!AP140","v":0}]
[null,null,null,null,{"$f":"'NGGT TO'!E141","v":"Deferred revenue pool additions (RIIO1) plus opening balance at start of RIIO1"},null,"£m nominal",{"$f":"'NGGT TO'!H141","v":"LODRPt"},null,null,null,null,null,null,null,null,null,null,null,null,null,null,null,null,null,null,null,null,null,null,null,null,null,null,null,null,null,null,null,null,{"$f":"'NGGT TO'!AO141","v":0}]
[null,null,null,null,{"$f":"'NGGT TO'!E142","v":"Tax loss brought forward"},null,"£m nominal",{"$f":"'NGGT TO'!H142","v":"OTLt"},null,null,null,null,null,null,null,null,null,null,null,null,null,null,null,null,null,null,null,null,null,null,null,null,null,null,null,null,null,null,null,null,null,{"$f":"'NGGT TO'!AP142","v":0}]
[]
[null,null,null,null,{"$f":"'NGGT TO'!E144","v":"Totex allocation to \"General\" tax pool"},null,"%",{"$f":"'NGGT TO'!H144","v":"ARGPt"},null,null,null,null,null,null,null,null,null,null,null,null,null,null,null,null,null,null,null,null,null,null,null,null,null,null,null,null,null,null,null,null,null,{"$f":"'NGGT TO'!AP144","v":0.18701026443985583},{"$f":"'NGGT TO'!AQ144","v":0.1995347222001809},{"$f":"'NGGT TO'!AR144","v":0.18093772010616962},{"$f":"'NGGT TO'!AS144","v":0.1168874783775718},{"$f":"'NGGT TO'!AT144","v":0.11542032383677082}]
[null,null,null,null,{"$f":"'NGGT TO'!E145","v":"Totex allocation to \"Special Rate\" tax pool"},null,"%",{"$f":"'NGGT TO'!H145","v":"ARSRt"},null,null,null,null,null,null,null,null,null,null,null,null,null,null,null,null,null,null,null,null,null,null,null,null,null,null,null,null,null,null,null,null,null,{"$f":"'NGGT TO'!AP145","v":0.42341306282094709},{"$f":"'NGGT TO'!AQ145","v":0.49163151843421532},{"$f":"'NGGT TO'!AR145","v":0.51757541599609003},{"$f":"'NGGT TO'!AS145","v":0.45049784596705122},{"$f":"'NGGT TO'!AT145","v":0.44544004790073499}]
[null,null,null,null,{"$f":"'NGGT TO'!E146","v":"Totex allocation to \"Structures and Buildings\" tax pool"},null,"%",{"$f":"'NGGT TO'!H146","v":"ARSBt"},null,null,null,null,null,null,null,null,null,null,null,null,null,null,null,null,null,null,null,null,null,null,null,null,null,null,null,null,null,null,null,null,null,{"$f":"'NGGT TO'!AP146","v":9.1837336149433041E-3},{"$f":"'NGGT TO'!AQ146","v":1.1713894526616147E-2},{"$f":"'NGGT TO'!AR146","v":1.1468759946578517E-2},{"$f":"'NGGT TO'!AS146","v":6.3415530324603927E-3},{"$f":"'NGGT TO'!AT146","v":6.1620683213308653E-3}]
[null,null,null,null,{"$f":"'NGGT TO'!E147","v":"Totex allocation to \"Deferred Revenue\" tax pool"},null,"%",{"$f":"'NGGT TO'!H147","v":"ARDRt"},null,null,null,null,null,null,null,null,null,null,null,null,null,null,null,null,null,null,null,null,null,null,null,null,null,null,null,null,null,null,null,null,null,{"$f":"'NGGT TO'!AP147","v":0},{"$f":"'NGGT TO'!AQ147","v":0},{"$f":"'NGGT TO'!AR147","v":0},{"$f":"'NGGT TO'!AS147","v":0},{"$f":"'NGGT TO'!AT147","v":0}]
[null,null,null,null,{"$f":"'NGGT TO'!E148","v":"Totex allocation to \"Revenue\" tax pool"},null,"%",{"$f":"'NGGT TO'!H148","v":"ARRt"},null,null,null,null,null,null,null,null,null,null,null,null,null,null,null,null,null,null,null,null,null,null,null,null,null,null,null,null,null,null,null,null,null,{"$f":"'NGGT TO'!AP148","v":0.37905738808476308},{"$f":"'NGGT TO'!AQ148","v":0.29550766332966238},{"$f":"'NGGT TO'!AR148","v":0.28837102042974838},{"$f":"'NGGT TO'!AS148","v":0.42505281529574307},{"$f":"'NGGT TO'!AT148","v":0.43177717378609237}]
[null,null,null,null,{"$f":"'NGGT TO'!E149","v":"Totex allocation to \"Non Qualifying\" tax pool"},null,"%",{"$f":"'NGGT TO'!H149","v":"ARNQt"},null,null,null,null,null,null,null,null,null,null,null,null,null,null,null,null,null,null,null,null,null,null,null,null,null,null,null,null,null,null,null,null,null,{"$f":"'NGGT TO'!AP149","v":1.3355510394905546E-3},{"$f":"'NGGT TO'!AQ149","v":1.612201509325279E-3},{"$f":"'NGGT TO'!AR149","v":1.6470835214134893E-3},{"$f":"'NGGT TO'!AS149","v":1.2203073271735256E-3},{"$f":"'NGGT TO'!AT149","v":1.2003861550708098E-3}]
[null,null,null,null,"Totex allocation check",null,"%",null,null,null,null,null,null,null,null,null,null,null,null,null,null,null,null,null,null,null,null,null,null,null,null,null,null,null,null,null,null,null,null,null,null,{"$f":"SUM(AP217:AP222)","v":0.99999999999999989},{"$f":"SUM(AQ217:AQ222)","v":1},{"$f":"SUM(AR217:AR222)","v":1},{"$f":"SUM(AS217:AS222)","v":1},{"$f":"SUM(AT217:AT222)","v":0.99999999999999978}]
[]
[null,null,null,null,{"$f":"'NGGT TO'!E152","v":"Corporation tax rate"},null,"%",{"$f":"'NGGT TO'!H152","v":"CTt"},null,null,null,null,null,null,null,null,null,null,null,null,null,null,null,null,null,null,null,null,null,null,null,null,null,null,null,null,null,null,null,null,null,{"$f":"'NGGT TO'!AP152","v":0.19},{"$f":"'NGGT TO'!AQ152","v":0.19},{"$f":"'NGGT TO'!AR152","v":0.25},{"$f":"'NGGT TO'!AS152","v":0.25},{"$f":"'NGGT TO'!AT152","v":0.25}]
[null,null,null,null,{"$f":"'NGGT TO'!E153","v":"General pool capital allowance rate"},null,"%",{"$f":"'NGGT TO'!H153","v":"GCAt"},null,null,null,null,null,null,null,null,null,null,null,null,null,null,null,null,null,null,null,null,null,null,null,null,null,null,null,null,null,null,null,null,null,{"$f":"'NGGT TO'!AP153","v":0.18},{"$f":"'NGGT TO'!AQ153","v":0.18},{"$f":"'NGGT TO'!AR153","v":0.18},{"$f":"'NGGT TO'!AS153","v":0.18},{"$f":"'NGGT TO'!AT153","v":0.18}]
[null,null,null,null,{"$f":"'NGGT TO'!E154","v":"Special Rates capital allowance rate"},null,"%",{"$f":"'NGGT TO'!H154","v":"SRCAt"},null,null,null,null,null,null,null,null,null,null,null,null,null,null,null,null,null,null,null,null,null,null,null,null,null,null,null,null,null,null,null,null,null,{"$f":"'NGGT TO'!AP154","v":0.06},{"$f":"'NGGT TO'!AQ154","v":0.06},{"$f":"'NGGT TO'!AR154","v":0.06},{"$f":"'NGGT TO'!AS154","v":0.06},{"$f":"'NGGT TO'!AT154","v":0.06}]
[null,null,null,null,{"$f":"'NGGT TO'!E155","v":"Structures and buildings capital allowance rate"},null,"%",{"$f":"'NGGT TO'!H155","v":"SBCAt"},null,null,null,null,null,null,null,null,null,null,null,null,null,null,null,null,null,null,null,null,null,null,null,null,null,null,null,null,null,null,null,null,null,{"$f":"'NGGT TO'!AP155","v":0.03},{"$f":"'NGGT TO'!AQ155","v":0.03},{"$f":"'NGGT TO'!AR155","v":0.03},{"$f":"'NGGT TO'!AS155","v":0.03},{"$f":"'NGGT TO'!AT155","v":0.03}]
[null,null,null,null,{"$f":"'NGGT TO'!E156","v":"Deferred Revenue Expenditure capital allowance rate"},null,"%",{"$f":"'NGGT TO'!H156","v":"DRCAt"},null,null,null,null,null,null,null,null,null,null,null,null,null,null,null,null,null,null,null,null,null,null,null,null,null,null,null,null,null,null,null,null,null,{"$f":"'NGGT TO'!AP156","v":2.2200000000000001E-2},{"$f":"'NGGT TO'!AQ156","v":2.2200000000000001E-2},{"$f":"'NGGT TO'!AR156","v":2.2200000000000001E-2},{"$f":"'NGGT TO'!AS156","v":2.2200000000000001E-2},{"$f":"'NGGT TO'!AT156","v":2.2200000000000001E-2}]
[]
[null,null,"Inputs for true ups to allowed revenue"]
[]
[null,null,null,null,{"$f":"'NGGT TO'!E125","v":"Sterling Overnight Index Average (SONIA)"},null,"annual nominal %",{"$f":"'NGGT TO'!H125","v":"It"},null,">",null,null,null,null,null,null,null,null,null,null,null,null,null,null,null,null,null,null,null,null,null,null,null,null,null,null,null,null,null,null,{"$f":"'NGGT TO'!AO125","v":6.0424854179993959E-4},{"$f":"'NGGT TO'!AP125","v":4.5973702505714439E-4},{"$f":"'NGGT TO'!AQ125","v":8.648026937470648E-4},{"$f":"'NGGT TO'!AR125","v":1.4141542757024586E-3},{"$f":"'NGGT TO'!AS125","v":2.0702335211076469E-3},{"$f":"'NGGT TO'!AT125","v":2.600000849653616E-3}]
[]
[null,null,null,null,{"$f":"'NGGT TO'!E158","v":"RIIO-1 allowed revenue"},null,"£m nominal",{"$f":"'NGGT TO'!H158","v":"RIIO-1 ARt"},null,">",null,null,null,null,null,null,null,null,null,null,null,null,null,null,null,null,null,null,null,null,null,null,null,null,null,null,null,null,null,null,{"$f":"'NGGT TO'!AO158","v":780.1}]
[null,null,null,null,{"$f":"'NGGT TO'!E159","v":"Recovered revenue"},null,"£m nominal",{"$f":"'NGGT TO'!H159","v":"RRt"},null,">",null,null,null,null,null,null,null,null,null,null,null,null,null,null,null,null,null,null,null,null,null,null,null,null,null,null,null,null,null,null,{"$f":"'NGGT TO'!AO159","v":574},{"$f":"'NGGT TO'!AP159","v":0},{"$f":"'NGGT TO'!AQ159","v":0},{"$f":"'NGGT TO'!AR159","v":0},{"$f":"'NGGT TO'!AS159","v":0},{"$f":"'NGGT TO'!AT159","v":0}]
[null,null,null,null,{"$f":"'NGGT TO'!E160","v":"K rate margin"},null,"annual nominal %",null,null,">",null,null,null,null,null,null,null,null,null,null,null,null,null,null,null,null,null,null,null,null,null,null,null,null,null,null,null,null,null,null,{"$f":"'NGGT TO'!AO160","v":1.15E-2},{"$f":"'NGGT TO'!AP160","v":1.15E-2},{"$f":"'NGGT TO'!AQ160","v":1.15E-2},{"$f":"'NGGT TO'!AR160","v":1.15E-2},{"$f":"'NGGT TO'!AS160","v":1.15E-2},{"$f":"'NGGT TO'!AT160","v":1.15E-2}]
[null,null,null,null,{"$f":"'NGGT TO'!E161","v":"Over/undercollection percentage for penal rate adjustment"},null,"%",null,{"$f":"'NGGT TO'!I161","v":0.06}]
[null,null,null,null,{"$f":"'NGGT TO'!E162","v":"Penal rate proportion"},null,"scalar",{"$f":"'NGGT TO'!H162","v":"PRPt"},null,">",null,null,null,null,null,null,null,null,null,null,null,null,null,null,null,null,null,null,null,null,null,null,null,null,null,null,null,null,null,null,{"$f":"'NGGT TO'!AO162","v":1},{"$f":"'NGGT TO'!AP162","v":1},{"$f":"'NGGT TO'!AQ162","v":1},{"$f":"'NGGT TO'!AR162","v":1},{"$f":"'NGGT TO'!AS162","v":1},{"$f":"'NGGT TO'!AT162","v":1}]
[]
[null,null,"Other finance inputs"]
[]
[null,null,null,null,"Minimum equity issuance threshold",null,"%",null,null,null,null,null,null,null,null,null,null,null,null,null,null,null,null,null,null,null,null,null,null,null,null,null,null,null,null,null,null,null,null,null,null,{"$f":"'NGGT TO'!AP189","v":0.05},{"$f":"'NGGT TO'!AQ189","v":0.05},{"$f":"'NGGT TO'!AR189","v":0.05},{"$f":"'NGGT TO'!AS189","v":0.05},{"$f":"'NGGT TO'!AT189","v":0.05}]
[null,null,null,null,"Equity issuance costs",null,"%",null,null,null,null,null,null,null,null,null,null,null,null,null,null,null,null,null,null,null,null,null,null,null,null,null,null,null,null,null,null,null,null,null,null,{"$f":"'NGGT TO'!AP190","v":0.05},{"$f":"'NGGT TO'!AQ190","v":0.05},{"$f":"'NGGT TO'!AR190","v":0.05},{"$f":"'NGGT TO'!AS190","v":0.05},{"$f":"'NGGT TO'!AT190","v":0.05}]
[null,null,null,null,"Assumed dividends as % of notional equity portion of RAV",null,"%",null,null,null,null,null,null,null,null,null,null,null,null,null,null,null,null,null,null,null,null,null,null,null,null,null,null,null,null,null,null,null,null,null,null,{"$f":"'NGGT TO'!AP191","v":0.03},{"$f":"'NGGT TO'!AQ191","v":0.03},{"$f":"'NGGT TO'!AR191","v":0.03},{"$f":"'NGGT TO'!AS191","v":0.03},{"$f":"'NGGT TO'!AT191","v":0.03}]
[null,null,null,null,"Equity issuance gearing target",null,"%",null,null,null,null,null,null,null,null,null,null,null,null,null,null,null,null,null,null,null,null,null,null,null,null,null,null,null,null,null,null,null,null,null,null,{"$f":"'NGGT TO'!AP192","v":0.6},{"$f":"'NGGT TO'!AQ192","v":0.6},{"$f":"'NGGT TO'!AR192","v":0.6},{"$f":"'NGGT TO'!AS192","v":0.6},{"$f":"'NGGT TO'!AT192","v":0.6}]
[null,null,null,null,"CPIH index-linked debt as a percentage of net debt",null,"%",null,null,null,null,null,null,null,null,null,null,null,null,null,null,null,null,null,null,null,null,null,null,null,null,null,null,null,null,null,null,null,null,null,null,{"$f":"'NGGT TO'!AP193","v":0.3},{"$f":"'NGGT TO'!AQ193","v":0.3},{"$f":"'NGGT TO'!AR193","v":0.3},{"$f":"'NGGT TO'!AS193","v":0.3},{"$f":"'NGGT TO'!AT193","v":0.3}]
[null,null,null,null,"RPI index-linked debt as a percentage of net debt",null,"%",null,null,null,null,null,null,null,null,null,null,null,null,null,null,null,null,null,null,null,null,null,null,null,null,null,null,null,null,null,null,null,null,null,null,{"$f":"'NGGT TO'!AP194","v":0},{"$f":"'NGGT TO'!AQ194","v":0},{"$f":"'NGGT TO'!AR194","v":0},{"$f":"'NGGT TO'!AS194","v":0},{"$f":"'NGGT TO'!AT194","v":0}]
[]
[null,null,"TIM and capitalisation"]
[]
[null,null,null,null,"Years from t until normal reporting of actual costs",null,"years",null,{"$f":"'NGGT TO'!I198","v":2}]
[]
[null,null,null,null,"Capitalisation rate 1",null,"%",null,null,null,null,null,null,null,null,null,null,null,null,null,null,null,null,null,null,null,null,null,null,null,null,null,null,null,null,null,null,null,null,null,null,{"$f":"'NGGT TO'!AP200","v":0.65},{"$f":"'NGGT TO'!AQ200","v":0.65},{"$f":"'NGGT TO'!AR200","v":0.65},{"$f":"'NGGT TO'!AS200","v":0.65},{"$f":"'NGGT TO'!AT200","v":0.65}]
[null,null,null,null,"Capitalisation rate 2",null,"%",null,null,null,null,null,null,null,null,null,null,null,null,null,null,null,null,null,null,null,null,null,null,null,null,null,null,null,null,null,null,null,null,null,null,{"$f":"'NGGT TO'!AP201","v":0.75},{"$f":"'NGGT TO'!AQ201","v":0.75},{"$f":"'NGGT TO'!AR201","v":0.75},{"$f":"'NGGT TO'!AS201","v":0.75},{"$f":"'NGGT TO'!AT201","v":0.75}]
[]
[null,null,null,null,"RIIO-2 Funding Adjustment Rate ('sharing factor')",null,"%",null,{"$f":"'NGGT TO'!I203","v":0.61}]
[]
[null,"Operational performance and return adjustment"]
[]
[null,null,null,null,"Notional gearing",null,"%",null,{"$f":"'NGGT TO'!I180","v":0.6}]
[null,null,null,null,"Threshold 1",null,"annual real %",null,{"$f":"'NGGT TO'!I166","v":0.03}]
[null,null,null,null,"Threshold 2",null,"annual real %",null,{"$f":"'NGGT TO'!I167","v":0.04}]
[null,null,null,null,"Adjustment rate 1",null,"%",null,{"$f":"'NGGT TO'!I168","v":0.5}]
[null,null,null,null,"Adjustment rate 2",null,"%",null,{"$f":"'NGGT TO'!I169","v":0.9}]
[]
[null,"Variant allowances detailed calculation"]
[]
[null,null,"Variant allowances summary"]
[]
[null,null,null,null,"Variant allowed load related capex expenditure",null,"£m 18/19 prices","Load related capex",null,null,null,null,null,null,null,null,null,null,null,null,null,null,null,null,null,null,null,null,null,null,null,null,null,null,null,null,null,null,null,null,null,{"$f":"SUMPRODUCT((AP$284:AP$499) * ($H$284:$H$499 = $H271))","v":1.6614504183893177},1.680582106149404,1.6809369853429104,1.6739066742387259,1.6600000000000001]
[null,null,null,null,"Variant allowed asset replacement capex expenditure",null,"£m 18/19 prices","Asset replacement capex",null,null,null,null,null,null,null,null,null,null,null,null,null,null,null,null,null,null,null,null,null,null,null,null,null,null,null,null,null,null,null,null,null,98.777084127330625,166.47273132916396,178.05216246450337,95.848192814107705,93.925540827090217]
[null,null,null,null,"Variant allowed other capex expenditure",null,"£m 18/19 prices","Other capex",null,null,null,null,null,null,null,null,null,null,null,null,null,null,null,null,null,null,null,null,null,null,null,null,null,null,null,null,null,null,null,null,null,46.315432707195534,91.529063684658425,81.276807615882774,0.13979623872659983,0.11124499155450619]
[null,null,null,null,"Variant allowed non-load (opex)",null,"£m 18/19 prices","Non-load (opex)",null,null,null,null,null,null,null,null,null,null,null,null,null,null,null,null,null,null,null,null,null,null,null,null,null,null,null,null,null,null,null,null,null,0.19409808515840721,0.6847475346753864,1.2391001570230253,1.9080046759596354,2.3118061933731742]
[null,null,null,null,"Variant allowed indirects (opex)",null,"£m 18/19 prices","Indirects (opex)",null,null,null,null,null,null,null,null,null,null,null,null,null,null,null,null,null,null,null,null,null,null,null,null,null,null,null,null,null,null,null,null,null,9.394951758277486,16.920350162048052,18.138995183794453,2.3588321768112346,3.0016267382945228]
[null,null,null,null,"Variant allowed non-operational capex",null,"£m 18/19 prices","Non-operational capex",null,null,null,null,null,null,null,null,null,null,null,null,null,null,null,null,null,null,null,null,null,null,null,null,null,null,null,null,null,null,null,null,null,0.11959877037259758,0.399112477989577,0.65074399923186699,0.87157386716541263,1.0837658285604739]
[null,null,null,null,"Total",null,"£m 18/19 prices",null,null,null,null,null,null,null,null,null,null,null,null,null,null,null,null,null,null,null,null,null,null,null,null,null,null,null,null,null,null,null,null,null,null,{"$f":"SUM(AP271:AP276)","v":156.46261586672398},{"$f":"SUM(AQ271:AQ276)","v":277.6865872946849},{"$f":"SUM(AR271:AR276)","v":281.0387464057784},{"$f":"SUM(AS271:AS276)","v":102.80030644700931},{"$f":"SUM(AT271:AT276)","v":102.09398457887288}]
[null,null,null,null,null,null,null,null,null,null,null,null,null,null,null,null,null,null,null,null,null,null,null,null,null,null,null,null,null,null,null,null,null,null,null,null,null,null,null,null,null,{"$f":"SUM(AP271:AP276) - SUM(AP284:AP499)","v":0},{"$f":"SUM(AQ271:AQ276) - SUM(AQ284:AQ499)","v":0},{"$f":"SUM(AR271:AR276) - SUM(AR284:AR499)","v":0},{"$f":"SUM(AS271:AS276) - SUM(AS284:AS499)","v":0},{"$f":"SUM(AT271:AT276) - SUM(AT284:AT499)","v":0}]
[null,null,null,null,null,null,null,null,null,null,null,null,null,null,null,null,null,null,null,null,null,null,null,null,null,null,null,null,null,null,null,null,null,null,null,null,null,null,null,null,null,{"$f":"SUM(AP271:AP276) - AP58","v":0},{"$f":"SUM(AQ271:AQ276) - AQ58","v":0},{"$f":"SUM(AR271:AR276) - AR58","v":0},{"$f":"SUM(AS271:AS276) - AS58","v":0},{"$f":"SUM(AT271:AT276) - AT58","v":0}]
[]
[null,null,"Variant allowances allocation to totex categories"]
[null,null,null,null,null,null,null,null,null,null,null,null,null,null,null,null,null,null,null,null,null,null,null,null,null,null,null,null,null,null,null,null,null,null,null,null,null,null,null,null,null,null,null,null,null,null,null,"Totex allocation percentages:"]
[null,null,null,null,null,null,null,null,null,null,null,null,null,null,null,null,null,null,null,null,null,null,null,null,null,null,null,null,null,null,null,null,null,null,null,null,null,null,null,null,null,null,null,null,null,null,null,"2022-03-31","2023-03-31","2024-03-31","2025-03-31","2026-03-31"]
[null,null,null,null,{"$f":"'NGGT TO'!E207","v":"Baseline Allowed NARM Expenditure"},null,"£m 18/19 prices",{"$f":"'NGGT TO'!H207","v":"Load related capex"},null,null,null,null,null,null,null,null,null,null,null,null,null,null,null,null,null,null,null,null,null,null,null,null,null,null,null,null,null,null,null,null,null,{"$f":"INDEX(AP$22:AP$57, MATCH($E284, $E$22:$E$57, 0)) * AV284","v":0},{"$f":"INDEX(AQ$22:AQ$57, MATCH($E284, $E$22:$E$57, 0)) * AW284","v":0},{"$f":"INDEX(AR$22:AR$57, MATCH($E284, $E$22:$E$57, 0)) * AX284","v":0},{"$f":"INDEX(AS$22:AS$57, MATCH($E284, $E$22:$E$57, 0)) * AY284","v":0},{"$f":"INDEX(AT$22:AT$57, MATCH($E284, $E$22:$E$57, 0)) * AZ284","v":0},null,{"$f":"'NGGT TO'!AP207","v":0},{"$f":"'NGGT TO'!AQ207","v":0},{"$f":"'NGGT TO'!AR207","v":0},{"$f":"'NGGT TO'!AS207","v":0},{"$f":"'NGGT TO'!AT207","v":0},null,null,{"$f":"INDEX(BC$22:BC$57, MATCH($E284, $E$22:$E$57, 0))","v":"TIM"},"RPEs Apply","CapRate 1 (Baseline)","Fast/Slow Split"]
[null,null,null,null,{"$f":"'NGGT TO'!E208","v":"Baseline Allowed NARM Expenditure"},null,"£m 18/19 prices",{"$f":"'NGGT TO'!H208","v":"Asset replacement capex"},null,null,null,null,null,null,null,null,null,null,null,null,null,null,null,null,null,null,null,null,null,null,null,null,null,null,null,null,null,null,null,null,null,70.556934412542631,93.600010951421822,79.776008397428896,49.846759348011666,60.647809617431683,null,{"$f":"'NGGT TO'!AP208","v":1},{"$f":"'NGGT TO'!AQ208","v":1},{"$f":"'NGGT TO'!AR208","v":1},{"$f":"'NGGT TO'!AS208","v":1},{"$f":"'NGGT TO'!AT208","v":1},null,null,"TIM","RPEs Apply","CapRate 1 (Baseline)","Fast/Slow Split"]
[null,null,null,null,{"$f":"'NGGT TO'!E209","v":"Baseline Allowed NARM Expenditure"},null,"£m 18/19 prices",{"$f":"'NGGT TO'!H209","v":"Other capex"},null,null,null,null,null,null,null,null,null,null,null,null,null,null,null,null,null,null,null,null,null,null,null,null,null,null,null,null,null,null,null,null,null,0,0,0,0,0,null,{"$f":"'NGGT TO'!AP209","v":0},{"$f":"'NGGT TO'!AQ209","v":0},{"$f":"'NGGT TO'!AR209","v":0},{"$f":"'NGGT TO'!AS209","v":0},{"$f":"'NGGT TO'!AT209","v":0},null,null,"TIM","RPEs Apply","CapRate 1 (Baseline)","Fast/Slow Split"]
[null,null,null,null,{"$f":"'NGGT TO'!E210","v":"Baseline Allowed NARM Expenditure"},null,"£m 18/19 prices",{"$f":"'NGGT TO'!H210","v":"Non-load (opex)"},null,null,null,null,null,null,null,null,null,null,null,null,null,null,null,null,null,null,null,null,null,null,null,null,null,null,null,null,null,null,null,null,null,0,0,0,0,0,null,{"$f":"'NGGT TO'!AP210","v":0},{"$f":"'NGGT TO'!AQ210","v":0},{"$f":"'NGGT TO'!AR210","v":0},{"$f":"'NGGT TO'!AS210","v":0},{"$f":"'NGGT TO'!AT210","v":0},null,null,"TIM","RPEs Apply","CapRate 1 (Baseline)","Fast/Slow Split"]
[null,null,null,null,{"$f":"'NGGT TO'!E211","v":"Baseline Allowed NARM Expenditure"},null,"£m 18/19 prices",{"$f":"'NGGT TO'!H211","v":"Indirects (opex)"},null,null,null,null,null,null,null,null,null,null,null,null,null,null,null,null,null,null,null,null,null,null,null,null,null,null,null,null,null,null,null,null,null,0,0,0,0,0,null,{"$f":"'NGGT TO'!AP211","v":0},{"$f":"'NGGT TO'!AQ211","v":0},{"$f":"'NGGT TO'!AR211","v":0},{"$f":"'NGGT TO'!AS211","v":0},{"$f":"'NGGT TO'!AT211","v":0},null,null,"TIM","RPEs Apply","CapRate 1 (Baseline)","Fast/Slow Split"]
[null,null,null,null,{"$f":"'NGGT TO'!E212","v":"Baseline Allowed NARM Expenditure"},null,"£m 18/19 prices",{"$f":"'NGGT TO'!H212","v":"Non-operational capex"},null,null,null,null,null,null,null,null,null,null,null,null,null,null,null,null,null,null,null,null,null,null,null,null,null,null,null,null,null,null,null,null,null,0,0,0,0,0,null,{"$f":"'NGGT TO'!AP212","v":0},{"$f":"'NGGT TO'!AQ212","v":0},{"$f":"'NGGT TO'!AR212","v":0},{"$f":"'NGGT TO'!AS212","v":0},{"$f":"'NGGT TO'!AT212","v":0},null,null,"TIM","RPEs Apply","CapRate 1 (Baseline)","Fast/Slow Split"]
[null,null,null,null,{"$f":"'NGGT TO'!E213","v":"Physical security Price Control Deliverable"},null,"£m 18/19 prices",{"$f":"'NGGT TO'!H213","v":"Load related capex"},null,null,null,null,null,null,null,null,null,null,null,null,null,null,null,null,null,null,null,null,null,null,null,null,null,null,null,null,null,null,null,null,null,0,0,0,0,0,null,{"$f":"'NGGT TO'!AP213","v":0},{"$f":"'NGGT TO'!AQ213","v":0},{"$f":"'NGGT TO'!AR213","v":0},{"$f":"'NGGT TO'!AS213","v":0},{"$f":"'NGGT TO'!AT213","v":0},null,null,"TIM","RPEs Apply","CapRate 1 (Baseline)","Fast/Slow Split"]
[null,null,null,null,{"$f":"'NGGT TO'!E214","v":"Physical security Price Control Deliverable"},null,"£m 18/19 prices",{"$f":"'NGGT TO'!H214","v":"Asset replacement capex"},null,null,null,null,null,null,null,null,null,null,null,null,null,null,null,null,null,null,null,null,null,null,null,null,null,null,null,null,null,null,null,null,null,0,0,0,0,0,null,{"$f":"'NGGT TO'!AP214","v":0},{"$f":"'NGGT TO'!AQ214","v":0},{"$f":"'NGGT TO'!AR214","v":0},{"$f":"'NGGT TO'!AS214","v":0},{"$f":"'NGGT TO'!AT214","v":0},null,null,"TIM","RPEs Apply","CapRate 1 (Baseline)","Fast/Slow Split"]
[null,null,null,null,{"$f":"'NGGT TO'!E215","v":"Physical security Price Control Deliverable"},null,"£m 18/19 prices",{"$f":"'NGGT TO'!H215","v":"Other capex"},null,null,null,null,null,null,null,null,null,null,null,null,null,null,null,null,null,null,null,null,null,null,null,null,null,null,null,null,null,null,null,null,null,9.5980010803474709,14.901237294179282,1.0257589332958597,0,0,null,{"$f":"'NGGT TO'!AP215","v":1},{"$f":"'NGGT TO'!AQ215","v":1},{"$f":"'NGGT TO'!AR215","v":1},{"$f":"'NGGT TO'!AS215","v":1},{"$f":"'NGGT TO'!AT215","v":1},null,null,"TIM","RPEs Apply","CapRate 1 (Baseline)","Fast/Slow Split"]
[null,null,null,null,{"$f":"'NGGT TO'!E216","v":"Physical security Price Control Deliverable"},null,"£m 18/19 prices",{"$f":"'NGGT TO'!H216","v":"Non-load (opex)"},null,null,null,null,null,null,null,null,null,null,null,null,null,null,null,null,null,null,null,null,null,null,null,null,null,null,null,null,null,null,null,null,null,0,0,0,0,0,null,{"$f":"'NGGT TO'!AP216","v":0},{"$f":"'NGGT TO'!AQ216","v":0},{"$f":"'NGGT TO'!AR216","v":0},{"$f":"'NGGT TO'!AS216","v":0},{"$f":"'NGGT TO'!AT216","v":0},null,null,"TIM","RPEs Apply","CapRate 1 (Baseline)","Fast/Slow Split"]
[null,null,null,null,{"$f":"'NGGT TO'!E217","v":"Physical security Price Control Deliverable"},null,"£m 18/19 prices",{"$f":"'NGGT TO'!H217","v":"Indirects (opex)"},null,null,null,null,null,null,null,null,null,null,null,null,null,null,null,null,null,null,null,null,null,null,null,null,null,null,null,null,null,null,null,null,null,0,0,0,0,0,null,{"$f":"'NGGT TO'!AP217","v":0},{"$f":"'NGGT TO'!AQ217","v":0},{"$f":"'NGGT TO'!AR217","v":0},{"$f":"'NGGT TO'!AS217","v":0},{"$f":"'NGGT TO'!AT217","v":0},null,null,"TIM","RPEs Apply","CapRate 1 (Baseline)","Fast/Slow Split"]
[null,null,null,null,{"$f":"'NGGT TO'!E218","v":"Physical security Price Control Deliverable"},null,"£m 18/19 prices",{"$f":"'NGGT TO'!H218","v":"Non-operational capex"},null,null,null,null,null,null,null,null,null,null,null,null,null,null,null,null,null,null,null,null,null,null,null,null,null,null,null,null,null,null,null,null,null,0,0,0,0,0,null,{"$f":"'NGGT TO'!AP218","v":0},{"$f":"'NGGT TO'!AQ218","v":0},{"$f":"'NGGT TO'!AR218","v":0},{"$f":"'NGGT TO'!AS218","v":0},{"$f":"'NGGT TO'!AT218","v":0},null,null,"TIM","RPEs Apply","CapRate 1 (Baseline)","Fast/Slow Split"]
[null,null,null,null,{"$f":"'NGGT TO'!E219","v":"Bacton terminal site redevelopment Price Control Deliverable"},null,"£m 18/19 prices",{"$f":"'NGGT TO'!H219","v":"Load related capex"},null,null,null,null,null,null,null,null,null,null,null,null,null,null,null,null,null,null,null,null,null,null,null,null,null,null,null,null,null,null,null,null,null,0,0,0,0,0,null,{"$f":"'NGGT TO'!AP219","v":0},{"$f":"'NGGT TO'!AQ219","v":0},{"$f":"'NGGT TO'!AR219","v":0},{"$f":"'NGGT TO'!AS219","v":0},{"$f":"'NGGT TO'!AT219","v":0},null,null,"TIM","RPEs Apply","CapRate 1 (Baseline)","Fast/Slow Split"]
[null,null,null,null,{"$f":"'NGGT TO'!E220","v":"Bacton terminal site redevelopment Price Control Deliverable"},null,"£m 18/19 prices",{"$f":"'NGGT TO'!H220","v":"Asset replacement capex"},null,null,null,null,null,null,null,null,null,null,null,null,null,null,null,null,null,null,null,null,null,null,null,null,null,null,null,null,null,null,null,null,null,7.1260238418300279,3.373682904271154,0,0,0,null,{"$f":"'NGGT TO'!AP220","v":1},{"$f":"'NGGT TO'!AQ220","v":1},{"$f":"'NGGT TO'!AR220","v":1},{"$f":"'NGGT TO'!AS220","v":1},{"$f":"'NGGT TO'!AT220","v":1},null,null,"TIM","RPEs Apply","CapRate 1 (Baseline)","Fast/Slow Split"]
[null,null,null,null,{"$f":"'NGGT TO'!E221","v":"Bacton terminal site redevelopment Price Control Deliverable"},null,"£m 18/19 prices",{"$f":"'NGGT TO'!H221","v":"Other capex"},null,null,null,null,null,null,null,null,null,null,null,null,null,null,null,null,null,null,null,null,null,null,null,null,null,null,null,null,null,null,null,null,null,0,0,0,0,0,null,{"$f":"'NGGT TO'!AP221","v":0},{"$f":"'NGGT TO'!AQ221","v":0},{"$f":"'NGGT TO'!AR221","v":0},{"$f":"'NGGT TO'!AS221","v":0},{"$f":"'NGGT TO'!AT221","v":0},null,null,"TIM","RPEs Apply","CapRate 1 (Baseline)","Fast/Slow Split"]
[null,null,null,null,{"$f":"'NGGT TO'!E222","v":"Bacton terminal site redevelopment Price Control Deliverable"},null,"£m 18/19 prices",{"$f":"'NGGT TO'!H222","v":"Non-load (opex)"},null,null,null,null,null,null,null,null,null,null,null,null,null,null,null,null,null,null,null,null,null,null,null,null,null,null,null,null,null,null,null,null,null,0,0,0,0,0,null,{"$f":"'NGGT TO'!AP222","v":0},{"$f":"'NGGT TO'!AQ222","v":0},{"$f":"'NGGT TO'!AR222","v":0},{"$f":"'NGGT TO'!AS222","v":0},{"$f":"'NGGT TO'!AT222","v":0},null,null,"TIM","RPEs Apply","CapRate 1 (Baseline)","Fast/Slow Split"]
[null,null,null,null,{"$f":"'NGGT TO'!E223","v":"Bacton terminal site redevelopment Price Control Deliverable"},null,"£m 18/19 prices",{"$f":"'NGGT TO'!H223","v":"Indirects (opex)"},null,null,null,null,null,null,null,null,null,null,null,null,null,null,null,null,null,null,null,null,null,null,null,null,null,null,null,null,null,null,null,null,null,0,0,0,0,0,null,{"$f":"'NGGT TO'!AP223","v":0},{"$f":"'NGGT TO'!AQ223","v":0},{"$f":"'NGGT TO'!AR223","v":0},{"$f":"'NGGT TO'!AS223","v":0},{"$f":"'NGGT TO'!AT223","v":0},null,null,"TIM","RPEs Apply","CapRate 1 (Baseline)","Fast/Slow Split"]
[null,null,null,null,{"$f":"'NGGT TO'!E224","v":"Bacton terminal site redevelopment Price Control Deliverable"},null,"£m 18/19 prices",{"$f":"'NGGT TO'!H224","v":"Non-operational capex"},null,null,null,null,null,null,null,null,null,null,null,null,null,null,null,null,null,null,null,null,null,null,null,null,null,null,null,null,null,null,null,null,null,0,0,0,0,0,null,{"$f":"'NGGT TO'!AP224","v":0},{"$f":"'NGGT TO'!AQ224","v":0},{"$f":"'NGGT TO'!AR224","v":0},{"$f":"'NGGT TO'!AS224","v":0},{"$f":"'NGGT TO'!AT224","v":0},null,null,"TIM","RPEs Apply","CapRate 1 (Baseline)","Fast/Slow Split"]
[null,null,null,null,{"$f":"'NGGT TO'!E225","v":"King's Lynn subsidence Price Control Deliverable"},null,"£m 18/19 prices",{"$f":"'NGGT TO'!H225","v":"Load related capex"},null,null,null,null,null,null,null,null,null,null,null,null,null,null,null,null,null,null,null,null,null,null,null,null,null,null,null,null,null,null,null,null,null,0,0,0,0,0,null,{"$f":"'NGGT TO'!AP225","v":0},{"$f":"'NGGT TO'!AQ225","v":0},{"$f":"'NGGT TO'!AR225","v":0},{"$f":"'NGGT TO'!AS225","v":0},{"$f":"'NGGT TO'!AT225","v":0},null,null,"TIM","RPEs Apply","CapRate 1 (Baseline)","Fast/Slow Split"]
[null,null,null,null,{"$f":"'NGGT TO'!E226","v":"King's Lynn subsidence Price Control Deliverable"},null,"£m 18/19 prices",{"$f":"'NGGT TO'!H226","v":"Asset replacement capex"},null,null,null,null,null,null,null,null,null,null,null,null,null,null,null,null,null,null,null,null,null,null,null,null,null,null,null,null,null,null,null,null,null,1.1608360565476097,0,0,0,0,null,{"$f":"'NGGT TO'!AP226","v":1},{"$f":"'NGGT TO'!AQ226","v":1},{"$f":"'NGGT TO'!AR226","v":1},{"$f":"'NGGT TO'!AS226","v":1},{"$f":"'NGGT TO'!AT226","v":1},null,null,"TIM","RPEs Apply","CapRate 1 (Baseline)","Fast/Slow Split"]
[null,null,null,null,{"$f":"'NGGT TO'!E227","v":"King's Lynn subsidence Price Control Deliverable"},null,"£m 18/19 prices",{"$f":"'NGGT TO'!H227","v":"Other capex"},null,null,null,null,null,null,null,null,null,null,null,null,null,null,null,null,null,null,null,null,null,null,null,null,null,null,null,null,null,null,null,null,null,0,0,0,0,0,null,{"$f":"'NGGT TO'!AP227","v":0},{"$f":"'NGGT TO'!AQ227","v":0},{"$f":"'NGGT TO'!AR227","v":0},{"$f":"'NGGT TO'!AS227","v":0},{"$f":"'NGGT TO'!AT227","v":0},null,null,{"$f":"INDEX(BC$22:BC$57, MATCH($E304, $E$22:$E$57, 0))","v":"TIM"},"RPEs Apply","CapRate 1 (Baseline)","Fast/Slow Split"]
[null,null,null,null,{"$f":"'NGGT TO'!E228","v":"King's Lynn subsidence Price Control Deliverable"},null,"£m 18/19 prices",{"$f":"'NGGT TO'!H228","v":"Non-load (opex)"},null,null,null,null,null,null,null,null,null,null,null,null,null,null,null,null,null,null,null,null,null,null,null,null,null,null,null,null,null,null,null,null,null,0,0,0,0,0,null,{"$f":"'NGGT TO'!AP228","v":0},{"$f":"'NGGT TO'!AQ228","v":0},{"$f":"'NGGT TO'!AR228","v":0},{"$f":"'NGGT TO'!AS228","v":0},{"$f":"'NGGT TO'!AT228","v":0},null,null,"TIM","RPEs Apply","CapRate 1 (Baseline)","Fast/Slow Split"]
[null,null,null,null,{"$f":"'NGGT TO'!E229","v":"King's Lynn subsidence Price Control Deliverable"},null,"£m 18/19 prices",{"$f":"'NGGT TO'!H229","v":"Indirects (opex)"},null,null,null,null,null,null,null,null,null,null,null,null,null,null,null,null,null,null,null,null,null,null,null,null,null,null,null,null,null,null,null,null,null,0,0,0,0,0,null,{"$f":"'NGGT TO'!AP229","v":0},{"$f":"'NGGT TO'!AQ229","v":0},{"$f":"'NGGT TO'!AR229","v":0},{"$f":"'NGGT TO'!AS229","v":0},{"$f":"'NGGT TO'!AT229","v":0},null,null,"TIM","RPEs Apply","CapRate 1 (Baseline)","Fast/Slow Split"]
[null,null,null,null,{"$f":"'NGGT TO'!E230","v":"King's Lynn subsidence Price Control Deliverable"},null,"£m 18/19 prices",{"$f":"'NGGT TO'!H230","v":"Non-operational capex"},null,null,null,null,null,null,null,null,null,null,null,null,null,null,null,null,null,null,null,null,null,null,null,null,null,null,null,null,null,null,null,null,null,0,0,0,0,0,null,{"$f":"'NGGT TO'!AP230","v":0},{"$f":"'NGGT TO'!AQ230","v":0},{"$f":"'NGGT TO'!AR230","v":0},{"$f":"'NGGT TO'!AS230","v":0},{"$f":"'NGGT TO'!AT230","v":0},null,null,"TIM","RPEs Apply","CapRate 1 (Baseline)","Fast/Slow Split"]
[null,null,null,null,{"$f":"'NGGT TO'!E231","v":"Asset health - non lead assets Price Control Deliverable"},null,"£m 18/19 prices",{"$f":"'NGGT TO'!H231","v":"Load related capex"},null,null,null,null,null,null,null,null,null,null,null,null,null,null,null,null,null,null,null,null,null,null,null,null,null,null,null,null,null,null,null,null,null,0,0,0,0,0,null,{"$f":"'NGGT TO'!AP231","v":0},{"$f":"'NGGT TO'!AQ231","v":0},{"$f":"'NGGT TO'!AR231","v":0},{"$f":"'NGGT TO'!AS231","v":0},{"$f":"'NGGT TO'!AT231","v":0},null,null,"TIM","RPEs Apply","CapRate 1 (Baseline)","Fast/Slow Split"]
[null,null,null,null,{"$f":"'NGGT TO'!E232","v":"Asset health - non lead assets Price Control Deliverable"},null,"£m 18/19 prices",{"$f":"'NGGT TO'!H232","v":"Asset replacement capex"},null,null,null,null,null,null,null,null,null,null,null,null,null,null,null,null,null,null,null,null,null,null,null,null,null,null,null,null,null,null,null,null,null,7.4572879522201427,9.8607254755791303,11.920313506946851,7.7169522615819179,9.4350243388455457,null,{"$f":"'NGGT TO'!AP232","v":1},{"$f":"'NGGT TO'!AQ232","v":1},{"$f":"'NGGT TO'!AR232","v":1},{"$f":"'NGGT TO'!AS232","v":1},{"$f":"'NGGT TO'!AT232","v":1},null,null,"TIM","RPEs Apply","CapRate 1 (Baseline)","Fast/Slow Split"]
[null,null,null,null,{"$f":"'NGGT TO'!E233","v":"Asset health - non lead assets Price Control Deliverable"},null,"£m 18/19 prices",{"$f":"'NGGT TO'!H233","v":"Other capex"},null,null,null,null,null,null,null,null,null,null,null,null,null,null,null,null,null,null,null,null,null,null,null,null,null,null,null,null,null,null,null,null,null,0,0,0,0,0,null,{"$f":"'NGGT TO'!AP233","v":0},{"$f":"'NGGT TO'!AQ233","v":0},{"$f":"'NGGT TO'!AR233","v":0},{"$f":"'NGGT TO'!AS233","v":0},{"$f":"'NGGT TO'!AT233","v":0},null,null,"TIM","RPEs Apply","CapRate 1 (Baseline)","Fast/Slow Split"]
[null,null,null,null,{"$f":"'NGGT TO'!E234","v":"Asset health - non lead assets Price Control Deliverable"},null,"£m 18/19 prices",{"$f":"'NGGT TO'!H234","v":"Non-load (opex)"},null,null,null,null,null,null,null,null,null,null,null,null,null,null,null,null,null,null,null,null,null,null,null,null,null,null,null,null,null,null,null,null,null,0,0,0,0,0,null,{"$f":"'NGGT TO'!AP234","v":0},{"$f":"'NGGT TO'!AQ234","v":0},{"$f":"'NGGT TO'!AR234","v":0},{"$f":"'NGGT TO'!AS234","v":0},{"$f":"'NGGT TO'!AT234","v":0},null,null,"TIM","RPEs Apply","CapRate 1 (Baseline)","Fast/Slow Split"]
[null,null,null,null,{"$f":"'NGGT TO'!E235","v":"Asset health - non lead assets Price Control Deliverable"},null,"£m 18/19 prices",{"$f":"'NGGT TO'!H235","v":"Indirects (opex)"},null,null,null,null,null,null,null,null,null,null,null,null,null,null,null,null,null,null,null,null,null,null,null,null,null,null,null,null,null,null,null,null,null,0,0,0,0,0,null,{"$f":"'NGGT TO'!AP235","v":0},{"$f":"'NGGT TO'!AQ235","v":0},{"$f":"'NGGT TO'!AR235","v":0},{"$f":"'NGGT TO'!AS235","v":0},{"$f":"'NGGT TO'!AT235","v":0},null,null,"TIM","RPEs Apply","CapRate 1 (Baseline)","Fast/Slow Split"]
[null,null,null,null,{"$f":"'NGGT TO'!E236","v":"Asset health - non lead assets Price Control Deliverable"},null,"£m 18/19 prices",{"$f":"'NGGT TO'!H236","v":"Non-operational capex"},null,null,null,null,null,null,null,null,null,null,null,null,null,null,null,null,null,null,null,null,null,null,null,null,null,null,null,null,null,null,null,null,null,0,0,0,0,0,null,{"$f":"'NGGT TO'!AP236","v":0},{"$f":"'NGGT TO'!AQ236","v":0},{"$f":"'NGGT TO'!AR236","v":0},{"$f":"'NGGT TO'!AS236","v":0},{"$f":"'NGGT TO'!AT236","v":0},null,null,"TIM","RPEs Apply","CapRate 1 (Baseline)","Fast/Slow Split"]
[null,null,null,null,{"$f":"'NGGT TO'!E237","v":"Compressor emissions Price Control Deliverable"},null,"£m 18/19 prices",{"$f":"'NGGT TO'!H237","v":"Load related capex"},null,null,null,null,null,null,null,null,null,null,null,null,null,null,null,null,null,null,null,null,null,null,null,null,null,null,null,null,null,null,null,null,null,0,0,0,0,0,null,{"$f":"'NGGT TO'!AP237","v":0},{"$f":"'NGGT TO'!AQ237","v":0},{"$f":"'NGGT TO'!AR237","v":0},{"$f":"'NGGT TO'!AS237","v":0},{"$f":"'NGGT TO'!AT237","v":0},null,null,"TIM","RPEs Apply","CapRate 1 (Baseline)","Fast/Slow Split"]
[null,null,null,null,{"$f":"'NGGT TO'!E238","v":"Compressor emissions Price Control Deliverable"},null,"£m 18/19 prices",{"$f":"'NGGT TO'!H238","v":"Asset replacement capex"},null,null,null,null,null,null,null,null,null,null,null,null,null,null,null,null,null,null,null,null,null,null,null,null,null,null,null,null,null,null,null,null,null,8.3822001755056519,34.512774359354644,59.500470100496784,20.474768891513815,1.006283648583417,null,{"$f":"'NGGT TO'!AP238","v":1},{"$f":"'NGGT TO'!AQ238","v":1},{"$f":"'NGGT TO'!AR238","v":1},{"$f":"'NGGT TO'!AS238","v":1},{"$f":"'NGGT TO'!AT238","v":1},null,null,"TIM","RPEs Apply","CapRate 1 (Baseline)","Fast/Slow Split"]
[null,null,null,null,{"$f":"'NGGT TO'!E239","v":"Compressor emissions Price Control Deliverable"},null,"£m 18/19 prices",{"$f":"'NGGT TO'!H239","v":"Other capex"},null,null,null,null,null,null,null,null,null,null,null,null,null,null,null,null,null,null,null,null,null,null,null,null,null,null,null,null,null,null,null,null,null,{"$f":"INDEX(AP$22:AP$57, MATCH($E316, $E$22:$E$57, 0)) * AV316","v":0},{"$f":"INDEX(AQ$22:AQ$57, MATCH($E316, $E$22:$E$57, 0)) * AW316","v":0},{"$f":"INDEX(AR$22:AR$57, MATCH($E316, $E$22:$E$57, 0)) * AX316","v":0},{"$f":"INDEX(AS$22:AS$57, MATCH($E316, $E$22:$E$57, 0)) * AY316","v":0},{"$f":"INDEX(AT$22:AT$57, MATCH($E316, $E$22:$E$57, 0)) * AZ316","v":0},null,{"$f":"'NGGT TO'!AP239","v":0},{"$f":"'NGGT TO'!AQ239","v":0},{"$f":"'NGGT TO'!AR239","v":0},{"$f":"'NGGT TO'!AS239","v":0},{"$f":"'NGGT TO'!AT239","v":0},null,null,"TIM","RPEs Apply","CapRate 1 (Baseline)","Fast/Slow Split"]
[null,null,null,null,{"$f":"'NGGT TO'!E240","v":"Compressor emissions Price Control Deliverable"},null,"£m 18/19 prices",{"$f":"'NGGT TO'!H240","v":"Non-load (opex)"},null,null,null,null,null,null,null,null,null,null,null,null,null,null,null,null,null,null,null,null,null,null,null,null,null,null,null,null,null,null,null,null,null,0,0,0,0,0,null,{"$f":"'NGGT TO'!AP240","v":0},{"$f":"'NGGT TO'!AQ240","v":0},{"$f":"'NGGT TO'!AR240","v":0},{"$f":"'NGGT TO'!AS240","v":0},{"$f":"'NGGT TO'!AT240","v":0},null,null,"TIM","RPEs Apply","CapRate 1 (Baseline)","Fast/Slow Split"]
[null,null,null,null,{"$f":"'NGGT TO'!E241","v":"Compressor emissions Price Control Deliverable"},null,"£m 18/19 prices",{"$f":"'NGGT TO'!H241","v":"Indirects (opex)"},null,null,null,null,null,null,null,null,null,null,null,null,null,null,null,null,null,null,null,null,null,null,null,null,null,null,null,null,null,null,null,null,null,0,0,0,0,0,null,{"$f":"'NGGT TO'!AP241","v":0},{"$f":"'NGGT TO'!AQ241","v":0},{"$f":"'NGGT TO'!AR241","v":0},{"$f":"'NGGT TO'!AS241","v":0},{"$f":"'NGGT TO'!AT241","v":0},null,null,"TIM","RPEs Apply","CapRate 1 (Baseline)","Fast/Slow Split"]
[null,null,null,null,{"$f":"'NGGT TO'!E242","v":"Compressor emissions Price Control Deliverable"},null,"£m 18/19 prices",{"$f":"'NGGT TO'!H242","v":"Non-operational capex"},null,null,null,null,null,null,null,null,null,null,null,null,null,null,null,null,null,null,null,null,null,null,null,null,null,null,null,null,null,null,null,null,null,0,0,0,0,0,null,{"$f":"'NGGT TO'!AP242","v":0},{"$f":"'NGGT TO'!AQ242","v":0},{"$f":"'NGGT TO'!AR242","v":0},{"$f":"'NGGT TO'!AS242","v":0},{"$f":"'NGGT TO'!AT242","v":0},null,null,"TIM","RPEs Apply","CapRate 1 (Baseline)","Fast/Slow Split"]
[null,null,null,null,{"$f":"'NGGT TO'!E243","v":"Redundant Assets Price Control Deliverable"},null,"£m 18/19 prices",{"$f":"'NGGT TO'!H243","v":"Load related capex"},null,null,null,null,null,null,null,null,null,null,null,null,null,null,null,null,null,null,null,null,null,null,null,null,null,null,null,null,null,null,null,null,null,0,0,0,0,0,null,{"$f":"'NGGT TO'!AP243","v":0},{"$f":"'NGGT TO'!AQ243","v":0},{"$f":"'NGGT TO'!AR243","v":0},{"$f":"'NGGT TO'!AS243","v":0},{"$f":"'NGGT TO'!AT243","v":0},null,null,"TIM","RPEs Apply","CapRate 1 (Baseline)","Fast/Slow Split"]
[null,null,null,null,{"$f":"'NGGT TO'!E244","v":"Redundant Assets Price Control Deliverable"},null,"£m 18/19 prices",{"$f":"'NGGT TO'!H244","v":"Asset replacement capex"},null,null,null,null,null,null,null,null,null,null,null,null,null,null,null,null,null,null,null,null,null,null,null,null,null,null,null,null,null,null,null,null,null,3.5809826021106526,22.378095325061317,21.286803132998141,13.135867253351169,17.134269515484011,null,{"$f":"'NGGT TO'!AP244","v":1},{"$f":"'NGGT TO'!AQ244","v":1},{"$f":"'NGGT TO'!AR244","v":1},{"$f":"'NGGT TO'!AS244","v":1},{"$f":"'NGGT TO'!AT244","v":1},null,null,"TIM","RPEs Apply","CapRate 1 (Baseline)","Fast/Slow Split"]
[null,null,null,null,{"$f":"'NGGT TO'!E245","v":"Redundant Assets Price Control Deliverable"},null,"£m 18/19 prices",{"$f":"'NGGT TO'!H245","v":"Other capex"},null,null,null,null,null,null,null,null,null,null,null,null,null,null,null,null,null,null,null,null,null,null,null,null,null,null,null,null,null,null,null,null,null,0,0,0,0,0,null,{"$f":"'NGGT TO'!AP245","v":0},{"$f":"'NGGT TO'!AQ245","v":0},{"$f":"'NGGT TO'!AR245","v":0},{"$f":"'NGGT TO'!AS245","v":0},{"$f":"'NGGT TO'!AT245","v":0},null,null,"TIM","RPEs Apply","CapRate 1 (Baseline)","Fast/Slow Split"]
[null,null,null,null,{"$f":"'NGGT TO'!E246","v":"Redundant Assets Price Control Deliverable"},null,"£m 18/19 prices",{"$f":"'NGGT TO'!H246","v":"Non-load (opex)"},null,null,null,null,null,null,null,null,null,null,null,null,null,null,null,null,null,null,null,null,null,null,null,null,null,null,null,null,null,null,null,null,null,0,0,0,0,0,null,{"$f":"'NGGT TO'!AP246","v":0},{"$f":"'NGGT TO'!AQ246","v":0},{"$f":"'NGGT TO'!AR246","v":0},{"$f":"'NGGT TO'!AS246","v":0},{"$f":"'NGGT TO'!AT246","v":0},null,null,"TIM","RPEs Apply","CapRate 1 (Baseline)","Fast/Slow Split"]
[null,null,null,null,{"$f":"'NGGT TO'!E247","v":"Redundant Assets Price Control Deliverable"},null,"£m 18/19 prices",{"$f":"'NGGT TO'!H247","v":"Indirects (opex)"},null,null,null,null,null,null,null,null,null,null,null,null,null,null,null,null,null,null,null,null,null,null,null,null,null,null,null,null,null,null,null,null,null,0,0,0,0,0,null,{"$f":"'NGGT TO'!AP247","v":0},{"$f":"'NGGT TO'!AQ247","v":0},{"$f":"'NGGT TO'!AR247","v":0},{"$f":"'NGGT TO'!AS247","v":0},{"$f":"'NGGT TO'!AT247","v":0},null,null,{"$f":"INDEX(BC$22:BC$57, MATCH($E324, $E$22:$E$57, 0))","v":"TIM"},"RPEs Apply","CapRate 1 (Baseline)","Fast/Slow Split"]
[null,null,null,null,{"$f":"'NGGT TO'!E248","v":"Redundant Assets Price Control Deliverable"},null,"£m 18/19 prices",{"$f":"'NGGT TO'!H248","v":"Non-operational capex"},null,null,null,null,null,null,null,null,null,null,null,null,null,null,null,null,null,null,null,null,null,null,null,null,null,null,null,null,null,null,null,null,null,0,0,0,0,0,null,{"$f":"'NGGT TO'!AP248","v":0},{"$f":"'NGGT TO'!AQ248","v":0},{"$f":"'NGGT TO'!AR248","v":0},{"$f":"'NGGT TO'!AS248","v":0},{"$f":"'NGGT TO'!AT248","v":0},null,null,"TIM","RPEs Apply","CapRate 1 (Baseline)","Fast/Slow Split"]
[null,null,null,null,{"$f":"'NGGT TO'!E249","v":"Funded incremental obligated capacity Price Control Deliverable"},null,"£m 18/19 prices",{"$f":"'NGGT TO'!H249","v":"Load related capex"},null,null,null,null,null,null,null,null,null,null,null,null,null,null,null,null,null,null,null,null,null,null,null,null,null,null,null,null,null,null,null,null,null,0,0,0,0,0,null,{"$f":"'NGGT TO'!AP249","v":1},{"$f":"'NGGT TO'!AQ249","v":1},{"$f":"'NGGT TO'!AR249","v":1},{"$f":"'NGGT TO'!AS249","v":1},{"$f":"'NGGT TO'!AT249","v":1},null,null,"TIM","RPEs Apply","CapRate 1 (Baseline)","Fast/Slow Split"]
[null,null,null,null,{"$f":"'NGGT TO'!E250","v":"Funded incremental obligated capacity Price Control Deliverable"},null,"£m 18/19 prices",{"$f":"'NGGT TO'!H250","v":"Asset replacement capex"},null,null,null,null,null,null,null,null,null,null,null,null,null,null,null,null,null,null,null,null,null,null,null,null,null,null,null,null,null,null,null,null,null,0,0,0,0,0,null,{"$f":"'NGGT TO'!AP250","v":0},{"$f":"'NGGT TO'!AQ250","v":0},{"$f":"'NGGT TO'!AR250","v":0},{"$f":"'NGGT TO'!AS250","v":0},{"$f":"'NGGT TO'!AT250","v":0},null,null,"TIM","RPEs Apply","CapRate 1 (Baseline)","Fast/Slow Split"]
[null,null,null,null,{"$f":"'NGGT TO'!E251","v":"Funded incremental obligated capacity Price Control Deliverable"},null,"£m 18/19 prices",{"$f":"'NGGT TO'!H251","v":"Other capex"},null,null,null,null,null,null,null,null,null,null,null,null,null,null,null,null,null,null,null,null,null,null,null,null,null,null,null,null,null,null,null,null,null,0,0,0,0,0,null,{"$f":"'NGGT TO'!AP251","v":0},{"$f":"'NGGT TO'!AQ251","v":0},{"$f":"'NGGT TO'!AR251","v":0},{"$f":"'NGGT TO'!AS251","v":0},{"$f":"'NGGT TO'!AT251","v":0},null,null,"TIM","RPEs Apply","CapRate 1 (Baseline)","Fast/Slow Split"]
[null,null,null,null,{"$f":"'NGGT TO'!E252","v":"Funded incremental obligated capacity Price Control Deliverable"},null,"£m 18/19 prices",{"$f":"'NGGT TO'!H252","v":"Non-load (opex)"},null,null,null,null,null,null,null,null,null,null,null,null,null,null,null,null,null,null,null,null,null,null,null,null,null,null,null,null,null,null,null,null,null,0,0,0,0,0,null,{"$f":"'NGGT TO'!AP252","v":0},{"$f":"'NGGT TO'!AQ252","v":0},{"$f":"'NGGT TO'!AR252","v":0},{"$f":"'NGGT TO'!AS252","v":0},{"$f":"'NGGT TO'!AT252","v":0},null,null,"TIM","RPEs Apply","CapRate 1 (Baseline)","Fast/Slow Split"]
[null,null,null,null,{"$f":"'NGGT TO'!E253","v":"Funded incremental obligated capacity Price Control Deliverable"},null,"£m 18/19 prices",{"$f":"'NGGT TO'!H253","v":"Indirects (opex)"},null,null,null,null,null,null,null,null,null,null,null,null,null,null,null,null,null,null,null,null,null,null,null,null,null,null,null,null,null,null,null,null,null,0,0,0,0,0,null,{"$f":"'NGGT TO'!AP253","v":0},{"$f":"'NGGT TO'!AQ253","v":0},{"$f":"'NGGT TO'!AR253","v":0},{"$f":"'NGGT TO'!AS253","v":0},{"$f":"'NGGT TO'!AT253","v":0},null,null,"TIM","RPEs Apply","CapRate 1 (Baseline)","Fast/Slow Split"]
[null,null,null,null,{"$f":"'NGGT TO'!E254","v":"Funded incremental obligated capacity Price Control Deliverable"},null,"£m 18/19 prices",{"$f":"'NGGT TO'!H254","v":"Non-operational capex"},null,null,null,null,null,null,null,null,null,null,null,null,null,null,null,null,null,null,null,null,null,null,null,null,null,null,null,null,null,null,null,null,null,0,0,0,0,0,null,{"$f":"'NGGT TO'!AP254","v":0},{"$f":"'NGGT TO'!AQ254","v":0},{"$f":"'NGGT TO'!AR254","v":0},{"$f":"'NGGT TO'!AS254","v":0},{"$f":"'NGGT TO'!AT254","v":0},null,null,"TIM","RPEs Apply","CapRate 1 (Baseline)","Fast/Slow Split"]
[null,null,null,null,{"$f":"'NGGT TO'!E255","v":"Cyber Resilience OT Price Control Deliverable and use it or lose it allowance"},null,"£m 18/19 prices",{"$f":"'NGGT TO'!H255","v":"Load related capex"},null,null,null,null,null,null,null,null,null,null,null,null,null,null,null,null,null,null,null,null,null,null,null,null,null,null,null,null,null,null,null,null,null,0,0,0,0,0,null,{"$f":"'NGGT TO'!AP255","v":0},{"$f":"'NGGT TO'!AQ255","v":0},{"$f":"'NGGT TO'!AR255","v":0},{"$f":"'NGGT TO'!AS255","v":0},{"$f":"'NGGT TO'!AT255","v":0},null,null,"Non-Tim","RPEs Don’t Apply","CapRate 1 (Baseline)","Fast/Slow Split"]
[null,null,null,null,{"$f":"'NGGT TO'!E256","v":"Cyber Resilience OT Price Control Deliverable and use it or lose it allowance"},null,"£m 18/19 prices",{"$f":"'NGGT TO'!H256","v":"Asset replacement capex"},null,null,null,null,null,null,null,null,null,null,null,null,null,null,null,null,null,null,null,null,null,null,null,null,null,null,null,null,null,null,null,null,null,0,0,0,0,0,null,{"$f":"'NGGT TO'!AP256","v":0},{"$f":"'NGGT TO'!AQ256","v":0},{"$f":"'NGGT TO'!AR256","v":0},{"$f":"'NGGT TO'!AS256","v":0},{"$f":"'NGGT TO'!AT256","v":0},null,null,"Non-Tim","RPEs Don’t Apply","CapRate 1 (Baseline)","Fast/Slow Split"]
[null,null,null,null,{"$f":"'NGGT TO'!E257","v":"Cyber Resilience OT Price Control Deliverable and use it or lose it allowance"},null,"£m 18/19 prices",{"$f":"'NGGT TO'!H257","v":"Other capex"},null,null,null,null,null,null,null,null,null,null,null,null,null,null,null,null,null,null,null,null,null,null,null,null,null,null,null,null,null,null,null,null,null,35.101749458956107,74.910695677757772,78.847528716750787,0,0,null,{"$f":"'NGGT TO'!AP257","v":0.85},{"$f":"'NGGT TO'!AQ257","v":0.85},{"$f":"'NGGT TO'!AR257","v":0.85},{"$f":"'NGGT TO'!AS257","v":0.85},{"$f":"'NGGT TO'!AT257","v":0.85},null,null,"Non-Tim","RPEs Don’t Apply","CapRate 1 (Baseline)","Fast/Slow Split"]
[null,null,null,null,{"$f":"'NGGT TO'!E258","v":"Cyber Resilience OT Price Control Deliverable and use it or lose it allowance"},null,"£m 18/19 prices",{"$f":"'NGGT TO'!H258","v":"Non-load (opex)"},null,null,null,null,null,null,null,null,null,null,null,null,null,null,null,null,null,null,null,null,null,null,null,null,null,null,null,null,null,null,null,null,null,0,0,0,0,0,null,{"$f":"'NGGT TO'!AP258","v":0},{"$f":"'NGGT TO'!AQ258","v":0},{"$f":"'NGGT TO'!AR258","v":0},{"$f":"'NGGT TO'!AS258","v":0},{"$f":"'NGGT TO'!AT258","v":0},null,null,"Non-Tim","RPEs Don’t Apply","CapRate 1 (Baseline)","Fast/Slow Split"]
[null,null,null,null,{"$f":"'NGGT TO'!E259","v":"Cyber Resilience OT Price Control Deliverable and use it or lose it allowance"},null,"£m 18/19 prices",{"$f":"'NGGT TO'!H259","v":"Indirects (opex)"},null,null,null,null,null,null,null,null,null,null,null,null,null,null,null,null,null,null,null,null,null,null,null,null,null,null,null,null,null,null,null,null,null,6.1944263751099005,13.219534531369019,13.914269773544257,0,0,null,{"$f":"'NGGT TO'!AP259","v":0.15},{"$f":"'NGGT TO'!AQ259","v":0.15},{"$f":"'NGGT TO'!AR259","v":0.15},{"$f":"'NGGT TO'!AS259","v":0.15},{"$f":"'NGGT TO'!AT259","v":0.15},null,null,"Non-Tim","RPEs Don’t Apply","CapRate 1 (Baseline)","Fast/Slow Split"]
[null,null,null,null,{"$f":"'NGGT TO'!E260","v":"Cyber Resilience OT Price Control Deliverable and use it or lose it allowance"},null,"£m 18/19 prices",{"$f":"'NGGT TO'!H260","v":"Non-operational capex"},null,null,null,null,null,null,null,null,null,null,null,null,null,null,null,null,null,null,null,null,null,null,null,null,null,null,null,null,null,null,null,null,null,0,0,0,0,0,null,{"$f":"'NGGT TO'!AP260","v":0},{"$f":"'NGGT TO'!AQ260","v":0},{"$f":"'NGGT TO'!AR260","v":0},{"$f":"'NGGT TO'!AS260","v":0},{"$f":"'NGGT TO'!AT260","v":0},null,null,"Non-Tim","RPEs Don’t Apply","CapRate 1 (Baseline)","Fast/Slow Split"]
[null,null,null,null,{"$f":"'NGGT TO'!E261","v":"Cyber Resilience IT Price Control Deliverable"},null,"£m 18/19 prices",{"$f":"'NGGT TO'!H261","v":"Load related capex"},null,null,null,null,null,null,null,null,null,null,null,null,null,null,null,null,null,null,null,null,null,null,null,null,null,null,null,null,null,null,null,null,null,0,0,0,0,0,null,{"$f":"'NGGT TO'!AP261","v":0},{"$f":"'NGGT TO'!AQ261","v":0},{"$f":"'NGGT TO'!AR261","v":0},{"$f":"'NGGT TO'!AS261","v":0},{"$f":"'NGGT TO'!AT261","v":0},null,null,"TIM","RPEs Apply","CapRate 1 (Baseline)","Fast/Slow Split"]
[null,null,null,null,{"$f":"'NGGT TO'!E262","v":"Cyber Resilience IT Price Control Deliverable"},null,"£m 18/19 prices",{"$f":"'NGGT TO'!H262","v":"Asset replacement capex"},null,null,null,null,null,null,null,null,null,null,null,null,null,null,null,null,null,null,null,null,null,null,null,null,null,null,null,null,null,null,null,null,null,0,0,0,0,0,null,{"$f":"'NGGT TO'!AP262","v":0},{"$f":"'NGGT TO'!AQ262","v":0},{"$f":"'NGGT TO'!AR262","v":0},{"$f":"'NGGT TO'!AS262","v":0},{"$f":"'NGGT TO'!AT262","v":0},null,null,"TIM","RPEs Apply","CapRate 1 (Baseline)","Fast/Slow Split"]
[null,null,null,null,{"$f":"'NGGT TO'!E263","v":"Cyber Resilience IT Price Control Deliverable"},null,"£m 18/19 prices",{"$f":"'NGGT TO'!H263","v":"Other capex"},null,null,null,null,null,null,null,null,null,null,null,null,null,null,null,null,null,null,null,null,null,null,null,null,null,null,null,null,null,null,null,null,null,1.561673927051749,1.4117876512471546,1.2493676480691862,0,0,null,{"$f":"'NGGT TO'!AP263","v":0.35},{"$f":"'NGGT TO'!AQ263","v":0.35},{"$f":"'NGGT TO'!AR263","v":0.35},{"$f":"'NGGT TO'!AS263","v":0.35},{"$f":"'NGGT TO'!AT263","v":0.35},null,null,"TIM","RPEs Apply","CapRate 1 (Baseline)","Fast/Slow Split"]
[null,null,null,null,{"$f":"'NGGT TO'!E264","v":"Cyber Resilience IT Price Control Deliverable"},null,"£m 18/19 prices",{"$f":"'NGGT TO'!H264","v":"Non-load (opex)"},null,null,null,null,null,null,null,null,null,null,null,null,null,null,null,null,null,null,null,null,null,null,null,null,null,null,null,null,null,null,null,null,null,0,0,0,0,0,null,{"$f":"'NGGT TO'!AP264","v":0},{"$f":"'NGGT TO'!AQ264","v":0},{"$f":"'NGGT TO'!AR264","v":0},{"$f":"'NGGT TO'!AS264","v":0},{"$f":"'NGGT TO'!AT264","v":0},null,null,"TIM","RPEs Apply","CapRate 1 (Baseline)","Fast/Slow Split"]
[null,null,null,null,{"$f":"'NGGT TO'!E265","v":"Cyber Resilience IT Price Control Deliverable"},null,"£m 18/19 prices",{"$f":"'NGGT TO'!H265","v":"Indirects (opex)"},null,null,null,null,null,null,null,null,null,null,null,null,null,null,null,null,null,null,null,null,null,null,null,null,null,null,null,null,null,null,null,null,null,2.9002515788103915,2.6218913523161445,2.3202542035570604,0,0,null,{"$f":"'NGGT TO'!AP265","v":0.65},{"$f":"'NGGT TO'!AQ265","v":0.65},{"$f":"'NGGT TO'!AR265","v":0.65},{"$f":"'NGGT TO'!AS265","v":0.65},{"$f":"'NGGT TO'!AT265","v":0.65},null,null,"TIM","RPEs Apply","CapRate 1 (Baseline)","Fast/Slow Split"]
[null,null,null,null,{"$f":"'NGGT TO'!E266","v":"Cyber Resilience IT Price Control Deliverable"},null,"£m 18/19 prices",{"$f":"'NGGT TO'!H266","v":"Non-operational capex"},null,null,null,null,null,null,null,null,null,null,null,null,null,null,null,null,null,null,null,null,null,null,null,null,null,null,null,null,null,null,null,null,null,0,0,0,0,0,null,{"$f":"'NGGT TO'!AP266","v":0},{"$f":"'NGGT TO'!AQ266","v":0},{"$f":"'NGGT TO'!AR266","v":0},{"$f":"'NGGT TO'!AS266","v":0},{"$f":"'NGGT TO'!AT266","v":0},null,null,"TIM","RPEs Apply","CapRate 1 (Baseline)","Fast/Slow Split"]
[null,null,null,null,{"$f":"'NGGT TO'!E267","v":"Net Zero And Re-opener Development Fund use it or lose it allowance"},null,"£m 18/19 prices",{"$f":"'NGGT TO'!H267","v":"Load related capex"},null,null,null,null,null,null,null,null,null,null,null,null,null,null,null,null,null,null,null,null,null,null,null,null,null,null,null,null,null,null,null,null,null,1.6600000000000001,1.6600000000000001,1.6600000000000001,1.6600000000000001,1.6600000000000001,null,{"$f":"'NGGT TO'!AP267","v":1},{"$f":"'NGGT TO'!AQ267","v":1},{"$f":"'NGGT TO'!AR267","v":1},{"$f":"'NGGT TO'!AS267","v":1},{"$f":"'NGGT TO'!AT267","v":1},null,null,{"$f":"INDEX(BC$22:BC$57, MATCH($E344, $E$22:$E$57, 0))","v":"Non-Tim"},"RPEs Don’t Apply","CapRate 1 (Baseline)","Fast/Slow Split"]
[null,null,null,null,{"$f":"'NGGT TO'!E268","v":"Net Zero And Re-opener Development Fund use it or lose it allowance"},null,"£m 18/19 prices",{"$f":"'NGGT TO'!H268","v":"Asset replacement capex"},null,null,null,null,null,null,null,null,null,null,null,null,null,null,null,null,null,null,null,null,null,null,null,null,null,null,null,null,null,null,null,null,null,0,0,0,0,0,null,{"$f":"'NGGT TO'!AP268","v":0},{"$f":"'NGGT TO'!AQ268","v":0},{"$f":"'NGGT TO'!AR268","v":0},{"$f":"'NGGT TO'!AS268","v":0},{"$f":"'NGGT TO'!AT268","v":0},null,null,"Non-Tim","RPEs Don’t Apply","CapRate 1 (Baseline)","Fast/Slow Split"]
[null,null,null,null,{"$f":"'NGGT TO'!E269","v":"Net Zero And Re-opener Development Fund use it or lose it allowance"},null,"£m 18/19 prices",{"$f":"'NGGT TO'!H269","v":"Other capex"},null,null,null,null,null,null,null,null,null,null,null,null,null,null,null,null,null,null,null,null,null,null,null,null,null,null,null,null,null,null,null,null,null,0,0,0,0,0,null,{"$f":"'NGGT TO'!AP269","v":0},{"$f":"'NGGT TO'!AQ269","v":0},{"$f":"'NGGT TO'!AR269","v":0},{"$f":"'NGGT TO'!AS269","v":0},{"$f":"'NGGT TO'!AT269","v":0},null,null,"Non-Tim","RPEs Don’t Apply","CapRate 1 (Baseline)","Fast/Slow Split"]
[null,null,null,null,{"$f":"'NGGT TO'!E270","v":"Net Zero And Re-opener Development Fund use it or lose it allowance"},null,"£m 18/19 prices",{"$f":"'NGGT TO'!H270","v":"Non-load (opex)"},null,null,null,null,null,null,null,null,null,null,null,null,null,null,null,null,null,null,null,null,null,null,null,null,null,null,null,null,null,null,null,null,null,0,0,0,0,0,null,{"$f":"'NGGT TO'!AP270","v":0},{"$f":"'NGGT TO'!AQ270","v":0},{"$f":"'NGGT TO'!AR270","v":0},{"$f":"'NGGT TO'!AS270","v":0},{"$f":"'NGGT TO'!AT270","v":0},null,null,"Non-Tim","RPEs Don’t Apply","CapRate 1 (Baseline)","Fast/Slow Split"]
[null,null,null,null,{"$f":"'NGGT TO'!E271","v":"Net Zero And Re-opener Development Fund use it or lose it allowance"},null,"£m 18/19 prices",{"$f":"'NGGT TO'!H271","v":"Indirects (opex)"},null,null,null,null,null,null,null,null,null,null,null,null,null,null,null,null,null,null,null,null,null,null,null,null,null,null,null,null,null,null,null,null,null,{"$f":"INDEX(AP$22:AP$57, MATCH($E348, $E$22:$E$57, 0)) * AV348","v":0},{"$f":"INDEX(AQ$22:AQ$57, MATCH($E348, $E$22:$E$57, 0)) * AW348","v":0},{"$f":"INDEX(AR$22:AR$57, MATCH($E348, $E$22:$E$57, 0)) * AX348","v":0},{"$f":"INDEX(AS$22:AS$57, MATCH($E348, $E$22:$E$57, 0)) * AY348","v":0},{"$f":"INDEX(AT$22:AT$57, MATCH($E348, $E$22:$E$57, 0)) * AZ348","v":0},null,{"$f":"'NGGT TO'!AP271","v":0},{"$f":"'NGGT TO'!AQ271","v":0},{"$f":"'NGGT TO'!AR271","v":0},{"$f":"'NGGT TO'!AS271","v":0},{"$f":"'NGGT TO'!AT271","v":0},null,null,"Non-Tim","RPEs Don’t Apply","CapRate 1 (Baseline)","Fast/Slow Split"]
[null,null,null,null,{"$f":"'NGGT TO'!E272","v":"Net Zero And Re-opener Development Fund use it or lose it allowance"},null,"£m 18/19 prices",{"$f":"'NGGT TO'!H272","v":"Non-operational capex"},null,null,null,null,null,null,null,null,null,null,null,null,null,null,null,null,null,null,null,null,null,null,null,null,null,null,null,null,null,null,null,null,null,0,0,0,0,0,null,{"$f":"'NGGT TO'!AP272","v":0},{"$f":"'NGGT TO'!AQ272","v":0},{"$f":"'NGGT TO'!AR272","v":0},{"$f":"'NGGT TO'!AS272","v":0},{"$f":"'NGGT TO'!AT272","v":0},null,null,"Non-Tim","RPEs Don’t Apply","CapRate 1 (Baseline)","Fast/Slow Split"]
[null,null,null,null,{"$f":"'NGGT TO'!E273","v":"Spare PCD 1"},null,"£m 18/19 prices",{"$f":"'NGGT TO'!H273","v":"Load related capex"},null,null,null,null,null,null,null,null,null,null,null,null,null,null,null,null,null,null,null,null,null,null,null,null,null,null,null,null,null,null,null,null,null,0,0,0,0,0,null,{"$f":"'NGGT TO'!AP273","v":0},{"$f":"'NGGT TO'!AQ273","v":0},{"$f":"'NGGT TO'!AR273","v":0},{"$f":"'NGGT TO'!AS273","v":0},{"$f":"'NGGT TO'!AT273","v":0},null,null,"TIM","RPEs Apply","CapRate 1 (Baseline)","Fast/Slow Split"]
[null,null,null,null,{"$f":"'NGGT TO'!E274","v":"Spare PCD 1"},null,"£m 18/19 prices",{"$f":"'NGGT TO'!H274","v":"Asset replacement capex"},null,null,null,null,null,null,null,null,null,null,null,null,null,null,null,null,null,null,null,null,null,null,null,null,null,null,null,null,null,null,null,null,null,0,0,0,0,0,null,{"$f":"'NGGT TO'!AP274","v":0},{"$f":"'NGGT TO'!AQ274","v":0},{"$f":"'NGGT TO'!AR274","v":0},{"$f":"'NGGT TO'!AS274","v":0},{"$f":"'NGGT TO'!AT274","v":0},null,null,"TIM","RPEs Apply","CapRate 1 (Baseline)","Fast/Slow Split"]
[null,null,null,null,{"$f":"'NGGT TO'!E275","v":"Spare PCD 1"},null,"£m 18/19 prices",{"$f":"'NGGT TO'!H275","v":"Other capex"},null,null,null,null,null,null,null,null,null,null,null,null,null,null,null,null,null,null,null,null,null,null,null,null,null,null,null,null,null,null,null,null,null,0,0,0,0,0,null,{"$f":"'NGGT TO'!AP275","v":0},{"$f":"'NGGT TO'!AQ275","v":0},{"$f":"'NGGT TO'!AR275","v":0},{"$f":"'NGGT TO'!AS275","v":0},{"$f":"'NGGT TO'!AT275","v":0},null,null,"TIM","RPEs Apply","CapRate 1 (Baseline)","Fast/Slow Split"]
[null,null,null,null,{"$f":"'NGGT TO'!E276","v":"Spare PCD 1"},null,"£m 18/19 prices",{"$f":"'NGGT TO'!H276","v":"Non-load (opex)"},null,null,null,null,null,null,null,null,null,null,null,null,null,null,null,null,null,null,null,null,null,null,null,null,null,null,null,null,null,null,null,null,null,0,0,0,0,0,null,{"$f":"'NGGT TO'!AP276","v":0},{"$f":"'NGGT TO'!AQ276","v":0},{"$f":"'NGGT TO'!AR276","v":0},{"$f":"'NGGT TO'!AS276","v":0},{"$f":"'NGGT TO'!AT276","v":0},null,null,"TIM","RPEs Apply","CapRate 1 (Baseline)","Fast/Slow Split"]
[null,null,null,null,{"$f":"'NGGT TO'!E277","v":"Spare PCD 1"},null,"£m 18/19 prices",{"$f":"'NGGT TO'!H277","v":"Indirects (opex)"},null,null,null,null,null,null,null,null,null,null,null,null,null,null,null,null,null,null,null,null,null,null,null,null,null,null,null,null,null,null,null,null,null,0,0,0,0,0,null,{"$f":"'NGGT TO'!AP277","v":0},{"$f":"'NGGT TO'!AQ277","v":0},{"$f":"'NGGT TO'!AR277","v":0},{"$f":"'NGGT TO'!AS277","v":0},{"$f":"'NGGT TO'!AT277","v":0},null,null,"TIM","RPEs Apply","CapRate 1 (Baseline)","Fast/Slow Split"]
[null,null,null,null,{"$f":"'NGGT TO'!E278","v":"Spare PCD 1"},null,"£m 18/19 prices",{"$f":"'NGGT TO'!H278","v":"Non-operational capex"},null,null,null,null,null,null,null,null,null,null,null,null,null,null,null,null,null,null,null,null,null,null,null,null,null,null,null,null,null,null,null,null,null,0,0,0,0,0,null,{"$f":"'NGGT TO'!AP278","v":0},{"$f":"'NGGT TO'!AQ278","v":0},{"$f":"'NGGT TO'!AR278","v":0},{"$f":"'NGGT TO'!AS278","v":0},{"$f":"'NGGT TO'!AT278","v":0},null,null,"TIM","RPEs Apply","CapRate 1 (Baseline)","Fast/Slow Split"]
[null,null,null,null,{"$f":"'NGGT TO'!E279","v":"Spare PCD 2"},null,"£m 18/19 prices",{"$f":"'NGGT TO'!H279","v":"Load related capex"},null,null,null,null,null,null,null,null,null,null,null,null,null,null,null,null,null,null,null,null,null,null,null,null,null,null,null,null,null,null,null,null,null,0,0,0,0,0,null,{"$f":"'NGGT TO'!AP279","v":0},{"$f":"'NGGT TO'!AQ279","v":0},{"$f":"'NGGT TO'!AR279","v":0},{"$f":"'NGGT TO'!AS279","v":0},{"$f":"'NGGT TO'!AT279","v":0},null,null,0,0,0,0]
[null,null,null,null,{"$f":"'NGGT TO'!E280","v":"Spare PCD 2"},null,"£m 18/19 prices",{"$f":"'NGGT TO'!H280","v":"Asset replacement capex"},null,null,null,null,null,null,null,null,null,null,null,null,null,null,null,null,null,null,null,null,null,null,null,null,null,null,null,null,null,null,null,null,null,0,0,0,0,0,null,{"$f":"'NGGT TO'!AP280","v":0},{"$f":"'NGGT TO'!AQ280","v":0},{"$f":"'NGGT TO'!AR280","v":0},{"$f":"'NGGT TO'!AS280","v":0},{"$f":"'NGGT TO'!AT280","v":0},null,null,0,0,0,0]
[null,null,null,null,{"$f":"'NGGT TO'!E281","v":"Spare PCD 2"},null,"£m 18/19 prices",{"$f":"'NGGT TO'!H281","v":"Other capex"},null,null,null,null,null,null,null,null,null,null,null,null,null,null,null,null,null,null,null,null,null,null,null,null,null,null,null,null,null,null,null,null,null,0,0,0,0,0,null,{"$f":"'NGGT TO'!AP281","v":0},{"$f":"'NGGT TO'!AQ281","v":0},{"$f":"'NGGT TO'!AR281","v":0},{"$f":"'NGGT TO'!AS281","v":0},{"$f":"'NGGT TO'!AT281","v":0},null,null,0,0,0,0]
[null,null,null,null,{"$f":"'NGGT TO'!E282","v":"Spare PCD 2"},null,"£m 18/19 prices",{"$f":"'NGGT TO'!H282","v":"Non-load (opex)"},null,null,null,null,null,null,null,null,null,null,null,null,null,null,null,null,null,null,null,null,null,null,null,null,null,null,null,null,null,null,null,null,null,0,0,0,0,0,null,{"$f":"'NGGT TO'!AP282","v":0},{"$f":"'NGGT TO'!AQ282","v":0},{"$f":"'NGGT TO'!AR282","v":0},{"$f":"'NGGT TO'!AS282","v":0},{"$f":"'NGGT TO'!AT282","v":0},null,null,0,0,0,0]
[null,null,null,null,{"$f":"'NGGT TO'!E283","v":"Spare PCD 2"},null,"£m 18/19 prices",{"$f":"'NGGT TO'!H283","v":"Indirects (opex)"},null,null,null,null,null,null,null,null,null,null,null,null,null,null,null,null,null,null,null,null,null,null,null,null,null,null,null,null,null,null,null,null,null,0,0,0,0,0,null,{"$f":"'NGGT TO'!AP283","v":0},{"$f":"'NGGT TO'!AQ283","v":0},{"$f":"'NGGT TO'!AR283","v":0},{"$f":"'NGGT TO'!AS283","v":0},{"$f":"'NGGT TO'!AT283","v":0},null,null,0,0,0,0]
[null,null,null,null,{"$f":"'NGGT TO'!E284","v":"Spare PCD 2"},null,"£m 18/19 prices",{"$f":"'NGGT TO'!H284","v":"Non-operational capex"},null,null,null,null,null,null,null,null,null,null,null,null,null,null,null,null,null,null,null,null,null,null,null,null,null,null,null,null,null,null,null,null,null,0,0,0,0,0,null,{"$f":"'NGGT TO'!AP284","v":0},{"$f":"'NGGT TO'!AQ284","v":0},{"$f":"'NGGT TO'!AR284","v":0},{"$f":"'NGGT TO'!AS284","v":0},{"$f":"'NGGT TO'!AT284","v":0},null,null,0,0,0,0]
[null,null,null,null,{"$f":"'NGGT TO'!E285","v":"Spare PCD 3"},null,"£m 18/19 prices",{"$f":"'NGGT TO'!H285","v":"Load related capex"},null,null,null,null,null,null,null,null,null,null,null,null,null,null,null,null,null,null,null,null,null,null,null,null,null,null,null,null,null,null,null,null,null,0,0,0,0,0,null,{"$f":"'NGGT TO'!AP285","v":0},{"$f":"'NGGT TO'!AQ285","v":0},{"$f":"'NGGT TO'!AR285","v":0},{"$f":"'NGGT TO'!AS285","v":0},{"$f":"'NGGT TO'!AT285","v":0},null,null,0,0,0,0]
[null,null,null,null,{"$f":"'NGGT TO'!E286","v":"Spare PCD 3"},null,"£m 18/19 prices",{"$f":"'NGGT TO'!H286","v":"Asset replacement capex"},null,null,null,null,null,null,null,null,null,null,null,null,null,null,null,null,null,null,null,null,null,null,null,null,null,null,null,null,null,null,null,null,null,0,0,0,0,0,null,{"$f":"'NGGT TO'!AP286","v":0},{"$f":"'NGGT TO'!AQ286","v":0},{"$f":"'NGGT TO'!AR286","v":0},{"$f":"'NGGT TO'!AS286","v":0},{"$f":"'NGGT TO'!AT286","v":0},null,null,0,0,0,0]
[null,null,null,null,{"$f":"'NGGT TO'!E287","v":"Spare PCD 3"},null,"£m 18/19 prices",{"$f":"'NGGT TO'!H287","v":"Other capex"},null,null,null,null,null,null,null,null,null,null,null,null,null,null,null,null,null,null,null,null,null,null,null,null,null,null,null,null,null,null,null,null,null,0,0,0,0,0,null,{"$f":"'NGGT TO'!AP287","v":0},{"$f":"'NGGT TO'!AQ287","v":0},{"$f":"'NGGT TO'!AR287","v":0},{"$f":"'NGGT TO'!AS287","v":0},{"$f":"'NGGT TO'!AT287","v":0},null,null,{"$f":"INDEX(BC$22:BC$57, MATCH($E364, $E$22:$E$57, 0))","v":0},0,0,0]
[null,null,null,null,{"$f":"'NGGT TO'!E288","v":"Spare PCD 3"},null,"£m 18/19 prices",{"$f":"'NGGT TO'!H288","v":"Non-load (opex)"},null,null,null,null,null,null,null,null,null,null,null,null,null,null,null,null,null,null,null,null,null,null,null,null,null,null,null,null,null,null,null,null,null,0,0,0,0,0,null,{"$f":"'NGGT TO'!AP288","v":0},{"$f":"'NGGT TO'!AQ288","v":0},{"$f":"'NGGT TO'!AR288","v":0},{"$f":"'NGGT TO'!AS288","v":0},{"$f":"'NGGT TO'!AT288","v":0},null,null,0,0,0,0]
[null,null,null,null,{"$f":"'NGGT TO'!E289","v":"Spare PCD 3"},null,"£m 18/19 prices",{"$f":"'NGGT TO'!H289","v":"Indirects (opex)"},null,null,null,null,null,null,null,null,null,null,null,null,null,null,null,null,null,null,null,null,null,null,null,null,null,null,null,null,null,null,null,null,null,0,0,0,0,0,null,{"$f":"'NGGT TO'!AP289","v":0},{"$f":"'NGGT TO'!AQ289","v":0},{"$f":"'NGGT TO'!AR289","v":0},{"$f":"'NGGT TO'!AS289","v":0},{"$f":"'NGGT TO'!AT289","v":0},null,null,0,0,0,0]
[null,null,null,null,{"$f":"'NGGT TO'!E290","v":"Spare PCD 3"},null,"£m 18/19 prices",{"$f":"'NGGT TO'!H290","v":"Non-operational capex"},null,null,null,null,null,null,null,null,null,null,null,null,null,null,null,null,null,null,null,null,null,null,null,null,null,null,null,null,null,null,null,null,null,0,0,0,0,0,null,{"$f":"'NGGT TO'!AP290","v":0},{"$f":"'NGGT TO'!AQ290","v":0},{"$f":"'NGGT TO'!AR290","v":0},{"$f":"'NGGT TO'!AS290","v":0},{"$f":"'NGGT TO'!AT290","v":0},null,null,0,0,0,0]
[null,null,null,null,{"$f":"'NGGT TO'!E291","v":"NARM Asset Health Re-opener"},null,"£m 18/19 prices",{"$f":"'NGGT TO'!H291","v":"Load related capex"},null,null,null,null,null,null,null,null,null,null,null,null,null,null,null,null,null,null,null,null,null,null,null,null,null,null,null,null,null,null,null,null,null,{"$f":"INDEX(AP$22:AP$57, MATCH($E368, $E$22:$E$57, 0)) * AV368","v":0},{"$f":"INDEX(AQ$22:AQ$57, MATCH($E368, $E$22:$E$57, 0)) * AW368","v":0},{"$f":"INDEX(AR$22:AR$57, MATCH($E368, $E$22:$E$57, 0)) * AX368","v":0},{"$f":"INDEX(AS$22:AS$57, MATCH($E368, $E$22:$E$57, 0)) * AY368","v":0},{"$f":"INDEX(AT$22:AT$57, MATCH($E368, $E$22:$E$57, 0)) * AZ368","v":0},null,{"$f":"'NGGT TO'!AP291","v":0},{"$f":"'NGGT TO'!AQ291","v":0},{"$f":"'NGGT TO'!AR291","v":0},{"$f":"'NGGT TO'!AS291","v":0},{"$f":"'NGGT TO'!AT291","v":0},null,null,"TIM","RPEs Don’t Apply","CapRate 2 (UM)","Fast/Slow Split"]
[null,null,null,null,{"$f":"'NGGT TO'!E292","v":"NARM Asset Health Re-opener"},null,"£m 18/19 prices",{"$f":"'NGGT TO'!H292","v":"Asset replacement capex"},null,null,null,null,null,null,null,null,null,null,null,null,null,null,null,null,null,null,null,null,null,null,null,null,null,null,null,null,null,null,null,null,null,0,0,0,0,0,null,{"$f":"'NGGT TO'!AP292","v":1},{"$f":"'NGGT TO'!AQ292","v":1},{"$f":"'NGGT TO'!AR292","v":1},{"$f":"'NGGT TO'!AS292","v":1},{"$f":"'NGGT TO'!AT292","v":1},null,null,"TIM","RPEs Don’t Apply","CapRate 2 (UM)","Fast/Slow Split"]
[null,null,null,null,{"$f":"'NGGT TO'!E293","v":"NARM Asset Health Re-opener"},null,"£m 18/19 prices",{"$f":"'NGGT TO'!H293","v":"Other capex"},null,null,null,null,null,null,null,null,null,null,null,null,null,null,null,null,null,null,null,null,null,null,null,null,null,null,null,null,null,null,null,null,null,0,0,0,0,0,null,{"$f":"'NGGT TO'!AP293","v":0},{"$f":"'NGGT TO'!AQ293","v":0},{"$f":"'NGGT TO'!AR293","v":0},{"$f":"'NGGT TO'!AS293","v":0},{"$f":"'NGGT TO'!AT293","v":0},null,null,"TIM","RPEs Don’t Apply","CapRate 2 (UM)","Fast/Slow Split"]
[null,null,null,null,{"$f":"'NGGT TO'!E294","v":"NARM Asset Health Re-opener"},null,"£m 18/19 prices",{"$f":"'NGGT TO'!H294","v":"Non-load (opex)"},null,null,null,null,null,null,null,null,null,null,null,null,null,null,null,null,null,null,null,null,null,null,null,null,null,null,null,null,null,null,null,null,null,0,0,0,0,0,null,{"$f":"'NGGT TO'!AP294","v":0},{"$f":"'NGGT TO'!AQ294","v":0},{"$f":"'NGGT TO'!AR294","v":0},{"$f":"'NGGT TO'!AS294","v":0},{"$f":"'NGGT TO'!AT294","v":0},null,null,"TIM","RPEs Don’t Apply","CapRate 2 (UM)","Fast/Slow Split"]
[null,null,null,null,{"$f":"'NGGT TO'!E295","v":"NARM Asset Health Re-opener"},null,"£m 18/19 prices",{"$f":"'NGGT TO'!H295","v":"Indirects (opex)"},null,null,null,null,null,null,null,null,null,null,null,null,null,null,null,null,null,null,null,null,null,null,null,null,null,null,null,null,null,null,null,null,null,0,0,0,0,0,null,{"$f":"'NGGT TO'!AP295","v":0},{"$f":"'NGGT TO'!AQ295","v":0},{"$f":"'NGGT TO'!AR295","v":0},{"$f":"'NGGT TO'!AS295","v":0},{"$f":"'NGGT TO'!AT295","v":0},null,null,"TIM","RPEs Don’t Apply","CapRate 2 (UM)","Fast/Slow Split"]
[null,null,null,null,{"$f":"'NGGT TO'!E296","v":"NARM Asset Health Re-opener"},null,"£m 18/19 prices",{"$f":"'NGGT TO'!H296","v":"Non-operational capex"},null,null,null,null,null,null,null,null,null,null,null,null,null,null,null,null,null,null,null,null,null,null,null,null,null,null,null,null,null,null,null,null,null,0,0,0,0,0,null,{"$f":"'NGGT TO'!AP296","v":0},{"$f":"'NGGT TO'!AQ296","v":0},{"$f":"'NGGT TO'!AR296","v":0},{"$f":"'NGGT TO'!AS296","v":0},{"$f":"'NGGT TO'!AT296","v":0},null,null,"TIM","RPEs Don’t Apply","CapRate 2 (UM)","Fast/Slow Split"]
[null,null,null,null,{"$f":"'NGGT TO'!E297","v":"Non-operational IT Capex Re-opener"},null,"£m 18/19 prices",{"$f":"'NGGT TO'!H297","v":"Load related capex"},null,null,null,null,null,null,null,null,null,null,null,null,null,null,null,null,null,null,null,null,null,null,null,null,null,null,null,null,null,null,null,null,null,0,0,0,0,0,null,{"$f":"'NGGT TO'!AP297","v":0},{"$f":"'NGGT TO'!AQ297","v":0},{"$f":"'NGGT TO'!AR297","v":0},{"$f":"'NGGT TO'!AS297","v":0},{"$f":"'NGGT TO'!AT297","v":0},null,null,"TIM","RPEs Don’t Apply","CapRate 2 (UM)","Fast/Slow Split"]
[null,null,null,null,{"$f":"'NGGT TO'!E298","v":"Non-operational IT Capex Re-opener"},null,"£m 18/19 prices",{"$f":"'NGGT TO'!H298","v":"Asset replacement capex"},null,null,null,null,null,null,null,null,null,null,null,null,null,null,null,null,null,null,null,null,null,null,null,null,null,null,null,null,null,null,null,null,null,0,0,0,0,0,null,{"$f":"'NGGT TO'!AP298","v":0},{"$f":"'NGGT TO'!AQ298","v":0},{"$f":"'NGGT TO'!AR298","v":0},{"$f":"'NGGT TO'!AS298","v":0},{"$f":"'NGGT TO'!AT298","v":0},null,null,"TIM","RPEs Don’t Apply","CapRate 2 (UM)","Fast/Slow Split"]
[null,null,null,null,{"$f":"'NGGT TO'!E299","v":"Non-operational IT Capex Re-opener"},null,"£m 18/19 prices",{"$f":"'NGGT TO'!H299","v":"Other capex"},null,null,null,null,null,null,null,null,null,null,null,null,null,null,null,null,null,null,null,null,null,null,null,null,null,null,null,null,null,null,null,null,null,0,0,0,0,0,null,{"$f":"'NGGT TO'!AP299","v":0},{"$f":"'NGGT TO'!AQ299","v":0},{"$f":"'NGGT TO'!AR299","v":0},{"$f":"'NGGT TO'!AS299","v":0},{"$f":"'NGGT TO'!AT299","v":0},null,null,"TIM","RPEs Don’t Apply","CapRate 2 (UM)","Fast/Slow Split"]
[null,null,null,null,{"$f":"'NGGT TO'!E300","v":"Non-operational IT Capex Re-opener"},null,"£m 18/19 prices",{"$f":"'NGGT TO'!H300","v":"Non-load (opex)"},null,null,null,null,null,null,null,null,null,null,null,null,null,null,null,null,null,null,null,null,null,null,null,null,null,null,null,null,null,null,null,null,null,0,0,0,0,0,null,{"$f":"'NGGT TO'!AP300","v":0},{"$f":"'NGGT TO'!AQ300","v":0},{"$f":"'NGGT TO'!AR300","v":0},{"$f":"'NGGT TO'!AS300","v":0},{"$f":"'NGGT TO'!AT300","v":0},null,null,"TIM","RPEs Don’t Apply","CapRate 2 (UM)","Fast/Slow Split"]
[null,null,null,null,{"$f":"'NGGT TO'!E301","v":"Non-operational IT Capex Re-opener"},null,"£m 18/19 prices",{"$f":"'NGGT TO'!H301","v":"Indirects (opex)"},null,null,null,null,null,null,null,null,null,null,null,null,null,null,null,null,null,null,null,null,null,null,null,null,null,null,null,null,null,null,null,null,null,0,0,0,0,0,null,{"$f":"'NGGT TO'!AP301","v":0},{"$f":"'NGGT TO'!AQ301","v":0},{"$f":"'NGGT TO'!AR301","v":0},{"$f":"'NGGT TO'!AS301","v":0},{"$f":"'NGGT TO'!AT301","v":0},null,null,"TIM","RPEs Don’t Apply","CapRate 2 (UM)","Fast/Slow Split"]
[null,null,null,null,{"$f":"'NGGT TO'!E302","v":"Non-operational IT Capex Re-opener"},null,"£m 18/19 prices",{"$f":"'NGGT TO'!H302","v":"Non-operational capex"},null,null,null,null,null,null,null,null,null,null,null,null,null,null,null,null,null,null,null,null,null,null,null,null,null,null,null,null,null,null,null,null,null,0,0,0,0,0,null,{"$f":"'NGGT TO'!AP302","v":0},{"$f":"'NGGT TO'!AQ302","v":0},{"$f":"'NGGT TO'!AR302","v":0},{"$f":"'NGGT TO'!AS302","v":0},{"$f":"'NGGT TO'!AT302","v":0},null,null,"TIM","RPEs Don’t Apply","CapRate 2 (UM)","Fast/Slow Split"]
[null,null,null,null,{"$f":"'NGGT TO'!E303","v":"Coordinated adjustment mechanism Re-opener"},null,"£m 18/19 prices",{"$f":"'NGGT TO'!H303","v":"Load related capex"},null,null,null,null,null,null,null,null,null,null,null,null,null,null,null,null,null,null,null,null,null,null,null,null,null,null,null,null,null,null,null,null,null,0,0,0,0,0,null,{"$f":"'NGGT TO'!AP303","v":0},{"$f":"'NGGT TO'!AQ303","v":0},{"$f":"'NGGT TO'!AR303","v":0},{"$f":"'NGGT TO'!AS303","v":0},{"$f":"'NGGT TO'!AT303","v":0},null,null,"TIM","RPEs Don’t Apply","CapRate 2 (UM)","Fast/Slow Split"]
[null,null,null,null,{"$f":"'NGGT TO'!E304","v":"Coordinated adjustment mechanism Re-opener"},null,"£m 18/19 prices",{"$f":"'NGGT TO'!H304","v":"Asset replacement capex"},null,null,null,null,null,null,null,null,null,null,null,null,null,null,null,null,null,null,null,null,null,null,null,null,null,null,null,null,null,null,null,null,null,0,0,0,0,0,null,{"$f":"'NGGT TO'!AP304","v":0},{"$f":"'NGGT TO'!AQ304","v":0},{"$f":"'NGGT TO'!AR304","v":0},{"$f":"'NGGT TO'!AS304","v":0},{"$f":"'NGGT TO'!AT304","v":0},null,null,"TIM","RPEs Don’t Apply","CapRate 2 (UM)","Fast/Slow Split"]
[null,null,null,null,{"$f":"'NGGT TO'!E305","v":"Coordinated adjustment mechanism Re-opener"},null,"£m 18/19 prices",{"$f":"'NGGT TO'!H305","v":"Other capex"},null,null,null,null,null,null,null,null,null,null,null,null,null,null,null,null,null,null,null,null,null,null,null,null,null,null,null,null,null,null,null,null,null,0,0,0,0,0,null,{"$f":"'NGGT TO'!AP305","v":0},{"$f":"'NGGT TO'!AQ305","v":0},{"$f":"'NGGT TO'!AR305","v":0},{"$f":"'NGGT TO'!AS305","v":0},{"$f":"'NGGT TO'!AT305","v":0},null,null,"TIM","RPEs Don’t Apply","CapRate 2 (UM)","Fast/Slow Split"]
[null,null,null,null,{"$f":"'NGGT TO'!E306","v":"Coordinated adjustment mechanism Re-opener"},null,"£m 18/19 prices",{"$f":"'NGGT TO'!H306","v":"Non-load (opex)"},null,null,null,null,null,null,null,null,null,null,null,null,null,null,null,null,null,null,null,null,null,null,null,null,null,null,null,null,null,null,null,null,null,0,0,0,0,0,null,{"$f":"'NGGT TO'!AP306","v":0},{"$f":"'NGGT TO'!AQ306","v":0},{"$f":"'NGGT TO'!AR306","v":0},{"$f":"'NGGT TO'!AS306","v":0},{"$f":"'NGGT TO'!AT306","v":0},null,null,"TIM","RPEs Don’t Apply","CapRate 2 (UM)","Fast/Slow Split"]
[null,null,null,null,{"$f":"'NGGT TO'!E307","v":"Coordinated adjustment mechanism Re-opener"},null,"£m 18/19 prices",{"$f":"'NGGT TO'!H307","v":"Indirects (opex)"},null,null,null,null,null,null,null,null,null,null,null,null,null,null,null,null,null,null,null,null,null,null,null,null,null,null,null,null,null,null,null,null,null,0,0,0,0,0,null,{"$f":"'NGGT TO'!AP307","v":0},{"$f":"'NGGT TO'!AQ307","v":0},{"$f":"'NGGT TO'!AR307","v":0},{"$f":"'NGGT TO'!AS307","v":0},{"$f":"'NGGT TO'!AT307","v":0},null,null,"TIM","RPEs Don’t Apply","CapRate 2 (UM)","Fast/Slow Split"]
[null,null,null,null,{"$f":"'NGGT TO'!E308","v":"Coordinated adjustment mechanism Re-opener"},null,"£m 18/19 prices",{"$f":"'NGGT TO'!H308","v":"Non-operational capex"},null,null,null,null,null,null,null,null,null,null,null,null,null,null,null,null,null,null,null,null,null,null,null,null,null,null,null,null,null,null,null,null,null,0,0,0,0,0,null,{"$f":"'NGGT TO'!AP308","v":0},{"$f":"'NGGT TO'!AQ308","v":0},{"$f":"'NGGT TO'!AR308","v":0},{"$f":"'NGGT TO'!AS308","v":0},{"$f":"'NGGT TO'!AT308","v":0},null,null,"TIM","RPEs Don’t Apply","CapRate 2 (UM)","Fast/Slow Split"]
[null,null,null,null,{"$f":"'NGGT TO'!E309","v":"Net zero Re-opener"},null,"£m 18/19 prices",{"$f":"'NGGT TO'!H309","v":"Load related capex"},null,null,null,null,null,null,null,null,null,null,null,null,null,null,null,null,null,null,null,null,null,null,null,null,null,null,null,null,null,null,null,null,null,{"$f":"INDEX(AP$22:AP$57, MATCH($E386, $E$22:$E$57, 0)) * AV386","v":0},{"$f":"INDEX(AQ$22:AQ$57, MATCH($E386, $E$22:$E$57, 0)) * AW386","v":0},{"$f":"INDEX(AR$22:AR$57, MATCH($E386, $E$22:$E$57, 0)) * AX386","v":0},{"$f":"INDEX(AS$22:AS$57, MATCH($E386, $E$22:$E$57, 0)) * AY386","v":0},{"$f":"INDEX(AT$22:AT$57, MATCH($E386, $E$22:$E$57, 0)) * AZ386","v":0},null,{"$f":"'NGGT TO'!AP309","v":0},{"$f":"'NGGT TO'!AQ309","v":0},{"$f":"'NGGT TO'!AR309","v":0},{"$f":"'NGGT TO'!AS309","v":0},{"$f":"'NGGT TO'!AT309","v":0},null,null,"TIM","RPEs Don’t Apply","CapRate 2 (UM)","Fast/Slow Split"]
[null,null,null,null,{"$f":"'NGGT TO'!E310","v":"Net zero Re-opener"},null,"£m 18/19 prices",{"$f":"'NGGT TO'!H310","v":"Asset replacement capex"},null,null,null,null,null,null,null,null,null,null,null,null,null,null,null,null,null,null,null,null,null,null,null,null,null,null,null,null,null,null,null,null,null,0,0,0,0,0,null,{"$f":"'NGGT TO'!AP310","v":0},{"$f":"'NGGT TO'!AQ310","v":0},{"$f":"'NGGT TO'!AR310","v":0},{"$f":"'NGGT TO'!AS310","v":0},{"$f":"'NGGT TO'!AT310","v":0},null,null,"TIM","RPEs Don’t Apply","CapRate 2 (UM)","Fast/Slow Split"]
[null,null,null,null,{"$f":"'NGGT TO'!E311","v":"Net zero Re-opener"},null,"£m 18/19 prices",{"$f":"'NGGT TO'!H311","v":"Other capex"},null,null,null,null,null,null,null,null,null,null,null,null,null,null,null,null,null,null,null,null,null,null,null,null,null,null,null,null,null,null,null,null,null,0,0,0,0,0,null,{"$f":"'NGGT TO'!AP311","v":0},{"$f":"'NGGT TO'!AQ311","v":0},{"$f":"'NGGT TO'!AR311","v":0},{"$f":"'NGGT TO'!AS311","v":0},{"$f":"'NGGT TO'!AT311","v":0},null,null,"TIM","RPEs Don’t Apply","CapRate 2 (UM)","Fast/Slow Split"]
[null,null,null,null,{"$f":"'NGGT TO'!E312","v":"Net zero Re-opener"},null,"£m 18/19 prices",{"$f":"'NGGT TO'!H312","v":"Non-load (opex)"},null,null,null,null,null,null,null,null,null,null,null,null,null,null,null,null,null,null,null,null,null,null,null,null,null,null,null,null,null,null,null,null,null,0,0,0,0,0,null,{"$f":"'NGGT TO'!AP312","v":0},{"$f":"'NGGT TO'!AQ312","v":0},{"$f":"'NGGT TO'!AR312","v":0},{"$f":"'NGGT TO'!AS312","v":0},{"$f":"'NGGT TO'!AT312","v":0},null,null,"TIM","RPEs Don’t Apply","CapRate 2 (UM)","Fast/Slow Split"]
[null,null,null,null,{"$f":"'NGGT TO'!E313","v":"Net zero Re-opener"},null,"£m 18/19 prices",{"$f":"'NGGT TO'!H313","v":"Indirects (opex)"},null,null,null,null,null,null,null,null,null,null,null,null,null,null,null,null,null,null,null,null,null,null,null,null,null,null,null,null,null,null,null,null,null,0,0,0,0,0,null,{"$f":"'NGGT TO'!AP313","v":0},{"$f":"'NGGT TO'!AQ313","v":0},{"$f":"'NGGT TO'!AR313","v":0},{"$f":"'NGGT TO'!AS313","v":0},{"$f":"'NGGT TO'!AT313","v":0},null,null,{"$f":"INDEX(BC$22:BC$57, MATCH($E390, $E$22:$E$57, 0))","v":"TIM"},"RPEs Don’t Apply","CapRate 2 (UM)","Fast/Slow Split"]
[null,null,null,null,{"$f":"'NGGT TO'!E314","v":"Net zero Re-opener"},null,"£m 18/19 prices",{"$f":"'NGGT TO'!H314","v":"Non-operational capex"},null,null,null,null,null,null,null,null,null,null,null,null,null,null,null,null,null,null,null,null,null,null,null,null,null,null,null,null,null,null,null,null,null,0,0,0,0,0,null,{"$f":"'NGGT TO'!AP314","v":0},{"$f":"'NGGT TO'!AQ314","v":0},{"$f":"'NGGT TO'!AR314","v":0},{"$f":"'NGGT TO'!AS314","v":0},{"$f":"'NGGT TO'!AT314","v":0},null,null,"TIM","RPEs Don’t Apply","CapRate 2 (UM)","Fast/Slow Split"]
[null,null,null,null,{"$f":"'NGGT TO'!E315","v":"Asset health Re-opener"},null,"£m 18/19 prices",{"$f":"'NGGT TO'!H315","v":"Load related capex"},null,null,null,null,null,null,null,null,null,null,null,null,null,null,null,null,null,null,null,null,null,null,null,null,null,null,null,null,null,null,null,null,null,0,0,0,0,0,null,{"$f":"'NGGT TO'!AP315","v":0},{"$f":"'NGGT TO'!AQ315","v":0},{"$f":"'NGGT TO'!AR315","v":0},{"$f":"'NGGT TO'!AS315","v":0},{"$f":"'NGGT TO'!AT315","v":0},null,null,"TIM","RPEs Don’t Apply","CapRate 2 (UM)","Fast/Slow Split"]
[null,null,null,null,{"$f":"'NGGT TO'!E316","v":"Asset health Re-opener"},null,"£m 18/19 prices",{"$f":"'NGGT TO'!H316","v":"Asset replacement capex"},null,null,null,null,null,null,null,null,null,null,null,null,null,null,null,null,null,null,null,null,null,null,null,null,null,null,null,null,null,null,null,null,null,0,0,0,0,0,null,{"$f":"'NGGT TO'!AP316","v":0},{"$f":"'NGGT TO'!AQ316","v":0},{"$f":"'NGGT TO'!AR316","v":0},{"$f":"'NGGT TO'!AS316","v":0},{"$f":"'NGGT TO'!AT316","v":0},null,null,"TIM","RPEs Don’t Apply","CapRate 2 (UM)","Fast/Slow Split"]
[null,null,null,null,{"$f":"'NGGT TO'!E317","v":"Asset health Re-opener"},null,"£m 18/19 prices",{"$f":"'NGGT TO'!H317","v":"Other capex"},null,null,null,null,null,null,null,null,null,null,null,null,null,null,null,null,null,null,null,null,null,null,null,null,null,null,null,null,null,null,null,null,null,0,0,0,0,0,null,{"$f":"'NGGT TO'!AP317","v":0},{"$f":"'NGGT TO'!AQ317","v":0},{"$f":"'NGGT TO'!AR317","v":0},{"$f":"'NGGT TO'!AS317","v":0},{"$f":"'NGGT TO'!AT317","v":0},null,null,"TIM","RPEs Don’t Apply","CapRate 2 (UM)","Fast/Slow Split"]
[null,null,null,null,{"$f":"'NGGT TO'!E318","v":"Asset health Re-opener"},null,"£m 18/19 prices",{"$f":"'NGGT TO'!H318","v":"Non-load (opex)"},null,null,null,null,null,null,null,null,null,null,null,null,null,null,null,null,null,null,null,null,null,null,null,null,null,null,null,null,null,null,null,null,null,0,0,0,0,0,null,{"$f":"'NGGT TO'!AP318","v":0},{"$f":"'NGGT TO'!AQ318","v":0},{"$f":"'NGGT TO'!AR318","v":0},{"$f":"'NGGT TO'!AS318","v":0},{"$f":"'NGGT TO'!AT318","v":0},null,null,"TIM","RPEs Don’t Apply","CapRate 2 (UM)","Fast/Slow Split"]
[null,null,null,null,{"$f":"'NGGT TO'!E319","v":"Asset health Re-opener"},null,"£m 18/19 prices",{"$f":"'NGGT TO'!H319","v":"Indirects (opex)"},null,null,null,null,null,null,null,null,null,null,null,null,null,null,null,null,null,null,null,null,null,null,null,null,null,null,null,null,null,null,null,null,null,0,0,0,0,0,null,{"$f":"'NGGT TO'!AP319","v":0},{"$f":"'NGGT TO'!AQ319","v":0},{"$f":"'NGGT TO'!AR319","v":0},{"$f":"'NGGT TO'!AS319","v":0},{"$f":"'NGGT TO'!AT319","v":0},null,null,"TIM","RPEs Don’t Apply","CapRate 2 (UM)","Fast/Slow Split"]
[null,null,null,null,{"$f":"'NGGT TO'!E320","v":"Asset health Re-opener"},null,"£m 18/19 prices",{"$f":"'NGGT TO'!H320","v":"Non-operational capex"},null,null,null,null,null,null,null,null,null,null,null,null,null,null,null,null,null,null,null,null,null,null,null,null,null,null,null,null,null,null,null,null,null,0,0,0,0,0,null,{"$f":"'NGGT TO'!AP320","v":0},{"$f":"'NGGT TO'!AQ320","v":0},{"$f":"'NGGT TO'!AR320","v":0},{"$f":"'NGGT TO'!AS320","v":0},{"$f":"'NGGT TO'!AT320","v":0},null,null,"TIM","RPEs Don’t Apply","CapRate 2 (UM)","Fast/Slow Split"]
[null,null,null,null,{"$f":"'NGGT TO'!E321","v":"Asset health – non lead assets Re-opener"},null,"£m 18/19 prices",{"$f":"'NGGT TO'!H321","v":"Load related capex"},null,null,null,null,null,null,null,null,null,null,null,null,null,null,null,null,null,null,null,null,null,null,null,null,null,null,null,null,null,null,null,null,null,{"$f":"INDEX(AP$22:AP$57, MATCH($E398, $E$22:$E$57, 0)) * AV398","v":0},{"$f":"INDEX(AQ$22:AQ$57, MATCH($E398, $E$22:$E$57, 0)) * AW398","v":0},{"$f":"INDEX(AR$22:AR$57, MATCH($E398, $E$22:$E$57, 0)) * AX398","v":0},{"$f":"INDEX(AS$22:AS$57, MATCH($E398, $E$22:$E$57, 0)) * AY398","v":0},{"$f":"INDEX(AT$22:AT$57, MATCH($E398, $E$22:$E$57, 0)) * AZ398","v":0},null,{"$f":"'NGGT TO'!AP321","v":0},{"$f":"'NGGT TO'!AQ321","v":0},{"$f":"'NGGT TO'!AR321","v":0},{"$f":"'NGGT TO'!AS321","v":0},{"$f":"'NGGT TO'!AT321","v":0},null,null,"TIM","RPEs Don’t Apply","CapRate 2 (UM)","Fast/Slow Split"]
[null,null,null,null,{"$f":"'NGGT TO'!E322","v":"Asset health – non lead assets Re-opener"},null,"£m 18/19 prices",{"$f":"'NGGT TO'!H322","v":"Asset replacement capex"},null,null,null,null,null,null,null,null,null,null,null,null,null,null,null,null,null,null,null,null,null,null,null,null,null,null,null,null,null,null,null,null,null,0,0,0,0,0,null,{"$f":"'NGGT TO'!AP322","v":1},{"$f":"'NGGT TO'!AQ322","v":1},{"$f":"'NGGT TO'!AR322","v":1},{"$f":"'NGGT TO'!AS322","v":1},{"$f":"'NGGT TO'!AT322","v":1},null,null,"TIM","RPEs Don’t Apply","CapRate 2 (UM)","Fast/Slow Split"]
[null,null,null,null,{"$f":"'NGGT TO'!E323","v":"Asset health – non lead assets Re-opener"},null,"£m 18/19 prices",{"$f":"'NGGT TO'!H323","v":"Other capex"},null,null,null,null,null,null,null,null,null,null,null,null,null,null,null,null,null,null,null,null,null,null,null,null,null,null,null,null,null,null,null,null,null,0,0,0,0,0,null,{"$f":"'NGGT TO'!AP323","v":0},{"$f":"'NGGT TO'!AQ323","v":0},{"$f":"'NGGT TO'!AR323","v":0},{"$f":"'NGGT TO'!AS323","v":0},{"$f":"'NGGT TO'!AT323","v":0},null,null,"TIM","RPEs Don’t Apply","CapRate 2 (UM)","Fast/Slow Split"]
[null,null,null,null,{"$f":"'NGGT TO'!E324","v":"Asset health – non lead assets Re-opener"},null,"£m 18/19 prices",{"$f":"'NGGT TO'!H324","v":"Non-load (opex)"},null,null,null,null,null,null,null,null,null,null,null,null,null,null,null,null,null,null,null,null,null,null,null,null,null,null,null,null,null,null,null,null,null,0,0,0,0,0,null,{"$f":"'NGGT TO'!AP324","v":0},{"$f":"'NGGT TO'!AQ324","v":0},{"$f":"'NGGT TO'!AR324","v":0},{"$f":"'NGGT TO'!AS324","v":0},{"$f":"'NGGT TO'!AT324","v":0},null,null,"TIM","RPEs Don’t Apply","CapRate 2 (UM)","Fast/Slow Split"]
[null,null,null,null,{"$f":"'NGGT TO'!E325","v":"Asset health – non lead assets Re-opener"},null,"£m 18/19 prices",{"$f":"'NGGT TO'!H325","v":"Indirects (opex)"},null,null,null,null,null,null,null,null,null,null,null,null,null,null,null,null,null,null,null,null,null,null,null,null,null,null,null,null,null,null,null,null,null,0,0,0,0,0,null,{"$f":"'NGGT TO'!AP325","v":0},{"$f":"'NGGT TO'!AQ325","v":0},{"$f":"'NGGT TO'!AR325","v":0},{"$f":"'NGGT TO'!AS325","v":0},{"$f":"'NGGT TO'!AT325","v":0},null,null,"TIM","RPEs Don’t Apply","CapRate 2 (UM)","Fast/Slow Split"]
[null,null,null,null,{"$f":"'NGGT TO'!E326","v":"Asset health – non lead assets Re-opener"},null,"£m 18/19 prices",{"$f":"'NGGT TO'!H326","v":"Non-operational capex"},null,null,null,null,null,null,null,null,null,null,null,null,null,null,null,null,null,null,null,null,null,null,null,null,null,null,null,null,null,null,null,null,null,0,0,0,0,0,null,{"$f":"'NGGT TO'!AP326","v":0},{"$f":"'NGGT TO'!AQ326","v":0},{"$f":"'NGGT TO'!AR326","v":0},{"$f":"'NGGT TO'!AS326","v":0},{"$f":"'NGGT TO'!AT326","v":0},null,null,"TIM","RPEs Don’t Apply","CapRate 2 (UM)","Fast/Slow Split"]
[null,null,null,null,{"$f":"'NGGT TO'!E327","v":"Uncertain Costs Re-opener"},null,"£m 18/19 prices",{"$f":"'NGGT TO'!H327","v":"Load related capex"},null,null,null,null,null,null,null,null,null,null,null,null,null,null,null,null,null,null,null,null,null,null,null,null,null,null,null,null,null,null,null,null,null,0,0,0,0,0,null,{"$f":"'NGGT TO'!AP327","v":0},{"$f":"'NGGT TO'!AQ327","v":0},{"$f":"'NGGT TO'!AR327","v":0},{"$f":"'NGGT TO'!AS327","v":0},{"$f":"'NGGT TO'!AT327","v":0},null,null,"TIM","RPEs Don’t Apply","CapRate 2 (UM)","Fast/Slow Split"]
[null,null,null,null,{"$f":"'NGGT TO'!E328","v":"Uncertain Costs Re-opener"},null,"£m 18/19 prices",{"$f":"'NGGT TO'!H328","v":"Asset replacement capex"},null,null,null,null,null,null,null,null,null,null,null,null,null,null,null,null,null,null,null,null,null,null,null,null,null,null,null,null,null,null,null,null,null,0,0,0,0,0,null,{"$f":"'NGGT TO'!AP328","v":0},{"$f":"'NGGT TO'!AQ328","v":0},{"$f":"'NGGT TO'!AR328","v":0},{"$f":"'NGGT TO'!AS328","v":0},{"$f":"'NGGT TO'!AT328","v":0},null,null,"TIM","RPEs Don’t Apply","CapRate 2 (UM)","Fast/Slow Split"]
[null,null,null,null,{"$f":"'NGGT TO'!E329","v":"Uncertain Costs Re-opener"},null,"£m 18/19 prices",{"$f":"'NGGT TO'!H329","v":"Other capex"},null,null,null,null,null,null,null,null,null,null,null,null,null,null,null,null,null,null,null,null,null,null,null,null,null,null,null,null,null,null,null,null,null,0,0,0,0,0,null,{"$f":"'NGGT TO'!AP329","v":0},{"$f":"'NGGT TO'!AQ329","v":0},{"$f":"'NGGT TO'!AR329","v":0},{"$f":"'NGGT TO'!AS329","v":0},{"$f":"'NGGT TO'!AT329","v":0},null,null,"TIM","RPEs Don’t Apply","CapRate 2 (UM)","Fast/Slow Split"]
[null,null,null,null,{"$f":"'NGGT TO'!E330","v":"Uncertain Costs Re-opener"},null,"£m 18/19 prices",{"$f":"'NGGT TO'!H330","v":"Non-load (opex)"},null,null,null,null,null,null,null,null,null,null,null,null,null,null,null,null,null,null,null,null,null,null,null,null,null,null,null,null,null,null,null,null,null,0,0,0,0,0,null,{"$f":"'NGGT TO'!AP330","v":0},{"$f":"'NGGT TO'!AQ330","v":0},{"$f":"'NGGT TO'!AR330","v":0},{"$f":"'NGGT TO'!AS330","v":0},{"$f":"'NGGT TO'!AT330","v":0},null,null,"TIM","RPEs Don’t Apply","CapRate 2 (UM)","Fast/Slow Split"]
[null,null,null,null,{"$f":"'NGGT TO'!E331","v":"Uncertain Costs Re-opener"},null,"£m 18/19 prices",{"$f":"'NGGT TO'!H331","v":"Indirects (opex)"},null,null,null,null,null,null,null,null,null,null,null,null,null,null,null,null,null,null,null,null,null,null,null,null,null,null,null,null,null,null,null,null,null,0,0,0,0,0,null,{"$f":"'NGGT TO'!AP331","v":0},{"$f":"'NGGT TO'!AQ331","v":0},{"$f":"'NGGT TO'!AR331","v":0},{"$f":"'NGGT TO'!AS331","v":0},{"$f":"'NGGT TO'!AT331","v":0},null,null,"TIM","RPEs Don’t Apply","CapRate 2 (UM)","Fast/Slow Split"]
[null,null,null,null,{"$f":"'NGGT TO'!E332","v":"Uncertain Costs Re-opener"},null,"£m 18/19 prices",{"$f":"'NGGT TO'!H332","v":"Non-operational capex"},null,null,null,null,null,null,null,null,null,null,null,null,null,null,null,null,null,null,null,null,null,null,null,null,null,null,null,null,null,null,null,null,null,0,0,0,0,0,null,{"$f":"'NGGT TO'!AP332","v":0},{"$f":"'NGGT TO'!AQ332","v":0},{"$f":"'NGGT TO'!AR332","v":0},{"$f":"'NGGT TO'!AS332","v":0},{"$f":"'NGGT TO'!AT332","v":0},null,null,"TIM","RPEs Don’t Apply","CapRate 2 (UM)","Fast/Slow Split"]
[null,null,null,null,{"$f":"'NGGT TO'!E333","v":"Net Zero Pre-construction Work and Small Net Zero Projects Re-opener"},null,"£m 18/19 prices",{"$f":"'NGGT TO'!H333","v":"Load related capex"},null,null,null,null,null,null,null,null,null,null,null,null,null,null,null,null,null,null,null,null,null,null,null,null,null,null,null,null,null,null,null,null,null,{"$f":"INDEX(AP$22:AP$57, MATCH($E410, $E$22:$E$57, 0)) * AV410","v":0},{"$f":"INDEX(AQ$22:AQ$57, MATCH($E410, $E$22:$E$57, 0)) * AW410","v":0},{"$f":"INDEX(AR$22:AR$57, MATCH($E410, $E$22:$E$57, 0)) * AX410","v":0},{"$f":"INDEX(AS$22:AS$57, MATCH($E410, $E$22:$E$57, 0)) * AY410","v":0},{"$f":"INDEX(AT$22:AT$57, MATCH($E410, $E$22:$E$57, 0)) * AZ410","v":0},null,{"$f":"'NGGT TO'!AP333","v":0},{"$f":"'NGGT TO'!AQ333","v":0},{"$f":"'NGGT TO'!AR333","v":0},{"$f":"'NGGT TO'!AS333","v":0},{"$f":"'NGGT TO'!AT333","v":0},null,null,"TIM","RPEs Don’t Apply","CapRate 2 (UM)","Fast/Slow Split"]
[null,null,null,null,{"$f":"'NGGT TO'!E334","v":"Net Zero Pre-construction Work and Small Net Zero Projects Re-opener"},null,"£m 18/19 prices",{"$f":"'NGGT TO'!H334","v":"Asset replacement capex"},null,null,null,null,null,null,null,null,null,null,null,null,null,null,null,null,null,null,null,null,null,null,null,null,null,null,null,null,null,null,null,null,null,0,0,0,0,0,null,{"$f":"'NGGT TO'!AP334","v":0},{"$f":"'NGGT TO'!AQ334","v":0},{"$f":"'NGGT TO'!AR334","v":0},{"$f":"'NGGT TO'!AS334","v":0},{"$f":"'NGGT TO'!AT334","v":0},null,null,"TIM","RPEs Don’t Apply","CapRate 2 (UM)","Fast/Slow Split"]
[null,null,null,null,{"$f":"'NGGT TO'!E335","v":"Net Zero Pre-construction Work and Small Net Zero Projects Re-opener"},null,"£m 18/19 prices",{"$f":"'NGGT TO'!H335","v":"Other capex"},null,null,null,null,null,null,null,null,null,null,null,null,null,null,null,null,null,null,null,null,null,null,null,null,null,null,null,null,null,null,null,null,null,0,0,0,0,0,null,{"$f":"'NGGT TO'!AP335","v":0},{"$f":"'NGGT TO'!AQ335","v":0},{"$f":"'NGGT TO'!AR335","v":0},{"$f":"'NGGT TO'!AS335","v":0},{"$f":"'NGGT TO'!AT335","v":0},null,null,"TIM","RPEs Don’t Apply","CapRate 2 (UM)","Fast/Slow Split"]
[null,null,null,null,{"$f":"'NGGT TO'!E336","v":"Net Zero Pre-construction Work and Small Net Zero Projects Re-opener"},null,"£m 18/19 prices",{"$f":"'NGGT TO'!H336","v":"Non-load (opex)"},null,null,null,null,null,null,null,null,null,null,null,null,null,null,null,null,null,null,null,null,null,null,null,null,null,null,null,null,null,null,null,null,null,0,0,0,0,0,null,{"$f":"'NGGT TO'!AP336","v":0},{"$f":"'NGGT TO'!AQ336","v":0},{"$f":"'NGGT TO'!AR336","v":0},{"$f":"'NGGT TO'!AS336","v":0},{"$f":"'NGGT TO'!AT336","v":0},null,null,"TIM","RPEs Don’t Apply","CapRate 2 (UM)","Fast/Slow Split"]
[null,null,null,null,{"$f":"'NGGT TO'!E337","v":"Net Zero Pre-construction Work and Small Net Zero Projects Re-opener"},null,"£m 18/19 prices",{"$f":"'NGGT TO'!H337","v":"Indirects (opex)"},null,null,null,null,null,null,null,null,null,null,null,null,null,null,null,null,null,null,null,null,null,null,null,null,null,null,null,null,null,null,null,null,null,0,0,0,0,0,null,{"$f":"'NGGT TO'!AP337","v":0},{"$f":"'NGGT TO'!AQ337","v":0},{"$f":"'NGGT TO'!AR337","v":0},{"$f":"'NGGT TO'!AS337","v":0},{"$f":"'NGGT TO'!AT337","v":0},null,null,"TIM","RPEs Don’t Apply","CapRate 2 (UM)","Fast/Slow Split"]
[null,null,null,null,{"$f":"'NGGT TO'!E338","v":"Net Zero Pre-construction Work and Small Net Zero Projects Re-opener"},null,"£m 18/19 prices",{"$f":"'NGGT TO'!H338","v":"Non-operational capex"},null,null,null,null,null,null,null,null,null,null,null,null,null,null,null,null,null,null,null,null,null,null,null,null,null,null,null,null,null,null,null,null,null,0,0,0,0,0,null,{"$f":"'NGGT TO'!AP338","v":0},{"$f":"'NGGT TO'!AQ338","v":0},{"$f":"'NGGT TO'!AR338","v":0},{"$f":"'NGGT TO'!AS338","v":0},{"$f":"'NGGT TO'!AT338","v":0},null,null,"TIM","RPEs Don’t Apply","CapRate 2 (UM)","Fast/Slow Split"]
[null,null,null,null,{"$f":"'NGGT TO'!E339","v":"Bacton terminal site redevelopment Re-Opener"},null,"£m 18/19 prices",{"$f":"'NGGT TO'!H339","v":"Load related capex"},null,null,null,null,null,null,null,null,null,null,null,null,null,null,null,null,null,null,null,null,null,null,null,null,null,null,null,null,null,null,null,null,null,0,0,0,0,0,null,{"$f":"'NGGT TO'!AP339","v":0},{"$f":"'NGGT TO'!AQ339","v":0},{"$f":"'NGGT TO'!AR339","v":0},{"$f":"'NGGT TO'!AS339","v":0},{"$f":"'NGGT TO'!AT339","v":0},null,null,"TIM","RPEs Don’t Apply","CapRate 2 (UM)","Fast/Slow Split"]
[null,null,null,null,{"$f":"'NGGT TO'!E340","v":"Bacton terminal site redevelopment Re-Opener"},null,"£m 18/19 prices",{"$f":"'NGGT TO'!H340","v":"Asset replacement capex"},null,null,null,null,null,null,null,null,null,null,null,null,null,null,null,null,null,null,null,null,null,null,null,null,null,null,null,null,null,null,null,null,null,0,0,0,0,0,null,{"$f":"'NGGT TO'!AP340","v":0},{"$f":"'NGGT TO'!AQ340","v":0},{"$f":"'NGGT TO'!AR340","v":0},{"$f":"'NGGT TO'!AS340","v":0},{"$f":"'NGGT TO'!AT340","v":0},null,null,"TIM","RPEs Don’t Apply","CapRate 2 (UM)","Fast/Slow Split"]
[null,null,null,null,{"$f":"'NGGT TO'!E341","v":"Bacton terminal site redevelopment Re-Opener"},null,"£m 18/19 prices",{"$f":"'NGGT TO'!H341","v":"Other capex"},null,null,null,null,null,null,null,null,null,null,null,null,null,null,null,null,null,null,null,null,null,null,null,null,null,null,null,null,null,null,null,null,null,0,0,0,0,0,null,{"$f":"'NGGT TO'!AP341","v":0},{"$f":"'NGGT TO'!AQ341","v":0},{"$f":"'NGGT TO'!AR341","v":0},{"$f":"'NGGT TO'!AS341","v":0},{"$f":"'NGGT TO'!AT341","v":0},null,null,"TIM","RPEs Don’t Apply","CapRate 2 (UM)","Fast/Slow Split"]
[null,null,null,null,{"$f":"'NGGT TO'!E342","v":"Bacton terminal site redevelopment Re-Opener"},null,"£m 18/19 prices",{"$f":"'NGGT TO'!H342","v":"Non-load (opex)"},null,null,null,null,null,null,null,null,null,null,null,null,null,null,null,null,null,null,null,null,null,null,null,null,null,null,null,null,null,null,null,null,null,0,0,0,0,0,null,{"$f":"'NGGT TO'!AP342","v":0},{"$f":"'NGGT TO'!AQ342","v":0},{"$f":"'NGGT TO'!AR342","v":0},{"$f":"'NGGT TO'!AS342","v":0},{"$f":"'NGGT TO'!AT342","v":0},null,null,"TIM","RPEs Don’t Apply","CapRate 2 (UM)","Fast/Slow Split"]
[null,null,null,null,{"$f":"'NGGT TO'!E343","v":"Bacton terminal site redevelopment Re-Opener"},null,"£m 18/19 prices",{"$f":"'NGGT TO'!H343","v":"Indirects (opex)"},null,null,null,null,null,null,null,null,null,null,null,null,null,null,null,null,null,null,null,null,null,null,null,null,null,null,null,null,null,null,null,null,null,0,0,0,0,0,null,{"$f":"'NGGT TO'!AP343","v":0},{"$f":"'NGGT TO'!AQ343","v":0},{"$f":"'NGGT TO'!AR343","v":0},{"$f":"'NGGT TO'!AS343","v":0},{"$f":"'NGGT TO'!AT343","v":0},null,null,"TIM","RPEs Don’t Apply","CapRate 2 (UM)","Fast/Slow Split"]
[null,null,null,null,{"$f":"'NGGT TO'!E344","v":"Bacton terminal site redevelopment Re-Opener"},null,"£m 18/19 prices",{"$f":"'NGGT TO'!H344","v":"Non-operational capex"},null,null,null,null,null,null,null,null,null,null,null,null,null,null,null,null,null,null,null,null,null,null,null,null,null,null,null,null,null,null,null,null,null,0,0,0,0,0,null,{"$f":"'NGGT TO'!AP344","v":0},{"$f":"'NGGT TO'!AQ344","v":0},{"$f":"'NGGT TO'!AR344","v":0},{"$f":"'NGGT TO'!AS344","v":0},{"$f":"'NGGT TO'!AT344","v":0},null,null,"TIM","RPEs Don’t Apply","CapRate 2 (UM)","Fast/Slow Split"]
[null,null,null,null,{"$f":"'NGGT TO'!E345","v":"Physical Security Re-Opener"},null,"£m 18/19 prices",{"$f":"'NGGT TO'!H345","v":"Load related capex"},null,null,null,null,null,null,null,null,null,null,null,null,null,null,null,null,null,null,null,null,null,null,null,null,null,null,null,null,null,null,null,null,null,0,0,0,0,0,null,{"$f":"'NGGT TO'!AP345","v":0},{"$f":"'NGGT TO'!AQ345","v":0},{"$f":"'NGGT TO'!AR345","v":0},{"$f":"'NGGT TO'!AS345","v":0},{"$f":"'NGGT TO'!AT345","v":0},null,null,{"$f":"INDEX(BC$22:BC$57, MATCH($E422, $E$22:$E$57, 0))","v":"TIM"},"RPEs Don’t Apply","CapRate 2 (UM)","Fast/Slow Split"]
[null,null,null,null,{"$f":"'NGGT TO'!E346","v":"Physical Security Re-Opener"},null,"£m 18/19 prices",{"$f":"'NGGT TO'!H346","v":"Asset replacement capex"},null,null,null,null,null,null,null,null,null,null,null,null,null,null,null,null,null,null,null,null,null,null,null,null,null,null,null,null,null,null,null,null,null,0,0,0,0,0,null,{"$f":"'NGGT TO'!AP346","v":0},{"$f":"'NGGT TO'!AQ346","v":0},{"$f":"'NGGT TO'!AR346","v":0},{"$f":"'NGGT TO'!AS346","v":0},{"$f":"'NGGT TO'!AT346","v":0},null,null,"TIM","RPEs Don’t Apply","CapRate 2 (UM)","Fast/Slow Split"]
[null,null,null,null,{"$f":"'NGGT TO'!E347","v":"Physical Security Re-Opener"},null,"£m 18/19 prices",{"$f":"'NGGT TO'!H347","v":"Other capex"},null,null,null,null,null,null,null,null,null,null,null,null,null,null,null,null,null,null,null,null,null,null,null,null,null,null,null,null,null,null,null,null,null,0,0,0,0,0,null,{"$f":"'NGGT TO'!AP347","v":0},{"$f":"'NGGT TO'!AQ347","v":0},{"$f":"'NGGT TO'!AR347","v":0},{"$f":"'NGGT TO'!AS347","v":0},{"$f":"'NGGT TO'!AT347","v":0},null,null,"TIM","RPEs Don’t Apply","CapRate 2 (UM)","Fast/Slow Split"]
[null,null,null,null,{"$f":"'NGGT TO'!E348","v":"Physical Security Re-Opener"},null,"£m 18/19 prices",{"$f":"'NGGT TO'!H348","v":"Non-load (opex)"},null,null,null,null,null,null,null,null,null,null,null,null,null,null,null,null,null,null,null,null,null,null,null,null,null,null,null,null,null,null,null,null,null,0,0,0,0,0,null,{"$f":"'NGGT TO'!AP348","v":0},{"$f":"'NGGT TO'!AQ348","v":0},{"$f":"'NGGT TO'!AR348","v":0},{"$f":"'NGGT TO'!AS348","v":0},{"$f":"'NGGT TO'!AT348","v":0},null,null,"TIM","RPEs Don’t Apply","CapRate 2 (UM)","Fast/Slow Split"]
[null,null,null,null,{"$f":"'NGGT TO'!E349","v":"Physical Security Re-Opener"},null,"£m 18/19 prices",{"$f":"'NGGT TO'!H349","v":"Indirects (opex)"},null,null,null,null,null,null,null,null,null,null,null,null,null,null,null,null,null,null,null,null,null,null,null,null,null,null,null,null,null,null,null,null,null,0,0,0,0,0,null,{"$f":"'NGGT TO'!AP349","v":0},{"$f":"'NGGT TO'!AQ349","v":0},{"$f":"'NGGT TO'!AR349","v":0},{"$f":"'NGGT TO'!AS349","v":0},{"$f":"'NGGT TO'!AT349","v":0},null,null,"TIM","RPEs Don’t Apply","CapRate 2 (UM)","Fast/Slow Split"]
[null,null,null,null,{"$f":"'NGGT TO'!E350","v":"Physical Security Re-Opener"},null,"£m 18/19 prices",{"$f":"'NGGT TO'!H350","v":"Non-operational capex"},null,null,null,null,null,null,null,null,null,null,null,null,null,null,null,null,null,null,null,null,null,null,null,null,null,null,null,null,null,null,null,null,null,0,0,0,0,0,null,{"$f":"'NGGT TO'!AP350","v":0},{"$f":"'NGGT TO'!AQ350","v":0},{"$f":"'NGGT TO'!AR350","v":0},{"$f":"'NGGT TO'!AS350","v":0},{"$f":"'NGGT TO'!AT350","v":0},null,null,"TIM","RPEs Don’t Apply","CapRate 2 (UM)","Fast/Slow Split"]
[null,null,null,null,{"$f":"'NGGT TO'!E351","v":"Compressor emissions Re-Opener"},null,"£m 18/19 prices",{"$f":"'NGGT TO'!H351","v":"Load related capex"},null,null,null,null,null,null,null,null,null,null,null,null,null,null,null,null,null,null,null,null,null,null,null,null,null,null,null,null,null,null,null,null,null,0,0,0,0,0,null,{"$f":"'NGGT TO'!AP351","v":0},{"$f":"'NGGT TO'!AQ351","v":0},{"$f":"'NGGT TO'!AR351","v":0},{"$f":"'NGGT TO'!AS351","v":0},{"$f":"'NGGT TO'!AT351","v":0},null,null,"TIM","RPEs Don’t Apply","CapRate 2 (UM)","Fast/Slow Split"]
[null,null,null,null,{"$f":"'NGGT TO'!E352","v":"Compressor emissions Re-Opener"},null,"£m 18/19 prices",{"$f":"'NGGT TO'!H352","v":"Asset replacement capex"},null,null,null,null,null,null,null,null,null,null,null,null,null,null,null,null,null,null,null,null,null,null,null,null,null,null,null,null,null,null,null,null,null,0,0,0,0,0,null,{"$f":"'NGGT TO'!AP352","v":0},{"$f":"'NGGT TO'!AQ352","v":0},{"$f":"'NGGT TO'!AR352","v":0},{"$f":"'NGGT TO'!AS352","v":0},{"$f":"'NGGT TO'!AT352","v":0},null,null,"TIM","RPEs Don’t Apply","CapRate 2 (UM)","Fast/Slow Split"]
[null,null,null,null,{"$f":"'NGGT TO'!E353","v":"Compressor emissions Re-Opener"},null,"£m 18/19 prices",{"$f":"'NGGT TO'!H353","v":"Other capex"},null,null,null,null,null,null,null,null,null,null,null,null,null,null,null,null,null,null,null,null,null,null,null,null,null,null,null,null,null,null,null,null,null,{"$f":"INDEX(AP$22:AP$57, MATCH($E430, $E$22:$E$57, 0)) * AV430","v":0},{"$f":"INDEX(AQ$22:AQ$57, MATCH($E430, $E$22:$E$57, 0)) * AW430","v":0},{"$f":"INDEX(AR$22:AR$57, MATCH($E430, $E$22:$E$57, 0)) * AX430","v":0},{"$f":"INDEX(AS$22:AS$57, MATCH($E430, $E$22:$E$57, 0)) * AY430","v":0},{"$f":"INDEX(AT$22:AT$57, MATCH($E430, $E$22:$E$57, 0)) * AZ430","v":0},null,{"$f":"'NGGT TO'!AP353","v":0},{"$f":"'NGGT TO'!AQ353","v":0},{"$f":"'NGGT TO'!AR353","v":0},{"$f":"'NGGT TO'!AS353","v":0},{"$f":"'NGGT TO'!AT353","v":0},null,null,"TIM","RPEs Don’t Apply","CapRate 2 (UM)","Fast/Slow Split"]
[null,null,null,null,{"$f":"'NGGT TO'!E354","v":"Compressor emissions Re-Opener"},null,"£m 18/19 prices",{"$f":"'NGGT TO'!H354","v":"Non-load (opex)"},null,null,null,null,null,null,null,null,null,null,null,null,null,null,null,null,null,null,null,null,null,null,null,null,null,null,null,null,null,null,null,null,null,0,0,0,0,0,null,{"$f":"'NGGT TO'!AP354","v":0},{"$f":"'NGGT TO'!AQ354","v":0},{"$f":"'NGGT TO'!AR354","v":0},{"$f":"'NGGT TO'!AS354","v":0},{"$f":"'NGGT TO'!AT354","v":0},null,null,"TIM","RPEs Don’t Apply","CapRate 2 (UM)","Fast/Slow Split"]
[null,null,null,null,{"$f":"'NGGT TO'!E355","v":"Compressor emissions Re-Opener"},null,"£m 18/19 prices",{"$f":"'NGGT TO'!H355","v":"Indirects (opex)"},null,null,null,null,null,null,null,null,null,null,null,null,null,null,null,null,null,null,null,null,null,null,null,null,null,null,null,null,null,null,null,null,null,0,0,0,0,0,null,{"$f":"'NGGT TO'!AP355","v":0},{"$f":"'NGGT TO'!AQ355","v":0},{"$f":"'NGGT TO'!AR355","v":0},{"$f":"'NGGT TO'!AS355","v":0},{"$f":"'NGGT TO'!AT355","v":0},null,null,"TIM","RPEs Don’t Apply","CapRate 2 (UM)","Fast/Slow Split"]
[null,null,null,null,{"$f":"'NGGT TO'!E356","v":"Compressor emissions Re-Opener"},null,"£m 18/19 prices",{"$f":"'NGGT TO'!H356","v":"Non-operational capex"},null,null,null,null,null,null,null,null,null,null,null,null,null,null,null,null,null,null,null,null,null,null,null,null,null,null,null,null,null,null,null,null,null,0,0,0,0,0,null,{"$f":"'NGGT TO'!AP356","v":0},{"$f":"'NGGT TO'!AQ356","v":0},{"$f":"'NGGT TO'!AR356","v":0},{"$f":"'NGGT TO'!AS356","v":0},{"$f":"'NGGT TO'!AT356","v":0},null,null,"TIM","RPEs Don’t Apply","CapRate 2 (UM)","Fast/Slow Split"]
[null,null,null,null,{"$f":"'NGGT TO'!E357","v":"Cyber Resilience OT Re-Opener"},null,"£m 18/19 prices",{"$f":"'NGGT TO'!H357","v":"Load related capex"},null,null,null,null,null,null,null,null,null,null,null,null,null,null,null,null,null,null,null,null,null,null,null,null,null,null,null,null,null,null,null,null,null,0,0,0,0,0,null,{"$f":"'NGGT TO'!AP357","v":0},{"$f":"'NGGT TO'!AQ357","v":0},{"$f":"'NGGT TO'!AR357","v":0},{"$f":"'NGGT TO'!AS357","v":0},{"$f":"'NGGT TO'!AT357","v":0},null,null,"Non-Tim","RPEs Don’t Apply","CapRate 2 (UM)","Fast/Slow Split"]
[null,null,null,null,{"$f":"'NGGT TO'!E358","v":"Cyber Resilience OT Re-Opener"},null,"£m 18/19 prices",{"$f":"'NGGT TO'!H358","v":"Asset replacement capex"},null,null,null,null,null,null,null,null,null,null,null,null,null,null,null,null,null,null,null,null,null,null,null,null,null,null,null,null,null,null,null,null,null,0,0,0,0,0,null,{"$f":"'NGGT TO'!AP358","v":0},{"$f":"'NGGT TO'!AQ358","v":0},{"$f":"'NGGT TO'!AR358","v":0},{"$f":"'NGGT TO'!AS358","v":0},{"$f":"'NGGT TO'!AT358","v":0},null,null,"Non-Tim","RPEs Don’t Apply","CapRate 2 (UM)","Fast/Slow Split"]
[null,null,null,null,{"$f":"'NGGT TO'!E359","v":"Cyber Resilience OT Re-Opener"},null,"£m 18/19 prices",{"$f":"'NGGT TO'!H359","v":"Other capex"},null,null,null,null,null,null,null,null,null,null,null,null,null,null,null,null,null,null,null,null,null,null,null,null,null,null,null,null,null,null,null,null,null,0,0,0,0,0,null,{"$f":"'NGGT TO'!AP359","v":0},{"$f":"'NGGT TO'!AQ359","v":0},{"$f":"'NGGT TO'!AR359","v":0},{"$f":"'NGGT TO'!AS359","v":0},{"$f":"'NGGT TO'!AT359","v":0},null,null,"Non-Tim","RPEs Don’t Apply","CapRate 2 (UM)","Fast/Slow Split"]
[null,null,null,null,{"$f":"'NGGT TO'!E360","v":"Cyber Resilience OT Re-Opener"},null,"£m 18/19 prices",{"$f":"'NGGT TO'!H360","v":"Non-load (opex)"},null,null,null,null,null,null,null,null,null,null,null,null,null,null,null,null,null,null,null,null,null,null,null,null,null,null,null,null,null,null,null,null,null,0,0,0,0,0,null,{"$f":"'NGGT TO'!AP360","v":0},{"$f":"'NGGT TO'!AQ360","v":0},{"$f":"'NGGT TO'!AR360","v":0},{"$f":"'NGGT TO'!AS360","v":0},{"$f":"'NGGT TO'!AT360","v":0},null,null,"Non-Tim","RPEs Don’t Apply","CapRate 2 (UM)","Fast/Slow Split"]
[null,null,null,null,{"$f":"'NGGT TO'!E361","v":"Cyber Resilience OT Re-Opener"},null,"£m 18/19 prices",{"$f":"'NGGT TO'!H361","v":"Indirects (opex)"},null,null,null,null,null,null,null,null,null,null,null,null,null,null,null,null,null,null,null,null,null,null,null,null,null,null,null,null,null,null,null,null,null,0,0,0,0,0,null,{"$f":"'NGGT TO'!AP361","v":0},{"$f":"'NGGT TO'!AQ361","v":0},{"$f":"'NGGT TO'!AR361","v":0},{"$f":"'NGGT TO'!AS361","v":0},{"$f":"'NGGT TO'!AT361","v":0},null,null,"Non-Tim","RPEs Don’t Apply","CapRate 2 (UM)","Fast/Slow Split"]
[null,null,null,null,{"$f":"'NGGT TO'!E362","v":"Cyber Resilience OT Re-Opener"},null,"£m 18/19 prices",{"$f":"'NGGT TO'!H362","v":"Non-operational capex"},null,null,null,null,null,null,null,null,null,null,null,null,null,null,null,null,null,null,null,null,null,null,null,null,null,null,null,null,null,null,null,null,null,0,0,0,0,0,null,{"$f":"'NGGT TO'!AP362","v":0},{"$f":"'NGGT TO'!AQ362","v":0},{"$f":"'NGGT TO'!AR362","v":0},{"$f":"'NGGT TO'!AS362","v":0},{"$f":"'NGGT TO'!AT362","v":0},null,null,"Non-Tim","RPEs Don’t Apply","CapRate 2 (UM)","Fast/Slow Split"]
[null,null,null,null,{"$f":"'NGGT TO'!E363","v":"Cyber Resilience IT Re-Opener"},null,"£m 18/19 prices",{"$f":"'NGGT TO'!H363","v":"Load related capex"},null,null,null,null,null,null,null,null,null,null,null,null,null,null,null,null,null,null,null,null,null,null,null,null,null,null,null,null,null,null,null,null,null,0,0,0,0,0,null,{"$f":"'NGGT TO'!AP363","v":0},{"$f":"'NGGT TO'!AQ363","v":0},{"$f":"'NGGT TO'!AR363","v":0},{"$f":"'NGGT TO'!AS363","v":0},{"$f":"'NGGT TO'!AT363","v":0},null,null,"TIM","RPEs Don’t Apply","CapRate 2 (UM)","Fast/Slow Split"]
[null,null,null,null,{"$f":"'NGGT TO'!E364","v":"Cyber Resilience IT Re-Opener"},null,"£m 18/19 prices",{"$f":"'NGGT TO'!H364","v":"Asset replacement capex"},null,null,null,null,null,null,null,null,null,null,null,null,null,null,null,null,null,null,null,null,null,null,null,null,null,null,null,null,null,null,null,null,null,0,0,0,0,0,null,{"$f":"'NGGT TO'!AP364","v":0},{"$f":"'NGGT TO'!AQ364","v":0},{"$f":"'NGGT TO'!AR364","v":0},{"$f":"'NGGT TO'!AS364","v":0},{"$f":"'NGGT TO'!AT364","v":0},null,null,"TIM","RPEs Don’t Apply","CapRate 2 (UM)","Fast/Slow Split"]
[null,null,null,null,{"$f":"'NGGT TO'!E365","v":"Cyber Resilience IT Re-Opener"},null,"£m 18/19 prices",{"$f":"'NGGT TO'!H365","v":"Other capex"},null,null,null,null,null,null,null,null,null,null,null,null,null,null,null,null,null,null,null,null,null,null,null,null,null,null,null,null,null,null,null,null,null,0,0,0,0,0,null,{"$f":"'NGGT TO'!AP365","v":0},{"$f":"'NGGT TO'!AQ365","v":0},{"$f":"'NGGT TO'!AR365","v":0},{"$f":"'NGGT TO'!AS365","v":0},{"$f":"'NGGT TO'!AT365","v":0},null,null,{"$f":"INDEX(BC$22:BC$57, MATCH($E442, $E$22:$E$57, 0))","v":"TIM"},"RPEs Don’t Apply","CapRate 2 (UM)","Fast/Slow Split"]
[null,null,null,null,{"$f":"'NGGT TO'!E366","v":"Cyber Resilience IT Re-Opener"},null,"£m 18/19 prices",{"$f":"'NGGT TO'!H366","v":"Non-load (opex)"},null,null,null,null,null,null,null,null,null,null,null,null,null,null,null,null,null,null,null,null,null,null,null,null,null,null,null,null,null,null,null,null,null,0,0,0,0,0,null,{"$f":"'NGGT TO'!AP366","v":0},{"$f":"'NGGT TO'!AQ366","v":0},{"$f":"'NGGT TO'!AR366","v":0},{"$f":"'NGGT TO'!AS366","v":0},{"$f":"'NGGT TO'!AT366","v":0},null,null,"TIM","RPEs Don’t Apply","CapRate 2 (UM)","Fast/Slow Split"]
[null,null,null,null,{"$f":"'NGGT TO'!E367","v":"Cyber Resilience IT Re-Opener"},null,"£m 18/19 prices",{"$f":"'NGGT TO'!H367","v":"Indirects (opex)"},null,null,null,null,null,null,null,null,null,null,null,null,null,null,null,null,null,null,null,null,null,null,null,null,null,null,null,null,null,null,null,null,null,0,0,0,0,0,null,{"$f":"'NGGT TO'!AP367","v":0},{"$f":"'NGGT TO'!AQ367","v":0},{"$f":"'NGGT TO'!AR367","v":0},{"$f":"'NGGT TO'!AS367","v":0},{"$f":"'NGGT TO'!AT367","v":0},null,null,"TIM","RPEs Don’t Apply","CapRate 2 (UM)","Fast/Slow Split"]
[null,null,null,null,{"$f":"'NGGT TO'!E368","v":"Cyber Resilience IT Re-Opener"},null,"£m 18/19 prices",{"$f":"'NGGT TO'!H368","v":"Non-operational capex"},null,null,null,null,null,null,null,null,null,null,null,null,null,null,null,null,null,null,null,null,null,null,null,null,null,null,null,null,null,null,null,null,null,0,0,0,0,0,null,{"$f":"'NGGT TO'!AP368","v":0},{"$f":"'NGGT TO'!AQ368","v":0},{"$f":"'NGGT TO'!AR368","v":0},{"$f":"'NGGT TO'!AS368","v":0},{"$f":"'NGGT TO'!AT368","v":0},null,null,"TIM","RPEs Don’t Apply","CapRate 2 (UM)","Fast/Slow Split"]
[null,null,null,null,{"$f":"'NGGT TO'!E369","v":"King's Lynn subsidence Re-Opener"},null,"£m 18/19 prices",{"$f":"'NGGT TO'!H369","v":"Load related capex"},null,null,null,null,null,null,null,null,null,null,null,null,null,null,null,null,null,null,null,null,null,null,null,null,null,null,null,null,null,null,null,null,null,0,0,0,0,0,null,{"$f":"'NGGT TO'!AP369","v":0},{"$f":"'NGGT TO'!AQ369","v":0},{"$f":"'NGGT TO'!AR369","v":0},{"$f":"'NGGT TO'!AS369","v":0},{"$f":"'NGGT TO'!AT369","v":0},null,null,"TIM","RPEs Don’t Apply","CapRate 2 (UM)","Fast/Slow Split"]
[null,null,null,null,{"$f":"'NGGT TO'!E370","v":"King's Lynn subsidence Re-Opener"},null,"£m 18/19 prices",{"$f":"'NGGT TO'!H370","v":"Asset replacement capex"},null,null,null,null,null,null,null,null,null,null,null,null,null,null,null,null,null,null,null,null,null,null,null,null,null,null,null,null,null,null,null,null,null,0,0,0,0,0,null,{"$f":"'NGGT TO'!AP370","v":0},{"$f":"'NGGT TO'!AQ370","v":0},{"$f":"'NGGT TO'!AR370","v":0},{"$f":"'NGGT TO'!AS370","v":0},{"$f":"'NGGT TO'!AT370","v":0},null,null,"TIM","RPEs Don’t Apply","CapRate 2 (UM)","Fast/Slow Split"]
[null,null,null,null,{"$f":"'NGGT TO'!E371","v":"King's Lynn subsidence Re-Opener"},null,"£m 18/19 prices",{"$f":"'NGGT TO'!H371","v":"Other capex"},null,null,null,null,null,null,null,null,null,null,null,null,null,null,null,null,null,null,null,null,null,null,null,null,null,null,null,null,null,null,null,null,null,0,0,0,0,0,null,{"$f":"'NGGT TO'!AP371","v":0},{"$f":"'NGGT TO'!AQ371","v":0},{"$f":"'NGGT TO'!AR371","v":0},{"$f":"'NGGT TO'!AS371","v":0},{"$f":"'NGGT TO'!AT371","v":0},null,null,"TIM","RPEs Don’t Apply","CapRate 2 (UM)","Fast/Slow Split"]
[null,null,null,null,{"$f":"'NGGT TO'!E372","v":"King's Lynn subsidence Re-Opener"},null,"£m 18/19 prices",{"$f":"'NGGT TO'!H372","v":"Non-load (opex)"},null,null,null,null,null,null,null,null,null,null,null,null,null,null,null,null,null,null,null,null,null,null,null,null,null,null,null,null,null,null,null,null,null,0,0,0,0,0,null,{"$f":"'NGGT TO'!AP372","v":0},{"$f":"'NGGT TO'!AQ372","v":0},{"$f":"'NGGT TO'!AR372","v":0},{"$f":"'NGGT TO'!AS372","v":0},{"$f":"'NGGT TO'!AT372","v":0},null,null,"TIM","RPEs Don’t Apply","CapRate 2 (UM)","Fast/Slow Split"]
[null,null,null,null,{"$f":"'NGGT TO'!E373","v":"King's Lynn subsidence Re-Opener"},null,"£m 18/19 prices",{"$f":"'NGGT TO'!H373","v":"Indirects (opex)"},null,null,null,null,null,null,null,null,null,null,null,null,null,null,null,null,null,null,null,null,null,null,null,null,null,null,null,null,null,null,null,null,null,0,0,0,0,0,null,{"$f":"'NGGT TO'!AP373","v":0},{"$f":"'NGGT TO'!AQ373","v":0},{"$f":"'NGGT TO'!AR373","v":0},{"$f":"'NGGT TO'!AS373","v":0},{"$f":"'NGGT TO'!AT373","v":0},null,null,"TIM","RPEs Don’t Apply","CapRate 2 (UM)","Fast/Slow Split"]
[null,null,null,null,{"$f":"'NGGT TO'!E374","v":"King's Lynn subsidence Re-Opener"},null,"£m 18/19 prices",{"$f":"'NGGT TO'!H374","v":"Non-operational capex"},null,null,null,null,null,null,null,null,null,null,null,null,null,null,null,null,null,null,null,null,null,null,null,null,null,null,null,null,null,null,null,null,null,0,0,0,0,0,null,{"$f":"'NGGT TO'!AP374","v":0},{"$f":"'NGGT TO'!AQ374","v":0},{"$f":"'NGGT TO'!AR374","v":0},{"$f":"'NGGT TO'!AS374","v":0},{"$f":"'NGGT TO'!AT374","v":0},null,null,"TIM","RPEs Don’t Apply","CapRate 2 (UM)","Fast/Slow Split"]
[null,null,null,null,{"$f":"'NGGT TO'!E375","v":"Funded incremental obligated capacity Re-Opener"},null,"£m 18/19 prices",{"$f":"'NGGT TO'!H375","v":"Load related capex"},null,null,null,null,null,null,null,null,null,null,null,null,null,null,null,null,null,null,null,null,null,null,null,null,null,null,null,null,null,null,null,null,null,0,0,0,0,0,null,{"$f":"'NGGT TO'!AP375","v":0},{"$f":"'NGGT TO'!AQ375","v":0},{"$f":"'NGGT TO'!AR375","v":0},{"$f":"'NGGT TO'!AS375","v":0},{"$f":"'NGGT TO'!AT375","v":0},null,null,"TIM","RPEs Don’t Apply","CapRate 2 (UM)","Fast/Slow Split"]
[null,null,null,null,{"$f":"'NGGT TO'!E376","v":"Funded incremental obligated capacity Re-Opener"},null,"£m 18/19 prices",{"$f":"'NGGT TO'!H376","v":"Asset replacement capex"},null,null,null,null,null,null,null,null,null,null,null,null,null,null,null,null,null,null,null,null,null,null,null,null,null,null,null,null,null,null,null,null,null,0,0,0,0,0,null,{"$f":"'NGGT TO'!AP376","v":0},{"$f":"'NGGT TO'!AQ376","v":0},{"$f":"'NGGT TO'!AR376","v":0},{"$f":"'NGGT TO'!AS376","v":0},{"$f":"'NGGT TO'!AT376","v":0},null,null,"TIM","RPEs Don’t Apply","CapRate 2 (UM)","Fast/Slow Split"]
[null,null,null,null,{"$f":"'NGGT TO'!E377","v":"Funded incremental obligated capacity Re-Opener"},null,"£m 18/19 prices",{"$f":"'NGGT TO'!H377","v":"Other capex"},null,null,null,null,null,null,null,null,null,null,null,null,null,null,null,null,null,null,null,null,null,null,null,null,null,null,null,null,null,null,null,null,null,0,0,0,0,0,null,{"$f":"'NGGT TO'!AP377","v":0},{"$f":"'NGGT TO'!AQ377","v":0},{"$f":"'NGGT TO'!AR377","v":0},{"$f":"'NGGT TO'!AS377","v":0},{"$f":"'NGGT TO'!AT377","v":0},null,null,"TIM","RPEs Don’t Apply","CapRate 2 (UM)","Fast/Slow Split"]
[null,null,null,null,{"$f":"'NGGT TO'!E378","v":"Funded incremental obligated capacity Re-Opener"},null,"£m 18/19 prices",{"$f":"'NGGT TO'!H378","v":"Non-load (opex)"},null,null,null,null,null,null,null,null,null,null,null,null,null,null,null,null,null,null,null,null,null,null,null,null,null,null,null,null,null,null,null,null,null,0,0,0,0,0,null,{"$f":"'NGGT TO'!AP378","v":0},{"$f":"'NGGT TO'!AQ378","v":0},{"$f":"'NGGT TO'!AR378","v":0},{"$f":"'NGGT TO'!AS378","v":0},{"$f":"'NGGT TO'!AT378","v":0},null,null,"TIM","RPEs Don’t Apply","CapRate 2 (UM)","Fast/Slow Split"]
[null,null,null,null,{"$f":"'NGGT TO'!E379","v":"Funded incremental obligated capacity Re-Opener"},null,"£m 18/19 prices",{"$f":"'NGGT TO'!H379","v":"Indirects (opex)"},null,null,null,null,null,null,null,null,null,null,null,null,null,null,null,null,null,null,null,null,null,null,null,null,null,null,null,null,null,null,null,null,null,0,0,0,0,0,null,{"$f":"'NGGT TO'!AP379","v":0},{"$f":"'NGGT TO'!AQ379","v":0},{"$f":"'NGGT TO'!AR379","v":0},{"$f":"'NGGT TO'!AS379","v":0},{"$f":"'NGGT TO'!AT379","v":0},null,null,"TIM","RPEs Don’t Apply","CapRate 2 (UM)","Fast/Slow Split"]
[null,null,null,null,{"$f":"'NGGT TO'!E380","v":"Funded incremental obligated capacity Re-Opener"},null,"£m 18/19 prices",{"$f":"'NGGT TO'!H380","v":"Non-operational capex"},null,null,null,null,null,null,null,null,null,null,null,null,null,null,null,null,null,null,null,null,null,null,null,null,null,null,null,null,null,null,null,null,null,0,0,0,0,0,null,{"$f":"'NGGT TO'!AP380","v":0},{"$f":"'NGGT TO'!AQ380","v":0},{"$f":"'NGGT TO'!AR380","v":0},{"$f":"'NGGT TO'!AS380","v":0},{"$f":"'NGGT TO'!AT380","v":0},null,null,"TIM","RPEs Don’t Apply","CapRate 2 (UM)","Fast/Slow Split"]
[null,null,null,null,{"$f":"'NGGT TO'!E381","v":"Opex Escalator"},null,"£m 18/19 prices",{"$f":"'NGGT TO'!H381","v":"Load related capex"},null,null,null,null,null,null,null,null,null,null,null,null,null,null,null,null,null,null,null,null,null,null,null,null,null,null,null,null,null,null,null,null,null,0,0,0,0,0,null,{"$f":"'NGGT TO'!AP381","v":0},{"$f":"'NGGT TO'!AQ381","v":0},{"$f":"'NGGT TO'!AR381","v":0},{"$f":"'NGGT TO'!AS381","v":0},{"$f":"'NGGT TO'!AT381","v":0},null,null,"TIM","RPEs Don’t Apply","CapRate 2 (UM)","Fast/Slow Split"]
[null,null,null,null,{"$f":"'NGGT TO'!E382","v":"Opex Escalator"},null,"£m 18/19 prices",{"$f":"'NGGT TO'!H382","v":"Asset replacement capex"},null,null,null,null,null,null,null,null,null,null,null,null,null,null,null,null,null,null,null,null,null,null,null,null,null,null,null,null,null,null,null,null,null,0,0,0,0,0,null,{"$f":"'NGGT TO'!AP382","v":0},{"$f":"'NGGT TO'!AQ382","v":0},{"$f":"'NGGT TO'!AR382","v":0},{"$f":"'NGGT TO'!AS382","v":0},{"$f":"'NGGT TO'!AT382","v":0},null,null,"TIM","RPEs Don’t Apply","CapRate 2 (UM)","Fast/Slow Split"]
[null,null,null,null,{"$f":"'NGGT TO'!E383","v":"Opex Escalator"},null,"£m 18/19 prices",{"$f":"'NGGT TO'!H383","v":"Other capex"},null,null,null,null,null,null,null,null,null,null,null,null,null,null,null,null,null,null,null,null,null,null,null,null,null,null,null,null,null,null,null,null,null,0,0,0,0,0,null,{"$f":"'NGGT TO'!AP383","v":0},{"$f":"'NGGT TO'!AQ383","v":0},{"$f":"'NGGT TO'!AR383","v":0},{"$f":"'NGGT TO'!AS383","v":0},{"$f":"'NGGT TO'!AT383","v":0},null,null,"TIM","RPEs Don’t Apply","CapRate 2 (UM)","Fast/Slow Split"]
[null,null,null,null,{"$f":"'NGGT TO'!E384","v":"Opex Escalator"},null,"£m 18/19 prices",{"$f":"'NGGT TO'!H384","v":"Non-load (opex)"},null,null,null,null,null,null,null,null,null,null,null,null,null,null,null,null,null,null,null,null,null,null,null,null,null,null,null,null,null,null,null,null,null,0,0,0,0,0,null,{"$f":"'NGGT TO'!AP384","v":0},{"$f":"'NGGT TO'!AQ384","v":0},{"$f":"'NGGT TO'!AR384","v":0},{"$f":"'NGGT TO'!AS384","v":0},{"$f":"'NGGT TO'!AT384","v":0},null,null,"TIM","RPEs Don’t Apply","CapRate 2 (UM)","Fast/Slow Split"]
[null,null,null,null,{"$f":"'NGGT TO'!E385","v":"Opex Escalator"},null,"£m 18/19 prices",{"$f":"'NGGT TO'!H385","v":"Indirects (opex)"},null,null,null,null,null,null,null,null,null,null,null,null,null,null,null,null,null,null,null,null,null,null,null,null,null,null,null,null,null,null,null,null,null,{"$f":"INDEX(AP$22:AP$57, MATCH($E462, $E$22:$E$57, 0)) * AV462","v":0},{"$f":"INDEX(AQ$22:AQ$57, MATCH($E462, $E$22:$E$57, 0)) * AW462","v":0},{"$f":"INDEX(AR$22:AR$57, MATCH($E462, $E$22:$E$57, 0)) * AX462","v":0},{"$f":"INDEX(AS$22:AS$57, MATCH($E462, $E$22:$E$57, 0)) * AY462","v":0},{"$f":"INDEX(AT$22:AT$57, MATCH($E462, $E$22:$E$57, 0)) * AZ462","v":0},null,{"$f":"'NGGT TO'!AP385","v":1},{"$f":"'NGGT TO'!AQ385","v":1},{"$f":"'NGGT TO'!AR385","v":1},{"$f":"'NGGT TO'!AS385","v":1},{"$f":"'NGGT TO'!AT385","v":1},null,null,{"$f":"INDEX(BC$22:BC$57, MATCH($E462, $E$22:$E$57, 0))","v":"TIM"},"RPEs Don’t Apply","CapRate 2 (UM)","Fast/Slow Split"]
[null,null,null,null,{"$f":"'NGGT TO'!E386","v":"Opex Escalator"},null,"£m 18/19 prices",{"$f":"'NGGT TO'!H386","v":"Non-operational capex"},null,null,null,null,null,null,null,null,null,null,null,null,null,null,null,null,null,null,null,null,null,null,null,null,null,null,null,null,null,null,null,null,null,0,0,0,0,0,null,{"$f":"'NGGT TO'!AP386","v":0},{"$f":"'NGGT TO'!AQ386","v":0},{"$f":"'NGGT TO'!AR386","v":0},{"$f":"'NGGT TO'!AS386","v":0},{"$f":"'NGGT TO'!AT386","v":0},null,null,"TIM","RPEs Don’t Apply","CapRate 2 (UM)","Fast/Slow Split"]
[null,null,null,null,{"$f":"'NGGT TO'!E387","v":"Spare UM 1"},null,"£m 18/19 prices",{"$f":"'NGGT TO'!H387","v":"Load related capex"},null,null,null,null,null,null,null,null,null,null,null,null,null,null,null,null,null,null,null,null,null,null,null,null,null,null,null,null,null,null,null,null,null,0,0,0,0,0,null,{"$f":"'NGGT TO'!AP387","v":0},{"$f":"'NGGT TO'!AQ387","v":0},{"$f":"'NGGT TO'!AR387","v":0},{"$f":"'NGGT TO'!AS387","v":0},{"$f":"'NGGT TO'!AT387","v":0},null,null,0,0,0,0]
[null,null,null,null,{"$f":"'NGGT TO'!E388","v":"Spare UM 1"},null,"£m 18/19 prices",{"$f":"'NGGT TO'!H388","v":"Asset replacement capex"},null,null,null,null,null,null,null,null,null,null,null,null,null,null,null,null,null,null,null,null,null,null,null,null,null,null,null,null,null,null,null,null,null,0,0,0,0,0,null,{"$f":"'NGGT TO'!AP388","v":0},{"$f":"'NGGT TO'!AQ388","v":0},{"$f":"'NGGT TO'!AR388","v":0},{"$f":"'NGGT TO'!AS388","v":0},{"$f":"'NGGT TO'!AT388","v":0},null,null,0,0,0,0]
[null,null,null,null,{"$f":"'NGGT TO'!E389","v":"Spare UM 1"},null,"£m 18/19 prices",{"$f":"'NGGT TO'!H389","v":"Other capex"},null,null,null,null,null,null,null,null,null,null,null,null,null,null,null,null,null,null,null,null,null,null,null,null,null,null,null,null,null,null,null,null,null,0,0,0,0,0,null,{"$f":"'NGGT TO'!AP389","v":0},{"$f":"'NGGT TO'!AQ389","v":0},{"$f":"'NGGT TO'!AR389","v":0},{"$f":"'NGGT TO'!AS389","v":0},{"$f":"'NGGT TO'!AT389","v":0},null,null,0,0,0,0]
[null,null,null,null,{"$f":"'NGGT TO'!E390","v":"Spare UM 1"},null,"£m 18/19 prices",{"$f":"'NGGT TO'!H390","v":"Non-load (opex)"},null,null,null,null,null,null,null,null,null,null,null,null,null,null,null,null,null,null,null,null,null,null,null,null,null,null,null,null,null,null,null,null,null,0,0,0,0,0,null,{"$f":"'NGGT TO'!AP390","v":0},{"$f":"'NGGT TO'!AQ390","v":0},{"$f":"'NGGT TO'!AR390","v":0},{"$f":"'NGGT TO'!AS390","v":0},{"$f":"'NGGT TO'!AT390","v":0},null,null,0,0,0,0]
[null,null,null,null,{"$f":"'NGGT TO'!E391","v":"Spare UM 1"},null,"£m 18/19 prices",{"$f":"'NGGT TO'!H391","v":"Indirects (opex)"},null,null,null,null,null,null,null,null,null,null,null,null,null,null,null,null,null,null,null,null,null,null,null,null,null,null,null,null,null,null,null,null,null,0,0,0,0,0,null,{"$f":"'NGGT TO'!AP391","v":0},{"$f":"'NGGT TO'!AQ391","v":0},{"$f":"'NGGT TO'!AR391","v":0},{"$f":"'NGGT TO'!AS391","v":0},{"$f":"'NGGT TO'!AT391","v":0},null,null,0,0,0,0]
[null,null,null,null,{"$f":"'NGGT TO'!E392","v":"Spare UM 1"},null,"£m 18/19 prices",{"$f":"'NGGT TO'!H392","v":"Non-operational capex"},null,null,null,null,null,null,null,null,null,null,null,null,null,null,null,null,null,null,null,null,null,null,null,null,null,null,null,null,null,null,null,null,null,0,0,0,0,0,null,{"$f":"'NGGT TO'!AP392","v":0},{"$f":"'NGGT TO'!AQ392","v":0},{"$f":"'NGGT TO'!AR392","v":0},{"$f":"'NGGT TO'!AS392","v":0},{"$f":"'NGGT TO'!AT392","v":0},null,null,0,0,0,0]
[null,null,null,null,{"$f":"'NGGT TO'!E393","v":"Spare UM 2"},null,"£m 18/19 prices",{"$f":"'NGGT TO'!H393","v":"Load related capex"},null,null,null,null,null,null,null,null,null,null,null,null,null,null,null,null,null,null,null,null,null,null,null,null,null,null,null,null,null,null,null,null,null,0,0,0,0,0,null,{"$f":"'NGGT TO'!AP393","v":0},{"$f":"'NGGT TO'!AQ393","v":0},{"$f":"'NGGT TO'!AR393","v":0},{"$f":"'NGGT TO'!AS393","v":0},{"$f":"'NGGT TO'!AT393","v":0},null,null,0,0,0,0]
[null,null,null,null,{"$f":"'NGGT TO'!E394","v":"Spare UM 2"},null,"£m 18/19 prices",{"$f":"'NGGT TO'!H394","v":"Asset replacement capex"},null,null,null,null,null,null,null,null,null,null,null,null,null,null,null,null,null,null,null,null,null,null,null,null,null,null,null,null,null,null,null,null,null,0,0,0,0,0,null,{"$f":"'NGGT TO'!AP394","v":0},{"$f":"'NGGT TO'!AQ394","v":0},{"$f":"'NGGT TO'!AR394","v":0},{"$f":"'NGGT TO'!AS394","v":0},{"$f":"'NGGT TO'!AT394","v":0},null,null,0,0,0,0]
[null,null,null,null,{"$f":"'NGGT TO'!E395","v":"Spare UM 2"},null,"£m 18/19 prices",{"$f":"'NGGT TO'!H395","v":"Other capex"},null,null,null,null,null,null,null,null,null,null,null,null,null,null,null,null,null,null,null,null,null,null,null,null,null,null,null,null,null,null,null,null,null,0,0,0,0,0,null,{"$f":"'NGGT TO'!AP395","v":0},{"$f":"'NGGT TO'!AQ395","v":0},{"$f":"'NGGT TO'!AR395","v":0},{"$f":"'NGGT TO'!AS395","v":0},{"$f":"'NGGT TO'!AT395","v":0},null,null,0,0,0,0]
[null,null,null,null,{"$f":"'NGGT TO'!E396","v":"Spare UM 2"},null,"£m 18/19 prices",{"$f":"'NGGT TO'!H396","v":"Non-load (opex)"},null,null,null,null,null,null,null,null,null,null,null,null,null,null,null,null,null,null,null,null,null,null,null,null,null,null,null,null,null,null,null,null,null,0,0,0,0,0,null,{"$f":"'NGGT TO'!AP396","v":0},{"$f":"'NGGT TO'!AQ396","v":0},{"$f":"'NGGT TO'!AR396","v":0},{"$f":"'NGGT TO'!AS396","v":0},{"$f":"'NGGT TO'!AT396","v":0},null,null,0,0,0,0]
[null,null,null,null,{"$f":"'NGGT TO'!E397","v":"Spare UM 2"},null,"£m 18/19 prices",{"$f":"'NGGT TO'!H397","v":"Indirects (opex)"},null,null,null,null,null,null,null,null,null,null,null,null,null,null,null,null,null,null,null,null,null,null,null,null,null,null,null,null,null,null,null,null,null,0,0,0,0,0,null,{"$f":"'NGGT TO'!AP397","v":0},{"$f":"'NGGT TO'!AQ397","v":0},{"$f":"'NGGT TO'!AR397","v":0},{"$f":"'NGGT TO'!AS397","v":0},{"$f":"'NGGT TO'!AT397","v":0},null,null,0,0,0,0]
[null,null,null,null,{"$f":"'NGGT TO'!E398","v":"Spare UM 2"},null,"£m 18/19 prices",{"$f":"'NGGT TO'!H398","v":"Non-operational capex"},null,null,null,null,null,null,null,null,null,null,null,null,null,null,null,null,null,null,null,null,null,null,null,null,null,null,null,null,null,null,null,null,null,0,0,0,0,0,null,{"$f":"'NGGT TO'!AP398","v":0},{"$f":"'NGGT TO'!AQ398","v":0},{"$f":"'NGGT TO'!AR398","v":0},{"$f":"'NGGT TO'!AS398","v":0},{"$f":"'NGGT TO'!AT398","v":0},null,null,0,0,0,0]
[null,null,null,null,{"$f":"'NGGT TO'!E399","v":"Spare UM 3"},null,"£m 18/19 prices",{"$f":"'NGGT TO'!H399","v":"Load related capex"},null,null,null,null,null,null,null,null,null,null,null,null,null,null,null,null,null,null,null,null,null,null,null,null,null,null,null,null,null,null,null,null,null,0,0,0,0,0,null,{"$f":"'NGGT TO'!AP399","v":0},{"$f":"'NGGT TO'!AQ399","v":0},{"$f":"'NGGT TO'!AR399","v":0},{"$f":"'NGGT TO'!AS399","v":0},{"$f":"'NGGT TO'!AT399","v":0},null,null,0,0,0,0]
[null,null,null,null,{"$f":"'NGGT TO'!E400","v":"Spare UM 3"},null,"£m 18/19 prices",{"$f":"'NGGT TO'!H400","v":"Asset replacement capex"},null,null,null,null,null,null,null,null,null,null,null,null,null,null,null,null,null,null,null,null,null,null,null,null,null,null,null,null,null,null,null,null,null,0,0,0,0,0,null,{"$f":"'NGGT TO'!AP400","v":0},{"$f":"'NGGT TO'!AQ400","v":0},{"$f":"'NGGT TO'!AR400","v":0},{"$f":"'NGGT TO'!AS400","v":0},{"$f":"'NGGT TO'!AT400","v":0},null,null,0,0,0,0]
[null,null,null,null,{"$f":"'NGGT TO'!E401","v":"Spare UM 3"},null,"£m 18/19 prices",{"$f":"'NGGT TO'!H401","v":"Other capex"},null,null,null,null,null,null,null,null,null,null,null,null,null,null,null,null,null,null,null,null,null,null,null,null,null,null,null,null,null,null,null,null,null,0,0,0,0,0,null,{"$f":"'NGGT TO'!AP401","v":0},{"$f":"'NGGT TO'!AQ401","v":0},{"$f":"'NGGT TO'!AR401","v":0},{"$f":"'NGGT TO'!AS401","v":0},{"$f":"'NGGT TO'!AT401","v":0},null,null,0,0,0,0]
[null,null,null,null,{"$f":"'NGGT TO'!E402","v":"Spare UM 3"},null,"£m 18/19 prices",{"$f":"'NGGT TO'!H402","v":"Non-load (opex)"},null,null,null,null,null,null,null,null,null,null,null,null,null,null,null,null,null,null,null,null,null,null,null,null,null,null,null,null,null,null,null,null,null,0,0,0,0,0,null,{"$f":"'NGGT TO'!AP402","v":0},{"$f":"'NGGT TO'!AQ402","v":0},{"$f":"'NGGT TO'!AR402","v":0},{"$f":"'NGGT TO'!AS402","v":0},{"$f":"'NGGT TO'!AT402","v":0},null,null,0,0,0,0]
[null,null,null,null,{"$f":"'NGGT TO'!E403","v":"Spare UM 3"},null,"£m 18/19 prices",{"$f":"'NGGT TO'!H403","v":"Indirects (opex)"},null,null,null,null,null,null,null,null,null,null,null,null,null,null,null,null,null,null,null,null,null,null,null,null,null,null,null,null,null,null,null,null,null,0,0,0,0,0,null,{"$f":"'NGGT TO'!AP403","v":0},{"$f":"'NGGT TO'!AQ403","v":0},{"$f":"'NGGT TO'!AR403","v":0},{"$f":"'NGGT TO'!AS403","v":0},{"$f":"'NGGT TO'!AT403","v":0},null,null,0,0,0,0]
[null,null,null,null,{"$f":"'NGGT TO'!E404","v":"Spare UM 3"},null,"£m 18/19 prices",{"$f":"'NGGT TO'!H404","v":"Non-operational capex"},null,null,null,null,null,null,null,null,null,null,null,null,null,null,null,null,null,null,null,null,null,null,null,null,null,null,null,null,null,null,null,null,null,0,0,0,0,0,null,{"$f":"'NGGT TO'!AP404","v":0},{"$f":"'NGGT TO'!AQ404","v":0},{"$f":"'NGGT TO'!AR404","v":0},{"$f":"'NGGT TO'!AS404","v":0},{"$f":"'NGGT TO'!AT404","v":0},null,null,0,0,0,0]
[null,null,null,null,"RPE non-variant allowances",null,"£m 18/19 prices",{"$f":"H$476","v":"Load related capex"},null,null,null,null,null,null,null,null,null,null,null,null,null,null,null,null,null,null,null,null,null,null,null,null,null,null,null,null,null,null,null,null,null,{"$f":"'NGGT TO'!AP10 * (AP$197 - 1)","v":1.4504183893176866E-3},{"$f":"'NGGT TO'!AQ10 * (AQ$197 - 1)","v":2.0582106149403822E-2},{"$f":"'NGGT TO'!AR10 * (AR$197 - 1)","v":2.0936985342910174E-2},{"$f":"'NGGT TO'!AS10 * (AS$197 - 1)","v":1.3906674238725809E-2},{"$f":"'NGGT TO'!AT10 * (AT$197 - 1)","v":0},null,{"$f":"IF(SUMPRODUCT((AP$482:AP$499) * ($E$482:$E$499 = $E482)) = 0, 0, AP482 / SUMPRODUCT((AP$482:AP$499) * ($E$482:$E$499 = $E482)))","v":2.172897719546174E-3},{"$f":"IF(SUMPRODUCT((AQ$482:AQ$499) * ($E$482:$E$499 = $E482)) = 0, 0, AQ482 / SUMPRODUCT((AQ$482:AQ$499) * ($E$482:$E$499 = $E482)))","v":9.0749594411800617E-3},{"$f":"IF(SUMPRODUCT((AR$482:AR$499) * ($E$482:$E$499 = $E482)) = 0, 0, AR482 / SUMPRODUCT((AR$482:AR$499) * ($E$482:$E$499 = $E482)))","v":4.8579956576992947E-3},{"$f":"IF(SUMPRODUCT((AS$482:AS$499) * ($E$482:$E$499 = $E482)) = 0, 0, AS482 / SUMPRODUCT((AS$482:AS$499) * ($E$482:$E$499 = $E482)))","v":2.3220778195073262E-3},{"$f":"IF(SUMPRODUCT((AT$482:AT$499) * ($E$482:$E$499 = $E482)) = 0, 0, AT482 / SUMPRODUCT((AT$482:AT$499) * ($E$482:$E$499 = $E482)))","v":0},null,null,{"$f":"INDEX(BC$22:BC$57, MATCH($E482, $E$22:$E$57, 0))","v":"TIM"},0,"CapRate 1 (Baseline)","Fast/Slow Split"]
[null,null,null,null,"RPE non-variant allowances",null,"£m 18/19 prices",{"$f":"H$477","v":"Asset replacement capex"},null,null,null,null,null,null,null,null,null,null,null,null,null,null,null,null,null,null,null,null,null,null,null,null,null,null,null,null,null,null,null,null,null,{"$f":"'NGGT TO'!AP11 * (AP$197 - 1)","v":6.2506836603509114E-2},{"$f":"'NGGT TO'!AQ11 * (AQ$197 - 1)","v":8.6984687408421094E-2},{"$f":"'NGGT TO'!AR11 * (AR$197 - 1)","v":0.47607088099310468},{"$f":"'NGGT TO'!AS11 * (AS$197 - 1)","v":0.6967787814259957},{"$f":"'NGGT TO'!AT11 * (AT$197 - 1)","v":0.63391988218378426},null,{"$f":"IF(SUMPRODUCT((AP$482:AP$499) * ($E$482:$E$499 = $E483)) = 0, 0, AP483 / SUMPRODUCT((AP$482:AP$499) * ($E$482:$E$499 = $E483)))","v":9.364260940989852E-2},{"$f":"IF(SUMPRODUCT((AQ$482:AQ$499) * ($E$482:$E$499 = $E483)) = 0, 0, AQ483 / SUMPRODUCT((AQ$482:AQ$499) * ($E$482:$E$499 = $E483)))","v":3.8352853906450803E-2},{"$f":"IF(SUMPRODUCT((AR$482:AR$499) * ($E$482:$E$499 = $E483)) = 0, 0, AR483 / SUMPRODUCT((AR$482:AR$499) * ($E$482:$E$499 = $E483)))","v":0.11046242975017125},{"$f":"IF(SUMPRODUCT((AS$482:AS$499) * ($E$482:$E$499 = $E483)) = 0, 0, AS483 / SUMPRODUCT((AS$482:AS$499) * ($E$482:$E$499 = $E483)))","v":0.11634518258485459},{"$f":"IF(SUMPRODUCT((AT$482:AT$499) * ($E$482:$E$499 = $E483)) = 0, 0, AT483 / SUMPRODUCT((AT$482:AT$499) * ($E$482:$E$499 = $E483)))","v":8.8754915693327871E-2},null,null,"TIM",0,"CapRate 1 (Baseline)","Fast/Slow Split"]
[null,null,null,null,"RPE non-variant allowances",null,"£m 18/19 prices",{"$f":"H$478","v":"Other capex"},null,null,null,null,null,null,null,null,null,null,null,null,null,null,null,null,null,null,null,null,null,null,null,null,null,null,null,null,null,null,null,null,null,{"$f":"'NGGT TO'!AP12 * (AP$197 - 1)","v":2.867184023305166E-3},{"$f":"'NGGT TO'!AQ12 * (AQ$197 - 1)","v":4.0264209690175058E-2},{"$f":"'NGGT TO'!AR12 * (AR$197 - 1)","v":8.6980283117973872E-2},{"$f":"'NGGT TO'!AS12 * (AS$197 - 1)","v":0.13979623872659983},{"$f":"'NGGT TO'!AT12 * (AT$197 - 1)","v":0.11124499155450619},null,{"$f":"IF(SUMPRODUCT((AP$482:AP$499) * ($E$482:$E$499 = $E484)) = 0, 0, AP484 / SUMPRODUCT((AP$482:AP$499) * ($E$482:$E$499 = $E484)))","v":4.2953796446898425E-3},{"$f":"IF(SUMPRODUCT((AQ$482:AQ$499) * ($E$482:$E$499 = $E484)) = 0, 0, AQ484 / SUMPRODUCT((AQ$482:AQ$499) * ($E$482:$E$499 = $E484)))","v":1.775309422743852E-2},{"$f":"IF(SUMPRODUCT((AR$482:AR$499) * ($E$482:$E$499 = $E484)) = 0, 0, AR484 / SUMPRODUCT((AR$482:AR$499) * ($E$482:$E$499 = $E484)))","v":2.018198087126517E-2},{"$f":"IF(SUMPRODUCT((AS$482:AS$499) * ($E$482:$E$499 = $E484)) = 0, 0, AS484 / SUMPRODUCT((AS$482:AS$499) * ($E$482:$E$499 = $E484)))","v":2.3342586417507933E-2},{"$f":"IF(SUMPRODUCT((AT$482:AT$499) * ($E$482:$E$499 = $E484)) = 0, 0, AT484 / SUMPRODUCT((AT$482:AT$499) * ($E$482:$E$499 = $E484)))","v":1.5575374939672045E-2},null,null,"TIM",0,"CapRate 1 (Baseline)","Fast/Slow Split"]
[null,null,null,null,"RPE non-variant allowances",null,"£m 18/19 prices",{"$f":"H$479","v":"Non-load (opex)"},null,null,null,null,null,null,null,null,null,null,null,null,null,null,null,null,null,null,null,null,null,null,null,null,null,null,null,null,null,null,null,null,null,{"$f":"'NGGT TO'!AP13 * (AP$197 - 1)","v":0.19409808515840721},{"$f":"'NGGT TO'!AQ13 * (AQ$197 - 1)","v":0.6847475346753864},{"$f":"'NGGT TO'!AR13 * (AR$197 - 1)","v":1.2391001570230253},{"$f":"'NGGT TO'!AS13 * (AS$197 - 1)","v":1.9080046759596354},{"$f":"'NGGT TO'!AT13 * (AT$197 - 1)","v":2.3118061933731742},null,{"$f":"IF(SUMPRODUCT((AP$482:AP$499) * ($E$482:$E$499 = $E485)) = 0, 0, AP485 / SUMPRODUCT((AP$482:AP$499) * ($E$482:$E$499 = $E485)))","v":0.29078181145192622},{"$f":"IF(SUMPRODUCT((AQ$482:AQ$499) * ($E$482:$E$499 = $E485)) = 0, 0, AQ485 / SUMPRODUCT((AQ$482:AQ$499) * ($E$482:$E$499 = $E485)))","v":0.30191546285495979},{"$f":"IF(SUMPRODUCT((AR$482:AR$499) * ($E$482:$E$499 = $E485)) = 0, 0, AR485 / SUMPRODUCT((AR$482:AR$499) * ($E$482:$E$499 = $E485)))","v":0.2875076370204725},{"$f":"IF(SUMPRODUCT((AS$482:AS$499) * ($E$482:$E$499 = $E485)) = 0, 0, AS485 / SUMPRODUCT((AS$482:AS$499) * ($E$482:$E$499 = $E485)))","v":0.31859057467704643},{"$f":"IF(SUMPRODUCT((AT$482:AT$499) * ($E$482:$E$499 = $E485)) = 0, 0, AT485 / SUMPRODUCT((AT$482:AT$499) * ($E$482:$E$499 = $E485)))","v":0.32367523019677574},null,null,"TIM",0,"CapRate 1 (Baseline)","Fast/Slow Split"]
[null,null,null,null,"RPE non-variant allowances",null,"£m 18/19 prices",{"$f":"H$480","v":"Indirects (opex)"},null,null,null,null,null,null,null,null,null,null,null,null,null,null,null,null,null,null,null,null,null,null,null,null,null,null,null,null,null,null,null,null,null,{"$f":"'NGGT TO'!AP14 * (AP$197 - 1)","v":0.28698292172155054},{"$f":"'NGGT TO'!AQ14 * (AQ$197 - 1)","v":1.0363197981086394},{"$f":"'NGGT TO'!AR14 * (AR$197 - 1)","v":1.8359668003746663},{"$f":"'NGGT TO'!AS14 * (AS$197 - 1)","v":2.3588321768112346},{"$f":"'NGGT TO'!AT14 * (AT$197 - 1)","v":3.0016267382945228},null,{"$f":"IF(SUMPRODUCT((AP$482:AP$499) * ($E$482:$E$499 = $E486)) = 0, 0, AP486 / SUMPRODUCT((AP$482:AP$499) * ($E$482:$E$499 = $E486)))","v":0.42993424569775701},{"$f":"IF(SUMPRODUCT((AQ$482:AQ$499) * ($E$482:$E$499 = $E486)) = 0, 0, AQ486 / SUMPRODUCT((AQ$482:AQ$499) * ($E$482:$E$499 = $E486)))","v":0.45692894923682159},{"$f":"IF(SUMPRODUCT((AR$482:AR$499) * ($E$482:$E$499 = $E486)) = 0, 0, AR486 / SUMPRODUCT((AR$482:AR$499) * ($E$482:$E$499 = $E486)))","v":0.42599823221065825},{"$f":"IF(SUMPRODUCT((AS$482:AS$499) * ($E$482:$E$499 = $E486)) = 0, 0, AS486 / SUMPRODUCT((AS$482:AS$499) * ($E$482:$E$499 = $E486)))","v":0.39386784961574062},{"$f":"IF(SUMPRODUCT((AT$482:AT$499) * ($E$482:$E$499 = $E486)) = 0, 0, AT486 / SUMPRODUCT((AT$482:AT$499) * ($E$482:$E$499 = $E486)))","v":0.42025677942521533},null,null,"TIM",0,"CapRate 1 (Baseline)","Fast/Slow Split"]
[null,null,null,null,"RPE non-variant allowances",null,"£m 18/19 prices",{"$f":"H$481","v":"Non-operational capex"},null,null,null,null,null,null,null,null,null,null,null,null,null,null,null,null,null,null,null,null,null,null,null,null,null,null,null,null,null,null,null,null,null,{"$f":"'NGGT TO'!AP15 * (AP$197 - 1)","v":0.11959877037259758},{"$f":"'NGGT TO'!AQ15 * (AQ$197 - 1)","v":0.399112477989577},{"$f":"'NGGT TO'!AR15 * (AR$197 - 1)","v":0.65074399923186699},{"$f":"'NGGT TO'!AS15 * (AS$197 - 1)","v":0.87157386716541263},{"$f":"'NGGT TO'!AT15 * (AT$197 - 1)","v":1.0837658285604739},null,{"$f":"IF(SUMPRODUCT((AP$482:AP$499) * ($E$482:$E$499 = $E487)) = 0, 0, AP487 / SUMPRODUCT((AP$482:AP$499) * ($E$482:$E$499 = $E487)))","v":0.17917305607618225},{"$f":"IF(SUMPRODUCT((AQ$482:AQ$499) * ($E$482:$E$499 = $E487)) = 0, 0, AQ487 / SUMPRODUCT((AQ$482:AQ$499) * ($E$482:$E$499 = $E487)))","v":0.17597468033314917},{"$f":"IF(SUMPRODUCT((AR$482:AR$499) * ($E$482:$E$499 = $E487)) = 0, 0, AR487 / SUMPRODUCT((AR$482:AR$499) * ($E$482:$E$499 = $E487)))","v":0.15099172448973358},{"$f":"IF(SUMPRODUCT((AS$482:AS$499) * ($E$482:$E$499 = $E487)) = 0, 0, AS487 / SUMPRODUCT((AS$482:AS$499) * ($E$482:$E$499 = $E487)))","v":0.14553172888534308},{"$f":"IF(SUMPRODUCT((AT$482:AT$499) * ($E$482:$E$499 = $E487)) = 0, 0, AT487 / SUMPRODUCT((AT$482:AT$499) * ($E$482:$E$499 = $E487)))","v":0.15173769974500892},null,null,"TIM",0,"CapRate 1 (Baseline)","Fast/Slow Split"]
[null,null,null,null,"RPE PCDs",null,"£m 18/19 prices",{"$f":"H$476","v":"Load related capex"},null,null,null,null,null,null,null,null,null,null,null,null,null,null,null,null,null,null,null,null,null,null,null,null,null,null,null,null,null,null,null,null,null,{"$f":"SUMPRODUCT((AP$284:AP$481) * ($H$284:$H$481 = $H488) * ($BD$284:$BD$481 = \"RPEs Apply\") * ($BE$284:$BE$481 = \"CapRate 1 (Baseline)\")) * (AP$197 - 1)","v":0},{"$f":"SUMPRODUCT((AQ$284:AQ$481) * ($H$284:$H$481 = $H488) * ($BD$284:$BD$481 = \"RPEs Apply\") * ($BE$284:$BE$481 = \"CapRate 1 (Baseline)\")) * (AQ$197 - 1)","v":0},{"$f":"SUMPRODUCT((AR$284:AR$481) * ($H$284:$H$481 = $H488) * ($BD$284:$BD$481 = \"RPEs Apply\") * ($BE$284:$BE$481 = \"CapRate 1 (Baseline)\")) * (AR$197 - 1)","v":0},{"$f":"SUMPRODUCT((AS$284:AS$481) * ($H$284:$H$481 = $H488) * ($BD$284:$BD$481 = \"RPEs Apply\") * ($BE$284:$BE$481 = \"CapRate 1 (Baseline)\")) * (AS$197 - 1)","v":0},{"$f":"SUMPRODUCT((AT$284:AT$481) * ($H$284:$H$481 = $H488) * ($BD$284:$BD$481 = \"RPEs Apply\") * ($BE$284:$BE$481 = \"CapRate 1 (Baseline)\")) * (AT$197 - 1)","v":0},null,{"$f":"IF(SUMPRODUCT((AP$482:AP$499) * ($E$482:$E$499 = $E488)) = 0, 0, AP488 / SUMPRODUCT((AP$482:AP$499) * ($E$482:$E$499 = $E488)))","v":0},{"$f":"IF(SUMPRODUCT((AQ$482:AQ$499) * ($E$482:$E$499 = $E488)) = 0, 0, AQ488 / SUMPRODUCT((AQ$482:AQ$499) * ($E$482:$E$499 = $E488)))","v":0},{"$f":"IF(SUMPRODUCT((AR$482:AR$499) * ($E$482:$E$499 = $E488)) = 0, 0, AR488 / SUMPRODUCT((AR$482:AR$499) * ($E$482:$E$499 = $E488)))","v":0},{"$f":"IF(SUMPRODUCT((AS$482:AS$499) * ($E$482:$E$499 = $E488)) = 0, 0, AS488 / SUMPRODUCT((AS$482:AS$499) * ($E$482:$E$499 = $E488)))","v":0},{"$f":"IF(SUMPRODUCT((AT$482:AT$499) * ($E$482:$E$499 = $E488)) = 0, 0, AT488 / SUMPRODUCT((AT$482:AT$499) * ($E$482:$E$499 = $E488)))","v":0},null,null,{"$f":"INDEX(BC$22:BC$57, MATCH($E488, $E$22:$E$57, 0))","v":"TIM"},0,"CapRate 1 (Baseline)","Fast/Slow Split"]
[null,null,null,null,"RPE PCDs",null,"£m 18/19 prices",{"$f":"H$477","v":"Asset replacement capex"},null,null,null,null,null,null,null,null,null,null,null,null,null,null,null,null,null,null,null,null,null,null,null,null,null,null,null,null,null,null,null,null,null,{"$f":"SUMPRODUCT((AP$284:AP$481) * ($H$284:$H$481 = $H489) * ($BD$284:$BD$481 = \"RPEs Apply\") * ($BE$284:$BE$481 = \"CapRate 1 (Baseline)\")) * (AP$197 - 1)","v":0.45031224997039088},{"$f":"SUMPRODUCT((AQ$284:AQ$481) * ($H$284:$H$481 = $H489) * ($BD$284:$BD$481 = \"RPEs Apply\") * ($BE$284:$BE$481 = \"CapRate 1 (Baseline)\")) * (AQ$197 - 1)","v":2.6604576260674913},{"$f":"SUMPRODUCT((AR$284:AR$481) * ($H$284:$H$481 = $H489) * ($BD$284:$BD$481 = \"RPEs Apply\") * ($BE$284:$BE$481 = \"CapRate 1 (Baseline)\")) * (AR$197 - 1)","v":5.0924964456396191},{"$f":"SUMPRODUCT((AS$284:AS$481) * ($H$284:$H$481 = $H489) * ($BD$284:$BD$481 = \"RPEs Apply\") * ($BE$284:$BE$481 = \"CapRate 1 (Baseline)\")) * (AS$197 - 1)","v":3.9770662782231421},{"$f":"SUMPRODUCT((AT$284:AT$481) * ($H$284:$H$481 = $H489) * ($BD$284:$BD$481 = \"RPEs Apply\") * ($BE$284:$BE$481 = \"CapRate 1 (Baseline)\")) * (AT$197 - 1)","v":5.0682338245617675},null,{"$f":"IF(SUMPRODUCT((AP$482:AP$499) * ($E$482:$E$499 = $E489)) = 0, 0, AP489 / SUMPRODUCT((AP$482:AP$499) * ($E$482:$E$499 = $E489)))","v":0.87482726220809803},{"$f":"IF(SUMPRODUCT((AQ$482:AQ$499) * ($E$482:$E$499 = $E489)) = 0, 0, AQ489 / SUMPRODUCT((AQ$482:AQ$499) * ($E$482:$E$499 = $E489)))","v":0.89633803233029463},{"$f":"IF(SUMPRODUCT((AR$482:AR$499) * ($E$482:$E$499 = $E489)) = 0, 0, AR489 / SUMPRODUCT((AR$482:AR$499) * ($E$482:$E$499 = $E489)))","v":0.97404897582575967},{"$f":"IF(SUMPRODUCT((AS$482:AS$499) * ($E$482:$E$499 = $E489)) = 0, 0, AS489 / SUMPRODUCT((AS$482:AS$499) * ($E$482:$E$499 = $E489)))","v":1},{"$f":"IF(SUMPRODUCT((AT$482:AT$499) * ($E$482:$E$499 = $E489)) = 0, 0, AT489 / SUMPRODUCT((AT$482:AT$499) * ($E$482:$E$499 = $E489)))","v":1},null,null,"TIM",0,"CapRate 1 (Baseline)","Fast/Slow Split"]
[null,null,null,null,"RPE PCDs",null,"£m 18/19 prices",{"$f":"H$478","v":"Other capex"},null,null,null,null,null,null,null,null,null,null,null,null,null,null,null,null,null,null,null,null,null,null,null,null,null,null,null,null,null,null,null,null,null,{"$f":"SUMPRODUCT((AP$284:AP$481) * ($H$284:$H$481 = $H490) * ($BD$284:$BD$481 = \"RPEs Apply\") * ($BE$284:$BE$481 = \"CapRate 1 (Baseline)\")) * (AP$197 - 1)","v":5.1141056816900211E-2},{"$f":"SUMPRODUCT((AQ$284:AQ$481) * ($H$284:$H$481 = $H490) * ($BD$284:$BD$481 = \"RPEs Apply\") * ($BE$284:$BE$481 = \"CapRate 1 (Baseline)\")) * (AQ$197 - 1)","v":0.26507885178404184},{"$f":"SUMPRODUCT((AR$284:AR$481) * ($H$284:$H$481 = $H490) * ($BD$284:$BD$481 = \"RPEs Apply\") * ($BE$284:$BE$481 = \"CapRate 1 (Baseline)\")) * (AR$197 - 1)","v":6.7172034648980167E-2},{"$f":"SUMPRODUCT((AS$284:AS$481) * ($H$284:$H$481 = $H490) * ($BD$284:$BD$481 = \"RPEs Apply\") * ($BE$284:$BE$481 = \"CapRate 1 (Baseline)\")) * (AS$197 - 1)","v":0},{"$f":"SUMPRODUCT((AT$284:AT$481) * ($H$284:$H$481 = $H490) * ($BD$284:$BD$481 = \"RPEs Apply\") * ($BE$284:$BE$481 = \"CapRate 1 (Baseline)\")) * (AT$197 - 1)","v":0},null,{"$f":"IF(SUMPRODUCT((AP$482:AP$499) * ($E$482:$E$499 = $E490)) = 0, 0, AP490 / SUMPRODUCT((AP$482:AP$499) * ($E$482:$E$499 = $E490)))","v":9.9352373213252215E-2},{"$f":"IF(SUMPRODUCT((AQ$482:AQ$499) * ($E$482:$E$499 = $E490)) = 0, 0, AQ490 / SUMPRODUCT((AQ$482:AQ$499) * ($E$482:$E$499 = $E490)))","v":8.9308040125294738E-2},{"$f":"IF(SUMPRODUCT((AR$482:AR$499) * ($E$482:$E$499 = $E490)) = 0, 0, AR490 / SUMPRODUCT((AR$482:AR$499) * ($E$482:$E$499 = $E490)))","v":1.2848089783154222E-2},{"$f":"IF(SUMPRODUCT((AS$482:AS$499) * ($E$482:$E$499 = $E490)) = 0, 0, AS490 / SUMPRODUCT((AS$482:AS$499) * ($E$482:$E$499 = $E490)))","v":0},{"$f":"IF(SUMPRODUCT((AT$482:AT$499) * ($E$482:$E$499 = $E490)) = 0, 0, AT490 / SUMPRODUCT((AT$482:AT$499) * ($E$482:$E$499 = $E490)))","v":0},null,null,"TIM",0,"CapRate 1 (Baseline)","Fast/Slow Split"]
[null,null,null,null,"RPE PCDs",null,"£m 18/19 prices",{"$f":"H$479","v":"Non-load (opex)"},null,null,null,null,null,null,null,null,null,null,null,null,null,null,null,null,null,null,null,null,null,null,null,null,null,null,null,null,null,null,null,null,null,{"$f":"SUMPRODUCT((AP$284:AP$481) * ($H$284:$H$481 = $H491) * ($BD$284:$BD$481 = \"RPEs Apply\") * ($BE$284:$BE$481 = \"CapRate 1 (Baseline)\")) * (AP$197 - 1)","v":0},{"$f":"SUMPRODUCT((AQ$284:AQ$481) * ($H$284:$H$481 = $H491) * ($BD$284:$BD$481 = \"RPEs Apply\") * ($BE$284:$BE$481 = \"CapRate 1 (Baseline)\")) * (AQ$197 - 1)","v":0},{"$f":"SUMPRODUCT((AR$284:AR$481) * ($H$284:$H$481 = $H491) * ($BD$284:$BD$481 = \"RPEs Apply\") * ($BE$284:$BE$481 = \"CapRate 1 (Baseline)\")) * (AR$197 - 1)","v":0},{"$f":"SUMPRODUCT((AS$284:AS$481) * ($H$284:$H$481 = $H491) * ($BD$284:$BD$481 = \"RPEs Apply\") * ($BE$284:$BE$481 = \"CapRate 1 (Baseline)\")) * (AS$197 - 1)","v":0},{"$f":"SUMPRODUCT((AT$284:AT$481) * ($H$284:$H$481 = $H491) * ($BD$284:$BD$481 = \"RPEs Apply\") * ($BE$284:$BE$481 = \"CapRate 1 (Baseline)\")) * (AT$197 - 1)","v":0},null,{"$f":"IF(SUMPRODUCT((AP$482:AP$499) * ($E$482:$E$499 = $E491)) = 0, 0, AP491 / SUMPRODUCT((AP$482:AP$499) * ($E$482:$E$499 = $E491)))","v":0},{"$f":"IF(SUMPRODUCT((AQ$482:AQ$499) * ($E$482:$E$499 = $E491)) = 0, 0, AQ491 / SUMPRODUCT((AQ$482:AQ$499) * ($E$482:$E$499 = $E491)))","v":0},{"$f":"IF(SUMPRODUCT((AR$482:AR$499) * ($E$482:$E$499 = $E491)) = 0, 0, AR491 / SUMPRODUCT((AR$482:AR$499) * ($E$482:$E$499 = $E491)))","v":0},{"$f":"IF(SUMPRODUCT((AS$482:AS$499) * ($E$482:$E$499 = $E491)) = 0, 0, AS491 / SUMPRODUCT((AS$482:AS$499) * ($E$482:$E$499 = $E491)))","v":0},{"$f":"IF(SUMPRODUCT((AT$482:AT$499) * ($E$482:$E$499 = $E491)) = 0, 0, AT491 / SUMPRODUCT((AT$482:AT$499) * ($E$482:$E$499 = $E491)))","v":0},null,null,"TIM",0,"CapRate 1 (Baseline)","Fast/Slow Split"]
[null,null,null,null,"RPE PCDs",null,"£m 18/19 prices",{"$f":"H$480","v":"Indirects (opex)"},null,null,null,null,null,null,null,null,null,null,null,null,null,null,null,null,null,null,null,null,null,null,null,null,null,null,null,null,null,null,null,null,null,{"$f":"SUMPRODUCT((AP$284:AP$481) * ($H$284:$H$481 = $H492) * ($BD$284:$BD$481 = \"RPEs Apply\") * ($BE$284:$BE$481 = \"CapRate 1 (Baseline)\")) * (AP$197 - 1)","v":1.3290882635641684E-2},{"$f":"SUMPRODUCT((AQ$284:AQ$481) * ($H$284:$H$481 = $H492) * ($BD$284:$BD$481 = \"RPEs Apply\") * ($BE$284:$BE$481 = \"CapRate 1 (Baseline)\")) * (AQ$197 - 1)","v":4.260448025424779E-2},{"$f":"SUMPRODUCT((AR$284:AR$481) * ($H$284:$H$481 = $H492) * ($BD$284:$BD$481 = \"RPEs Apply\") * ($BE$284:$BE$481 = \"CapRate 1 (Baseline)\")) * (AR$197 - 1)","v":6.8504406318467381E-2},{"$f":"SUMPRODUCT((AS$284:AS$481) * ($H$284:$H$481 = $H492) * ($BD$284:$BD$481 = \"RPEs Apply\") * ($BE$284:$BE$481 = \"CapRate 1 (Baseline)\")) * (AS$197 - 1)","v":0},{"$f":"SUMPRODUCT((AT$284:AT$481) * ($H$284:$H$481 = $H492) * ($BD$284:$BD$481 = \"RPEs Apply\") * ($BE$284:$BE$481 = \"CapRate 1 (Baseline)\")) * (AT$197 - 1)","v":0},null,{"$f":"IF(SUMPRODUCT((AP$482:AP$499) * ($E$482:$E$499 = $E492)) = 0, 0, AP492 / SUMPRODUCT((AP$482:AP$499) * ($E$482:$E$499 = $E492)))","v":2.5820364578649776E-2},{"$f":"IF(SUMPRODUCT((AQ$482:AQ$499) * ($E$482:$E$499 = $E492)) = 0, 0, AQ492 / SUMPRODUCT((AQ$482:AQ$499) * ($E$482:$E$499 = $E492)))","v":1.4353927544410583E-2},{"$f":"IF(SUMPRODUCT((AR$482:AR$499) * ($E$482:$E$499 = $E492)) = 0, 0, AR492 / SUMPRODUCT((AR$482:AR$499) * ($E$482:$E$499 = $E492)))","v":1.3102934391086054E-2},{"$f":"IF(SUMPRODUCT((AS$482:AS$499) * ($E$482:$E$499 = $E492)) = 0, 0, AS492 / SUMPRODUCT((AS$482:AS$499) * ($E$482:$E$499 = $E492)))","v":0},{"$f":"IF(SUMPRODUCT((AT$482:AT$499) * ($E$482:$E$499 = $E492)) = 0, 0, AT492 / SUMPRODUCT((AT$482:AT$499) * ($E$482:$E$499 = $E492)))","v":0},null,null,"TIM",0,"CapRate 1 (Baseline)","Fast/Slow Split"]
[null,null,null,null,"RPE PCDs",null,"£m 18/19 prices",{"$f":"H$481","v":"Non-operational capex"},null,null,null,null,null,null,null,null,null,null,null,null,null,null,null,null,null,null,null,null,null,null,null,null,null,null,null,null,null,null,null,null,null,{"$f":"SUMPRODUCT((AP$284:AP$481) * ($H$284:$H$481 = $H493) * ($BD$284:$BD$481 = \"RPEs Apply\") * ($BE$284:$BE$481 = \"CapRate 1 (Baseline)\")) * (AP$197 - 1)","v":0},{"$f":"SUMPRODUCT((AQ$284:AQ$481) * ($H$284:$H$481 = $H493) * ($BD$284:$BD$481 = \"RPEs Apply\") * ($BE$284:$BE$481 = \"CapRate 1 (Baseline)\")) * (AQ$197 - 1)","v":0},{"$f":"SUMPRODUCT((AR$284:AR$481) * ($H$284:$H$481 = $H493) * ($BD$284:$BD$481 = \"RPEs Apply\") * ($BE$284:$BE$481 = \"CapRate 1 (Baseline)\")) * (AR$197 - 1)","v":0},{"$f":"SUMPRODUCT((AS$284:AS$481) * ($H$284:$H$481 = $H493) * ($BD$284:$BD$481 = \"RPEs Apply\") * ($BE$284:$BE$481 = \"CapRate 1 (Baseline)\")) * (AS$197 - 1)","v":0},{"$f":"SUMPRODUCT((AT$284:AT$481) * ($H$284:$H$481 = $H493) * ($BD$284:$BD$481 = \"RPEs Apply\") * ($BE$284:$BE$481 = \"CapRate 1 (Baseline)\")) * (AT$197 - 1)","v":0},null,{"$f":"IF(SUMPRODUCT((AP$482:AP$499) * ($E$482:$E$499 = $E493)) = 0, 0, AP493 / SUMPRODUCT((AP$482:AP$499) * ($E$482:$E$499 = $E493)))","v":0},{"$f":"IF(SUMPRODUCT((AQ$482:AQ$499) * ($E$482:$E$499 = $E493)) = 0, 0, AQ493 / SUMPRODUCT((AQ$482:AQ$499) * ($E$482:$E$499 = $E493)))","v":0},{"$f":"IF(SUMPRODUCT((AR$482:AR$499) * ($E$482:$E$499 = $E493)) = 0, 0, AR493 / SUMPRODUCT((AR$482:AR$499) * ($E$482:$E$499 = $E493)))","v":0},{"$f":"IF(SUMPRODUCT((AS$482:AS$499) * ($E$482:$E$499 = $E493)) = 0, 0, AS493 / SUMPRODUCT((AS$482:AS$499) * ($E$482:$E$499 = $E493)))","v":0},{"$f":"IF(SUMPRODUCT((AT$482:AT$499) * ($E$482:$E$499 = $E493)) = 0, 0, AT493 / SUMPRODUCT((AT$482:AT$499) * ($E$482:$E$499 = $E493)))","v":0},null,null,"TIM",0,"CapRate 1 (Baseline)","Fast/Slow Split"]
[null,null,null,null,"RPE UMs",null,"£m 18/19 prices",{"$f":"H$476","v":"Load related capex"},null,null,null,null,null,null,null,null,null,null,null,null,null,null,null,null,null,null,null,null,null,null,null,null,null,null,null,null,null,null,null,null,null,{"$f":"SUMPRODUCT((AP$284:AP$481) * ($H$284:$H$481 = $H494) * ($BD$284:$BD$481 = \"RPEs Apply\") * ($BE$284:$BE$481 = \"CapRate 2 (UM)\")) * (AP$197 - 1)","v":0},{"$f":"SUMPRODUCT((AQ$284:AQ$481) * ($H$284:$H$481 = $H494) * ($BD$284:$BD$481 = \"RPEs Apply\") * ($BE$284:$BE$481 = \"CapRate 2 (UM)\")) * (AQ$197 - 1)","v":0},{"$f":"SUMPRODUCT((AR$284:AR$481) * ($H$284:$H$481 = $H494) * ($BD$284:$BD$481 = \"RPEs Apply\") * ($BE$284:$BE$481 = \"CapRate 2 (UM)\")) * (AR$197 - 1)","v":0},{"$f":"SUMPRODUCT((AS$284:AS$481) * ($H$284:$H$481 = $H494) * ($BD$284:$BD$481 = \"RPEs Apply\") * ($BE$284:$BE$481 = \"CapRate 2 (UM)\")) * (AS$197 - 1)","v":0},{"$f":"SUMPRODUCT((AT$284:AT$481) * ($H$284:$H$481 = $H494) * ($BD$284:$BD$481 = \"RPEs Apply\") * ($BE$284:$BE$481 = \"CapRate 2 (UM)\")) * (AT$197 - 1)","v":0},null,{"$f":"IF(SUMPRODUCT((AP$482:AP$499) * ($E$482:$E$499 = $E494)) = 0, 0, AP494 / SUMPRODUCT((AP$482:AP$499) * ($E$482:$E$499 = $E494)))","v":0},{"$f":"IF(SUMPRODUCT((AQ$482:AQ$499) * ($E$482:$E$499 = $E494)) = 0, 0, AQ494 / SUMPRODUCT((AQ$482:AQ$499) * ($E$482:$E$499 = $E494)))","v":0},{"$f":"IF(SUMPRODUCT((AR$482:AR$499) * ($E$482:$E$499 = $E494)) = 0, 0, AR494 / SUMPRODUCT((AR$482:AR$499) * ($E$482:$E$499 = $E494)))","v":0},{"$f":"IF(SUMPRODUCT((AS$482:AS$499) * ($E$482:$E$499 = $E494)) = 0, 0, AS494 / SUMPRODUCT((AS$482:AS$499) * ($E$482:$E$499 = $E494)))","v":0},{"$f":"IF(SUMPRODUCT((AT$482:AT$499) * ($E$482:$E$499 = $E494)) = 0, 0, AT494 / SUMPRODUCT((AT$482:AT$499) * ($E$482:$E$499 = $E494)))","v":0},null,null,{"$f":"INDEX(BC$22:BC$57, MATCH($E494, $E$22:$E$57, 0))","v":"TIM"},0,"CapRate 2 (UM)","Fast/Slow Split"]
[null,null,null,null,"RPE UMs",null,"£m 18/19 prices",{"$f":"H$477","v":"Asset replacement capex"},null,null,null,null,null,null,null,null,null,null,null,null,null,null,null,null,null,null,null,null,null,null,null,null,null,null,null,null,null,null,null,null,null,{"$f":"SUMPRODUCT((AP$284:AP$481) * ($H$284:$H$481 = $H495) * ($BD$284:$BD$481 = \"RPEs Apply\") * ($BE$284:$BE$481 = \"CapRate 2 (UM)\")) * (AP$197 - 1)","v":0},{"$f":"SUMPRODUCT((AQ$284:AQ$481) * ($H$284:$H$481 = $H495) * ($BD$284:$BD$481 = \"RPEs Apply\") * ($BE$284:$BE$481 = \"CapRate 2 (UM)\")) * (AQ$197 - 1)","v":0},{"$f":"SUMPRODUCT((AR$284:AR$481) * ($H$284:$H$481 = $H495) * ($BD$284:$BD$481 = \"RPEs Apply\") * ($BE$284:$BE$481 = \"CapRate 2 (UM)\")) * (AR$197 - 1)","v":0},{"$f":"SUMPRODUCT((AS$284:AS$481) * ($H$284:$H$481 = $H495) * ($BD$284:$BD$481 = \"RPEs Apply\") * ($BE$284:$BE$481 = \"CapRate 2 (UM)\")) * (AS$197 - 1)","v":0},{"$f":"SUMPRODUCT((AT$284:AT$481) * ($H$284:$H$481 = $H495) * ($BD$284:$BD$481 = \"RPEs Apply\") * ($BE$284:$BE$481 = \"CapRate 2 (UM)\")) * (AT$197 - 1)","v":0},null,{"$f":"IF(SUMPRODUCT((AP$482:AP$499) * ($E$482:$E$499 = $E495)) = 0, 0, AP495 / SUMPRODUCT((AP$482:AP$499) * ($E$482:$E$499 = $E495)))","v":0},{"$f":"IF(SUMPRODUCT((AQ$482:AQ$499) * ($E$482:$E$499 = $E495)) = 0, 0, AQ495 / SUMPRODUCT((AQ$482:AQ$499) * ($E$482:$E$499 = $E495)))","v":0},{"$f":"IF(SUMPRODUCT((AR$482:AR$499) * ($E$482:$E$499 = $E495)) = 0, 0, AR495 / SUMPRODUCT((AR$482:AR$499) * ($E$482:$E$499 = $E495)))","v":0},{"$f":"IF(SUMPRODUCT((AS$482:AS$499) * ($E$482:$E$499 = $E495)) = 0, 0, AS495 / SUMPRODUCT((AS$482:AS$499) * ($E$482:$E$499 = $E495)))","v":0},{"$f":"IF(SUMPRODUCT((AT$482:AT$499) * ($E$482:$E$499 = $E495)) = 0, 0, AT495 / SUMPRODUCT((AT$482:AT$499) * ($E$482:$E$499 = $E495)))","v":0},null,null,"TIM",0,"CapRate 2 (UM)","Fast/Slow Split"]
[null,null,null,null,"RPE UMs",null,"£m 18/19 prices",{"$f":"H$478","v":"Other capex"},null,null,null,null,null,null,null,null,null,null,null,null,null,null,null,null,null,null,null,null,null,null,null,null,null,null,null,null,null,null,null,null,null,{"$f":"SUMPRODUCT((AP$284:AP$481) * ($H$284:$H$481 = $H496) * ($BD$284:$BD$481 = \"RPEs Apply\") * ($BE$284:$BE$481 = \"CapRate 2 (UM)\")) * (AP$197 - 1)","v":0},{"$f":"SUMPRODUCT((AQ$284:AQ$481) * ($H$284:$H$481 = $H496) * ($BD$284:$BD$481 = \"RPEs Apply\") * ($BE$284:$BE$481 = \"CapRate 2 (UM)\")) * (AQ$197 - 1)","v":0},{"$f":"SUMPRODUCT((AR$284:AR$481) * ($H$284:$H$481 = $H496) * ($BD$284:$BD$481 = \"RPEs Apply\") * ($BE$284:$BE$481 = \"CapRate 2 (UM)\")) * (AR$197 - 1)","v":0},{"$f":"SUMPRODUCT((AS$284:AS$481) * ($H$284:$H$481 = $H496) * ($BD$284:$BD$481 = \"RPEs Apply\") * ($BE$284:$BE$481 = \"CapRate 2 (UM)\")) * (AS$197 - 1)","v":0},{"$f":"SUMPRODUCT((AT$284:AT$481) * ($H$284:$H$481 = $H496) * ($BD$284:$BD$481 = \"RPEs Apply\") * ($BE$284:$BE$481 = \"CapRate 2 (UM)\")) * (AT$197 - 1)","v":0},null,{"$f":"IF(SUMPRODUCT((AP$482:AP$499) * ($E$482:$E$499 = $E496)) = 0, 0, AP496 / SUMPRODUCT((AP$482:AP$499) * ($E$482:$E$499 = $E496)))","v":0},{"$f":"IF(SUMPRODUCT((AQ$482:AQ$499) * ($E$482:$E$499 = $E496)) = 0, 0, AQ496 / SUMPRODUCT((AQ$482:AQ$499) * ($E$482:$E$499 = $E496)))","v":0},{"$f":"IF(SUMPRODUCT((AR$482:AR$499) * ($E$482:$E$499 = $E496)) = 0, 0, AR496 / SUMPRODUCT((AR$482:AR$499) * ($E$482:$E$499 = $E496)))","v":0},{"$f":"IF(SUMPRODUCT((AS$482:AS$499) * ($E$482:$E$499 = $E496)) = 0, 0, AS496 / SUMPRODUCT((AS$482:AS$499) * ($E$482:$E$499 = $E496)))","v":0},{"$f":"IF(SUMPRODUCT((AT$482:AT$499) * ($E$482:$E$499 = $E496)) = 0, 0, AT496 / SUMPRODUCT((AT$482:AT$499) * ($E$482:$E$499 = $E496)))","v":0},null,null,"TIM",0,"CapRate 2 (UM)","Fast/Slow Split"]
[null,null,null,null,"RPE UMs",null,"£m 18/19 prices",{"$f":"H$479","v":"Non-load (opex)"},null,null,null,null,null,null,null,null,null,null,null,null,null,null,null,null,null,null,null,null,null,null,null,null,null,null,null,null,null,null,null,null,null,{"$f":"SUMPRODUCT((AP$284:AP$481) * ($H$284:$H$481 = $H497) * ($BD$284:$BD$481 = \"RPEs Apply\") * ($BE$284:$BE$481 = \"CapRate 2 (UM)\")) * (AP$197 - 1)","v":0},{"$f":"SUMPRODUCT((AQ$284:AQ$481) * ($H$284:$H$481 = $H497) * ($BD$284:$BD$481 = \"RPEs Apply\") * ($BE$284:$BE$481 = \"CapRate 2 (UM)\")) * (AQ$197 - 1)","v":0},{"$f":"SUMPRODUCT((AR$284:AR$481) * ($H$284:$H$481 = $H497) * ($BD$284:$BD$481 = \"RPEs Apply\") * ($BE$284:$BE$481 = \"CapRate 2 (UM)\")) * (AR$197 - 1)","v":0},{"$f":"SUMPRODUCT((AS$284:AS$481) * ($H$284:$H$481 = $H497) * ($BD$284:$BD$481 = \"RPEs Apply\") * ($BE$284:$BE$481 = \"CapRate 2 (UM)\")) * (AS$197 - 1)","v":0},{"$f":"SUMPRODUCT((AT$284:AT$481) * ($H$284:$H$481 = $H497) * ($BD$284:$BD$481 = \"RPEs Apply\") * ($BE$284:$BE$481 = \"CapRate 2 (UM)\")) * (AT$197 - 1)","v":0},null,{"$f":"IF(SUMPRODUCT((AP$482:AP$499) * ($E$482:$E$499 = $E497)) = 0, 0, AP497 / SUMPRODUCT((AP$482:AP$499) * ($E$482:$E$499 = $E497)))","v":0},{"$f":"IF(SUMPRODUCT((AQ$482:AQ$499) * ($E$482:$E$499 = $E497)) = 0, 0, AQ497 / SUMPRODUCT((AQ$482:AQ$499) * ($E$482:$E$499 = $E497)))","v":0},{"$f":"IF(SUMPRODUCT((AR$482:AR$499) * ($E$482:$E$499 = $E497)) = 0, 0, AR497 / SUMPRODUCT((AR$482:AR$499) * ($E$482:$E$499 = $E497)))","v":0},{"$f":"IF(SUMPRODUCT((AS$482:AS$499) * ($E$482:$E$499 = $E497)) = 0, 0, AS497 / SUMPRODUCT((AS$482:AS$499) * ($E$482:$E$499 = $E497)))","v":0},{"$f":"IF(SUMPRODUCT((AT$482:AT$499) * ($E$482:$E$499 = $E497)) = 0, 0, AT497 / SUMPRODUCT((AT$482:AT$499) * ($E$482:$E$499 = $E497)))","v":0},null,null,"TIM",0,"CapRate 2 (UM)","Fast/Slow Split"]
[null,null,null,null,"RPE UMs",null,"£m 18/19 prices",{"$f":"H$480","v":"Indirects (opex)"},null,null,null,null,null,null,null,null,null,null,null,null,null,null,null,null,null,null,null,null,null,null,null,null,null,null,null,null,null,null,null,null,null,{"$f":"SUMPRODUCT((AP$284:AP$481) * ($H$284:$H$481 = $H498) * ($BD$284:$BD$481 = \"RPEs Apply\") * ($BE$284:$BE$481 = \"CapRate 2 (UM)\")) * (AP$197 - 1)","v":0},{"$f":"SUMPRODUCT((AQ$284:AQ$481) * ($H$284:$H$481 = $H498) * ($BD$284:$BD$481 = \"RPEs Apply\") * ($BE$284:$BE$481 = \"CapRate 2 (UM)\")) * (AQ$197 - 1)","v":0},{"$f":"SUMPRODUCT((AR$284:AR$481) * ($H$284:$H$481 = $H498) * ($BD$284:$BD$481 = \"RPEs Apply\") * ($BE$284:$BE$481 = \"CapRate 2 (UM)\")) * (AR$197 - 1)","v":0},{"$f":"SUMPRODUCT((AS$284:AS$481) * ($H$284:$H$481 = $H498) * ($BD$284:$BD$481 = \"RPEs Apply\") * ($BE$284:$BE$481 = \"CapRate 2 (UM)\")) * (AS$197 - 1)","v":0},{"$f":"SUMPRODUCT((AT$284:AT$481) * ($H$284:$H$481 = $H498) * ($BD$284:$BD$481 = \"RPEs Apply\") * ($BE$284:$BE$481 = \"CapRate 2 (UM)\")) * (AT$197 - 1)","v":0},null,{"$f":"IF(SUMPRODUCT((AP$482:AP$499) * ($E$482:$E$499 = $E498)) = 0, 0, AP498 / SUMPRODUCT((AP$482:AP$499) * ($E$482:$E$499 = $E498)))","v":0},{"$f":"IF(SUMPRODUCT((AQ$482:AQ$499) * ($E$482:$E$499 = $E498)) = 0, 0, AQ498 / SUMPRODUCT((AQ$482:AQ$499) * ($E$482:$E$499 = $E498)))","v":0},{"$f":"IF(SUMPRODUCT((AR$482:AR$499) * ($E$482:$E$499 = $E498)) = 0, 0, AR498 / SUMPRODUCT((AR$482:AR$499) * ($E$482:$E$499 = $E498)))","v":0},{"$f":"IF(SUMPRODUCT((AS$482:AS$499) * ($E$482:$E$499 = $E498)) = 0, 0, AS498 / SUMPRODUCT((AS$482:AS$499) * ($E$482:$E$499 = $E498)))","v":0},{"$f":"IF(SUMPRODUCT((AT$482:AT$499) * ($E$482:$E$499 = $E498)) = 0, 0, AT498 / SUMPRODUCT((AT$482:AT$499) * ($E$482:$E$499 = $E498)))","v":0},null,null,"TIM",0,"CapRate 2 (UM)","Fast/Slow Split"]
[null,null,null,null,"RPE UMs",null,"£m 18/19 prices",{"$f":"H$481","v":"Non-operational capex"},null,null,null,null,null,null,null,null,null,null,null,null,null,null,null,null,null,null,null,null,null,null,null,null,null,null,null,null,null,null,null,null,null,{"$f":"SUMPRODUCT((AP$284:AP$481) * ($H$284:$H$481 = $H499) * ($BD$284:$BD$481 = \"RPEs Apply\") * ($BE$284:$BE$481 = \"CapRate 2 (UM)\")) * (AP$197 - 1)","v":0},{"$f":"SUMPRODUCT((AQ$284:AQ$481) * ($H$284:$H$481 = $H499) * ($BD$284:$BD$481 = \"RPEs Apply\") * ($BE$284:$BE$481 = \"CapRate 2 (UM)\")) * (AQ$197 - 1)","v":0},{"$f":"SUMPRODUCT((AR$284:AR$481) * ($H$284:$H$481 = $H499) * ($BD$284:$BD$481 = \"RPEs Apply\") * ($BE$284:$BE$481 = \"CapRate 2 (UM)\")) * (AR$197 - 1)","v":0},{"$f":"SUMPRODUCT((AS$284:AS$481) * ($H$284:$H$481 = $H499) * ($BD$284:$BD$481 = \"RPEs Apply\") * ($BE$284:$BE$481 = \"CapRate 2 (UM)\")) * (AS$197 - 1)","v":0},{"$f":"SUMPRODUCT((AT$284:AT$481) * ($H$284:$H$481 = $H499) * ($BD$284:$BD$481 = \"RPEs Apply\") * ($BE$284:$BE$481 = \"CapRate 2 (UM)\")) * (AT$197 - 1)","v":0},null,{"$f":"IF(SUMPRODUCT((AP$482:AP$499) * ($E$482:$E$499 = $E499)) = 0, 0, AP499 / SUMPRODUCT((AP$482:AP$499) * ($E$482:$E$499 = $E499)))","v":0},{"$f":"IF(SUMPRODUCT((AQ$482:AQ$499) * ($E$482:$E$499 = $E499)) = 0, 0, AQ499 / SUMPRODUCT((AQ$482:AQ$499) * ($E$482:$E$499 = $E499)))","v":0},{"$f":"IF(SUMPRODUCT((AR$482:AR$499) * ($E$482:$E$499 = $E499)) = 0, 0, AR499 / SUMPRODUCT((AR$482:AR$499) * ($E$482:$E$499 = $E499)))","v":0},{"$f":"IF(SUMPRODUCT((AS$482:AS$499) * ($E$482:$E$499 = $E499)) = 0, 0, AS499 / SUMPRODUCT((AS$482:AS$499) * ($E$482:$E$499 = $E499)))","v":0},{"$f":"IF(SUMPRODUCT((AT$482:AT$499) * ($E$482:$E$499 = $E499)) = 0, 0, AT499 / SUMPRODUCT((AT$482:AT$499) * ($E$482:$E$499 = $E499)))","v":0},null,null,"TIM",0,"CapRate 2 (UM)","Fast/Slow Split"]
[]
[null,"RAV and assets"]
[]
[null,null,"Pre-vesting assets"]
[]
[null,null,null,null,"Pre-vesting RAV cost opening balance brought forward (before transfers)",null,"£m 18/19 prices",null,null,null,null,null,null,null,null,null,null,null,null,null,null,null,null,null,null,null,null,null,null,null,null,null,null,{"$f":"'NGGT TO'!AH422","v":3505.376058031005}]
[null,null,null,null,"Pre-vesting RAV cumulative depreciation opening balance brought forward (before transfers)",null,"£m 18/19 prices",null,null,null,null,null,null,null,null,null,null,null,null,null,null,null,null,null,null,null,null,null,null,null,null,null,null,{"$f":"'NGGT TO'!AH423","v":1232.1662007494456}]
[]
[null,null,null,null,"Pre-vesting asset life",null,"years",null,{"$f":"'NGGT TO'!I425","v":56}]
[null,null,null,null,"Pre-vesting RAV disposals",null,"£m 18/19 prices",null,null,null,null,null,null,null,null,null,null,null,null,null,null,null,null,null,null,null,null,null,null,null,null,null,null,{"$f":"'NGGT TO'!AH426","v":0},{"$f":"'NGGT TO'!AI426","v":0},{"$f":"'NGGT TO'!AJ426","v":0},{"$f":"'NGGT TO'!AK426","v":0},{"$f":"'NGGT TO'!AL426","v":0},{"$f":"'NGGT TO'!AM426","v":0},{"$f":"'NGGT TO'!AN426","v":0},{"$f":"'NGGT TO'!AO426","v":0},{"$f":"'NGGT TO'!AP426","v":0},{"$f":"'NGGT TO'!AQ426","v":0},{"$f":"'NGGT TO'!AR426","v":0},{"$f":"'NGGT TO'!AS426","v":0},{"$f":"'NGGT TO'!AT426","v":0}]
[null,null,null,null,"Years of pre-vesting depreciation remaining",null,"years",null,null,null,null,null,null,null,null,null,null,null,null,null,null,null,null,null,null,null,null,null,null,null,null,null,null,{"$f":"'NGGT TO'!AH427","v":45},{"$f":"'NGGT TO'!AI427","v":44},{"$f":"'NGGT TO'!AJ427","v":43},{"$f":"'NGGT TO'!AK427","v":42},{"$f":"'NGGT TO'!AL427","v":41},{"$f":"'NGGT TO'!AM427","v":40},{"$f":"'NGGT TO'!AN427","v":39},{"$f":"'NGGT TO'!AO427","v":38},{"$f":"'NGGT TO'!AP427","v":37},{"$f":"'NGGT TO'!AQ427","v":36},{"$f":"'NGGT TO'!AR427","v":35},{"$f":"'NGGT TO'!AS427","v":34},{"$f":"'NGGT TO'!AT427","v":33}]
[]
[null,null,"Post-vesting assets"]
[]
[null,null,null,null,"Straight line depreciation:"]
[null,null,null,null,"Post-vesting asset life, straight line",null,"years",null,null,">",{"$f":"'NGGT TO'!K432","v":45},{"$f":"'NGGT TO'!L432","v":45},{"$f":"'NGGT TO'!M432","v":45},{"$f":"'NGGT TO'!N432","v":45},{"$f":"'NGGT TO'!O432","v":45},{"$f":"'NGGT TO'!P432","v":45},{"$f":"'NGGT TO'!Q432","v":45},{"$f":"'NGGT TO'!R432","v":45},{"$f":"'NGGT TO'!S432","v":45},{"$f":"'NGGT TO'!T432","v":45},{"$f":"'NGGT TO'!U432","v":45},{"$f":"'NGGT TO'!V432","v":45},{"$f":"'NGGT TO'!W432","v":45},{"$f":"'NGGT TO'!X432","v":45},{"$f":"'NGGT TO'!Y432","v":45},{"$f":"'NGGT TO'!Z432","v":45},{"$f":"'NGGT TO'!AA432","v":45},{"$f":"'NGGT TO'!AB432","v":45},{"$f":"'NGGT TO'!AC432","v":45},{"$f":"'NGGT TO'!AD432","v":45},{"$f":"'NGGT TO'!AE432","v":45},{"$f":"'NGGT TO'!AF432","v":45},{"$f":"'NGGT TO'!AG432","v":45},{"$f":"'NGGT TO'!AH432","v":45},{"$f":"'NGGT TO'!AI432","v":45},{"$f":"'NGGT TO'!AJ432","v":45},{"$f":"'NGGT TO'!AK432","v":45},{"$f":"'NGGT TO'!AL432","v":45},{"$f":"'NGGT TO'!AM432","v":45},{"$f":"'NGGT TO'!AN432","v":45},{"$f":"'NGGT TO'!AO432","v":45},{"$f":"'NGGT TO'!AP432","v":45},{"$f":"'NGGT TO'!AQ432","v":45},{"$f":"'NGGT TO'!AR432","v":45},{"$f":"'NGGT TO'!AS432","v":45},{"$f":"'NGGT TO'!AT432","v":45}]
[]
[null,null,null,null,"Sum of digits depreciation:"]
[null,null,null,null,"Post-vesting asset life, sum of digits",null,"years",null,{"$f":"'NGGT TO'!I435","v":45}]
[null,null,null,null,"First year sum of digits depreciation (applied retrospectively to existing assets)",null,"year ending",null,{"$f":"'NGGT TO'!I436","v":"2003-03-31"}]
[null,null,null,null,"First year of application to new assets, start of recovery period",null,"year ending",null,{"$f":"'NGGT TO'!I437","v":"2022-03-31"}]
[null,null,null,null,"Existing assets differential depreciation recovery period",null,"years",null,{"$f":"'NGGT TO'!I438","v":20}]
[]
[null,null,null,null,"Pre-RIIO net additions to RAV",null,"£m 18/19 prices",null,null,">",{"$f":"'NGGT TO'!K440","v":0},{"$f":"'NGGT TO'!L440","v":0},{"$f":"'NGGT TO'!M440","v":0},{"$f":"'NGGT TO'!N440","v":0},{"$f":"'NGGT TO'!O440","v":0},{"$f":"'NGGT TO'!P440","v":0},{"$f":"'NGGT TO'!Q440","v":0},{"$f":"'NGGT TO'!R440","v":0},{"$f":"'NGGT TO'!S440","v":0},{"$f":"'NGGT TO'!T440","v":0},{"$f":"'NGGT TO'!U440","v":0},{"$f":"'NGGT TO'!V440","v":0},{"$f":"'NGGT TO'!W440","v":0},{"$f":"'NGGT TO'!X440","v":393.04743989015134},{"$f":"'NGGT TO'!Y440","v":126.55198202648761},{"$f":"'NGGT TO'!Z440","v":393.92016193807626},{"$f":"'NGGT TO'!AA440","v":710.49491725889584},{"$f":"'NGGT TO'!AB440","v":769.15750254958812},{"$f":"'NGGT TO'!AC440","v":325.33393765506702},{"$f":"'NGGT TO'!AD440","v":161.75873847786809},{"$f":"'NGGT TO'!AE440","v":131.2813581348754},{"$f":"'NGGT TO'!AF440","v":132.7730693259773},{"$f":"'NGGT TO'!AG440","v":-37.765799609948715}]
[null,null,null,null,"Pre-RIIO transfers to depreciation",null,"£m 18/19 prices",null,null,">",{"$f":"'NGGT TO'!K441","v":0},{"$f":"'NGGT TO'!L441","v":0},{"$f":"'NGGT TO'!M441","v":0},{"$f":"'NGGT TO'!N441","v":0},{"$f":"'NGGT TO'!O441","v":0},{"$f":"'NGGT TO'!P441","v":0},{"$f":"'NGGT TO'!Q441","v":0},{"$f":"'NGGT TO'!R441","v":0},{"$f":"'NGGT TO'!S441","v":0},{"$f":"'NGGT TO'!T441","v":0},{"$f":"'NGGT TO'!U441","v":0},{"$f":"'NGGT TO'!V441","v":0},{"$f":"'NGGT TO'!W441","v":0},{"$f":"'NGGT TO'!X441","v":4.4778418554348551},{"$f":"'NGGT TO'!Y441","v":0},{"$f":"'NGGT TO'!Z441","v":0},{"$f":"'NGGT TO'!AA441","v":0},{"$f":"'NGGT TO'!AB441","v":0},{"$f":"'NGGT TO'!AC441","v":0},{"$f":"'NGGT TO'!AD441","v":0},{"$f":"'NGGT TO'!AE441","v":0},{"$f":"'NGGT TO'!AF441","v":0},{"$f":"'NGGT TO'!AG441","v":-10.913615148116421}]
[null,null,null,null,{"$f":"'NGGT TO'!E112","v":"Legacy net RAV additions"},null,"£m 18/19 prices",{"$f":"'NGGT TO'!H112","v":"LRAVt"},null,">",null,null,null,null,null,null,null,null,null,null,null,null,null,null,null,null,null,null,null,null,null,null,null,{"$f":"'NGGT TO'!AH112","v":212.5523707516233},{"$f":"'NGGT TO'!AI112","v":170.28866360126466},{"$f":"'NGGT TO'!AJ112","v":160.76820306435465},{"$f":"'NGGT TO'!AK112","v":181.59587737509875},{"$f":"'NGGT TO'!AL112","v":245.9491647431349},{"$f":"'NGGT TO'!AM112","v":229.32945839854813},{"$f":"'NGGT TO'!AN112","v":174.25903562198178},{"$f":"'NGGT TO'!AO112","v":149.34140951034567}]
[null,null,null,null,"RIIO post-vesting RAV additions",null,"£m 18/19 prices",null,null,null,null,null,null,null,null,null,null,null,null,null,null,null,null,null,null,null,null,null,null,null,null,null,null,{"$f":"'NGGT TO'!AH442","v":0},{"$f":"'NGGT TO'!AI442","v":0},{"$f":"'NGGT TO'!AJ442","v":0},{"$f":"'NGGT TO'!AK442","v":0},{"$f":"'NGGT TO'!AL442","v":0},{"$f":"'NGGT TO'!AM442","v":0},{"$f":"'NGGT TO'!AN442","v":0},{"$f":"'NGGT TO'!AO442","v":0},{"$f":"'NGGT TO'!AP442","v":0},{"$f":"'NGGT TO'!AQ442","v":0},{"$f":"'NGGT TO'!AR442","v":0},{"$f":"'NGGT TO'!AS442","v":0},{"$f":"'NGGT TO'!AT442","v":0}]
[null,null,null,null,"RIIO post-vesting RAV disposals",null,"£m 18/19 prices",null,null,null,null,null,null,null,null,null,null,null,null,null,null,null,null,null,null,null,null,null,null,null,null,null,null,{"$f":"'NGGT TO'!AH443","v":-1.0186455219892145E-2},{"$f":"'NGGT TO'!AI443","v":-1.0186455219892145E-2},{"$f":"'NGGT TO'!AJ443","v":-1.0186455219892145E-2},{"$f":"'NGGT TO'!AK443","v":-1.0186455219892145E-2},{"$f":"'NGGT TO'!AL443","v":-1.0186455219892145E-2},{"$f":"'NGGT TO'!AM443","v":-1.0186455219892145E-2},{"$f":"'NGGT TO'!AN443","v":-1.0186455219892145E-2},{"$f":"'NGGT TO'!AO443","v":-1.0186455219892145E-2}]
[]
[null,null,null,null,"RIIO-2 disposals net sales proceeds (for totex deduction)",null,"£m 18/19 prices",null,null,null,null,null,null,null,null,null,null,null,null,null,null,null,null,null,null,null,null,null,null,null,null,null,null,null,null,null,null,null,null,null,null,{"$f":"'NGGT TO'!AP445","v":0},{"$f":"'NGGT TO'!AQ445","v":0},{"$f":"'NGGT TO'!AR445","v":0},{"$f":"'NGGT TO'!AS445","v":0},{"$f":"'NGGT TO'!AT445","v":0}]
[]
[null,null,null,null,"Logged-up items and security costs asset life",null,"years",null,{"$f":"'NGGT TO'!I447","v":45}]
[null,null,null,null,"Logged-up items net additions (after disposals)",null,"£m 18/19 prices",null,null,null,null,null,null,null,null,null,null,null,null,null,null,null,null,null,{"$f":"'NGGT TO'!Y448","v":0},{"$f":"'NGGT TO'!Z448","v":0},{"$f":"'NGGT TO'!AA448","v":0.21073077034006701},{"$f":"'NGGT TO'!AB448","v":117.64596990613295},{"$f":"'NGGT TO'!AC448","v":0},{"$f":"'NGGT TO'!AD448","v":0.54177988001466293},{"$f":"'NGGT TO'!AE448","v":0.71563926248720744},{"$f":"'NGGT TO'!AF448","v":2.1799749441808904},{"$f":"'NGGT TO'!AG448","v":0}]
[null,null,null,null,"Security costs net additions (after disposals)",null,"£m 18/19 prices",null,null,null,null,null,null,null,null,null,null,null,null,null,null,null,null,null,{"$f":"'NGGT TO'!Y449","v":0},{"$f":"'NGGT TO'!Z449","v":0},{"$f":"'NGGT TO'!AA449","v":0},{"$f":"'NGGT TO'!AB449","v":0},{"$f":"'NGGT TO'!AC449","v":9.6512973863203104},{"$f":"'NGGT TO'!AD449","v":16.006522810267196},{"$f":"'NGGT TO'!AE449","v":75.91005992820304},{"$f":"'NGGT TO'!AF449","v":73.169439464918554},{"$f":"'NGGT TO'!AG449","v":0}]
[]
[null,null,"Revenue drivers"]
[]
[null,null,null,null,"General pool capital allowance rate",null,"%",null,null,">",null,null,null,null,null,null,null,null,null,null,null,{"$f":"'NGGT TO'!V453","v":0.25},{"$f":"'NGGT TO'!W453","v":0.25},{"$f":"'NGGT TO'!X453","v":0.25},{"$f":"'NGGT TO'!Y453","v":0.25},{"$f":"'NGGT TO'!Z453","v":0.25},{"$f":"'NGGT TO'!AA453","v":0.25},{"$f":"'NGGT TO'!AB453","v":0.25},{"$f":"'NGGT TO'!AC453","v":0.2},{"$f":"'NGGT TO'!AD453","v":0.2},{"$f":"'NGGT TO'!AE453","v":0.2},{"$f":"'NGGT TO'!AF453","v":0.2},{"$f":"'NGGT TO'!AG453","v":0.18000000000000002},{"$f":"'NGGT TO'!AH453","v":0.18000000000000002},{"$f":"'NGGT TO'!AI453","v":0.18000000000000002},{"$f":"'NGGT TO'!AJ453","v":0.18000000000000002},{"$f":"'NGGT TO'!AK453","v":0.18000000000000002},{"$f":"'NGGT TO'!AL453","v":0.18000000000000002},{"$f":"'NGGT TO'!AM453","v":0.18000000000000002},{"$f":"'NGGT TO'!AN453","v":0.18000000000000002},{"$f":"'NGGT TO'!AO453","v":0.18000000000000002}]
[null,null,null,null,"Special Rate capital allowance rate",null,"%",null,null,">",null,null,null,null,null,null,null,null,null,null,null,{"$f":"'NGGT TO'!V454","v":0.06},{"$f":"'NGGT TO'!W454","v":0.06},{"$f":"'NGGT TO'!X454","v":0.06},{"$f":"'NGGT TO'!Y454","v":0.06},{"$f":"'NGGT TO'!Z454","v":0.06},{"$f":"'NGGT TO'!AA454","v":0.06},{"$f":"'NGGT TO'!AB454","v":0.06},{"$f":"'NGGT TO'!AC454","v":0.1},{"$f":"'NGGT TO'!AD454","v":0.1},{"$f":"'NGGT TO'!AE454","v":0.1},{"$f":"'NGGT TO'!AF454","v":0.1},{"$f":"'NGGT TO'!AG454","v":0.08},{"$f":"'NGGT TO'!AH454","v":0.08},{"$f":"'NGGT TO'!AI454","v":0.08},{"$f":"'NGGT TO'!AJ454","v":0.08},{"$f":"'NGGT TO'!AK454","v":0.08},{"$f":"'NGGT TO'!AL454","v":0.08},{"$f":"'NGGT TO'!AM454","v":0.08},{"$f":"'NGGT TO'!AN454","v":0.06},{"$f":"'NGGT TO'!AO454","v":0.06}]
[]
[null,null,null,null,"Revenue drivers allocation to \"General\" pool",null,"%",null,null,">",null,null,null,null,null,null,null,null,null,null,null,{"$f":"'NGGT TO'!V456","v":1.9E-2},{"$f":"'NGGT TO'!W456","v":1.9E-2},{"$f":"'NGGT TO'!X456","v":1.9E-2},{"$f":"'NGGT TO'!Y456","v":1.9E-2},{"$f":"'NGGT TO'!Z456","v":1.9E-2},{"$f":"'NGGT TO'!AA456","v":1.9E-2},{"$f":"'NGGT TO'!AB456","v":1.9E-2},{"$f":"'NGGT TO'!AC456","v":1.9E-2},{"$f":"'NGGT TO'!AD456","v":1.9E-2},{"$f":"'NGGT TO'!AE456","v":1.9E-2},{"$f":"'NGGT TO'!AF456","v":1.9E-2},{"$f":"'NGGT TO'!AG456","v":1.9E-2},{"$f":"'NGGT TO'!AH456","v":3.2000000000000001E-2},{"$f":"'NGGT TO'!AI456","v":3.2000000000000001E-2},{"$f":"'NGGT TO'!AJ456","v":3.2000000000000001E-2},{"$f":"'NGGT TO'!AK456","v":3.2000000000000001E-2},{"$f":"'NGGT TO'!AL456","v":3.2000000000000001E-2},{"$f":"'NGGT TO'!AM456","v":3.2000000000000001E-2},{"$f":"'NGGT TO'!AN456","v":3.2000000000000001E-2},{"$f":"'NGGT TO'!AO456","v":3.2000000000000001E-2},{"$f":"'NGGT TO'!AP456","v":3.2000000000000001E-2},{"$f":"'NGGT TO'!AQ456","v":3.2000000000000001E-2},{"$f":"'NGGT TO'!AR456","v":3.2000000000000001E-2},{"$f":"'NGGT TO'!AS456","v":3.2000000000000001E-2},{"$f":"'NGGT TO'!AT456","v":3.2000000000000001E-2}]
[null,null,null,null,"Revenue drivers allocation to \"Special Rate\" pool",null,"%",null,null,">",null,null,null,null,null,null,null,null,null,null,null,{"$f":"'NGGT TO'!V457","v":0.96399999999999997},{"$f":"'NGGT TO'!W457","v":0.96399999999999997},{"$f":"'NGGT TO'!X457","v":0.96399999999999997},{"$f":"'NGGT TO'!Y457","v":0.96399999999999997},{"$f":"'NGGT TO'!Z457","v":0.96399999999999997},{"$f":"'NGGT TO'!AA457","v":0.96399999999999997},{"$f":"'NGGT TO'!AB457","v":0.96399999999999997},{"$f":"'NGGT TO'!AC457","v":0.96399999999999997},{"$f":"'NGGT TO'!AD457","v":0.96399999999999997},{"$f":"'NGGT TO'!AE457","v":0.96399999999999997},{"$f":"'NGGT TO'!AF457","v":0.96399999999999997},{"$f":"'NGGT TO'!AG457","v":0.96399999999999997},{"$f":"'NGGT TO'!AH457","v":0.95099999999999996},{"$f":"'NGGT TO'!AI457","v":0.95099999999999996},{"$f":"'NGGT TO'!AJ457","v":0.95099999999999996},{"$f":"'NGGT TO'!AK457","v":0.95099999999999996},{"$f":"'NGGT TO'!AL457","v":0.95099999999999996},{"$f":"'NGGT TO'!AM457","v":0.95099999999999996},{"$f":"'NGGT TO'!AN457","v":0.95099999999999996},{"$f":"'NGGT TO'!AO457","v":0.95099999999999996},{"$f":"'NGGT TO'!AP457","v":0.95099999999999996},{"$f":"'NGGT TO'!AQ457","v":0.95099999999999996},{"$f":"'NGGT TO'!AR457","v":0.95099999999999996},{"$f":"'NGGT TO'!AS457","v":0.95099999999999996},{"$f":"'NGGT TO'!AT457","v":0.95099999999999996}]
[null,null,null,null,"Revenue drivers allocation to \"Revenue\" pool",null,"%",null,null,">",null,null,null,null,null,null,null,null,null,null,null,{"$f":"'NGGT TO'!V458","v":4.0000000000000001E-3},{"$f":"'NGGT TO'!W458","v":4.0000000000000001E-3},{"$f":"'NGGT TO'!X458","v":4.0000000000000001E-3},{"$f":"'NGGT TO'!Y458","v":4.0000000000000001E-3},{"$f":"'NGGT TO'!Z458","v":4.0000000000000001E-3},{"$f":"'NGGT TO'!AA458","v":4.0000000000000001E-3},{"$f":"'NGGT TO'!AB458","v":4.0000000000000001E-3},{"$f":"'NGGT TO'!AC458","v":4.0000000000000001E-3},{"$f":"'NGGT TO'!AD458","v":4.0000000000000001E-3},{"$f":"'NGGT TO'!AE458","v":4.0000000000000001E-3},{"$f":"'NGGT TO'!AF458","v":4.0000000000000001E-3},{"$f":"'NGGT TO'!AG458","v":4.0000000000000001E-3},{"$f":"'NGGT TO'!AH458","v":0},{"$f":"'NGGT TO'!AI458","v":0},{"$f":"'NGGT TO'!AJ458","v":0},{"$f":"'NGGT TO'!AK458","v":0},{"$f":"'NGGT TO'!AL458","v":0},{"$f":"'NGGT TO'!AM458","v":0},{"$f":"'NGGT TO'!AN458","v":0},{"$f":"'NGGT TO'!AO458","v":0},{"$f":"'NGGT TO'!AP458","v":0},{"$f":"'NGGT TO'!AQ458","v":0},{"$f":"'NGGT TO'!AR458","v":0},{"$f":"'NGGT TO'!AS458","v":0},{"$f":"'NGGT TO'!AT458","v":0}]
[null,null,null,null,"Revenue drivers allocation to \"Non Qualifying\" pool",null,"%",null,null,">",null,null,null,null,null,null,null,null,null,null,null,{"$f":"'NGGT TO'!V459","v":1.2999999999999999E-2},{"$f":"'NGGT TO'!W459","v":1.2999999999999999E-2},{"$f":"'NGGT TO'!X459","v":1.2999999999999999E-2},{"$f":"'NGGT TO'!Y459","v":1.2999999999999999E-2},{"$f":"'NGGT TO'!Z459","v":1.2999999999999999E-2},{"$f":"'NGGT TO'!AA459","v":1.2999999999999999E-2},{"$f":"'NGGT TO'!AB459","v":1.2999999999999999E-2},{"$f":"'NGGT TO'!AC459","v":1.2999999999999999E-2},{"$f":"'NGGT TO'!AD459","v":1.2999999999999999E-2},{"$f":"'NGGT TO'!AE459","v":1.2999999999999999E-2},{"$f":"'NGGT TO'!AF459","v":1.2999999999999999E-2},{"$f":"'NGGT TO'!AG459","v":1.2999999999999999E-2},{"$f":"'NGGT TO'!AH459","v":1.7000000000000001E-2},{"$f":"'NGGT TO'!AI459","v":1.7000000000000001E-2},{"$f":"'NGGT TO'!AJ459","v":1.7000000000000001E-2},{"$f":"'NGGT TO'!AK459","v":1.7000000000000001E-2},{"$f":"'NGGT TO'!AL459","v":1.7000000000000001E-2},{"$f":"'NGGT TO'!AM459","v":1.7000000000000001E-2},{"$f":"'NGGT TO'!AN459","v":1.7000000000000001E-2},{"$f":"'NGGT TO'!AO459","v":1.7000000000000001E-2},{"$f":"'NGGT TO'!AP459","v":2.5000000000000005E-3},{"$f":"'NGGT TO'!AQ459","v":2.5000000000000005E-3},{"$f":"'NGGT TO'!AR459","v":2.5000000000000005E-3},{"$f":"'NGGT TO'!AS459","v":2.5000000000000005E-3},{"$f":"'NGGT TO'!AT459","v":2.5000000000000005E-3}]
[]
[null,null,null,null,"Isle of Grain PH2 RAV transfer date",null,"year ending",null,{"$f":"'NGGT TO'!I461","v":"2018-03-31"}]
[null,null,null,null,"Easington RAV transfer date",null,"year ending",null,{"$f":"'NGGT TO'!I462","v":"2018-03-31"}]
[null,null,null,null,"Hornsea RAV transfer date",null,"year ending",null,{"$f":"'NGGT TO'!I463","v":"2018-03-31"}]
[null,null,null,null,"Fleetwood RAV transfer date",null,"year ending",null,{"$f":"'NGGT TO'!I464","v":"2018-03-31"}]
[null,null,null,null,"Cheshire RAV transfer date",null,"year ending",null,{"$f":"'NGGT TO'!I465","v":"2018-03-31"}]
[null,null,null,null,"Isle of Grain PH3 RAV transfer date",null,"year ending",null,{"$f":"'NGGT TO'!I466","v":"2016-03-31"}]
[null,null,null,null,"Caythorpe RAV transfer date",null,"year ending",null,{"$f":"'NGGT TO'!I467","v":"2017-03-31"}]
[null,null,null,null,"Langage RAV transfer date",null,"year ending",null,{"$f":"'NGGT TO'!I468","v":"2014-03-31"}]
[null,null,null,null,"Marchwood RAV transfer date",null,"year ending",null,{"$f":"'NGGT TO'!I469","v":"2014-03-31"}]
[null,null,null,null,"Pembroke RAV transfer date",null,"year ending",null,{"$f":"'NGGT TO'!I470","v":"2017-03-31"}]
[null,null,null,null,"Gilwern RAV transfer date",null,"year ending",null,{"$f":"'NGGT TO'!I471","v":"2016-03-31"}]
[null,null,null,null,"SW Quad 08/09 RAV transfer date",null,"year ending",null,{"$f":"'NGGT TO'!I472","v":"2014-03-31"}]
[null,null,null,null,"SW Quad 09/10 RAV transfer date",null,"year ending",null,{"$f":"'NGGT TO'!I473","v":"2015-03-31"}]
[null,null,null,null,"North West Entry / Hole House Farm Storage RAV transfer date",null,"year ending",null,{"$f":"'NGGT TO'!I474","v":"2017-03-31"}]
[]
[null,null,null,null,"Isle of Grain PH2 deemed capex",null,"£m 18/19 prices",null,null,">",null,null,null,null,null,null,null,null,null,null,null,{"$f":"'NGGT TO'!V476","v":0},{"$f":"'NGGT TO'!W476","v":0},{"$f":"'NGGT TO'!X476","v":0},{"$f":"'NGGT TO'!Y476","v":0},{"$f":"'NGGT TO'!Z476","v":0},{"$f":"'NGGT TO'!AA476","v":14.98691647969774},{"$f":"'NGGT TO'!AB476","v":59.948978948095295},{"$f":"'NGGT TO'!AC476","v":0},{"$f":"'NGGT TO'!AD476","v":0},{"$f":"'NGGT TO'!AE476","v":0},{"$f":"'NGGT TO'!AF476","v":0},{"$f":"'NGGT TO'!AG476","v":0}]
[null,null,null,null,"Easington deemed capex",null,"£m 18/19 prices",null,null,">",null,null,null,null,null,null,null,null,null,null,null,{"$f":"'NGGT TO'!V477","v":0},{"$f":"'NGGT TO'!W477","v":0},{"$f":"'NGGT TO'!X477","v":0},{"$f":"'NGGT TO'!Y477","v":0},{"$f":"'NGGT TO'!Z477","v":0},{"$f":"'NGGT TO'!AA477","v":0},{"$f":"'NGGT TO'!AB477","v":4.0152436126612656},{"$f":"'NGGT TO'!AC477","v":16.060974450645062},{"$f":"'NGGT TO'!AD477","v":0},{"$f":"'NGGT TO'!AE477","v":0},{"$f":"'NGGT TO'!AF477","v":0},{"$f":"'NGGT TO'!AG477","v":0}]
[null,null,null,null,"Hornsea deemed capex",null,"£m 18/19 prices",null,null,">",null,null,null,null,null,null,null,null,null,null,null,{"$f":"'NGGT TO'!V478","v":0},{"$f":"'NGGT TO'!W478","v":0},{"$f":"'NGGT TO'!X478","v":0},{"$f":"'NGGT TO'!Y478","v":0},{"$f":"'NGGT TO'!Z478","v":0},{"$f":"'NGGT TO'!AA478","v":0},{"$f":"'NGGT TO'!AB478","v":3.0422888981478597},{"$f":"'NGGT TO'!AC478","v":12.17178165120011},{"$f":"'NGGT TO'!AD478","v":0},{"$f":"'NGGT TO'!AE478","v":0},{"$f":"'NGGT TO'!AF478","v":0},{"$f":"'NGGT TO'!AG478","v":0}]
[null,null,null,null,"Fleetwood deemed capex",null,"£m 18/19 prices",null,null,">",null,null,null,null,null,null,null,null,null,null,null,{"$f":"'NGGT TO'!V479","v":0},{"$f":"'NGGT TO'!W479","v":0},{"$f":"'NGGT TO'!X479","v":0},{"$f":"'NGGT TO'!Y479","v":0},{"$f":"'NGGT TO'!Z479","v":0},{"$f":"'NGGT TO'!AA479","v":0},{"$f":"'NGGT TO'!AB479","v":0},{"$f":"'NGGT TO'!AC479","v":59.405384816099961},{"$f":"'NGGT TO'!AD479","v":237.62285229370417},{"$f":"'NGGT TO'!AE479","v":0},{"$f":"'NGGT TO'!AF479","v":0},{"$f":"'NGGT TO'!AG479","v":0}]
[null,null,null,null,"Cheshire deemed capex",null,"£m 18/19 prices",null,null,">",null,null,null,null,null,null,null,null,null,null,null,{"$f":"'NGGT TO'!V480","v":0},{"$f":"'NGGT TO'!W480","v":0},{"$f":"'NGGT TO'!X480","v":0},{"$f":"'NGGT TO'!Y480","v":0},{"$f":"'NGGT TO'!Z480","v":0},{"$f":"'NGGT TO'!AA480","v":0},{"$f":"'NGGT TO'!AB480","v":0},{"$f":"'NGGT TO'!AC480","v":6.5651465216829075E-2},{"$f":"'NGGT TO'!AD480","v":0.46218631512647668},{"$f":"'NGGT TO'!AE480","v":0.79175667051495857},{"$f":"'NGGT TO'!AF480","v":0},{"$f":"'NGGT TO'!AG480","v":0}]
[]
[null,null,null,null,"Isle of Grain PH2 pre-RIIO actual capex",null,"£m 18/19 prices",null,null,">",null,null,null,null,null,null,null,null,null,null,null,{"$f":"'NGGT TO'!V482","v":0},{"$f":"'NGGT TO'!W482","v":0},{"$f":"'NGGT TO'!X482","v":0},{"$f":"'NGGT TO'!Y482","v":0},{"$f":"'NGGT TO'!Z482","v":0.12417494452707112},{"$f":"'NGGT TO'!AA482","v":6.8395570829836529},{"$f":"'NGGT TO'!AB482","v":23.098259794717976},{"$f":"'NGGT TO'!AC482","v":54.31829537582982},{"$f":"'NGGT TO'!AD482","v":8.2352564037442271},{"$f":"'NGGT TO'!AE482","v":0.57155614772579155},{"$f":"'NGGT TO'!AF482","v":0},{"$f":"'NGGT TO'!AG482","v":0}]
[null,null,null,null,"Easington pre-RIIO actual capex",null,"£m 18/19 prices",null,null,">",null,null,null,null,null,null,null,null,null,null,null,{"$f":"'NGGT TO'!V483","v":0},{"$f":"'NGGT TO'!W483","v":0},{"$f":"'NGGT TO'!X483","v":0},{"$f":"'NGGT TO'!Y483","v":0},{"$f":"'NGGT TO'!Z483","v":0},{"$f":"'NGGT TO'!AA483","v":0.13294424437561272},{"$f":"'NGGT TO'!AB483","v":2.7456208354433298},{"$f":"'NGGT TO'!AC483","v":5.7937034651984609},{"$f":"'NGGT TO'!AD483","v":34.270186915519197},{"$f":"'NGGT TO'!AE483","v":34.839361407895645},{"$f":"'NGGT TO'!AF483","v":1.407338564227161},{"$f":"'NGGT TO'!AG483","v":0}]
[null,null,null,null,"Hornsea pre-RIIO actual capex",null,"£m 18/19 prices",null,null,">",null,null,null,null,null,null,null,null,null,null,null,{"$f":"'NGGT TO'!V484","v":0},{"$f":"'NGGT TO'!W484","v":0},{"$f":"'NGGT TO'!X484","v":0},{"$f":"'NGGT TO'!Y484","v":0},{"$f":"'NGGT TO'!Z484","v":0},{"$f":"'NGGT TO'!AA484","v":0},{"$f":"'NGGT TO'!AB484","v":0},{"$f":"'NGGT TO'!AC484","v":0},{"$f":"'NGGT TO'!AD484","v":0},{"$f":"'NGGT TO'!AE484","v":0},{"$f":"'NGGT TO'!AF484","v":0},{"$f":"'NGGT TO'!AG484","v":0}]
[null,null,null,null,"Fleetwood pre-RIIO actual capex",null,"£m 18/19 prices",null,null,">",null,null,null,null,null,null,null,null,null,null,null,{"$f":"'NGGT TO'!V485","v":0},{"$f":"'NGGT TO'!W485","v":0},{"$f":"'NGGT TO'!X485","v":0},{"$f":"'NGGT TO'!Y485","v":0},{"$f":"'NGGT TO'!Z485","v":0},{"$f":"'NGGT TO'!AA485","v":0.40307563454308126},{"$f":"'NGGT TO'!AB485","v":9.9712881523861085},{"$f":"'NGGT TO'!AC485","v":0.9301891039222363},{"$f":"'NGGT TO'!AD485","v":2.0446987207874052},{"$f":"'NGGT TO'!AE485","v":-8.6315262082051411E-2},{"$f":"'NGGT TO'!AF485","v":5.9683569305647192E-3},{"$f":"'NGGT TO'!AG485","v":0}]
[null,null,null,null,"Cheshire pre-RIIO actual capex",null,"£m 18/19 prices",null,null,">",null,null,null,null,null,null,null,null,null,null,null,{"$f":"'NGGT TO'!V486","v":0},{"$f":"'NGGT TO'!W486","v":0},{"$f":"'NGGT TO'!X486","v":0},{"$f":"'NGGT TO'!Y486","v":0},{"$f":"'NGGT TO'!Z486","v":0},{"$f":"'NGGT TO'!AA486","v":0},{"$f":"'NGGT TO'!AB486","v":0},{"$f":"'NGGT TO'!AC486","v":0},{"$f":"'NGGT TO'!AD486","v":0},{"$f":"'NGGT TO'!AE486","v":0},{"$f":"'NGGT TO'!AF486","v":0},{"$f":"'NGGT TO'!AG486","v":0}]
[null,null,null,null,"Isle of Grain PH3 pre-RIIO actual capex",null,"£m 18/19 prices",null,null,">",null,null,null,null,null,null,null,null,null,null,null,{"$f":"'NGGT TO'!V487","v":0},{"$f":"'NGGT TO'!W487","v":0},{"$f":"'NGGT TO'!X487","v":0},{"$f":"'NGGT TO'!Y487","v":0},{"$f":"'NGGT TO'!Z487","v":0},{"$f":"'NGGT TO'!AA487","v":0},{"$f":"'NGGT TO'!AB487","v":0},{"$f":"'NGGT TO'!AC487","v":0},{"$f":"'NGGT TO'!AD487","v":0},{"$f":"'NGGT TO'!AE487","v":0},{"$f":"'NGGT TO'!AF487","v":0},{"$f":"'NGGT TO'!AG487","v":0}]
[null,null,null,null,"Caythorpe pre-RIIO actual capex",null,"£m 18/19 prices",null,null,">",null,null,null,null,null,null,null,null,null,null,null,{"$f":"'NGGT TO'!V488","v":0},{"$f":"'NGGT TO'!W488","v":0},{"$f":"'NGGT TO'!X488","v":0},{"$f":"'NGGT TO'!Y488","v":0},{"$f":"'NGGT TO'!Z488","v":0},{"$f":"'NGGT TO'!AA488","v":0},{"$f":"'NGGT TO'!AB488","v":0},{"$f":"'NGGT TO'!AC488","v":0},{"$f":"'NGGT TO'!AD488","v":0},{"$f":"'NGGT TO'!AE488","v":0},{"$f":"'NGGT TO'!AF488","v":0},{"$f":"'NGGT TO'!AG488","v":0}]
[null,null,null,null,"Langage pre-RIIO actual capex",null,"£m 18/19 prices",null,null,">",null,null,null,null,null,null,null,null,null,null,null,{"$f":"'NGGT TO'!V489","v":6.3350184548175488},{"$f":"'NGGT TO'!W489","v":0.15161537419251067},{"$f":"'NGGT TO'!X489","v":6.8313742015200324E-2},{"$f":"'NGGT TO'!Y489","v":0.58001340492677234},{"$f":"'NGGT TO'!Z489","v":15.90257335343291},{"$f":"'NGGT TO'!AA489","v":66.322206337765778},{"$f":"'NGGT TO'!AB489","v":71.872544333507165},{"$f":"'NGGT TO'!AC489","v":14.119648221907918},{"$f":"'NGGT TO'!AD489","v":-8.9339091599954928E-2},{"$f":"'NGGT TO'!AE489","v":-1.2020601152919898E-2},{"$f":"'NGGT TO'!AF489","v":-3.2229127425049485E-2},{"$f":"'NGGT TO'!AG489","v":0}]
[null,null,null,null,"Marchwood pre-RIIO actual capex",null,"£m 18/19 prices",null,null,">",null,null,null,null,null,null,null,null,null,null,null,{"$f":"'NGGT TO'!V490","v":0},{"$f":"'NGGT TO'!W490","v":0},{"$f":"'NGGT TO'!X490","v":0},{"$f":"'NGGT TO'!Y490","v":0},{"$f":"'NGGT TO'!Z490","v":9.5905463626232118E-2},{"$f":"'NGGT TO'!AA490","v":5.1225963098773342},{"$f":"'NGGT TO'!AB490","v":21.934394469371441},{"$f":"'NGGT TO'!AC490","v":37.845622773415997},{"$f":"'NGGT TO'!AD490","v":0.17055426080929043},{"$f":"'NGGT TO'!AE490","v":0.34988501946523248},{"$f":"'NGGT TO'!AF490","v":-0.24589630553926645},{"$f":"'NGGT TO'!AG490","v":0}]
[null,null,null,null,"Pembroke pre-RIIO actual capex",null,"£m 18/19 prices",null,null,">",null,null,null,null,null,null,null,null,null,null,null,{"$f":"'NGGT TO'!V491","v":0},{"$f":"'NGGT TO'!W491","v":0},{"$f":"'NGGT TO'!X491","v":0},{"$f":"'NGGT TO'!Y491","v":0},{"$f":"'NGGT TO'!Z491","v":0},{"$f":"'NGGT TO'!AA491","v":0},{"$f":"'NGGT TO'!AB491","v":0},{"$f":"'NGGT TO'!AC491","v":0},{"$f":"'NGGT TO'!AD491","v":0},{"$f":"'NGGT TO'!AE491","v":0},{"$f":"'NGGT TO'!AF491","v":0},{"$f":"'NGGT TO'!AG491","v":0}]
[null,null,null,null,"Gilwern pre-RIIO actual capex",null,"£m 18/19 prices",null,null,">",null,null,null,null,null,null,null,null,null,null,null,{"$f":"'NGGT TO'!V492","v":0},{"$f":"'NGGT TO'!W492","v":0},{"$f":"'NGGT TO'!X492","v":0},{"$f":"'NGGT TO'!Y492","v":0},{"$f":"'NGGT TO'!Z492","v":0},{"$f":"'NGGT TO'!AA492","v":0},{"$f":"'NGGT TO'!AB492","v":0},{"$f":"'NGGT TO'!AC492","v":0},{"$f":"'NGGT TO'!AD492","v":0},{"$f":"'NGGT TO'!AE492","v":0},{"$f":"'NGGT TO'!AF492","v":0},{"$f":"'NGGT TO'!AG492","v":0}]
[null,null,null,null,"SW Quad 08/09 pre-RIIO actual capex",null,"£m 18/19 prices",null,null,">",null,null,null,null,null,null,null,null,null,null,null,{"$f":"'NGGT TO'!V493","v":0.64360398396423157},{"$f":"'NGGT TO'!W493","v":7.5009711442610552E-2},{"$f":"'NGGT TO'!X493","v":4.6577551374000223E-3},{"$f":"'NGGT TO'!Y493","v":0},{"$f":"'NGGT TO'!Z493","v":0.28899550557839154},{"$f":"'NGGT TO'!AA493","v":5.7194311090955097},{"$f":"'NGGT TO'!AB493","v":9.094783665946613},{"$f":"'NGGT TO'!AC493","v":2.9938747202723861},{"$f":"'NGGT TO'!AD493","v":40.859088316946199},{"$f":"'NGGT TO'!AE493","v":52.75700065067403},{"$f":"'NGGT TO'!AF493","v":-3.2443988274549818},{"$f":"'NGGT TO'!AG493","v":3.6147696748386089E-2}]
[null,null,null,null,"SW Quad 09/10 pre-RIIO actual capex",null,"£m 18/19 prices",null,null,">",null,null,null,null,null,null,null,null,null,null,null,{"$f":"'NGGT TO'!V494","v":0},{"$f":"'NGGT TO'!W494","v":0},{"$f":"'NGGT TO'!X494","v":0},{"$f":"'NGGT TO'!Y494","v":0},{"$f":"'NGGT TO'!Z494","v":0},{"$f":"'NGGT TO'!AA494","v":0},{"$f":"'NGGT TO'!AB494","v":0},{"$f":"'NGGT TO'!AC494","v":0},{"$f":"'NGGT TO'!AD494","v":0},{"$f":"'NGGT TO'!AE494","v":0},{"$f":"'NGGT TO'!AF494","v":0},{"$f":"'NGGT TO'!AG494","v":0}]
[null,null,null,null,"North West Entry / Hole House Farm Storage pre-RIIO actual capex",null,"£m 18/19 prices",null,null,">",null,null,null,null,null,null,null,null,null,null,null,{"$f":"'NGGT TO'!V495","v":0},{"$f":"'NGGT TO'!W495","v":0},{"$f":"'NGGT TO'!X495","v":0},{"$f":"'NGGT TO'!Y495","v":0},{"$f":"'NGGT TO'!Z495","v":0},{"$f":"'NGGT TO'!AA495","v":0},{"$f":"'NGGT TO'!AB495","v":0},{"$f":"'NGGT TO'!AC495","v":0},{"$f":"'NGGT TO'!AD495","v":0.80742474720686697},{"$f":"'NGGT TO'!AE495","v":8.0438253911608975},{"$f":"'NGGT TO'!AF495","v":9.6866432983065405},{"$f":"'NGGT TO'!AG495","v":0}]
[]
[null,null,null,null,"Fleetwood",null,"£m 18/19 prices",null,null,null,null,null,null,null,null,null,null,null,null,null,null,null,null,null,null,null,null,null,null,null,null,null,null,{"$f":"'NGGT TO'!AH497","v":0},{"$f":"'NGGT TO'!AI497","v":0},{"$f":"'NGGT TO'!AJ497","v":0},{"$f":"'NGGT TO'!AK497","v":0},{"$f":"'NGGT TO'!AL497","v":0},{"$f":"'NGGT TO'!AM497","v":0},{"$f":"'NGGT TO'!AN497","v":0},{"$f":"'NGGT TO'!AO497","v":0},{"$f":"'NGGT TO'!AP497","v":0},{"$f":"'NGGT TO'!AQ497","v":0},{"$f":"'NGGT TO'!AR497","v":0},{"$f":"'NGGT TO'!AS497","v":0},{"$f":"'NGGT TO'!AT497","v":0}]
[null,null,null,null,"SW Quad 2008/09 post-RIIO capex",null,"£m 18/19 prices",null,null,null,null,null,null,null,null,null,null,null,null,null,null,null,null,null,null,null,null,null,null,null,null,null,null,{"$f":"'NGGT TO'!AH498","v":1.078073799832975},{"$f":"'NGGT TO'!AI498","v":0},{"$f":"'NGGT TO'!AJ498","v":0},{"$f":"'NGGT TO'!AK498","v":0},{"$f":"'NGGT TO'!AL498","v":0},{"$f":"'NGGT TO'!AM498","v":0},{"$f":"'NGGT TO'!AN498","v":0},{"$f":"'NGGT TO'!AO498","v":0},{"$f":"'NGGT TO'!AP498","v":0},{"$f":"'NGGT TO'!AQ498","v":0},{"$f":"'NGGT TO'!AR498","v":0},{"$f":"'NGGT TO'!AS498","v":0},{"$f":"'NGGT TO'!AT498","v":0}]
[null,null,null,null,"SW Quad 2009/10 post-RIIO capex",null,"£m 18/19 prices",null,null,null,null,null,null,null,null,null,null,null,null,null,null,null,null,null,null,null,null,null,null,null,null,null,null,{"$f":"'NGGT TO'!AH499","v":1.0082837568056877},{"$f":"'NGGT TO'!AI499","v":2.5435552573371676},{"$f":"'NGGT TO'!AJ499","v":2.5666081808652415},{"$f":"'NGGT TO'!AK499","v":2.5898700392224914},{"$f":"'NGGT TO'!AL499","v":18.293399082289202},{"$f":"'NGGT TO'!AM499","v":24.260658999472774},{"$f":"'NGGT TO'!AN499","v":1.0643712982245235},{"$f":"'NGGT TO'!AO499","v":0},{"$f":"'NGGT TO'!AP499","v":0},{"$f":"'NGGT TO'!AQ499","v":0},{"$f":"'NGGT TO'!AR499","v":0},{"$f":"'NGGT TO'!AS499","v":0},{"$f":"'NGGT TO'!AT499","v":0}]
[]
[null,null,null,null,"NGGT SO Revenue Driver Income (reallocated to TO)",null,"£m 18/19 prices",null,null,null,null,null,null,null,null,null,null,null,null,null,null,null,null,null,null,null,null,null,null,null,null,null,null,null,null,null,null,null,null,null,null,{"$f":"'NGGT TO'!AP501","v":0},{"$f":"'NGGT TO'!AQ501","v":0},{"$f":"'NGGT TO'!AR501","v":0},{"$f":"'NGGT TO'!AS501","v":0},{"$f":"'NGGT TO'!AT501","v":0}]
[]
[null,"End of sheet"]

{"sheet":"Totex","index":3,"n_rows":84,"n_cols":46,"rows_kept":84,"cut":false,"hidden":false,"merged":[]}
["Totex"]
[null,{"$f":"UserInterface!G17","v":"NGGT TO"}]
[null,null,null,null,"Parameter",null,"Units",null,"Constant",null,null,null,null,null,null,null,null,null,null,null,null,null,null,null,null,null,null,null,null,null,null,null,null,null,null,null,null,null,null,null,null,"Annual values"]
[null,null,null,null,"PCFM year ending",{"$f":"Cover!C4","v":"Model Version"},null,null,{"$f":"UserInterface!$G$10","v":"2022-03-31"},null,"1991-03-31","1992-03-31","1993-03-31","1994-03-31","1995-03-31","1996-03-31","1997-03-31","1998-03-31","1999-03-31","2000-03-31","2001-03-31","2002-03-31","2003-03-31","2004-03-31","2005-03-31","2006-03-31","2007-03-31","2008-03-31","2009-03-31","2010-03-31","2011-03-31","2012-03-31","2013-03-31","2014-03-31","2015-03-31","2016-03-31","2017-03-31","2018-03-31","2019-03-31","2020-03-31","2021-03-31","2022-03-31","2023-03-31","2024-03-31","2025-03-31","2026-03-31"]
[]
[null,"Totex"]
[]
[null,null,"Allowed totex aggregated by sub-category"]
[null,null,"Note: Totex is the sum of a number of cost categories, with all totex allowances falling under one (or more) of them. They have significance in the model as each sub-category can have its own set of tax pool allocation rules."]
[]
[null,null,null,"Capitalisation rate 1 totex"]
[]
[]
[null,null,null,null,"Load related capex",null,"£m 18/19 prices",null,null,null,null,null,null,null,null,null,null,null,null,null,null,null,null,null,null,null,null,null,null,null,null,null,null,null,null,null,null,null,null,null,null,{"$f":"Input!AP11 + SUMPRODUCT((Input!AP$284:AP$499) * (Input!$H$284:$H$499 = $E14) * (Input!$BE$284:$BE$499 = \"CapRate 1 (Baseline)\"))","v":1.9779514619147203},{"$f":"Input!AQ11 + SUMPRODUCT((Input!AQ$284:AQ$499) * (Input!$H$284:$H$499 = $E14) * (Input!$BE$284:$BE$499 = \"CapRate 1 (Baseline)\"))","v":2.9472105406130411},{"$f":"Input!AR11 + SUMPRODUCT((Input!AR$284:AR$499) * (Input!$H$284:$H$499 = $E14) * (Input!$BE$284:$BE$499 = \"CapRate 1 (Baseline)\"))","v":2.3900757234535996},{"$f":"Input!AS11 + SUMPRODUCT((Input!AS$284:AS$499) * (Input!$H$284:$H$499 = $E14) * (Input!$BE$284:$BE$499 = \"CapRate 1 (Baseline)\"))","v":1.9927175424639441},{"$f":"Input!AT11 + SUMPRODUCT((Input!AT$284:AT$499) * (Input!$H$284:$H$499 = $E14) * (Input!$BE$284:$BE$499 = \"CapRate 1 (Baseline)\"))","v":1.6600000000000001}]
[null,null,null,null,"Asset replacement capex",null,"£m 18/19 prices",null,null,null,null,null,null,null,null,null,null,null,null,null,null,null,null,null,null,null,null,null,null,null,null,null,null,null,null,null,null,null,null,null,null,{"$f":"Input!AP12 + SUMPRODUCT((Input!AP$284:AP$499) * (Input!$H$284:$H$499 = $E15) * (Input!$BE$284:$BE$499 = \"CapRate 1 (Baseline)\"))","v":112.41692705692083},{"$f":"Input!AQ12 + SUMPRODUCT((Input!AQ$284:AQ$499) * (Input!$H$284:$H$499 = $E15) * (Input!$BE$284:$BE$499 = \"CapRate 1 (Baseline)\"))","v":171.82579275225982},{"$f":"Input!AR12 + SUMPRODUCT((Input!AR$284:AR$499) * (Input!$H$284:$H$499 = $E15) * (Input!$BE$284:$BE$499 = \"CapRate 1 (Baseline)\"))","v":194.17675243146417},{"$f":"Input!AS12 + SUMPRODUCT((Input!AS$284:AS$499) * (Input!$H$284:$H$499 = $E15) * (Input!$BE$284:$BE$499 = \"CapRate 1 (Baseline)\"))","v":111.82186448096374},{"$f":"Input!AT12 + SUMPRODUCT((Input!AT$284:AT$499) * (Input!$H$284:$H$499 = $E15) * (Input!$BE$284:$BE$499 = \"CapRate 1 (Baseline)\"))","v":104.96026438269078}]
[null,null,null,null,"Other capex",null,"£m 18/19 prices",null,null,null,null,null,null,null,null,null,null,null,null,null,null,null,null,null,null,null,null,null,null,null,null,null,null,null,null,null,null,null,null,null,null,{"$f":"Input!AP13 + SUMPRODUCT((Input!AP$284:AP$499) * (Input!$H$284:$H$499 = $E16) * (Input!$BE$284:$BE$499 = \"CapRate 1 (Baseline)\"))","v":46.941091304769124},{"$f":"Input!AQ13 + SUMPRODUCT((Input!AQ$284:AQ$499) * (Input!$H$284:$H$499 = $E16) * (Input!$BE$284:$BE$499 = \"CapRate 1 (Baseline)\"))","v":94.006934147213556},{"$f":"Input!AR13 + SUMPRODUCT((Input!AR$284:AR$499) * (Input!$H$284:$H$499 = $E16) * (Input!$BE$284:$BE$499 = \"CapRate 1 (Baseline)\"))","v":84.222842453303983},{"$f":"Input!AS13 + SUMPRODUCT((Input!AS$284:AS$499) * (Input!$H$284:$H$499 = $E16) * (Input!$BE$284:$BE$499 = \"CapRate 1 (Baseline)\"))","v":3.3446286435108754},{"$f":"Input!AT13 + SUMPRODUCT((Input!AT$284:AT$499) * (Input!$H$284:$H$499 = $E16) * (Input!$BE$284:$BE$499 = \"CapRate 1 (Baseline)\"))","v":2.0477006277467233}]
[null,null,null,null,"Non-load (opex)",null,"£m 18/19 prices",null,null,null,null,null,null,null,null,null,null,null,null,null,null,null,null,null,null,null,null,null,null,null,null,null,null,null,null,null,null,null,null,null,null,{"$f":"Input!AP14 + SUMPRODUCT((Input!AP$284:AP$499) * (Input!$H$284:$H$499 = $E17) * (Input!$BE$284:$BE$499 = \"CapRate 1 (Baseline)\"))","v":42.548943384532755},{"$f":"Input!AQ14 + SUMPRODUCT((Input!AQ$284:AQ$499) * (Input!$H$284:$H$499 = $E17) * (Input!$BE$284:$BE$499 = \"CapRate 1 (Baseline)\"))","v":42.824297858287068},{"$f":"Input!AR14 + SUMPRODUCT((Input!AR$284:AR$499) * (Input!$H$284:$H$499 = $E17) * (Input!$BE$284:$BE$499 = \"CapRate 1 (Baseline)\"))","v":43.20760265882253},{"$f":"Input!AS14 + SUMPRODUCT((Input!AS$284:AS$499) * (Input!$H$284:$H$499 = $E17) * (Input!$BE$284:$BE$499 = \"CapRate 1 (Baseline)\"))","v":45.649061443260607},{"$f":"Input!AT14 + SUMPRODUCT((Input!AT$284:AT$499) * (Input!$H$284:$H$499 = $E17) * (Input!$BE$284:$BE$499 = \"CapRate 1 (Baseline)\"))","v":42.553708955783151}]
[null,null,null,null,"Indirects (opex)",null,"£m 18/19 prices",null,null,null,null,null,null,null,null,null,null,null,null,null,null,null,null,null,null,null,null,null,null,null,null,null,null,null,null,null,null,null,null,null,null,{"$f":"Input!AP15 + SUMPRODUCT((Input!AP$284:AP$499) * (Input!$H$284:$H$499 = $E18) * (Input!$BE$284:$BE$499 = \"CapRate 1 (Baseline)\"))","v":72.01853324883524},{"$f":"Input!AQ15 + SUMPRODUCT((Input!AQ$284:AQ$499) * (Input!$H$284:$H$499 = $E18) * (Input!$BE$284:$BE$499 = \"CapRate 1 (Baseline)\"))","v":80.695753609767621},{"$f":"Input!AR15 + SUMPRODUCT((Input!AR$284:AR$499) * (Input!$H$284:$H$499 = $E18) * (Input!$BE$284:$BE$499 = \"CapRate 1 (Baseline)\"))","v":80.323457689122989},{"$f":"Input!AS15 + SUMPRODUCT((Input!AS$284:AS$499) * (Input!$H$284:$H$499 = $E18) * (Input!$BE$284:$BE$499 = \"CapRate 1 (Baseline)\"))","v":56.435121113861555},{"$f":"Input!AT15 + SUMPRODUCT((Input!AT$284:AT$499) * (Input!$H$284:$H$499 = $E18) * (Input!$BE$284:$BE$499 = \"CapRate 1 (Baseline)\"))","v":55.251322961856715}]
[null,null,null,null,"Non-operational capex",null,"£m 18/19 prices",null,null,null,null,null,null,null,null,null,null,null,null,null,null,null,null,null,null,null,null,null,null,null,null,null,null,null,null,null,null,null,null,null,null,{"$f":"Input!AP16 + SUMPRODUCT((Input!AP$284:AP$499) * (Input!$H$284:$H$499 = $E19) * (Input!$BE$284:$BE$499 = \"CapRate 1 (Baseline)\"))","v":26.217679094001976},{"$f":"Input!AQ16 + SUMPRODUCT((Input!AQ$284:AQ$499) * (Input!$H$284:$H$499 = $E19) * (Input!$BE$284:$BE$499 = \"CapRate 1 (Baseline)\"))","v":24.960603391565677},{"$f":"Input!AR16 + SUMPRODUCT((Input!AR$284:AR$499) * (Input!$H$284:$H$499 = $E19) * (Input!$BE$284:$BE$499 = \"CapRate 1 (Baseline)\"))","v":22.691537880985955},{"$f":"Input!AS16 + SUMPRODUCT((Input!AS$284:AS$499) * (Input!$H$284:$H$499 = $E19) * (Input!$BE$284:$BE$499 = \"CapRate 1 (Baseline)\"))","v":20.852427415862305},{"$f":"Input!AT16 + SUMPRODUCT((Input!AT$284:AT$499) * (Input!$H$284:$H$499 = $E19) * (Input!$BE$284:$BE$499 = \"CapRate 1 (Baseline)\"))","v":19.949014660910692}]
[]
[null,null,null,"Capitalisation rate 2 totex"]
[]
[]
[null,null,null,null,"Load related capex",null,{"$f":"Input!G271","v":"£m 18/19 prices"},null,null,null,null,null,null,null,null,null,null,null,null,null,null,null,null,null,null,null,null,null,null,null,null,null,null,null,null,null,null,null,null,null,null,{"$f":"SUMPRODUCT((Input!AP$284:AP$499) * (Input!$H$284:$H$499 = $E24) * (Input!$BE$284:$BE$499 = \"CapRate 2 (UM)\"))","v":0},{"$f":"SUMPRODUCT((Input!AQ$284:AQ$499) * (Input!$H$284:$H$499 = $E24) * (Input!$BE$284:$BE$499 = \"CapRate 2 (UM)\"))","v":0},{"$f":"SUMPRODUCT((Input!AR$284:AR$499) * (Input!$H$284:$H$499 = $E24) * (Input!$BE$284:$BE$499 = \"CapRate 2 (UM)\"))","v":0},{"$f":"SUMPRODUCT((Input!AS$284:AS$499) * (Input!$H$284:$H$499 = $E24) * (Input!$BE$284:$BE$499 = \"CapRate 2 (UM)\"))","v":0},{"$f":"SUMPRODUCT((Input!AT$284:AT$499) * (Input!$H$284:$H$499 = $E24) * (Input!$BE$284:$BE$499 = \"CapRate 2 (UM)\"))","v":0}]
[null,null,null,null,"Asset replacement capex",null,{"$f":"Input!G272","v":"£m 18/19 prices"},null,null,null,null,null,null,null,null,null,null,null,null,null,null,null,null,null,null,null,null,null,null,null,null,null,null,null,null,null,null,null,null,null,null,{"$f":"SUMPRODUCT((Input!AP$284:AP$499) * (Input!$H$284:$H$499 = $E25) * (Input!$BE$284:$BE$499 = \"CapRate 2 (UM)\"))","v":0},{"$f":"SUMPRODUCT((Input!AQ$284:AQ$499) * (Input!$H$284:$H$499 = $E25) * (Input!$BE$284:$BE$499 = \"CapRate 2 (UM)\"))","v":0},{"$f":"SUMPRODUCT((Input!AR$284:AR$499) * (Input!$H$284:$H$499 = $E25) * (Input!$BE$284:$BE$499 = \"CapRate 2 (UM)\"))","v":0},{"$f":"SUMPRODUCT((Input!AS$284:AS$499) * (Input!$H$284:$H$499 = $E25) * (Input!$BE$284:$BE$499 = \"CapRate 2 (UM)\"))","v":0},{"$f":"SUMPRODUCT((Input!AT$284:AT$499) * (Input!$H$284:$H$499 = $E25) * (Input!$BE$284:$BE$499 = \"CapRate 2 (UM)\"))","v":0}]
[null,null,null,null,"Other capex",null,{"$f":"Input!G273","v":"£m 18/19 prices"},null,null,null,null,null,null,null,null,null,null,null,null,null,null,null,null,null,null,null,null,null,null,null,null,null,null,null,null,null,null,null,null,null,null,{"$f":"SUMPRODUCT((Input!AP$284:AP$499) * (Input!$H$284:$H$499 = $E26) * (Input!$BE$284:$BE$499 = \"CapRate 2 (UM)\"))","v":0},{"$f":"SUMPRODUCT((Input!AQ$284:AQ$499) * (Input!$H$284:$H$499 = $E26) * (Input!$BE$284:$BE$499 = \"CapRate 2 (UM)\"))","v":0},{"$f":"SUMPRODUCT((Input!AR$284:AR$499) * (Input!$H$284:$H$499 = $E26) * (Input!$BE$284:$BE$499 = \"CapRate 2 (UM)\"))","v":0},{"$f":"SUMPRODUCT((Input!AS$284:AS$499) * (Input!$H$284:$H$499 = $E26) * (Input!$BE$284:$BE$499 = \"CapRate 2 (UM)\"))","v":0},{"$f":"SUMPRODUCT((Input!AT$284:AT$499) * (Input!$H$284:$H$499 = $E26) * (Input!$BE$284:$BE$499 = \"CapRate 2 (UM)\"))","v":0}]
[null,null,null,null,"Non-load (opex)",null,{"$f":"Input!G274","v":"£m 18/19 prices"},null,null,null,null,null,null,null,null,null,null,null,null,null,null,null,null,null,null,null,null,null,null,null,null,null,null,null,null,null,null,null,null,null,null,{"$f":"SUMPRODUCT((Input!AP$284:AP$499) * (Input!$H$284:$H$499 = $E27) * (Input!$BE$284:$BE$499 = \"CapRate 2 (UM)\"))","v":0},{"$f":"SUMPRODUCT((Input!AQ$284:AQ$499) * (Input!$H$284:$H$499 = $E27) * (Input!$BE$284:$BE$499 = \"CapRate 2 (UM)\"))","v":0},{"$f":"SUMPRODUCT((Input!AR$284:AR$499) * (Input!$H$284:$H$499 = $E27) * (Input!$BE$284:$BE$499 = \"CapRate 2 (UM)\"))","v":0},{"$f":"SUMPRODUCT((Input!AS$284:AS$499) * (Input!$H$284:$H$499 = $E27) * (Input!$BE$284:$BE$499 = \"CapRate 2 (UM)\"))","v":0},{"$f":"SUMPRODUCT((Input!AT$284:AT$499) * (Input!$H$284:$H$499 = $E27) * (Input!$BE$284:$BE$499 = \"CapRate 2 (UM)\"))","v":0}]
[null,null,null,null,"Indirects (opex)",null,{"$f":"Input!G275","v":"£m 18/19 prices"},null,null,null,null,null,null,null,null,null,null,null,null,null,null,null,null,null,null,null,null,null,null,null,null,null,null,null,null,null,null,null,null,null,null,{"$f":"SUMPRODUCT((Input!AP$284:AP$499) * (Input!$H$284:$H$499 = $E28) * (Input!$BE$284:$BE$499 = \"CapRate 2 (UM)\"))","v":0},{"$f":"SUMPRODUCT((Input!AQ$284:AQ$499) * (Input!$H$284:$H$499 = $E28) * (Input!$BE$284:$BE$499 = \"CapRate 2 (UM)\"))","v":0},{"$f":"SUMPRODUCT((Input!AR$284:AR$499) * (Input!$H$284:$H$499 = $E28) * (Input!$BE$284:$BE$499 = \"CapRate 2 (UM)\"))","v":0},{"$f":"SUMPRODUCT((Input!AS$284:AS$499) * (Input!$H$284:$H$499 = $E28) * (Input!$BE$284:$BE$499 = \"CapRate 2 (UM)\"))","v":0},{"$f":"SUMPRODUCT((Input!AT$284:AT$499) * (Input!$H$284:$H$499 = $E28) * (Input!$BE$284:$BE$499 = \"CapRate 2 (UM)\"))","v":0}]
[null,null,null,null,"Non-operational capex",null,{"$f":"Input!G276","v":"£m 18/19 prices"},null,null,null,null,null,null,null,null,null,null,null,null,null,null,null,null,null,null,null,null,null,null,null,null,null,null,null,null,null,null,null,null,null,null,{"$f":"SUMPRODUCT((Input!AP$284:AP$499) * (Input!$H$284:$H$499 = $E29) * (Input!$BE$284:$BE$499 = \"CapRate 2 (UM)\"))","v":0},{"$f":"SUMPRODUCT((Input!AQ$284:AQ$499) * (Input!$H$284:$H$499 = $E29) * (Input!$BE$284:$BE$499 = \"CapRate 2 (UM)\"))","v":0},{"$f":"SUMPRODUCT((Input!AR$284:AR$499) * (Input!$H$284:$H$499 = $E29) * (Input!$BE$284:$BE$499 = \"CapRate 2 (UM)\"))","v":0},{"$f":"SUMPRODUCT((Input!AS$284:AS$499) * (Input!$H$284:$H$499 = $E29) * (Input!$BE$284:$BE$499 = \"CapRate 2 (UM)\"))","v":0},{"$f":"SUMPRODUCT((Input!AT$284:AT$499) * (Input!$H$284:$H$499 = $E29) * (Input!$BE$284:$BE$499 = \"CapRate 2 (UM)\"))","v":0}]
[]
[null,null,null,"Allowance"]
[]
[]
[null,null,null,null,"Allowed load related capex expenditure",null,"£m 18/19 prices",null,null,null,null,null,null,null,null,null,null,null,null,null,null,null,null,null,null,null,null,null,null,null,null,null,null,null,null,null,null,null,null,null,null,{"$f":"AP14 + AP24","v":1.9779514619147203},2.9472105406130411,2.3900757234535996,1.9927175424639441,1.6600000000000001]
[null,null,null,null,"Allowed asset replacement capex expenditure",null,"£m 18/19 prices",null,null,null,null,null,null,null,null,null,null,null,null,null,null,null,null,null,null,null,null,null,null,null,null,null,null,null,null,null,null,null,null,null,null,{"$f":"AP15 + AP25","v":112.41692705692083},171.82579275225982,194.17675243146417,111.82186448096374,104.96026438269078]
[null,null,null,null,"Allowed other capex expenditure",null,"£m 18/19 prices",null,null,null,null,null,null,null,null,null,null,null,null,null,null,null,null,null,null,null,null,null,null,null,null,null,null,null,null,null,null,null,null,null,null,{"$f":"AP16 + AP26","v":46.941091304769124},94.006934147213556,84.222842453303983,3.3446286435108754,2.0477006277467233]
[null,null,null,null,"Allowed non-load (opex)",null,"£m 18/19 prices",null,null,null,null,null,null,null,null,null,null,null,null,null,null,null,null,null,null,null,null,null,null,null,null,null,null,null,null,null,null,null,null,null,null,{"$f":"AP17 + AP27","v":42.548943384532755},42.824297858287068,43.20760265882253,45.649061443260607,42.553708955783151]
[null,null,null,null,"Allowed indirects (opex)",null,"£m 18/19 prices",null,null,null,null,null,null,null,null,null,null,null,null,null,null,null,null,null,null,null,null,null,null,null,null,null,null,null,null,null,null,null,null,null,null,72.01853324883524,80.695753609767621,80.323457689122989,56.435121113861555,55.251322961856715]
[null,null,null,null,"Allowed non-operational capex",null,"£m 18/19 prices",null,null,null,null,null,null,null,null,null,null,null,null,null,null,null,null,null,null,null,null,null,null,null,null,null,null,null,null,null,null,null,null,null,null,{"$f":"AP19 + AP29","v":26.217679094001976},24.960603391565677,22.691537880985955,20.852427415862305,19.949014660910692]
[null,null,null,null,"Allowed totex",null,"£m 18/19 prices",null,null,null,null,null,null,null,null,null,null,null,null,null,null,null,null,null,null,null,null,null,null,null,null,null,null,null,null,null,null,null,null,null,null,{"$f":"SUM(AP34:AP39)","v":302.12112555097468},417.26059229970679,427.01226883715321,240.09582063992303,226.42201158898803]
[]
[null,null,"Actual totex"]
[]
[null,null,null,"Source of actuals"]
[null,null,null,"Note: The model assumes that there is a time lag from year t until actual expenditure data becomes available for the model. After the lag, actual expenditure inputs are used. Up to that point the model generates a forecast actual expenditure."]
[null,null,null,"When required in the model, forecasts assume that actuals are equal to their corresponding allowance."]
[null,null,null,"In a year where actual totex is assumed to be available, values must be inputted to the model as it will not generate a forecast and the empty input cell will be read as an actual spend of zero."]
[]
[null,null,null,null,"Years from t until normal reporting of actual costs",null,"years",null,{"$f":"Input!I252","v":2}]
[null,null,null,null,"Historic totex (FYI only)",null,"text",null,null,null,null,null,null,null,null,null,null,null,null,null,null,null,null,null,null,null,null,null,null,null,null,null,null,null,null,null,null,null,null,null,null,{"$f":"(YEAR($I$4) >= YEAR(AP$4) + $I49)","v":false},{"$f":"(YEAR($I$4) >= YEAR(AQ$4) + $I49)","v":false},false,false,false]
[null,null,null,null,"Forecasted totex (FYI only)",null,"text",null,null,null,null,null,null,null,null,null,null,null,null,null,null,null,null,null,null,null,null,null,null,null,null,null,null,null,null,null,null,null,null,null,null,{"$f":"IF(AP50, FALSE, TRUE)","v":true},true,true,true,true]
[]
[null,null,null,"Actual totex (historic and forecasted)"]
[null,null,null,"Note: Actuals are exported both to identify performance against the allowance and to generate writing down allowances used in the tax calculation."]
[]
[null,null,null,null,"Capitalisation rate 1 totex"]
[]
[null,null,null,null,"Actual load related capex expenditure",null,"£m 18/19 prices",null,null,null,null,null,null,null,null,null,null,null,null,null,null,null,null,null,null,null,null,null,null,null,null,null,null,null,null,null,null,null,null,null,null,{"$f":"Input!AP63","v":1.9779514619147203},{"$f":"Input!AQ63","v":2.9472105406130411},{"$f":"Input!AR63","v":2.3900757234535996},{"$f":"Input!AS63","v":1.9927175424639441},{"$f":"Input!AT63","v":1.6600000000000001}]
[null,null,null,null,"Actual asset replacement capex expenditure",null,"£m 18/19 prices",null,null,null,null,null,null,null,null,null,null,null,null,null,null,null,null,null,null,null,null,null,null,null,null,null,null,null,null,null,null,null,null,null,null,{"$f":"Input!AP64","v":112.41692705692083},{"$f":"Input!AQ64","v":171.82579275225982},{"$f":"Input!AR64","v":194.17675243146417},{"$f":"Input!AS64","v":111.82186448096374},{"$f":"Input!AT64","v":104.96026438269078}]
[null,null,null,null,"Actual other capex expenditure",null,"£m 18/19 prices",null,null,null,null,null,null,null,null,null,null,null,null,null,null,null,null,null,null,null,null,null,null,null,null,null,null,null,null,null,null,null,null,null,null,{"$f":"Input!AP65","v":46.941091304769124},{"$f":"Input!AQ65","v":94.006934147213556},{"$f":"Input!AR65","v":84.222842453303983},{"$f":"Input!AS65","v":3.3446286435108754},{"$f":"Input!AT65","v":2.0477006277467233}]
[null,null,null,null,"Actual non-load (opex)",null,"£m 18/19 prices",null,null,null,null,null,null,null,null,null,null,null,null,null,null,null,null,null,null,null,null,null,null,null,null,null,null,null,null,null,null,null,null,null,null,{"$f":"Input!AP66","v":42.548943384532755},{"$f":"Input!AQ66","v":42.824297858287068},{"$f":"Input!AR66","v":43.20760265882253},{"$f":"Input!AS66","v":45.649061443260607},{"$f":"Input!AT66","v":42.553708955783151}]
[null,null,null,null,"Actual indirects (opex)",null,"£m 18/19 prices",null,null,null,null,null,null,null,null,null,null,null,null,null,null,null,null,null,null,null,null,null,null,null,null,null,null,null,null,null,null,null,null,null,null,{"$f":"Input!AP67","v":72.01853324883524},{"$f":"Input!AQ67","v":80.695753609767621},{"$f":"Input!AR67","v":80.323457689122989},{"$f":"Input!AS67","v":56.435121113861555},{"$f":"Input!AT67","v":55.251322961856715}]
[null,null,null,null,"Actual non-operational capex",null,"£m 18/19 prices",null,null,null,null,null,null,null,null,null,null,null,null,null,null,null,null,null,null,null,null,null,null,null,null,null,null,null,null,null,null,null,null,null,null,{"$f":"Input!AP68","v":26.217679094001976},{"$f":"Input!AQ68","v":24.960603391565677},{"$f":"Input!AR68","v":22.691537880985955},{"$f":"Input!AS68","v":20.852427415862305},{"$f":"Input!AT68","v":19.949014660910692}]
[]
[null,null,null,null,"Capitalisation rate 2 totex"]
[]
[null,null,null,null,"Actual load related capex expenditure",null,"£m 18/19 prices",null,null,null,null,null,null,null,null,null,null,null,null,null,null,null,null,null,null,null,null,null,null,null,null,null,null,null,null,null,null,null,null,null,null,{"$f":"Input!AP72","v":0},{"$f":"Input!AQ72","v":0},{"$f":"Input!AR72","v":0},{"$f":"Input!AS72","v":0},{"$f":"Input!AT72","v":0}]
[null,null,null,null,"Actual asset replacement capex expenditure",null,"£m 18/19 prices",null,null,null,null,null,null,null,null,null,null,null,null,null,null,null,null,null,null,null,null,null,null,null,null,null,null,null,null,null,null,null,null,null,null,{"$f":"Input!AP73","v":0},{"$f":"Input!AQ73","v":0},{"$f":"Input!AR73","v":0},{"$f":"Input!AS73","v":0},{"$f":"Input!AT73","v":0}]
[null,null,null,null,"Actual other capex expenditure",null,"£m 18/19 prices",null,null,null,null,null,null,null,null,null,null,null,null,null,null,null,null,null,null,null,null,null,null,null,null,null,null,null,null,null,null,null,null,null,null,{"$f":"Input!AP74","v":0},{"$f":"Input!AQ74","v":0},{"$f":"Input!AR74","v":0},{"$f":"Input!AS74","v":0},{"$f":"Input!AT74","v":0}]
[null,null,null,null,"Actual non-load (opex)",null,"£m 18/19 prices",null,null,null,null,null,null,null,null,null,null,null,null,null,null,null,null,null,null,null,null,null,null,null,null,null,null,null,null,null,null,null,null,null,null,{"$f":"Input!AP75","v":0},{"$f":"Input!AQ75","v":0},{"$f":"Input!AR75","v":0},{"$f":"Input!AS75","v":0},{"$f":"Input!AT75","v":0}]
[null,null,null,null,"Actual indirects (opex)",null,"£m 18/19 prices",null,null,null,null,null,null,null,null,null,null,null,null,null,null,null,null,null,null,null,null,null,null,null,null,null,null,null,null,null,null,null,null,null,null,{"$f":"Input!AP76","v":0},{"$f":"Input!AQ76","v":0},{"$f":"Input!AR76","v":0},{"$f":"Input!AS76","v":0},{"$f":"Input!AT76","v":0}]
[null,null,null,null,"Actual non-operational capex",null,"£m 18/19 prices",null,null,null,null,null,null,null,null,null,null,null,null,null,null,null,null,null,null,null,null,null,null,null,null,null,null,null,null,null,null,null,null,null,null,{"$f":"Input!AP77","v":0},{"$f":"Input!AQ77","v":0},{"$f":"Input!AR77","v":0},{"$f":"Input!AS77","v":0},{"$f":"Input!AT77","v":0}]
[]
[null,null,null,null,"Total actual"]
[]
[null,null,null,null,"Actual load related capex expenditure",null,"£m 18/19 prices",null,null,null,null,null,null,null,null,null,null,null,null,null,null,null,null,null,null,null,null,null,null,null,null,null,null,null,null,null,null,null,null,null,null,{"$f":"SUM(AP58, AP67)","v":1.9779514619147203},{"$f":"SUM(AQ58, AQ67)","v":2.9472105406130411},2.3900757234535996,1.9927175424639441,1.6600000000000001]
[null,null,null,null,"Actual asset replacement capex expenditure",null,"£m 18/19 prices",null,null,null,null,null,null,null,null,null,null,null,null,null,null,null,null,null,null,null,null,null,null,null,null,null,null,null,null,null,null,null,null,null,null,{"$f":"SUM(AP59, AP68)","v":112.41692705692083},171.82579275225982,194.17675243146417,111.82186448096374,104.96026438269078]
[null,null,null,null,"Actual other capex expenditure",null,"£m 18/19 prices",null,null,null,null,null,null,null,null,null,null,null,null,null,null,null,null,null,null,null,null,null,null,null,null,null,null,null,null,null,null,null,null,null,null,{"$f":"SUM(AP60, AP69)","v":46.941091304769124},94.006934147213556,84.222842453303983,3.3446286435108754,2.0477006277467233]
[null,null,null,null,"Actual non-load (opex)",null,"£m 18/19 prices",null,null,null,null,null,null,null,null,null,null,null,null,null,null,null,null,null,null,null,null,null,null,null,null,null,null,null,null,null,null,null,null,null,null,{"$f":"SUM(AP61, AP70)","v":42.548943384532755},42.824297858287068,43.20760265882253,45.649061443260607,42.553708955783151]
[null,null,null,null,"Actual indirects (opex)",null,"£m 18/19 prices",null,null,null,null,null,null,null,null,null,null,null,null,null,null,null,null,null,null,null,null,null,null,null,null,null,null,null,null,null,null,null,null,null,null,{"$f":"SUM(AP62, AP71)","v":72.01853324883524},80.695753609767621,80.323457689122989,56.435121113861555,55.251322961856715]
[null,null,null,null,"Actual non-operational capex",null,"£m 18/19 prices",null,null,null,null,null,null,null,null,null,null,null,null,null,null,null,null,null,null,null,null,null,null,null,null,null,null,null,null,null,null,null,null,null,null,{"$f":"SUM(AP63, AP72)","v":26.217679094001976},24.960603391565677,22.691537880985955,20.852427415862305,19.949014660910692]
[null,null,null,null,"Actual totex",null,"£m 18/19 prices",null,null,null,null,null,null,null,null,null,null,null,null,null,null,null,null,null,null,null,null,null,null,null,null,null,null,null,null,null,null,null,null,null,null,{"$f":"SUM(AP76:AP81)","v":302.12112555097468},417.26059229970679,427.01226883715321,240.09582063992303,226.42201158898803]
[null,null,null,null,null,null,null,null,null,null,null,null,null,null,null,null,null,null,null,null,null,null,null,null,null,null,null,null,null,null,null,null,null,null,null,null,null,null,null,"cross check"]
[null,"End of sheet"]

{"sheet":"TIM","index":4,"n_rows":74,"n_cols":46,"rows_kept":74,"cut":false,"hidden":false,"merged":[]}
["Totex Incentive Mechanism (TIM)"]
[null,{"$f":"UserInterface!G17","v":"NGGT TO"}]
[null,null,null,null,"Parameter",null,"Units",null,"Constant",null,null,null,null,null,null,null,null,null,null,null,null,null,null,null,null,null,null,null,null,null,null,null,null,null,null,null,null,null,null,null,null,"Annual values"]
[null,null,null,null,"PCFM year ending",{"$f":"Cover!C4","v":"Model Version"},null,null,{"$f":"UserInterface!$G$10","v":"2022-03-31"},null,"1991-03-31","1992-03-31","1993-03-31","1994-03-31","1995-03-31","1996-03-31","1997-03-31","1998-03-31","1999-03-31","2000-03-31","2001-03-31","2002-03-31","2003-03-31","2004-03-31","2005-03-31","2006-03-31","2007-03-31","2008-03-31","2009-03-31","2010-03-31","2011-03-31","2012-03-31","2013-03-31","2014-03-31","2015-03-31","2016-03-31","2017-03-31","2018-03-31","2019-03-31","2020-03-31","2021-03-31","2022-03-31","2023-03-31","2024-03-31","2025-03-31","2026-03-31"]
[]
[null,"Efficiency incentive"]
[]
[null,null,"Post-TIM overspend (underspend)"]
[null,null,"Note: Totex overspend (underspend) is identified and subject to the \"Funding Adjustment Rate.\"  "]
[null,null,"         - Non-'uncertainty rate' and 'uncertainty rate' totex are separated at this stage to allow for the application of their respective capitalisation rates to any overspend (underspend)"]
[]
[null,null,null,"Capitalisation 1 totex"]
[]
[null,null,null,null,"Actual totex",null,"£m 18/19 prices",null,null,null,null,null,null,null,null,null,null,null,null,null,null,null,null,null,null,null,null,null,null,null,null,null,null,null,null,null,null,null,null,null,null,{"$f":"SUM(Totex!AP58:AP63)","v":302.12112555097468},{"$f":"SUM(Totex!AQ58:AQ63)","v":417.26059229970679},{"$f":"SUM(Totex!AR58:AR63)","v":427.01226883715321},{"$f":"SUM(Totex!AS58:AS63)","v":240.09582063992303},{"$f":"SUM(Totex!AT58:AT63)","v":226.42201158898803}]
[null,null,null,null,"Less allowed totex",null,"£m 18/19 prices",null,null,null,null,null,null,null,null,null,null,null,null,null,null,null,null,null,null,null,null,null,null,null,null,null,null,null,null,null,null,null,null,null,null,{"$f":" - SUM(Totex!AP14:AP19)","v":-302.12112555097468},{"$f":" - SUM(Totex!AQ14:AQ19)","v":-417.26059229970679},{"$f":" - SUM(Totex!AR14:AR19)","v":-427.01226883715321},{"$f":" - SUM(Totex!AS14:AS19)","v":-240.09582063992303},{"$f":" - SUM(Totex!AT14:AT19)","v":-226.42201158898803}]
[null,null,null,null,"Pre-TIM overspend (underspend)",null,"£m 18/19 prices",null,null,null,null,null,null,null,null,null,null,null,null,null,null,null,null,null,null,null,null,null,null,null,null,null,null,null,null,null,null,null,null,null,null,{"$f":"SUM(AP14:AP15)","v":0},0,0,0,0]
[]
[null,null,null,null,"Funding Adjustment Rate (often referred to as 'sharing factor')",null,"%",null,null,null,null,null,null,null,null,null,null,null,null,null,null,null,null,null,null,null,null,null,null,null,null,null,null,null,null,null,null,null,null,null,null,{"$f":"Input!$I$257","v":0.61},{"$f":"Input!$I$257","v":0.61},{"$f":"Input!$I$257","v":0.61},{"$f":"Input!$I$257","v":0.61},{"$f":"Input!$I$257","v":0.61}]
[]
[null,null,null,null,"Post-TIM overspend (underspend)",null,"£m 18/19 prices",null,null,null,null,null,null,null,null,null,null,null,null,null,null,null,null,null,null,null,null,null,null,null,null,null,null,null,null,null,null,null,null,null,null,{"$f":"AP$18*AP16","v":0},0,0,0,0]
[]
[null,null,null,"Capitalisation 2 totex"]
[]
[null,null,null,null,"Actual totex",null,"£m 18/19 prices",null,null,null,null,null,null,null,null,null,null,null,null,null,null,null,null,null,null,null,null,null,null,null,null,null,null,null,null,null,null,null,null,null,null,{"$f":"SUM(Totex!AP67:AP72)","v":0},{"$f":"SUM(Totex!AQ67:AQ72)","v":0},{"$f":"SUM(Totex!AR67:AR72)","v":0},{"$f":"SUM(Totex!AS67:AS72)","v":0},{"$f":"SUM(Totex!AT67:AT72)","v":0}]
[null,null,null,null,"Less allowed totex",null,"£m 18/19 prices",null,null,null,null,null,null,null,null,null,null,null,null,null,null,null,null,null,null,null,null,null,null,null,null,null,null,null,null,null,null,null,null,null,null,{"$f":" - SUM(Totex!AP24:AP29)","v":0},{"$f":" - SUM(Totex!AQ24:AQ29)","v":0},{"$f":" - SUM(Totex!AR24:AR29)","v":0},{"$f":" - SUM(Totex!AS24:AS29)","v":0},{"$f":" - SUM(Totex!AT24:AT29)","v":0}]
[null,null,null,null,"Pre-TIM overspend (underspend)",null,"£m 18/19 prices",null,null,null,null,null,null,null,null,null,null,null,null,null,null,null,null,null,null,null,null,null,null,null,null,null,null,null,null,null,null,null,null,null,null,{"$f":"SUM(AP24:AP25)","v":0},0,0,0,0]
[]
[null,null,null,null,"Funding Adjustment Rate (often referred to as 'sharing factor')",null,"%",null,null,null,null,null,null,null,null,null,null,null,null,null,null,null,null,null,null,null,null,null,null,null,null,null,null,null,null,null,null,null,null,null,null,{"$f":"AP$18","v":0.61},0.61,0.61,0.61,0.61]
[]
[null,null,null,null,"Post-TIM overspend (underspend)",null,"£m 18/19 prices",null,null,null,null,null,null,null,null,null,null,null,null,null,null,null,null,null,null,null,null,null,null,null,null,null,null,null,null,null,null,null,null,null,null,{"$f":"AP$28 * AP26","v":0},0,0,0,0]
[]
[null,null,"Post-TIM totex"]
[null,null,"Note: \"Post-TIM overspend (underspend)\" is added to the allowed totex value to give the Post-TIM totex allowance to be split into fast and slow money."]
[]
[null,null,null,"Capitalisation 1 totex"]
[]
[null,null,null,null,"Allowed totex",null,"£m 18/19 prices",null,null,null,null,null,null,null,null,null,null,null,null,null,null,null,null,null,null,null,null,null,null,null,null,null,null,null,null,null,null,null,null,null,null,{"$f":"-AP15","v":302.12112555097468},{"$f":"-AQ15","v":417.26059229970679},{"$f":"-AR15","v":427.01226883715321},{"$f":"-AS15","v":240.09582063992303},{"$f":"-AT15","v":226.42201158898803}]
[null,null,null,null,"Post-TIM overspend (underspend)",null,"£m 18/19 prices",null,null,null,null,null,null,null,null,null,null,null,null,null,null,null,null,null,null,null,null,null,null,null,null,null,null,null,null,null,null,null,null,null,null,{"$f":"AP20","v":0},{"$f":"AQ20","v":0},{"$f":"AR20","v":0},{"$f":"AS20","v":0},{"$f":"AT20","v":0}]
[null,null,null,null,"Post-TIM totex",null,"£m 18/19 prices",null,null,null,null,null,null,null,null,null,null,null,null,null,null,null,null,null,null,null,null,null,null,null,null,null,null,null,null,null,null,null,null,null,null,{"$f":"SUM(AP37:AP38)","v":302.12112555097468},417.26059229970679,427.01226883715321,240.09582063992303,226.42201158898803]
[]
[null,null,null,"Capitalisation 2 totex"]
[]
[null,null,null,null,"Allowed totex",null,"£m 18/19 prices",null,null,null,null,null,null,null,null,null,null,null,null,null,null,null,null,null,null,null,null,null,null,null,null,null,null,null,null,null,null,null,null,null,null,{"$f":"-AP25","v":0},{"$f":"-AQ25","v":0},{"$f":"-AR25","v":0},{"$f":"-AS25","v":0},{"$f":"-AT25","v":0}]
[null,null,null,null,"Post-TIM overspend (underspend)",null,"£m 18/19 prices",null,null,null,null,null,null,null,null,null,null,null,null,null,null,null,null,null,null,null,null,null,null,null,null,null,null,null,null,null,null,null,null,null,null,{"$f":"AP30","v":0},{"$f":"AQ30","v":0},{"$f":"AR30","v":0},{"$f":"AS30","v":0},{"$f":"AT30","v":0}]
[null,null,null,null,"Post-TIM totex",null,"£m 18/19 prices",null,null,null,null,null,null,null,null,null,null,null,null,null,null,null,null,null,null,null,null,null,null,null,null,null,null,null,null,null,null,null,null,null,null,{"$f":"SUM(AP43:AP44)","v":0},0,0,0,0]
[]
[null,"Capitalisation"]
[null,"Note: Non-'uncertainty rate' totex and 'uncertainty rate' totex are capitalised separately. Post-TIM totex is allocated into \"fast\" and \"slow\" elements based on a pre-set percentage split:"]
[null,"- \"fast money \" is exported to the \"Revenue\" sheet where it is included as an element of \"recalculated base revenue;\" and"]
[null,"- \"slow money \" is exported to the \"Depn\" sheet where it is added to RAV. Slow money is recovered over the life of the RAV through regulatory depreciation and return allowances."]
[]
[null,null,"Separate capitalisation"]
[]
[null,null,null,"Capitalisation 1 totex"]
[]
[null,null,null,null,"Post-TIM totex",null,"£m 18/19 prices",null,null,null,null,null,null,null,null,null,null,null,null,null,null,null,null,null,null,null,null,null,null,null,null,null,null,null,null,null,null,null,null,null,null,{"$f":"AP39","v":302.12112555097468},{"$f":"AQ39","v":417.26059229970679},{"$f":"AR39","v":427.01226883715321},{"$f":"AS39","v":240.09582063992303},{"$f":"AT39","v":226.42201158898803}]
[null,null,null,null,"Capitalisation rate 1",null,"%",null,null,null,null,null,null,null,null,null,null,null,null,null,null,null,null,null,null,null,null,null,null,null,null,null,null,null,null,null,null,null,null,null,null,{"$f":"Input!AP254","v":0.65},{"$f":"Input!AQ254","v":0.65},{"$f":"Input!AR254","v":0.65},{"$f":"Input!AS254","v":0.65},{"$f":"Input!AT254","v":0.65}]
[null,null,null,null,"Fast pot expenditure",null,"£m 18/19 prices",null,null,null,null,null,null,null,null,null,null,null,null,null,null,null,null,null,null,null,null,null,null,null,null,null,null,null,null,null,null,null,null,null,null,{"$f":"AP56-AP59","v":105.74239394284112},146.04120730489734,149.45429409300363,84.03353722397307,79.247704056145807]
[null,null,null,null,"Slow pot expenditure",null,"£m 18/19 prices",null,null,null,null,null,null,null,null,null,null,null,null,null,null,null,null,null,null,null,null,null,null,null,null,null,null,null,null,null,null,null,null,null,null,{"$f":"AP56 * AP57","v":196.37873160813356},271.21938499480945,277.55797474414959,156.06228341594996,147.17430753284222]
[]
[null,null,null,"Capitalisation 2 totex"]
[]
[null,null,null,null,"Post-TIM totex",null,"£m 18/19 prices",null,null,null,null,null,null,null,null,null,null,null,null,null,null,null,null,null,null,null,null,null,null,null,null,null,null,null,null,null,null,null,null,null,null,{"$f":"AP45","v":0},{"$f":"AQ45","v":0},{"$f":"AR45","v":0},{"$f":"AS45","v":0},{"$f":"AT45","v":0}]
[null,null,null,null,"Capitalisation rate 2",null,"%",null,null,null,null,null,null,null,null,null,null,null,null,null,null,null,null,null,null,null,null,null,null,null,null,null,null,null,null,null,null,null,null,null,null,{"$f":"Input!AP255","v":0.75},{"$f":"Input!AQ255","v":0.75},{"$f":"Input!AR255","v":0.75},{"$f":"Input!AS255","v":0.75},{"$f":"Input!AT255","v":0.75}]
[null,null,null,null,"Fast pot expenditure",null,"£m 18/19 prices",null,null,null,null,null,null,null,null,null,null,null,null,null,null,null,null,null,null,null,null,null,null,null,null,null,null,null,null,null,null,null,null,null,null,{"$f":"AP63 - AP66","v":0},0,0,0,0]
[null,null,null,null,"Slow pot expenditure",null,"£m 18/19 prices",null,null,null,null,null,null,null,null,null,null,null,null,null,null,null,null,null,null,null,null,null,null,null,null,null,null,null,null,null,null,null,null,null,null,{"$f":"AP63 * AP64","v":0},0,0,0,0]
[]
[null,null,"Totex"]
[]
[null,null,null,null,"Fast pot expenditure",null,"£m 18/19 prices",null,null,null,null,null,null,null,null,null,null,null,null,null,null,null,null,null,null,null,null,null,null,null,null,null,null,null,null,null,null,null,null,null,null,{"$f":"AP58+AP65","v":105.74239394284112},{"$f":"AQ58+AQ65","v":146.04120730489734},149.45429409300363,84.03353722397307,79.247704056145807]
[]
[null,null,null,null,"Slow pot expenditure",null,"£m 18/19 prices",null,null,null,null,null,null,null,null,null,null,null,null,null,null,null,null,null,null,null,null,null,null,null,null,null,null,null,null,null,null,null,null,null,null,{"$f":"AP59+AP66","v":196.37873160813356},{"$f":"AQ59+AQ66","v":271.21938499480945},277.55797474414959,156.06228341594996,147.17430753284222]
[]
[null,"End of sheet"]

{"sheet":"Depn","index":5,"n_rows":288,"n_cols":48,"rows_kept":288,"cut":false,"hidden":false,"merged":[]}
["Regulatory Depreciation"]
[null,{"$f":"UserInterface!G17","v":"NGGT TO"}]
[null,null,null,null,"Parameter",null,"Units",null,"Constant",null,null,null,null,null,null,null,null,null,null,null,null,null,null,null,null,null,null,null,null,null,null,null,null,null,null,null,null,null,null,null,null,"Annual values"]
[null,null,null,null,"PCFM year ending",{"$f":"Cover!C4","v":"Model Version"},null,null,{"$f":"UserInterface!$G$10","v":"2022-03-31"},null,"1991-03-31","1992-03-31","1993-03-31","1994-03-31","1995-03-31","1996-03-31","1997-03-31","1998-03-31","1999-03-31","2000-03-31","2001-03-31","2002-03-31","2003-03-31","2004-03-31","2005-03-31","2006-03-31","2007-03-31","2008-03-31","2009-03-31","2010-03-31","2011-03-31","2012-03-31","2013-03-31","2014-03-31","2015-03-31","2016-03-31","2017-03-31","2018-03-31","2019-03-31","2020-03-31","2021-03-31","2022-03-31","2023-03-31","2024-03-31","2025-03-31","2026-03-31"]
[]
[null,"Regulatory depreciation"]
[]
[null,null,"Net RAV additions (after disposals)"]
[null,null,"Note: Additions to RAV are combined before feeding into the depreciation calculations. Disposals are treated as negative additions. Pre-RIIO values are used to build up the post-vesting RAV from vesting."]
[null,null,"Logged-up and security costs are retrospectively added to RAV to provide the updated opening RAV and align depreciation with expenditure."]
[]
[null,null,null,null,"Slow money",null,"£m 18/19 prices",null,null,null,null,null,null,null,null,null,null,null,null,null,null,null,null,null,null,null,null,null,null,null,null,null,null,null,null,null,null,null,null,null,null,{"$f":"TIM!AP59 + TIM!AP66","v":196.37873160813356},{"$f":"TIM!AQ59 + TIM!AQ66","v":271.21938499480945},{"$f":"TIM!AR59 + TIM!AR66","v":277.55797474414959},{"$f":"TIM!AS59 + TIM!AS66","v":156.06228341594996},{"$f":"TIM!AT59 + TIM!AT66","v":147.17430753284222}]
[null,null,null,null,"RIIO-1 net RAV additions",null,"£m 18/19 prices",null,null,">",null,null,null,null,null,null,null,null,null,null,null,null,null,null,null,null,null,null,null,null,null,null,null,{"$f":"Input!AH525","v":212.5523707516233},{"$f":"Input!AI525","v":170.28866360126466},{"$f":"Input!AJ525","v":160.76820306435465},{"$f":"Input!AK525","v":181.59587737509875},{"$f":"Input!AL525","v":245.9491647431349},{"$f":"Input!AM525","v":229.32945839854813},{"$f":"Input!AN525","v":174.25903562198178},{"$f":"Input!AO525","v":149.34140951034567}]
[null,null,null,null,"Net adjustments",null,"£m 18/19 prices",null,null,null,null,null,null,null,null,null,null,null,null,null,null,null,null,null,null,null,null,null,null,null,null,null,null,null,null,null,null,null,null,null,null,{"$f":"SUM(Input!AP526:AP527)","v":0},{"$f":"SUM(Input!AQ526:AQ527)","v":0},{"$f":"SUM(Input!AR526:AR527)","v":0},{"$f":"SUM(Input!AS526:AS527)","v":0},{"$f":"SUM(Input!AT526:AT527)","v":0}]
[null,null,null,null,"Pre-RIIO net RAV additions (after disposals)",null,"£m 18/19 prices",null,null,">",{"$f":"Input!K523","v":0},{"$f":"Input!L523","v":0},{"$f":"Input!M523","v":0},{"$f":"Input!N523","v":0},{"$f":"Input!O523","v":0},{"$f":"Input!P523","v":0},{"$f":"Input!Q523","v":0},{"$f":"Input!R523","v":0},{"$f":"Input!S523","v":0},{"$f":"Input!T523","v":0},{"$f":"Input!U523","v":0},{"$f":"Input!V523","v":0},{"$f":"Input!W523","v":0},{"$f":"Input!X523","v":393.04743989015134},{"$f":"Input!Y523","v":126.55198202648761},{"$f":"Input!Z523","v":393.92016193807626},{"$f":"Input!AA523","v":710.49491725889584},{"$f":"Input!AB523","v":769.15750254958812},{"$f":"Input!AC523","v":325.33393765506702},{"$f":"Input!AD523","v":161.75873847786809},{"$f":"Input!AE523","v":131.2813581348754},{"$f":"Input!AF523","v":132.7730693259773},{"$f":"Input!AG523","v":-37.765799609948715}]
[null,null,null,null,"Net RAV additions (after disposals)",null,"£m 18/19 prices",null,null,">",{"$f":"SUM(K12:K15)","v":0},0,0,0,0,0,0,0,0,0,0,0,0,393.04743989015134,126.55198202648761,393.92016193807626,710.49491725889584,769.15750254958812,325.33393765506702,161.75873847786809,131.2813581348754,132.7730693259773,-37.765799609948715,212.5523707516233,170.28866360126466,160.76820306435465,181.59587737509875,245.9491647431349,229.32945839854813,174.25903562198178,149.34140951034567,196.37873160813356,271.21938499480945,277.55797474414959,156.06228341594996,147.17430753284222]
[]
[null,null,"Net depreciation additions (after disposals)"]
[null,null,"Note:"]
[]
[null,null,null,null,"Pre-RIIO transfers to depreciation",null,"£m 18/19 prices",null,null,">",{"$f":"Input!K524","v":0},{"$f":"Input!L524","v":0},{"$f":"Input!M524","v":0},{"$f":"Input!N524","v":0},{"$f":"Input!O524","v":0},{"$f":"Input!P524","v":0},{"$f":"Input!Q524","v":0},{"$f":"Input!R524","v":0},{"$f":"Input!S524","v":0},{"$f":"Input!T524","v":0},{"$f":"Input!U524","v":0},{"$f":"Input!V524","v":0},{"$f":"Input!W524","v":0},{"$f":"Input!X524","v":4.4778418554348551},{"$f":"Input!Y524","v":0},{"$f":"Input!Z524","v":0},{"$f":"Input!AA524","v":0},{"$f":"Input!AB524","v":0},{"$f":"Input!AC524","v":0},{"$f":"Input!AD524","v":0},{"$f":"Input!AE524","v":0},{"$f":"Input!AF524","v":0},{"$f":"Input!AG524","v":-10.913615148116421}]
[]
[null,null,"Pre-vesting depreciation"]
[null,null,"Note: The following depreciation factor is used to depreciate the pre-vesting balance on the \"Return&RAV\" sheet."]
[]
[null,null,null,null,"Pre-vesting asset life",null,"years",null,{"$f":"Input!I508","v":56}]
[null,null,null,null,"Sum of digits",null,"integer",null,{"$f":"I26 * (1 + I26) / 2","v":1596}]
[null,null,null,null,"Years of pre-vesting depreciation remaining",null,"years",null,null,null,null,null,null,null,null,null,null,null,null,null,null,null,null,null,null,null,null,null,null,null,null,null,null,{"$f":"Input!AH510","v":45},{"$f":"Input!AI510","v":44},{"$f":"Input!AJ510","v":43},{"$f":"Input!AK510","v":42},{"$f":"Input!AL510","v":41},{"$f":"Input!AM510","v":40},{"$f":"Input!AN510","v":39},{"$f":"Input!AO510","v":38},{"$f":"Input!AP510","v":37},{"$f":"Input!AQ510","v":36},{"$f":"Input!AR510","v":35},{"$f":"Input!AS510","v":34},{"$f":"Input!AT510","v":33}]
[]
[null,null,null,null,"Pre-vesting straight line depreciation factor",null,"scalar",null,null,null,null,null,null,null,null,null,null,null,null,null,null,null,null,null,null,null,null,null,null,null,null,null,null,{"$f":"AH28 / $I27","v":2.819548872180451E-2},{"$f":"AI28 / $I27","v":2.7568922305764409E-2},2.6942355889724309E-2,2.6315789473684209E-2,2.5689223057644109E-2,2.5062656641604009E-2,2.4436090225563908E-2,2.3809523809523808E-2,{"$f":"AP28 / $I27","v":2.3182957393483708E-2},2.2556390977443608E-2,2.1929824561403508E-2,2.1303258145363407E-2,2.0676691729323307E-2]
[]
[null,null,"Post-vesting depreciation - sum of digits"]
[]
[null,null,null,"Depreciation parameters"]
[]
[null,null,null,null,"Post-vesting asset life, sum of digits",null,"years",null,{"$f":"Input!I518","v":45}]
[null,null,null,null,"Sum of digits",null,"integer",null,{"$f":"I36 * (1 + I36) / 2","v":1035}]
[]
[null,null,null,null,"First year sum of digits depreciation (applied retrospectively to existing assets)",null,"year ending",null,{"$f":"Input!I519","v":"2003-03-31"}]
[null,null,null,null,"First year of application to new assets, start of recovery period",null,"year ending",null,{"$f":"Input!I520","v":"2022-03-31"}]
[null,null,null,null,"Existing assets differential depreciation recovery period",null,"years",null,{"$f":"Input!I521","v":20}]
[null,null,null,null,"Last year differential depreciation recovery",null,"year ending",null,{"$f":"DATE(YEAR(I40) + I41 - 1, MONTH(I40), DAY(I40))","v":"2041-03-31"}]
[]
[null,null,null,null,"Sum of digits depreciation applies (new assets)",null,"text",null,null,">",null,{"$f":"L$4 >= $I$40","v":false},{"$f":"M$4 >= $I$40","v":false},false,false,false,false,false,false,false,false,false,false,false,false,false,false,false,false,false,false,false,false,false,false,false,false,false,false,false,false,true,true,true,true,true]
[]
[null,null,null,"Depreciation schedule"]
[]
[null,null,null,null,"Depreciation of additions from year ending",null,null,null,"Net additions (sum of digits)",null,null,null,null,null,null,null,null,null,null,null,null,null,null,null,null,null,null,null,null,null,null,null,null,null,null,null,null,null,null,null,null,null,null,null,null,null,null,"Sum of digits depreciation applies (existing assets)"]
[null,null,null,null,"1991-03-31",null,"£m 18/19 prices",null,{"$f":"INDEX($K$16:$AT$16, MATCH($E49, $K$4:$AT$4, 0)) * ($E49 >= $I$39)","v":0},">",null,{"$f":"($I49 * ($I$36 - (YEAR(L$4) - (YEAR($E49) + 1))) / $I$37) * (YEAR(L$4) >= YEAR($E49) + 1) * (YEAR(L$4) <= YEAR($E49) + $I$36)","v":0},{"$f":"($I49 * ($I$36 - (YEAR(M$4) - (YEAR($E49) + 1))) / $I$37) * (YEAR(M$4) >= YEAR($E49) + 1) * (YEAR(M$4) <= YEAR($E49) + $I$36)","v":0},0,0,0,0,0,0,0,0,0,0,0,0,0,0,0,{"$f":"($I49 * ($I$36 - (YEAR(AC$4) - (YEAR($E49) + 1))) / $I$37) * (YEAR(AC$4) >= YEAR($E49) + 1) * (YEAR(AC$4) <= YEAR($E49) + $I$36)","v":0},0,0,0,0,0,0,0,0,0,0,0,0,0,0,0,{"$f":"($I49 * ($I$36 - (YEAR(AS$4) - (YEAR($E49) + 1))) / $I$37) * (YEAR(AS$4) >= YEAR($E49) + 1) * (YEAR(AS$4) <= YEAR($E49) + $I$36)","v":0},0,null,{"$f":"$E49 >= $I$39","v":false}]
[null,null,null,null,"1992-03-31",null,"£m 18/19 prices",null,{"$f":"INDEX($K$16:$AT$16, MATCH($E50, $K$4:$AT$4, 0)) * ($E50 >= $I$39)","v":0},">",null,{"$f":"($I50 * ($I$36 - (YEAR(L$4) - (YEAR($E50) + 1))) / $I$37) * (YEAR(L$4) >= YEAR($E50) + 1) * (YEAR(L$4) <= YEAR($E50) + $I$36)","v":0},0,0,0,0,0,0,0,0,0,0,0,0,0,0,0,0,0,0,0,0,0,0,0,0,0,0,0,0,0,0,0,0,0,0,null,{"$f":"$E50 >= $I$39","v":false}]
[null,null,null,null,"1993-03-31",null,"£m 18/19 prices",null,0,">",null,0,0,0,0,0,0,0,0,0,0,0,0,0,0,0,0,0,0,0,0,0,0,0,0,0,0,0,0,0,0,0,0,0,0,0,null,false]
[null,null,null,null,"1994-03-31",null,"£m 18/19 prices",null,0,">",null,0,0,0,0,0,0,0,0,0,0,0,0,0,0,0,0,0,0,0,0,0,0,0,0,0,0,0,0,0,0,0,0,0,0,0,null,false]
[null,null,null,null,"1995-03-31",null,"£m 18/19 prices",null,0,">",null,0,0,0,0,0,0,0,0,0,0,0,0,0,0,0,0,0,0,0,0,0,0,0,0,0,0,0,0,0,0,0,0,0,0,0,null,false]
[null,null,null,null,"1996-03-31",null,"£m 18/19 prices",null,0,">",null,0,0,0,0,0,0,0,0,0,0,0,0,0,0,0,0,0,0,0,0,0,0,0,0,0,0,0,0,0,0,0,0,0,0,0,null,false]
[null,null,null,null,"1997-03-31",null,"£m 18/19 prices",null,0,">",null,0,0,0,0,0,0,0,0,0,0,0,0,0,0,0,0,0,0,0,0,0,0,0,0,0,0,0,0,0,0,0,0,0,0,0,null,false]
[null,null,null,null,"1998-03-31",null,"£m 18/19 prices",null,0,">",null,0,0,0,0,0,0,0,0,0,0,0,0,0,0,0,0,0,0,0,0,0,0,0,0,0,0,0,0,0,0,0,0,0,0,0,null,false]
[null,null,null,null,"1999-03-31",null,"£m 18/19 prices",null,0,">",null,0,0,0,0,0,0,0,0,0,0,0,0,0,0,0,0,0,0,0,0,0,0,0,0,0,0,0,0,0,0,0,0,0,0,0,null,false]
[null,null,null,null,"2000-03-31",null,"£m 18/19 prices",null,0,">",null,0,0,0,0,0,0,0,0,0,0,0,0,0,0,0,0,0,0,0,0,0,0,0,0,0,0,0,0,0,0,0,0,0,0,0,null,false]
[null,null,null,null,"2001-03-31",null,"£m 18/19 prices",null,0,">",null,0,0,0,0,0,0,0,0,0,0,0,0,0,0,0,0,0,0,0,0,0,0,0,0,0,0,0,0,0,0,0,0,0,0,0,null,false]
[null,null,null,null,"2002-03-31",null,"£m 18/19 prices",null,0,">",null,0,0,0,0,0,0,0,0,0,0,0,0,0,0,0,0,0,0,0,0,0,0,0,0,0,0,0,0,0,0,0,0,0,0,0,null,false]
[null,null,null,null,"2003-03-31",null,"£m 18/19 prices",null,0,">",null,0,0,0,0,0,0,0,0,0,0,0,0,0,0,0,0,0,0,0,0,0,0,0,0,0,0,0,0,0,0,0,0,0,0,0,null,true]
[null,null,null,null,"2004-03-31",null,"£m 18/19 prices",null,393.04743989015134,">",null,0,0,0,0,0,0,0,0,0,0,0,0,0,17.089019125658751,16.70926314508856,16.329507164518365,15.94975118394817,15.569995203377976,15.190239222807781,14.810483242237586,14.430727261667391,14.050971281097198,13.671215300527004,13.291459319956809,12.911703339386614,12.531947358816419,12.152191378246226,11.772435397676031,11.392679417105835,11.01292343653564,10.633167455965447,10.253411475395252,9.8736554948250586,9.4938995142548634,9.1141435336846683,null,true]
[null,null,null,null,"2005-03-31",null,"£m 18/19 prices",null,126.55198202648761,">",null,0,0,0,0,0,0,0,0,0,0,0,0,0,0,5.5022600881081569,5.3799876417057533,5.2577151953033496,5.135442748900946,5.0131703024985432,4.8908978560961387,4.7686254096937359,4.6463529632913323,4.5240805168889286,4.401808070486525,4.2795356240841222,4.1572631776817177,4.034990731279315,3.9127182848769113,3.7904458384745081,3.6681733920721045,3.5459009456697008,3.4236284992672976,3.301356052864894,3.1790836064624903,3.0568111600600871,null,true]
[null,null,null,null,"2006-03-31",null,"£m 18/19 prices",null,393.92016193807626,">",null,0,0,0,0,0,0,0,0,0,0,0,0,0,0,0,17.126963562525056,{"$f":"($I64 * ($I$36 - (YEAR(AB$4) - (YEAR($E64) + 1))) / $I$37) * (YEAR(AB$4) >= YEAR($E64) + 1) * (YEAR(AB$4) <= YEAR($E64) + $I$36)","v":16.74636437224672},16.365765181968385,15.985165991690049,15.604566801411718,15.223967611133382,14.843368420855047,14.462769230576713,14.082170040298378,13.701570850020044,13.32097165974171,12.940372469463375,12.559773279185041,12.179174088906706,11.79857489862837,11.417975708350037,11.037376518071701,{"$f":"($I64 * ($I$36 - (YEAR(AR$4) - (YEAR($E64) + 1))) / $I$37) * (YEAR(AR$4) >= YEAR($E64) + 1) * (YEAR(AR$4) <= YEAR($E64) + $I$36)","v":10.656777327793366},10.276178137515034,9.8955789472366984,null,true]
[null,null,null,null,"2007-03-31",null,"£m 18/19 prices",null,710.49491725889584,">",null,0,0,0,0,0,0,0,0,0,0,0,0,0,0,0,0,30.89108335908243,30.204614839991706,29.518146320900986,28.831677801810269,28.145209282719545,27.458740763628825,26.772272244538105,26.085803725447381,25.399335206356664,24.712866687265944,24.02639816817522,23.339929649084503,22.653461129993783,21.966992610903059,21.280524091812339,20.594055572721615,19.907587053630898,19.221118534540178,18.534650015449454,null,true]
[null,null,null,null,"2008-03-31",null,"£m 18/19 prices",null,769.15750254958812,">",null,{"$f":"($I66 * ($I$36 - (YEAR(L$4) - (YEAR($E66) + 1))) / $I$37) * (YEAR(L$4) >= YEAR($E66) + 1) * (YEAR(L$4) <= YEAR($E66) + $I$36)","v":0},0,0,0,0,0,0,0,0,0,0,0,0,0,0,0,0,33.441630545634261,32.69848320017573,31.955335854717188,31.212188509258649,30.46904116380011,29.725893818341568,28.982746472883029,28.239599127424491,27.496451781965952,26.75330443650741,26.010157091048871,25.267009745590332,24.523862400131794,23.780715054673255,23.037567709214716,22.294420363756178,21.551273018297639,20.8081256728391,null,true]
[null,null,null,null,"2009-03-31",null,"£m 18/19 prices",null,325.33393765506702,">",null,0,0,0,0,0,0,0,0,0,0,0,0,0,0,0,0,0,0,14.14495381108987,13.830621504176763,13.516289197263653,13.201956890350546,12.887624583437438,12.573292276524329,12.258959969611222,11.944627662698112,11.630295355785004,11.315963048871897,11.001630741958788,10.68729843504568,10.372966128132571,10.058633821219463,9.7443015143063558,9.4299692073932473,9.1156369004801387,null,true]
[null,null,null,null,"2010-03-31",null,"£m 18/19 prices",null,161.75873847786809,">",null,0,0,0,0,0,0,0,0,0,0,0,0,0,0,0,0,0,0,0,7.0329886294725252,6.876699993262025,6.7204113570515247,6.5641227208410236,6.4078340846305233,6.251545448420023,6.0952568122095219,5.9389681759990216,5.7826795397885213,5.6263909035780202,5.4701022673675199,5.3138136311570197,5.1575249949465185,5.0012363587360182,4.844947722525518,4.6886590863150168,null,true]
[null,null,null,null,"2011-03-31",null,"£m 18/19 prices",null,131.2813581348754,">",null,0,0,0,0,0,0,0,0,0,0,0,0,0,0,0,0,0,0,0,0,5.7078851362989305,5.5810432443811759,5.4542013524634232,5.3273594605456687,5.200517568627915,5.0736756767101605,4.946833784792406,4.8199918928746524,4.6931500009568978,4.5663081090391451,4.4394662171213906,4.3126243252036369,4.1857824332858824,4.0589405413681288,3.9320986494503742,null,true]
[null,null,null,null,"2012-03-31",null,"£m 18/19 prices",null,132.7730693259773,">",null,0,0,0,0,0,0,0,0,0,0,0,0,0,0,0,0,0,0,0,0,0,5.772742144607709,5.6444589858386482,5.5161758270695884,5.3878926683005286,5.2596095095314679,5.1313263507624081,5.0030431919933473,4.8747600332242875,4.7464768744552277,4.618193715686167,4.4899105569171072,4.3616273981480465,4.2333442393789866,4.1050610806099259,null,true]
[null,null,null,null,"2013-03-31",null,"£m 18/19 prices",null,-37.765799609948715,">",null,0,0,0,0,0,0,0,0,0,0,0,0,0,0,0,0,0,0,0,0,0,0,-1.6419912873890745,-1.6055025921137618,-1.5690138968384491,-1.5325252015631363,-1.4960365062878236,-1.4595478110125106,-1.4230591157371979,-1.3865704204618852,-1.3500817251865724,-1.3135930299112597,-1.2771043346359467,-1.2406156393606342,-1.2041269440853215,null,true]
[null,null,null,null,"2014-03-31",null,"£m 18/19 prices",null,212.5523707516233,">",null,0,0,0,0,0,0,0,0,0,0,0,0,0,0,0,0,0,0,0,0,0,0,0,9.2414074239836221,9.0360428145617639,8.8306782051399058,8.6253135957180476,8.4199489862961876,8.2145843768743312,8.0092197674524712,7.8038551580306139,7.5984905486087557,7.3931259391868975,7.1877613297650393,6.9823967203431803,null,true]
[null,null,null,null,"2015-03-31",null,"£m 18/19 prices",null,170.28866360126466,">",null,0,0,0,0,0,0,0,0,0,0,0,0,0,0,0,0,0,0,0,0,0,0,0,0,7.4038549391854191,7.239324829425744,7.0747947196660679,6.9102646099063918,6.7457345001467166,6.5812043903870405,6.4166742806273636,6.2521441708676875,6.0876140611080123,5.9230839513483362,5.7585538415886601,null,true]
[null,null,null,null,"2016-03-31",null,"£m 18/19 prices",null,160.76820306435465,">",null,0,0,0,0,0,0,0,0,0,0,0,0,0,0,0,0,0,0,0,0,0,0,0,0,0,6.9899218723632455,6.8345902751996181,6.6792586780359899,6.5239270808723626,6.3685954837087353,6.2132638865451071,6.0579322893814798,5.9026006922178524,5.7472690950542242,5.591937497890596,null,true]
[null,null,null,null,"2017-03-31",null,"£m 18/19 prices",null,181.59587737509875,">",null,0,0,0,0,0,0,0,0,0,0,0,0,0,0,0,0,0,0,0,0,0,0,0,0,0,0,7.8954729293521195,7.7200179753665177,7.5445630213809141,7.3691080673953113,7.1936531134097086,7.0181981594241067,6.842743205438504,6.6672882514529004,6.4918332974672985,null,true]
[null,null,null,null,"2018-03-31",null,"£m 18/19 prices",null,245.9491647431349,">",null,0,0,0,0,0,0,0,0,0,0,0,0,0,0,0,0,0,0,0,0,0,0,0,0,0,0,0,10.69344194535369,10.45580990212361,10.218177858893528,9.9805458156634455,9.7429137724333632,9.505281729203281,9.2676496859731987,9.0300176427431165,null,true]
[null,null,null,null,"2019-03-31",null,"£m 18/19 prices",null,229.32945839854813,">",null,0,0,0,0,0,0,0,0,0,0,0,0,0,0,0,0,0,0,0,0,0,0,0,0,0,0,0,0,9.9708460173281797,9.749271661387553,9.5276973054469281,9.3061229495063014,9.0845485935656747,8.862974237625048,8.6413998816844213,null,true]
[null,null,null,null,"2020-03-31",null,"£m 18/19 prices",null,174.25903562198178,">",null,0,0,0,0,0,0,0,0,0,0,0,0,0,0,0,0,0,0,0,0,0,0,0,0,0,0,0,0,0,7.5764798096513815,7.408113591659129,7.2397473736668765,7.0713811556746231,6.9030149376823697,6.7346487196901172,null,true]
[null,null,null,null,"2021-03-31",null,"£m 18/19 prices",null,149.34140951034567,">",null,0,0,0,0,0,0,0,0,0,0,0,0,0,0,0,0,0,0,0,0,0,0,0,0,0,0,0,0,0,0,6.4931047613193771,6.3488135444011684,6.2045223274829597,6.0602311105647519,5.9159398936465433,null,true]
[null,null,null,null,"2022-03-31",null,"£m 18/19 prices",null,196.37873160813356,">",null,0,0,0,0,0,0,0,0,0,0,0,0,0,0,0,0,{"$f":"($I80 * ($I$36 - (YEAR(AB$4) - (YEAR($E80) + 1))) / $I$37) * (YEAR(AB$4) >= YEAR($E80) + 1) * (YEAR(AB$4) <= YEAR($E80) + $I$36)","v":0},0,0,0,0,0,0,0,0,0,0,0,0,0,0,8.5382057220927638,8.3484678171573687,8.1587299122219736,7.9689920072865785,null,true]
[null,null,null,null,"2023-03-31",null,"£m 18/19 prices",null,271.21938499480945,">",null,0,0,0,0,0,0,0,0,0,0,0,0,0,0,0,{"$f":"($I81 * ($I$36 - (YEAR(AA$4) - (YEAR($E81) + 1))) / $I$37) * (YEAR(AA$4) >= YEAR($E81) + 1) * (YEAR(AA$4) <= YEAR($E81) + $I$36)","v":0},0,0,0,0,0,0,0,0,0,0,0,0,0,0,0,0,11.792147173687368,11.530099458716537,11.268051743745707,null,true]
[null,null,null,null,"2024-03-31",null,"£m 18/19 prices",null,277.55797474414959,">",null,{"$f":"($I82 * ($I$36 - (YEAR(L$4) - (YEAR($E82) + 1))) / $I$37) * (YEAR(L$4) >= YEAR($E82) + 1) * (YEAR(L$4) <= YEAR($E82) + $I$36)","v":0},0,0,0,0,0,0,0,0,0,0,0,0,0,0,0,0,0,0,0,0,0,0,0,0,0,0,0,0,0,0,0,0,12.067738032354331,11.79956607607979,null,true]
[null,null,null,null,"2025-03-31",null,"£m 18/19 prices",null,156.06228341594996,">",null,0,0,0,0,0,0,0,0,0,0,0,0,0,0,0,0,0,0,0,0,0,0,0,0,0,0,0,0,0,0,0,0,0,0,6.7853166702586947,null,true]
[null,null,null,null,"2026-03-31",null,"£m 18/19 prices",null,147.17430753284222]
[null,null,null,null,"Total",null,"£m 18/19 prices",null,null,null,null,{"$f":"SUM(L49:L84)","v":0},0,0,0,0,0,0,0,0,0,0,0,0,17.089019125658751,22.211523233196715,38.836458368749177,68.844914110580675,100.71744851987327,112.55015884916295,116.9565716899222,119.88159240129731,122.74462822906347,118.06464746606379,124.30455410971209,128.50154365914034,132.12007003198678,136.48881586465842,143.48007575934605,149.51110768277806,152.92619904259269,155.08954913608304,159.15370897342854,166.28207235743329,173.42397888513415,{"$f":"SUM(AT49:AT84)","v":175.01529209446483}]
[]
[]
[null,null,"Post-vesting depreciation - straight line"]
[]
[null,null,null,"Depreciation parameters"]
[]
[null,null,null,null,"Post-vesting asset life, straight line",null,"years",null,null,">",{"$f":"Input!K515","v":45},{"$f":"Input!L515","v":45},{"$f":"Input!M515","v":45},{"$f":"Input!N515","v":45},{"$f":"Input!O515","v":45},{"$f":"Input!P515","v":45},{"$f":"Input!Q515","v":45},{"$f":"Input!R515","v":45},{"$f":"Input!S515","v":45},{"$f":"Input!T515","v":45},{"$f":"Input!U515","v":45},{"$f":"Input!V515","v":45},{"$f":"Input!W515","v":45},{"$f":"Input!X515","v":45},{"$f":"Input!Y515","v":45},{"$f":"Input!Z515","v":45},{"$f":"Input!AA515","v":45},{"$f":"Input!AB515","v":45},{"$f":"Input!AC515","v":45},{"$f":"Input!AD515","v":45},{"$f":"Input!AE515","v":45},{"$f":"Input!AF515","v":45},{"$f":"Input!AG515","v":45},{"$f":"Input!AH515","v":45},{"$f":"Input!AI515","v":45},{"$f":"Input!AJ515","v":45},{"$f":"Input!AK515","v":45},{"$f":"Input!AL515","v":45},{"$f":"Input!AM515","v":45},{"$f":"Input!AN515","v":45},{"$f":"Input!AO515","v":45},{"$f":"Input!AP515","v":45},{"$f":"Input!AQ515","v":45},{"$f":"Input!AR515","v":45},{"$f":"Input!AS515","v":45},{"$f":"Input!AT515","v":45}]
[]
[null,null,null,null,"Straight line depreciation applies (new assets)",null,"text",null,null,">",null,{"$f":"L$4 < $I$40","v":true},{"$f":"M$4 < $I$40","v":true},true,true,true,true,true,true,true,true,true,true,true,true,true,true,true,true,true,true,true,true,true,true,true,true,true,true,true,true,false,false,false,false,false]
[]
[null,null,null,"Depreciation schedule"]
[]
[null,null,null,null,"Depreciation of additions from year ending",null,null,null,"Net additions (straight line)",null,null,null,null,null,null,null,null,null,null,null,null,null,null,null,null,null,null,null,null,null,null,null,null,null,null,null,null,null,null,null,null,null,null,null,null,null,null,"Straight line depreciation applies (existing assets)"]
[null,null,null,null,"1991-03-31",null,"£m 18/19 prices",null,{"$f":"INDEX($K$16:$AT$16, MATCH($E99, $K$4:$AT$4, 0)) * ($E99 < $I$40)","v":0},">",null,{"$f":"$I99/K$92","v":0},{"$f":"IF($I99 >0, MIN(L99,$I99-SUM($L99:L99)), MAX(L99,$I99-SUM($L99:L99)))","v":0},{"$f":"IF($I99 >0, MIN(M99,$I99-SUM($L99:M99)), MAX(M99,$I99-SUM($L99:M99)))","v":0},{"$f":"IF($I99 >0, MIN(N99,$I99-SUM($L99:N99)), MAX(N99,$I99-SUM($L99:N99)))","v":0},{"$f":"IF($I99 >0, MIN(O99,$I99-SUM($L99:O99)), MAX(O99,$I99-SUM($L99:O99)))","v":0},{"$f":"IF($I99 >0, MIN(P99,$I99-SUM($L99:P99)), MAX(P99,$I99-SUM($L99:P99)))","v":0},{"$f":"IF($I99 >0, MIN(Q99,$I99-SUM($L99:Q99)), MAX(Q99,$I99-SUM($L99:Q99)))","v":0},{"$f":"IF($I99 >0, MIN(R99,$I99-SUM($L99:R99)), MAX(R99,$I99-SUM($L99:R99)))","v":0},{"$f":"IF($I99 >0, MIN(S99,$I99-SUM($L99:S99)), MAX(S99,$I99-SUM($L99:S99)))","v":0},{"$f":"IF($I99 >0, MIN(T99,$I99-SUM($L99:T99)), MAX(T99,$I99-SUM($L99:T99)))","v":0},{"$f":"IF($I99 >0, MIN(U99,$I99-SUM($L99:U99)), MAX(U99,$I99-SUM($L99:U99)))","v":0},{"$f":"IF($I99 >0, MIN(V99,$I99-SUM($L99:V99)), MAX(V99,$I99-SUM($L99:V99)))","v":0},{"$f":"IF($I99 >0, MIN(W99,$I99-SUM($L99:W99)), MAX(W99,$I99-SUM($L99:W99)))","v":0},{"$f":"IF($I99 >0, MIN(X99,$I99-SUM($L99:X99)), MAX(X99,$I99-SUM($L99:X99)))","v":0},{"$f":"IF($I99 >0, MIN(Y99,$I99-SUM($L99:Y99)), MAX(Y99,$I99-SUM($L99:Y99)))","v":0},{"$f":"IF($I99 >0, MIN(Z99,$I99-SUM($L99:Z99)), MAX(Z99,$I99-SUM($L99:Z99)))","v":0},{"$f":"IF($I99 >0, MIN(AA99,$I99-SUM($L99:AA99)), MAX(AA99,$I99-SUM($L99:AA99)))","v":0},{"$f":"IF($I99 >0, MIN(AB99,$I99-SUM($L99:AB99)), MAX(AB99,$I99-SUM($L99:AB99)))","v":0},{"$f":"IF($I99 >0, MIN(AC99,$I99-SUM($L99:AC99)), MAX(AC99,$I99-SUM($L99:AC99)))","v":0},{"$f":"IF($I99 >0, MIN(AD99,$I99-SUM($L99:AD99)), MAX(AD99,$I99-SUM($L99:AD99)))","v":0},{"$f":"IF($I99 >0, MIN(AE99,$I99-SUM($L99:AE99)), MAX(AE99,$I99-SUM($L99:AE99)))","v":0},{"$f":"IF($I99 >0, MIN(AF99,$I99-SUM($L99:AF99)), MAX(AF99,$I99-SUM($L99:AF99)))","v":0},{"$f":"IF($I99 >0, MIN(AG99,$I99-SUM($L99:AG99)), MAX(AG99,$I99-SUM($L99:AG99)))","v":0},{"$f":"IF($I99 >0, MIN(AH99,$I99-SUM($L99:AH99)), MAX(AH99,$I99-SUM($L99:AH99)))","v":0},{"$f":"IF($I99 >0, MIN(AI99,$I99-SUM($L99:AI99)), MAX(AI99,$I99-SUM($L99:AI99)))","v":0},{"$f":"IF($I99 >0, MIN(AJ99,$I99-SUM($L99:AJ99)), MAX(AJ99,$I99-SUM($L99:AJ99)))","v":0},{"$f":"IF($I99 >0, MIN(AK99,$I99-SUM($L99:AK99)), MAX(AK99,$I99-SUM($L99:AK99)))","v":0},{"$f":"IF($I99 >0, MIN(AL99,$I99-SUM($L99:AL99)), MAX(AL99,$I99-SUM($L99:AL99)))","v":0},{"$f":"IF($I99 >0, MIN(AM99,$I99-SUM($L99:AM99)), MAX(AM99,$I99-SUM($L99:AM99)))","v":0},{"$f":"IF($I99 >0, MIN(AN99,$I99-SUM($L99:AN99)), MAX(AN99,$I99-SUM($L99:AN99)))","v":0},{"$f":"IF($I99 >0, MIN(AO99,$I99-SUM($L99:AO99)), MAX(AO99,$I99-SUM($L99:AO99)))","v":0},{"$f":"IF($I99 >0, MIN(AP99,$I99-SUM($L99:AP99)), MAX(AP99,$I99-SUM($L99:AP99)))","v":0},{"$f":"IF($I99 >0, MIN(AQ99,$I99-SUM($L99:AQ99)), MAX(AQ99,$I99-SUM($L99:AQ99)))","v":0},{"$f":"IF($I99 >0, MIN(AR99,$I99-SUM($L99:AR99)), MAX(AR99,$I99-SUM($L99:AR99)))","v":0},{"$f":"IF($I99 >0, MIN(AS99,$I99-SUM($L99:AS99)), MAX(AS99,$I99-SUM($L99:AS99)))","v":0},null,{"$f":"$E99 < $I$39","v":true}]
[null,null,null,null,"1992-03-31",null,"£m 18/19 prices",null,{"$f":"INDEX($K$16:$AT$16, MATCH($E100, $K$4:$AT$4, 0)) * ($E100 < $I$40)","v":0},">",null,null,{"$f":"$I100/L$92","v":0},{"$f":"IF($I100 >0, MIN(M100,$I100-SUM($L100:M100)), MAX(M100,$I100-SUM($L100:M100)))","v":0},{"$f":"IF($I100 >0, MIN(N100,$I100-SUM($L100:N100)), MAX(N100,$I100-SUM($L100:N100)))","v":0},{"$f":"IF($I100 >0, MIN(O100,$I100-SUM($L100:O100)), MAX(O100,$I100-SUM($L100:O100)))","v":0},{"$f":"IF($I100 >0, MIN(P100,$I100-SUM($L100:P100)), MAX(P100,$I100-SUM($L100:P100)))","v":0},{"$f":"IF($I100 >0, MIN(Q100,$I100-SUM($L100:Q100)), MAX(Q100,$I100-SUM($L100:Q100)))","v":0},{"$f":"IF($I100 >0, MIN(R100,$I100-SUM($L100:R100)), MAX(R100,$I100-SUM($L100:R100)))","v":0},{"$f":"IF($I100 >0, MIN(S100,$I100-SUM($L100:S100)), MAX(S100,$I100-SUM($L100:S100)))","v":0},{"$f":"IF($I100 >0, MIN(T100,$I100-SUM($L100:T100)), MAX(T100,$I100-SUM($L100:T100)))","v":0},{"$f":"IF($I100 >0, MIN(U100,$I100-SUM($L100:U100)), MAX(U100,$I100-SUM($L100:U100)))","v":0},{"$f":"IF($I100 >0, MIN(V100,$I100-SUM($L100:V100)), MAX(V100,$I100-SUM($L100:V100)))","v":0},{"$f":"IF($I100 >0, MIN(W100,$I100-SUM($L100:W100)), MAX(W100,$I100-SUM($L100:W100)))","v":0},{"$f":"IF($I100 >0, MIN(X100,$I100-SUM($L100:X100)), MAX(X100,$I100-SUM($L100:X100)))","v":0},{"$f":"IF($I100 >0, MIN(Y100,$I100-SUM($L100:Y100)), MAX(Y100,$I100-SUM($L100:Y100)))","v":0},{"$f":"IF($I100 >0, MIN(Z100,$I100-SUM($L100:Z100)), MAX(Z100,$I100-SUM($L100:Z100)))","v":0},{"$f":"IF($I100 >0, MIN(AA100,$I100-SUM($L100:AA100)), MAX(AA100,$I100-SUM($L100:AA100)))","v":0},{"$f":"IF($I100 >0, MIN(AB100,$I100-SUM($L100:AB100)), MAX(AB100,$I100-SUM($L100:AB100)))","v":0},{"$f":"IF($I100 >0, MIN(AC100,$I100-SUM($L100:AC100)), MAX(AC100,$I100-SUM($L100:AC100)))","v":0},{"$f":"IF($I100 >0, MIN(AD100,$I100-SUM($L100:AD100)), MAX(AD100,$I100-SUM($L100:AD100)))","v":0},{"$f":"IF($I100 >0, MIN(AE100,$I100-SUM($L100:AE100)), MAX(AE100,$I100-SUM($L100:AE100)))","v":0},{"$f":"IF($I100 >0, MIN(AF100,$I100-SUM($L100:AF100)), MAX(AF100,$I100-SUM($L100:AF100)))","v":0},{"$f":"IF($I100 >0, MIN(AG100,$I100-SUM($L100:AG100)), MAX(AG100,$I100-SUM($L100:AG100)))","v":0},{"$f":"IF($I100 >0, MIN(AH100,$I100-SUM($L100:AH100)), MAX(AH100,$I100-SUM($L100:AH100)))","v":0},{"$f":"IF($I100 >0, MIN(AI100,$I100-SUM($L100:AI100)), MAX(AI100,$I100-SUM($L100:AI100)))","v":0},{"$f":"IF($I100 >0, MIN(AJ100,$I100-SUM($L100:AJ100)), MAX(AJ100,$I100-SUM($L100:AJ100)))","v":0},{"$f":"IF($I100 >0, MIN(AK100,$I100-SUM($L100:AK100)), MAX(AK100,$I100-SUM($L100:AK100)))","v":0},{"$f":"IF($I100 >0, MIN(AL100,$I100-SUM($L100:AL100)), MAX(AL100,$I100-SUM($L100:AL100)))","v":0},{"$f":"IF($I100 >0, MIN(AM100,$I100-SUM($L100:AM100)), MAX(AM100,$I100-SUM($L100:AM100)))","v":0},{"$f":"IF($I100 >0, MIN(AN100,$I100-SUM($L100:AN100)), MAX(AN100,$I100-SUM($L100:AN100)))","v":0},{"$f":"IF($I100 >0, MIN(AO100,$I100-SUM($L100:AO100)), MAX(AO100,$I100-SUM($L100:AO100)))","v":0},{"$f":"IF($I100 >0, MIN(AP100,$I100-SUM($L100:AP100)), MAX(AP100,$I100-SUM($L100:AP100)))","v":0},{"$f":"IF($I100 >0, MIN(AQ100,$I100-SUM($L100:AQ100)), MAX(AQ100,$I100-SUM($L100:AQ100)))","v":0},{"$f":"IF($I100 >0, MIN(AR100,$I100-SUM($L100:AR100)), MAX(AR100,$I100-SUM($L100:AR100)))","v":0},{"$f":"IF($I100 >0, MIN(AS100,$I100-SUM($L100:AS100)), MAX(AS100,$I100-SUM($L100:AS100)))","v":0},null,{"$f":"$E100 < $I$39","v":true}]
[null,null,null,null,"1993-03-31",null,"£m 18/19 prices",null,0,">",null,null,null,{"$f":"$I101/M$92","v":0},{"$f":"IF($I101 >0, MIN(N101,$I101-SUM($L101:N101)), MAX(N101,$I101-SUM($L101:N101)))","v":0},{"$f":"IF($I101 >0, MIN(O101,$I101-SUM($L101:O101)), MAX(O101,$I101-SUM($L101:O101)))","v":0},{"$f":"IF($I101 >0, MIN(P101,$I101-SUM($L101:P101)), MAX(P101,$I101-SUM($L101:P101)))","v":0},{"$f":"IF($I101 >0, MIN(Q101,$I101-SUM($L101:Q101)), MAX(Q101,$I101-SUM($L101:Q101)))","v":0},{"$f":"IF($I101 >0, MIN(R101,$I101-SUM($L101:R101)), MAX(R101,$I101-SUM($L101:R101)))","v":0},{"$f":"IF($I101 >0, MIN(S101,$I101-SUM($L101:S101)), MAX(S101,$I101-SUM($L101:S101)))","v":0},{"$f":"IF($I101 >0, MIN(T101,$I101-SUM($L101:T101)), MAX(T101,$I101-SUM($L101:T101)))","v":0},{"$f":"IF($I101 >0, MIN(U101,$I101-SUM($L101:U101)), MAX(U101,$I101-SUM($L101:U101)))","v":0},{"$f":"IF($I101 >0, MIN(V101,$I101-SUM($L101:V101)), MAX(V101,$I101-SUM($L101:V101)))","v":0},{"$f":"IF($I101 >0, MIN(W101,$I101-SUM($L101:W101)), MAX(W101,$I101-SUM($L101:W101)))","v":0},{"$f":"IF($I101 >0, MIN(X101,$I101-SUM($L101:X101)), MAX(X101,$I101-SUM($L101:X101)))","v":0},{"$f":"IF($I101 >0, MIN(Y101,$I101-SUM($L101:Y101)), MAX(Y101,$I101-SUM($L101:Y101)))","v":0},{"$f":"IF($I101 >0, MIN(Z101,$I101-SUM($L101:Z101)), MAX(Z101,$I101-SUM($L101:Z101)))","v":0},{"$f":"IF($I101 >0, MIN(AA101,$I101-SUM($L101:AA101)), MAX(AA101,$I101-SUM($L101:AA101)))","v":0},{"$f":"IF($I101 >0, MIN(AB101,$I101-SUM($L101:AB101)), MAX(AB101,$I101-SUM($L101:AB101)))","v":0},{"$f":"IF($I101 >0, MIN(AC101,$I101-SUM($L101:AC101)), MAX(AC101,$I101-SUM($L101:AC101)))","v":0},{"$f":"IF($I101 >0, MIN(AD101,$I101-SUM($L101:AD101)), MAX(AD101,$I101-SUM($L101:AD101)))","v":0},{"$f":"IF($I101 >0, MIN(AE101,$I101-SUM($L101:AE101)), MAX(AE101,$I101-SUM($L101:AE101)))","v":0},{"$f":"IF($I101 >0, MIN(AF101,$I101-SUM($L101:AF101)), MAX(AF101,$I101-SUM($L101:AF101)))","v":0},{"$f":"IF($I101 >0, MIN(AG101,$I101-SUM($L101:AG101)), MAX(AG101,$I101-SUM($L101:AG101)))","v":0},{"$f":"IF($I101 >0, MIN(AH101,$I101-SUM($L101:AH101)), MAX(AH101,$I101-SUM($L101:AH101)))","v":0},{"$f":"IF($I101 >0, MIN(AI101,$I101-SUM($L101:AI101)), MAX(AI101,$I101-SUM($L101:AI101)))","v":0},{"$f":"IF($I101 >0, MIN(AJ101,$I101-SUM($L101:AJ101)), MAX(AJ101,$I101-SUM($L101:AJ101)))","v":0},{"$f":"IF($I101 >0, MIN(AK101,$I101-SUM($L101:AK101)), MAX(AK101,$I101-SUM($L101:AK101)))","v":0},{"$f":"IF($I101 >0, MIN(AL101,$I101-SUM($L101:AL101)), MAX(AL101,$I101-SUM($L101:AL101)))","v":0},{"$f":"IF($I101 >0, MIN(AM101,$I101-SUM($L101:AM101)), MAX(AM101,$I101-SUM($L101:AM101)))","v":0},{"$f":"IF($I101 >0, MIN(AN101,$I101-SUM($L101:AN101)), MAX(AN101,$I101-SUM($L101:AN101)))","v":0},{"$f":"IF($I101 >0, MIN(AO101,$I101-SUM($L101:AO101)), MAX(AO101,$I101-SUM($L101:AO101)))","v":0},{"$f":"IF($I101 >0, MIN(AP101,$I101-SUM($L101:AP101)), MAX(AP101,$I101-SUM($L101:AP101)))","v":0},{"$f":"IF($I101 >0, MIN(AQ101,$I101-SUM($L101:AQ101)), MAX(AQ101,$I101-SUM($L101:AQ101)))","v":0},{"$f":"IF($I101 >0, MIN(AR101,$I101-SUM($L101:AR101)), MAX(AR101,$I101-SUM($L101:AR101)))","v":0},{"$f":"IF($I101 >0, MIN(AS101,$I101-SUM($L101:AS101)), MAX(AS101,$I101-SUM($L101:AS101)))","v":0},null,true]
[null,null,null,null,"1994-03-31",null,"£m 18/19 prices",null,0,">",null,null,null,null,{"$f":"$I102/N$92","v":0},{"$f":"IF($I102 >0, MIN(O102,$I102-SUM($L102:O102)), MAX(O102,$I102-SUM($L102:O102)))","v":0},{"$f":"IF($I102 >0, MIN(P102,$I102-SUM($L102:P102)), MAX(P102,$I102-SUM($L102:P102)))","v":0},{"$f":"IF($I102 >0, MIN(Q102,$I102-SUM($L102:Q102)), MAX(Q102,$I102-SUM($L102:Q102)))","v":0},{"$f":"IF($I102 >0, MIN(R102,$I102-SUM($L102:R102)), MAX(R102,$I102-SUM($L102:R102)))","v":0},{"$f":"IF($I102 >0, MIN(S102,$I102-SUM($L102:S102)), MAX(S102,$I102-SUM($L102:S102)))","v":0},{"$f":"IF($I102 >0, MIN(T102,$I102-SUM($L102:T102)), MAX(T102,$I102-SUM($L102:T102)))","v":0},{"$f":"IF($I102 >0, MIN(U102,$I102-SUM($L102:U102)), MAX(U102,$I102-SUM($L102:U102)))","v":0},{"$f":"IF($I102 >0, MIN(V102,$I102-SUM($L102:V102)), MAX(V102,$I102-SUM($L102:V102)))","v":0},{"$f":"IF($I102 >0, MIN(W102,$I102-SUM($L102:W102)), MAX(W102,$I102-SUM($L102:W102)))","v":0},{"$f":"IF($I102 >0, MIN(X102,$I102-SUM($L102:X102)), MAX(X102,$I102-SUM($L102:X102)))","v":0},{"$f":"IF($I102 >0, MIN(Y102,$I102-SUM($L102:Y102)), MAX(Y102,$I102-SUM($L102:Y102)))","v":0},{"$f":"IF($I102 >0, MIN(Z102,$I102-SUM($L102:Z102)), MAX(Z102,$I102-SUM($L102:Z102)))","v":0},{"$f":"IF($I102 >0, MIN(AA102,$I102-SUM($L102:AA102)), MAX(AA102,$I102-SUM($L102:AA102)))","v":0},{"$f":"IF($I102 >0, MIN(AB102,$I102-SUM($L102:AB102)), MAX(AB102,$I102-SUM($L102:AB102)))","v":0},{"$f":"IF($I102 >0, MIN(AC102,$I102-SUM($L102:AC102)), MAX(AC102,$I102-SUM($L102:AC102)))","v":0},{"$f":"IF($I102 >0, MIN(AD102,$I102-SUM($L102:AD102)), MAX(AD102,$I102-SUM($L102:AD102)))","v":0},{"$f":"IF($I102 >0, MIN(AE102,$I102-SUM($L102:AE102)), MAX(AE102,$I102-SUM($L102:AE102)))","v":0},{"$f":"IF($I102 >0, MIN(AF102,$I102-SUM($L102:AF102)), MAX(AF102,$I102-SUM($L102:AF102)))","v":0},{"$f":"IF($I102 >0, MIN(AG102,$I102-SUM($L102:AG102)), MAX(AG102,$I102-SUM($L102:AG102)))","v":0},{"$f":"IF($I102 >0, MIN(AH102,$I102-SUM($L102:AH102)), MAX(AH102,$I102-SUM($L102:AH102)))","v":0},{"$f":"IF($I102 >0, MIN(AI102,$I102-SUM($L102:AI102)), MAX(AI102,$I102-SUM($L102:AI102)))","v":0},{"$f":"IF($I102 >0, MIN(AJ102,$I102-SUM($L102:AJ102)), MAX(AJ102,$I102-SUM($L102:AJ102)))","v":0},{"$f":"IF($I102 >0, MIN(AK102,$I102-SUM($L102:AK102)), MAX(AK102,$I102-SUM($L102:AK102)))","v":0},{"$f":"IF($I102 >0, MIN(AL102,$I102-SUM($L102:AL102)), MAX(AL102,$I102-SUM($L102:AL102)))","v":0},{"$f":"IF($I102 >0, MIN(AM102,$I102-SUM($L102:AM102)), MAX(AM102,$I102-SUM($L102:AM102)))","v":0},{"$f":"IF($I102 >0, MIN(AN102,$I102-SUM($L102:AN102)), MAX(AN102,$I102-SUM($L102:AN102)))","v":0},{"$f":"IF($I102 >0, MIN(AO102,$I102-SUM($L102:AO102)), MAX(AO102,$I102-SUM($L102:AO102)))","v":0},{"$f":"IF($I102 >0, MIN(AP102,$I102-SUM($L102:AP102)), MAX(AP102,$I102-SUM($L102:AP102)))","v":0},{"$f":"IF($I102 >0, MIN(AQ102,$I102-SUM($L102:AQ102)), MAX(AQ102,$I102-SUM($L102:AQ102)))","v":0},{"$f":"IF($I102 >0, MIN(AR102,$I102-SUM($L102:AR102)), MAX(AR102,$I102-SUM($L102:AR102)))","v":0},{"$f":"IF($I102 >0, MIN(AS102,$I102-SUM($L102:AS102)), MAX(AS102,$I102-SUM($L102:AS102)))","v":0},null,true]
[null,null,null,null,"1995-03-31",null,"£m 18/19 prices",null,0,">",null,null,null,null,null,{"$f":"$I103/O$92","v":0},{"$f":"IF($I103 >0, MIN(P103,$I103-SUM($L103:P103)), MAX(P103,$I103-SUM($L103:P103)))","v":0},{"$f":"IF($I103 >0, MIN(Q103,$I103-SUM($L103:Q103)), MAX(Q103,$I103-SUM($L103:Q103)))","v":0},{"$f":"IF($I103 >0, MIN(R103,$I103-SUM($L103:R103)), MAX(R103,$I103-SUM($L103:R103)))","v":0},{"$f":"IF($I103 >0, MIN(S103,$I103-SUM($L103:S103)), MAX(S103,$I103-SUM($L103:S103)))","v":0},{"$f":"IF($I103 >0, MIN(T103,$I103-SUM($L103:T103)), MAX(T103,$I103-SUM($L103:T103)))","v":0},{"$f":"IF($I103 >0, MIN(U103,$I103-SUM($L103:U103)), MAX(U103,$I103-SUM($L103:U103)))","v":0},{"$f":"IF($I103 >0, MIN(V103,$I103-SUM($L103:V103)), MAX(V103,$I103-SUM($L103:V103)))","v":0},{"$f":"IF($I103 >0, MIN(W103,$I103-SUM($L103:W103)), MAX(W103,$I103-SUM($L103:W103)))","v":0},{"$f":"IF($I103 >0, MIN(X103,$I103-SUM($L103:X103)), MAX(X103,$I103-SUM($L103:X103)))","v":0},{"$f":"IF($I103 >0, MIN(Y103,$I103-SUM($L103:Y103)), MAX(Y103,$I103-SUM($L103:Y103)))","v":0},{"$f":"IF($I103 >0, MIN(Z103,$I103-SUM($L103:Z103)), MAX(Z103,$I103-SUM($L103:Z103)))","v":0},{"$f":"IF($I103 >0, MIN(AA103,$I103-SUM($L103:AA103)), MAX(AA103,$I103-SUM($L103:AA103)))","v":0},{"$f":"IF($I103 >0, MIN(AB103,$I103-SUM($L103:AB103)), MAX(AB103,$I103-SUM($L103:AB103)))","v":0},{"$f":"IF($I103 >0, MIN(AC103,$I103-SUM($L103:AC103)), MAX(AC103,$I103-SUM($L103:AC103)))","v":0},{"$f":"IF($I103 >0, MIN(AD103,$I103-SUM($L103:AD103)), MAX(AD103,$I103-SUM($L103:AD103)))","v":0},{"$f":"IF($I103 >0, MIN(AE103,$I103-SUM($L103:AE103)), MAX(AE103,$I103-SUM($L103:AE103)))","v":0},{"$f":"IF($I103 >0, MIN(AF103,$I103-SUM($L103:AF103)), MAX(AF103,$I103-SUM($L103:AF103)))","v":0},{"$f":"IF($I103 >0, MIN(AG103,$I103-SUM($L103:AG103)), MAX(AG103,$I103-SUM($L103:AG103)))","v":0},{"$f":"IF($I103 >0, MIN(AH103,$I103-SUM($L103:AH103)), MAX(AH103,$I103-SUM($L103:AH103)))","v":0},{"$f":"IF($I103 >0, MIN(AI103,$I103-SUM($L103:AI103)), MAX(AI103,$I103-SUM($L103:AI103)))","v":0},{"$f":"IF($I103 >0, MIN(AJ103,$I103-SUM($L103:AJ103)), MAX(AJ103,$I103-SUM($L103:AJ103)))","v":0},{"$f":"IF($I103 >0, MIN(AK103,$I103-SUM($L103:AK103)), MAX(AK103,$I103-SUM($L103:AK103)))","v":0},{"$f":"IF($I103 >0, MIN(AL103,$I103-SUM($L103:AL103)), MAX(AL103,$I103-SUM($L103:AL103)))","v":0},{"$f":"IF($I103 >0, MIN(AM103,$I103-SUM($L103:AM103)), MAX(AM103,$I103-SUM($L103:AM103)))","v":0},{"$f":"IF($I103 >0, MIN(AN103,$I103-SUM($L103:AN103)), MAX(AN103,$I103-SUM($L103:AN103)))","v":0},{"$f":"IF($I103 >0, MIN(AO103,$I103-SUM($L103:AO103)), MAX(AO103,$I103-SUM($L103:AO103)))","v":0},{"$f":"IF($I103 >0, MIN(AP103,$I103-SUM($L103:AP103)), MAX(AP103,$I103-SUM($L103:AP103)))","v":0},{"$f":"IF($I103 >0, MIN(AQ103,$I103-SUM($L103:AQ103)), MAX(AQ103,$I103-SUM($L103:AQ103)))","v":0},{"$f":"IF($I103 >0, MIN(AR103,$I103-SUM($L103:AR103)), MAX(AR103,$I103-SUM($L103:AR103)))","v":0},{"$f":"IF($I103 >0, MIN(AS103,$I103-SUM($L103:AS103)), MAX(AS103,$I103-SUM($L103:AS103)))","v":0},null,true]
[null,null,null,null,"1996-03-31",null,"£m 18/19 prices",null,0,">",null,null,null,null,null,null,{"$f":"$I104/P$92","v":0},{"$f":"IF($I104 >0, MIN(Q104,$I104-SUM($L104:Q104)), MAX(Q104,$I104-SUM($L104:Q104)))","v":0},{"$f":"IF($I104 >0, MIN(R104,$I104-SUM($L104:R104)), MAX(R104,$I104-SUM($L104:R104)))","v":0},{"$f":"IF($I104 >0, MIN(S104,$I104-SUM($L104:S104)), MAX(S104,$I104-SUM($L104:S104)))","v":0},{"$f":"IF($I104 >0, MIN(T104,$I104-SUM($L104:T104)), MAX(T104,$I104-SUM($L104:T104)))","v":0},{"$f":"IF($I104 >0, MIN(U104,$I104-SUM($L104:U104)), MAX(U104,$I104-SUM($L104:U104)))","v":0},{"$f":"IF($I104 >0, MIN(V104,$I104-SUM($L104:V104)), MAX(V104,$I104-SUM($L104:V104)))","v":0},{"$f":"IF($I104 >0, MIN(W104,$I104-SUM($L104:W104)), MAX(W104,$I104-SUM($L104:W104)))","v":0},{"$f":"IF($I104 >0, MIN(X104,$I104-SUM($L104:X104)), MAX(X104,$I104-SUM($L104:X104)))","v":0},{"$f":"IF($I104 >0, MIN(Y104,$I104-SUM($L104:Y104)), MAX(Y104,$I104-SUM($L104:Y104)))","v":0},{"$f":"IF($I104 >0, MIN(Z104,$I104-SUM($L104:Z104)), MAX(Z104,$I104-SUM($L104:Z104)))","v":0},{"$f":"IF($I104 >0, MIN(AA104,$I104-SUM($L104:AA104)), MAX(AA104,$I104-SUM($L104:AA104)))","v":0},{"$f":"IF($I104 >0, MIN(AB104,$I104-SUM($L104:AB104)), MAX(AB104,$I104-SUM($L104:AB104)))","v":0},{"$f":"IF($I104 >0, MIN(AC104,$I104-SUM($L104:AC104)), MAX(AC104,$I104-SUM($L104:AC104)))","v":0},{"$f":"IF($I104 >0, MIN(AD104,$I104-SUM($L104:AD104)), MAX(AD104,$I104-SUM($L104:AD104)))","v":0},{"$f":"IF($I104 >0, MIN(AE104,$I104-SUM($L104:AE104)), MAX(AE104,$I104-SUM($L104:AE104)))","v":0},{"$f":"IF($I104 >0, MIN(AF104,$I104-SUM($L104:AF104)), MAX(AF104,$I104-SUM($L104:AF104)))","v":0},{"$f":"IF($I104 >0, MIN(AG104,$I104-SUM($L104:AG104)), MAX(AG104,$I104-SUM($L104:AG104)))","v":0},{"$f":"IF($I104 >0, MIN(AH104,$I104-SUM($L104:AH104)), MAX(AH104,$I104-SUM($L104:AH104)))","v":0},{"$f":"IF($I104 >0, MIN(AI104,$I104-SUM($L104:AI104)), MAX(AI104,$I104-SUM($L104:AI104)))","v":0},{"$f":"IF($I104 >0, MIN(AJ104,$I104-SUM($L104:AJ104)), MAX(AJ104,$I104-SUM($L104:AJ104)))","v":0},{"$f":"IF($I104 >0, MIN(AK104,$I104-SUM($L104:AK104)), MAX(AK104,$I104-SUM($L104:AK104)))","v":0},{"$f":"IF($I104 >0, MIN(AL104,$I104-SUM($L104:AL104)), MAX(AL104,$I104-SUM($L104:AL104)))","v":0},{"$f":"IF($I104 >0, MIN(AM104,$I104-SUM($L104:AM104)), MAX(AM104,$I104-SUM($L104:AM104)))","v":0},{"$f":"IF($I104 >0, MIN(AN104,$I104-SUM($L104:AN104)), MAX(AN104,$I104-SUM($L104:AN104)))","v":0},{"$f":"IF($I104 >0, MIN(AO104,$I104-SUM($L104:AO104)), MAX(AO104,$I104-SUM($L104:AO104)))","v":0},{"$f":"IF($I104 >0, MIN(AP104,$I104-SUM($L104:AP104)), MAX(AP104,$I104-SUM($L104:AP104)))","v":0},{"$f":"IF($I104 >0, MIN(AQ104,$I104-SUM($L104:AQ104)), MAX(AQ104,$I104-SUM($L104:AQ104)))","v":0},{"$f":"IF($I104 >0, MIN(AR104,$I104-SUM($L104:AR104)), MAX(AR104,$I104-SUM($L104:AR104)))","v":0},{"$f":"IF($I104 >0, MIN(AS104,$I104-SUM($L104:AS104)), MAX(AS104,$I104-SUM($L104:AS104)))","v":0},null,true]
[null,null,null,null,"1997-03-31",null,"£m 18/19 prices",null,0,">",null,null,null,null,null,null,null,{"$f":"$I105/Q$92","v":0},{"$f":"IF($I105 >0, MIN(R105,$I105-SUM($L105:R105)), MAX(R105,$I105-SUM($L105:R105)))","v":0},{"$f":"IF($I105 >0, MIN(S105,$I105-SUM($L105:S105)), MAX(S105,$I105-SUM($L105:S105)))","v":0},{"$f":"IF($I105 >0, MIN(T105,$I105-SUM($L105:T105)), MAX(T105,$I105-SUM($L105:T105)))","v":0},{"$f":"IF($I105 >0, MIN(U105,$I105-SUM($L105:U105)), MAX(U105,$I105-SUM($L105:U105)))","v":0},{"$f":"IF($I105 >0, MIN(V105,$I105-SUM($L105:V105)), MAX(V105,$I105-SUM($L105:V105)))","v":0},{"$f":"IF($I105 >0, MIN(W105,$I105-SUM($L105:W105)), MAX(W105,$I105-SUM($L105:W105)))","v":0},{"$f":"IF($I105 >0, MIN(X105,$I105-SUM($L105:X105)), MAX(X105,$I105-SUM($L105:X105)))","v":0},{"$f":"IF($I105 >0, MIN(Y105,$I105-SUM($L105:Y105)), MAX(Y105,$I105-SUM($L105:Y105)))","v":0},{"$f":"IF($I105 >0, MIN(Z105,$I105-SUM($L105:Z105)), MAX(Z105,$I105-SUM($L105:Z105)))","v":0},{"$f":"IF($I105 >0, MIN(AA105,$I105-SUM($L105:AA105)), MAX(AA105,$I105-SUM($L105:AA105)))","v":0},{"$f":"IF($I105 >0, MIN(AB105,$I105-SUM($L105:AB105)), MAX(AB105,$I105-SUM($L105:AB105)))","v":0},{"$f":"IF($I105 >0, MIN(AC105,$I105-SUM($L105:AC105)), MAX(AC105,$I105-SUM($L105:AC105)))","v":0},{"$f":"IF($I105 >0, MIN(AD105,$I105-SUM($L105:AD105)), MAX(AD105,$I105-SUM($L105:AD105)))","v":0},{"$f":"IF($I105 >0, MIN(AE105,$I105-SUM($L105:AE105)), MAX(AE105,$I105-SUM($L105:AE105)))","v":0},{"$f":"IF($I105 >0, MIN(AF105,$I105-SUM($L105:AF105)), MAX(AF105,$I105-SUM($L105:AF105)))","v":0},{"$f":"IF($I105 >0, MIN(AG105,$I105-SUM($L105:AG105)), MAX(AG105,$I105-SUM($L105:AG105)))","v":0},{"$f":"IF($I105 >0, MIN(AH105,$I105-SUM($L105:AH105)), MAX(AH105,$I105-SUM($L105:AH105)))","v":0},{"$f":"IF($I105 >0, MIN(AI105,$I105-SUM($L105:AI105)), MAX(AI105,$I105-SUM($L105:AI105)))","v":0},{"$f":"IF($I105 >0, MIN(AJ105,$I105-SUM($L105:AJ105)), MAX(AJ105,$I105-SUM($L105:AJ105)))","v":0},{"$f":"IF($I105 >0, MIN(AK105,$I105-SUM($L105:AK105)), MAX(AK105,$I105-SUM($L105:AK105)))","v":0},{"$f":"IF($I105 >0, MIN(AL105,$I105-SUM($L105:AL105)), MAX(AL105,$I105-SUM($L105:AL105)))","v":0},{"$f":"IF($I105 >0, MIN(AM105,$I105-SUM($L105:AM105)), MAX(AM105,$I105-SUM($L105:AM105)))","v":0},{"$f":"IF($I105 >0, MIN(AN105,$I105-SUM($L105:AN105)), MAX(AN105,$I105-SUM($L105:AN105)))","v":0},{"$f":"IF($I105 >0, MIN(AO105,$I105-SUM($L105:AO105)), MAX(AO105,$I105-SUM($L105:AO105)))","v":0},{"$f":"IF($I105 >0, MIN(AP105,$I105-SUM($L105:AP105)), MAX(AP105,$I105-SUM($L105:AP105)))","v":0},{"$f":"IF($I105 >0, MIN(AQ105,$I105-SUM($L105:AQ105)), MAX(AQ105,$I105-SUM($L105:AQ105)))","v":0},{"$f":"IF($I105 >0, MIN(AR105,$I105-SUM($L105:AR105)), MAX(AR105,$I105-SUM($L105:AR105)))","v":0},{"$f":"IF($I105 >0, MIN(AS105,$I105-SUM($L105:AS105)), MAX(AS105,$I105-SUM($L105:AS105)))","v":0},null,true]
[null,null,null,null,"1998-03-31",null,"£m 18/19 prices",null,0,">",null,null,null,null,null,null,null,null,{"$f":"$I106/R$92","v":0},{"$f":"IF($I106 >0, MIN(S106,$I106-SUM($L106:S106)), MAX(S106,$I106-SUM($L106:S106)))","v":0},{"$f":"IF($I106 >0, MIN(T106,$I106-SUM($L106:T106)), MAX(T106,$I106-SUM($L106:T106)))","v":0},{"$f":"IF($I106 >0, MIN(U106,$I106-SUM($L106:U106)), MAX(U106,$I106-SUM($L106:U106)))","v":0},{"$f":"IF($I106 >0, MIN(V106,$I106-SUM($L106:V106)), MAX(V106,$I106-SUM($L106:V106)))","v":0},{"$f":"IF($I106 >0, MIN(W106,$I106-SUM($L106:W106)), MAX(W106,$I106-SUM($L106:W106)))","v":0},{"$f":"IF($I106 >0, MIN(X106,$I106-SUM($L106:X106)), MAX(X106,$I106-SUM($L106:X106)))","v":0},{"$f":"IF($I106 >0, MIN(Y106,$I106-SUM($L106:Y106)), MAX(Y106,$I106-SUM($L106:Y106)))","v":0},{"$f":"IF($I106 >0, MIN(Z106,$I106-SUM($L106:Z106)), MAX(Z106,$I106-SUM($L106:Z106)))","v":0},{"$f":"IF($I106 >0, MIN(AA106,$I106-SUM($L106:AA106)), MAX(AA106,$I106-SUM($L106:AA106)))","v":0},{"$f":"IF($I106 >0, MIN(AB106,$I106-SUM($L106:AB106)), MAX(AB106,$I106-SUM($L106:AB106)))","v":0},{"$f":"IF($I106 >0, MIN(AC106,$I106-SUM($L106:AC106)), MAX(AC106,$I106-SUM($L106:AC106)))","v":0},{"$f":"IF($I106 >0, MIN(AD106,$I106-SUM($L106:AD106)), MAX(AD106,$I106-SUM($L106:AD106)))","v":0},{"$f":"IF($I106 >0, MIN(AE106,$I106-SUM($L106:AE106)), MAX(AE106,$I106-SUM($L106:AE106)))","v":0},{"$f":"IF($I106 >0, MIN(AF106,$I106-SUM($L106:AF106)), MAX(AF106,$I106-SUM($L106:AF106)))","v":0},{"$f":"IF($I106 >0, MIN(AG106,$I106-SUM($L106:AG106)), MAX(AG106,$I106-SUM($L106:AG106)))","v":0},{"$f":"IF($I106 >0, MIN(AH106,$I106-SUM($L106:AH106)), MAX(AH106,$I106-SUM($L106:AH106)))","v":0},{"$f":"IF($I106 >0, MIN(AI106,$I106-SUM($L106:AI106)), MAX(AI106,$I106-SUM($L106:AI106)))","v":0},{"$f":"IF($I106 >0, MIN(AJ106,$I106-SUM($L106:AJ106)), MAX(AJ106,$I106-SUM($L106:AJ106)))","v":0},{"$f":"IF($I106 >0, MIN(AK106,$I106-SUM($L106:AK106)), MAX(AK106,$I106-SUM($L106:AK106)))","v":0},{"$f":"IF($I106 >0, MIN(AL106,$I106-SUM($L106:AL106)), MAX(AL106,$I106-SUM($L106:AL106)))","v":0},{"$f":"IF($I106 >0, MIN(AM106,$I106-SUM($L106:AM106)), MAX(AM106,$I106-SUM($L106:AM106)))","v":0},{"$f":"IF($I106 >0, MIN(AN106,$I106-SUM($L106:AN106)), MAX(AN106,$I106-SUM($L106:AN106)))","v":0},{"$f":"IF($I106 >0, MIN(AO106,$I106-SUM($L106:AO106)), MAX(AO106,$I106-SUM($L106:AO106)))","v":0},{"$f":"IF($I106 >0, MIN(AP106,$I106-SUM($L106:AP106)), MAX(AP106,$I106-SUM($L106:AP106)))","v":0},{"$f":"IF($I106 >0, MIN(AQ106,$I106-SUM($L106:AQ106)), MAX(AQ106,$I106-SUM($L106:AQ106)))","v":0},{"$f":"IF($I106 >0, MIN(AR106,$I106-SUM($L106:AR106)), MAX(AR106,$I106-SUM($L106:AR106)))","v":0},{"$f":"IF($I106 >0, MIN(AS106,$I106-SUM($L106:AS106)), MAX(AS106,$I106-SUM($L106:AS106)))","v":0},null,true]
[null,null,null,null,"1999-03-31",null,"£m 18/19 prices",null,0,">",null,null,null,null,null,null,null,null,null,{"$f":"$I107/S$92","v":0},{"$f":"IF($I107 >0, MIN(T107,$I107-SUM($L107:T107)), MAX(T107,$I107-SUM($L107:T107)))","v":0},{"$f":"IF($I107 >0, MIN(U107,$I107-SUM($L107:U107)), MAX(U107,$I107-SUM($L107:U107)))","v":0},{"$f":"IF($I107 >0, MIN(V107,$I107-SUM($L107:V107)), MAX(V107,$I107-SUM($L107:V107)))","v":0},{"$f":"IF($I107 >0, MIN(W107,$I107-SUM($L107:W107)), MAX(W107,$I107-SUM($L107:W107)))","v":0},{"$f":"IF($I107 >0, MIN(X107,$I107-SUM($L107:X107)), MAX(X107,$I107-SUM($L107:X107)))","v":0},{"$f":"IF($I107 >0, MIN(Y107,$I107-SUM($L107:Y107)), MAX(Y107,$I107-SUM($L107:Y107)))","v":0},{"$f":"IF($I107 >0, MIN(Z107,$I107-SUM($L107:Z107)), MAX(Z107,$I107-SUM($L107:Z107)))","v":0},{"$f":"IF($I107 >0, MIN(AA107,$I107-SUM($L107:AA107)), MAX(AA107,$I107-SUM($L107:AA107)))","v":0},{"$f":"IF($I107 >0, MIN(AB107,$I107-SUM($L107:AB107)), MAX(AB107,$I107-SUM($L107:AB107)))","v":0},{"$f":"IF($I107 >0, MIN(AC107,$I107-SUM($L107:AC107)), MAX(AC107,$I107-SUM($L107:AC107)))","v":0},{"$f":"IF($I107 >0, MIN(AD107,$I107-SUM($L107:AD107)), MAX(AD107,$I107-SUM($L107:AD107)))","v":0},{"$f":"IF($I107 >0, MIN(AE107,$I107-SUM($L107:AE107)), MAX(AE107,$I107-SUM($L107:AE107)))","v":0},{"$f":"IF($I107 >0, MIN(AF107,$I107-SUM($L107:AF107)), MAX(AF107,$I107-SUM($L107:AF107)))","v":0},{"$f":"IF($I107 >0, MIN(AG107,$I107-SUM($L107:AG107)), MAX(AG107,$I107-SUM($L107:AG107)))","v":0},{"$f":"IF($I107 >0, MIN(AH107,$I107-SUM($L107:AH107)), MAX(AH107,$I107-SUM($L107:AH107)))","v":0},{"$f":"IF($I107 >0, MIN(AI107,$I107-SUM($L107:AI107)), MAX(AI107,$I107-SUM($L107:AI107)))","v":0},{"$f":"IF($I107 >0, MIN(AJ107,$I107-SUM($L107:AJ107)), MAX(AJ107,$I107-SUM($L107:AJ107)))","v":0},{"$f":"IF($I107 >0, MIN(AK107,$I107-SUM($L107:AK107)), MAX(AK107,$I107-SUM($L107:AK107)))","v":0},{"$f":"IF($I107 >0, MIN(AL107,$I107-SUM($L107:AL107)), MAX(AL107,$I107-SUM($L107:AL107)))","v":0},{"$f":"IF($I107 >0, MIN(AM107,$I107-SUM($L107:AM107)), MAX(AM107,$I107-SUM($L107:AM107)))","v":0},{"$f":"IF($I107 >0, MIN(AN107,$I107-SUM($L107:AN107)), MAX(AN107,$I107-SUM($L107:AN107)))","v":0},{"$f":"IF($I107 >0, MIN(AO107,$I107-SUM($L107:AO107)), MAX(AO107,$I107-SUM($L107:AO107)))","v":0},{"$f":"IF($I107 >0, MIN(AP107,$I107-SUM($L107:AP107)), MAX(AP107,$I107-SUM($L107:AP107)))","v":0},{"$f":"IF($I107 >0, MIN(AQ107,$I107-SUM($L107:AQ107)), MAX(AQ107,$I107-SUM($L107:AQ107)))","v":0},{"$f":"IF($I107 >0, MIN(AR107,$I107-SUM($L107:AR107)), MAX(AR107,$I107-SUM($L107:AR107)))","v":0},{"$f":"IF($I107 >0, MIN(AS107,$I107-SUM($L107:AS107)), MAX(AS107,$I107-SUM($L107:AS107)))","v":0},null,true]
[null,null,null,null,"2000-03-31",null,"£m 18/19 prices",null,0,">",null,null,null,null,null,null,null,null,null,null,{"$f":"$I108/T$92","v":0},{"$f":"IF($I108 >0, MIN(U108,$I108-SUM($L108:U108)), MAX(U108,$I108-SUM($L108:U108)))","v":0},{"$f":"IF($I108 >0, MIN(V108,$I108-SUM($L108:V108)), MAX(V108,$I108-SUM($L108:V108)))","v":0},{"$f":"IF($I108 >0, MIN(W108,$I108-SUM($L108:W108)), MAX(W108,$I108-SUM($L108:W108)))","v":0},{"$f":"IF($I108 >0, MIN(X108,$I108-SUM($L108:X108)), MAX(X108,$I108-SUM($L108:X108)))","v":0},{"$f":"IF($I108 >0, MIN(Y108,$I108-SUM($L108:Y108)), MAX(Y108,$I108-SUM($L108:Y108)))","v":0},{"$f":"IF($I108 >0, MIN(Z108,$I108-SUM($L108:Z108)), MAX(Z108,$I108-SUM($L108:Z108)))","v":0},{"$f":"IF($I108 >0, MIN(AA108,$I108-SUM($L108:AA108)), MAX(AA108,$I108-SUM($L108:AA108)))","v":0},{"$f":"IF($I108 >0, MIN(AB108,$I108-SUM($L108:AB108)), MAX(AB108,$I108-SUM($L108:AB108)))","v":0},{"$f":"IF($I108 >0, MIN(AC108,$I108-SUM($L108:AC108)), MAX(AC108,$I108-SUM($L108:AC108)))","v":0},{"$f":"IF($I108 >0, MIN(AD108,$I108-SUM($L108:AD108)), MAX(AD108,$I108-SUM($L108:AD108)))","v":0},{"$f":"IF($I108 >0, MIN(AE108,$I108-SUM($L108:AE108)), MAX(AE108,$I108-SUM($L108:AE108)))","v":0},{"$f":"IF($I108 >0, MIN(AF108,$I108-SUM($L108:AF108)), MAX(AF108,$I108-SUM($L108:AF108)))","v":0},{"$f":"IF($I108 >0, MIN(AG108,$I108-SUM($L108:AG108)), MAX(AG108,$I108-SUM($L108:AG108)))","v":0},{"$f":"IF($I108 >0, MIN(AH108,$I108-SUM($L108:AH108)), MAX(AH108,$I108-SUM($L108:AH108)))","v":0},{"$f":"IF($I108 >0, MIN(AI108,$I108-SUM($L108:AI108)), MAX(AI108,$I108-SUM($L108:AI108)))","v":0},{"$f":"IF($I108 >0, MIN(AJ108,$I108-SUM($L108:AJ108)), MAX(AJ108,$I108-SUM($L108:AJ108)))","v":0},{"$f":"IF($I108 >0, MIN(AK108,$I108-SUM($L108:AK108)), MAX(AK108,$I108-SUM($L108:AK108)))","v":0},{"$f":"IF($I108 >0, MIN(AL108,$I108-SUM($L108:AL108)), MAX(AL108,$I108-SUM($L108:AL108)))","v":0},{"$f":"IF($I108 >0, MIN(AM108,$I108-SUM($L108:AM108)), MAX(AM108,$I108-SUM($L108:AM108)))","v":0},{"$f":"IF($I108 >0, MIN(AN108,$I108-SUM($L108:AN108)), MAX(AN108,$I108-SUM($L108:AN108)))","v":0},{"$f":"IF($I108 >0, MIN(AO108,$I108-SUM($L108:AO108)), MAX(AO108,$I108-SUM($L108:AO108)))","v":0},{"$f":"IF($I108 >0, MIN(AP108,$I108-SUM($L108:AP108)), MAX(AP108,$I108-SUM($L108:AP108)))","v":0},{"$f":"IF($I108 >0, MIN(AQ108,$I108-SUM($L108:AQ108)), MAX(AQ108,$I108-SUM($L108:AQ108)))","v":0},{"$f":"IF($I108 >0, MIN(AR108,$I108-SUM($L108:AR108)), MAX(AR108,$I108-SUM($L108:AR108)))","v":0},{"$f":"IF($I108 >0, MIN(AS108,$I108-SUM($L108:AS108)), MAX(AS108,$I108-SUM($L108:AS108)))","v":0},null,true]
[null,null,null,null,"2001-03-31",null,"£m 18/19 prices",null,0,">",null,null,null,null,null,null,null,null,null,null,null,{"$f":"$I109/U$92","v":0},{"$f":"IF($I109 >0, MIN(V109,$I109-SUM($L109:V109)), MAX(V109,$I109-SUM($L109:V109)))","v":0},{"$f":"IF($I109 >0, MIN(W109,$I109-SUM($L109:W109)), MAX(W109,$I109-SUM($L109:W109)))","v":0},{"$f":"IF($I109 >0, MIN(X109,$I109-SUM($L109:X109)), MAX(X109,$I109-SUM($L109:X109)))","v":0},{"$f":"IF($I109 >0, MIN(Y109,$I109-SUM($L109:Y109)), MAX(Y109,$I109-SUM($L109:Y109)))","v":0},{"$f":"IF($I109 >0, MIN(Z109,$I109-SUM($L109:Z109)), MAX(Z109,$I109-SUM($L109:Z109)))","v":0},{"$f":"IF($I109 >0, MIN(AA109,$I109-SUM($L109:AA109)), MAX(AA109,$I109-SUM($L109:AA109)))","v":0},{"$f":"IF($I109 >0, MIN(AB109,$I109-SUM($L109:AB109)), MAX(AB109,$I109-SUM($L109:AB109)))","v":0},{"$f":"IF($I109 >0, MIN(AC109,$I109-SUM($L109:AC109)), MAX(AC109,$I109-SUM($L109:AC109)))","v":0},{"$f":"IF($I109 >0, MIN(AD109,$I109-SUM($L109:AD109)), MAX(AD109,$I109-SUM($L109:AD109)))","v":0},{"$f":"IF($I109 >0, MIN(AE109,$I109-SUM($L109:AE109)), MAX(AE109,$I109-SUM($L109:AE109)))","v":0},{"$f":"IF($I109 >0, MIN(AF109,$I109-SUM($L109:AF109)), MAX(AF109,$I109-SUM($L109:AF109)))","v":0},{"$f":"IF($I109 >0, MIN(AG109,$I109-SUM($L109:AG109)), MAX(AG109,$I109-SUM($L109:AG109)))","v":0},{"$f":"IF($I109 >0, MIN(AH109,$I109-SUM($L109:AH109)), MAX(AH109,$I109-SUM($L109:AH109)))","v":0},{"$f":"IF($I109 >0, MIN(AI109,$I109-SUM($L109:AI109)), MAX(AI109,$I109-SUM($L109:AI109)))","v":0},{"$f":"IF($I109 >0, MIN(AJ109,$I109-SUM($L109:AJ109)), MAX(AJ109,$I109-SUM($L109:AJ109)))","v":0},{"$f":"IF($I109 >0, MIN(AK109,$I109-SUM($L109:AK109)), MAX(AK109,$I109-SUM($L109:AK109)))","v":0},{"$f":"IF($I109 >0, MIN(AL109,$I109-SUM($L109:AL109)), MAX(AL109,$I109-SUM($L109:AL109)))","v":0},{"$f":"IF($I109 >0, MIN(AM109,$I109-SUM($L109:AM109)), MAX(AM109,$I109-SUM($L109:AM109)))","v":0},{"$f":"IF($I109 >0, MIN(AN109,$I109-SUM($L109:AN109)), MAX(AN109,$I109-SUM($L109:AN109)))","v":0},{"$f":"IF($I109 >0, MIN(AO109,$I109-SUM($L109:AO109)), MAX(AO109,$I109-SUM($L109:AO109)))","v":0},{"$f":"IF($I109 >0, MIN(AP109,$I109-SUM($L109:AP109)), MAX(AP109,$I109-SUM($L109:AP109)))","v":0},{"$f":"IF($I109 >0, MIN(AQ109,$I109-SUM($L109:AQ109)), MAX(AQ109,$I109-SUM($L109:AQ109)))","v":0},{"$f":"IF($I109 >0, MIN(AR109,$I109-SUM($L109:AR109)), MAX(AR109,$I109-SUM($L109:AR109)))","v":0},{"$f":"IF($I109 >0, MIN(AS109,$I109-SUM($L109:AS109)), MAX(AS109,$I109-SUM($L109:AS109)))","v":0},null,true]
[null,null,null,null,"2002-03-31",null,"£m 18/19 prices",null,0,">",null,null,null,null,null,null,null,null,null,null,null,null,{"$f":"$I110/V$92","v":0},{"$f":"IF($I110 >0, MIN(W110,$I110-SUM($L110:W110)), MAX(W110,$I110-SUM($L110:W110)))","v":0},{"$f":"IF($I110 >0, MIN(X110,$I110-SUM($L110:X110)), MAX(X110,$I110-SUM($L110:X110)))","v":0},{"$f":"IF($I110 >0, MIN(Y110,$I110-SUM($L110:Y110)), MAX(Y110,$I110-SUM($L110:Y110)))","v":0},{"$f":"IF($I110 >0, MIN(Z110,$I110-SUM($L110:Z110)), MAX(Z110,$I110-SUM($L110:Z110)))","v":0},{"$f":"IF($I110 >0, MIN(AA110,$I110-SUM($L110:AA110)), MAX(AA110,$I110-SUM($L110:AA110)))","v":0},{"$f":"IF($I110 >0, MIN(AB110,$I110-SUM($L110:AB110)), MAX(AB110,$I110-SUM($L110:AB110)))","v":0},{"$f":"IF($I110 >0, MIN(AC110,$I110-SUM($L110:AC110)), MAX(AC110,$I110-SUM($L110:AC110)))","v":0},{"$f":"IF($I110 >0, MIN(AD110,$I110-SUM($L110:AD110)), MAX(AD110,$I110-SUM($L110:AD110)))","v":0},{"$f":"IF($I110 >0, MIN(AE110,$I110-SUM($L110:AE110)), MAX(AE110,$I110-SUM($L110:AE110)))","v":0},{"$f":"IF($I110 >0, MIN(AF110,$I110-SUM($L110:AF110)), MAX(AF110,$I110-SUM($L110:AF110)))","v":0},{"$f":"IF($I110 >0, MIN(AG110,$I110-SUM($L110:AG110)), MAX(AG110,$I110-SUM($L110:AG110)))","v":0},{"$f":"IF($I110 >0, MIN(AH110,$I110-SUM($L110:AH110)), MAX(AH110,$I110-SUM($L110:AH110)))","v":0},{"$f":"IF($I110 >0, MIN(AI110,$I110-SUM($L110:AI110)), MAX(AI110,$I110-SUM($L110:AI110)))","v":0},{"$f":"IF($I110 >0, MIN(AJ110,$I110-SUM($L110:AJ110)), MAX(AJ110,$I110-SUM($L110:AJ110)))","v":0},{"$f":"IF($I110 >0, MIN(AK110,$I110-SUM($L110:AK110)), MAX(AK110,$I110-SUM($L110:AK110)))","v":0},{"$f":"IF($I110 >0, MIN(AL110,$I110-SUM($L110:AL110)), MAX(AL110,$I110-SUM($L110:AL110)))","v":0},{"$f":"IF($I110 >0, MIN(AM110,$I110-SUM($L110:AM110)), MAX(AM110,$I110-SUM($L110:AM110)))","v":0},{"$f":"IF($I110 >0, MIN(AN110,$I110-SUM($L110:AN110)), MAX(AN110,$I110-SUM($L110:AN110)))","v":0},{"$f":"IF($I110 >0, MIN(AO110,$I110-SUM($L110:AO110)), MAX(AO110,$I110-SUM($L110:AO110)))","v":0},{"$f":"IF($I110 >0, MIN(AP110,$I110-SUM($L110:AP110)), MAX(AP110,$I110-SUM($L110:AP110)))","v":0},{"$f":"IF($I110 >0, MIN(AQ110,$I110-SUM($L110:AQ110)), MAX(AQ110,$I110-SUM($L110:AQ110)))","v":0},{"$f":"IF($I110 >0, MIN(AR110,$I110-SUM($L110:AR110)), MAX(AR110,$I110-SUM($L110:AR110)))","v":0},{"$f":"IF($I110 >0, MIN(AS110,$I110-SUM($L110:AS110)), MAX(AS110,$I110-SUM($L110:AS110)))","v":0},null,true]
[null,null,null,null,"2003-03-31",null,"£m 18/19 prices",null,0,">",null,null,null,null,null,null,null,null,null,null,null,null,null,{"$f":"$I111/W$92","v":0},{"$f":"IF($I111 >0, MIN(X111,$I111-SUM($L111:X111)), MAX(X111,$I111-SUM($L111:X111)))","v":0},{"$f":"IF($I111 >0, MIN(Y111,$I111-SUM($L111:Y111)), MAX(Y111,$I111-SUM($L111:Y111)))","v":0},{"$f":"IF($I111 >0, MIN(Z111,$I111-SUM($L111:Z111)), MAX(Z111,$I111-SUM($L111:Z111)))","v":0},{"$f":"IF($I111 >0, MIN(AA111,$I111-SUM($L111:AA111)), MAX(AA111,$I111-SUM($L111:AA111)))","v":0},{"$f":"IF($I111 >0, MIN(AB111,$I111-SUM($L111:AB111)), MAX(AB111,$I111-SUM($L111:AB111)))","v":0},{"$f":"IF($I111 >0, MIN(AC111,$I111-SUM($L111:AC111)), MAX(AC111,$I111-SUM($L111:AC111)))","v":0},{"$f":"IF($I111 >0, MIN(AD111,$I111-SUM($L111:AD111)), MAX(AD111,$I111-SUM($L111:AD111)))","v":0},{"$f":"IF($I111 >0, MIN(AE111,$I111-SUM($L111:AE111)), MAX(AE111,$I111-SUM($L111:AE111)))","v":0},{"$f":"IF($I111 >0, MIN(AF111,$I111-SUM($L111:AF111)), MAX(AF111,$I111-SUM($L111:AF111)))","v":0},{"$f":"IF($I111 >0, MIN(AG111,$I111-SUM($L111:AG111)), MAX(AG111,$I111-SUM($L111:AG111)))","v":0},{"$f":"IF($I111 >0, MIN(AH111,$I111-SUM($L111:AH111)), MAX(AH111,$I111-SUM($L111:AH111)))","v":0},{"$f":"IF($I111 >0, MIN(AI111,$I111-SUM($L111:AI111)), MAX(AI111,$I111-SUM($L111:AI111)))","v":0},{"$f":"IF($I111 >0, MIN(AJ111,$I111-SUM($L111:AJ111)), MAX(AJ111,$I111-SUM($L111:AJ111)))","v":0},{"$f":"IF($I111 >0, MIN(AK111,$I111-SUM($L111:AK111)), MAX(AK111,$I111-SUM($L111:AK111)))","v":0},{"$f":"IF($I111 >0, MIN(AL111,$I111-SUM($L111:AL111)), MAX(AL111,$I111-SUM($L111:AL111)))","v":0},{"$f":"IF($I111 >0, MIN(AM111,$I111-SUM($L111:AM111)), MAX(AM111,$I111-SUM($L111:AM111)))","v":0},{"$f":"IF($I111 >0, MIN(AN111,$I111-SUM($L111:AN111)), MAX(AN111,$I111-SUM($L111:AN111)))","v":0},{"$f":"IF($I111 >0, MIN(AO111,$I111-SUM($L111:AO111)), MAX(AO111,$I111-SUM($L111:AO111)))","v":0},{"$f":"IF($I111 >0, MIN(AP111,$I111-SUM($L111:AP111)), MAX(AP111,$I111-SUM($L111:AP111)))","v":0},{"$f":"IF($I111 >0, MIN(AQ111,$I111-SUM($L111:AQ111)), MAX(AQ111,$I111-SUM($L111:AQ111)))","v":0},{"$f":"IF($I111 >0, MIN(AR111,$I111-SUM($L111:AR111)), MAX(AR111,$I111-SUM($L111:AR111)))","v":0},{"$f":"IF($I111 >0, MIN(AS111,$I111-SUM($L111:AS111)), MAX(AS111,$I111-SUM($L111:AS111)))","v":0},null,false]
[null,null,null,null,"2004-03-31",null,"£m 18/19 prices",null,393.04743989015134,">",null,null,null,null,null,null,null,null,null,null,null,null,null,null,{"$f":"$I112/X$92","v":8.734387553114475},{"$f":"IF($I112 >0, MIN(Y112,$I112-SUM($L112:Y112)), MAX(Y112,$I112-SUM($L112:Y112)))","v":8.734387553114475},{"$f":"IF($I112 >0, MIN(Z112,$I112-SUM($L112:Z112)), MAX(Z112,$I112-SUM($L112:Z112)))","v":8.734387553114475},{"$f":"IF($I112 >0, MIN(AA112,$I112-SUM($L112:AA112)), MAX(AA112,$I112-SUM($L112:AA112)))","v":8.734387553114475},{"$f":"IF($I112 >0, MIN(AB112,$I112-SUM($L112:AB112)), MAX(AB112,$I112-SUM($L112:AB112)))","v":8.734387553114475},{"$f":"IF($I112 >0, MIN(AC112,$I112-SUM($L112:AC112)), MAX(AC112,$I112-SUM($L112:AC112)))","v":8.734387553114475},{"$f":"IF($I112 >0, MIN(AD112,$I112-SUM($L112:AD112)), MAX(AD112,$I112-SUM($L112:AD112)))","v":8.734387553114475},{"$f":"IF($I112 >0, MIN(AE112,$I112-SUM($L112:AE112)), MAX(AE112,$I112-SUM($L112:AE112)))","v":8.734387553114475},{"$f":"IF($I112 >0, MIN(AF112,$I112-SUM($L112:AF112)), MAX(AF112,$I112-SUM($L112:AF112)))","v":8.734387553114475},{"$f":"IF($I112 >0, MIN(AG112,$I112-SUM($L112:AG112)), MAX(AG112,$I112-SUM($L112:AG112)))","v":8.734387553114475},{"$f":"IF($I112 >0, MIN(AH112,$I112-SUM($L112:AH112)), MAX(AH112,$I112-SUM($L112:AH112)))","v":8.734387553114475},{"$f":"IF($I112 >0, MIN(AI112,$I112-SUM($L112:AI112)), MAX(AI112,$I112-SUM($L112:AI112)))","v":8.734387553114475},{"$f":"IF($I112 >0, MIN(AJ112,$I112-SUM($L112:AJ112)), MAX(AJ112,$I112-SUM($L112:AJ112)))","v":8.734387553114475},{"$f":"IF($I112 >0, MIN(AK112,$I112-SUM($L112:AK112)), MAX(AK112,$I112-SUM($L112:AK112)))","v":8.734387553114475},{"$f":"IF($I112 >0, MIN(AL112,$I112-SUM($L112:AL112)), MAX(AL112,$I112-SUM($L112:AL112)))","v":8.734387553114475},{"$f":"IF($I112 >0, MIN(AM112,$I112-SUM($L112:AM112)), MAX(AM112,$I112-SUM($L112:AM112)))","v":8.734387553114475},{"$f":"IF($I112 >0, MIN(AN112,$I112-SUM($L112:AN112)), MAX(AN112,$I112-SUM($L112:AN112)))","v":8.734387553114475},{"$f":"IF($I112 >0, MIN(AO112,$I112-SUM($L112:AO112)), MAX(AO112,$I112-SUM($L112:AO112)))","v":8.734387553114475},{"$f":"IF($I112 >0, MIN(AP112,$I112-SUM($L112:AP112)), MAX(AP112,$I112-SUM($L112:AP112)))","v":8.734387553114475},{"$f":"IF($I112 >0, MIN(AQ112,$I112-SUM($L112:AQ112)), MAX(AQ112,$I112-SUM($L112:AQ112)))","v":8.734387553114475},{"$f":"IF($I112 >0, MIN(AR112,$I112-SUM($L112:AR112)), MAX(AR112,$I112-SUM($L112:AR112)))","v":8.734387553114475},{"$f":"IF($I112 >0, MIN(AS112,$I112-SUM($L112:AS112)), MAX(AS112,$I112-SUM($L112:AS112)))","v":8.734387553114475},null,false]
[null,null,null,null,"2005-03-31",null,"£m 18/19 prices",null,126.55198202648761,">",null,null,null,null,null,null,null,null,null,null,null,null,null,null,null,{"$f":"$I113/Y$92","v":2.8122662672552803},{"$f":"IF($I113 >0, MIN(Z113,$I113-SUM($L113:Z113)), MAX(Z113,$I113-SUM($L113:Z113)))","v":2.8122662672552803},{"$f":"IF($I113 >0, MIN(AA113,$I113-SUM($L113:AA113)), MAX(AA113,$I113-SUM($L113:AA113)))","v":2.8122662672552803},{"$f":"IF($I113 >0, MIN(AB113,$I113-SUM($L113:AB113)), MAX(AB113,$I113-SUM($L113:AB113)))","v":2.8122662672552803},{"$f":"IF($I113 >0, MIN(AC113,$I113-SUM($L113:AC113)), MAX(AC113,$I113-SUM($L113:AC113)))","v":2.8122662672552803},{"$f":"IF($I113 >0, MIN(AD113,$I113-SUM($L113:AD113)), MAX(AD113,$I113-SUM($L113:AD113)))","v":2.8122662672552803},{"$f":"IF($I113 >0, MIN(AE113,$I113-SUM($L113:AE113)), MAX(AE113,$I113-SUM($L113:AE113)))","v":2.8122662672552803},{"$f":"IF($I113 >0, MIN(AF113,$I113-SUM($L113:AF113)), MAX(AF113,$I113-SUM($L113:AF113)))","v":2.8122662672552803},{"$f":"IF($I113 >0, MIN(AG113,$I113-SUM($L113:AG113)), MAX(AG113,$I113-SUM($L113:AG113)))","v":2.8122662672552803},{"$f":"IF($I113 >0, MIN(AH113,$I113-SUM($L113:AH113)), MAX(AH113,$I113-SUM($L113:AH113)))","v":2.8122662672552803},{"$f":"IF($I113 >0, MIN(AI113,$I113-SUM($L113:AI113)), MAX(AI113,$I113-SUM($L113:AI113)))","v":2.8122662672552803},{"$f":"IF($I113 >0, MIN(AJ113,$I113-SUM($L113:AJ113)), MAX(AJ113,$I113-SUM($L113:AJ113)))","v":2.8122662672552803},{"$f":"IF($I113 >0, MIN(AK113,$I113-SUM($L113:AK113)), MAX(AK113,$I113-SUM($L113:AK113)))","v":2.8122662672552803},{"$f":"IF($I113 >0, MIN(AL113,$I113-SUM($L113:AL113)), MAX(AL113,$I113-SUM($L113:AL113)))","v":2.8122662672552803},{"$f":"IF($I113 >0, MIN(AM113,$I113-SUM($L113:AM113)), MAX(AM113,$I113-SUM($L113:AM113)))","v":2.8122662672552803},{"$f":"IF($I113 >0, MIN(AN113,$I113-SUM($L113:AN113)), MAX(AN113,$I113-SUM($L113:AN113)))","v":2.8122662672552803},{"$f":"IF($I113 >0, MIN(AO113,$I113-SUM($L113:AO113)), MAX(AO113,$I113-SUM($L113:AO113)))","v":2.8122662672552803},{"$f":"IF($I113 >0, MIN(AP113,$I113-SUM($L113:AP113)), MAX(AP113,$I113-SUM($L113:AP113)))","v":2.8122662672552803},{"$f":"IF($I113 >0, MIN(AQ113,$I113-SUM($L113:AQ113)), MAX(AQ113,$I113-SUM($L113:AQ113)))","v":2.8122662672552803},{"$f":"IF($I113 >0, MIN(AR113,$I113-SUM($L113:AR113)), MAX(AR113,$I113-SUM($L113:AR113)))","v":2.8122662672552803},{"$f":"IF($I113 >0, MIN(AS113,$I113-SUM($L113:AS113)), MAX(AS113,$I113-SUM($L113:AS113)))","v":2.8122662672552803},null,false]
[null,null,null,null,"2006-03-31",null,"£m 18/19 prices",null,393.92016193807626,">",null,null,null,null,null,null,null,null,null,null,null,null,null,null,null,null,{"$f":"$I114/Z$92","v":8.7537813764016938},{"$f":"IF($I114 >0, MIN(AA114,$I114-SUM($L114:AA114)), MAX(AA114,$I114-SUM($L114:AA114)))","v":8.7537813764016938},{"$f":"IF($I114 >0, MIN(AB114,$I114-SUM($L114:AB114)), MAX(AB114,$I114-SUM($L114:AB114)))","v":8.7537813764016938},{"$f":"IF($I114 >0, MIN(AC114,$I114-SUM($L114:AC114)), MAX(AC114,$I114-SUM($L114:AC114)))","v":8.7537813764016938},{"$f":"IF($I114 >0, MIN(AD114,$I114-SUM($L114:AD114)), MAX(AD114,$I114-SUM($L114:AD114)))","v":8.7537813764016938},{"$f":"IF($I114 >0, MIN(AE114,$I114-SUM($L114:AE114)), MAX(AE114,$I114-SUM($L114:AE114)))","v":8.7537813764016938},{"$f":"IF($I114 >0, MIN(AF114,$I114-SUM($L114:AF114)), MAX(AF114,$I114-SUM($L114:AF114)))","v":8.7537813764016938},{"$f":"IF($I114 >0, MIN(AG114,$I114-SUM($L114:AG114)), MAX(AG114,$I114-SUM($L114:AG114)))","v":8.7537813764016938},{"$f":"IF($I114 >0, MIN(AH114,$I114-SUM($L114:AH114)), MAX(AH114,$I114-SUM($L114:AH114)))","v":8.7537813764016938},{"$f":"IF($I114 >0, MIN(AI114,$I114-SUM($L114:AI114)), MAX(AI114,$I114-SUM($L114:AI114)))","v":8.7537813764016938},{"$f":"IF($I114 >0, MIN(AJ114,$I114-SUM($L114:AJ114)), MAX(AJ114,$I114-SUM($L114:AJ114)))","v":8.7537813764016938},{"$f":"IF($I114 >0, MIN(AK114,$I114-SUM($L114:AK114)), MAX(AK114,$I114-SUM($L114:AK114)))","v":8.7537813764016938},{"$f":"IF($I114 >0, MIN(AL114,$I114-SUM($L114:AL114)), MAX(AL114,$I114-SUM($L114:AL114)))","v":8.7537813764016938},{"$f":"IF($I114 >0, MIN(AM114,$I114-SUM($L114:AM114)), MAX(AM114,$I114-SUM($L114:AM114)))","v":8.7537813764016938},{"$f":"IF($I114 >0, MIN(AN114,$I114-SUM($L114:AN114)), MAX(AN114,$I114-SUM($L114:AN114)))","v":8.7537813764016938},{"$f":"IF($I114 >0, MIN(AO114,$I114-SUM($L114:AO114)), MAX(AO114,$I114-SUM($L114:AO114)))","v":8.7537813764016938},{"$f":"IF($I114 >0, MIN(AP114,$I114-SUM($L114:AP114)), MAX(AP114,$I114-SUM($L114:AP114)))","v":8.7537813764016938},{"$f":"IF($I114 >0, MIN(AQ114,$I114-SUM($L114:AQ114)), MAX(AQ114,$I114-SUM($L114:AQ114)))","v":8.7537813764016938},{"$f":"IF($I114 >0, MIN(AR114,$I114-SUM($L114:AR114)), MAX(AR114,$I114-SUM($L114:AR114)))","v":8.7537813764016938},{"$f":"IF($I114 >0, MIN(AS114,$I114-SUM($L114:AS114)), MAX(AS114,$I114-SUM($L114:AS114)))","v":8.7537813764016938},null,false]
[null,null,null,null,"2007-03-31",null,"£m 18/19 prices",null,710.49491725889584,">",null,null,null,null,null,null,null,null,null,null,null,null,null,null,null,null,null,{"$f":"$I115/AA$92","v":15.788775939086575},{"$f":"IF($I115 >0, MIN(AB115,$I115-SUM($L115:AB115)), MAX(AB115,$I115-SUM($L115:AB115)))","v":15.788775939086575},{"$f":"IF($I115 >0, MIN(AC115,$I115-SUM($L115:AC115)), MAX(AC115,$I115-SUM($L115:AC115)))","v":15.788775939086575},{"$f":"IF($I115 >0, MIN(AD115,$I115-SUM($L115:AD115)), MAX(AD115,$I115-SUM($L115:AD115)))","v":15.788775939086575},{"$f":"IF($I115 >0, MIN(AE115,$I115-SUM($L115:AE115)), MAX(AE115,$I115-SUM($L115:AE115)))","v":15.788775939086575},{"$f":"IF($I115 >0, MIN(AF115,$I115-SUM($L115:AF115)), MAX(AF115,$I115-SUM($L115:AF115)))","v":15.788775939086575},{"$f":"IF($I115 >0, MIN(AG115,$I115-SUM($L115:AG115)), MAX(AG115,$I115-SUM($L115:AG115)))","v":15.788775939086575},{"$f":"IF($I115 >0, MIN(AH115,$I115-SUM($L115:AH115)), MAX(AH115,$I115-SUM($L115:AH115)))","v":15.788775939086575},{"$f":"IF($I115 >0, MIN(AI115,$I115-SUM($L115:AI115)), MAX(AI115,$I115-SUM($L115:AI115)))","v":15.788775939086575},{"$f":"IF($I115 >0, MIN(AJ115,$I115-SUM($L115:AJ115)), MAX(AJ115,$I115-SUM($L115:AJ115)))","v":15.788775939086575},{"$f":"IF($I115 >0, MIN(AK115,$I115-SUM($L115:AK115)), MAX(AK115,$I115-SUM($L115:AK115)))","v":15.788775939086575},{"$f":"IF($I115 >0, MIN(AL115,$I115-SUM($L115:AL115)), MAX(AL115,$I115-SUM($L115:AL115)))","v":15.788775939086575},{"$f":"IF($I115 >0, MIN(AM115,$I115-SUM($L115:AM115)), MAX(AM115,$I115-SUM($L115:AM115)))","v":15.788775939086575},{"$f":"IF($I115 >0, MIN(AN115,$I115-SUM($L115:AN115)), MAX(AN115,$I115-SUM($L115:AN115)))","v":15.788775939086575},{"$f":"IF($I115 >0, MIN(AO115,$I115-SUM($L115:AO115)), MAX(AO115,$I115-SUM($L115:AO115)))","v":15.788775939086575},{"$f":"IF($I115 >0, MIN(AP115,$I115-SUM($L115:AP115)), MAX(AP115,$I115-SUM($L115:AP115)))","v":15.788775939086575},{"$f":"IF($I115 >0, MIN(AQ115,$I115-SUM($L115:AQ115)), MAX(AQ115,$I115-SUM($L115:AQ115)))","v":15.788775939086575},{"$f":"IF($I115 >0, MIN(AR115,$I115-SUM($L115:AR115)), MAX(AR115,$I115-SUM($L115:AR115)))","v":15.788775939086575},{"$f":"IF($I115 >0, MIN(AS115,$I115-SUM($L115:AS115)), MAX(AS115,$I115-SUM($L115:AS115)))","v":15.788775939086575},null,false]
[null,null,null,null,"2008-03-31",null,"£m 18/19 prices",null,769.15750254958812,">",null,null,null,null,null,null,null,null,null,null,null,null,null,null,null,null,null,null,{"$f":"$I116/AB$92","v":17.092388945546404},{"$f":"IF($I116 >0, MIN(AC116,$I116-SUM($L116:AC116)), MAX(AC116,$I116-SUM($L116:AC116)))","v":17.092388945546404},{"$f":"IF($I116 >0, MIN(AD116,$I116-SUM($L116:AD116)), MAX(AD116,$I116-SUM($L116:AD116)))","v":17.092388945546404},{"$f":"IF($I116 >0, MIN(AE116,$I116-SUM($L116:AE116)), MAX(AE116,$I116-SUM($L116:AE116)))","v":17.092388945546404},{"$f":"IF($I116 >0, MIN(AF116,$I116-SUM($L116:AF116)), MAX(AF116,$I116-SUM($L116:AF116)))","v":17.092388945546404},{"$f":"IF($I116 >0, MIN(AG116,$I116-SUM($L116:AG116)), MAX(AG116,$I116-SUM($L116:AG116)))","v":17.092388945546404},{"$f":"IF($I116 >0, MIN(AH116,$I116-SUM($L116:AH116)), MAX(AH116,$I116-SUM($L116:AH116)))","v":17.092388945546404},{"$f":"IF($I116 >0, MIN(AI116,$I116-SUM($L116:AI116)), MAX(AI116,$I116-SUM($L116:AI116)))","v":17.092388945546404},{"$f":"IF($I116 >0, MIN(AJ116,$I116-SUM($L116:AJ116)), MAX(AJ116,$I116-SUM($L116:AJ116)))","v":17.092388945546404},{"$f":"IF($I116 >0, MIN(AK116,$I116-SUM($L116:AK116)), MAX(AK116,$I116-SUM($L116:AK116)))","v":17.092388945546404},{"$f":"IF($I116 >0, MIN(AL116,$I116-SUM($L116:AL116)), MAX(AL116,$I116-SUM($L116:AL116)))","v":17.092388945546404},{"$f":"IF($I116 >0, MIN(AM116,$I116-SUM($L116:AM116)), MAX(AM116,$I116-SUM($L116:AM116)))","v":17.092388945546404},{"$f":"IF($I116 >0, MIN(AN116,$I116-SUM($L116:AN116)), MAX(AN116,$I116-SUM($L116:AN116)))","v":17.092388945546404},{"$f":"IF($I116 >0, MIN(AO116,$I116-SUM($L116:AO116)), MAX(AO116,$I116-SUM($L116:AO116)))","v":17.092388945546404},{"$f":"IF($I116 >0, MIN(AP116,$I116-SUM($L116:AP116)), MAX(AP116,$I116-SUM($L116:AP116)))","v":17.092388945546404},{"$f":"IF($I116 >0, MIN(AQ116,$I116-SUM($L116:AQ116)), MAX(AQ116,$I116-SUM($L116:AQ116)))","v":17.092388945546404},{"$f":"IF($I116 >0, MIN(AR116,$I116-SUM($L116:AR116)), MAX(AR116,$I116-SUM($L116:AR116)))","v":17.092388945546404},{"$f":"IF($I116 >0, MIN(AS116,$I116-SUM($L116:AS116)), MAX(AS116,$I116-SUM($L116:AS116)))","v":17.092388945546404},null,false]
[null,null,null,null,"2009-03-31",null,"£m 18/19 prices",null,325.33393765506702,">",null,null,null,null,null,null,null,null,null,null,null,null,null,null,null,null,null,null,null,{"$f":"$I117/AC$92","v":7.2296430590014893},{"$f":"IF($I117 >0, MIN(AD117,$I117-SUM($L117:AD117)), MAX(AD117,$I117-SUM($L117:AD117)))","v":7.2296430590014893},{"$f":"IF($I117 >0, MIN(AE117,$I117-SUM($L117:AE117)), MAX(AE117,$I117-SUM($L117:AE117)))","v":7.2296430590014893},{"$f":"IF($I117 >0, MIN(AF117,$I117-SUM($L117:AF117)), MAX(AF117,$I117-SUM($L117:AF117)))","v":7.2296430590014893},{"$f":"IF($I117 >0, MIN(AG117,$I117-SUM($L117:AG117)), MAX(AG117,$I117-SUM($L117:AG117)))","v":7.2296430590014893},{"$f":"IF($I117 >0, MIN(AH117,$I117-SUM($L117:AH117)), MAX(AH117,$I117-SUM($L117:AH117)))","v":7.2296430590014893},{"$f":"IF($I117 >0, MIN(AI117,$I117-SUM($L117:AI117)), MAX(AI117,$I117-SUM($L117:AI117)))","v":7.2296430590014893},{"$f":"IF($I117 >0, MIN(AJ117,$I117-SUM($L117:AJ117)), MAX(AJ117,$I117-SUM($L117:AJ117)))","v":7.2296430590014893},{"$f":"IF($I117 >0, MIN(AK117,$I117-SUM($L117:AK117)), MAX(AK117,$I117-SUM($L117:AK117)))","v":7.2296430590014893},{"$f":"IF($I117 >0, MIN(AL117,$I117-SUM($L117:AL117)), MAX(AL117,$I117-SUM($L117:AL117)))","v":7.2296430590014893},{"$f":"IF($I117 >0, MIN(AM117,$I117-SUM($L117:AM117)), MAX(AM117,$I117-SUM($L117:AM117)))","v":7.2296430590014893},{"$f":"IF($I117 >0, MIN(AN117,$I117-SUM($L117:AN117)), MAX(AN117,$I117-SUM($L117:AN117)))","v":7.2296430590014893},{"$f":"IF($I117 >0, MIN(AO117,$I117-SUM($L117:AO117)), MAX(AO117,$I117-SUM($L117:AO117)))","v":7.2296430590014893},{"$f":"IF($I117 >0, MIN(AP117,$I117-SUM($L117:AP117)), MAX(AP117,$I117-SUM($L117:AP117)))","v":7.2296430590014893},{"$f":"IF($I117 >0, MIN(AQ117,$I117-SUM($L117:AQ117)), MAX(AQ117,$I117-SUM($L117:AQ117)))","v":7.2296430590014893},{"$f":"IF($I117 >0, MIN(AR117,$I117-SUM($L117:AR117)), MAX(AR117,$I117-SUM($L117:AR117)))","v":7.2296430590014893},{"$f":"IF($I117 >0, MIN(AS117,$I117-SUM($L117:AS117)), MAX(AS117,$I117-SUM($L117:AS117)))","v":7.2296430590014893},null,false]
[null,null,null,null,"2010-03-31",null,"£m 18/19 prices",null,161.75873847786809,">",null,null,null,null,null,null,null,null,null,null,null,null,null,null,null,null,null,null,null,null,{"$f":"$I118/AD$92","v":3.5946386328415132},{"$f":"IF($I118 >0, MIN(AE118,$I118-SUM($L118:AE118)), MAX(AE118,$I118-SUM($L118:AE118)))","v":3.5946386328415132},{"$f":"IF($I118 >0, MIN(AF118,$I118-SUM($L118:AF118)), MAX(AF118,$I118-SUM($L118:AF118)))","v":3.5946386328415132},{"$f":"IF($I118 >0, MIN(AG118,$I118-SUM($L118:AG118)), MAX(AG118,$I118-SUM($L118:AG118)))","v":3.5946386328415132},{"$f":"IF($I118 >0, MIN(AH118,$I118-SUM($L118:AH118)), MAX(AH118,$I118-SUM($L118:AH118)))","v":3.5946386328415132},{"$f":"IF($I118 >0, MIN(AI118,$I118-SUM($L118:AI118)), MAX(AI118,$I118-SUM($L118:AI118)))","v":3.5946386328415132},{"$f":"IF($I118 >0, MIN(AJ118,$I118-SUM($L118:AJ118)), MAX(AJ118,$I118-SUM($L118:AJ118)))","v":3.5946386328415132},{"$f":"IF($I118 >0, MIN(AK118,$I118-SUM($L118:AK118)), MAX(AK118,$I118-SUM($L118:AK118)))","v":3.5946386328415132},{"$f":"IF($I118 >0, MIN(AL118,$I118-SUM($L118:AL118)), MAX(AL118,$I118-SUM($L118:AL118)))","v":3.5946386328415132},{"$f":"IF($I118 >0, MIN(AM118,$I118-SUM($L118:AM118)), MAX(AM118,$I118-SUM($L118:AM118)))","v":3.5946386328415132},{"$f":"IF($I118 >0, MIN(AN118,$I118-SUM($L118:AN118)), MAX(AN118,$I118-SUM($L118:AN118)))","v":3.5946386328415132},{"$f":"IF($I118 >0, MIN(AO118,$I118-SUM($L118:AO118)), MAX(AO118,$I118-SUM($L118:AO118)))","v":3.5946386328415132},{"$f":"IF($I118 >0, MIN(AP118,$I118-SUM($L118:AP118)), MAX(AP118,$I118-SUM($L118:AP118)))","v":3.5946386328415132},{"$f":"IF($I118 >0, MIN(AQ118,$I118-SUM($L118:AQ118)), MAX(AQ118,$I118-SUM($L118:AQ118)))","v":3.5946386328415132},{"$f":"IF($I118 >0, MIN(AR118,$I118-SUM($L118:AR118)), MAX(AR118,$I118-SUM($L118:AR118)))","v":3.5946386328415132},{"$f":"IF($I118 >0, MIN(AS118,$I118-SUM($L118:AS118)), MAX(AS118,$I118-SUM($L118:AS118)))","v":3.5946386328415132},null,false]
[null,null,null,null,"2011-03-31",null,"£m 18/19 prices",null,131.2813581348754,">",null,null,null,null,null,null,null,null,null,null,null,null,null,null,null,null,null,null,null,null,null,{"$f":"$I119/AE$92","v":2.9173635141083425},{"$f":"IF($I119 >0, MIN(AF119,$I119-SUM($L119:AF119)), MAX(AF119,$I119-SUM($L119:AF119)))","v":2.9173635141083425},{"$f":"IF($I119 >0, MIN(AG119,$I119-SUM($L119:AG119)), MAX(AG119,$I119-SUM($L119:AG119)))","v":2.9173635141083425},{"$f":"IF($I119 >0, MIN(AH119,$I119-SUM($L119:AH119)), MAX(AH119,$I119-SUM($L119:AH119)))","v":2.9173635141083425},{"$f":"IF($I119 >0, MIN(AI119,$I119-SUM($L119:AI119)), MAX(AI119,$I119-SUM($L119:AI119)))","v":2.9173635141083425},{"$f":"IF($I119 >0, MIN(AJ119,$I119-SUM($L119:AJ119)), MAX(AJ119,$I119-SUM($L119:AJ119)))","v":2.9173635141083425},{"$f":"IF($I119 >0, MIN(AK119,$I119-SUM($L119:AK119)), MAX(AK119,$I119-SUM($L119:AK119)))","v":2.9173635141083425},{"$f":"IF($I119 >0, MIN(AL119,$I119-SUM($L119:AL119)), MAX(AL119,$I119-SUM($L119:AL119)))","v":2.9173635141083425},{"$f":"IF($I119 >0, MIN(AM119,$I119-SUM($L119:AM119)), MAX(AM119,$I119-SUM($L119:AM119)))","v":2.9173635141083425},{"$f":"IF($I119 >0, MIN(AN119,$I119-SUM($L119:AN119)), MAX(AN119,$I119-SUM($L119:AN119)))","v":2.9173635141083425},{"$f":"IF($I119 >0, MIN(AO119,$I119-SUM($L119:AO119)), MAX(AO119,$I119-SUM($L119:AO119)))","v":2.9173635141083425},{"$f":"IF($I119 >0, MIN(AP119,$I119-SUM($L119:AP119)), MAX(AP119,$I119-SUM($L119:AP119)))","v":2.9173635141083425},{"$f":"IF($I119 >0, MIN(AQ119,$I119-SUM($L119:AQ119)), MAX(AQ119,$I119-SUM($L119:AQ119)))","v":2.9173635141083425},{"$f":"IF($I119 >0, MIN(AR119,$I119-SUM($L119:AR119)), MAX(AR119,$I119-SUM($L119:AR119)))","v":2.9173635141083425},{"$f":"IF($I119 >0, MIN(AS119,$I119-SUM($L119:AS119)), MAX(AS119,$I119-SUM($L119:AS119)))","v":2.9173635141083425},null,false]
[null,null,null,null,"2012-03-31",null,"£m 18/19 prices",null,132.7730693259773,">",null,null,null,null,null,null,null,null,null,null,null,null,null,null,null,null,null,null,null,null,null,null,{"$f":"$I120/AF$92","v":2.9505126516883844},{"$f":"IF($I120 >0, MIN(AG120,$I120-SUM($L120:AG120)), MAX(AG120,$I120-SUM($L120:AG120)))","v":2.9505126516883844},{"$f":"IF($I120 >0, MIN(AH120,$I120-SUM($L120:AH120)), MAX(AH120,$I120-SUM($L120:AH120)))","v":2.9505126516883844},{"$f":"IF($I120 >0, MIN(AI120,$I120-SUM($L120:AI120)), MAX(AI120,$I120-SUM($L120:AI120)))","v":2.9505126516883844},{"$f":"IF($I120 >0, MIN(AJ120,$I120-SUM($L120:AJ120)), MAX(AJ120,$I120-SUM($L120:AJ120)))","v":2.9505126516883844},{"$f":"IF($I120 >0, MIN(AK120,$I120-SUM($L120:AK120)), MAX(AK120,$I120-SUM($L120:AK120)))","v":2.9505126516883844},{"$f":"IF($I120 >0, MIN(AL120,$I120-SUM($L120:AL120)), MAX(AL120,$I120-SUM($L120:AL120)))","v":2.9505126516883844},{"$f":"IF($I120 >0, MIN(AM120,$I120-SUM($L120:AM120)), MAX(AM120,$I120-SUM($L120:AM120)))","v":2.9505126516883844},{"$f":"IF($I120 >0, MIN(AN120,$I120-SUM($L120:AN120)), MAX(AN120,$I120-SUM($L120:AN120)))","v":2.9505126516883844},{"$f":"IF($I120 >0, MIN(AO120,$I120-SUM($L120:AO120)), MAX(AO120,$I120-SUM($L120:AO120)))","v":2.9505126516883844},{"$f":"IF($I120 >0, MIN(AP120,$I120-SUM($L120:AP120)), MAX(AP120,$I120-SUM($L120:AP120)))","v":2.9505126516883844},{"$f":"IF($I120 >0, MIN(AQ120,$I120-SUM($L120:AQ120)), MAX(AQ120,$I120-SUM($L120:AQ120)))","v":2.9505126516883844},{"$f":"IF($I120 >0, MIN(AR120,$I120-SUM($L120:AR120)), MAX(AR120,$I120-SUM($L120:AR120)))","v":2.9505126516883844},{"$f":"IF($I120 >0, MIN(AS120,$I120-SUM($L120:AS120)), MAX(AS120,$I120-SUM($L120:AS120)))","v":2.9505126516883844},null,false]
[null,null,null,null,"2013-03-31",null,"£m 18/19 prices",null,-37.765799609948715,null,null,null,null,null,null,null,null,null,null,null,null,null,null,null,null,null,null,null,null,null,null,null,null,{"$f":"$I121/AG$92","v":-0.83923999133219362},{"$f":"IF($I121 >0, MIN(AH121,$I121-SUM($L121:AH121)), MAX(AH121,$I121-SUM($L121:AH121)))","v":-0.83923999133219362},{"$f":"IF($I121 >0, MIN(AI121,$I121-SUM($L121:AI121)), MAX(AI121,$I121-SUM($L121:AI121)))","v":-0.83923999133219362},{"$f":"IF($I121 >0, MIN(AJ121,$I121-SUM($L121:AJ121)), MAX(AJ121,$I121-SUM($L121:AJ121)))","v":-0.83923999133219362},{"$f":"IF($I121 >0, MIN(AK121,$I121-SUM($L121:AK121)), MAX(AK121,$I121-SUM($L121:AK121)))","v":-0.83923999133219362},{"$f":"IF($I121 >0, MIN(AL121,$I121-SUM($L121:AL121)), MAX(AL121,$I121-SUM($L121:AL121)))","v":-0.83923999133219362},{"$f":"IF($I121 >0, MIN(AM121,$I121-SUM($L121:AM121)), MAX(AM121,$I121-SUM($L121:AM121)))","v":-0.83923999133219362},{"$f":"IF($I121 >0, MIN(AN121,$I121-SUM($L121:AN121)), MAX(AN121,$I121-SUM($L121:AN121)))","v":-0.83923999133219362},{"$f":"IF($I121 >0, MIN(AO121,$I121-SUM($L121:AO121)), MAX(AO121,$I121-SUM($L121:AO121)))","v":-0.83923999133219362},{"$f":"IF($I121 >0, MIN(AP121,$I121-SUM($L121:AP121)), MAX(AP121,$I121-SUM($L121:AP121)))","v":-0.83923999133219362},{"$f":"IF($I121 >0, MIN(AQ121,$I121-SUM($L121:AQ121)), MAX(AQ121,$I121-SUM($L121:AQ121)))","v":-0.83923999133219362},{"$f":"IF($I121 >0, MIN(AR121,$I121-SUM($L121:AR121)), MAX(AR121,$I121-SUM($L121:AR121)))","v":-0.83923999133219362},{"$f":"IF($I121 >0, MIN(AS121,$I121-SUM($L121:AS121)), MAX(AS121,$I121-SUM($L121:AS121)))","v":-0.83923999133219362},null,false]
[null,null,null,null,"2014-03-31",null,"£m 18/19 prices",null,212.5523707516233,null,null,null,null,null,null,null,null,null,null,null,null,null,null,null,null,null,null,null,null,null,null,null,null,null,{"$f":"$I122/AH$92","v":4.7233860167027402},{"$f":"IF($I122 >0, MIN(AI122,$I122-SUM($L122:AI122)), MAX(AI122,$I122-SUM($L122:AI122)))","v":4.7233860167027402},{"$f":"IF($I122 >0, MIN(AJ122,$I122-SUM($L122:AJ122)), MAX(AJ122,$I122-SUM($L122:AJ122)))","v":4.7233860167027402},{"$f":"IF($I122 >0, MIN(AK122,$I122-SUM($L122:AK122)), MAX(AK122,$I122-SUM($L122:AK122)))","v":4.7233860167027402},{"$f":"IF($I122 >0, MIN(AL122,$I122-SUM($L122:AL122)), MAX(AL122,$I122-SUM($L122:AL122)))","v":4.7233860167027402},{"$f":"IF($I122 >0, MIN(AM122,$I122-SUM($L122:AM122)), MAX(AM122,$I122-SUM($L122:AM122)))","v":4.7233860167027402},{"$f":"IF($I122 >0, MIN(AN122,$I122-SUM($L122:AN122)), MAX(AN122,$I122-SUM($L122:AN122)))","v":4.7233860167027402},{"$f":"IF($I122 >0, MIN(AO122,$I122-SUM($L122:AO122)), MAX(AO122,$I122-SUM($L122:AO122)))","v":4.7233860167027402},{"$f":"IF($I122 >0, MIN(AP122,$I122-SUM($L122:AP122)), MAX(AP122,$I122-SUM($L122:AP122)))","v":4.7233860167027402},{"$f":"IF($I122 >0, MIN(AQ122,$I122-SUM($L122:AQ122)), MAX(AQ122,$I122-SUM($L122:AQ122)))","v":4.7233860167027402},{"$f":"IF($I122 >0, MIN(AR122,$I122-SUM($L122:AR122)), MAX(AR122,$I122-SUM($L122:AR122)))","v":4.7233860167027402},{"$f":"IF($I122 >0, MIN(AS122,$I122-SUM($L122:AS122)), MAX(AS122,$I122-SUM($L122:AS122)))","v":4.7233860167027402},null,false]
[null,null,null,null,"2015-03-31",null,"£m 18/19 prices",null,170.28866360126466,null,null,null,null,null,null,null,null,null,null,null,null,null,null,null,null,null,null,null,null,null,null,null,null,null,null,{"$f":"$I123/AI$92","v":3.7841925244725481},{"$f":"IF($I123 >0, MIN(AJ123,$I123-SUM($L123:AJ123)), MAX(AJ123,$I123-SUM($L123:AJ123)))","v":3.7841925244725481},{"$f":"IF($I123 >0, MIN(AK123,$I123-SUM($L123:AK123)), MAX(AK123,$I123-SUM($L123:AK123)))","v":3.7841925244725481},{"$f":"IF($I123 >0, MIN(AL123,$I123-SUM($L123:AL123)), MAX(AL123,$I123-SUM($L123:AL123)))","v":3.7841925244725481},{"$f":"IF($I123 >0, MIN(AM123,$I123-SUM($L123:AM123)), MAX(AM123,$I123-SUM($L123:AM123)))","v":3.7841925244725481},{"$f":"IF($I123 >0, MIN(AN123,$I123-SUM($L123:AN123)), MAX(AN123,$I123-SUM($L123:AN123)))","v":3.7841925244725481},{"$f":"IF($I123 >0, MIN(AO123,$I123-SUM($L123:AO123)), MAX(AO123,$I123-SUM($L123:AO123)))","v":3.7841925244725481},{"$f":"IF($I123 >0, MIN(AP123,$I123-SUM($L123:AP123)), MAX(AP123,$I123-SUM($L123:AP123)))","v":3.7841925244725481},{"$f":"IF($I123 >0, MIN(AQ123,$I123-SUM($L123:AQ123)), MAX(AQ123,$I123-SUM($L123:AQ123)))","v":3.7841925244725481},{"$f":"IF($I123 >0, MIN(AR123,$I123-SUM($L123:AR123)), MAX(AR123,$I123-SUM($L123:AR123)))","v":3.7841925244725481},{"$f":"IF($I123 >0, MIN(AS123,$I123-SUM($L123:AS123)), MAX(AS123,$I123-SUM($L123:AS123)))","v":3.7841925244725481},null,false]
[null,null,null,null,"2016-03-31",null,"£m 18/19 prices",null,160.76820306435465,null,null,null,null,null,null,null,null,null,null,null,null,null,null,null,null,null,null,null,null,null,null,null,null,null,null,null,{"$f":"$I124/AJ$92","v":3.5726267347634368},{"$f":"IF($I124 >0, MIN(AK124,$I124-SUM($L124:AK124)), MAX(AK124,$I124-SUM($L124:AK124)))","v":3.5726267347634368},{"$f":"IF($I124 >0, MIN(AL124,$I124-SUM($L124:AL124)), MAX(AL124,$I124-SUM($L124:AL124)))","v":3.5726267347634368},{"$f":"IF($I124 >0, MIN(AM124,$I124-SUM($L124:AM124)), MAX(AM124,$I124-SUM($L124:AM124)))","v":3.5726267347634368},{"$f":"IF($I124 >0, MIN(AN124,$I124-SUM($L124:AN124)), MAX(AN124,$I124-SUM($L124:AN124)))","v":3.5726267347634368},{"$f":"IF($I124 >0, MIN(AO124,$I124-SUM($L124:AO124)), MAX(AO124,$I124-SUM($L124:AO124)))","v":3.5726267347634368},{"$f":"IF($I124 >0, MIN(AP124,$I124-SUM($L124:AP124)), MAX(AP124,$I124-SUM($L124:AP124)))","v":3.5726267347634368},{"$f":"IF($I124 >0, MIN(AQ124,$I124-SUM($L124:AQ124)), MAX(AQ124,$I124-SUM($L124:AQ124)))","v":3.5726267347634368},{"$f":"IF($I124 >0, MIN(AR124,$I124-SUM($L124:AR124)), MAX(AR124,$I124-SUM($L124:AR124)))","v":3.5726267347634368},{"$f":"IF($I124 >0, MIN(AS124,$I124-SUM($L124:AS124)), MAX(AS124,$I124-SUM($L124:AS124)))","v":3.5726267347634368},null,false]
[null,null,null,null,"2017-03-31",null,"£m 18/19 prices",null,181.59587737509875,null,null,null,null,null,null,null,null,null,null,null,null,null,null,null,null,null,null,null,null,null,null,null,null,null,null,null,null,{"$f":"$I125/AK$92","v":4.0354639416688611},{"$f":"IF($I125 >0, MIN(AL125,$I125-SUM($L125:AL125)), MAX(AL125,$I125-SUM($L125:AL125)))","v":4.0354639416688611},{"$f":"IF($I125 >0, MIN(AM125,$I125-SUM($L125:AM125)), MAX(AM125,$I125-SUM($L125:AM125)))","v":4.0354639416688611},{"$f":"IF($I125 >0, MIN(AN125,$I125-SUM($L125:AN125)), MAX(AN125,$I125-SUM($L125:AN125)))","v":4.0354639416688611},{"$f":"IF($I125 >0, MIN(AO125,$I125-SUM($L125:AO125)), MAX(AO125,$I125-SUM($L125:AO125)))","v":4.0354639416688611},{"$f":"IF($I125 >0, MIN(AP125,$I125-SUM($L125:AP125)), MAX(AP125,$I125-SUM($L125:AP125)))","v":4.0354639416688611},{"$f":"IF($I125 >0, MIN(AQ125,$I125-SUM($L125:AQ125)), MAX(AQ125,$I125-SUM($L125:AQ125)))","v":4.0354639416688611},{"$f":"IF($I125 >0, MIN(AR125,$I125-SUM($L125:AR125)), MAX(AR125,$I125-SUM($L125:AR125)))","v":4.0354639416688611},{"$f":"IF($I125 >0, MIN(AS125,$I125-SUM($L125:AS125)), MAX(AS125,$I125-SUM($L125:AS125)))","v":4.0354639416688611},null,false]
[null,null,null,null,"2018-03-31",null,"£m 18/19 prices",null,245.9491647431349,null,null,null,null,null,null,null,null,null,null,null,null,null,null,null,null,null,null,null,null,null,null,null,null,null,null,null,null,null,{"$f":"$I126/AL$92","v":5.4655369942918863},{"$f":"IF($I126 >0, MIN(AM126,$I126-SUM($L126:AM126)), MAX(AM126,$I126-SUM($L126:AM126)))","v":5.4655369942918863},{"$f":"IF($I126 >0, MIN(AN126,$I126-SUM($L126:AN126)), MAX(AN126,$I126-SUM($L126:AN126)))","v":5.4655369942918863},{"$f":"IF($I126 >0, MIN(AO126,$I126-SUM($L126:AO126)), MAX(AO126,$I126-SUM($L126:AO126)))","v":5.4655369942918863},{"$f":"IF($I126 >0, MIN(AP126,$I126-SUM($L126:AP126)), MAX(AP126,$I126-SUM($L126:AP126)))","v":5.4655369942918863},{"$f":"IF($I126 >0, MIN(AQ126,$I126-SUM($L126:AQ126)), MAX(AQ126,$I126-SUM($L126:AQ126)))","v":5.4655369942918863},{"$f":"IF($I126 >0, MIN(AR126,$I126-SUM($L126:AR126)), MAX(AR126,$I126-SUM($L126:AR126)))","v":5.4655369942918863},{"$f":"IF($I126 >0, MIN(AS126,$I126-SUM($L126:AS126)), MAX(AS126,$I126-SUM($L126:AS126)))","v":5.4655369942918863},null,false]
[null,null,null,null,"2019-03-31",null,"£m 18/19 prices",null,229.32945839854813,null,null,null,null,null,null,null,null,null,null,null,null,null,null,null,null,null,null,null,null,null,null,null,null,null,null,null,null,null,null,{"$f":"$I127/AM$92","v":5.0962101866344032},{"$f":"IF($I127 >0, MIN(AN127,$I127-SUM($L127:AN127)), MAX(AN127,$I127-SUM($L127:AN127)))","v":5.0962101866344032},{"$f":"IF($I127 >0, MIN(AO127,$I127-SUM($L127:AO127)), MAX(AO127,$I127-SUM($L127:AO127)))","v":5.0962101866344032},{"$f":"IF($I127 >0, MIN(AP127,$I127-SUM($L127:AP127)), MAX(AP127,$I127-SUM($L127:AP127)))","v":5.0962101866344032},{"$f":"IF($I127 >0, MIN(AQ127,$I127-SUM($L127:AQ127)), MAX(AQ127,$I127-SUM($L127:AQ127)))","v":5.0962101866344032},{"$f":"IF($I127 >0, MIN(AR127,$I127-SUM($L127:AR127)), MAX(AR127,$I127-SUM($L127:AR127)))","v":5.0962101866344032},{"$f":"IF($I127 >0, MIN(AS127,$I127-SUM($L127:AS127)), MAX(AS127,$I127-SUM($L127:AS127)))","v":5.0962101866344032},null,false]
[null,null,null,null,"2020-03-31",null,"£m 18/19 prices",null,174.25903562198178,null,null,null,null,null,null,null,null,null,null,null,null,null,null,null,null,null,null,null,null,null,null,null,null,null,null,null,null,null,null,null,{"$f":"$I128/AN$92","v":3.8724230138218174},{"$f":"IF($I128 >0, MIN(AO128,$I128-SUM($L128:AO128)), MAX(AO128,$I128-SUM($L128:AO128)))","v":3.8724230138218174},{"$f":"IF($I128 >0, MIN(AP128,$I128-SUM($L128:AP128)), MAX(AP128,$I128-SUM($L128:AP128)))","v":3.8724230138218174},{"$f":"IF($I128 >0, MIN(AQ128,$I128-SUM($L128:AQ128)), MAX(AQ128,$I128-SUM($L128:AQ128)))","v":3.8724230138218174},{"$f":"IF($I128 >0, MIN(AR128,$I128-SUM($L128:AR128)), MAX(AR128,$I128-SUM($L128:AR128)))","v":3.8724230138218174},{"$f":"IF($I128 >0, MIN(AS128,$I128-SUM($L128:AS128)), MAX(AS128,$I128-SUM($L128:AS128)))","v":3.8724230138218174},null,false]
[null,null,null,null,"2021-03-31",null,"£m 18/19 prices",null,149.34140951034567,null,null,null,null,null,null,null,null,null,null,null,null,null,null,null,null,null,null,null,null,null,null,null,null,null,null,null,null,null,null,null,null,{"$f":"$I129/AO$92","v":3.3186979891187929},{"$f":"IF($I129 >0, MIN(AP129,$I129-SUM($L129:AP129)), MAX(AP129,$I129-SUM($L129:AP129)))","v":3.3186979891187929},{"$f":"IF($I129 >0, MIN(AQ129,$I129-SUM($L129:AQ129)), MAX(AQ129,$I129-SUM($L129:AQ129)))","v":3.3186979891187929},{"$f":"IF($I129 >0, MIN(AR129,$I129-SUM($L129:AR129)), MAX(AR129,$I129-SUM($L129:AR129)))","v":3.3186979891187929},{"$f":"IF($I129 >0, MIN(AS129,$I129-SUM($L129:AS129)), MAX(AS129,$I129-SUM($L129:AS129)))","v":3.3186979891187929},null,false]
[null,null,null,null,"2022-03-31",null,"£m 18/19 prices",null,0,null,null,null,null,null,null,null,null,null,null,null,null,null,null,null,null,null,null,null,null,null,null,null,null,null,null,null,null,null,null,null,null,null,{"$f":"$I130/AP$92","v":0},{"$f":"IF($I130 >0, MIN(AQ130,$I130-SUM($L130:AQ130)), MAX(AQ130,$I130-SUM($L130:AQ130)))","v":0},{"$f":"IF($I130 >0, MIN(AR130,$I130-SUM($L130:AR130)), MAX(AR130,$I130-SUM($L130:AR130)))","v":0},{"$f":"IF($I130 >0, MIN(AS130,$I130-SUM($L130:AS130)), MAX(AS130,$I130-SUM($L130:AS130)))","v":0},null,false]
[null,null,null,null,"2023-03-31",null,"£m 18/19 prices",null,0,null,null,null,null,null,null,null,null,null,null,null,null,null,null,null,null,null,null,null,null,null,null,null,null,null,null,null,null,null,null,null,null,null,null,{"$f":"$I131/AQ$92","v":0},{"$f":"IF($I131 >0, MIN(AR131,$I131-SUM($L131:AR131)), MAX(AR131,$I131-SUM($L131:AR131)))","v":0},{"$f":"IF($I131 >0, MIN(AS131,$I131-SUM($L131:AS131)), MAX(AS131,$I131-SUM($L131:AS131)))","v":0},null,false]
[null,null,null,null,"2024-03-31",null,"£m 18/19 prices",null,0,null,null,null,null,null,null,null,null,null,null,null,null,null,null,null,null,null,null,null,null,null,null,null,null,null,null,null,null,null,null,null,null,null,null,null,{"$f":"$I132/AR$92","v":0},{"$f":"IF($I132 >0, MIN(AS132,$I132-SUM($L132:AS132)), MAX(AS132,$I132-SUM($L132:AS132)))","v":0},null,false]
[null,null,null,null,"2025-03-31",null,"£m 18/19 prices",null,0,null,null,null,null,null,null,null,null,null,null,null,null,null,null,null,null,null,null,null,null,null,null,null,null,null,null,null,null,null,null,null,null,null,null,null,null,{"$f":"$I133/AS$92","v":0},null,false]
[null,null,null,null,"2026-03-31",null,"£m 18/19 prices",null,0,null,null,null,null,null,null,null,null,null,null,null,null,null,null,null,null,null,null,null,null,null,null,null,null,null,null,null,null,null,null,null,null,null,null,null,null,null,null,false]
[null,null,null,null,"Total",null,"£m 18/19 prices",null,null,null,null,{"$f":"SUM(L99:L134)","v":0},0,0,0,0,0,0,0,0,0,0,0,0,8.734387553114475,11.546653820369755,20.300435196771449,36.089211135858022,53.181600081404426,60.411243140405915,64.005881773247424,66.923245287355769,69.873757939044154,69.034517947711961,73.757903964414709,77.542096488887253,81.114723223650685,85.150187165319551,90.615724159611432,95.71193434624584,99.584357360067656,102.90305534918645,102.90305534918645,102.90305534918645,102.90305534918645,{"$f":"SUM(AT99:AT134)","v":102.90305534918645}]
[]
[]
[null,null,"Post-vesting depreciation - differential"]
[]
[null,null,null,"Depreciation parameters"]
[]
[null,null,null,null,"Start of differential depreciation calculation",null,"year ending",null,{"$f":"I39","v":"2003-03-31"}]
[null,null,null,null,"Start of differential depreciation recovery period",null,"year ending",null,{"$f":"I40","v":"2022-03-31"}]
[null,null,null,null,"Existing assets depreciation recovery period ",null,"years",null,{"$f":"I41","v":20}]
[null,null,null,null,"Last year depreciation recovery for existing assets",null,"year ending",null,{"$f":"I42","v":"2041-03-31"}]
[]
[null,null,null,null,"Year in recovery period",null,"text",null,null,">",null,{"$f":"AND(L$4 >= $I$143, L$4 <= $I$145)","v":false},{"$f":"AND(M$4 >= $I$143, M$4 <= $I$145)","v":false},false,false,false,false,false,false,false,false,false,false,false,false,false,false,false,false,false,false,false,false,false,false,false,false,false,false,false,false,true,true,true,true,true]
[]
[null,null,null,"Depreciation schedule"]
[]
[null,null,null,null,"Depreciation of differential depreciation from year ending",null,null,null,"Differential",null,null,null,null,null,null,null,null,null,null,null,null,null,null,null,null,null,null,null,null,null,null,null,null,null,null,null,null,null,null,null,null,null,null,null,null,null,null,"Sum of digits depreciation applies (existing assets)"]
[null,null,null,null,"1991-03-31",null,"£m 18/19 prices",null,{"$f":"(SUMPRODUCT(($L49:$AT49) * ($L$44:$AT$44 = FALSE)) - SUMPRODUCT(($L99:$AT99) * ($L$44:$AT$44 = FALSE))) * ($E152 >=$I$142)","v":0},">",null,{"$f":"($I152 / $I$144) * L$147","v":0},{"$f":"($I152 / $I$144) * M$147","v":0},0,0,0,0,0,0,0,0,0,0,0,0,0,0,0,{"$f":"($I152 / $I$144) * AC$147","v":0},0,0,0,0,0,0,0,0,0,0,0,0,0,0,0,{"$f":"($I152 / $I$144) * AS$147","v":0},0,null,{"$f":"$E152 >= $I$142","v":false}]
[null,null,null,null,"1992-03-31",null,"£m 18/19 prices",null,{"$f":"(SUMPRODUCT(($L50:$AT50) * ($L$44:$AT$44 = FALSE)) - SUMPRODUCT(($L100:$AT100) * ($L$44:$AT$44 = FALSE))) * ($E153 >=$I$142)","v":0},">",null,{"$f":"($I153 / $I$144) * L$147","v":0},0,0,0,0,0,0,0,0,0,0,0,0,0,0,0,0,0,0,0,0,0,0,0,0,0,0,0,0,0,0,0,0,0,0,null,{"$f":"$E153 >= $I$142","v":false}]
[null,null,null,null,"1993-03-31",null,"£m 18/19 prices",null,0,">",null,0,0,0,0,0,0,0,0,0,0,0,0,0,0,0,0,0,0,0,0,0,0,0,0,0,0,0,0,0,0,0,0,0,0,0,null,false]
[null,null,null,null,"1994-03-31",null,"£m 18/19 prices",null,0,">",null,0,0,0,0,0,0,0,0,0,0,0,0,0,0,0,0,0,0,0,0,0,0,0,0,0,0,0,0,0,0,0,0,0,0,0,null,false]
[null,null,null,null,"1995-03-31",null,"£m 18/19 prices",null,0,">",null,0,0,0,0,0,0,0,0,0,0,0,0,0,0,0,0,0,0,0,0,0,0,0,0,0,0,0,0,0,0,0,0,0,0,0,null,false]
[null,null,null,null,"1996-03-31",null,"£m 18/19 prices",null,0,">",null,0,0,0,0,0,0,0,0,0,0,0,0,0,0,0,0,0,0,0,0,0,0,0,0,0,0,0,0,0,0,0,0,0,0,0,null,false]
[null,null,null,null,"1997-03-31",null,"£m 18/19 prices",null,0,">",null,0,0,0,0,0,0,0,0,0,0,0,0,0,0,0,0,0,0,0,0,0,0,0,0,0,0,0,0,0,0,0,0,0,0,0,null,false]
[null,null,null,null,"1998-03-31",null,"£m 18/19 prices",null,0,">",null,0,0,0,0,0,0,0,0,0,0,0,0,0,0,0,0,0,0,0,0,0,0,0,0,0,0,0,0,0,0,0,0,0,0,0,null,false]
[null,null,null,null,"1999-03-31",null,"£m 18/19 prices",null,0,">",null,0,0,0,0,0,0,0,0,0,0,0,0,0,0,0,0,0,0,0,0,0,0,0,0,0,0,0,0,0,0,0,0,0,0,0,null,false]
[null,null,null,null,"2000-03-31",null,"£m 18/19 prices",null,0,">",null,0,0,0,0,0,0,0,0,0,0,0,0,0,0,0,0,0,0,0,0,0,0,0,0,0,0,0,0,0,0,0,0,0,0,0,null,false]
[null,null,null,null,"2001-03-31",null,"£m 18/19 prices",null,0,">",null,0,0,0,0,0,0,0,0,0,0,0,0,0,0,0,0,0,0,0,0,0,0,0,0,0,0,0,0,0,0,0,0,0,0,0,null,false]
[null,null,null,null,"2002-03-31",null,"£m 18/19 prices",null,0,">",null,0,0,0,0,0,0,0,0,0,0,0,0,0,0,0,0,0,0,0,0,0,0,0,0,0,0,0,0,0,0,0,0,0,0,0,null,false]
[null,null,null,null,"2003-03-31",null,"£m 18/19 prices",null,0,">",null,0,0,0,0,0,0,0,0,0,0,0,0,0,0,0,0,0,0,0,0,0,0,0,0,0,0,0,0,0,0,0,0,0,0,0,null,true]
[null,null,null,null,"2004-03-31",null,"£m 18/19 prices",null,90.381923375706151,">",null,0,0,0,0,0,0,0,0,0,0,0,0,0,0,0,0,0,0,0,0,0,0,0,0,0,0,0,0,0,0,4.5190961687853077,4.5190961687853077,4.5190961687853077,4.5190961687853077,4.5190961687853077,null,true]
[null,null,null,null,"2005-03-31",null,"£m 18/19 prices",null,28.367207565357603,">",null,0,0,0,0,0,0,0,0,0,0,0,0,0,0,0,0,0,0,0,0,0,0,0,0,0,0,0,0,0,0,1.4183603782678802,1.4183603782678802,1.4183603782678802,1.4183603782678802,1.4183603782678802,null,true]
[null,null,null,null,"2006-03-31",null,"£m 18/19 prices",null,85.634817812625272,">",null,0,0,0,0,0,0,0,0,0,0,0,0,0,0,0,0,{"$f":"($I167 / $I$144) * AB$147","v":0},0,0,0,0,0,0,0,0,0,0,0,0,0,4.281740890631264,4.281740890631264,{"$f":"($I167 / $I$144) * AR$147","v":4.281740890631264},4.281740890631264,4.281740890631264,null,true]
[null,null,null,null,"2007-03-31",null,"£m 18/19 prices",null,148.96366864268637,">",null,0,0,0,0,0,0,0,0,0,0,0,0,0,0,0,0,0,0,0,0,0,0,0,0,0,0,0,0,0,0,7.4481834321343188,7.4481834321343188,7.4481834321343188,7.4481834321343188,7.4481834321343188,null,true]
[null,null,null,null,"2008-03-31",null,"£m 18/19 prices",null,154.5746478553761,">",null,{"$f":"($I169 / $I$144) * L$147","v":0},0,0,0,0,0,0,0,0,0,0,0,0,0,0,0,0,0,0,0,0,0,0,0,0,0,0,0,0,0,7.728732392768805,7.728732392768805,7.728732392768805,7.728732392768805,7.728732392768805,null,true]
[null,null,null,null,"2009-03-31",null,"£m 18/19 prices",null,62.23779676879542,">",null,0,0,0,0,0,0,0,0,0,0,0,0,0,0,0,0,0,0,0,0,0,0,0,0,0,0,0,0,0,0,3.1118898384397711,3.1118898384397711,3.1118898384397711,3.1118898384397711,3.1118898384397711,null,true]
[null,null,null,null,"2010-03-31",null,"£m 18/19 prices",null,29.225974971363605,">",null,0,0,0,0,0,0,0,0,0,0,0,0,0,0,0,0,0,0,0,0,0,0,0,0,0,0,0,0,0,0,1.4612987485681803,1.4612987485681803,1.4612987485681803,1.4612987485681803,1.4612987485681803,null,true]
[null,null,null,null,"2011-03-31",null,"£m 18/19 prices",null,22.197331085606951,">",null,0,0,0,0,0,0,0,0,0,0,0,0,0,0,0,0,0,0,0,0,0,0,0,0,0,0,0,0,0,0,1.1098665542803476,1.1098665542803476,1.1098665542803476,1.1098665542803476,1.1098665542803476,null,true]
[null,null,null,null,"2012-03-31",null,"£m 18/19 prices",null,20.781871720587763,">",null,0,0,0,0,0,0,0,0,0,0,0,0,0,0,0,0,0,0,0,0,0,0,0,0,0,0,0,0,0,0,1.0390935860293882,1.0390935860293882,1.0390935860293882,1.0390935860293882,1.0390935860293882,null,true]
[null,null,null,null,"2013-03-31",null,"£m 18/19 prices",null,-5.4003269007462897,">",null,0,0,0,0,0,0,0,0,0,0,0,0,0,0,0,0,0,0,0,0,0,0,0,0,0,0,0,0,0,0,-0.27001634503731448,-0.27001634503731448,-0.27001634503731448,-0.27001634503731448,-0.27001634503731448,null,true]
[null,null,null,null,"2014-03-31",null,"£m 18/19 prices",null,27.313493053107138,">",null,0,0,0,0,0,0,0,0,0,0,0,0,0,0,0,0,0,0,0,0,0,0,0,0,0,0,0,0,0,0,1.3656746526553569,1.3656746526553569,1.3656746526553569,1.3656746526553569,1.3656746526553569,null,true]
[null,null,null,null,"2015-03-31",null,"£m 18/19 prices",null,19.250022841882092,">",null,0,0,0,0,0,0,0,0,0,0,0,0,0,0,0,0,0,0,0,0,0,0,0,0,0,0,0,0,0,0,0.96250114209410464,0.96250114209410464,0.96250114209410464,0.96250114209410464,0.96250114209410464,null,true]
[null,null,null,null,"2016-03-31",null,"£m 18/19 prices",null,15.533159716362764,">",null,0,0,0,0,0,0,0,0,0,0,0,0,0,0,0,0,0,0,0,0,0,0,0,0,0,0,0,0,0,0,0.77665798581813816,0.77665798581813816,0.77665798581813816,0.77665798581813816,0.77665798581813816,null,true]
[null,null,null,null,"2017-03-31",null,"£m 18/19 prices",null,14.387306226819415,">",null,0,0,0,0,0,0,0,0,0,0,0,0,0,0,0,0,0,0,0,0,0,0,0,0,0,0,0,0,0,0,0.71936531134097081,0.71936531134097081,0.71936531134097081,0.71936531134097081,0.71936531134097081,null,true]
[null,null,null,null,"2018-03-31",null,"£m 18/19 prices",null,14.970818723495171,">",null,0,0,0,0,0,0,0,0,0,0,0,0,0,0,0,0,0,0,0,0,0,0,0,0,0,0,0,0,0,0,0.74854093617475859,0.74854093617475859,0.74854093617475859,0.74854093617475859,0.74854093617475859,null,true]
[null,null,null,null,"2019-03-31",null,"£m 18/19 prices",null,9.5276973054469245,">",null,0,0,0,0,0,0,0,0,0,0,0,0,0,0,0,0,0,0,0,0,0,0,0,0,0,0,0,0,0,0,0.47638486527234625,0.47638486527234625,0.47638486527234625,0.47638486527234625,0.47638486527234625,null,true]
[null,null,null,null,"2020-03-31",null,"£m 18/19 prices",null,3.704056795829564,">",null,0,0,0,0,0,0,0,0,0,0,0,0,0,0,0,0,0,0,0,0,0,0,0,0,0,0,0,0,0,0,0.1852028397914782,0.1852028397914782,0.1852028397914782,0.1852028397914782,0.1852028397914782,null,true]
[null,null,null,null,"2021-03-31",null,"£m 18/19 prices",null,0,">",null,0,0,0,0,0,0,0,0,0,0,0,0,0,0,0,0,0,0,0,0,0,0,0,0,0,0,0,0,0,0,0,0,0,0,0,null,true]
[null,null,null,null,"2022-03-31",null,"£m 18/19 prices",null,0,">",null,0,0,0,0,0,0,0,0,0,0,0,0,0,0,0,0,{"$f":"($I183 / $I$144) * AB$147","v":0},0,0,0,0,0,0,0,0,0,0,0,0,0,0,0,0,0,0,null,true]
[null,null,null,null,"2023-03-31",null,"£m 18/19 prices",null,0,">",null,0,0,0,0,0,0,0,0,0,0,0,0,0,0,0,{"$f":"($I184 / $I$144) * AA$147","v":0},0,0,0,0,0,0,0,0,0,0,0,0,0,0,0,0,0,0,0,null,true]
[null,null,null,null,"2024-03-31",null,"£m 18/19 prices",null,0,">",null,{"$f":"($I185 / $I$144) * L$147","v":0},0,0,0,0,0,0,0,0,0,0,0,0,0,0,0,0,0,0,0,0,0,0,0,0,0,0,0,0,0,0,0,0,0,0,null,true]
[null,null,null,null,"2025-03-31",null,"£m 18/19 prices",null,0,">",null,0,0,0,0,0,0,0,0,0,0,0,0,0,0,0,0,0,0,0,0,0,0,0,0,0,0,0,0,0,0,0,0,0,0,0,null,true]
[null,null,null,null,"2026-03-31",null,"£m 18/19 prices",null,0]
[null,null,null,null,"Total",null,"£m 18/19 prices",null,null,null,null,{"$f":"SUM(L152:L187)","v":0},0,0,0,0,0,0,0,0,0,0,0,0,0,0,0,0,0,0,0,0,0,0,0,0,0,0,0,0,0,37.082573378015098,37.082573378015098,37.082573378015098,37.082573378015098,{"$f":"SUM(AT152:AT187)","v":37.082573378015098}]
[]
[]
[null,null,"Depreciation values applied"]
[]
[null,null,null,null,"1991-03-31",null,"£m 18/19 prices",null,null,">",null,{"$f":"(L49 * L$44 * $AV49) + (L99 * OR(L$94, $AV99)) + L152","v":0},{"$f":"(M49 * M$44 * $AV49) + (M99 * OR(M$94, $AV99)) + M152","v":0},0,0,0,0,0,0,0,0,0,0,0,0,0,0,0,0,0,0,0,0,0,0,0,0,0,0,0,0,0,0,0,0,0]
[null,null,null,null,"1992-03-31",null,"£m 18/19 prices",null,null,">",null,{"$f":"(L50 * L$44 * $AV50) + (L100 * OR(L$94, $AV100)) + L153","v":0},0,0,0,0,0,0,0,0,0,0,0,0,0,0,0,0,0,0,0,0,0,0,0,0,0,0,0,0,0,0,0,0,0,0]
[null,null,null,null,"1993-03-31",null,"£m 18/19 prices",null,null,">",null,{"$f":"(L51 * L$44 * $AV51) + (L101 * OR(L$94, $AV101)) + L154","v":0},0,0,0,0,0,0,0,0,0,0,0,0,0,0,0,0,0,0,0,0,0,0,0,0,0,0,0,0,0,0,0,0,0,0]
[null,null,null,null,"1994-03-31",null,"£m 18/19 prices",null,null,">",null,{"$f":"(L52 * L$44 * $AV52) + (L102 * OR(L$94, $AV102)) + L155","v":0},0,0,0,0,0,0,0,0,0,0,0,0,0,0,0,0,0,0,0,0,0,0,0,0,0,0,0,0,0,0,0,0,0,0]
[null,null,null,null,"1995-03-31",null,"£m 18/19 prices",null,null,">",null,{"$f":"(L53 * L$44 * $AV53) + (L103 * OR(L$94, $AV103)) + L156","v":0},0,0,0,0,0,0,0,0,0,0,0,0,0,0,0,0,0,0,0,0,0,0,0,0,0,0,0,0,0,0,0,0,0,0]
[null,null,null,null,"1996-03-31",null,"£m 18/19 prices",null,null,">",null,{"$f":"(L54 * L$44 * $AV54) + (L104 * OR(L$94, $AV104)) + L157","v":0},0,0,0,0,0,0,0,0,0,0,0,0,0,0,0,0,0,0,0,0,0,0,0,0,0,0,0,0,0,0,0,0,0,0]
[null,null,null,null,"1997-03-31",null,"£m 18/19 prices",null,null,">",null,{"$f":"(L55 * L$44 * $AV55) + (L105 * OR(L$94, $AV105)) + L158","v":0},0,0,0,0,0,0,0,0,0,0,0,0,0,0,0,0,0,0,0,0,0,0,0,0,0,0,0,0,0,0,0,0,0,0]
[null,null,null,null,"1998-03-31",null,"£m 18/19 prices",null,null,">",null,{"$f":"(L56 * L$44 * $AV56) + (L106 * OR(L$94, $AV106)) + L159","v":0},0,0,0,0,0,0,0,0,0,0,0,0,0,0,0,0,0,0,0,0,0,0,0,0,0,0,0,0,0,0,0,0,0,0]
[null,null,null,null,"1999-03-31",null,"£m 18/19 prices",null,null,">",null,{"$f":"(L57 * L$44 * $AV57) + (L107 * OR(L$94, $AV107)) + L160","v":0},0,0,0,0,0,0,0,0,0,0,0,0,0,0,0,0,0,0,0,0,0,0,0,0,0,0,0,0,0,0,0,0,0,0]
[null,null,null,null,"2000-03-31",null,"£m 18/19 prices",null,null,">",null,{"$f":"(L58 * L$44 * $AV58) + (L108 * OR(L$94, $AV108)) + L161","v":0},0,0,0,0,0,0,0,0,0,0,0,0,0,0,0,0,0,0,0,0,0,0,0,0,0,0,0,0,0,0,0,0,0,0]
[null,null,null,null,"2001-03-31",null,"£m 18/19 prices",null,null,">",null,{"$f":"(L59 * L$44 * $AV59) + (L109 * OR(L$94, $AV109)) + L162","v":0},0,0,0,0,0,0,0,0,0,0,0,0,0,0,0,0,0,0,0,0,0,0,0,0,0,0,0,0,0,0,0,0,0,0]
[null,null,null,null,"2002-03-31",null,"£m 18/19 prices",null,null,">",null,{"$f":"(L60 * L$44 * $AV60) + (L110 * OR(L$94, $AV110)) + L163","v":0},0,0,0,0,0,0,0,0,0,0,0,0,0,0,0,0,0,0,0,0,0,0,0,0,0,0,0,0,0,0,0,0,0,0]
[null,null,null,null,"2003-03-31",null,"£m 18/19 prices",null,null,">",null,{"$f":"(L61 * L$44 * $AV61) + (L111 * OR(L$94, $AV111)) + L164","v":0},0,0,0,0,0,0,0,0,0,0,0,0,0,0,0,0,0,0,0,0,0,0,0,0,0,0,0,0,0,0,0,0,0,0]
[null,null,null,null,"2004-03-31",null,"£m 18/19 prices",null,null,">",null,{"$f":"(L62 * L$44 * $AV62) + (L112 * OR(L$94, $AV112)) + L165","v":0},0,0,0,0,0,0,0,0,0,0,0,0,8.734387553114475,8.734387553114475,8.734387553114475,8.734387553114475,8.734387553114475,8.734387553114475,8.734387553114475,8.734387553114475,8.734387553114475,8.734387553114475,8.734387553114475,8.734387553114475,8.734387553114475,8.734387553114475,8.734387553114475,8.734387553114475,8.734387553114475,15.152263624750756,14.772507644180561,14.392751663610365,14.01299568304017,13.633239702469975]
[null,null,null,null,"2005-03-31",null,"£m 18/19 prices",null,null,">",null,{"$f":"(L63 * L$44 * $AV63) + (L113 * OR(L$94, $AV113)) + L166","v":0},0,0,0,0,0,0,0,0,0,0,0,0,0,2.8122662672552803,2.8122662672552803,2.8122662672552803,2.8122662672552803,2.8122662672552803,2.8122662672552803,2.8122662672552803,2.8122662672552803,2.8122662672552803,2.8122662672552803,2.8122662672552803,2.8122662672552803,2.8122662672552803,2.8122662672552803,2.8122662672552803,2.8122662672552803,4.9642613239375812,4.8419888775351776,4.7197164311327739,4.5974439847303703,4.4751715383279675]
[null,null,null,null,"2006-03-31",null,"£m 18/19 prices",null,null,">",null,{"$f":"(L64 * L$44 * $AV64) + (L114 * OR(L$94, $AV114)) + L167","v":0},0,0,0,0,0,0,0,0,0,0,0,0,0,0,8.7537813764016938,8.7537813764016938,8.7537813764016938,8.7537813764016938,8.7537813764016938,8.7537813764016938,8.7537813764016938,8.7537813764016938,8.7537813764016938,8.7537813764016938,8.7537813764016938,8.7537813764016938,8.7537813764016938,8.7537813764016938,8.7537813764016938,15.699716598981301,15.319117408702965,14.93851821842463,14.557919028146298,14.177319837867962]
[null,null,null,null,"2007-03-31",null,"£m 18/19 prices",null,null,">",null,{"$f":"(L65 * L$44 * $AV65) + (L115 * OR(L$94, $AV115)) + L168","v":0},0,0,0,0,0,0,0,0,0,0,0,0,0,0,0,15.788775939086575,15.788775939086575,15.788775939086575,15.788775939086575,15.788775939086575,15.788775939086575,15.788775939086575,15.788775939086575,15.788775939086575,15.788775939086575,15.788775939086575,15.788775939086575,15.788775939086575,15.788775939086575,28.728707523946657,28.042239004855933,27.355770485765216,26.669301966674496,25.982833447583772]
[null,null,null,null,"2008-03-31",null,"£m 18/19 prices",null,null,">",null,{"$f":"(L66 * L$44 * $AV66) + (L116 * OR(L$94, $AV116)) + L169","v":0},0,0,0,0,0,0,0,0,0,0,0,0,0,0,0,0,17.092388945546404,17.092388945546404,17.092388945546404,17.092388945546404,17.092388945546404,17.092388945546404,17.092388945546404,17.092388945546404,17.092388945546404,17.092388945546404,17.092388945546404,17.092388945546404,17.092388945546404,31.50944744744206,30.766300101983521,30.023152756524983,29.280005411066444,28.536858065607905]
[null,null,null,null,"2009-03-31",null,"£m 18/19 prices",null,null,">",null,{"$f":"(L67 * L$44 * $AV67) + (L117 * OR(L$94, $AV117)) + L170","v":0},0,0,0,0,0,0,0,0,0,0,0,0,0,0,0,0,0,7.2296430590014893,7.2296430590014893,7.2296430590014893,7.2296430590014893,7.2296430590014893,7.2296430590014893,7.2296430590014893,7.2296430590014893,7.2296430590014893,7.2296430590014893,7.2296430590014893,7.2296430590014893,13.484855966572342,13.170523659659233,12.856191352746126,12.541859045833018,12.227526738919909]
[null,null,null,null,"2010-03-31",null,"£m 18/19 prices",null,null,">",null,{"$f":"(L68 * L$44 * $AV68) + (L118 * OR(L$94, $AV118)) + L171","v":0},0,0,0,0,0,0,0,0,0,0,0,0,0,0,0,0,0,0,3.5946386328415132,3.5946386328415132,3.5946386328415132,3.5946386328415132,3.5946386328415132,3.5946386328415132,3.5946386328415132,3.5946386328415132,3.5946386328415132,3.5946386328415132,3.5946386328415132,6.7751123797251998,6.6188237435146986,6.4625351073041983,6.3062464710936981,6.1499578348831969]
[null,null,null,null,"2011-03-31",null,"£m 18/19 prices",null,null,">",null,{"$f":"(L69 * L$44 * $AV69) + (L119 * OR(L$94, $AV119)) + L172","v":0},0,0,0,0,0,0,0,0,0,0,0,0,0,0,0,0,0,0,0,2.9173635141083425,2.9173635141083425,2.9173635141083425,2.9173635141083425,2.9173635141083425,2.9173635141083425,2.9173635141083425,2.9173635141083425,2.9173635141083425,2.9173635141083425,5.5493327714017386,5.4224908794839841,5.2956489875662296,5.1688070956484768,5.0419652037307223]
[null,null,null,null,"2012-03-31",null,"£m 18/19 prices",null,null,">",null,{"$f":"(L70 * L$44 * $AV70) + (L120 * OR(L$94, $AV120)) + L173","v":0},0,0,0,0,0,0,0,0,0,0,0,0,0,0,0,0,0,0,0,0,2.9505126516883844,2.9505126516883844,2.9505126516883844,2.9505126516883844,2.9505126516883844,2.9505126516883844,2.9505126516883844,2.9505126516883844,2.9505126516883844,5.6572873017155549,5.5290041429464951,5.4007209841774344,5.2724378254083746,5.1441546666393139]
[null,null,null,null,"2013-03-31",null,"£m 18/19 prices",null,null,">",null,{"$f":"(L71 * L$44 * $AV71) + (L121 * OR(L$94, $AV121)) + L174","v":0},0,0,0,0,0,0,0,0,0,0,0,0,0,0,0,0,0,0,0,0,0,-0.83923999133219362,-0.83923999133219362,-0.83923999133219362,-0.83923999133219362,-0.83923999133219362,-0.83923999133219362,-0.83923999133219362,-0.83923999133219362,-1.620098070223887,-1.5836093749485742,-1.5471206796732613,-1.5106319843979488,-1.474143289122636]
[null,null,null,null,"2014-03-31",null,"£m 18/19 prices",null,null,">",null,{"$f":"(L72 * L$44 * $AV72) + (L122 * OR(L$94, $AV122)) + L175","v":0},0,0,0,0,0,0,0,0,0,0,0,0,0,0,0,0,0,0,0,0,0,0,4.7233860167027402,4.7233860167027402,4.7233860167027402,4.7233860167027402,4.7233860167027402,4.7233860167027402,4.7233860167027402,9.1695298106859706,8.9641652012641124,8.7588005918422542,8.553435982420396,8.3480713729985379]
[null,null,null,null,"2015-03-31",null,"£m 18/19 prices",null,null,">",null,{"$f":"(L73 * L$44 * $AV73) + (L123 * OR(L$94, $AV123)) + L176","v":0},0,0,0,0,0,0,0,0,0,0,0,0,0,0,0,0,0,0,0,0,0,0,0,3.7841925244725481,3.7841925244725481,3.7841925244725481,3.7841925244725481,3.7841925244725481,3.7841925244725481,7.3791754227214685,7.2146453129617925,7.0501152032021173,6.8855850934424412,6.7210549836827651]
[null,null,null,null,"2016-03-31",null,"£m 18/19 prices",null,null,">",null,{"$f":"(L74 * L$44 * $AV74) + (L124 * OR(L$94, $AV124)) + L177","v":0},0,0,0,0,0,0,0,0,0,0,0,0,0,0,0,0,0,0,0,0,0,0,0,0,3.5726267347634368,3.5726267347634368,3.5726267347634368,3.5726267347634368,3.5726267347634368,6.9899218723632455,6.8345902751996181,6.6792586780359908,6.5239270808723626,6.3685954837087344]
[null,null,null,null,"2017-03-31",null,"£m 18/19 prices",null,null,">",null,{"$f":"(L75 * L$44 * $AV75) + (L125 * OR(L$94, $AV125)) + L178","v":0},0,0,0,0,0,0,0,0,0,0,0,0,0,0,0,0,0,0,0,0,0,0,0,0,0,4.0354639416688611,4.0354639416688611,4.0354639416688611,4.0354639416688611,7.9130184247506792,7.7375634707650773,7.5621085167794746,7.386653562793871,7.2111986088082691]
[null,null,null,null,"2018-03-31",null,"£m 18/19 prices",null,null,">",null,{"$f":"(L76 * L$44 * $AV76) + (L126 * OR(L$94, $AV126)) + L179","v":0},0,0,0,0,0,0,0,0,0,0,0,0,0,0,0,0,0,0,0,0,0,0,0,0,0,0,5.4655369942918863,5.4655369942918863,5.4655369942918863,10.729086751838205,10.491454708608122,10.25382266537804,10.016190622147958,9.7785585789178757]
[null,null,null,null,"2019-03-31",null,"£m 18/19 prices",null,null,">",null,{"$f":"(L77 * L$44 * $AV77) + (L127 * OR(L$94, $AV127)) + L180","v":0},0,0,0,0,0,0,0,0,0,0,0,0,0,0,0,0,0,0,0,0,0,0,0,0,0,0,0,5.0962101866344032,5.0962101866344032,10.004082170719274,9.7825078147786471,9.5609334588380204,9.3393591028973937,9.117784746956767]
[null,null,null,null,"2020-03-31",null,"£m 18/19 prices",null,null,">",null,{"$f":"(L78 * L$44 * $AV78) + (L128 * OR(L$94, $AV128)) + L181","v":0},0,0,0,0,0,0,0,0,0,0,0,0,0,0,0,0,0,0,0,0,0,0,0,0,0,0,0,0,3.8724230138218174,7.5933164314506074,7.4249502134583549,7.2565839954661016,7.0882177774738482,6.9198515594815957]
[null,null,null,null,"2021-03-31",null,"£m 18/19 prices",null,null,">",null,{"$f":"(L79 * L$44 * $AV79) + (L129 * OR(L$94, $AV129)) + L182","v":0},0,0,0,0,0,0,0,0,0,0,0,0,0,0,0,0,0,0,0,0,0,0,0,0,0,0,0,0,0,6.4931047613193771,6.3488135444011684,6.2045223274829597,6.0602311105647519,5.9159398936465433]
[null,null,null,null,"2022-03-31",null,"£m 18/19 prices",null,null,">",null,{"$f":"(L80 * L$44 * $AV80) + (L130 * OR(L$94, $AV130)) + L183","v":0},0,0,0,0,0,0,0,0,0,0,0,0,0,0,0,0,0,0,0,0,0,0,0,0,0,0,0,0,0,0,8.5382057220927638,8.3484678171573687,8.1587299122219736,7.9689920072865785]
[null,null,null,null,"2023-03-31",null,"£m 18/19 prices",null,null,">",null,{"$f":"(L81 * L$44 * $AV81) + (L131 * OR(L$94, $AV131)) + L184","v":0},0,0,0,0,0,0,0,0,0,0,0,0,0,0,0,0,0,0,0,0,0,0,0,0,0,0,0,0,0,0,0,11.792147173687368,11.530099458716537,11.268051743745707]
[null,null,null,null,"2024-03-31",null,"£m 18/19 prices",null,null,">",null,{"$f":"(L82 * L$44 * $AV82) + (L132 * OR(L$94, $AV132)) + L185","v":0},0,0,0,0,0,0,0,0,0,0,0,0,0,0,0,0,0,0,0,0,0,0,0,0,0,0,0,0,0,0,0,0,12.067738032354331,11.79956607607979]
[null,null,null,null,"2025-03-31",null,"£m 18/19 prices",null,null,">",null,{"$f":"(L83 * L$44 * $AV83) + (L133 * OR(L$94, $AV133)) + L186","v":0},0,0,0,0,0,0,0,0,0,0,0,0,0,0,0,0,0,0,0,0,0,0,0,0,0,0,0,0,0,0,0,0,0,6.7853166702586947]
[null,null,null,null,"2026-03-31",null,"£m 18/19 prices"]
[null,null,null,null,"Total",null,"£m 18/19 prices",null,null,null,null,{"$f":"SUM(L193:L228)","v":0},0,0,0,0,0,0,0,0,0,0,0,0,8.734387553114475,11.546653820369755,20.300435196771449,36.089211135858022,53.181600081404426,60.411243140405915,64.005881773247424,66.923245287355769,69.873757939044154,69.034517947711961,73.757903964414709,77.542096488887253,81.114723223650685,85.150187165319551,90.615724159611432,95.71193434624584,99.584357360067656,192.17212251409811,196.23628235144363,203.36464573544836,210.50655226314927,{"$f":"SUM(AT193:AT228)","v":212.09786547247995}]
[]
[null,null,null,null,"Straight line depreciation check",null,"£m 18/19 prices",null,null,null,null,{"$f":"(L229 - L135) * L$94","v":0},{"$f":"(M229 - M135) * M$94","v":0},0,0,0,0,0,0,0,0,0,0,0,0,0,0,0,0,0,0,0,0,0,0,0,0,0,0,0,0,0,0,0,0,0]
[null,null,null,null,"Sum of digits depreciation check",null,"£m 18/19 prices",null,null,null,null,{"$f":"(L229 - L85) * L$44","v":0},0,0,0,0,0,0,0,0,0,0,0,0,0,0,0,0,0,0,0,0,0,0,0,0,0,0,0,0,0,37.08257337801507,37.082573378015098,37.08257337801507,37.082573378015127,37.082573378015127]
[null,null,null,null,"Differential depreciation recovery",null,"£m 18/19 prices",null,null,null,null,{"$f":" - L188","v":0},{"$f":" - M188","v":0},0,0,0,0,0,0,0,0,0,0,0,0,0,0,0,0,0,0,0,0,0,0,0,0,0,0,0,0,-37.082573378015098,-37.082573378015098,-37.082573378015098,-37.082573378015098,-37.082573378015098]
[null,null,null,null,"Residual straight line depreciation existing assets",null,"£m 18/19 prices",null,null,null,null,{"$f":" - SUMPRODUCT((L$99:L$134) * ($AV$99:$AV$134)) * (L94 = FALSE)","v":0},{"$f":" - SUMPRODUCT((M$99:M$134) * ($AV$99:$AV$134)) * (M94 = FALSE)","v":0},0,0,0,0,0,0,0,0,0,0,0,0,0,0,0,0,0,0,0,0,0,0,0,0,0,0,0,0,0,0,0,0,0]
[null,null,null,null,"Check",null,"£m 18/19 prices",null,null,null,null,{"$f":"SUM(L231:L234)","v":0},0,0,0,0,0,0,0,0,0,0,0,0,0,0,0,0,0,0,0,0,0,0,0,0,0,0,0,0,0,-2.8421709430404007E-14,0,-2.8421709430404007E-14,2.8421709430404007E-14,{"$f":"SUM(AT231:AT234)","v":2.8421709430404007E-14}]
[]
[null,null,"Removal of fully depreciated items"]
[]
[null,null,null,null,"Removal of additions from year ending",null,null,null,"Net additions"]
[null,null,null,null,"1991-03-31",null,"£m 18/19 prices",null,{"$f":"INDEX($K$16:$AT$16, MATCH($E240, $K$4:$AT$4, 0))","v":0},">",null,{"$f":"IF(AND(ROUND($I240, 3) = ROUND(SUM($K193:K193), 3), SUM($K240:K240) = 0), $I99, 0)","v":0},{"$f":"IF(AND(ROUND($I240, 3) = ROUND(SUM($K193:L193), 3), SUM($K240:L240) = 0), $I99, 0)","v":0},{"$f":"IF(AND(ROUND($I240, 3) = ROUND(SUM($K193:M193), 3), SUM($K240:M240) = 0), $I99, 0)","v":0},{"$f":"IF(AND(ROUND($I240, 3) = ROUND(SUM($K193:N193), 3), SUM($K240:N240) = 0), $I99, 0)","v":0},{"$f":"IF(AND(ROUND($I240, 3) = ROUND(SUM($K193:O193), 3), SUM($K240:O240) = 0), $I99, 0)","v":0},{"$f":"IF(AND(ROUND($I240, 3) = ROUND(SUM($K193:P193), 3), SUM($K240:P240) = 0), $I99, 0)","v":0},{"$f":"IF(AND(ROUND($I240, 3) = ROUND(SUM($K193:Q193), 3), SUM($K240:Q240) = 0), $I99, 0)","v":0},{"$f":"IF(AND(ROUND($I240, 3) = ROUND(SUM($K193:R193), 3), SUM($K240:R240) = 0), $I99, 0)","v":0},{"$f":"IF(AND(ROUND($I240, 3) = ROUND(SUM($K193:S193), 3), SUM($K240:S240) = 0), $I99, 0)","v":0},{"$f":"IF(AND(ROUND($I240, 3) = ROUND(SUM($K193:T193), 3), SUM($K240:T240) = 0), $I99, 0)","v":0},{"$f":"IF(AND(ROUND($I240, 3) = ROUND(SUM($K193:U193), 3), SUM($K240:U240) = 0), $I99, 0)","v":0},{"$f":"IF(AND(ROUND($I240, 3) = ROUND(SUM($K193:V193), 3), SUM($K240:V240) = 0), $I99, 0)","v":0},{"$f":"IF(AND(ROUND($I240, 3) = ROUND(SUM($K193:W193), 3), SUM($K240:W240) = 0), $I99, 0)","v":0},{"$f":"IF(AND(ROUND($I240, 3) = ROUND(SUM($K193:X193), 3), SUM($K240:X240) = 0), $I99, 0)","v":0},{"$f":"IF(AND(ROUND($I240, 3) = ROUND(SUM($K193:Y193), 3), SUM($K240:Y240) = 0), $I99, 0)","v":0},{"$f":"IF(AND(ROUND($I240, 3) = ROUND(SUM($K193:Z193), 3), SUM($K240:Z240) = 0), $I99, 0)","v":0},{"$f":"IF(AND(ROUND($I240, 3) = ROUND(SUM($K193:AA193), 3), SUM($K240:AA240) = 0), $I99, 0)","v":0},{"$f":"IF(AND(ROUND($I240, 3) = ROUND(SUM($K193:AB193), 3), SUM($K240:AB240) = 0), $I99, 0)","v":0},{"$f":"IF(AND(ROUND($I240, 3) = ROUND(SUM($K193:AC193), 3), SUM($K240:AC240) = 0), $I99, 0)","v":0},{"$f":"IF(AND(ROUND($I240, 3) = ROUND(SUM($K193:AD193), 3), SUM($K240:AD240) = 0), $I99, 0)","v":0},{"$f":"IF(AND(ROUND($I240, 3) = ROUND(SUM($K193:AE193), 3), SUM($K240:AE240) = 0), $I99, 0)","v":0},{"$f":"IF(AND(ROUND($I240, 3) = ROUND(SUM($K193:AF193), 3), SUM($K240:AF240) = 0), $I99, 0)","v":0},{"$f":"IF(AND(ROUND($I240, 3) = ROUND(SUM($K193:AG193), 3), SUM($K240:AG240) = 0), $I99, 0)","v":0},{"$f":"IF(AND(ROUND($I240, 3) = ROUND(SUM($K193:AH193), 3), SUM($K240:AH240) = 0), $I99, 0)","v":0},{"$f":"IF(AND(ROUND($I240, 3) = ROUND(SUM($K193:AI193), 3), SUM($K240:AI240) = 0), $I99, 0)","v":0},{"$f":"IF(AND(ROUND($I240, 3) = ROUND(SUM($K193:AJ193), 3), SUM($K240:AJ240) = 0), $I99, 0)","v":0},{"$f":"IF(AND(ROUND($I240, 3) = ROUND(SUM($K193:AK193), 3), SUM($K240:AK240) = 0), $I99, 0)","v":0},{"$f":"IF(AND(ROUND($I240, 3) = ROUND(SUM($K193:AL193), 3), SUM($K240:AL240) = 0), $I99, 0)","v":0},{"$f":"IF(AND(ROUND($I240, 3) = ROUND(SUM($K193:AM193), 3), SUM($K240:AM240) = 0), $I99, 0)","v":0},{"$f":"IF(AND(ROUND($I240, 3) = ROUND(SUM($K193:AN193), 3), SUM($K240:AN240) = 0), $I99, 0)","v":0},{"$f":"IF(AND(ROUND($I240, 3) = ROUND(SUM($K193:AO193), 3), SUM($K240:AO240) = 0), $I99, 0)","v":0},{"$f":"IF(AND(ROUND($I240, 3) = ROUND(SUM($K193:AP193), 3), SUM($K240:AP240) = 0), $I99, 0)","v":0},{"$f":"IF(AND(ROUND($I240, 3) = ROUND(SUM($K193:AQ193), 3), SUM($K240:AQ240) = 0), $I99, 0)","v":0},{"$f":"IF(AND(ROUND($I240, 3) = ROUND(SUM($K193:AR193), 3), SUM($K240:AR240) = 0), $I99, 0)","v":0},{"$f":"IF(AND(ROUND($I240, 3) = ROUND(SUM($K193:AS193), 3), SUM($K240:AS240) = 0), $I99, 0)","v":0}]
[null,null,null,null,"1992-03-31",null,"£m 18/19 prices",null,{"$f":"INDEX($K$16:$AT$16, MATCH($E241, $K$4:$AT$4, 0))","v":0},">",null,{"$f":"IF(AND(ROUND($I241, 3) = ROUND(SUM($K194:K194), 3), SUM($K241:K241) = 0), $I100, 0)","v":0},{"$f":"IF(AND(ROUND($I241, 3) = ROUND(SUM($K194:L194), 3), SUM($K241:L241) = 0), $I100, 0)","v":0},{"$f":"IF(AND(ROUND($I241, 3) = ROUND(SUM($K194:M194), 3), SUM($K241:M241) = 0), $I100, 0)","v":0},{"$f":"IF(AND(ROUND($I241, 3) = ROUND(SUM($K194:N194), 3), SUM($K241:N241) = 0), $I100, 0)","v":0},{"$f":"IF(AND(ROUND($I241, 3) = ROUND(SUM($K194:O194), 3), SUM($K241:O241) = 0), $I100, 0)","v":0},{"$f":"IF(AND(ROUND($I241, 3) = ROUND(SUM($K194:P194), 3), SUM($K241:P241) = 0), $I100, 0)","v":0},{"$f":"IF(AND(ROUND($I241, 3) = ROUND(SUM($K194:Q194), 3), SUM($K241:Q241) = 0), $I100, 0)","v":0},{"$f":"IF(AND(ROUND($I241, 3) = ROUND(SUM($K194:R194), 3), SUM($K241:R241) = 0), $I100, 0)","v":0},{"$f":"IF(AND(ROUND($I241, 3) = ROUND(SUM($K194:S194), 3), SUM($K241:S241) = 0), $I100, 0)","v":0},{"$f":"IF(AND(ROUND($I241, 3) = ROUND(SUM($K194:T194), 3), SUM($K241:T241) = 0), $I100, 0)","v":0},{"$f":"IF(AND(ROUND($I241, 3) = ROUND(SUM($K194:U194), 3), SUM($K241:U241) = 0), $I100, 0)","v":0},{"$f":"IF(AND(ROUND($I241, 3) = ROUND(SUM($K194:V194), 3), SUM($K241:V241) = 0), $I100, 0)","v":0},{"$f":"IF(AND(ROUND($I241, 3) = ROUND(SUM($K194:W194), 3), SUM($K241:W241) = 0), $I100, 0)","v":0},{"$f":"IF(AND(ROUND($I241, 3) = ROUND(SUM($K194:X194), 3), SUM($K241:X241) = 0), $I100, 0)","v":0},{"$f":"IF(AND(ROUND($I241, 3) = ROUND(SUM($K194:Y194), 3), SUM($K241:Y241) = 0), $I100, 0)","v":0},{"$f":"IF(AND(ROUND($I241, 3) = ROUND(SUM($K194:Z194), 3), SUM($K241:Z241) = 0), $I100, 0)","v":0},{"$f":"IF(AND(ROUND($I241, 3) = ROUND(SUM($K194:AA194), 3), SUM($K241:AA241) = 0), $I100, 0)","v":0},{"$f":"IF(AND(ROUND($I241, 3) = ROUND(SUM($K194:AB194), 3), SUM($K241:AB241) = 0), $I100, 0)","v":0},{"$f":"IF(AND(ROUND($I241, 3) = ROUND(SUM($K194:AC194), 3), SUM($K241:AC241) = 0), $I100, 0)","v":0},{"$f":"IF(AND(ROUND($I241, 3) = ROUND(SUM($K194:AD194), 3), SUM($K241:AD241) = 0), $I100, 0)","v":0},{"$f":"IF(AND(ROUND($I241, 3) = ROUND(SUM($K194:AE194), 3), SUM($K241:AE241) = 0), $I100, 0)","v":0},{"$f":"IF(AND(ROUND($I241, 3) = ROUND(SUM($K194:AF194), 3), SUM($K241:AF241) = 0), $I100, 0)","v":0},{"$f":"IF(AND(ROUND($I241, 3) = ROUND(SUM($K194:AG194), 3), SUM($K241:AG241) = 0), $I100, 0)","v":0},{"$f":"IF(AND(ROUND($I241, 3) = ROUND(SUM($K194:AH194), 3), SUM($K241:AH241) = 0), $I100, 0)","v":0},{"$f":"IF(AND(ROUND($I241, 3) = ROUND(SUM($K194:AI194), 3), SUM($K241:AI241) = 0), $I100, 0)","v":0},{"$f":"IF(AND(ROUND($I241, 3) = ROUND(SUM($K194:AJ194), 3), SUM($K241:AJ241) = 0), $I100, 0)","v":0},{"$f":"IF(AND(ROUND($I241, 3) = ROUND(SUM($K194:AK194), 3), SUM($K241:AK241) = 0), $I100, 0)","v":0},{"$f":"IF(AND(ROUND($I241, 3) = ROUND(SUM($K194:AL194), 3), SUM($K241:AL241) = 0), $I100, 0)","v":0},{"$f":"IF(AND(ROUND($I241, 3) = ROUND(SUM($K194:AM194), 3), SUM($K241:AM241) = 0), $I100, 0)","v":0},{"$f":"IF(AND(ROUND($I241, 3) = ROUND(SUM($K194:AN194), 3), SUM($K241:AN241) = 0), $I100, 0)","v":0},{"$f":"IF(AND(ROUND($I241, 3) = ROUND(SUM($K194:AO194), 3), SUM($K241:AO241) = 0), $I100, 0)","v":0},{"$f":"IF(AND(ROUND($I241, 3) = ROUND(SUM($K194:AP194), 3), SUM($K241:AP241) = 0), $I100, 0)","v":0},{"$f":"IF(AND(ROUND($I241, 3) = ROUND(SUM($K194:AQ194), 3), SUM($K241:AQ241) = 0), $I100, 0)","v":0},{"$f":"IF(AND(ROUND($I241, 3) = ROUND(SUM($K194:AR194), 3), SUM($K241:AR241) = 0), $I100, 0)","v":0},{"$f":"IF(AND(ROUND($I241, 3) = ROUND(SUM($K194:AS194), 3), SUM($K241:AS241) = 0), $I100, 0)","v":0}]
[null,null,null,null,"1993-03-31",null,"£m 18/19 prices",null,0,">",null,{"$f":"IF(AND(ROUND($I242, 3) = ROUND(SUM($K195:K195), 3), SUM($K242:K242) = 0), $I101, 0)","v":0},{"$f":"IF(AND(ROUND($I242, 3) = ROUND(SUM($K195:L195), 3), SUM($K242:L242) = 0), $I101, 0)","v":0},{"$f":"IF(AND(ROUND($I242, 3) = ROUND(SUM($K195:M195), 3), SUM($K242:M242) = 0), $I101, 0)","v":0},{"$f":"IF(AND(ROUND($I242, 3) = ROUND(SUM($K195:N195), 3), SUM($K242:N242) = 0), $I101, 0)","v":0},{"$f":"IF(AND(ROUND($I242, 3) = ROUND(SUM($K195:O195), 3), SUM($K242:O242) = 0), $I101, 0)","v":0},{"$f":"IF(AND(ROUND($I242, 3) = ROUND(SUM($K195:P195), 3), SUM($K242:P242) = 0), $I101, 0)","v":0},{"$f":"IF(AND(ROUND($I242, 3) = ROUND(SUM($K195:Q195), 3), SUM($K242:Q242) = 0), $I101, 0)","v":0},{"$f":"IF(AND(ROUND($I242, 3) = ROUND(SUM($K195:R195), 3), SUM($K242:R242) = 0), $I101, 0)","v":0},{"$f":"IF(AND(ROUND($I242, 3) = ROUND(SUM($K195:S195), 3), SUM($K242:S242) = 0), $I101, 0)","v":0},{"$f":"IF(AND(ROUND($I242, 3) = ROUND(SUM($K195:T195), 3), SUM($K242:T242) = 0), $I101, 0)","v":0},{"$f":"IF(AND(ROUND($I242, 3) = ROUND(SUM($K195:U195), 3), SUM($K242:U242) = 0), $I101, 0)","v":0},{"$f":"IF(AND(ROUND($I242, 3) = ROUND(SUM($K195:V195), 3), SUM($K242:V242) = 0), $I101, 0)","v":0},{"$f":"IF(AND(ROUND($I242, 3) = ROUND(SUM($K195:W195), 3), SUM($K242:W242) = 0), $I101, 0)","v":0},{"$f":"IF(AND(ROUND($I242, 3) = ROUND(SUM($K195:X195), 3), SUM($K242:X242) = 0), $I101, 0)","v":0},{"$f":"IF(AND(ROUND($I242, 3) = ROUND(SUM($K195:Y195), 3), SUM($K242:Y242) = 0), $I101, 0)","v":0},{"$f":"IF(AND(ROUND($I242, 3) = ROUND(SUM($K195:Z195), 3), SUM($K242:Z242) = 0), $I101, 0)","v":0},{"$f":"IF(AND(ROUND($I242, 3) = ROUND(SUM($K195:AA195), 3), SUM($K242:AA242) = 0), $I101, 0)","v":0},{"$f":"IF(AND(ROUND($I242, 3) = ROUND(SUM($K195:AB195), 3), SUM($K242:AB242) = 0), $I101, 0)","v":0},{"$f":"IF(AND(ROUND($I242, 3) = ROUND(SUM($K195:AC195), 3), SUM($K242:AC242) = 0), $I101, 0)","v":0},{"$f":"IF(AND(ROUND($I242, 3) = ROUND(SUM($K195:AD195), 3), SUM($K242:AD242) = 0), $I101, 0)","v":0},{"$f":"IF(AND(ROUND($I242, 3) = ROUND(SUM($K195:AE195), 3), SUM($K242:AE242) = 0), $I101, 0)","v":0},{"$f":"IF(AND(ROUND($I242, 3) = ROUND(SUM($K195:AF195), 3), SUM($K242:AF242) = 0), $I101, 0)","v":0},{"$f":"IF(AND(ROUND($I242, 3) = ROUND(SUM($K195:AG195), 3), SUM($K242:AG242) = 0), $I101, 0)","v":0},{"$f":"IF(AND(ROUND($I242, 3) = ROUND(SUM($K195:AH195), 3), SUM($K242:AH242) = 0), $I101, 0)","v":0},{"$f":"IF(AND(ROUND($I242, 3) = ROUND(SUM($K195:AI195), 3), SUM($K242:AI242) = 0), $I101, 0)","v":0},{"$f":"IF(AND(ROUND($I242, 3) = ROUND(SUM($K195:AJ195), 3), SUM($K242:AJ242) = 0), $I101, 0)","v":0},{"$f":"IF(AND(ROUND($I242, 3) = ROUND(SUM($K195:AK195), 3), SUM($K242:AK242) = 0), $I101, 0)","v":0},{"$f":"IF(AND(ROUND($I242, 3) = ROUND(SUM($K195:AL195), 3), SUM($K242:AL242) = 0), $I101, 0)","v":0},{"$f":"IF(AND(ROUND($I242, 3) = ROUND(SUM($K195:AM195), 3), SUM($K242:AM242) = 0), $I101, 0)","v":0},{"$f":"IF(AND(ROUND($I242, 3) = ROUND(SUM($K195:AN195), 3), SUM($K242:AN242) = 0), $I101, 0)","v":0},{"$f":"IF(AND(ROUND($I242, 3) = ROUND(SUM($K195:AO195), 3), SUM($K242:AO242) = 0), $I101, 0)","v":0},{"$f":"IF(AND(ROUND($I242, 3) = ROUND(SUM($K195:AP195), 3), SUM($K242:AP242) = 0), $I101, 0)","v":0},{"$f":"IF(AND(ROUND($I242, 3) = ROUND(SUM($K195:AQ195), 3), SUM($K242:AQ242) = 0), $I101, 0)","v":0},{"$f":"IF(AND(ROUND($I242, 3) = ROUND(SUM($K195:AR195), 3), SUM($K242:AR242) = 0), $I101, 0)","v":0},{"$f":"IF(AND(ROUND($I242, 3) = ROUND(SUM($K195:AS195), 3), SUM($K242:AS242) = 0), $I101, 0)","v":0}]
[null,null,null,null,"1994-03-31",null,"£m 18/19 prices",null,0,">",null,{"$f":"IF(AND(ROUND($I243, 3) = ROUND(SUM($K196:K196), 3), SUM($K243:K243) = 0), $I102, 0)","v":0},{"$f":"IF(AND(ROUND($I243, 3) = ROUND(SUM($K196:L196), 3), SUM($K243:L243) = 0), $I102, 0)","v":0},{"$f":"IF(AND(ROUND($I243, 3) = ROUND(SUM($K196:M196), 3), SUM($K243:M243) = 0), $I102, 0)","v":0},{"$f":"IF(AND(ROUND($I243, 3) = ROUND(SUM($K196:N196), 3), SUM($K243:N243) = 0), $I102, 0)","v":0},{"$f":"IF(AND(ROUND($I243, 3) = ROUND(SUM($K196:O196), 3), SUM($K243:O243) = 0), $I102, 0)","v":0},{"$f":"IF(AND(ROUND($I243, 3) = ROUND(SUM($K196:P196), 3), SUM($K243:P243) = 0), $I102, 0)","v":0},{"$f":"IF(AND(ROUND($I243, 3) = ROUND(SUM($K196:Q196), 3), SUM($K243:Q243) = 0), $I102, 0)","v":0},{"$f":"IF(AND(ROUND($I243, 3) = ROUND(SUM($K196:R196), 3), SUM($K243:R243) = 0), $I102, 0)","v":0},{"$f":"IF(AND(ROUND($I243, 3) = ROUND(SUM($K196:S196), 3), SUM($K243:S243) = 0), $I102, 0)","v":0},{"$f":"IF(AND(ROUND($I243, 3) = ROUND(SUM($K196:T196), 3), SUM($K243:T243) = 0), $I102, 0)","v":0},{"$f":"IF(AND(ROUND($I243, 3) = ROUND(SUM($K196:U196), 3), SUM($K243:U243) = 0), $I102, 0)","v":0},{"$f":"IF(AND(ROUND($I243, 3) = ROUND(SUM($K196:V196), 3), SUM($K243:V243) = 0), $I102, 0)","v":0},{"$f":"IF(AND(ROUND($I243, 3) = ROUND(SUM($K196:W196), 3), SUM($K243:W243) = 0), $I102, 0)","v":0},{"$f":"IF(AND(ROUND($I243, 3) = ROUND(SUM($K196:X196), 3), SUM($K243:X243) = 0), $I102, 0)","v":0},{"$f":"IF(AND(ROUND($I243, 3) = ROUND(SUM($K196:Y196), 3), SUM($K243:Y243) = 0), $I102, 0)","v":0},{"$f":"IF(AND(ROUND($I243, 3) = ROUND(SUM($K196:Z196), 3), SUM($K243:Z243) = 0), $I102, 0)","v":0},{"$f":"IF(AND(ROUND($I243, 3) = ROUND(SUM($K196:AA196), 3), SUM($K243:AA243) = 0), $I102, 0)","v":0},{"$f":"IF(AND(ROUND($I243, 3) = ROUND(SUM($K196:AB196), 3), SUM($K243:AB243) = 0), $I102, 0)","v":0},{"$f":"IF(AND(ROUND($I243, 3) = ROUND(SUM($K196:AC196), 3), SUM($K243:AC243) = 0), $I102, 0)","v":0},{"$f":"IF(AND(ROUND($I243, 3) = ROUND(SUM($K196:AD196), 3), SUM($K243:AD243) = 0), $I102, 0)","v":0},{"$f":"IF(AND(ROUND($I243, 3) = ROUND(SUM($K196:AE196), 3), SUM($K243:AE243) = 0), $I102, 0)","v":0},{"$f":"IF(AND(ROUND($I243, 3) = ROUND(SUM($K196:AF196), 3), SUM($K243:AF243) = 0), $I102, 0)","v":0},{"$f":"IF(AND(ROUND($I243, 3) = ROUND(SUM($K196:AG196), 3), SUM($K243:AG243) = 0), $I102, 0)","v":0},{"$f":"IF(AND(ROUND($I243, 3) = ROUND(SUM($K196:AH196), 3), SUM($K243:AH243) = 0), $I102, 0)","v":0},{"$f":"IF(AND(ROUND($I243, 3) = ROUND(SUM($K196:AI196), 3), SUM($K243:AI243) = 0), $I102, 0)","v":0},{"$f":"IF(AND(ROUND($I243, 3) = ROUND(SUM($K196:AJ196), 3), SUM($K243:AJ243) = 0), $I102, 0)","v":0},{"$f":"IF(AND(ROUND($I243, 3) = ROUND(SUM($K196:AK196), 3), SUM($K243:AK243) = 0), $I102, 0)","v":0},{"$f":"IF(AND(ROUND($I243, 3) = ROUND(SUM($K196:AL196), 3), SUM($K243:AL243) = 0), $I102, 0)","v":0},{"$f":"IF(AND(ROUND($I243, 3) = ROUND(SUM($K196:AM196), 3), SUM($K243:AM243) = 0), $I102, 0)","v":0},{"$f":"IF(AND(ROUND($I243, 3) = ROUND(SUM($K196:AN196), 3), SUM($K243:AN243) = 0), $I102, 0)","v":0},{"$f":"IF(AND(ROUND($I243, 3) = ROUND(SUM($K196:AO196), 3), SUM($K243:AO243) = 0), $I102, 0)","v":0},{"$f":"IF(AND(ROUND($I243, 3) = ROUND(SUM($K196:AP196), 3), SUM($K243:AP243) = 0), $I102, 0)","v":0},{"$f":"IF(AND(ROUND($I243, 3) = ROUND(SUM($K196:AQ196), 3), SUM($K243:AQ243) = 0), $I102, 0)","v":0},{"$f":"IF(AND(ROUND($I243, 3) = ROUND(SUM($K196:AR196), 3), SUM($K243:AR243) = 0), $I102, 0)","v":0},{"$f":"IF(AND(ROUND($I243, 3) = ROUND(SUM($K196:AS196), 3), SUM($K243:AS243) = 0), $I102, 0)","v":0}]
[null,null,null,null,"1995-03-31",null,"£m 18/19 prices",null,0,">",null,{"$f":"IF(AND(ROUND($I244, 3) = ROUND(SUM($K197:K197), 3), SUM($K244:K244) = 0), $I103, 0)","v":0},{"$f":"IF(AND(ROUND($I244, 3) = ROUND(SUM($K197:L197), 3), SUM($K244:L244) = 0), $I103, 0)","v":0},{"$f":"IF(AND(ROUND($I244, 3) = ROUND(SUM($K197:M197), 3), SUM($K244:M244) = 0), $I103, 0)","v":0},{"$f":"IF(AND(ROUND($I244, 3) = ROUND(SUM($K197:N197), 3), SUM($K244:N244) = 0), $I103, 0)","v":0},{"$f":"IF(AND(ROUND($I244, 3) = ROUND(SUM($K197:O197), 3), SUM($K244:O244) = 0), $I103, 0)","v":0},{"$f":"IF(AND(ROUND($I244, 3) = ROUND(SUM($K197:P197), 3), SUM($K244:P244) = 0), $I103, 0)","v":0},{"$f":"IF(AND(ROUND($I244, 3) = ROUND(SUM($K197:Q197), 3), SUM($K244:Q244) = 0), $I103, 0)","v":0},{"$f":"IF(AND(ROUND($I244, 3) = ROUND(SUM($K197:R197), 3), SUM($K244:R244) = 0), $I103, 0)","v":0},{"$f":"IF(AND(ROUND($I244, 3) = ROUND(SUM($K197:S197), 3), SUM($K244:S244) = 0), $I103, 0)","v":0},{"$f":"IF(AND(ROUND($I244, 3) = ROUND(SUM($K197:T197), 3), SUM($K244:T244) = 0), $I103, 0)","v":0},{"$f":"IF(AND(ROUND($I244, 3) = ROUND(SUM($K197:U197), 3), SUM($K244:U244) = 0), $I103, 0)","v":0},{"$f":"IF(AND(ROUND($I244, 3) = ROUND(SUM($K197:V197), 3), SUM($K244:V244) = 0), $I103, 0)","v":0},{"$f":"IF(AND(ROUND($I244, 3) = ROUND(SUM($K197:W197), 3), SUM($K244:W244) = 0), $I103, 0)","v":0},{"$f":"IF(AND(ROUND($I244, 3) = ROUND(SUM($K197:X197), 3), SUM($K244:X244) = 0), $I103, 0)","v":0},{"$f":"IF(AND(ROUND($I244, 3) = ROUND(SUM($K197:Y197), 3), SUM($K244:Y244) = 0), $I103, 0)","v":0},{"$f":"IF(AND(ROUND($I244, 3) = ROUND(SUM($K197:Z197), 3), SUM($K244:Z244) = 0), $I103, 0)","v":0},{"$f":"IF(AND(ROUND($I244, 3) = ROUND(SUM($K197:AA197), 3), SUM($K244:AA244) = 0), $I103, 0)","v":0},{"$f":"IF(AND(ROUND($I244, 3) = ROUND(SUM($K197:AB197), 3), SUM($K244:AB244) = 0), $I103, 0)","v":0},{"$f":"IF(AND(ROUND($I244, 3) = ROUND(SUM($K197:AC197), 3), SUM($K244:AC244) = 0), $I103, 0)","v":0},{"$f":"IF(AND(ROUND($I244, 3) = ROUND(SUM($K197:AD197), 3), SUM($K244:AD244) = 0), $I103, 0)","v":0},{"$f":"IF(AND(ROUND($I244, 3) = ROUND(SUM($K197:AE197), 3), SUM($K244:AE244) = 0), $I103, 0)","v":0},{"$f":"IF(AND(ROUND($I244, 3) = ROUND(SUM($K197:AF197), 3), SUM($K244:AF244) = 0), $I103, 0)","v":0},{"$f":"IF(AND(ROUND($I244, 3) = ROUND(SUM($K197:AG197), 3), SUM($K244:AG244) = 0), $I103, 0)","v":0},{"$f":"IF(AND(ROUND($I244, 3) = ROUND(SUM($K197:AH197), 3), SUM($K244:AH244) = 0), $I103, 0)","v":0},{"$f":"IF(AND(ROUND($I244, 3) = ROUND(SUM($K197:AI197), 3), SUM($K244:AI244) = 0), $I103, 0)","v":0},{"$f":"IF(AND(ROUND($I244, 3) = ROUND(SUM($K197:AJ197), 3), SUM($K244:AJ244) = 0), $I103, 0)","v":0},{"$f":"IF(AND(ROUND($I244, 3) = ROUND(SUM($K197:AK197), 3), SUM($K244:AK244) = 0), $I103, 0)","v":0},{"$f":"IF(AND(ROUND($I244, 3) = ROUND(SUM($K197:AL197), 3), SUM($K244:AL244) = 0), $I103, 0)","v":0},{"$f":"IF(AND(ROUND($I244, 3) = ROUND(SUM($K197:AM197), 3), SUM($K244:AM244) = 0), $I103, 0)","v":0},{"$f":"IF(AND(ROUND($I244, 3) = ROUND(SUM($K197:AN197), 3), SUM($K244:AN244) = 0), $I103, 0)","v":0},{"$f":"IF(AND(ROUND($I244, 3) = ROUND(SUM($K197:AO197), 3), SUM($K244:AO244) = 0), $I103, 0)","v":0},{"$f":"IF(AND(ROUND($I244, 3) = ROUND(SUM($K197:AP197), 3), SUM($K244:AP244) = 0), $I103, 0)","v":0},{"$f":"IF(AND(ROUND($I244, 3) = ROUND(SUM($K197:AQ197), 3), SUM($K244:AQ244) = 0), $I103, 0)","v":0},{"$f":"IF(AND(ROUND($I244, 3) = ROUND(SUM($K197:AR197), 3), SUM($K244:AR244) = 0), $I103, 0)","v":0},{"$f":"IF(AND(ROUND($I244, 3) = ROUND(SUM($K197:AS197), 3), SUM($K244:AS244) = 0), $I103, 0)","v":0}]
[null,null,null,null,"1996-03-31",null,"£m 18/19 prices",null,0,">",null,{"$f":"IF(AND(ROUND($I245, 3) = ROUND(SUM($K198:K198), 3), SUM($K245:K245) = 0), $I104, 0)","v":0},{"$f":"IF(AND(ROUND($I245, 3) = ROUND(SUM($K198:L198), 3), SUM($K245:L245) = 0), $I104, 0)","v":0},{"$f":"IF(AND(ROUND($I245, 3) = ROUND(SUM($K198:M198), 3), SUM($K245:M245) = 0), $I104, 0)","v":0},{"$f":"IF(AND(ROUND($I245, 3) = ROUND(SUM($K198:N198), 3), SUM($K245:N245) = 0), $I104, 0)","v":0},{"$f":"IF(AND(ROUND($I245, 3) = ROUND(SUM($K198:O198), 3), SUM($K245:O245) = 0), $I104, 0)","v":0},{"$f":"IF(AND(ROUND($I245, 3) = ROUND(SUM($K198:P198), 3), SUM($K245:P245) = 0), $I104, 0)","v":0},{"$f":"IF(AND(ROUND($I245, 3) = ROUND(SUM($K198:Q198), 3), SUM($K245:Q245) = 0), $I104, 0)","v":0},{"$f":"IF(AND(ROUND($I245, 3) = ROUND(SUM($K198:R198), 3), SUM($K245:R245) = 0), $I104, 0)","v":0},{"$f":"IF(AND(ROUND($I245, 3) = ROUND(SUM($K198:S198), 3), SUM($K245:S245) = 0), $I104, 0)","v":0},{"$f":"IF(AND(ROUND($I245, 3) = ROUND(SUM($K198:T198), 3), SUM($K245:T245) = 0), $I104, 0)","v":0},{"$f":"IF(AND(ROUND($I245, 3) = ROUND(SUM($K198:U198), 3), SUM($K245:U245) = 0), $I104, 0)","v":0},{"$f":"IF(AND(ROUND($I245, 3) = ROUND(SUM($K198:V198), 3), SUM($K245:V245) = 0), $I104, 0)","v":0},{"$f":"IF(AND(ROUND($I245, 3) = ROUND(SUM($K198:W198), 3), SUM($K245:W245) = 0), $I104, 0)","v":0},{"$f":"IF(AND(ROUND($I245, 3) = ROUND(SUM($K198:X198), 3), SUM($K245:X245) = 0), $I104, 0)","v":0},{"$f":"IF(AND(ROUND($I245, 3) = ROUND(SUM($K198:Y198), 3), SUM($K245:Y245) = 0), $I104, 0)","v":0},{"$f":"IF(AND(ROUND($I245, 3) = ROUND(SUM($K198:Z198), 3), SUM($K245:Z245) = 0), $I104, 0)","v":0},{"$f":"IF(AND(ROUND($I245, 3) = ROUND(SUM($K198:AA198), 3), SUM($K245:AA245) = 0), $I104, 0)","v":0},{"$f":"IF(AND(ROUND($I245, 3) = ROUND(SUM($K198:AB198), 3), SUM($K245:AB245) = 0), $I104, 0)","v":0},{"$f":"IF(AND(ROUND($I245, 3) = ROUND(SUM($K198:AC198), 3), SUM($K245:AC245) = 0), $I104, 0)","v":0},{"$f":"IF(AND(ROUND($I245, 3) = ROUND(SUM($K198:AD198), 3), SUM($K245:AD245) = 0), $I104, 0)","v":0},{"$f":"IF(AND(ROUND($I245, 3) = ROUND(SUM($K198:AE198), 3), SUM($K245:AE245) = 0), $I104, 0)","v":0},{"$f":"IF(AND(ROUND($I245, 3) = ROUND(SUM($K198:AF198), 3), SUM($K245:AF245) = 0), $I104, 0)","v":0},{"$f":"IF(AND(ROUND($I245, 3) = ROUND(SUM($K198:AG198), 3), SUM($K245:AG245) = 0), $I104, 0)","v":0},{"$f":"IF(AND(ROUND($I245, 3) = ROUND(SUM($K198:AH198), 3), SUM($K245:AH245) = 0), $I104, 0)","v":0},{"$f":"IF(AND(ROUND($I245, 3) = ROUND(SUM($K198:AI198), 3), SUM($K245:AI245) = 0), $I104, 0)","v":0},{"$f":"IF(AND(ROUND($I245, 3) = ROUND(SUM($K198:AJ198), 3), SUM($K245:AJ245) = 0), $I104, 0)","v":0},{"$f":"IF(AND(ROUND($I245, 3) = ROUND(SUM($K198:AK198), 3), SUM($K245:AK245) = 0), $I104, 0)","v":0},{"$f":"IF(AND(ROUND($I245, 3) = ROUND(SUM($K198:AL198), 3), SUM($K245:AL245) = 0), $I104, 0)","v":0},{"$f":"IF(AND(ROUND($I245, 3) = ROUND(SUM($K198:AM198), 3), SUM($K245:AM245) = 0), $I104, 0)","v":0},{"$f":"IF(AND(ROUND($I245, 3) = ROUND(SUM($K198:AN198), 3), SUM($K245:AN245) = 0), $I104, 0)","v":0},{"$f":"IF(AND(ROUND($I245, 3) = ROUND(SUM($K198:AO198), 3), SUM($K245:AO245) = 0), $I104, 0)","v":0},{"$f":"IF(AND(ROUND($I245, 3) = ROUND(SUM($K198:AP198), 3), SUM($K245:AP245) = 0), $I104, 0)","v":0},{"$f":"IF(AND(ROUND($I245, 3) = ROUND(SUM($K198:AQ198), 3), SUM($K245:AQ245) = 0), $I104, 0)","v":0},{"$f":"IF(AND(ROUND($I245, 3) = ROUND(SUM($K198:AR198), 3), SUM($K245:AR245) = 0), $I104, 0)","v":0},{"$f":"IF(AND(ROUND($I245, 3) = ROUND(SUM($K198:AS198), 3), SUM($K245:AS245) = 0), $I104, 0)","v":0}]
[null,null,null,null,"1997-03-31",null,"£m 18/19 prices",null,0,">",null,{"$f":"IF(AND(ROUND($I246, 3) = ROUND(SUM($K199:K199), 3), SUM($K246:K246) = 0), $I105, 0)","v":0},{"$f":"IF(AND(ROUND($I246, 3) = ROUND(SUM($K199:L199), 3), SUM($K246:L246) = 0), $I105, 0)","v":0},{"$f":"IF(AND(ROUND($I246, 3) = ROUND(SUM($K199:M199), 3), SUM($K246:M246) = 0), $I105, 0)","v":0},{"$f":"IF(AND(ROUND($I246, 3) = ROUND(SUM($K199:N199), 3), SUM($K246:N246) = 0), $I105, 0)","v":0},{"$f":"IF(AND(ROUND($I246, 3) = ROUND(SUM($K199:O199), 3), SUM($K246:O246) = 0), $I105, 0)","v":0},{"$f":"IF(AND(ROUND($I246, 3) = ROUND(SUM($K199:P199), 3), SUM($K246:P246) = 0), $I105, 0)","v":0},{"$f":"IF(AND(ROUND($I246, 3) = ROUND(SUM($K199:Q199), 3), SUM($K246:Q246) = 0), $I105, 0)","v":0},{"$f":"IF(AND(ROUND($I246, 3) = ROUND(SUM($K199:R199), 3), SUM($K246:R246) = 0), $I105, 0)","v":0},{"$f":"IF(AND(ROUND($I246, 3) = ROUND(SUM($K199:S199), 3), SUM($K246:S246) = 0), $I105, 0)","v":0},{"$f":"IF(AND(ROUND($I246, 3) = ROUND(SUM($K199:T199), 3), SUM($K246:T246) = 0), $I105, 0)","v":0},{"$f":"IF(AND(ROUND($I246, 3) = ROUND(SUM($K199:U199), 3), SUM($K246:U246) = 0), $I105, 0)","v":0},{"$f":"IF(AND(ROUND($I246, 3) = ROUND(SUM($K199:V199), 3), SUM($K246:V246) = 0), $I105, 0)","v":0},{"$f":"IF(AND(ROUND($I246, 3) = ROUND(SUM($K199:W199), 3), SUM($K246:W246) = 0), $I105, 0)","v":0},{"$f":"IF(AND(ROUND($I246, 3) = ROUND(SUM($K199:X199), 3), SUM($K246:X246) = 0), $I105, 0)","v":0},{"$f":"IF(AND(ROUND($I246, 3) = ROUND(SUM($K199:Y199), 3), SUM($K246:Y246) = 0), $I105, 0)","v":0},{"$f":"IF(AND(ROUND($I246, 3) = ROUND(SUM($K199:Z199), 3), SUM($K246:Z246) = 0), $I105, 0)","v":0},{"$f":"IF(AND(ROUND($I246, 3) = ROUND(SUM($K199:AA199), 3), SUM($K246:AA246) = 0), $I105, 0)","v":0},{"$f":"IF(AND(ROUND($I246, 3) = ROUND(SUM($K199:AB199), 3), SUM($K246:AB246) = 0), $I105, 0)","v":0},{"$f":"IF(AND(ROUND($I246, 3) = ROUND(SUM($K199:AC199), 3), SUM($K246:AC246) = 0), $I105, 0)","v":0},{"$f":"IF(AND(ROUND($I246, 3) = ROUND(SUM($K199:AD199), 3), SUM($K246:AD246) = 0), $I105, 0)","v":0},{"$f":"IF(AND(ROUND($I246, 3) = ROUND(SUM($K199:AE199), 3), SUM($K246:AE246) = 0), $I105, 0)","v":0},{"$f":"IF(AND(ROUND($I246, 3) = ROUND(SUM($K199:AF199), 3), SUM($K246:AF246) = 0), $I105, 0)","v":0},{"$f":"IF(AND(ROUND($I246, 3) = ROUND(SUM($K199:AG199), 3), SUM($K246:AG246) = 0), $I105, 0)","v":0},{"$f":"IF(AND(ROUND($I246, 3) = ROUND(SUM($K199:AH199), 3), SUM($K246:AH246) = 0), $I105, 0)","v":0},{"$f":"IF(AND(ROUND($I246, 3) = ROUND(SUM($K199:AI199), 3), SUM($K246:AI246) = 0), $I105, 0)","v":0},{"$f":"IF(AND(ROUND($I246, 3) = ROUND(SUM($K199:AJ199), 3), SUM($K246:AJ246) = 0), $I105, 0)","v":0},{"$f":"IF(AND(ROUND($I246, 3) = ROUND(SUM($K199:AK199), 3), SUM($K246:AK246) = 0), $I105, 0)","v":0},{"$f":"IF(AND(ROUND($I246, 3) = ROUND(SUM($K199:AL199), 3), SUM($K246:AL246) = 0), $I105, 0)","v":0},{"$f":"IF(AND(ROUND($I246, 3) = ROUND(SUM($K199:AM199), 3), SUM($K246:AM246) = 0), $I105, 0)","v":0},{"$f":"IF(AND(ROUND($I246, 3) = ROUND(SUM($K199:AN199), 3), SUM($K246:AN246) = 0), $I105, 0)","v":0},{"$f":"IF(AND(ROUND($I246, 3) = ROUND(SUM($K199:AO199), 3), SUM($K246:AO246) = 0), $I105, 0)","v":0},{"$f":"IF(AND(ROUND($I246, 3) = ROUND(SUM($K199:AP199), 3), SUM($K246:AP246) = 0), $I105, 0)","v":0},{"$f":"IF(AND(ROUND($I246, 3) = ROUND(SUM($K199:AQ199), 3), SUM($K246:AQ246) = 0), $I105, 0)","v":0},{"$f":"IF(AND(ROUND($I246, 3) = ROUND(SUM($K199:AR199), 3), SUM($K246:AR246) = 0), $I105, 0)","v":0},{"$f":"IF(AND(ROUND($I246, 3) = ROUND(SUM($K199:AS199), 3), SUM($K246:AS246) = 0), $I105, 0)","v":0}]
[null,null,null,null,"1998-03-31",null,"£m 18/19 prices",null,0,">",null,{"$f":"IF(AND(ROUND($I247, 3) = ROUND(SUM($K200:K200), 3), SUM($K247:K247) = 0), $I106, 0)","v":0},{"$f":"IF(AND(ROUND($I247, 3) = ROUND(SUM($K200:L200), 3), SUM($K247:L247) = 0), $I106, 0)","v":0},{"$f":"IF(AND(ROUND($I247, 3) = ROUND(SUM($K200:M200), 3), SUM($K247:M247) = 0), $I106, 0)","v":0},{"$f":"IF(AND(ROUND($I247, 3) = ROUND(SUM($K200:N200), 3), SUM($K247:N247) = 0), $I106, 0)","v":0},{"$f":"IF(AND(ROUND($I247, 3) = ROUND(SUM($K200:O200), 3), SUM($K247:O247) = 0), $I106, 0)","v":0},{"$f":"IF(AND(ROUND($I247, 3) = ROUND(SUM($K200:P200), 3), SUM($K247:P247) = 0), $I106, 0)","v":0},{"$f":"IF(AND(ROUND($I247, 3) = ROUND(SUM($K200:Q200), 3), SUM($K247:Q247) = 0), $I106, 0)","v":0},{"$f":"IF(AND(ROUND($I247, 3) = ROUND(SUM($K200:R200), 3), SUM($K247:R247) = 0), $I106, 0)","v":0},{"$f":"IF(AND(ROUND($I247, 3) = ROUND(SUM($K200:S200), 3), SUM($K247:S247) = 0), $I106, 0)","v":0},{"$f":"IF(AND(ROUND($I247, 3) = ROUND(SUM($K200:T200), 3), SUM($K247:T247) = 0), $I106, 0)","v":0},{"$f":"IF(AND(ROUND($I247, 3) = ROUND(SUM($K200:U200), 3), SUM($K247:U247) = 0), $I106, 0)","v":0},{"$f":"IF(AND(ROUND($I247, 3) = ROUND(SUM($K200:V200), 3), SUM($K247:V247) = 0), $I106, 0)","v":0},{"$f":"IF(AND(ROUND($I247, 3) = ROUND(SUM($K200:W200), 3), SUM($K247:W247) = 0), $I106, 0)","v":0},{"$f":"IF(AND(ROUND($I247, 3) = ROUND(SUM($K200:X200), 3), SUM($K247:X247) = 0), $I106, 0)","v":0},{"$f":"IF(AND(ROUND($I247, 3) = ROUND(SUM($K200:Y200), 3), SUM($K247:Y247) = 0), $I106, 0)","v":0},{"$f":"IF(AND(ROUND($I247, 3) = ROUND(SUM($K200:Z200), 3), SUM($K247:Z247) = 0), $I106, 0)","v":0},{"$f":"IF(AND(ROUND($I247, 3) = ROUND(SUM($K200:AA200), 3), SUM($K247:AA247) = 0), $I106, 0)","v":0},{"$f":"IF(AND(ROUND($I247, 3) = ROUND(SUM($K200:AB200), 3), SUM($K247:AB247) = 0), $I106, 0)","v":0},{"$f":"IF(AND(ROUND($I247, 3) = ROUND(SUM($K200:AC200), 3), SUM($K247:AC247) = 0), $I106, 0)","v":0},{"$f":"IF(AND(ROUND($I247, 3) = ROUND(SUM($K200:AD200), 3), SUM($K247:AD247) = 0), $I106, 0)","v":0},{"$f":"IF(AND(ROUND($I247, 3) = ROUND(SUM($K200:AE200), 3), SUM($K247:AE247) = 0), $I106, 0)","v":0},{"$f":"IF(AND(ROUND($I247, 3) = ROUND(SUM($K200:AF200), 3), SUM($K247:AF247) = 0), $I106, 0)","v":0},{"$f":"IF(AND(ROUND($I247, 3) = ROUND(SUM($K200:AG200), 3), SUM($K247:AG247) = 0), $I106, 0)","v":0},{"$f":"IF(AND(ROUND($I247, 3) = ROUND(SUM($K200:AH200), 3), SUM($K247:AH247) = 0), $I106, 0)","v":0},{"$f":"IF(AND(ROUND($I247, 3) = ROUND(SUM($K200:AI200), 3), SUM($K247:AI247) = 0), $I106, 0)","v":0},{"$f":"IF(AND(ROUND($I247, 3) = ROUND(SUM($K200:AJ200), 3), SUM($K247:AJ247) = 0), $I106, 0)","v":0},{"$f":"IF(AND(ROUND($I247, 3) = ROUND(SUM($K200:AK200), 3), SUM($K247:AK247) = 0), $I106, 0)","v":0},{"$f":"IF(AND(ROUND($I247, 3) = ROUND(SUM($K200:AL200), 3), SUM($K247:AL247) = 0), $I106, 0)","v":0},{"$f":"IF(AND(ROUND($I247, 3) = ROUND(SUM($K200:AM200), 3), SUM($K247:AM247) = 0), $I106, 0)","v":0},{"$f":"IF(AND(ROUND($I247, 3) = ROUND(SUM($K200:AN200), 3), SUM($K247:AN247) = 0), $I106, 0)","v":0},{"$f":"IF(AND(ROUND($I247, 3) = ROUND(SUM($K200:AO200), 3), SUM($K247:AO247) = 0), $I106, 0)","v":0},{"$f":"IF(AND(ROUND($I247, 3) = ROUND(SUM($K200:AP200), 3), SUM($K247:AP247) = 0), $I106, 0)","v":0},{"$f":"IF(AND(ROUND($I247, 3) = ROUND(SUM($K200:AQ200), 3), SUM($K247:AQ247) = 0), $I106, 0)","v":0},{"$f":"IF(AND(ROUND($I247, 3) = ROUND(SUM($K200:AR200), 3), SUM($K247:AR247) = 0), $I106, 0)","v":0},{"$f":"IF(AND(ROUND($I247, 3) = ROUND(SUM($K200:AS200), 3), SUM($K247:AS247) = 0), $I106, 0)","v":0}]
[null,null,null,null,"1999-03-31",null,"£m 18/19 prices",null,0,">",null,{"$f":"IF(AND(ROUND($I248, 3) = ROUND(SUM($K201:K201), 3), SUM($K248:K248) = 0), $I107, 0)","v":0},{"$f":"IF(AND(ROUND($I248, 3) = ROUND(SUM($K201:L201), 3), SUM($K248:L248) = 0), $I107, 0)","v":0},{"$f":"IF(AND(ROUND($I248, 3) = ROUND(SUM($K201:M201), 3), SUM($K248:M248) = 0), $I107, 0)","v":0},{"$f":"IF(AND(ROUND($I248, 3) = ROUND(SUM($K201:N201), 3), SUM($K248:N248) = 0), $I107, 0)","v":0},{"$f":"IF(AND(ROUND($I248, 3) = ROUND(SUM($K201:O201), 3), SUM($K248:O248) = 0), $I107, 0)","v":0},{"$f":"IF(AND(ROUND($I248, 3) = ROUND(SUM($K201:P201), 3), SUM($K248:P248) = 0), $I107, 0)","v":0},{"$f":"IF(AND(ROUND($I248, 3) = ROUND(SUM($K201:Q201), 3), SUM($K248:Q248) = 0), $I107, 0)","v":0},{"$f":"IF(AND(ROUND($I248, 3) = ROUND(SUM($K201:R201), 3), SUM($K248:R248) = 0), $I107, 0)","v":0},{"$f":"IF(AND(ROUND($I248, 3) = ROUND(SUM($K201:S201), 3), SUM($K248:S248) = 0), $I107, 0)","v":0},{"$f":"IF(AND(ROUND($I248, 3) = ROUND(SUM($K201:T201), 3), SUM($K248:T248) = 0), $I107, 0)","v":0},{"$f":"IF(AND(ROUND($I248, 3) = ROUND(SUM($K201:U201), 3), SUM($K248:U248) = 0), $I107, 0)","v":0},{"$f":"IF(AND(ROUND($I248, 3) = ROUND(SUM($K201:V201), 3), SUM($K248:V248) = 0), $I107, 0)","v":0},{"$f":"IF(AND(ROUND($I248, 3) = ROUND(SUM($K201:W201), 3), SUM($K248:W248) = 0), $I107, 0)","v":0},{"$f":"IF(AND(ROUND($I248, 3) = ROUND(SUM($K201:X201), 3), SUM($K248:X248) = 0), $I107, 0)","v":0},{"$f":"IF(AND(ROUND($I248, 3) = ROUND(SUM($K201:Y201), 3), SUM($K248:Y248) = 0), $I107, 0)","v":0},{"$f":"IF(AND(ROUND($I248, 3) = ROUND(SUM($K201:Z201), 3), SUM($K248:Z248) = 0), $I107, 0)","v":0},{"$f":"IF(AND(ROUND($I248, 3) = ROUND(SUM($K201:AA201), 3), SUM($K248:AA248) = 0), $I107, 0)","v":0},{"$f":"IF(AND(ROUND($I248, 3) = ROUND(SUM($K201:AB201), 3), SUM($K248:AB248) = 0), $I107, 0)","v":0},{"$f":"IF(AND(ROUND($I248, 3) = ROUND(SUM($K201:AC201), 3), SUM($K248:AC248) = 0), $I107, 0)","v":0},{"$f":"IF(AND(ROUND($I248, 3) = ROUND(SUM($K201:AD201), 3), SUM($K248:AD248) = 0), $I107, 0)","v":0},{"$f":"IF(AND(ROUND($I248, 3) = ROUND(SUM($K201:AE201), 3), SUM($K248:AE248) = 0), $I107, 0)","v":0},{"$f":"IF(AND(ROUND($I248, 3) = ROUND(SUM($K201:AF201), 3), SUM($K248:AF248) = 0), $I107, 0)","v":0},{"$f":"IF(AND(ROUND($I248, 3) = ROUND(SUM($K201:AG201), 3), SUM($K248:AG248) = 0), $I107, 0)","v":0},{"$f":"IF(AND(ROUND($I248, 3) = ROUND(SUM($K201:AH201), 3), SUM($K248:AH248) = 0), $I107, 0)","v":0},{"$f":"IF(AND(ROUND($I248, 3) = ROUND(SUM($K201:AI201), 3), SUM($K248:AI248) = 0), $I107, 0)","v":0},{"$f":"IF(AND(ROUND($I248, 3) = ROUND(SUM($K201:AJ201), 3), SUM($K248:AJ248) = 0), $I107, 0)","v":0},{"$f":"IF(AND(ROUND($I248, 3) = ROUND(SUM($K201:AK201), 3), SUM($K248:AK248) = 0), $I107, 0)","v":0},{"$f":"IF(AND(ROUND($I248, 3) = ROUND(SUM($K201:AL201), 3), SUM($K248:AL248) = 0), $I107, 0)","v":0},{"$f":"IF(AND(ROUND($I248, 3) = ROUND(SUM($K201:AM201), 3), SUM($K248:AM248) = 0), $I107, 0)","v":0},{"$f":"IF(AND(ROUND($I248, 3) = ROUND(SUM($K201:AN201), 3), SUM($K248:AN248) = 0), $I107, 0)","v":0},{"$f":"IF(AND(ROUND($I248, 3) = ROUND(SUM($K201:AO201), 3), SUM($K248:AO248) = 0), $I107, 0)","v":0},{"$f":"IF(AND(ROUND($I248, 3) = ROUND(SUM($K201:AP201), 3), SUM($K248:AP248) = 0), $I107, 0)","v":0},{"$f":"IF(AND(ROUND($I248, 3) = ROUND(SUM($K201:AQ201), 3), SUM($K248:AQ248) = 0), $I107, 0)","v":0},{"$f":"IF(AND(ROUND($I248, 3) = ROUND(SUM($K201:AR201), 3), SUM($K248:AR248) = 0), $I107, 0)","v":0},{"$f":"IF(AND(ROUND($I248, 3) = ROUND(SUM($K201:AS201), 3), SUM($K248:AS248) = 0), $I107, 0)","v":0}]
[null,null,null,null,"2000-03-31",null,"£m 18/19 prices",null,0,">",null,{"$f":"IF(AND(ROUND($I249, 3) = ROUND(SUM($K202:K202), 3), SUM($K249:K249) = 0), $I108, 0)","v":0},{"$f":"IF(AND(ROUND($I249, 3) = ROUND(SUM($K202:L202), 3), SUM($K249:L249) = 0), $I108, 0)","v":0},{"$f":"IF(AND(ROUND($I249, 3) = ROUND(SUM($K202:M202), 3), SUM($K249:M249) = 0), $I108, 0)","v":0},{"$f":"IF(AND(ROUND($I249, 3) = ROUND(SUM($K202:N202), 3), SUM($K249:N249) = 0), $I108, 0)","v":0},{"$f":"IF(AND(ROUND($I249, 3) = ROUND(SUM($K202:O202), 3), SUM($K249:O249) = 0), $I108, 0)","v":0},{"$f":"IF(AND(ROUND($I249, 3) = ROUND(SUM($K202:P202), 3), SUM($K249:P249) = 0), $I108, 0)","v":0},{"$f":"IF(AND(ROUND($I249, 3) = ROUND(SUM($K202:Q202), 3), SUM($K249:Q249) = 0), $I108, 0)","v":0},{"$f":"IF(AND(ROUND($I249, 3) = ROUND(SUM($K202:R202), 3), SUM($K249:R249) = 0), $I108, 0)","v":0},{"$f":"IF(AND(ROUND($I249, 3) = ROUND(SUM($K202:S202), 3), SUM($K249:S249) = 0), $I108, 0)","v":0},{"$f":"IF(AND(ROUND($I249, 3) = ROUND(SUM($K202:T202), 3), SUM($K249:T249) = 0), $I108, 0)","v":0},{"$f":"IF(AND(ROUND($I249, 3) = ROUND(SUM($K202:U202), 3), SUM($K249:U249) = 0), $I108, 0)","v":0},{"$f":"IF(AND(ROUND($I249, 3) = ROUND(SUM($K202:V202), 3), SUM($K249:V249) = 0), $I108, 0)","v":0},{"$f":"IF(AND(ROUND($I249, 3) = ROUND(SUM($K202:W202), 3), SUM($K249:W249) = 0), $I108, 0)","v":0},{"$f":"IF(AND(ROUND($I249, 3) = ROUND(SUM($K202:X202), 3), SUM($K249:X249) = 0), $I108, 0)","v":0},{"$f":"IF(AND(ROUND($I249, 3) = ROUND(SUM($K202:Y202), 3), SUM($K249:Y249) = 0), $I108, 0)","v":0},{"$f":"IF(AND(ROUND($I249, 3) = ROUND(SUM($K202:Z202), 3), SUM($K249:Z249) = 0), $I108, 0)","v":0},{"$f":"IF(AND(ROUND($I249, 3) = ROUND(SUM($K202:AA202), 3), SUM($K249:AA249) = 0), $I108, 0)","v":0},{"$f":"IF(AND(ROUND($I249, 3) = ROUND(SUM($K202:AB202), 3), SUM($K249:AB249) = 0), $I108, 0)","v":0},{"$f":"IF(AND(ROUND($I249, 3) = ROUND(SUM($K202:AC202), 3), SUM($K249:AC249) = 0), $I108, 0)","v":0},{"$f":"IF(AND(ROUND($I249, 3) = ROUND(SUM($K202:AD202), 3), SUM($K249:AD249) = 0), $I108, 0)","v":0},{"$f":"IF(AND(ROUND($I249, 3) = ROUND(SUM($K202:AE202), 3), SUM($K249:AE249) = 0), $I108, 0)","v":0},{"$f":"IF(AND(ROUND($I249, 3) = ROUND(SUM($K202:AF202), 3), SUM($K249:AF249) = 0), $I108, 0)","v":0},{"$f":"IF(AND(ROUND($I249, 3) = ROUND(SUM($K202:AG202), 3), SUM($K249:AG249) = 0), $I108, 0)","v":0},{"$f":"IF(AND(ROUND($I249, 3) = ROUND(SUM($K202:AH202), 3), SUM($K249:AH249) = 0), $I108, 0)","v":0},{"$f":"IF(AND(ROUND($I249, 3) = ROUND(SUM($K202:AI202), 3), SUM($K249:AI249) = 0), $I108, 0)","v":0},{"$f":"IF(AND(ROUND($I249, 3) = ROUND(SUM($K202:AJ202), 3), SUM($K249:AJ249) = 0), $I108, 0)","v":0},{"$f":"IF(AND(ROUND($I249, 3) = ROUND(SUM($K202:AK202), 3), SUM($K249:AK249) = 0), $I108, 0)","v":0},{"$f":"IF(AND(ROUND($I249, 3) = ROUND(SUM($K202:AL202), 3), SUM($K249:AL249) = 0), $I108, 0)","v":0},{"$f":"IF(AND(ROUND($I249, 3) = ROUND(SUM($K202:AM202), 3), SUM($K249:AM249) = 0), $I108, 0)","v":0},{"$f":"IF(AND(ROUND($I249, 3) = ROUND(SUM($K202:AN202), 3), SUM($K249:AN249) = 0), $I108, 0)","v":0},{"$f":"IF(AND(ROUND($I249, 3) = ROUND(SUM($K202:AO202), 3), SUM($K249:AO249) = 0), $I108, 0)","v":0},{"$f":"IF(AND(ROUND($I249, 3) = ROUND(SUM($K202:AP202), 3), SUM($K249:AP249) = 0), $I108, 0)","v":0},{"$f":"IF(AND(ROUND($I249, 3) = ROUND(SUM($K202:AQ202), 3), SUM($K249:AQ249) = 0), $I108, 0)","v":0},{"$f":"IF(AND(ROUND($I249, 3) = ROUND(SUM($K202:AR202), 3), SUM($K249:AR249) = 0), $I108, 0)","v":0},{"$f":"IF(AND(ROUND($I249, 3) = ROUND(SUM($K202:AS202), 3), SUM($K249:AS249) = 0), $I108, 0)","v":0}]
[null,null,null,null,"2001-03-31",null,"£m 18/19 prices",null,0,">",null,{"$f":"IF(AND(ROUND($I250, 3) = ROUND(SUM($K203:K203), 3), SUM($K250:K250) = 0), $I109, 0)","v":0},{"$f":"IF(AND(ROUND($I250, 3) = ROUND(SUM($K203:L203), 3), SUM($K250:L250) = 0), $I109, 0)","v":0},{"$f":"IF(AND(ROUND($I250, 3) = ROUND(SUM($K203:M203), 3), SUM($K250:M250) = 0), $I109, 0)","v":0},{"$f":"IF(AND(ROUND($I250, 3) = ROUND(SUM($K203:N203), 3), SUM($K250:N250) = 0), $I109, 0)","v":0},{"$f":"IF(AND(ROUND($I250, 3) = ROUND(SUM($K203:O203), 3), SUM($K250:O250) = 0), $I109, 0)","v":0},{"$f":"IF(AND(ROUND($I250, 3) = ROUND(SUM($K203:P203), 3), SUM($K250:P250) = 0), $I109, 0)","v":0},{"$f":"IF(AND(ROUND($I250, 3) = ROUND(SUM($K203:Q203), 3), SUM($K250:Q250) = 0), $I109, 0)","v":0},{"$f":"IF(AND(ROUND($I250, 3) = ROUND(SUM($K203:R203), 3), SUM($K250:R250) = 0), $I109, 0)","v":0},{"$f":"IF(AND(ROUND($I250, 3) = ROUND(SUM($K203:S203), 3), SUM($K250:S250) = 0), $I109, 0)","v":0},{"$f":"IF(AND(ROUND($I250, 3) = ROUND(SUM($K203:T203), 3), SUM($K250:T250) = 0), $I109, 0)","v":0},{"$f":"IF(AND(ROUND($I250, 3) = ROUND(SUM($K203:U203), 3), SUM($K250:U250) = 0), $I109, 0)","v":0},{"$f":"IF(AND(ROUND($I250, 3) = ROUND(SUM($K203:V203), 3), SUM($K250:V250) = 0), $I109, 0)","v":0},{"$f":"IF(AND(ROUND($I250, 3) = ROUND(SUM($K203:W203), 3), SUM($K250:W250) = 0), $I109, 0)","v":0},{"$f":"IF(AND(ROUND($I250, 3) = ROUND(SUM($K203:X203), 3), SUM($K250:X250) = 0), $I109, 0)","v":0},{"$f":"IF(AND(ROUND($I250, 3) = ROUND(SUM($K203:Y203), 3), SUM($K250:Y250) = 0), $I109, 0)","v":0},{"$f":"IF(AND(ROUND($I250, 3) = ROUND(SUM($K203:Z203), 3), SUM($K250:Z250) = 0), $I109, 0)","v":0},{"$f":"IF(AND(ROUND($I250, 3) = ROUND(SUM($K203:AA203), 3), SUM($K250:AA250) = 0), $I109, 0)","v":0},{"$f":"IF(AND(ROUND($I250, 3) = ROUND(SUM($K203:AB203), 3), SUM($K250:AB250) = 0), $I109, 0)","v":0},{"$f":"IF(AND(ROUND($I250, 3) = ROUND(SUM($K203:AC203), 3), SUM($K250:AC250) = 0), $I109, 0)","v":0},{"$f":"IF(AND(ROUND($I250, 3) = ROUND(SUM($K203:AD203), 3), SUM($K250:AD250) = 0), $I109, 0)","v":0},{"$f":"IF(AND(ROUND($I250, 3) = ROUND(SUM($K203:AE203), 3), SUM($K250:AE250) = 0), $I109, 0)","v":0},{"$f":"IF(AND(ROUND($I250, 3) = ROUND(SUM($K203:AF203), 3), SUM($K250:AF250) = 0), $I109, 0)","v":0},{"$f":"IF(AND(ROUND($I250, 3) = ROUND(SUM($K203:AG203), 3), SUM($K250:AG250) = 0), $I109, 0)","v":0},{"$f":"IF(AND(ROUND($I250, 3) = ROUND(SUM($K203:AH203), 3), SUM($K250:AH250) = 0), $I109, 0)","v":0},{"$f":"IF(AND(ROUND($I250, 3) = ROUND(SUM($K203:AI203), 3), SUM($K250:AI250) = 0), $I109, 0)","v":0},{"$f":"IF(AND(ROUND($I250, 3) = ROUND(SUM($K203:AJ203), 3), SUM($K250:AJ250) = 0), $I109, 0)","v":0},{"$f":"IF(AND(ROUND($I250, 3) = ROUND(SUM($K203:AK203), 3), SUM($K250:AK250) = 0), $I109, 0)","v":0},{"$f":"IF(AND(ROUND($I250, 3) = ROUND(SUM($K203:AL203), 3), SUM($K250:AL250) = 0), $I109, 0)","v":0},{"$f":"IF(AND(ROUND($I250, 3) = ROUND(SUM($K203:AM203), 3), SUM($K250:AM250) = 0), $I109, 0)","v":0},{"$f":"IF(AND(ROUND($I250, 3) = ROUND(SUM($K203:AN203), 3), SUM($K250:AN250) = 0), $I109, 0)","v":0},{"$f":"IF(AND(ROUND($I250, 3) = ROUND(SUM($K203:AO203), 3), SUM($K250:AO250) = 0), $I109, 0)","v":0},{"$f":"IF(AND(ROUND($I250, 3) = ROUND(SUM($K203:AP203), 3), SUM($K250:AP250) = 0), $I109, 0)","v":0},{"$f":"IF(AND(ROUND($I250, 3) = ROUND(SUM($K203:AQ203), 3), SUM($K250:AQ250) = 0), $I109, 0)","v":0},{"$f":"IF(AND(ROUND($I250, 3) = ROUND(SUM($K203:AR203), 3), SUM($K250:AR250) = 0), $I109, 0)","v":0},{"$f":"IF(AND(ROUND($I250, 3) = ROUND(SUM($K203:AS203), 3), SUM($K250:AS250) = 0), $I109, 0)","v":0}]
[null,null,null,null,"2002-03-31",null,"£m 18/19 prices",null,0,">",null,{"$f":"IF(AND(ROUND($I251, 3) = ROUND(SUM($K204:K204), 3), SUM($K251:K251) = 0), $I110, 0)","v":0},{"$f":"IF(AND(ROUND($I251, 3) = ROUND(SUM($K204:L204), 3), SUM($K251:L251) = 0), $I110, 0)","v":0},{"$f":"IF(AND(ROUND($I251, 3) = ROUND(SUM($K204:M204), 3), SUM($K251:M251) = 0), $I110, 0)","v":0},{"$f":"IF(AND(ROUND($I251, 3) = ROUND(SUM($K204:N204), 3), SUM($K251:N251) = 0), $I110, 0)","v":0},{"$f":"IF(AND(ROUND($I251, 3) = ROUND(SUM($K204:O204), 3), SUM($K251:O251) = 0), $I110, 0)","v":0},{"$f":"IF(AND(ROUND($I251, 3) = ROUND(SUM($K204:P204), 3), SUM($K251:P251) = 0), $I110, 0)","v":0},{"$f":"IF(AND(ROUND($I251, 3) = ROUND(SUM($K204:Q204), 3), SUM($K251:Q251) = 0), $I110, 0)","v":0},{"$f":"IF(AND(ROUND($I251, 3) = ROUND(SUM($K204:R204), 3), SUM($K251:R251) = 0), $I110, 0)","v":0},{"$f":"IF(AND(ROUND($I251, 3) = ROUND(SUM($K204:S204), 3), SUM($K251:S251) = 0), $I110, 0)","v":0},{"$f":"IF(AND(ROUND($I251, 3) = ROUND(SUM($K204:T204), 3), SUM($K251:T251) = 0), $I110, 0)","v":0},{"$f":"IF(AND(ROUND($I251, 3) = ROUND(SUM($K204:U204), 3), SUM($K251:U251) = 0), $I110, 0)","v":0},{"$f":"IF(AND(ROUND($I251, 3) = ROUND(SUM($K204:V204), 3), SUM($K251:V251) = 0), $I110, 0)","v":0},{"$f":"IF(AND(ROUND($I251, 3) = ROUND(SUM($K204:W204), 3), SUM($K251:W251) = 0), $I110, 0)","v":0},{"$f":"IF(AND(ROUND($I251, 3) = ROUND(SUM($K204:X204), 3), SUM($K251:X251) = 0), $I110, 0)","v":0},{"$f":"IF(AND(ROUND($I251, 3) = ROUND(SUM($K204:Y204), 3), SUM($K251:Y251) = 0), $I110, 0)","v":0},{"$f":"IF(AND(ROUND($I251, 3) = ROUND(SUM($K204:Z204), 3), SUM($K251:Z251) = 0), $I110, 0)","v":0},{"$f":"IF(AND(ROUND($I251, 3) = ROUND(SUM($K204:AA204), 3), SUM($K251:AA251) = 0), $I110, 0)","v":0},{"$f":"IF(AND(ROUND($I251, 3) = ROUND(SUM($K204:AB204), 3), SUM($K251:AB251) = 0), $I110, 0)","v":0},{"$f":"IF(AND(ROUND($I251, 3) = ROUND(SUM($K204:AC204), 3), SUM($K251:AC251) = 0), $I110, 0)","v":0},{"$f":"IF(AND(ROUND($I251, 3) = ROUND(SUM($K204:AD204), 3), SUM($K251:AD251) = 0), $I110, 0)","v":0},{"$f":"IF(AND(ROUND($I251, 3) = ROUND(SUM($K204:AE204), 3), SUM($K251:AE251) = 0), $I110, 0)","v":0},{"$f":"IF(AND(ROUND($I251, 3) = ROUND(SUM($K204:AF204), 3), SUM($K251:AF251) = 0), $I110, 0)","v":0},{"$f":"IF(AND(ROUND($I251, 3) = ROUND(SUM($K204:AG204), 3), SUM($K251:AG251) = 0), $I110, 0)","v":0},{"$f":"IF(AND(ROUND($I251, 3) = ROUND(SUM($K204:AH204), 3), SUM($K251:AH251) = 0), $I110, 0)","v":0},{"$f":"IF(AND(ROUND($I251, 3) = ROUND(SUM($K204:AI204), 3), SUM($K251:AI251) = 0), $I110, 0)","v":0},{"$f":"IF(AND(ROUND($I251, 3) = ROUND(SUM($K204:AJ204), 3), SUM($K251:AJ251) = 0), $I110, 0)","v":0},{"$f":"IF(AND(ROUND($I251, 3) = ROUND(SUM($K204:AK204), 3), SUM($K251:AK251) = 0), $I110, 0)","v":0},{"$f":"IF(AND(ROUND($I251, 3) = ROUND(SUM($K204:AL204), 3), SUM($K251:AL251) = 0), $I110, 0)","v":0},{"$f":"IF(AND(ROUND($I251, 3) = ROUND(SUM($K204:AM204), 3), SUM($K251:AM251) = 0), $I110, 0)","v":0},{"$f":"IF(AND(ROUND($I251, 3) = ROUND(SUM($K204:AN204), 3), SUM($K251:AN251) = 0), $I110, 0)","v":0},{"$f":"IF(AND(ROUND($I251, 3) = ROUND(SUM($K204:AO204), 3), SUM($K251:AO251) = 0), $I110, 0)","v":0},{"$f":"IF(AND(ROUND($I251, 3) = ROUND(SUM($K204:AP204), 3), SUM($K251:AP251) = 0), $I110, 0)","v":0},{"$f":"IF(AND(ROUND($I251, 3) = ROUND(SUM($K204:AQ204), 3), SUM($K251:AQ251) = 0), $I110, 0)","v":0},{"$f":"IF(AND(ROUND($I251, 3) = ROUND(SUM($K204:AR204), 3), SUM($K251:AR251) = 0), $I110, 0)","v":0},{"$f":"IF(AND(ROUND($I251, 3) = ROUND(SUM($K204:AS204), 3), SUM($K251:AS251) = 0), $I110, 0)","v":0}]
[null,null,null,null,"2003-03-31",null,"£m 18/19 prices",null,0,">",null,{"$f":"IF(AND(ROUND($I252, 3) = ROUND(SUM($K205:K205), 3), SUM($K252:K252) = 0), $I111, 0)","v":0},{"$f":"IF(AND(ROUND($I252, 3) = ROUND(SUM($K205:L205), 3), SUM($K252:L252) = 0), $I111, 0)","v":0},{"$f":"IF(AND(ROUND($I252, 3) = ROUND(SUM($K205:M205), 3), SUM($K252:M252) = 0), $I111, 0)","v":0},{"$f":"IF(AND(ROUND($I252, 3) = ROUND(SUM($K205:N205), 3), SUM($K252:N252) = 0), $I111, 0)","v":0},{"$f":"IF(AND(ROUND($I252, 3) = ROUND(SUM($K205:O205), 3), SUM($K252:O252) = 0), $I111, 0)","v":0},{"$f":"IF(AND(ROUND($I252, 3) = ROUND(SUM($K205:P205), 3), SUM($K252:P252) = 0), $I111, 0)","v":0},{"$f":"IF(AND(ROUND($I252, 3) = ROUND(SUM($K205:Q205), 3), SUM($K252:Q252) = 0), $I111, 0)","v":0},{"$f":"IF(AND(ROUND($I252, 3) = ROUND(SUM($K205:R205), 3), SUM($K252:R252) = 0), $I111, 0)","v":0},{"$f":"IF(AND(ROUND($I252, 3) = ROUND(SUM($K205:S205), 3), SUM($K252:S252) = 0), $I111, 0)","v":0},{"$f":"IF(AND(ROUND($I252, 3) = ROUND(SUM($K205:T205), 3), SUM($K252:T252) = 0), $I111, 0)","v":0},{"$f":"IF(AND(ROUND($I252, 3) = ROUND(SUM($K205:U205), 3), SUM($K252:U252) = 0), $I111, 0)","v":0},{"$f":"IF(AND(ROUND($I252, 3) = ROUND(SUM($K205:V205), 3), SUM($K252:V252) = 0), $I111, 0)","v":0},{"$f":"IF(AND(ROUND($I252, 3) = ROUND(SUM($K205:W205), 3), SUM($K252:W252) = 0), $I111, 0)","v":0},{"$f":"IF(AND(ROUND($I252, 3) = ROUND(SUM($K205:X205), 3), SUM($K252:X252) = 0), $I111, 0)","v":0},{"$f":"IF(AND(ROUND($I252, 3) = ROUND(SUM($K205:Y205), 3), SUM($K252:Y252) = 0), $I111, 0)","v":0},{"$f":"IF(AND(ROUND($I252, 3) = ROUND(SUM($K205:Z205), 3), SUM($K252:Z252) = 0), $I111, 0)","v":0},{"$f":"IF(AND(ROUND($I252, 3) = ROUND(SUM($K205:AA205), 3), SUM($K252:AA252) = 0), $I111, 0)","v":0},{"$f":"IF(AND(ROUND($I252, 3) = ROUND(SUM($K205:AB205), 3), SUM($K252:AB252) = 0), $I111, 0)","v":0},{"$f":"IF(AND(ROUND($I252, 3) = ROUND(SUM($K205:AC205), 3), SUM($K252:AC252) = 0), $I111, 0)","v":0},{"$f":"IF(AND(ROUND($I252, 3) = ROUND(SUM($K205:AD205), 3), SUM($K252:AD252) = 0), $I111, 0)","v":0},{"$f":"IF(AND(ROUND($I252, 3) = ROUND(SUM($K205:AE205), 3), SUM($K252:AE252) = 0), $I111, 0)","v":0},{"$f":"IF(AND(ROUND($I252, 3) = ROUND(SUM($K205:AF205), 3), SUM($K252:AF252) = 0), $I111, 0)","v":0},{"$f":"IF(AND(ROUND($I252, 3) = ROUND(SUM($K205:AG205), 3), SUM($K252:AG252) = 0), $I111, 0)","v":0},{"$f":"IF(AND(ROUND($I252, 3) = ROUND(SUM($K205:AH205), 3), SUM($K252:AH252) = 0), $I111, 0)","v":0},{"$f":"IF(AND(ROUND($I252, 3) = ROUND(SUM($K205:AI205), 3), SUM($K252:AI252) = 0), $I111, 0)","v":0},{"$f":"IF(AND(ROUND($I252, 3) = ROUND(SUM($K205:AJ205), 3), SUM($K252:AJ252) = 0), $I111, 0)","v":0},{"$f":"IF(AND(ROUND($I252, 3) = ROUND(SUM($K205:AK205), 3), SUM($K252:AK252) = 0), $I111, 0)","v":0},{"$f":"IF(AND(ROUND($I252, 3) = ROUND(SUM($K205:AL205), 3), SUM($K252:AL252) = 0), $I111, 0)","v":0},{"$f":"IF(AND(ROUND($I252, 3) = ROUND(SUM($K205:AM205), 3), SUM($K252:AM252) = 0), $I111, 0)","v":0},{"$f":"IF(AND(ROUND($I252, 3) = ROUND(SUM($K205:AN205), 3), SUM($K252:AN252) = 0), $I111, 0)","v":0},{"$f":"IF(AND(ROUND($I252, 3) = ROUND(SUM($K205:AO205), 3), SUM($K252:AO252) = 0), $I111, 0)","v":0},{"$f":"IF(AND(ROUND($I252, 3) = ROUND(SUM($K205:AP205), 3), SUM($K252:AP252) = 0), $I111, 0)","v":0},{"$f":"IF(AND(ROUND($I252, 3) = ROUND(SUM($K205:AQ205), 3), SUM($K252:AQ252) = 0), $I111, 0)","v":0},{"$f":"IF(AND(ROUND($I252, 3) = ROUND(SUM($K205:AR205), 3), SUM($K252:AR252) = 0), $I111, 0)","v":0},{"$f":"IF(AND(ROUND($I252, 3) = ROUND(SUM($K205:AS205), 3), SUM($K252:AS252) = 0), $I111, 0)","v":0}]
[null,null,null,null,"2004-03-31",null,"£m 18/19 prices",null,393.04743989015134,">",null,{"$f":"IF(AND(ROUND($I253, 3) = ROUND(SUM($K206:K206), 3), SUM($K253:K253) = 0), $I112, 0)","v":0},{"$f":"IF(AND(ROUND($I253, 3) = ROUND(SUM($K206:L206), 3), SUM($K253:L253) = 0), $I112, 0)","v":0},{"$f":"IF(AND(ROUND($I253, 3) = ROUND(SUM($K206:M206), 3), SUM($K253:M253) = 0), $I112, 0)","v":0},{"$f":"IF(AND(ROUND($I253, 3) = ROUND(SUM($K206:N206), 3), SUM($K253:N253) = 0), $I112, 0)","v":0},{"$f":"IF(AND(ROUND($I253, 3) = ROUND(SUM($K206:O206), 3), SUM($K253:O253) = 0), $I112, 0)","v":0},{"$f":"IF(AND(ROUND($I253, 3) = ROUND(SUM($K206:P206), 3), SUM($K253:P253) = 0), $I112, 0)","v":0},{"$f":"IF(AND(ROUND($I253, 3) = ROUND(SUM($K206:Q206), 3), SUM($K253:Q253) = 0), $I112, 0)","v":0},{"$f":"IF(AND(ROUND($I253, 3) = ROUND(SUM($K206:R206), 3), SUM($K253:R253) = 0), $I112, 0)","v":0},{"$f":"IF(AND(ROUND($I253, 3) = ROUND(SUM($K206:S206), 3), SUM($K253:S253) = 0), $I112, 0)","v":0},{"$f":"IF(AND(ROUND($I253, 3) = ROUND(SUM($K206:T206), 3), SUM($K253:T253) = 0), $I112, 0)","v":0},{"$f":"IF(AND(ROUND($I253, 3) = ROUND(SUM($K206:U206), 3), SUM($K253:U253) = 0), $I112, 0)","v":0},{"$f":"IF(AND(ROUND($I253, 3) = ROUND(SUM($K206:V206), 3), SUM($K253:V253) = 0), $I112, 0)","v":0},{"$f":"IF(AND(ROUND($I253, 3) = ROUND(SUM($K206:W206), 3), SUM($K253:W253) = 0), $I112, 0)","v":0},{"$f":"IF(AND(ROUND($I253, 3) = ROUND(SUM($K206:X206), 3), SUM($K253:X253) = 0), $I112, 0)","v":0},{"$f":"IF(AND(ROUND($I253, 3) = ROUND(SUM($K206:Y206), 3), SUM($K253:Y253) = 0), $I112, 0)","v":0},{"$f":"IF(AND(ROUND($I253, 3) = ROUND(SUM($K206:Z206), 3), SUM($K253:Z253) = 0), $I112, 0)","v":0},{"$f":"IF(AND(ROUND($I253, 3) = ROUND(SUM($K206:AA206), 3), SUM($K253:AA253) = 0), $I112, 0)","v":0},{"$f":"IF(AND(ROUND($I253, 3) = ROUND(SUM($K206:AB206), 3), SUM($K253:AB253) = 0), $I112, 0)","v":0},{"$f":"IF(AND(ROUND($I253, 3) = ROUND(SUM($K206:AC206), 3), SUM($K253:AC253) = 0), $I112, 0)","v":0},{"$f":"IF(AND(ROUND($I253, 3) = ROUND(SUM($K206:AD206), 3), SUM($K253:AD253) = 0), $I112, 0)","v":0},{"$f":"IF(AND(ROUND($I253, 3) = ROUND(SUM($K206:AE206), 3), SUM($K253:AE253) = 0), $I112, 0)","v":0},{"$f":"IF(AND(ROUND($I253, 3) = ROUND(SUM($K206:AF206), 3), SUM($K253:AF253) = 0), $I112, 0)","v":0},{"$f":"IF(AND(ROUND($I253, 3) = ROUND(SUM($K206:AG206), 3), SUM($K253:AG253) = 0), $I112, 0)","v":0},{"$f":"IF(AND(ROUND($I253, 3) = ROUND(SUM($K206:AH206), 3), SUM($K253:AH253) = 0), $I112, 0)","v":0},{"$f":"IF(AND(ROUND($I253, 3) = ROUND(SUM($K206:AI206), 3), SUM($K253:AI253) = 0), $I112, 0)","v":0},{"$f":"IF(AND(ROUND($I253, 3) = ROUND(SUM($K206:AJ206), 3), SUM($K253:AJ253) = 0), $I112, 0)","v":0},{"$f":"IF(AND(ROUND($I253, 3) = ROUND(SUM($K206:AK206), 3), SUM($K253:AK253) = 0), $I112, 0)","v":0},{"$f":"IF(AND(ROUND($I253, 3) = ROUND(SUM($K206:AL206), 3), SUM($K253:AL253) = 0), $I112, 0)","v":0},{"$f":"IF(AND(ROUND($I253, 3) = ROUND(SUM($K206:AM206), 3), SUM($K253:AM253) = 0), $I112, 0)","v":0},{"$f":"IF(AND(ROUND($I253, 3) = ROUND(SUM($K206:AN206), 3), SUM($K253:AN253) = 0), $I112, 0)","v":0},{"$f":"IF(AND(ROUND($I253, 3) = ROUND(SUM($K206:AO206), 3), SUM($K253:AO253) = 0), $I112, 0)","v":0},{"$f":"IF(AND(ROUND($I253, 3) = ROUND(SUM($K206:AP206), 3), SUM($K253:AP253) = 0), $I112, 0)","v":0},{"$f":"IF(AND(ROUND($I253, 3) = ROUND(SUM($K206:AQ206), 3), SUM($K253:AQ253) = 0), $I112, 0)","v":0},{"$f":"IF(AND(ROUND($I253, 3) = ROUND(SUM($K206:AR206), 3), SUM($K253:AR253) = 0), $I112, 0)","v":0},{"$f":"IF(AND(ROUND($I253, 3) = ROUND(SUM($K206:AS206), 3), SUM($K253:AS253) = 0), $I112, 0)","v":0}]
[null,null,null,null,"2005-03-31",null,"£m 18/19 prices",null,126.55198202648761,">",null,{"$f":"IF(AND(ROUND($I254, 3) = ROUND(SUM($K207:K207), 3), SUM($K254:K254) = 0), $I113, 0)","v":0},{"$f":"IF(AND(ROUND($I254, 3) = ROUND(SUM($K207:L207), 3), SUM($K254:L254) = 0), $I113, 0)","v":0},{"$f":"IF(AND(ROUND($I254, 3) = ROUND(SUM($K207:M207), 3), SUM($K254:M254) = 0), $I113, 0)","v":0},{"$f":"IF(AND(ROUND($I254, 3) = ROUND(SUM($K207:N207), 3), SUM($K254:N254) = 0), $I113, 0)","v":0},{"$f":"IF(AND(ROUND($I254, 3) = ROUND(SUM($K207:O207), 3), SUM($K254:O254) = 0), $I113, 0)","v":0},{"$f":"IF(AND(ROUND($I254, 3) = ROUND(SUM($K207:P207), 3), SUM($K254:P254) = 0), $I113, 0)","v":0},{"$f":"IF(AND(ROUND($I254, 3) = ROUND(SUM($K207:Q207), 3), SUM($K254:Q254) = 0), $I113, 0)","v":0},{"$f":"IF(AND(ROUND($I254, 3) = ROUND(SUM($K207:R207), 3), SUM($K254:R254) = 0), $I113, 0)","v":0},{"$f":"IF(AND(ROUND($I254, 3) = ROUND(SUM($K207:S207), 3), SUM($K254:S254) = 0), $I113, 0)","v":0},{"$f":"IF(AND(ROUND($I254, 3) = ROUND(SUM($K207:T207), 3), SUM($K254:T254) = 0), $I113, 0)","v":0},{"$f":"IF(AND(ROUND($I254, 3) = ROUND(SUM($K207:U207), 3), SUM($K254:U254) = 0), $I113, 0)","v":0},{"$f":"IF(AND(ROUND($I254, 3) = ROUND(SUM($K207:V207), 3), SUM($K254:V254) = 0), $I113, 0)","v":0},{"$f":"IF(AND(ROUND($I254, 3) = ROUND(SUM($K207:W207), 3), SUM($K254:W254) = 0), $I113, 0)","v":0},{"$f":"IF(AND(ROUND($I254, 3) = ROUND(SUM($K207:X207), 3), SUM($K254:X254) = 0), $I113, 0)","v":0},{"$f":"IF(AND(ROUND($I254, 3) = ROUND(SUM($K207:Y207), 3), SUM($K254:Y254) = 0), $I113, 0)","v":0},{"$f":"IF(AND(ROUND($I254, 3) = ROUND(SUM($K207:Z207), 3), SUM($K254:Z254) = 0), $I113, 0)","v":0},{"$f":"IF(AND(ROUND($I254, 3) = ROUND(SUM($K207:AA207), 3), SUM($K254:AA254) = 0), $I113, 0)","v":0},{"$f":"IF(AND(ROUND($I254, 3) = ROUND(SUM($K207:AB207), 3), SUM($K254:AB254) = 0), $I113, 0)","v":0},{"$f":"IF(AND(ROUND($I254, 3) = ROUND(SUM($K207:AC207), 3), SUM($K254:AC254) = 0), $I113, 0)","v":0},{"$f":"IF(AND(ROUND($I254, 3) = ROUND(SUM($K207:AD207), 3), SUM($K254:AD254) = 0), $I113, 0)","v":0},{"$f":"IF(AND(ROUND($I254, 3) = ROUND(SUM($K207:AE207), 3), SUM($K254:AE254) = 0), $I113, 0)","v":0},{"$f":"IF(AND(ROUND($I254, 3) = ROUND(SUM($K207:AF207), 3), SUM($K254:AF254) = 0), $I113, 0)","v":0},{"$f":"IF(AND(ROUND($I254, 3) = ROUND(SUM($K207:AG207), 3), SUM($K254:AG254) = 0), $I113, 0)","v":0},{"$f":"IF(AND(ROUND($I254, 3) = ROUND(SUM($K207:AH207), 3), SUM($K254:AH254) = 0), $I113, 0)","v":0},{"$f":"IF(AND(ROUND($I254, 3) = ROUND(SUM($K207:AI207), 3), SUM($K254:AI254) = 0), $I113, 0)","v":0},{"$f":"IF(AND(ROUND($I254, 3) = ROUND(SUM($K207:AJ207), 3), SUM($K254:AJ254) = 0), $I113, 0)","v":0},{"$f":"IF(AND(ROUND($I254, 3) = ROUND(SUM($K207:AK207), 3), SUM($K254:AK254) = 0), $I113, 0)","v":0},{"$f":"IF(AND(ROUND($I254, 3) = ROUND(SUM($K207:AL207), 3), SUM($K254:AL254) = 0), $I113, 0)","v":0},{"$f":"IF(AND(ROUND($I254, 3) = ROUND(SUM($K207:AM207), 3), SUM($K254:AM254) = 0), $I113, 0)","v":0},{"$f":"IF(AND(ROUND($I254, 3) = ROUND(SUM($K207:AN207), 3), SUM($K254:AN254) = 0), $I113, 0)","v":0},{"$f":"IF(AND(ROUND($I254, 3) = ROUND(SUM($K207:AO207), 3), SUM($K254:AO254) = 0), $I113, 0)","v":0},{"$f":"IF(AND(ROUND($I254, 3) = ROUND(SUM($K207:AP207), 3), SUM($K254:AP254) = 0), $I113, 0)","v":0},{"$f":"IF(AND(ROUND($I254, 3) = ROUND(SUM($K207:AQ207), 3), SUM($K254:AQ254) = 0), $I113, 0)","v":0},{"$f":"IF(AND(ROUND($I254, 3) = ROUND(SUM($K207:AR207), 3), SUM($K254:AR254) = 0), $I113, 0)","v":0},{"$f":"IF(AND(ROUND($I254, 3) = ROUND(SUM($K207:AS207), 3), SUM($K254:AS254) = 0), $I113, 0)","v":0}]
[null,null,null,null,"2006-03-31",null,"£m 18/19 prices",null,393.92016193807626,">",null,{"$f":"IF(AND(ROUND($I255, 3) = ROUND(SUM($K208:K208), 3), SUM($K255:K255) = 0), $I114, 0)","v":0},{"$f":"IF(AND(ROUND($I255, 3) = ROUND(SUM($K208:L208), 3), SUM($K255:L255) = 0), $I114, 0)","v":0},{"$f":"IF(AND(ROUND($I255, 3) = ROUND(SUM($K208:M208), 3), SUM($K255:M255) = 0), $I114, 0)","v":0},{"$f":"IF(AND(ROUND($I255, 3) = ROUND(SUM($K208:N208), 3), SUM($K255:N255) = 0), $I114, 0)","v":0},{"$f":"IF(AND(ROUND($I255, 3) = ROUND(SUM($K208:O208), 3), SUM($K255:O255) = 0), $I114, 0)","v":0},{"$f":"IF(AND(ROUND($I255, 3) = ROUND(SUM($K208:P208), 3), SUM($K255:P255) = 0), $I114, 0)","v":0},{"$f":"IF(AND(ROUND($I255, 3) = ROUND(SUM($K208:Q208), 3), SUM($K255:Q255) = 0), $I114, 0)","v":0},{"$f":"IF(AND(ROUND($I255, 3) = ROUND(SUM($K208:R208), 3), SUM($K255:R255) = 0), $I114, 0)","v":0},{"$f":"IF(AND(ROUND($I255, 3) = ROUND(SUM($K208:S208), 3), SUM($K255:S255) = 0), $I114, 0)","v":0},{"$f":"IF(AND(ROUND($I255, 3) = ROUND(SUM($K208:T208), 3), SUM($K255:T255) = 0), $I114, 0)","v":0},{"$f":"IF(AND(ROUND($I255, 3) = ROUND(SUM($K208:U208), 3), SUM($K255:U255) = 0), $I114, 0)","v":0},{"$f":"IF(AND(ROUND($I255, 3) = ROUND(SUM($K208:V208), 3), SUM($K255:V255) = 0), $I114, 0)","v":0},{"$f":"IF(AND(ROUND($I255, 3) = ROUND(SUM($K208:W208), 3), SUM($K255:W255) = 0), $I114, 0)","v":0},{"$f":"IF(AND(ROUND($I255, 3) = ROUND(SUM($K208:X208), 3), SUM($K255:X255) = 0), $I114, 0)","v":0},{"$f":"IF(AND(ROUND($I255, 3) = ROUND(SUM($K208:Y208), 3), SUM($K255:Y255) = 0), $I114, 0)","v":0},{"$f":"IF(AND(ROUND($I255, 3) = ROUND(SUM($K208:Z208), 3), SUM($K255:Z255) = 0), $I114, 0)","v":0},{"$f":"IF(AND(ROUND($I255, 3) = ROUND(SUM($K208:AA208), 3), SUM($K255:AA255) = 0), $I114, 0)","v":0},{"$f":"IF(AND(ROUND($I255, 3) = ROUND(SUM($K208:AB208), 3), SUM($K255:AB255) = 0), $I114, 0)","v":0},{"$f":"IF(AND(ROUND($I255, 3) = ROUND(SUM($K208:AC208), 3), SUM($K255:AC255) = 0), $I114, 0)","v":0},{"$f":"IF(AND(ROUND($I255, 3) = ROUND(SUM($K208:AD208), 3), SUM($K255:AD255) = 0), $I114, 0)","v":0},{"$f":"IF(AND(ROUND($I255, 3) = ROUND(SUM($K208:AE208), 3), SUM($K255:AE255) = 0), $I114, 0)","v":0},{"$f":"IF(AND(ROUND($I255, 3) = ROUND(SUM($K208:AF208), 3), SUM($K255:AF255) = 0), $I114, 0)","v":0},{"$f":"IF(AND(ROUND($I255, 3) = ROUND(SUM($K208:AG208), 3), SUM($K255:AG255) = 0), $I114, 0)","v":0},{"$f":"IF(AND(ROUND($I255, 3) = ROUND(SUM($K208:AH208), 3), SUM($K255:AH255) = 0), $I114, 0)","v":0},{"$f":"IF(AND(ROUND($I255, 3) = ROUND(SUM($K208:AI208), 3), SUM($K255:AI255) = 0), $I114, 0)","v":0},{"$f":"IF(AND(ROUND($I255, 3) = ROUND(SUM($K208:AJ208), 3), SUM($K255:AJ255) = 0), $I114, 0)","v":0},{"$f":"IF(AND(ROUND($I255, 3) = ROUND(SUM($K208:AK208), 3), SUM($K255:AK255) = 0), $I114, 0)","v":0},{"$f":"IF(AND(ROUND($I255, 3) = ROUND(SUM($K208:AL208), 3), SUM($K255:AL255) = 0), $I114, 0)","v":0},{"$f":"IF(AND(ROUND($I255, 3) = ROUND(SUM($K208:AM208), 3), SUM($K255:AM255) = 0), $I114, 0)","v":0},{"$f":"IF(AND(ROUND($I255, 3) = ROUND(SUM($K208:AN208), 3), SUM($K255:AN255) = 0), $I114, 0)","v":0},{"$f":"IF(AND(ROUND($I255, 3) = ROUND(SUM($K208:AO208), 3), SUM($K255:AO255) = 0), $I114, 0)","v":0},{"$f":"IF(AND(ROUND($I255, 3) = ROUND(SUM($K208:AP208), 3), SUM($K255:AP255) = 0), $I114, 0)","v":0},{"$f":"IF(AND(ROUND($I255, 3) = ROUND(SUM($K208:AQ208), 3), SUM($K255:AQ255) = 0), $I114, 0)","v":0},{"$f":"IF(AND(ROUND($I255, 3) = ROUND(SUM($K208:AR208), 3), SUM($K255:AR255) = 0), $I114, 0)","v":0},{"$f":"IF(AND(ROUND($I255, 3) = ROUND(SUM($K208:AS208), 3), SUM($K255:AS255) = 0), $I114, 0)","v":0}]
[null,null,null,null,"2007-03-31",null,"£m 18/19 prices",null,710.49491725889584,">",null,{"$f":"IF(AND(ROUND($I256, 3) = ROUND(SUM($K209:K209), 3), SUM($K256:K256) = 0), $I115, 0)","v":0},{"$f":"IF(AND(ROUND($I256, 3) = ROUND(SUM($K209:L209), 3), SUM($K256:L256) = 0), $I115, 0)","v":0},{"$f":"IF(AND(ROUND($I256, 3) = ROUND(SUM($K209:M209), 3), SUM($K256:M256) = 0), $I115, 0)","v":0},{"$f":"IF(AND(ROUND($I256, 3) = ROUND(SUM($K209:N209), 3), SUM($K256:N256) = 0), $I115, 0)","v":0},{"$f":"IF(AND(ROUND($I256, 3) = ROUND(SUM($K209:O209), 3), SUM($K256:O256) = 0), $I115, 0)","v":0},{"$f":"IF(AND(ROUND($I256, 3) = ROUND(SUM($K209:P209), 3), SUM($K256:P256) = 0), $I115, 0)","v":0},{"$f":"IF(AND(ROUND($I256, 3) = ROUND(SUM($K209:Q209), 3), SUM($K256:Q256) = 0), $I115, 0)","v":0},{"$f":"IF(AND(ROUND($I256, 3) = ROUND(SUM($K209:R209), 3), SUM($K256:R256) = 0), $I115, 0)","v":0},{"$f":"IF(AND(ROUND($I256, 3) = ROUND(SUM($K209:S209), 3), SUM($K256:S256) = 0), $I115, 0)","v":0},{"$f":"IF(AND(ROUND($I256, 3) = ROUND(SUM($K209:T209), 3), SUM($K256:T256) = 0), $I115, 0)","v":0},{"$f":"IF(AND(ROUND($I256, 3) = ROUND(SUM($K209:U209), 3), SUM($K256:U256) = 0), $I115, 0)","v":0},{"$f":"IF(AND(ROUND($I256, 3) = ROUND(SUM($K209:V209), 3), SUM($K256:V256) = 0), $I115, 0)","v":0},{"$f":"IF(AND(ROUND($I256, 3) = ROUND(SUM($K209:W209), 3), SUM($K256:W256) = 0), $I115, 0)","v":0},{"$f":"IF(AND(ROUND($I256, 3) = ROUND(SUM($K209:X209), 3), SUM($K256:X256) = 0), $I115, 0)","v":0},{"$f":"IF(AND(ROUND($I256, 3) = ROUND(SUM($K209:Y209), 3), SUM($K256:Y256) = 0), $I115, 0)","v":0},{"$f":"IF(AND(ROUND($I256, 3) = ROUND(SUM($K209:Z209), 3), SUM($K256:Z256) = 0), $I115, 0)","v":0},{"$f":"IF(AND(ROUND($I256, 3) = ROUND(SUM($K209:AA209), 3), SUM($K256:AA256) = 0), $I115, 0)","v":0},{"$f":"IF(AND(ROUND($I256, 3) = ROUND(SUM($K209:AB209), 3), SUM($K256:AB256) = 0), $I115, 0)","v":0},{"$f":"IF(AND(ROUND($I256, 3) = ROUND(SUM($K209:AC209), 3), SUM($K256:AC256) = 0), $I115, 0)","v":0},{"$f":"IF(AND(ROUND($I256, 3) = ROUND(SUM($K209:AD209), 3), SUM($K256:AD256) = 0), $I115, 0)","v":0},{"$f":"IF(AND(ROUND($I256, 3) = ROUND(SUM($K209:AE209), 3), SUM($K256:AE256) = 0), $I115, 0)","v":0},{"$f":"IF(AND(ROUND($I256, 3) = ROUND(SUM($K209:AF209), 3), SUM($K256:AF256) = 0), $I115, 0)","v":0},{"$f":"IF(AND(ROUND($I256, 3) = ROUND(SUM($K209:AG209), 3), SUM($K256:AG256) = 0), $I115, 0)","v":0},{"$f":"IF(AND(ROUND($I256, 3) = ROUND(SUM($K209:AH209), 3), SUM($K256:AH256) = 0), $I115, 0)","v":0},{"$f":"IF(AND(ROUND($I256, 3) = ROUND(SUM($K209:AI209), 3), SUM($K256:AI256) = 0), $I115, 0)","v":0},{"$f":"IF(AND(ROUND($I256, 3) = ROUND(SUM($K209:AJ209), 3), SUM($K256:AJ256) = 0), $I115, 0)","v":0},{"$f":"IF(AND(ROUND($I256, 3) = ROUND(SUM($K209:AK209), 3), SUM($K256:AK256) = 0), $I115, 0)","v":0},{"$f":"IF(AND(ROUND($I256, 3) = ROUND(SUM($K209:AL209), 3), SUM($K256:AL256) = 0), $I115, 0)","v":0},{"$f":"IF(AND(ROUND($I256, 3) = ROUND(SUM($K209:AM209), 3), SUM($K256:AM256) = 0), $I115, 0)","v":0},{"$f":"IF(AND(ROUND($I256, 3) = ROUND(SUM($K209:AN209), 3), SUM($K256:AN256) = 0), $I115, 0)","v":0},{"$f":"IF(AND(ROUND($I256, 3) = ROUND(SUM($K209:AO209), 3), SUM($K256:AO256) = 0), $I115, 0)","v":0},{"$f":"IF(AND(ROUND($I256, 3) = ROUND(SUM($K209:AP209), 3), SUM($K256:AP256) = 0), $I115, 0)","v":0},{"$f":"IF(AND(ROUND($I256, 3) = ROUND(SUM($K209:AQ209), 3), SUM($K256:AQ256) = 0), $I115, 0)","v":0},{"$f":"IF(AND(ROUND($I256, 3) = ROUND(SUM($K209:AR209), 3), SUM($K256:AR256) = 0), $I115, 0)","v":0},{"$f":"IF(AND(ROUND($I256, 3) = ROUND(SUM($K209:AS209), 3), SUM($K256:AS256) = 0), $I115, 0)","v":0}]
[null,null,null,null,"2008-03-31",null,"£m 18/19 prices",null,769.15750254958812,">",null,{"$f":"IF(AND(ROUND($I257, 3) = ROUND(SUM($K210:K210), 3), SUM($K257:K257) = 0), $I116, 0)","v":0},{"$f":"IF(AND(ROUND($I257, 3) = ROUND(SUM($K210:L210), 3), SUM($K257:L257) = 0), $I116, 0)","v":0},{"$f":"IF(AND(ROUND($I257, 3) = ROUND(SUM($K210:M210), 3), SUM($K257:M257) = 0), $I116, 0)","v":0},{"$f":"IF(AND(ROUND($I257, 3) = ROUND(SUM($K210:N210), 3), SUM($K257:N257) = 0), $I116, 0)","v":0},{"$f":"IF(AND(ROUND($I257, 3) = ROUND(SUM($K210:O210), 3), SUM($K257:O257) = 0), $I116, 0)","v":0},{"$f":"IF(AND(ROUND($I257, 3) = ROUND(SUM($K210:P210), 3), SUM($K257:P257) = 0), $I116, 0)","v":0},{"$f":"IF(AND(ROUND($I257, 3) = ROUND(SUM($K210:Q210), 3), SUM($K257:Q257) = 0), $I116, 0)","v":0},{"$f":"IF(AND(ROUND($I257, 3) = ROUND(SUM($K210:R210), 3), SUM($K257:R257) = 0), $I116, 0)","v":0},{"$f":"IF(AND(ROUND($I257, 3) = ROUND(SUM($K210:S210), 3), SUM($K257:S257) = 0), $I116, 0)","v":0},{"$f":"IF(AND(ROUND($I257, 3) = ROUND(SUM($K210:T210), 3), SUM($K257:T257) = 0), $I116, 0)","v":0},{"$f":"IF(AND(ROUND($I257, 3) = ROUND(SUM($K210:U210), 3), SUM($K257:U257) = 0), $I116, 0)","v":0},{"$f":"IF(AND(ROUND($I257, 3) = ROUND(SUM($K210:V210), 3), SUM($K257:V257) = 0), $I116, 0)","v":0},{"$f":"IF(AND(ROUND($I257, 3) = ROUND(SUM($K210:W210), 3), SUM($K257:W257) = 0), $I116, 0)","v":0},{"$f":"IF(AND(ROUND($I257, 3) = ROUND(SUM($K210:X210), 3), SUM($K257:X257) = 0), $I116, 0)","v":0},{"$f":"IF(AND(ROUND($I257, 3) = ROUND(SUM($K210:Y210), 3), SUM($K257:Y257) = 0), $I116, 0)","v":0},{"$f":"IF(AND(ROUND($I257, 3) = ROUND(SUM($K210:Z210), 3), SUM($K257:Z257) = 0), $I116, 0)","v":0},{"$f":"IF(AND(ROUND($I257, 3) = ROUND(SUM($K210:AA210), 3), SUM($K257:AA257) = 0), $I116, 0)","v":0},{"$f":"IF(AND(ROUND($I257, 3) = ROUND(SUM($K210:AB210), 3), SUM($K257:AB257) = 0), $I116, 0)","v":0},{"$f":"IF(AND(ROUND($I257, 3) = ROUND(SUM($K210:AC210), 3), SUM($K257:AC257) = 0), $I116, 0)","v":0},{"$f":"IF(AND(ROUND($I257, 3) = ROUND(SUM($K210:AD210), 3), SUM($K257:AD257) = 0), $I116, 0)","v":0},{"$f":"IF(AND(ROUND($I257, 3) = ROUND(SUM($K210:AE210), 3), SUM($K257:AE257) = 0), $I116, 0)","v":0},{"$f":"IF(AND(ROUND($I257, 3) = ROUND(SUM($K210:AF210), 3), SUM($K257:AF257) = 0), $I116, 0)","v":0},{"$f":"IF(AND(ROUND($I257, 3) = ROUND(SUM($K210:AG210), 3), SUM($K257:AG257) = 0), $I116, 0)","v":0},{"$f":"IF(AND(ROUND($I257, 3) = ROUND(SUM($K210:AH210), 3), SUM($K257:AH257) = 0), $I116, 0)","v":0},{"$f":"IF(AND(ROUND($I257, 3) = ROUND(SUM($K210:AI210), 3), SUM($K257:AI257) = 0), $I116, 0)","v":0},{"$f":"IF(AND(ROUND($I257, 3) = ROUND(SUM($K210:AJ210), 3), SUM($K257:AJ257) = 0), $I116, 0)","v":0},{"$f":"IF(AND(ROUND($I257, 3) = ROUND(SUM($K210:AK210), 3), SUM($K257:AK257) = 0), $I116, 0)","v":0},{"$f":"IF(AND(ROUND($I257, 3) = ROUND(SUM($K210:AL210), 3), SUM($K257:AL257) = 0), $I116, 0)","v":0},{"$f":"IF(AND(ROUND($I257, 3) = ROUND(SUM($K210:AM210), 3), SUM($K257:AM257) = 0), $I116, 0)","v":0},{"$f":"IF(AND(ROUND($I257, 3) = ROUND(SUM($K210:AN210), 3), SUM($K257:AN257) = 0), $I116, 0)","v":0},{"$f":"IF(AND(ROUND($I257, 3) = ROUND(SUM($K210:AO210), 3), SUM($K257:AO257) = 0), $I116, 0)","v":0},{"$f":"IF(AND(ROUND($I257, 3) = ROUND(SUM($K210:AP210), 3), SUM($K257:AP257) = 0), $I116, 0)","v":0},{"$f":"IF(AND(ROUND($I257, 3) = ROUND(SUM($K210:AQ210), 3), SUM($K257:AQ257) = 0), $I116, 0)","v":0},{"$f":"IF(AND(ROUND($I257, 3) = ROUND(SUM($K210:AR210), 3), SUM($K257:AR257) = 0), $I116, 0)","v":0},{"$f":"IF(AND(ROUND($I257, 3) = ROUND(SUM($K210:AS210), 3), SUM($K257:AS257) = 0), $I116, 0)","v":0}]
[null,null,null,null,"2009-03-31",null,"£m 18/19 prices",null,325.33393765506702,">",null,{"$f":"IF(AND(ROUND($I258, 3) = ROUND(SUM($K211:K211), 3), SUM($K258:K258) = 0), $I117, 0)","v":0},{"$f":"IF(AND(ROUND($I258, 3) = ROUND(SUM($K211:L211), 3), SUM($K258:L258) = 0), $I117, 0)","v":0},{"$f":"IF(AND(ROUND($I258, 3) = ROUND(SUM($K211:M211), 3), SUM($K258:M258) = 0), $I117, 0)","v":0},{"$f":"IF(AND(ROUND($I258, 3) = ROUND(SUM($K211:N211), 3), SUM($K258:N258) = 0), $I117, 0)","v":0},{"$f":"IF(AND(ROUND($I258, 3) = ROUND(SUM($K211:O211), 3), SUM($K258:O258) = 0), $I117, 0)","v":0},{"$f":"IF(AND(ROUND($I258, 3) = ROUND(SUM($K211:P211), 3), SUM($K258:P258) = 0), $I117, 0)","v":0},{"$f":"IF(AND(ROUND($I258, 3) = ROUND(SUM($K211:Q211), 3), SUM($K258:Q258) = 0), $I117, 0)","v":0},{"$f":"IF(AND(ROUND($I258, 3) = ROUND(SUM($K211:R211), 3), SUM($K258:R258) = 0), $I117, 0)","v":0},{"$f":"IF(AND(ROUND($I258, 3) = ROUND(SUM($K211:S211), 3), SUM($K258:S258) = 0), $I117, 0)","v":0},{"$f":"IF(AND(ROUND($I258, 3) = ROUND(SUM($K211:T211), 3), SUM($K258:T258) = 0), $I117, 0)","v":0},{"$f":"IF(AND(ROUND($I258, 3) = ROUND(SUM($K211:U211), 3), SUM($K258:U258) = 0), $I117, 0)","v":0},{"$f":"IF(AND(ROUND($I258, 3) = ROUND(SUM($K211:V211), 3), SUM($K258:V258) = 0), $I117, 0)","v":0},{"$f":"IF(AND(ROUND($I258, 3) = ROUND(SUM($K211:W211), 3), SUM($K258:W258) = 0), $I117, 0)","v":0},{"$f":"IF(AND(ROUND($I258, 3) = ROUND(SUM($K211:X211), 3), SUM($K258:X258) = 0), $I117, 0)","v":0},{"$f":"IF(AND(ROUND($I258, 3) = ROUND(SUM($K211:Y211), 3), SUM($K258:Y258) = 0), $I117, 0)","v":0},{"$f":"IF(AND(ROUND($I258, 3) = ROUND(SUM($K211:Z211), 3), SUM($K258:Z258) = 0), $I117, 0)","v":0},{"$f":"IF(AND(ROUND($I258, 3) = ROUND(SUM($K211:AA211), 3), SUM($K258:AA258) = 0), $I117, 0)","v":0},{"$f":"IF(AND(ROUND($I258, 3) = ROUND(SUM($K211:AB211), 3), SUM($K258:AB258) = 0), $I117, 0)","v":0},{"$f":"IF(AND(ROUND($I258, 3) = ROUND(SUM($K211:AC211), 3), SUM($K258:AC258) = 0), $I117, 0)","v":0},{"$f":"IF(AND(ROUND($I258, 3) = ROUND(SUM($K211:AD211), 3), SUM($K258:AD258) = 0), $I117, 0)","v":0},{"$f":"IF(AND(ROUND($I258, 3) = ROUND(SUM($K211:AE211), 3), SUM($K258:AE258) = 0), $I117, 0)","v":0},{"$f":"IF(AND(ROUND($I258, 3) = ROUND(SUM($K211:AF211), 3), SUM($K258:AF258) = 0), $I117, 0)","v":0},{"$f":"IF(AND(ROUND($I258, 3) = ROUND(SUM($K211:AG211), 3), SUM($K258:AG258) = 0), $I117, 0)","v":0},{"$f":"IF(AND(ROUND($I258, 3) = ROUND(SUM($K211:AH211), 3), SUM($K258:AH258) = 0), $I117, 0)","v":0},{"$f":"IF(AND(ROUND($I258, 3) = ROUND(SUM($K211:AI211), 3), SUM($K258:AI258) = 0), $I117, 0)","v":0},{"$f":"IF(AND(ROUND($I258, 3) = ROUND(SUM($K211:AJ211), 3), SUM($K258:AJ258) = 0), $I117, 0)","v":0},{"$f":"IF(AND(ROUND($I258, 3) = ROUND(SUM($K211:AK211), 3), SUM($K258:AK258) = 0), $I117, 0)","v":0},{"$f":"IF(AND(ROUND($I258, 3) = ROUND(SUM($K211:AL211), 3), SUM($K258:AL258) = 0), $I117, 0)","v":0},{"$f":"IF(AND(ROUND($I258, 3) = ROUND(SUM($K211:AM211), 3), SUM($K258:AM258) = 0), $I117, 0)","v":0},{"$f":"IF(AND(ROUND($I258, 3) = ROUND(SUM($K211:AN211), 3), SUM($K258:AN258) = 0), $I117, 0)","v":0},{"$f":"IF(AND(ROUND($I258, 3) = ROUND(SUM($K211:AO211), 3), SUM($K258:AO258) = 0), $I117, 0)","v":0},{"$f":"IF(AND(ROUND($I258, 3) = ROUND(SUM($K211:AP211), 3), SUM($K258:AP258) = 0), $I117, 0)","v":0},{"$f":"IF(AND(ROUND($I258, 3) = ROUND(SUM($K211:AQ211), 3), SUM($K258:AQ258) = 0), $I117, 0)","v":0},{"$f":"IF(AND(ROUND($I258, 3) = ROUND(SUM($K211:AR211), 3), SUM($K258:AR258) = 0), $I117, 0)","v":0},{"$f":"IF(AND(ROUND($I258, 3) = ROUND(SUM($K211:AS211), 3), SUM($K258:AS258) = 0), $I117, 0)","v":0}]
[null,null,null,null,"2010-03-31",null,"£m 18/19 prices",null,161.75873847786809,">",null,{"$f":"IF(AND(ROUND($I259, 3) = ROUND(SUM($K212:K212), 3), SUM($K259:K259) = 0), $I118, 0)","v":0},{"$f":"IF(AND(ROUND($I259, 3) = ROUND(SUM($K212:L212), 3), SUM($K259:L259) = 0), $I118, 0)","v":0},{"$f":"IF(AND(ROUND($I259, 3) = ROUND(SUM($K212:M212), 3), SUM($K259:M259) = 0), $I118, 0)","v":0},{"$f":"IF(AND(ROUND($I259, 3) = ROUND(SUM($K212:N212), 3), SUM($K259:N259) = 0), $I118, 0)","v":0},{"$f":"IF(AND(ROUND($I259, 3) = ROUND(SUM($K212:O212), 3), SUM($K259:O259) = 0), $I118, 0)","v":0},{"$f":"IF(AND(ROUND($I259, 3) = ROUND(SUM($K212:P212), 3), SUM($K259:P259) = 0), $I118, 0)","v":0},{"$f":"IF(AND(ROUND($I259, 3) = ROUND(SUM($K212:Q212), 3), SUM($K259:Q259) = 0), $I118, 0)","v":0},{"$f":"IF(AND(ROUND($I259, 3) = ROUND(SUM($K212:R212), 3), SUM($K259:R259) = 0), $I118, 0)","v":0},{"$f":"IF(AND(ROUND($I259, 3) = ROUND(SUM($K212:S212), 3), SUM($K259:S259) = 0), $I118, 0)","v":0},{"$f":"IF(AND(ROUND($I259, 3) = ROUND(SUM($K212:T212), 3), SUM($K259:T259) = 0), $I118, 0)","v":0},{"$f":"IF(AND(ROUND($I259, 3) = ROUND(SUM($K212:U212), 3), SUM($K259:U259) = 0), $I118, 0)","v":0},{"$f":"IF(AND(ROUND($I259, 3) = ROUND(SUM($K212:V212), 3), SUM($K259:V259) = 0), $I118, 0)","v":0},{"$f":"IF(AND(ROUND($I259, 3) = ROUND(SUM($K212:W212), 3), SUM($K259:W259) = 0), $I118, 0)","v":0},{"$f":"IF(AND(ROUND($I259, 3) = ROUND(SUM($K212:X212), 3), SUM($K259:X259) = 0), $I118, 0)","v":0},{"$f":"IF(AND(ROUND($I259, 3) = ROUND(SUM($K212:Y212), 3), SUM($K259:Y259) = 0), $I118, 0)","v":0},{"$f":"IF(AND(ROUND($I259, 3) = ROUND(SUM($K212:Z212), 3), SUM($K259:Z259) = 0), $I118, 0)","v":0},{"$f":"IF(AND(ROUND($I259, 3) = ROUND(SUM($K212:AA212), 3), SUM($K259:AA259) = 0), $I118, 0)","v":0},{"$f":"IF(AND(ROUND($I259, 3) = ROUND(SUM($K212:AB212), 3), SUM($K259:AB259) = 0), $I118, 0)","v":0},{"$f":"IF(AND(ROUND($I259, 3) = ROUND(SUM($K212:AC212), 3), SUM($K259:AC259) = 0), $I118, 0)","v":0},{"$f":"IF(AND(ROUND($I259, 3) = ROUND(SUM($K212:AD212), 3), SUM($K259:AD259) = 0), $I118, 0)","v":0},{"$f":"IF(AND(ROUND($I259, 3) = ROUND(SUM($K212:AE212), 3), SUM($K259:AE259) = 0), $I118, 0)","v":0},{"$f":"IF(AND(ROUND($I259, 3) = ROUND(SUM($K212:AF212), 3), SUM($K259:AF259) = 0), $I118, 0)","v":0},{"$f":"IF(AND(ROUND($I259, 3) = ROUND(SUM($K212:AG212), 3), SUM($K259:AG259) = 0), $I118, 0)","v":0},{"$f":"IF(AND(ROUND($I259, 3) = ROUND(SUM($K212:AH212), 3), SUM($K259:AH259) = 0), $I118, 0)","v":0},{"$f":"IF(AND(ROUND($I259, 3) = ROUND(SUM($K212:AI212), 3), SUM($K259:AI259) = 0), $I118, 0)","v":0},{"$f":"IF(AND(ROUND($I259, 3) = ROUND(SUM($K212:AJ212), 3), SUM($K259:AJ259) = 0), $I118, 0)","v":0},{"$f":"IF(AND(ROUND($I259, 3) = ROUND(SUM($K212:AK212), 3), SUM($K259:AK259) = 0), $I118, 0)","v":0},{"$f":"IF(AND(ROUND($I259, 3) = ROUND(SUM($K212:AL212), 3), SUM($K259:AL259) = 0), $I118, 0)","v":0},{"$f":"IF(AND(ROUND($I259, 3) = ROUND(SUM($K212:AM212), 3), SUM($K259:AM259) = 0), $I118, 0)","v":0},{"$f":"IF(AND(ROUND($I259, 3) = ROUND(SUM($K212:AN212), 3), SUM($K259:AN259) = 0), $I118, 0)","v":0},{"$f":"IF(AND(ROUND($I259, 3) = ROUND(SUM($K212:AO212), 3), SUM($K259:AO259) = 0), $I118, 0)","v":0},{"$f":"IF(AND(ROUND($I259, 3) = ROUND(SUM($K212:AP212), 3), SUM($K259:AP259) = 0), $I118, 0)","v":0},{"$f":"IF(AND(ROUND($I259, 3) = ROUND(SUM($K212:AQ212), 3), SUM($K259:AQ259) = 0), $I118, 0)","v":0},{"$f":"IF(AND(ROUND($I259, 3) = ROUND(SUM($K212:AR212), 3), SUM($K259:AR259) = 0), $I118, 0)","v":0},{"$f":"IF(AND(ROUND($I259, 3) = ROUND(SUM($K212:AS212), 3), SUM($K259:AS259) = 0), $I118, 0)","v":0}]
[null,null,null,null,"2011-03-31",null,"£m 18/19 prices",null,131.2813581348754,">",null,{"$f":"IF(AND(ROUND($I260, 3) = ROUND(SUM($K213:K213), 3), SUM($K260:K260) = 0), $I119, 0)","v":0},{"$f":"IF(AND(ROUND($I260, 3) = ROUND(SUM($K213:L213), 3), SUM($K260:L260) = 0), $I119, 0)","v":0},{"$f":"IF(AND(ROUND($I260, 3) = ROUND(SUM($K213:M213), 3), SUM($K260:M260) = 0), $I119, 0)","v":0},{"$f":"IF(AND(ROUND($I260, 3) = ROUND(SUM($K213:N213), 3), SUM($K260:N260) = 0), $I119, 0)","v":0},{"$f":"IF(AND(ROUND($I260, 3) = ROUND(SUM($K213:O213), 3), SUM($K260:O260) = 0), $I119, 0)","v":0},{"$f":"IF(AND(ROUND($I260, 3) = ROUND(SUM($K213:P213), 3), SUM($K260:P260) = 0), $I119, 0)","v":0},{"$f":"IF(AND(ROUND($I260, 3) = ROUND(SUM($K213:Q213), 3), SUM($K260:Q260) = 0), $I119, 0)","v":0},{"$f":"IF(AND(ROUND($I260, 3) = ROUND(SUM($K213:R213), 3), SUM($K260:R260) = 0), $I119, 0)","v":0},{"$f":"IF(AND(ROUND($I260, 3) = ROUND(SUM($K213:S213), 3), SUM($K260:S260) = 0), $I119, 0)","v":0},{"$f":"IF(AND(ROUND($I260, 3) = ROUND(SUM($K213:T213), 3), SUM($K260:T260) = 0), $I119, 0)","v":0},{"$f":"IF(AND(ROUND($I260, 3) = ROUND(SUM($K213:U213), 3), SUM($K260:U260) = 0), $I119, 0)","v":0},{"$f":"IF(AND(ROUND($I260, 3) = ROUND(SUM($K213:V213), 3), SUM($K260:V260) = 0), $I119, 0)","v":0},{"$f":"IF(AND(ROUND($I260, 3) = ROUND(SUM($K213:W213), 3), SUM($K260:W260) = 0), $I119, 0)","v":0},{"$f":"IF(AND(ROUND($I260, 3) = ROUND(SUM($K213:X213), 3), SUM($K260:X260) = 0), $I119, 0)","v":0},{"$f":"IF(AND(ROUND($I260, 3) = ROUND(SUM($K213:Y213), 3), SUM($K260:Y260) = 0), $I119, 0)","v":0},{"$f":"IF(AND(ROUND($I260, 3) = ROUND(SUM($K213:Z213), 3), SUM($K260:Z260) = 0), $I119, 0)","v":0},{"$f":"IF(AND(ROUND($I260, 3) = ROUND(SUM($K213:AA213), 3), SUM($K260:AA260) = 0), $I119, 0)","v":0},{"$f":"IF(AND(ROUND($I260, 3) = ROUND(SUM($K213:AB213), 3), SUM($K260:AB260) = 0), $I119, 0)","v":0},{"$f":"IF(AND(ROUND($I260, 3) = ROUND(SUM($K213:AC213), 3), SUM($K260:AC260) = 0), $I119, 0)","v":0},{"$f":"IF(AND(ROUND($I260, 3) = ROUND(SUM($K213:AD213), 3), SUM($K260:AD260) = 0), $I119, 0)","v":0},{"$f":"IF(AND(ROUND($I260, 3) = ROUND(SUM($K213:AE213), 3), SUM($K260:AE260) = 0), $I119, 0)","v":0},{"$f":"IF(AND(ROUND($I260, 3) = ROUND(SUM($K213:AF213), 3), SUM($K260:AF260) = 0), $I119, 0)","v":0},{"$f":"IF(AND(ROUND($I260, 3) = ROUND(SUM($K213:AG213), 3), SUM($K260:AG260) = 0), $I119, 0)","v":0},{"$f":"IF(AND(ROUND($I260, 3) = ROUND(SUM($K213:AH213), 3), SUM($K260:AH260) = 0), $I119, 0)","v":0},{"$f":"IF(AND(ROUND($I260, 3) = ROUND(SUM($K213:AI213), 3), SUM($K260:AI260) = 0), $I119, 0)","v":0},{"$f":"IF(AND(ROUND($I260, 3) = ROUND(SUM($K213:AJ213), 3), SUM($K260:AJ260) = 0), $I119, 0)","v":0},{"$f":"IF(AND(ROUND($I260, 3) = ROUND(SUM($K213:AK213), 3), SUM($K260:AK260) = 0), $I119, 0)","v":0},{"$f":"IF(AND(ROUND($I260, 3) = ROUND(SUM($K213:AL213), 3), SUM($K260:AL260) = 0), $I119, 0)","v":0},{"$f":"IF(AND(ROUND($I260, 3) = ROUND(SUM($K213:AM213), 3), SUM($K260:AM260) = 0), $I119, 0)","v":0},{"$f":"IF(AND(ROUND($I260, 3) = ROUND(SUM($K213:AN213), 3), SUM($K260:AN260) = 0), $I119, 0)","v":0},{"$f":"IF(AND(ROUND($I260, 3) = ROUND(SUM($K213:AO213), 3), SUM($K260:AO260) = 0), $I119, 0)","v":0},{"$f":"IF(AND(ROUND($I260, 3) = ROUND(SUM($K213:AP213), 3), SUM($K260:AP260) = 0), $I119, 0)","v":0},{"$f":"IF(AND(ROUND($I260, 3) = ROUND(SUM($K213:AQ213), 3), SUM($K260:AQ260) = 0), $I119, 0)","v":0},{"$f":"IF(AND(ROUND($I260, 3) = ROUND(SUM($K213:AR213), 3), SUM($K260:AR260) = 0), $I119, 0)","v":0},{"$f":"IF(AND(ROUND($I260, 3) = ROUND(SUM($K213:AS213), 3), SUM($K260:AS260) = 0), $I119, 0)","v":0}]
[null,null,null,null,"2012-03-31",null,"£m 18/19 prices",null,132.7730693259773,">",null,{"$f":"IF(AND(ROUND($I261, 3) = ROUND(SUM($K214:K214), 3), SUM($K261:K261) = 0), $I120, 0)","v":0},{"$f":"IF(AND(ROUND($I261, 3) = ROUND(SUM($K214:L214), 3), SUM($K261:L261) = 0), $I120, 0)","v":0},{"$f":"IF(AND(ROUND($I261, 3) = ROUND(SUM($K214:M214), 3), SUM($K261:M261) = 0), $I120, 0)","v":0},{"$f":"IF(AND(ROUND($I261, 3) = ROUND(SUM($K214:N214), 3), SUM($K261:N261) = 0), $I120, 0)","v":0},{"$f":"IF(AND(ROUND($I261, 3) = ROUND(SUM($K214:O214), 3), SUM($K261:O261) = 0), $I120, 0)","v":0},{"$f":"IF(AND(ROUND($I261, 3) = ROUND(SUM($K214:P214), 3), SUM($K261:P261) = 0), $I120, 0)","v":0},{"$f":"IF(AND(ROUND($I261, 3) = ROUND(SUM($K214:Q214), 3), SUM($K261:Q261) = 0), $I120, 0)","v":0},{"$f":"IF(AND(ROUND($I261, 3) = ROUND(SUM($K214:R214), 3), SUM($K261:R261) = 0), $I120, 0)","v":0},{"$f":"IF(AND(ROUND($I261, 3) = ROUND(SUM($K214:S214), 3), SUM($K261:S261) = 0), $I120, 0)","v":0},{"$f":"IF(AND(ROUND($I261, 3) = ROUND(SUM($K214:T214), 3), SUM($K261:T261) = 0), $I120, 0)","v":0},{"$f":"IF(AND(ROUND($I261, 3) = ROUND(SUM($K214:U214), 3), SUM($K261:U261) = 0), $I120, 0)","v":0},{"$f":"IF(AND(ROUND($I261, 3) = ROUND(SUM($K214:V214), 3), SUM($K261:V261) = 0), $I120, 0)","v":0},{"$f":"IF(AND(ROUND($I261, 3) = ROUND(SUM($K214:W214), 3), SUM($K261:W261) = 0), $I120, 0)","v":0},{"$f":"IF(AND(ROUND($I261, 3) = ROUND(SUM($K214:X214), 3), SUM($K261:X261) = 0), $I120, 0)","v":0},{"$f":"IF(AND(ROUND($I261, 3) = ROUND(SUM($K214:Y214), 3), SUM($K261:Y261) = 0), $I120, 0)","v":0},{"$f":"IF(AND(ROUND($I261, 3) = ROUND(SUM($K214:Z214), 3), SUM($K261:Z261) = 0), $I120, 0)","v":0},{"$f":"IF(AND(ROUND($I261, 3) = ROUND(SUM($K214:AA214), 3), SUM($K261:AA261) = 0), $I120, 0)","v":0},{"$f":"IF(AND(ROUND($I261, 3) = ROUND(SUM($K214:AB214), 3), SUM($K261:AB261) = 0), $I120, 0)","v":0},{"$f":"IF(AND(ROUND($I261, 3) = ROUND(SUM($K214:AC214), 3), SUM($K261:AC261) = 0), $I120, 0)","v":0},{"$f":"IF(AND(ROUND($I261, 3) = ROUND(SUM($K214:AD214), 3), SUM($K261:AD261) = 0), $I120, 0)","v":0},{"$f":"IF(AND(ROUND($I261, 3) = ROUND(SUM($K214:AE214), 3), SUM($K261:AE261) = 0), $I120, 0)","v":0},{"$f":"IF(AND(ROUND($I261, 3) = ROUND(SUM($K214:AF214), 3), SUM($K261:AF261) = 0), $I120, 0)","v":0},{"$f":"IF(AND(ROUND($I261, 3) = ROUND(SUM($K214:AG214), 3), SUM($K261:AG261) = 0), $I120, 0)","v":0},{"$f":"IF(AND(ROUND($I261, 3) = ROUND(SUM($K214:AH214), 3), SUM($K261:AH261) = 0), $I120, 0)","v":0},{"$f":"IF(AND(ROUND($I261, 3) = ROUND(SUM($K214:AI214), 3), SUM($K261:AI261) = 0), $I120, 0)","v":0},{"$f":"IF(AND(ROUND($I261, 3) = ROUND(SUM($K214:AJ214), 3), SUM($K261:AJ261) = 0), $I120, 0)","v":0},{"$f":"IF(AND(ROUND($I261, 3) = ROUND(SUM($K214:AK214), 3), SUM($K261:AK261) = 0), $I120, 0)","v":0},{"$f":"IF(AND(ROUND($I261, 3) = ROUND(SUM($K214:AL214), 3), SUM($K261:AL261) = 0), $I120, 0)","v":0},{"$f":"IF(AND(ROUND($I261, 3) = ROUND(SUM($K214:AM214), 3), SUM($K261:AM261) = 0), $I120, 0)","v":0},{"$f":"IF(AND(ROUND($I261, 3) = ROUND(SUM($K214:AN214), 3), SUM($K261:AN261) = 0), $I120, 0)","v":0},{"$f":"IF(AND(ROUND($I261, 3) = ROUND(SUM($K214:AO214), 3), SUM($K261:AO261) = 0), $I120, 0)","v":0},{"$f":"IF(AND(ROUND($I261, 3) = ROUND(SUM($K214:AP214), 3), SUM($K261:AP261) = 0), $I120, 0)","v":0},{"$f":"IF(AND(ROUND($I261, 3) = ROUND(SUM($K214:AQ214), 3), SUM($K261:AQ261) = 0), $I120, 0)","v":0},{"$f":"IF(AND(ROUND($I261, 3) = ROUND(SUM($K214:AR214), 3), SUM($K261:AR261) = 0), $I120, 0)","v":0},{"$f":"IF(AND(ROUND($I261, 3) = ROUND(SUM($K214:AS214), 3), SUM($K261:AS261) = 0), $I120, 0)","v":0}]
[null,null,null,null,"2013-03-31",null,"£m 18/19 prices",null,-37.765799609948715,">",null,{"$f":"IF(AND(ROUND($I262, 3) = ROUND(SUM($K215:K215), 3), SUM($K262:K262) = 0), $I121, 0)","v":0},{"$f":"IF(AND(ROUND($I262, 3) = ROUND(SUM($K215:L215), 3), SUM($K262:L262) = 0), $I121, 0)","v":0},{"$f":"IF(AND(ROUND($I262, 3) = ROUND(SUM($K215:M215), 3), SUM($K262:M262) = 0), $I121, 0)","v":0},{"$f":"IF(AND(ROUND($I262, 3) = ROUND(SUM($K215:N215), 3), SUM($K262:N262) = 0), $I121, 0)","v":0},{"$f":"IF(AND(ROUND($I262, 3) = ROUND(SUM($K215:O215), 3), SUM($K262:O262) = 0), $I121, 0)","v":0},{"$f":"IF(AND(ROUND($I262, 3) = ROUND(SUM($K215:P215), 3), SUM($K262:P262) = 0), $I121, 0)","v":0},{"$f":"IF(AND(ROUND($I262, 3) = ROUND(SUM($K215:Q215), 3), SUM($K262:Q262) = 0), $I121, 0)","v":0},{"$f":"IF(AND(ROUND($I262, 3) = ROUND(SUM($K215:R215), 3), SUM($K262:R262) = 0), $I121, 0)","v":0},{"$f":"IF(AND(ROUND($I262, 3) = ROUND(SUM($K215:S215), 3), SUM($K262:S262) = 0), $I121, 0)","v":0},{"$f":"IF(AND(ROUND($I262, 3) = ROUND(SUM($K215:T215), 3), SUM($K262:T262) = 0), $I121, 0)","v":0},{"$f":"IF(AND(ROUND($I262, 3) = ROUND(SUM($K215:U215), 3), SUM($K262:U262) = 0), $I121, 0)","v":0},{"$f":"IF(AND(ROUND($I262, 3) = ROUND(SUM($K215:V215), 3), SUM($K262:V262) = 0), $I121, 0)","v":0},{"$f":"IF(AND(ROUND($I262, 3) = ROUND(SUM($K215:W215), 3), SUM($K262:W262) = 0), $I121, 0)","v":0},{"$f":"IF(AND(ROUND($I262, 3) = ROUND(SUM($K215:X215), 3), SUM($K262:X262) = 0), $I121, 0)","v":0},{"$f":"IF(AND(ROUND($I262, 3) = ROUND(SUM($K215:Y215), 3), SUM($K262:Y262) = 0), $I121, 0)","v":0},{"$f":"IF(AND(ROUND($I262, 3) = ROUND(SUM($K215:Z215), 3), SUM($K262:Z262) = 0), $I121, 0)","v":0},{"$f":"IF(AND(ROUND($I262, 3) = ROUND(SUM($K215:AA215), 3), SUM($K262:AA262) = 0), $I121, 0)","v":0},{"$f":"IF(AND(ROUND($I262, 3) = ROUND(SUM($K215:AB215), 3), SUM($K262:AB262) = 0), $I121, 0)","v":0},{"$f":"IF(AND(ROUND($I262, 3) = ROUND(SUM($K215:AC215), 3), SUM($K262:AC262) = 0), $I121, 0)","v":0},{"$f":"IF(AND(ROUND($I262, 3) = ROUND(SUM($K215:AD215), 3), SUM($K262:AD262) = 0), $I121, 0)","v":0},{"$f":"IF(AND(ROUND($I262, 3) = ROUND(SUM($K215:AE215), 3), SUM($K262:AE262) = 0), $I121, 0)","v":0},{"$f":"IF(AND(ROUND($I262, 3) = ROUND(SUM($K215:AF215), 3), SUM($K262:AF262) = 0), $I121, 0)","v":0},{"$f":"IF(AND(ROUND($I262, 3) = ROUND(SUM($K215:AG215), 3), SUM($K262:AG262) = 0), $I121, 0)","v":0},{"$f":"IF(AND(ROUND($I262, 3) = ROUND(SUM($K215:AH215), 3), SUM($K262:AH262) = 0), $I121, 0)","v":0},{"$f":"IF(AND(ROUND($I262, 3) = ROUND(SUM($K215:AI215), 3), SUM($K262:AI262) = 0), $I121, 0)","v":0},{"$f":"IF(AND(ROUND($I262, 3) = ROUND(SUM($K215:AJ215), 3), SUM($K262:AJ262) = 0), $I121, 0)","v":0},{"$f":"IF(AND(ROUND($I262, 3) = ROUND(SUM($K215:AK215), 3), SUM($K262:AK262) = 0), $I121, 0)","v":0},{"$f":"IF(AND(ROUND($I262, 3) = ROUND(SUM($K215:AL215), 3), SUM($K262:AL262) = 0), $I121, 0)","v":0},{"$f":"IF(AND(ROUND($I262, 3) = ROUND(SUM($K215:AM215), 3), SUM($K262:AM262) = 0), $I121, 0)","v":0},{"$f":"IF(AND(ROUND($I262, 3) = ROUND(SUM($K215:AN215), 3), SUM($K262:AN262) = 0), $I121, 0)","v":0},{"$f":"IF(AND(ROUND($I262, 3) = ROUND(SUM($K215:AO215), 3), SUM($K262:AO262) = 0), $I121, 0)","v":0},{"$f":"IF(AND(ROUND($I262, 3) = ROUND(SUM($K215:AP215), 3), SUM($K262:AP262) = 0), $I121, 0)","v":0},{"$f":"IF(AND(ROUND($I262, 3) = ROUND(SUM($K215:AQ215), 3), SUM($K262:AQ262) = 0), $I121, 0)","v":0},{"$f":"IF(AND(ROUND($I262, 3) = ROUND(SUM($K215:AR215), 3), SUM($K262:AR262) = 0), $I121, 0)","v":0},{"$f":"IF(AND(ROUND($I262, 3) = ROUND(SUM($K215:AS215), 3), SUM($K262:AS262) = 0), $I121, 0)","v":0}]
[null,null,null,null,"2014-03-31",null,"£m 18/19 prices",null,212.5523707516233,">",null,{"$f":"IF(AND(ROUND($I263, 3) = ROUND(SUM($K216:K216), 3), SUM($K263:K263) = 0), $I122, 0)","v":0},{"$f":"IF(AND(ROUND($I263, 3) = ROUND(SUM($K216:L216), 3), SUM($K263:L263) = 0), $I122, 0)","v":0},{"$f":"IF(AND(ROUND($I263, 3) = ROUND(SUM($K216:M216), 3), SUM($K263:M263) = 0), $I122, 0)","v":0},{"$f":"IF(AND(ROUND($I263, 3) = ROUND(SUM($K216:N216), 3), SUM($K263:N263) = 0), $I122, 0)","v":0},{"$f":"IF(AND(ROUND($I263, 3) = ROUND(SUM($K216:O216), 3), SUM($K263:O263) = 0), $I122, 0)","v":0},{"$f":"IF(AND(ROUND($I263, 3) = ROUND(SUM($K216:P216), 3), SUM($K263:P263) = 0), $I122, 0)","v":0},{"$f":"IF(AND(ROUND($I263, 3) = ROUND(SUM($K216:Q216), 3), SUM($K263:Q263) = 0), $I122, 0)","v":0},{"$f":"IF(AND(ROUND($I263, 3) = ROUND(SUM($K216:R216), 3), SUM($K263:R263) = 0), $I122, 0)","v":0},{"$f":"IF(AND(ROUND($I263, 3) = ROUND(SUM($K216:S216), 3), SUM($K263:S263) = 0), $I122, 0)","v":0},{"$f":"IF(AND(ROUND($I263, 3) = ROUND(SUM($K216:T216), 3), SUM($K263:T263) = 0), $I122, 0)","v":0},{"$f":"IF(AND(ROUND($I263, 3) = ROUND(SUM($K216:U216), 3), SUM($K263:U263) = 0), $I122, 0)","v":0},{"$f":"IF(AND(ROUND($I263, 3) = ROUND(SUM($K216:V216), 3), SUM($K263:V263) = 0), $I122, 0)","v":0},{"$f":"IF(AND(ROUND($I263, 3) = ROUND(SUM($K216:W216), 3), SUM($K263:W263) = 0), $I122, 0)","v":0},{"$f":"IF(AND(ROUND($I263, 3) = ROUND(SUM($K216:X216), 3), SUM($K263:X263) = 0), $I122, 0)","v":0},{"$f":"IF(AND(ROUND($I263, 3) = ROUND(SUM($K216:Y216), 3), SUM($K263:Y263) = 0), $I122, 0)","v":0},{"$f":"IF(AND(ROUND($I263, 3) = ROUND(SUM($K216:Z216), 3), SUM($K263:Z263) = 0), $I122, 0)","v":0},{"$f":"IF(AND(ROUND($I263, 3) = ROUND(SUM($K216:AA216), 3), SUM($K263:AA263) = 0), $I122, 0)","v":0},{"$f":"IF(AND(ROUND($I263, 3) = ROUND(SUM($K216:AB216), 3), SUM($K263:AB263) = 0), $I122, 0)","v":0},{"$f":"IF(AND(ROUND($I263, 3) = ROUND(SUM($K216:AC216), 3), SUM($K263:AC263) = 0), $I122, 0)","v":0},{"$f":"IF(AND(ROUND($I263, 3) = ROUND(SUM($K216:AD216), 3), SUM($K263:AD263) = 0), $I122, 0)","v":0},{"$f":"IF(AND(ROUND($I263, 3) = ROUND(SUM($K216:AE216), 3), SUM($K263:AE263) = 0), $I122, 0)","v":0},{"$f":"IF(AND(ROUND($I263, 3) = ROUND(SUM($K216:AF216), 3), SUM($K263:AF263) = 0), $I122, 0)","v":0},{"$f":"IF(AND(ROUND($I263, 3) = ROUND(SUM($K216:AG216), 3), SUM($K263:AG263) = 0), $I122, 0)","v":0},{"$f":"IF(AND(ROUND($I263, 3) = ROUND(SUM($K216:AH216), 3), SUM($K263:AH263) = 0), $I122, 0)","v":0},{"$f":"IF(AND(ROUND($I263, 3) = ROUND(SUM($K216:AI216), 3), SUM($K263:AI263) = 0), $I122, 0)","v":0},{"$f":"IF(AND(ROUND($I263, 3) = ROUND(SUM($K216:AJ216), 3), SUM($K263:AJ263) = 0), $I122, 0)","v":0},{"$f":"IF(AND(ROUND($I263, 3) = ROUND(SUM($K216:AK216), 3), SUM($K263:AK263) = 0), $I122, 0)","v":0},{"$f":"IF(AND(ROUND($I263, 3) = ROUND(SUM($K216:AL216), 3), SUM($K263:AL263) = 0), $I122, 0)","v":0},{"$f":"IF(AND(ROUND($I263, 3) = ROUND(SUM($K216:AM216), 3), SUM($K263:AM263) = 0), $I122, 0)","v":0},{"$f":"IF(AND(ROUND($I263, 3) = ROUND(SUM($K216:AN216), 3), SUM($K263:AN263) = 0), $I122, 0)","v":0},{"$f":"IF(AND(ROUND($I263, 3) = ROUND(SUM($K216:AO216), 3), SUM($K263:AO263) = 0), $I122, 0)","v":0},{"$f":"IF(AND(ROUND($I263, 3) = ROUND(SUM($K216:AP216), 3), SUM($K263:AP263) = 0), $I122, 0)","v":0},{"$f":"IF(AND(ROUND($I263, 3) = ROUND(SUM($K216:AQ216), 3), SUM($K263:AQ263) = 0), $I122, 0)","v":0},{"$f":"IF(AND(ROUND($I263, 3) = ROUND(SUM($K216:AR216), 3), SUM($K263:AR263) = 0), $I122, 0)","v":0},{"$f":"IF(AND(ROUND($I263, 3) = ROUND(SUM($K216:AS216), 3), SUM($K263:AS263) = 0), $I122, 0)","v":0}]
[null,null,null,null,"2015-03-31",null,"£m 18/19 prices",null,170.28866360126466,">",null,{"$f":"IF(AND(ROUND($I264, 3) = ROUND(SUM($K217:K217), 3), SUM($K264:K264) = 0), $I123, 0)","v":0},{"$f":"IF(AND(ROUND($I264, 3) = ROUND(SUM($K217:L217), 3), SUM($K264:L264) = 0), $I123, 0)","v":0},{"$f":"IF(AND(ROUND($I264, 3) = ROUND(SUM($K217:M217), 3), SUM($K264:M264) = 0), $I123, 0)","v":0},{"$f":"IF(AND(ROUND($I264, 3) = ROUND(SUM($K217:N217), 3), SUM($K264:N264) = 0), $I123, 0)","v":0},{"$f":"IF(AND(ROUND($I264, 3) = ROUND(SUM($K217:O217), 3), SUM($K264:O264) = 0), $I123, 0)","v":0},{"$f":"IF(AND(ROUND($I264, 3) = ROUND(SUM($K217:P217), 3), SUM($K264:P264) = 0), $I123, 0)","v":0},{"$f":"IF(AND(ROUND($I264, 3) = ROUND(SUM($K217:Q217), 3), SUM($K264:Q264) = 0), $I123, 0)","v":0},{"$f":"IF(AND(ROUND($I264, 3) = ROUND(SUM($K217:R217), 3), SUM($K264:R264) = 0), $I123, 0)","v":0},{"$f":"IF(AND(ROUND($I264, 3) = ROUND(SUM($K217:S217), 3), SUM($K264:S264) = 0), $I123, 0)","v":0},{"$f":"IF(AND(ROUND($I264, 3) = ROUND(SUM($K217:T217), 3), SUM($K264:T264) = 0), $I123, 0)","v":0},{"$f":"IF(AND(ROUND($I264, 3) = ROUND(SUM($K217:U217), 3), SUM($K264:U264) = 0), $I123, 0)","v":0},{"$f":"IF(AND(ROUND($I264, 3) = ROUND(SUM($K217:V217), 3), SUM($K264:V264) = 0), $I123, 0)","v":0},{"$f":"IF(AND(ROUND($I264, 3) = ROUND(SUM($K217:W217), 3), SUM($K264:W264) = 0), $I123, 0)","v":0},{"$f":"IF(AND(ROUND($I264, 3) = ROUND(SUM($K217:X217), 3), SUM($K264:X264) = 0), $I123, 0)","v":0},{"$f":"IF(AND(ROUND($I264, 3) = ROUND(SUM($K217:Y217), 3), SUM($K264:Y264) = 0), $I123, 0)","v":0},{"$f":"IF(AND(ROUND($I264, 3) = ROUND(SUM($K217:Z217), 3), SUM($K264:Z264) = 0), $I123, 0)","v":0},{"$f":"IF(AND(ROUND($I264, 3) = ROUND(SUM($K217:AA217), 3), SUM($K264:AA264) = 0), $I123, 0)","v":0},{"$f":"IF(AND(ROUND($I264, 3) = ROUND(SUM($K217:AB217), 3), SUM($K264:AB264) = 0), $I123, 0)","v":0},{"$f":"IF(AND(ROUND($I264, 3) = ROUND(SUM($K217:AC217), 3), SUM($K264:AC264) = 0), $I123, 0)","v":0},{"$f":"IF(AND(ROUND($I264, 3) = ROUND(SUM($K217:AD217), 3), SUM($K264:AD264) = 0), $I123, 0)","v":0},{"$f":"IF(AND(ROUND($I264, 3) = ROUND(SUM($K217:AE217), 3), SUM($K264:AE264) = 0), $I123, 0)","v":0},{"$f":"IF(AND(ROUND($I264, 3) = ROUND(SUM($K217:AF217), 3), SUM($K264:AF264) = 0), $I123, 0)","v":0},{"$f":"IF(AND(ROUND($I264, 3) = ROUND(SUM($K217:AG217), 3), SUM($K264:AG264) = 0), $I123, 0)","v":0},{"$f":"IF(AND(ROUND($I264, 3) = ROUND(SUM($K217:AH217), 3), SUM($K264:AH264) = 0), $I123, 0)","v":0},{"$f":"IF(AND(ROUND($I264, 3) = ROUND(SUM($K217:AI217), 3), SUM($K264:AI264) = 0), $I123, 0)","v":0},{"$f":"IF(AND(ROUND($I264, 3) = ROUND(SUM($K217:AJ217), 3), SUM($K264:AJ264) = 0), $I123, 0)","v":0},{"$f":"IF(AND(ROUND($I264, 3) = ROUND(SUM($K217:AK217), 3), SUM($K264:AK264) = 0), $I123, 0)","v":0},{"$f":"IF(AND(ROUND($I264, 3) = ROUND(SUM($K217:AL217), 3), SUM($K264:AL264) = 0), $I123, 0)","v":0},{"$f":"IF(AND(ROUND($I264, 3) = ROUND(SUM($K217:AM217), 3), SUM($K264:AM264) = 0), $I123, 0)","v":0},{"$f":"IF(AND(ROUND($I264, 3) = ROUND(SUM($K217:AN217), 3), SUM($K264:AN264) = 0), $I123, 0)","v":0},{"$f":"IF(AND(ROUND($I264, 3) = ROUND(SUM($K217:AO217), 3), SUM($K264:AO264) = 0), $I123, 0)","v":0},{"$f":"IF(AND(ROUND($I264, 3) = ROUND(SUM($K217:AP217), 3), SUM($K264:AP264) = 0), $I123, 0)","v":0},{"$f":"IF(AND(ROUND($I264, 3) = ROUND(SUM($K217:AQ217), 3), SUM($K264:AQ264) = 0), $I123, 0)","v":0},{"$f":"IF(AND(ROUND($I264, 3) = ROUND(SUM($K217:AR217), 3), SUM($K264:AR264) = 0), $I123, 0)","v":0},{"$f":"IF(AND(ROUND($I264, 3) = ROUND(SUM($K217:AS217), 3), SUM($K264:AS264) = 0), $I123, 0)","v":0}]
[null,null,null,null,"2016-03-31",null,"£m 18/19 prices",null,160.76820306435465,">",null,{"$f":"IF(AND(ROUND($I265, 3) = ROUND(SUM($K218:K218), 3), SUM($K265:K265) = 0), $I124, 0)","v":0},{"$f":"IF(AND(ROUND($I265, 3) = ROUND(SUM($K218:L218), 3), SUM($K265:L265) = 0), $I124, 0)","v":0},{"$f":"IF(AND(ROUND($I265, 3) = ROUND(SUM($K218:M218), 3), SUM($K265:M265) = 0), $I124, 0)","v":0},{"$f":"IF(AND(ROUND($I265, 3) = ROUND(SUM($K218:N218), 3), SUM($K265:N265) = 0), $I124, 0)","v":0},{"$f":"IF(AND(ROUND($I265, 3) = ROUND(SUM($K218:O218), 3), SUM($K265:O265) = 0), $I124, 0)","v":0},{"$f":"IF(AND(ROUND($I265, 3) = ROUND(SUM($K218:P218), 3), SUM($K265:P265) = 0), $I124, 0)","v":0},{"$f":"IF(AND(ROUND($I265, 3) = ROUND(SUM($K218:Q218), 3), SUM($K265:Q265) = 0), $I124, 0)","v":0},{"$f":"IF(AND(ROUND($I265, 3) = ROUND(SUM($K218:R218), 3), SUM($K265:R265) = 0), $I124, 0)","v":0},{"$f":"IF(AND(ROUND($I265, 3) = ROUND(SUM($K218:S218), 3), SUM($K265:S265) = 0), $I124, 0)","v":0},{"$f":"IF(AND(ROUND($I265, 3) = ROUND(SUM($K218:T218), 3), SUM($K265:T265) = 0), $I124, 0)","v":0},{"$f":"IF(AND(ROUND($I265, 3) = ROUND(SUM($K218:U218), 3), SUM($K265:U265) = 0), $I124, 0)","v":0},{"$f":"IF(AND(ROUND($I265, 3) = ROUND(SUM($K218:V218), 3), SUM($K265:V265) = 0), $I124, 0)","v":0},{"$f":"IF(AND(ROUND($I265, 3) = ROUND(SUM($K218:W218), 3), SUM($K265:W265) = 0), $I124, 0)","v":0},{"$f":"IF(AND(ROUND($I265, 3) = ROUND(SUM($K218:X218), 3), SUM($K265:X265) = 0), $I124, 0)","v":0},{"$f":"IF(AND(ROUND($I265, 3) = ROUND(SUM($K218:Y218), 3), SUM($K265:Y265) = 0), $I124, 0)","v":0},{"$f":"IF(AND(ROUND($I265, 3) = ROUND(SUM($K218:Z218), 3), SUM($K265:Z265) = 0), $I124, 0)","v":0},{"$f":"IF(AND(ROUND($I265, 3) = ROUND(SUM($K218:AA218), 3), SUM($K265:AA265) = 0), $I124, 0)","v":0},{"$f":"IF(AND(ROUND($I265, 3) = ROUND(SUM($K218:AB218), 3), SUM($K265:AB265) = 0), $I124, 0)","v":0},{"$f":"IF(AND(ROUND($I265, 3) = ROUND(SUM($K218:AC218), 3), SUM($K265:AC265) = 0), $I124, 0)","v":0},{"$f":"IF(AND(ROUND($I265, 3) = ROUND(SUM($K218:AD218), 3), SUM($K265:AD265) = 0), $I124, 0)","v":0},{"$f":"IF(AND(ROUND($I265, 3) = ROUND(SUM($K218:AE218), 3), SUM($K265:AE265) = 0), $I124, 0)","v":0},{"$f":"IF(AND(ROUND($I265, 3) = ROUND(SUM($K218:AF218), 3), SUM($K265:AF265) = 0), $I124, 0)","v":0},{"$f":"IF(AND(ROUND($I265, 3) = ROUND(SUM($K218:AG218), 3), SUM($K265:AG265) = 0), $I124, 0)","v":0},{"$f":"IF(AND(ROUND($I265, 3) = ROUND(SUM($K218:AH218), 3), SUM($K265:AH265) = 0), $I124, 0)","v":0},{"$f":"IF(AND(ROUND($I265, 3) = ROUND(SUM($K218:AI218), 3), SUM($K265:AI265) = 0), $I124, 0)","v":0},{"$f":"IF(AND(ROUND($I265, 3) = ROUND(SUM($K218:AJ218), 3), SUM($K265:AJ265) = 0), $I124, 0)","v":0},{"$f":"IF(AND(ROUND($I265, 3) = ROUND(SUM($K218:AK218), 3), SUM($K265:AK265) = 0), $I124, 0)","v":0},{"$f":"IF(AND(ROUND($I265, 3) = ROUND(SUM($K218:AL218), 3), SUM($K265:AL265) = 0), $I124, 0)","v":0},{"$f":"IF(AND(ROUND($I265, 3) = ROUND(SUM($K218:AM218), 3), SUM($K265:AM265) = 0), $I124, 0)","v":0},{"$f":"IF(AND(ROUND($I265, 3) = ROUND(SUM($K218:AN218), 3), SUM($K265:AN265) = 0), $I124, 0)","v":0},{"$f":"IF(AND(ROUND($I265, 3) = ROUND(SUM($K218:AO218), 3), SUM($K265:AO265) = 0), $I124, 0)","v":0},{"$f":"IF(AND(ROUND($I265, 3) = ROUND(SUM($K218:AP218), 3), SUM($K265:AP265) = 0), $I124, 0)","v":0},{"$f":"IF(AND(ROUND($I265, 3) = ROUND(SUM($K218:AQ218), 3), SUM($K265:AQ265) = 0), $I124, 0)","v":0},{"$f":"IF(AND(ROUND($I265, 3) = ROUND(SUM($K218:AR218), 3), SUM($K265:AR265) = 0), $I124, 0)","v":0},{"$f":"IF(AND(ROUND($I265, 3) = ROUND(SUM($K218:AS218), 3), SUM($K265:AS265) = 0), $I124, 0)","v":0}]
[null,null,null,null,"2017-03-31",null,"£m 18/19 prices",null,181.59587737509875,">",null,{"$f":"IF(AND(ROUND($I266, 3) = ROUND(SUM($K219:K219), 3), SUM($K266:K266) = 0), $I125, 0)","v":0},{"$f":"IF(AND(ROUND($I266, 3) = ROUND(SUM($K219:L219), 3), SUM($K266:L266) = 0), $I125, 0)","v":0},{"$f":"IF(AND(ROUND($I266, 3) = ROUND(SUM($K219:M219), 3), SUM($K266:M266) = 0), $I125, 0)","v":0},{"$f":"IF(AND(ROUND($I266, 3) = ROUND(SUM($K219:N219), 3), SUM($K266:N266) = 0), $I125, 0)","v":0},{"$f":"IF(AND(ROUND($I266, 3) = ROUND(SUM($K219:O219), 3), SUM($K266:O266) = 0), $I125, 0)","v":0},{"$f":"IF(AND(ROUND($I266, 3) = ROUND(SUM($K219:P219), 3), SUM($K266:P266) = 0), $I125, 0)","v":0},{"$f":"IF(AND(ROUND($I266, 3) = ROUND(SUM($K219:Q219), 3), SUM($K266:Q266) = 0), $I125, 0)","v":0},{"$f":"IF(AND(ROUND($I266, 3) = ROUND(SUM($K219:R219), 3), SUM($K266:R266) = 0), $I125, 0)","v":0},{"$f":"IF(AND(ROUND($I266, 3) = ROUND(SUM($K219:S219), 3), SUM($K266:S266) = 0), $I125, 0)","v":0},{"$f":"IF(AND(ROUND($I266, 3) = ROUND(SUM($K219:T219), 3), SUM($K266:T266) = 0), $I125, 0)","v":0},{"$f":"IF(AND(ROUND($I266, 3) = ROUND(SUM($K219:U219), 3), SUM($K266:U266) = 0), $I125, 0)","v":0},{"$f":"IF(AND(ROUND($I266, 3) = ROUND(SUM($K219:V219), 3), SUM($K266:V266) = 0), $I125, 0)","v":0},{"$f":"IF(AND(ROUND($I266, 3) = ROUND(SUM($K219:W219), 3), SUM($K266:W266) = 0), $I125, 0)","v":0},{"$f":"IF(AND(ROUND($I266, 3) = ROUND(SUM($K219:X219), 3), SUM($K266:X266) = 0), $I125, 0)","v":0},{"$f":"IF(AND(ROUND($I266, 3) = ROUND(SUM($K219:Y219), 3), SUM($K266:Y266) = 0), $I125, 0)","v":0},{"$f":"IF(AND(ROUND($I266, 3) = ROUND(SUM($K219:Z219), 3), SUM($K266:Z266) = 0), $I125, 0)","v":0},{"$f":"IF(AND(ROUND($I266, 3) = ROUND(SUM($K219:AA219), 3), SUM($K266:AA266) = 0), $I125, 0)","v":0},{"$f":"IF(AND(ROUND($I266, 3) = ROUND(SUM($K219:AB219), 3), SUM($K266:AB266) = 0), $I125, 0)","v":0},{"$f":"IF(AND(ROUND($I266, 3) = ROUND(SUM($K219:AC219), 3), SUM($K266:AC266) = 0), $I125, 0)","v":0},{"$f":"IF(AND(ROUND($I266, 3) = ROUND(SUM($K219:AD219), 3), SUM($K266:AD266) = 0), $I125, 0)","v":0},{"$f":"IF(AND(ROUND($I266, 3) = ROUND(SUM($K219:AE219), 3), SUM($K266:AE266) = 0), $I125, 0)","v":0},{"$f":"IF(AND(ROUND($I266, 3) = ROUND(SUM($K219:AF219), 3), SUM($K266:AF266) = 0), $I125, 0)","v":0},{"$f":"IF(AND(ROUND($I266, 3) = ROUND(SUM($K219:AG219), 3), SUM($K266:AG266) = 0), $I125, 0)","v":0},{"$f":"IF(AND(ROUND($I266, 3) = ROUND(SUM($K219:AH219), 3), SUM($K266:AH266) = 0), $I125, 0)","v":0},{"$f":"IF(AND(ROUND($I266, 3) = ROUND(SUM($K219:AI219), 3), SUM($K266:AI266) = 0), $I125, 0)","v":0},{"$f":"IF(AND(ROUND($I266, 3) = ROUND(SUM($K219:AJ219), 3), SUM($K266:AJ266) = 0), $I125, 0)","v":0},{"$f":"IF(AND(ROUND($I266, 3) = ROUND(SUM($K219:AK219), 3), SUM($K266:AK266) = 0), $I125, 0)","v":0},{"$f":"IF(AND(ROUND($I266, 3) = ROUND(SUM($K219:AL219), 3), SUM($K266:AL266) = 0), $I125, 0)","v":0},{"$f":"IF(AND(ROUND($I266, 3) = ROUND(SUM($K219:AM219), 3), SUM($K266:AM266) = 0), $I125, 0)","v":0},{"$f":"IF(AND(ROUND($I266, 3) = ROUND(SUM($K219:AN219), 3), SUM($K266:AN266) = 0), $I125, 0)","v":0},{"$f":"IF(AND(ROUND($I266, 3) = ROUND(SUM($K219:AO219), 3), SUM($K266:AO266) = 0), $I125, 0)","v":0},{"$f":"IF(AND(ROUND($I266, 3) = ROUND(SUM($K219:AP219), 3), SUM($K266:AP266) = 0), $I125, 0)","v":0},{"$f":"IF(AND(ROUND($I266, 3) = ROUND(SUM($K219:AQ219), 3), SUM($K266:AQ266) = 0), $I125, 0)","v":0},{"$f":"IF(AND(ROUND($I266, 3) = ROUND(SUM($K219:AR219), 3), SUM($K266:AR266) = 0), $I125, 0)","v":0},{"$f":"IF(AND(ROUND($I266, 3) = ROUND(SUM($K219:AS219), 3), SUM($K266:AS266) = 0), $I125, 0)","v":0}]
[null,null,null,null,"2018-03-31",null,"£m 18/19 prices",null,245.9491647431349,">",null,{"$f":"IF(AND(ROUND($I267, 3) = ROUND(SUM($K220:K220), 3), SUM($K267:K267) = 0), $I126, 0)","v":0},{"$f":"IF(AND(ROUND($I267, 3) = ROUND(SUM($K220:L220), 3), SUM($K267:L267) = 0), $I126, 0)","v":0},{"$f":"IF(AND(ROUND($I267, 3) = ROUND(SUM($K220:M220), 3), SUM($K267:M267) = 0), $I126, 0)","v":0},{"$f":"IF(AND(ROUND($I267, 3) = ROUND(SUM($K220:N220), 3), SUM($K267:N267) = 0), $I126, 0)","v":0},{"$f":"IF(AND(ROUND($I267, 3) = ROUND(SUM($K220:O220), 3), SUM($K267:O267) = 0), $I126, 0)","v":0},{"$f":"IF(AND(ROUND($I267, 3) = ROUND(SUM($K220:P220), 3), SUM($K267:P267) = 0), $I126, 0)","v":0},{"$f":"IF(AND(ROUND($I267, 3) = ROUND(SUM($K220:Q220), 3), SUM($K267:Q267) = 0), $I126, 0)","v":0},{"$f":"IF(AND(ROUND($I267, 3) = ROUND(SUM($K220:R220), 3), SUM($K267:R267) = 0), $I126, 0)","v":0},{"$f":"IF(AND(ROUND($I267, 3) = ROUND(SUM($K220:S220), 3), SUM($K267:S267) = 0), $I126, 0)","v":0},{"$f":"IF(AND(ROUND($I267, 3) = ROUND(SUM($K220:T220), 3), SUM($K267:T267) = 0), $I126, 0)","v":0},{"$f":"IF(AND(ROUND($I267, 3) = ROUND(SUM($K220:U220), 3), SUM($K267:U267) = 0), $I126, 0)","v":0},{"$f":"IF(AND(ROUND($I267, 3) = ROUND(SUM($K220:V220), 3), SUM($K267:V267) = 0), $I126, 0)","v":0},{"$f":"IF(AND(ROUND($I267, 3) = ROUND(SUM($K220:W220), 3), SUM($K267:W267) = 0), $I126, 0)","v":0},{"$f":"IF(AND(ROUND($I267, 3) = ROUND(SUM($K220:X220), 3), SUM($K267:X267) = 0), $I126, 0)","v":0},{"$f":"IF(AND(ROUND($I267, 3) = ROUND(SUM($K220:Y220), 3), SUM($K267:Y267) = 0), $I126, 0)","v":0},{"$f":"IF(AND(ROUND($I267, 3) = ROUND(SUM($K220:Z220), 3), SUM($K267:Z267) = 0), $I126, 0)","v":0},{"$f":"IF(AND(ROUND($I267, 3) = ROUND(SUM($K220:AA220), 3), SUM($K267:AA267) = 0), $I126, 0)","v":0},{"$f":"IF(AND(ROUND($I267, 3) = ROUND(SUM($K220:AB220), 3), SUM($K267:AB267) = 0), $I126, 0)","v":0},{"$f":"IF(AND(ROUND($I267, 3) = ROUND(SUM($K220:AC220), 3), SUM($K267:AC267) = 0), $I126, 0)","v":0},{"$f":"IF(AND(ROUND($I267, 3) = ROUND(SUM($K220:AD220), 3), SUM($K267:AD267) = 0), $I126, 0)","v":0},{"$f":"IF(AND(ROUND($I267, 3) = ROUND(SUM($K220:AE220), 3), SUM($K267:AE267) = 0), $I126, 0)","v":0},{"$f":"IF(AND(ROUND($I267, 3) = ROUND(SUM($K220:AF220), 3), SUM($K267:AF267) = 0), $I126, 0)","v":0},{"$f":"IF(AND(ROUND($I267, 3) = ROUND(SUM($K220:AG220), 3), SUM($K267:AG267) = 0), $I126, 0)","v":0},{"$f":"IF(AND(ROUND($I267, 3) = ROUND(SUM($K220:AH220), 3), SUM($K267:AH267) = 0), $I126, 0)","v":0},{"$f":"IF(AND(ROUND($I267, 3) = ROUND(SUM($K220:AI220), 3), SUM($K267:AI267) = 0), $I126, 0)","v":0},{"$f":"IF(AND(ROUND($I267, 3) = ROUND(SUM($K220:AJ220), 3), SUM($K267:AJ267) = 0), $I126, 0)","v":0},{"$f":"IF(AND(ROUND($I267, 3) = ROUND(SUM($K220:AK220), 3), SUM($K267:AK267) = 0), $I126, 0)","v":0},{"$f":"IF(AND(ROUND($I267, 3) = ROUND(SUM($K220:AL220), 3), SUM($K267:AL267) = 0), $I126, 0)","v":0},{"$f":"IF(AND(ROUND($I267, 3) = ROUND(SUM($K220:AM220), 3), SUM($K267:AM267) = 0), $I126, 0)","v":0},{"$f":"IF(AND(ROUND($I267, 3) = ROUND(SUM($K220:AN220), 3), SUM($K267:AN267) = 0), $I126, 0)","v":0},{"$f":"IF(AND(ROUND($I267, 3) = ROUND(SUM($K220:AO220), 3), SUM($K267:AO267) = 0), $I126, 0)","v":0},{"$f":"IF(AND(ROUND($I267, 3) = ROUND(SUM($K220:AP220), 3), SUM($K267:AP267) = 0), $I126, 0)","v":0},{"$f":"IF(AND(ROUND($I267, 3) = ROUND(SUM($K220:AQ220), 3), SUM($K267:AQ267) = 0), $I126, 0)","v":0},{"$f":"IF(AND(ROUND($I267, 3) = ROUND(SUM($K220:AR220), 3), SUM($K267:AR267) = 0), $I126, 0)","v":0},{"$f":"IF(AND(ROUND($I267, 3) = ROUND(SUM($K220:AS220), 3), SUM($K267:AS267) = 0), $I126, 0)","v":0}]
[null,null,null,null,"2019-03-31",null,"£m 18/19 prices",null,229.32945839854813,">",null,{"$f":"IF(AND(ROUND($I268, 3) = ROUND(SUM($K221:K221), 3), SUM($K268:K268) = 0), $I127, 0)","v":0},{"$f":"IF(AND(ROUND($I268, 3) = ROUND(SUM($K221:L221), 3), SUM($K268:L268) = 0), $I127, 0)","v":0},{"$f":"IF(AND(ROUND($I268, 3) = ROUND(SUM($K221:M221), 3), SUM($K268:M268) = 0), $I127, 0)","v":0},{"$f":"IF(AND(ROUND($I268, 3) = ROUND(SUM($K221:N221), 3), SUM($K268:N268) = 0), $I127, 0)","v":0},{"$f":"IF(AND(ROUND($I268, 3) = ROUND(SUM($K221:O221), 3), SUM($K268:O268) = 0), $I127, 0)","v":0},{"$f":"IF(AND(ROUND($I268, 3) = ROUND(SUM($K221:P221), 3), SUM($K268:P268) = 0), $I127, 0)","v":0},{"$f":"IF(AND(ROUND($I268, 3) = ROUND(SUM($K221:Q221), 3), SUM($K268:Q268) = 0), $I127, 0)","v":0},{"$f":"IF(AND(ROUND($I268, 3) = ROUND(SUM($K221:R221), 3), SUM($K268:R268) = 0), $I127, 0)","v":0},{"$f":"IF(AND(ROUND($I268, 3) = ROUND(SUM($K221:S221), 3), SUM($K268:S268) = 0), $I127, 0)","v":0},{"$f":"IF(AND(ROUND($I268, 3) = ROUND(SUM($K221:T221), 3), SUM($K268:T268) = 0), $I127, 0)","v":0},{"$f":"IF(AND(ROUND($I268, 3) = ROUND(SUM($K221:U221), 3), SUM($K268:U268) = 0), $I127, 0)","v":0},{"$f":"IF(AND(ROUND($I268, 3) = ROUND(SUM($K221:V221), 3), SUM($K268:V268) = 0), $I127, 0)","v":0},{"$f":"IF(AND(ROUND($I268, 3) = ROUND(SUM($K221:W221), 3), SUM($K268:W268) = 0), $I127, 0)","v":0},{"$f":"IF(AND(ROUND($I268, 3) = ROUND(SUM($K221:X221), 3), SUM($K268:X268) = 0), $I127, 0)","v":0},{"$f":"IF(AND(ROUND($I268, 3) = ROUND(SUM($K221:Y221), 3), SUM($K268:Y268) = 0), $I127, 0)","v":0},{"$f":"IF(AND(ROUND($I268, 3) = ROUND(SUM($K221:Z221), 3), SUM($K268:Z268) = 0), $I127, 0)","v":0},{"$f":"IF(AND(ROUND($I268, 3) = ROUND(SUM($K221:AA221), 3), SUM($K268:AA268) = 0), $I127, 0)","v":0},{"$f":"IF(AND(ROUND($I268, 3) = ROUND(SUM($K221:AB221), 3), SUM($K268:AB268) = 0), $I127, 0)","v":0},{"$f":"IF(AND(ROUND($I268, 3) = ROUND(SUM($K221:AC221), 3), SUM($K268:AC268) = 0), $I127, 0)","v":0},{"$f":"IF(AND(ROUND($I268, 3) = ROUND(SUM($K221:AD221), 3), SUM($K268:AD268) = 0), $I127, 0)","v":0},{"$f":"IF(AND(ROUND($I268, 3) = ROUND(SUM($K221:AE221), 3), SUM($K268:AE268) = 0), $I127, 0)","v":0},{"$f":"IF(AND(ROUND($I268, 3) = ROUND(SUM($K221:AF221), 3), SUM($K268:AF268) = 0), $I127, 0)","v":0},{"$f":"IF(AND(ROUND($I268, 3) = ROUND(SUM($K221:AG221), 3), SUM($K268:AG268) = 0), $I127, 0)","v":0},{"$f":"IF(AND(ROUND($I268, 3) = ROUND(SUM($K221:AH221), 3), SUM($K268:AH268) = 0), $I127, 0)","v":0},{"$f":"IF(AND(ROUND($I268, 3) = ROUND(SUM($K221:AI221), 3), SUM($K268:AI268) = 0), $I127, 0)","v":0},{"$f":"IF(AND(ROUND($I268, 3) = ROUND(SUM($K221:AJ221), 3), SUM($K268:AJ268) = 0), $I127, 0)","v":0},{"$f":"IF(AND(ROUND($I268, 3) = ROUND(SUM($K221:AK221), 3), SUM($K268:AK268) = 0), $I127, 0)","v":0},{"$f":"IF(AND(ROUND($I268, 3) = ROUND(SUM($K221:AL221), 3), SUM($K268:AL268) = 0), $I127, 0)","v":0},{"$f":"IF(AND(ROUND($I268, 3) = ROUND(SUM($K221:AM221), 3), SUM($K268:AM268) = 0), $I127, 0)","v":0},{"$f":"IF(AND(ROUND($I268, 3) = ROUND(SUM($K221:AN221), 3), SUM($K268:AN268) = 0), $I127, 0)","v":0},{"$f":"IF(AND(ROUND($I268, 3) = ROUND(SUM($K221:AO221), 3), SUM($K268:AO268) = 0), $I127, 0)","v":0},{"$f":"IF(AND(ROUND($I268, 3) = ROUND(SUM($K221:AP221), 3), SUM($K268:AP268) = 0), $I127, 0)","v":0},{"$f":"IF(AND(ROUND($I268, 3) = ROUND(SUM($K221:AQ221), 3), SUM($K268:AQ268) = 0), $I127, 0)","v":0},{"$f":"IF(AND(ROUND($I268, 3) = ROUND(SUM($K221:AR221), 3), SUM($K268:AR268) = 0), $I127, 0)","v":0},{"$f":"IF(AND(ROUND($I268, 3) = ROUND(SUM($K221:AS221), 3), SUM($K268:AS268) = 0), $I127, 0)","v":0}]
[null,null,null,null,"2020-03-31",null,"£m 18/19 prices",null,174.25903562198178,">",null,{"$f":"IF(AND(ROUND($I269, 3) = ROUND(SUM($K222:K222), 3), SUM($K269:K269) = 0), $I128, 0)","v":0},{"$f":"IF(AND(ROUND($I269, 3) = ROUND(SUM($K222:L222), 3), SUM($K269:L269) = 0), $I128, 0)","v":0},{"$f":"IF(AND(ROUND($I269, 3) = ROUND(SUM($K222:M222), 3), SUM($K269:M269) = 0), $I128, 0)","v":0},{"$f":"IF(AND(ROUND($I269, 3) = ROUND(SUM($K222:N222), 3), SUM($K269:N269) = 0), $I128, 0)","v":0},{"$f":"IF(AND(ROUND($I269, 3) = ROUND(SUM($K222:O222), 3), SUM($K269:O269) = 0), $I128, 0)","v":0},{"$f":"IF(AND(ROUND($I269, 3) = ROUND(SUM($K222:P222), 3), SUM($K269:P269) = 0), $I128, 0)","v":0},{"$f":"IF(AND(ROUND($I269, 3) = ROUND(SUM($K222:Q222), 3), SUM($K269:Q269) = 0), $I128, 0)","v":0},{"$f":"IF(AND(ROUND($I269, 3) = ROUND(SUM($K222:R222), 3), SUM($K269:R269) = 0), $I128, 0)","v":0},{"$f":"IF(AND(ROUND($I269, 3) = ROUND(SUM($K222:S222), 3), SUM($K269:S269) = 0), $I128, 0)","v":0},{"$f":"IF(AND(ROUND($I269, 3) = ROUND(SUM($K222:T222), 3), SUM($K269:T269) = 0), $I128, 0)","v":0},{"$f":"IF(AND(ROUND($I269, 3) = ROUND(SUM($K222:U222), 3), SUM($K269:U269) = 0), $I128, 0)","v":0},{"$f":"IF(AND(ROUND($I269, 3) = ROUND(SUM($K222:V222), 3), SUM($K269:V269) = 0), $I128, 0)","v":0},{"$f":"IF(AND(ROUND($I269, 3) = ROUND(SUM($K222:W222), 3), SUM($K269:W269) = 0), $I128, 0)","v":0},{"$f":"IF(AND(ROUND($I269, 3) = ROUND(SUM($K222:X222), 3), SUM($K269:X269) = 0), $I128, 0)","v":0},{"$f":"IF(AND(ROUND($I269, 3) = ROUND(SUM($K222:Y222), 3), SUM($K269:Y269) = 0), $I128, 0)","v":0},{"$f":"IF(AND(ROUND($I269, 3) = ROUND(SUM($K222:Z222), 3), SUM($K269:Z269) = 0), $I128, 0)","v":0},{"$f":"IF(AND(ROUND($I269, 3) = ROUND(SUM($K222:AA222), 3), SUM($K269:AA269) = 0), $I128, 0)","v":0},{"$f":"IF(AND(ROUND($I269, 3) = ROUND(SUM($K222:AB222), 3), SUM($K269:AB269) = 0), $I128, 0)","v":0},{"$f":"IF(AND(ROUND($I269, 3) = ROUND(SUM($K222:AC222), 3), SUM($K269:AC269) = 0), $I128, 0)","v":0},{"$f":"IF(AND(ROUND($I269, 3) = ROUND(SUM($K222:AD222), 3), SUM($K269:AD269) = 0), $I128, 0)","v":0},{"$f":"IF(AND(ROUND($I269, 3) = ROUND(SUM($K222:AE222), 3), SUM($K269:AE269) = 0), $I128, 0)","v":0},{"$f":"IF(AND(ROUND($I269, 3) = ROUND(SUM($K222:AF222), 3), SUM($K269:AF269) = 0), $I128, 0)","v":0},{"$f":"IF(AND(ROUND($I269, 3) = ROUND(SUM($K222:AG222), 3), SUM($K269:AG269) = 0), $I128, 0)","v":0},{"$f":"IF(AND(ROUND($I269, 3) = ROUND(SUM($K222:AH222), 3), SUM($K269:AH269) = 0), $I128, 0)","v":0},{"$f":"IF(AND(ROUND($I269, 3) = ROUND(SUM($K222:AI222), 3), SUM($K269:AI269) = 0), $I128, 0)","v":0},{"$f":"IF(AND(ROUND($I269, 3) = ROUND(SUM($K222:AJ222), 3), SUM($K269:AJ269) = 0), $I128, 0)","v":0},{"$f":"IF(AND(ROUND($I269, 3) = ROUND(SUM($K222:AK222), 3), SUM($K269:AK269) = 0), $I128, 0)","v":0},{"$f":"IF(AND(ROUND($I269, 3) = ROUND(SUM($K222:AL222), 3), SUM($K269:AL269) = 0), $I128, 0)","v":0},{"$f":"IF(AND(ROUND($I269, 3) = ROUND(SUM($K222:AM222), 3), SUM($K269:AM269) = 0), $I128, 0)","v":0},{"$f":"IF(AND(ROUND($I269, 3) = ROUND(SUM($K222:AN222), 3), SUM($K269:AN269) = 0), $I128, 0)","v":0},{"$f":"IF(AND(ROUND($I269, 3) = ROUND(SUM($K222:AO222), 3), SUM($K269:AO269) = 0), $I128, 0)","v":0},{"$f":"IF(AND(ROUND($I269, 3) = ROUND(SUM($K222:AP222), 3), SUM($K269:AP269) = 0), $I128, 0)","v":0},{"$f":"IF(AND(ROUND($I269, 3) = ROUND(SUM($K222:AQ222), 3), SUM($K269:AQ269) = 0), $I128, 0)","v":0},{"$f":"IF(AND(ROUND($I269, 3) = ROUND(SUM($K222:AR222), 3), SUM($K269:AR269) = 0), $I128, 0)","v":0},{"$f":"IF(AND(ROUND($I269, 3) = ROUND(SUM($K222:AS222), 3), SUM($K269:AS269) = 0), $I128, 0)","v":0}]
[null,null,null,null,"2021-03-31",null,"£m 18/19 prices",null,149.34140951034567,">",null,{"$f":"IF(AND(ROUND($I270, 3) = ROUND(SUM($K223:K223), 3), SUM($K270:K270) = 0), $I129, 0)","v":0},{"$f":"IF(AND(ROUND($I270, 3) = ROUND(SUM($K223:L223), 3), SUM($K270:L270) = 0), $I129, 0)","v":0},{"$f":"IF(AND(ROUND($I270, 3) = ROUND(SUM($K223:M223), 3), SUM($K270:M270) = 0), $I129, 0)","v":0},{"$f":"IF(AND(ROUND($I270, 3) = ROUND(SUM($K223:N223), 3), SUM($K270:N270) = 0), $I129, 0)","v":0},{"$f":"IF(AND(ROUND($I270, 3) = ROUND(SUM($K223:O223), 3), SUM($K270:O270) = 0), $I129, 0)","v":0},{"$f":"IF(AND(ROUND($I270, 3) = ROUND(SUM($K223:P223), 3), SUM($K270:P270) = 0), $I129, 0)","v":0},{"$f":"IF(AND(ROUND($I270, 3) = ROUND(SUM($K223:Q223), 3), SUM($K270:Q270) = 0), $I129, 0)","v":0},{"$f":"IF(AND(ROUND($I270, 3) = ROUND(SUM($K223:R223), 3), SUM($K270:R270) = 0), $I129, 0)","v":0},{"$f":"IF(AND(ROUND($I270, 3) = ROUND(SUM($K223:S223), 3), SUM($K270:S270) = 0), $I129, 0)","v":0},{"$f":"IF(AND(ROUND($I270, 3) = ROUND(SUM($K223:T223), 3), SUM($K270:T270) = 0), $I129, 0)","v":0},{"$f":"IF(AND(ROUND($I270, 3) = ROUND(SUM($K223:U223), 3), SUM($K270:U270) = 0), $I129, 0)","v":0},{"$f":"IF(AND(ROUND($I270, 3) = ROUND(SUM($K223:V223), 3), SUM($K270:V270) = 0), $I129, 0)","v":0},{"$f":"IF(AND(ROUND($I270, 3) = ROUND(SUM($K223:W223), 3), SUM($K270:W270) = 0), $I129, 0)","v":0},{"$f":"IF(AND(ROUND($I270, 3) = ROUND(SUM($K223:X223), 3), SUM($K270:X270) = 0), $I129, 0)","v":0},{"$f":"IF(AND(ROUND($I270, 3) = ROUND(SUM($K223:Y223), 3), SUM($K270:Y270) = 0), $I129, 0)","v":0},{"$f":"IF(AND(ROUND($I270, 3) = ROUND(SUM($K223:Z223), 3), SUM($K270:Z270) = 0), $I129, 0)","v":0},{"$f":"IF(AND(ROUND($I270, 3) = ROUND(SUM($K223:AA223), 3), SUM($K270:AA270) = 0), $I129, 0)","v":0},{"$f":"IF(AND(ROUND($I270, 3) = ROUND(SUM($K223:AB223), 3), SUM($K270:AB270) = 0), $I129, 0)","v":0},{"$f":"IF(AND(ROUND($I270, 3) = ROUND(SUM($K223:AC223), 3), SUM($K270:AC270) = 0), $I129, 0)","v":0},{"$f":"IF(AND(ROUND($I270, 3) = ROUND(SUM($K223:AD223), 3), SUM($K270:AD270) = 0), $I129, 0)","v":0},{"$f":"IF(AND(ROUND($I270, 3) = ROUND(SUM($K223:AE223), 3), SUM($K270:AE270) = 0), $I129, 0)","v":0},{"$f":"IF(AND(ROUND($I270, 3) = ROUND(SUM($K223:AF223), 3), SUM($K270:AF270) = 0), $I129, 0)","v":0},{"$f":"IF(AND(ROUND($I270, 3) = ROUND(SUM($K223:AG223), 3), SUM($K270:AG270) = 0), $I129, 0)","v":0},{"$f":"IF(AND(ROUND($I270, 3) = ROUND(SUM($K223:AH223), 3), SUM($K270:AH270) = 0), $I129, 0)","v":0},{"$f":"IF(AND(ROUND($I270, 3) = ROUND(SUM($K223:AI223), 3), SUM($K270:AI270) = 0), $I129, 0)","v":0},{"$f":"IF(AND(ROUND($I270, 3) = ROUND(SUM($K223:AJ223), 3), SUM($K270:AJ270) = 0), $I129, 0)","v":0},{"$f":"IF(AND(ROUND($I270, 3) = ROUND(SUM($K223:AK223), 3), SUM($K270:AK270) = 0), $I129, 0)","v":0},{"$f":"IF(AND(ROUND($I270, 3) = ROUND(SUM($K223:AL223), 3), SUM($K270:AL270) = 0), $I129, 0)","v":0},{"$f":"IF(AND(ROUND($I270, 3) = ROUND(SUM($K223:AM223), 3), SUM($K270:AM270) = 0), $I129, 0)","v":0},{"$f":"IF(AND(ROUND($I270, 3) = ROUND(SUM($K223:AN223), 3), SUM($K270:AN270) = 0), $I129, 0)","v":0},{"$f":"IF(AND(ROUND($I270, 3) = ROUND(SUM($K223:AO223), 3), SUM($K270:AO270) = 0), $I129, 0)","v":0},{"$f":"IF(AND(ROUND($I270, 3) = ROUND(SUM($K223:AP223), 3), SUM($K270:AP270) = 0), $I129, 0)","v":0},{"$f":"IF(AND(ROUND($I270, 3) = ROUND(SUM($K223:AQ223), 3), SUM($K270:AQ270) = 0), $I129, 0)","v":0},{"$f":"IF(AND(ROUND($I270, 3) = ROUND(SUM($K223:AR223), 3), SUM($K270:AR270) = 0), $I129, 0)","v":0},{"$f":"IF(AND(ROUND($I270, 3) = ROUND(SUM($K223:AS223), 3), SUM($K270:AS270) = 0), $I129, 0)","v":0}]
[null,null,null,null,"2022-03-31",null,"£m 18/19 prices",null,196.37873160813356,">",null,{"$f":"IF(AND(ROUND($I271, 3) = ROUND(SUM($K224:K224), 3), SUM($K271:K271) = 0), $I130, 0)","v":0},{"$f":"IF(AND(ROUND($I271, 3) = ROUND(SUM($K224:L224), 3), SUM($K271:L271) = 0), $I130, 0)","v":0},{"$f":"IF(AND(ROUND($I271, 3) = ROUND(SUM($K224:M224), 3), SUM($K271:M271) = 0), $I130, 0)","v":0},{"$f":"IF(AND(ROUND($I271, 3) = ROUND(SUM($K224:N224), 3), SUM($K271:N271) = 0), $I130, 0)","v":0},{"$f":"IF(AND(ROUND($I271, 3) = ROUND(SUM($K224:O224), 3), SUM($K271:O271) = 0), $I130, 0)","v":0},{"$f":"IF(AND(ROUND($I271, 3) = ROUND(SUM($K224:P224), 3), SUM($K271:P271) = 0), $I130, 0)","v":0},{"$f":"IF(AND(ROUND($I271, 3) = ROUND(SUM($K224:Q224), 3), SUM($K271:Q271) = 0), $I130, 0)","v":0},{"$f":"IF(AND(ROUND($I271, 3) = ROUND(SUM($K224:R224), 3), SUM($K271:R271) = 0), $I130, 0)","v":0},{"$f":"IF(AND(ROUND($I271, 3) = ROUND(SUM($K224:S224), 3), SUM($K271:S271) = 0), $I130, 0)","v":0},{"$f":"IF(AND(ROUND($I271, 3) = ROUND(SUM($K224:T224), 3), SUM($K271:T271) = 0), $I130, 0)","v":0},{"$f":"IF(AND(ROUND($I271, 3) = ROUND(SUM($K224:U224), 3), SUM($K271:U271) = 0), $I130, 0)","v":0},{"$f":"IF(AND(ROUND($I271, 3) = ROUND(SUM($K224:V224), 3), SUM($K271:V271) = 0), $I130, 0)","v":0},{"$f":"IF(AND(ROUND($I271, 3) = ROUND(SUM($K224:W224), 3), SUM($K271:W271) = 0), $I130, 0)","v":0},{"$f":"IF(AND(ROUND($I271, 3) = ROUND(SUM($K224:X224), 3), SUM($K271:X271) = 0), $I130, 0)","v":0},{"$f":"IF(AND(ROUND($I271, 3) = ROUND(SUM($K224:Y224), 3), SUM($K271:Y271) = 0), $I130, 0)","v":0},{"$f":"IF(AND(ROUND($I271, 3) = ROUND(SUM($K224:Z224), 3), SUM($K271:Z271) = 0), $I130, 0)","v":0},{"$f":"IF(AND(ROUND($I271, 3) = ROUND(SUM($K224:AA224), 3), SUM($K271:AA271) = 0), $I130, 0)","v":0},{"$f":"IF(AND(ROUND($I271, 3) = ROUND(SUM($K224:AB224), 3), SUM($K271:AB271) = 0), $I130, 0)","v":0},{"$f":"IF(AND(ROUND($I271, 3) = ROUND(SUM($K224:AC224), 3), SUM($K271:AC271) = 0), $I130, 0)","v":0},{"$f":"IF(AND(ROUND($I271, 3) = ROUND(SUM($K224:AD224), 3), SUM($K271:AD271) = 0), $I130, 0)","v":0},{"$f":"IF(AND(ROUND($I271, 3) = ROUND(SUM($K224:AE224), 3), SUM($K271:AE271) = 0), $I130, 0)","v":0},{"$f":"IF(AND(ROUND($I271, 3) = ROUND(SUM($K224:AF224), 3), SUM($K271:AF271) = 0), $I130, 0)","v":0},{"$f":"IF(AND(ROUND($I271, 3) = ROUND(SUM($K224:AG224), 3), SUM($K271:AG271) = 0), $I130, 0)","v":0},{"$f":"IF(AND(ROUND($I271, 3) = ROUND(SUM($K224:AH224), 3), SUM($K271:AH271) = 0), $I130, 0)","v":0},{"$f":"IF(AND(ROUND($I271, 3) = ROUND(SUM($K224:AI224), 3), SUM($K271:AI271) = 0), $I130, 0)","v":0},{"$f":"IF(AND(ROUND($I271, 3) = ROUND(SUM($K224:AJ224), 3), SUM($K271:AJ271) = 0), $I130, 0)","v":0},{"$f":"IF(AND(ROUND($I271, 3) = ROUND(SUM($K224:AK224), 3), SUM($K271:AK271) = 0), $I130, 0)","v":0},{"$f":"IF(AND(ROUND($I271, 3) = ROUND(SUM($K224:AL224), 3), SUM($K271:AL271) = 0), $I130, 0)","v":0},{"$f":"IF(AND(ROUND($I271, 3) = ROUND(SUM($K224:AM224), 3), SUM($K271:AM271) = 0), $I130, 0)","v":0},{"$f":"IF(AND(ROUND($I271, 3) = ROUND(SUM($K224:AN224), 3), SUM($K271:AN271) = 0), $I130, 0)","v":0},{"$f":"IF(AND(ROUND($I271, 3) = ROUND(SUM($K224:AO224), 3), SUM($K271:AO271) = 0), $I130, 0)","v":0},{"$f":"IF(AND(ROUND($I271, 3) = ROUND(SUM($K224:AP224), 3), SUM($K271:AP271) = 0), $I130, 0)","v":0},{"$f":"IF(AND(ROUND($I271, 3) = ROUND(SUM($K224:AQ224), 3), SUM($K271:AQ271) = 0), $I130, 0)","v":0},{"$f":"IF(AND(ROUND($I271, 3) = ROUND(SUM($K224:AR224), 3), SUM($K271:AR271) = 0), $I130, 0)","v":0},{"$f":"IF(AND(ROUND($I271, 3) = ROUND(SUM($K224:AS224), 3), SUM($K271:AS271) = 0), $I130, 0)","v":0}]
[null,null,null,null,"2023-03-31",null,"£m 18/19 prices",null,271.21938499480945,">",null,{"$f":"IF(AND(ROUND($I272, 3) = ROUND(SUM($K225:K225), 3), SUM($K272:K272) = 0), $I131, 0)","v":0},{"$f":"IF(AND(ROUND($I272, 3) = ROUND(SUM($K225:L225), 3), SUM($K272:L272) = 0), $I131, 0)","v":0},{"$f":"IF(AND(ROUND($I272, 3) = ROUND(SUM($K225:M225), 3), SUM($K272:M272) = 0), $I131, 0)","v":0},{"$f":"IF(AND(ROUND($I272, 3) = ROUND(SUM($K225:N225), 3), SUM($K272:N272) = 0), $I131, 0)","v":0},{"$f":"IF(AND(ROUND($I272, 3) = ROUND(SUM($K225:O225), 3), SUM($K272:O272) = 0), $I131, 0)","v":0},{"$f":"IF(AND(ROUND($I272, 3) = ROUND(SUM($K225:P225), 3), SUM($K272:P272) = 0), $I131, 0)","v":0},{"$f":"IF(AND(ROUND($I272, 3) = ROUND(SUM($K225:Q225), 3), SUM($K272:Q272) = 0), $I131, 0)","v":0},{"$f":"IF(AND(ROUND($I272, 3) = ROUND(SUM($K225:R225), 3), SUM($K272:R272) = 0), $I131, 0)","v":0},{"$f":"IF(AND(ROUND($I272, 3) = ROUND(SUM($K225:S225), 3), SUM($K272:S272) = 0), $I131, 0)","v":0},{"$f":"IF(AND(ROUND($I272, 3) = ROUND(SUM($K225:T225), 3), SUM($K272:T272) = 0), $I131, 0)","v":0},{"$f":"IF(AND(ROUND($I272, 3) = ROUND(SUM($K225:U225), 3), SUM($K272:U272) = 0), $I131, 0)","v":0},{"$f":"IF(AND(ROUND($I272, 3) = ROUND(SUM($K225:V225), 3), SUM($K272:V272) = 0), $I131, 0)","v":0},{"$f":"IF(AND(ROUND($I272, 3) = ROUND(SUM($K225:W225), 3), SUM($K272:W272) = 0), $I131, 0)","v":0},{"$f":"IF(AND(ROUND($I272, 3) = ROUND(SUM($K225:X225), 3), SUM($K272:X272) = 0), $I131, 0)","v":0},{"$f":"IF(AND(ROUND($I272, 3) = ROUND(SUM($K225:Y225), 3), SUM($K272:Y272) = 0), $I131, 0)","v":0},{"$f":"IF(AND(ROUND($I272, 3) = ROUND(SUM($K225:Z225), 3), SUM($K272:Z272) = 0), $I131, 0)","v":0},{"$f":"IF(AND(ROUND($I272, 3) = ROUND(SUM($K225:AA225), 3), SUM($K272:AA272) = 0), $I131, 0)","v":0},{"$f":"IF(AND(ROUND($I272, 3) = ROUND(SUM($K225:AB225), 3), SUM($K272:AB272) = 0), $I131, 0)","v":0},{"$f":"IF(AND(ROUND($I272, 3) = ROUND(SUM($K225:AC225), 3), SUM($K272:AC272) = 0), $I131, 0)","v":0},{"$f":"IF(AND(ROUND($I272, 3) = ROUND(SUM($K225:AD225), 3), SUM($K272:AD272) = 0), $I131, 0)","v":0},{"$f":"IF(AND(ROUND($I272, 3) = ROUND(SUM($K225:AE225), 3), SUM($K272:AE272) = 0), $I131, 0)","v":0},{"$f":"IF(AND(ROUND($I272, 3) = ROUND(SUM($K225:AF225), 3), SUM($K272:AF272) = 0), $I131, 0)","v":0},{"$f":"IF(AND(ROUND($I272, 3) = ROUND(SUM($K225:AG225), 3), SUM($K272:AG272) = 0), $I131, 0)","v":0},{"$f":"IF(AND(ROUND($I272, 3) = ROUND(SUM($K225:AH225), 3), SUM($K272:AH272) = 0), $I131, 0)","v":0},{"$f":"IF(AND(ROUND($I272, 3) = ROUND(SUM($K225:AI225), 3), SUM($K272:AI272) = 0), $I131, 0)","v":0},{"$f":"IF(AND(ROUND($I272, 3) = ROUND(SUM($K225:AJ225), 3), SUM($K272:AJ272) = 0), $I131, 0)","v":0},{"$f":"IF(AND(ROUND($I272, 3) = ROUND(SUM($K225:AK225), 3), SUM($K272:AK272) = 0), $I131, 0)","v":0},{"$f":"IF(AND(ROUND($I272, 3) = ROUND(SUM($K225:AL225), 3), SUM($K272:AL272) = 0), $I131, 0)","v":0},{"$f":"IF(AND(ROUND($I272, 3) = ROUND(SUM($K225:AM225), 3), SUM($K272:AM272) = 0), $I131, 0)","v":0},{"$f":"IF(AND(ROUND($I272, 3) = ROUND(SUM($K225:AN225), 3), SUM($K272:AN272) = 0), $I131, 0)","v":0},{"$f":"IF(AND(ROUND($I272, 3) = ROUND(SUM($K225:AO225), 3), SUM($K272:AO272) = 0), $I131, 0)","v":0},{"$f":"IF(AND(ROUND($I272, 3) = ROUND(SUM($K225:AP225), 3), SUM($K272:AP272) = 0), $I131, 0)","v":0},{"$f":"IF(AND(ROUND($I272, 3) = ROUND(SUM($K225:AQ225), 3), SUM($K272:AQ272) = 0), $I131, 0)","v":0},{"$f":"IF(AND(ROUND($I272, 3) = ROUND(SUM($K225:AR225), 3), SUM($K272:AR272) = 0), $I131, 0)","v":0},{"$f":"IF(AND(ROUND($I272, 3) = ROUND(SUM($K225:AS225), 3), SUM($K272:AS272) = 0), $I131, 0)","v":0}]
[null,null,null,null,"2024-03-31",null,"£m 18/19 prices",null,277.55797474414959,">",null,{"$f":"IF(AND(ROUND($I273, 3) = ROUND(SUM($K226:K226), 3), SUM($K273:K273) = 0), $I132, 0)","v":0},{"$f":"IF(AND(ROUND($I273, 3) = ROUND(SUM($K226:L226), 3), SUM($K273:L273) = 0), $I132, 0)","v":0},{"$f":"IF(AND(ROUND($I273, 3) = ROUND(SUM($K226:M226), 3), SUM($K273:M273) = 0), $I132, 0)","v":0},{"$f":"IF(AND(ROUND($I273, 3) = ROUND(SUM($K226:N226), 3), SUM($K273:N273) = 0), $I132, 0)","v":0},{"$f":"IF(AND(ROUND($I273, 3) = ROUND(SUM($K226:O226), 3), SUM($K273:O273) = 0), $I132, 0)","v":0},{"$f":"IF(AND(ROUND($I273, 3) = ROUND(SUM($K226:P226), 3), SUM($K273:P273) = 0), $I132, 0)","v":0},{"$f":"IF(AND(ROUND($I273, 3) = ROUND(SUM($K226:Q226), 3), SUM($K273:Q273) = 0), $I132, 0)","v":0},{"$f":"IF(AND(ROUND($I273, 3) = ROUND(SUM($K226:R226), 3), SUM($K273:R273) = 0), $I132, 0)","v":0},{"$f":"IF(AND(ROUND($I273, 3) = ROUND(SUM($K226:S226), 3), SUM($K273:S273) = 0), $I132, 0)","v":0},{"$f":"IF(AND(ROUND($I273, 3) = ROUND(SUM($K226:T226), 3), SUM($K273:T273) = 0), $I132, 0)","v":0},{"$f":"IF(AND(ROUND($I273, 3) = ROUND(SUM($K226:U226), 3), SUM($K273:U273) = 0), $I132, 0)","v":0},{"$f":"IF(AND(ROUND($I273, 3) = ROUND(SUM($K226:V226), 3), SUM($K273:V273) = 0), $I132, 0)","v":0},{"$f":"IF(AND(ROUND($I273, 3) = ROUND(SUM($K226:W226), 3), SUM($K273:W273) = 0), $I132, 0)","v":0},{"$f":"IF(AND(ROUND($I273, 3) = ROUND(SUM($K226:X226), 3), SUM($K273:X273) = 0), $I132, 0)","v":0},{"$f":"IF(AND(ROUND($I273, 3) = ROUND(SUM($K226:Y226), 3), SUM($K273:Y273) = 0), $I132, 0)","v":0},{"$f":"IF(AND(ROUND($I273, 3) = ROUND(SUM($K226:Z226), 3), SUM($K273:Z273) = 0), $I132, 0)","v":0},{"$f":"IF(AND(ROUND($I273, 3) = ROUND(SUM($K226:AA226), 3), SUM($K273:AA273) = 0), $I132, 0)","v":0},{"$f":"IF(AND(ROUND($I273, 3) = ROUND(SUM($K226:AB226), 3), SUM($K273:AB273) = 0), $I132, 0)","v":0},{"$f":"IF(AND(ROUND($I273, 3) = ROUND(SUM($K226:AC226), 3), SUM($K273:AC273) = 0), $I132, 0)","v":0},{"$f":"IF(AND(ROUND($I273, 3) = ROUND(SUM($K226:AD226), 3), SUM($K273:AD273) = 0), $I132, 0)","v":0},{"$f":"IF(AND(ROUND($I273, 3) = ROUND(SUM($K226:AE226), 3), SUM($K273:AE273) = 0), $I132, 0)","v":0},{"$f":"IF(AND(ROUND($I273, 3) = ROUND(SUM($K226:AF226), 3), SUM($K273:AF273) = 0), $I132, 0)","v":0},{"$f":"IF(AND(ROUND($I273, 3) = ROUND(SUM($K226:AG226), 3), SUM($K273:AG273) = 0), $I132, 0)","v":0},{"$f":"IF(AND(ROUND($I273, 3) = ROUND(SUM($K226:AH226), 3), SUM($K273:AH273) = 0), $I132, 0)","v":0},{"$f":"IF(AND(ROUND($I273, 3) = ROUND(SUM($K226:AI226), 3), SUM($K273:AI273) = 0), $I132, 0)","v":0},{"$f":"IF(AND(ROUND($I273, 3) = ROUND(SUM($K226:AJ226), 3), SUM($K273:AJ273) = 0), $I132, 0)","v":0},{"$f":"IF(AND(ROUND($I273, 3) = ROUND(SUM($K226:AK226), 3), SUM($K273:AK273) = 0), $I132, 0)","v":0},{"$f":"IF(AND(ROUND($I273, 3) = ROUND(SUM($K226:AL226), 3), SUM($K273:AL273) = 0), $I132, 0)","v":0},{"$f":"IF(AND(ROUND($I273, 3) = ROUND(SUM($K226:AM226), 3), SUM($K273:AM273) = 0), $I132, 0)","v":0},{"$f":"IF(AND(ROUND($I273, 3) = ROUND(SUM($K226:AN226), 3), SUM($K273:AN273) = 0), $I132, 0)","v":0},{"$f":"IF(AND(ROUND($I273, 3) = ROUND(SUM($K226:AO226), 3), SUM($K273:AO273) = 0), $I132, 0)","v":0},{"$f":"IF(AND(ROUND($I273, 3) = ROUND(SUM($K226:AP226), 3), SUM($K273:AP273) = 0), $I132, 0)","v":0},{"$f":"IF(AND(ROUND($I273, 3) = ROUND(SUM($K226:AQ226), 3), SUM($K273:AQ273) = 0), $I132, 0)","v":0},{"$f":"IF(AND(ROUND($I273, 3) = ROUND(SUM($K226:AR226), 3), SUM($K273:AR273) = 0), $I132, 0)","v":0},{"$f":"IF(AND(ROUND($I273, 3) = ROUND(SUM($K226:AS226), 3), SUM($K273:AS273) = 0), $I132, 0)","v":0}]
[null,null,null,null,"2025-03-31",null,"£m 18/19 prices",null,156.06228341594996,">",null,{"$f":"IF(AND(ROUND($I274, 3) = ROUND(SUM($K227:K227), 3), SUM($K274:K274) = 0), $I133, 0)","v":0},{"$f":"IF(AND(ROUND($I274, 3) = ROUND(SUM($K227:L227), 3), SUM($K274:L274) = 0), $I133, 0)","v":0},{"$f":"IF(AND(ROUND($I274, 3) = ROUND(SUM($K227:M227), 3), SUM($K274:M274) = 0), $I133, 0)","v":0},{"$f":"IF(AND(ROUND($I274, 3) = ROUND(SUM($K227:N227), 3), SUM($K274:N274) = 0), $I133, 0)","v":0},{"$f":"IF(AND(ROUND($I274, 3) = ROUND(SUM($K227:O227), 3), SUM($K274:O274) = 0), $I133, 0)","v":0},{"$f":"IF(AND(ROUND($I274, 3) = ROUND(SUM($K227:P227), 3), SUM($K274:P274) = 0), $I133, 0)","v":0},{"$f":"IF(AND(ROUND($I274, 3) = ROUND(SUM($K227:Q227), 3), SUM($K274:Q274) = 0), $I133, 0)","v":0},{"$f":"IF(AND(ROUND($I274, 3) = ROUND(SUM($K227:R227), 3), SUM($K274:R274) = 0), $I133, 0)","v":0},{"$f":"IF(AND(ROUND($I274, 3) = ROUND(SUM($K227:S227), 3), SUM($K274:S274) = 0), $I133, 0)","v":0},{"$f":"IF(AND(ROUND($I274, 3) = ROUND(SUM($K227:T227), 3), SUM($K274:T274) = 0), $I133, 0)","v":0},{"$f":"IF(AND(ROUND($I274, 3) = ROUND(SUM($K227:U227), 3), SUM($K274:U274) = 0), $I133, 0)","v":0},{"$f":"IF(AND(ROUND($I274, 3) = ROUND(SUM($K227:V227), 3), SUM($K274:V274) = 0), $I133, 0)","v":0},{"$f":"IF(AND(ROUND($I274, 3) = ROUND(SUM($K227:W227), 3), SUM($K274:W274) = 0), $I133, 0)","v":0},{"$f":"IF(AND(ROUND($I274, 3) = ROUND(SUM($K227:X227), 3), SUM($K274:X274) = 0), $I133, 0)","v":0},{"$f":"IF(AND(ROUND($I274, 3) = ROUND(SUM($K227:Y227), 3), SUM($K274:Y274) = 0), $I133, 0)","v":0},{"$f":"IF(AND(ROUND($I274, 3) = ROUND(SUM($K227:Z227), 3), SUM($K274:Z274) = 0), $I133, 0)","v":0},{"$f":"IF(AND(ROUND($I274, 3) = ROUND(SUM($K227:AA227), 3), SUM($K274:AA274) = 0), $I133, 0)","v":0},{"$f":"IF(AND(ROUND($I274, 3) = ROUND(SUM($K227:AB227), 3), SUM($K274:AB274) = 0), $I133, 0)","v":0},{"$f":"IF(AND(ROUND($I274, 3) = ROUND(SUM($K227:AC227), 3), SUM($K274:AC274) = 0), $I133, 0)","v":0},{"$f":"IF(AND(ROUND($I274, 3) = ROUND(SUM($K227:AD227), 3), SUM($K274:AD274) = 0), $I133, 0)","v":0},{"$f":"IF(AND(ROUND($I274, 3) = ROUND(SUM($K227:AE227), 3), SUM($K274:AE274) = 0), $I133, 0)","v":0},{"$f":"IF(AND(ROUND($I274, 3) = ROUND(SUM($K227:AF227), 3), SUM($K274:AF274) = 0), $I133, 0)","v":0},{"$f":"IF(AND(ROUND($I274, 3) = ROUND(SUM($K227:AG227), 3), SUM($K274:AG274) = 0), $I133, 0)","v":0},{"$f":"IF(AND(ROUND($I274, 3) = ROUND(SUM($K227:AH227), 3), SUM($K274:AH274) = 0), $I133, 0)","v":0},{"$f":"IF(AND(ROUND($I274, 3) = ROUND(SUM($K227:AI227), 3), SUM($K274:AI274) = 0), $I133, 0)","v":0},{"$f":"IF(AND(ROUND($I274, 3) = ROUND(SUM($K227:AJ227), 3), SUM($K274:AJ274) = 0), $I133, 0)","v":0},{"$f":"IF(AND(ROUND($I274, 3) = ROUND(SUM($K227:AK227), 3), SUM($K274:AK274) = 0), $I133, 0)","v":0},{"$f":"IF(AND(ROUND($I274, 3) = ROUND(SUM($K227:AL227), 3), SUM($K274:AL274) = 0), $I133, 0)","v":0},{"$f":"IF(AND(ROUND($I274, 3) = ROUND(SUM($K227:AM227), 3), SUM($K274:AM274) = 0), $I133, 0)","v":0},{"$f":"IF(AND(ROUND($I274, 3) = ROUND(SUM($K227:AN227), 3), SUM($K274:AN274) = 0), $I133, 0)","v":0},{"$f":"IF(AND(ROUND($I274, 3) = ROUND(SUM($K227:AO227), 3), SUM($K274:AO274) = 0), $I133, 0)","v":0},{"$f":"IF(AND(ROUND($I274, 3) = ROUND(SUM($K227:AP227), 3), SUM($K274:AP274) = 0), $I133, 0)","v":0},{"$f":"IF(AND(ROUND($I274, 3) = ROUND(SUM($K227:AQ227), 3), SUM($K274:AQ274) = 0), $I133, 0)","v":0},{"$f":"IF(AND(ROUND($I274, 3) = ROUND(SUM($K227:AR227), 3), SUM($K274:AR274) = 0), $I133, 0)","v":0},{"$f":"IF(AND(ROUND($I274, 3) = ROUND(SUM($K227:AS227), 3), SUM($K274:AS274) = 0), $I133, 0)","v":0}]
[null,null,null,null,"2026-03-31",null,"£m 18/19 prices",null,147.17430753284222,">",null,{"$f":"IF(AND(ROUND($I275, 3) = ROUND(SUM($K228:K228), 3), SUM($K275:K275) = 0), $I134, 0)","v":0},{"$f":"IF(AND(ROUND($I275, 3) = ROUND(SUM($K228:L228), 3), SUM($K275:L275) = 0), $I134, 0)","v":0},{"$f":"IF(AND(ROUND($I275, 3) = ROUND(SUM($K228:M228), 3), SUM($K275:M275) = 0), $I134, 0)","v":0},{"$f":"IF(AND(ROUND($I275, 3) = ROUND(SUM($K228:N228), 3), SUM($K275:N275) = 0), $I134, 0)","v":0},{"$f":"IF(AND(ROUND($I275, 3) = ROUND(SUM($K228:O228), 3), SUM($K275:O275) = 0), $I134, 0)","v":0},{"$f":"IF(AND(ROUND($I275, 3) = ROUND(SUM($K228:P228), 3), SUM($K275:P275) = 0), $I134, 0)","v":0},{"$f":"IF(AND(ROUND($I275, 3) = ROUND(SUM($K228:Q228), 3), SUM($K275:Q275) = 0), $I134, 0)","v":0},{"$f":"IF(AND(ROUND($I275, 3) = ROUND(SUM($K228:R228), 3), SUM($K275:R275) = 0), $I134, 0)","v":0},{"$f":"IF(AND(ROUND($I275, 3) = ROUND(SUM($K228:S228), 3), SUM($K275:S275) = 0), $I134, 0)","v":0},{"$f":"IF(AND(ROUND($I275, 3) = ROUND(SUM($K228:T228), 3), SUM($K275:T275) = 0), $I134, 0)","v":0},{"$f":"IF(AND(ROUND($I275, 3) = ROUND(SUM($K228:U228), 3), SUM($K275:U275) = 0), $I134, 0)","v":0},{"$f":"IF(AND(ROUND($I275, 3) = ROUND(SUM($K228:V228), 3), SUM($K275:V275) = 0), $I134, 0)","v":0},{"$f":"IF(AND(ROUND($I275, 3) = ROUND(SUM($K228:W228), 3), SUM($K275:W275) = 0), $I134, 0)","v":0},{"$f":"IF(AND(ROUND($I275, 3) = ROUND(SUM($K228:X228), 3), SUM($K275:X275) = 0), $I134, 0)","v":0},{"$f":"IF(AND(ROUND($I275, 3) = ROUND(SUM($K228:Y228), 3), SUM($K275:Y275) = 0), $I134, 0)","v":0},{"$f":"IF(AND(ROUND($I275, 3) = ROUND(SUM($K228:Z228), 3), SUM($K275:Z275) = 0), $I134, 0)","v":0},{"$f":"IF(AND(ROUND($I275, 3) = ROUND(SUM($K228:AA228), 3), SUM($K275:AA275) = 0), $I134, 0)","v":0},{"$f":"IF(AND(ROUND($I275, 3) = ROUND(SUM($K228:AB228), 3), SUM($K275:AB275) = 0), $I134, 0)","v":0},{"$f":"IF(AND(ROUND($I275, 3) = ROUND(SUM($K228:AC228), 3), SUM($K275:AC275) = 0), $I134, 0)","v":0},{"$f":"IF(AND(ROUND($I275, 3) = ROUND(SUM($K228:AD228), 3), SUM($K275:AD275) = 0), $I134, 0)","v":0},{"$f":"IF(AND(ROUND($I275, 3) = ROUND(SUM($K228:AE228), 3), SUM($K275:AE275) = 0), $I134, 0)","v":0},{"$f":"IF(AND(ROUND($I275, 3) = ROUND(SUM($K228:AF228), 3), SUM($K275:AF275) = 0), $I134, 0)","v":0},{"$f":"IF(AND(ROUND($I275, 3) = ROUND(SUM($K228:AG228), 3), SUM($K275:AG275) = 0), $I134, 0)","v":0},{"$f":"IF(AND(ROUND($I275, 3) = ROUND(SUM($K228:AH228), 3), SUM($K275:AH275) = 0), $I134, 0)","v":0},{"$f":"IF(AND(ROUND($I275, 3) = ROUND(SUM($K228:AI228), 3), SUM($K275:AI275) = 0), $I134, 0)","v":0},{"$f":"IF(AND(ROUND($I275, 3) = ROUND(SUM($K228:AJ228), 3), SUM($K275:AJ275) = 0), $I134, 0)","v":0},{"$f":"IF(AND(ROUND($I275, 3) = ROUND(SUM($K228:AK228), 3), SUM($K275:AK275) = 0), $I134, 0)","v":0},{"$f":"IF(AND(ROUND($I275, 3) = ROUND(SUM($K228:AL228), 3), SUM($K275:AL275) = 0), $I134, 0)","v":0},{"$f":"IF(AND(ROUND($I275, 3) = ROUND(SUM($K228:AM228), 3), SUM($K275:AM275) = 0), $I134, 0)","v":0},{"$f":"IF(AND(ROUND($I275, 3) = ROUND(SUM($K228:AN228), 3), SUM($K275:AN275) = 0), $I134, 0)","v":0},{"$f":"IF(AND(ROUND($I275, 3) = ROUND(SUM($K228:AO228), 3), SUM($K275:AO275) = 0), $I134, 0)","v":0},{"$f":"IF(AND(ROUND($I275, 3) = ROUND(SUM($K228:AP228), 3), SUM($K275:AP275) = 0), $I134, 0)","v":0},{"$f":"IF(AND(ROUND($I275, 3) = ROUND(SUM($K228:AQ228), 3), SUM($K275:AQ275) = 0), $I134, 0)","v":0},{"$f":"IF(AND(ROUND($I275, 3) = ROUND(SUM($K228:AR228), 3), SUM($K275:AR275) = 0), $I134, 0)","v":0},{"$f":"IF(AND(ROUND($I275, 3) = ROUND(SUM($K228:AS228), 3), SUM($K275:AS275) = 0), $I134, 0)","v":0}]
[null,null,null,null,"Total",null,"£m 18/19 prices",null,null,null,null,{"$f":"SUM(L240:L275)","v":0},0,0,0,0,0,0,0,0,0,0,0,0,0,0,0,0,0,0,0,0,0,{"$f":"SUM(AH240:AH275)","v":0},0,0,0,0,0,0,0,0,0,0,0,{"$f":"SUM(AT240:AT275)","v":0}]
[]
[null,null,"RIIO opening value"]
[null,null,"Note: Cumulative values provide the opening values for the following year."]
[]
[null,null,null,null,"Cumulative net additions",null,"£m 18/19 prices",null,null,">",null,null,null,null,null,null,null,null,null,null,null,null,null,null,null,null,null,null,null,null,null,null,{"$f":"SUM($K16:AG16)","v":3106.5533076470383}]
[null,null,null,null,"Cumulative depreciation",null,"£m 18/19 prices",null,null,">",null,null,null,null,null,null,null,null,null,null,null,null,null,null,null,null,null,null,null,null,null,null,{"$f":"SUM($K$21:AG21) + SUM($K229:AG229)","v":384.6306426348898}]
[null,null,null,null,"Cumulative removals",null,"£m 18/19 prices",null,null,">",null,null,null,null,null,null,null,null,null,null,null,null,null,null,null,null,null,null,null,null,null,null,{"$f":"SUM($K276:AG276)","v":0}]
[]
[null,null,null,null,"Opening post-vesting RAV cost contribution",null,"£m 18/19 prices",null,null,null,null,null,null,null,null,null,null,null,null,null,null,null,null,null,null,null,null,null,null,null,null,null,null,{"$f":"AG281 - AG283","v":3106.5533076470383}]
[null,null,null,null,"Opening post-vesting RAV accumulated depreciation contribution",null,"£m 18/19 prices",null,null,null,null,null,null,null,null,null,null,null,null,null,null,null,null,null,null,null,null,null,null,null,null,null,null,{"$f":"AG282 - AG283","v":384.6306426348898}]
[]
[null,"End of sheet"]

{"sheet":"SystemOperator","index":6,"n_rows":609,"n_cols":58,"rows_kept":609,"cut":false,"hidden":false,"merged":[[2,54,3,54],[2,55,3,55],[2,56,3,56],[2,57,3,57]]}
["SystemOperator"]
[null,{"$f":"UserInterface!G17","v":"NGGT TO"}]
[null,null,null,null,"Parameter","Licence condition","Units","Term","Constant",null,null,null,null,null,null,null,null,null,null,null,null,null,null,null,null,null,null,null,null,null,null,null,null,null,null,null,null,null,null,null,null,"Annual values",null,null,null,null,null,null,null,null,null,null,null,null,"TIM/\nNon-TIM","RPE Incl. or Excl.","Baseline/UM","Capitalisation method: Fast/slow split or 100% fast money award"]
[null,null,null,null,"PCFM year ending",{"$f":"Cover!C4","v":"Model Version"},null,null,{"$f":"UserInterface!$G$10","v":"2022-03-31"},null,"1991-03-31","1992-03-31","1993-03-31","1994-03-31","1995-03-31","1996-03-31","1997-03-31","1998-03-31","1999-03-31","2000-03-31","2001-03-31","2002-03-31","2003-03-31","2004-03-31","2005-03-31","2006-03-31","2007-03-31","2008-03-31","2009-03-31","2010-03-31","2011-03-31","2012-03-31","2013-03-31","2014-03-31","2015-03-31","2016-03-31","2017-03-31","2018-03-31","2019-03-31","2020-03-31","2021-03-31","2022-03-31","2023-03-31","2024-03-31","2025-03-31","2026-03-31"]
[]
[null,"Totex allowance"]
[]
[null,null,"Non-variant allowances"]
[]
[null,null,null,null,"Non-variant allowed non-operational capex",null,"£m 18/19 prices",null,null,null,null,null,null,null,null,null,null,null,null,null,null,null,null,null,null,null,null,null,null,null,null,null,null,null,null,null,null,null,null,null,null,{"$f":"'NGGT SO'!AP10","v":23.709412027306602},{"$f":"'NGGT SO'!AQ10","v":25.055423339824273},{"$f":"'NGGT SO'!AR10","v":34.239503907339504},{"$f":"'NGGT SO'!AS10","v":26.724358102371198},{"$f":"'NGGT SO'!AT10","v":15.740561531563543}]
[null,null,null,null,"Non-variant allowed controllable opex",null,"£m 18/19 prices",null,null,null,null,null,null,null,null,null,null,null,null,null,null,null,null,null,null,null,null,null,null,null,null,null,null,null,null,null,null,null,null,null,null,{"$f":"'NGGT SO'!AP11","v":60.033302024797891},{"$f":"'NGGT SO'!AQ11","v":59.901641669582148},{"$f":"'NGGT SO'!AR11","v":59.108029904335424},{"$f":"'NGGT SO'!AS11","v":59.783569718034414},{"$f":"'NGGT SO'!AT11","v":58.86578915169197}]
[null,null,null,null,"Total",null,"£m 18/19 prices",null,null,null,null,null,null,null,null,null,null,null,null,null,null,null,null,null,null,null,null,null,null,null,null,null,null,null,null,null,null,null,null,null,null,{"$f":"SUM(AP10:AP11)","v":83.742714052104489},{"$f":"SUM(AQ10:AQ11)","v":84.957065009406421},93.347533811674936,86.507927820405612,74.606350683255513]
[]
[null,null,"Variant allowances (including Real Price Effects)"]
[null,null,"Note: In the table below RPEs are aggregated in three groups: RPE non-variant allowances, PCDs and UMs."]
[]
[null,null,null,null,{"$f":"'NGGT SO'!E16","v":"Funded incremental obligated capacity Price Control Deliverable"},null,"£m 18/19 prices",{"$f":"'NGGT SO'!H16","v":"FIOCt"},{"$f":"'NGGT SO'!I16","v":"PCD"},null,null,null,null,null,null,null,null,null,null,null,null,null,null,null,null,null,null,null,null,null,null,null,null,null,null,null,null,null,null,null,null,{"$f":"'NGGT SO'!AP16","v":0},{"$f":"'NGGT SO'!AQ16","v":0},{"$f":"'NGGT SO'!AR16","v":0},{"$f":"'NGGT SO'!AS16","v":0},{"$f":"'NGGT SO'!AT16","v":0},null,null,null,null,null,null,null,null,{"$f":"'NGGT SO'!AY16","v":"TIM"},{"$f":"'NGGT SO'!AZ16","v":"RPEs Apply"},null,{"$f":"'NGGT SO'!BB16","v":"Fast/Slow Split"}]
[null,null,null,null,{"$f":"'NGGT SO'!E17","v":"Cyber Resilience OT Price Control Deliverable and use it or lose it allowance"},null,"£m 18/19 prices",{"$f":"'NGGT SO'!H17","v":"CROTt"},{"$f":"'NGGT SO'!I17","v":"PCD"},null,null,null,null,null,null,null,null,null,null,null,null,null,null,null,null,null,null,null,null,null,null,null,null,null,null,null,null,null,null,null,null,{"$f":"'NGGT SO'!AP17","v":0},{"$f":"'NGGT SO'!AQ17","v":0},{"$f":"'NGGT SO'!AR17","v":0},{"$f":"'NGGT SO'!AS17","v":0},{"$f":"'NGGT SO'!AT17","v":0},null,null,null,null,null,null,null,null,{"$f":"'NGGT SO'!AY17","v":"Non-Tim"},{"$f":"'NGGT SO'!AZ17","v":"RPEs Don’t Apply"},null,{"$f":"'NGGT SO'!BB17","v":"Fast/Slow Split"}]
[null,null,null,null,{"$f":"'NGGT SO'!E18","v":"Cyber Resilience IT Price Control Deliverable"},null,"£m 18/19 prices",{"$f":"'NGGT SO'!H18","v":"CRITt"},{"$f":"'NGGT SO'!I18","v":"PCD"},null,null,null,null,null,null,null,null,null,null,null,null,null,null,null,null,null,null,null,null,null,null,null,null,null,null,null,null,null,null,null,null,{"$f":"'NGGT SO'!AP18","v":7.6181795867888376},{"$f":"'NGGT SO'!AQ18","v":2.5210493772270617},{"$f":"'NGGT SO'!AR18","v":2.2310136572664043},{"$f":"'NGGT SO'!AS18","v":0},{"$f":"'NGGT SO'!AT18","v":0},null,null,null,null,null,null,null,null,{"$f":"'NGGT SO'!AY18","v":"TIM"},{"$f":"'NGGT SO'!AZ18","v":"RPEs Apply"},null,{"$f":"'NGGT SO'!BB18","v":"Fast/Slow Split"}]
[null,null,null,null,{"$f":"'NGGT SO'!E19","v":"Spare PCD 1"},null,"£m 18/19 prices",{"$f":"'NGGT SO'!H19","v":0},{"$f":"'NGGT SO'!I19","v":"PCD"},null,null,null,null,null,null,null,null,null,null,null,null,null,null,null,null,null,null,null,null,null,null,null,null,null,null,null,null,null,null,null,null,{"$f":"'NGGT SO'!AP19","v":0},{"$f":"'NGGT SO'!AQ19","v":0},{"$f":"'NGGT SO'!AR19","v":0},{"$f":"'NGGT SO'!AS19","v":0},{"$f":"'NGGT SO'!AT19","v":0},null,null,null,null,null,null,null,null,{"$f":"'NGGT SO'!AY19","v":0},{"$f":"'NGGT SO'!AZ19","v":0},null,{"$f":"'NGGT SO'!BB19","v":0}]
[null,null,null,null,{"$f":"'NGGT SO'!E20","v":"Spare PCD 2"},null,"£m 18/19 prices",{"$f":"'NGGT SO'!H20","v":0},{"$f":"'NGGT SO'!I20","v":"PCD"},null,null,null,null,null,null,null,null,null,null,null,null,null,null,null,null,null,null,null,null,null,null,null,null,null,null,null,null,null,null,null,null,{"$f":"'NGGT SO'!AP20","v":0},{"$f":"'NGGT SO'!AQ20","v":0},{"$f":"'NGGT SO'!AR20","v":0},{"$f":"'NGGT SO'!AS20","v":0},{"$f":"'NGGT SO'!AT20","v":0},null,null,null,null,null,null,null,null,{"$f":"'NGGT SO'!AY20","v":0},{"$f":"'NGGT SO'!AZ20","v":0},null,{"$f":"'NGGT SO'!BB20","v":0}]
[null,null,null,null,{"$f":"'NGGT SO'!E21","v":"Spare PCD 3"},null,"£m 18/19 prices",{"$f":"'NGGT SO'!H21","v":0},{"$f":"'NGGT SO'!I21","v":"PCD"},null,null,null,null,null,null,null,null,null,null,null,null,null,null,null,null,null,null,null,null,null,null,null,null,null,null,null,null,null,null,null,null,{"$f":"'NGGT SO'!AP21","v":0},{"$f":"'NGGT SO'!AQ21","v":0},{"$f":"'NGGT SO'!AR21","v":0},{"$f":"'NGGT SO'!AS21","v":0},{"$f":"'NGGT SO'!AT21","v":0},null,null,null,null,null,null,null,null,{"$f":"'NGGT SO'!AY21","v":0},{"$f":"'NGGT SO'!AZ21","v":0},null,{"$f":"'NGGT SO'!BB21","v":0}]
[null,null,null,null,{"$f":"'NGGT SO'!E22","v":"Non-operational IT Capex Re-opener"},null,"£m 18/19 prices",{"$f":"'NGGT SO'!H22","v":"NOITt"},{"$f":"'NGGT SO'!I22","v":"UM"},null,null,null,null,null,null,null,null,null,null,null,null,null,null,null,null,null,null,null,null,null,null,null,null,null,null,null,null,null,null,null,null,{"$f":"'NGGT SO'!AP22","v":0},{"$f":"'NGGT SO'!AQ22","v":0},{"$f":"'NGGT SO'!AR22","v":0},{"$f":"'NGGT SO'!AS22","v":0},{"$f":"'NGGT SO'!AT22","v":0},null,null,null,null,null,null,null,null,{"$f":"'NGGT SO'!AY22","v":"TIM"},{"$f":"'NGGT SO'!AZ22","v":"RPEs Don’t Apply"},null,{"$f":"'NGGT SO'!BB22","v":"Fast/Slow Split"}]
[null,null,null,null,{"$f":"'NGGT SO'!E23","v":"Net zero Re-opener"},null,"£m 18/19 prices",{"$f":"'NGGT SO'!H23","v":"NZt"},{"$f":"'NGGT SO'!I23","v":"UM"},null,null,null,null,null,null,null,null,null,null,null,null,null,null,null,null,null,null,null,null,null,null,null,null,null,null,null,null,null,null,null,null,{"$f":"'NGGT SO'!AP23","v":0},{"$f":"'NGGT SO'!AQ23","v":0},{"$f":"'NGGT SO'!AR23","v":0},{"$f":"'NGGT SO'!AS23","v":0},{"$f":"'NGGT SO'!AT23","v":0},null,null,null,null,null,null,null,null,{"$f":"'NGGT SO'!AY23","v":"TIM"},{"$f":"'NGGT SO'!AZ23","v":"RPEs Don’t Apply"},null,{"$f":"'NGGT SO'!BB23","v":"Fast/Slow Split"}]
[null,null,null,null,{"$f":"'NGGT SO'!E24","v":"Cyber Resilience OT Re-Opener"},null,"£m 18/19 prices",{"$f":"'NGGT SO'!H24","v":"CROTREt"},{"$f":"'NGGT SO'!I24","v":"UM"},null,null,null,null,null,null,null,null,null,null,null,null,null,null,null,null,null,null,null,null,null,null,null,null,null,null,null,null,null,null,null,null,{"$f":"'NGGT SO'!AP24","v":0},{"$f":"'NGGT SO'!AQ24","v":0},{"$f":"'NGGT SO'!AR24","v":0},{"$f":"'NGGT SO'!AS24","v":0},{"$f":"'NGGT SO'!AT24","v":0},null,null,null,null,null,null,null,null,{"$f":"'NGGT SO'!AY24","v":"TIM"},{"$f":"'NGGT SO'!AZ24","v":"RPEs Don’t Apply"},null,{"$f":"'NGGT SO'!BB24","v":"Fast/Slow Split"}]
[null,null,null,null,{"$f":"'NGGT SO'!E25","v":"Cyber Resilience IT Re-Opener"},null,"£m 18/19 prices",{"$f":"'NGGT SO'!H25","v":"CRITREt"},{"$f":"'NGGT SO'!I25","v":"UM"},null,null,null,null,null,null,null,null,null,null,null,null,null,null,null,null,null,null,null,null,null,null,null,null,null,null,null,null,null,null,null,null,{"$f":"'NGGT SO'!AP25","v":0},{"$f":"'NGGT SO'!AQ25","v":0},{"$f":"'NGGT SO'!AR25","v":0},{"$f":"'NGGT SO'!AS25","v":0},{"$f":"'NGGT SO'!AT25","v":0},null,null,null,null,null,null,null,null,{"$f":"'NGGT SO'!AY25","v":"Non-Tim"},{"$f":"'NGGT SO'!AZ25","v":"RPEs Don’t Apply"},null,{"$f":"'NGGT SO'!BB25","v":"Fast/Slow Split"}]
[null,null,null,null,{"$f":"'NGGT SO'!E26","v":"Funded incremental obligated capacity Re-Opener"},null,"£m 18/19 prices",{"$f":"'NGGT SO'!H26","v":"FIOCREt"},{"$f":"'NGGT SO'!I26","v":"UM"},null,null,null,null,null,null,null,null,null,null,null,null,null,null,null,null,null,null,null,null,null,null,null,null,null,null,null,null,null,null,null,null,{"$f":"'NGGT SO'!AP26","v":0},{"$f":"'NGGT SO'!AQ26","v":0},{"$f":"'NGGT SO'!AR26","v":0},{"$f":"'NGGT SO'!AS26","v":0},{"$f":"'NGGT SO'!AT26","v":0},null,null,null,null,null,null,null,null,{"$f":"'NGGT SO'!AY26","v":"TIM"},{"$f":"'NGGT SO'!AZ26","v":"RPEs Don’t Apply"},null,{"$f":"'NGGT SO'!BB26","v":"Fast/Slow Split"}]
[null,null,null,null,{"$f":"'NGGT SO'!E27","v":"Opex Escalator"},null,"£m 18/19 prices",{"$f":"'NGGT SO'!H27","v":"OEt"},{"$f":"'NGGT SO'!I27","v":"UM"},null,null,null,null,null,null,null,null,null,null,null,null,null,null,null,null,null,null,null,null,null,null,null,null,null,null,null,null,null,null,null,null,{"$f":"'NGGT SO'!AP27","v":0},{"$f":"'NGGT SO'!AQ27","v":0},{"$f":"'NGGT SO'!AR27","v":0},{"$f":"'NGGT SO'!AS27","v":0},{"$f":"'NGGT SO'!AT27","v":0},null,null,null,null,null,null,null,null,{"$f":"'NGGT SO'!AY27","v":"TIM"},{"$f":"'NGGT SO'!AZ27","v":"RPEs Don’t Apply"},null,{"$f":"'NGGT SO'!BB27","v":"Fast/Slow Split"}]
[null,null,null,null,{"$f":"'NGGT SO'!E28","v":"Spare UM 1"},null,"£m 18/19 prices",{"$f":"'NGGT SO'!H28","v":0},{"$f":"'NGGT SO'!I28","v":"UM"},null,null,null,null,null,null,null,null,null,null,null,null,null,null,null,null,null,null,null,null,null,null,null,null,null,null,null,null,null,null,null,null,{"$f":"'NGGT SO'!AP28","v":0},{"$f":"'NGGT SO'!AQ28","v":0},{"$f":"'NGGT SO'!AR28","v":0},{"$f":"'NGGT SO'!AS28","v":0},{"$f":"'NGGT SO'!AT28","v":0},null,null,null,null,null,null,null,null,{"$f":"'NGGT SO'!AY28","v":0},{"$f":"'NGGT SO'!AZ28","v":0},null,{"$f":"'NGGT SO'!BB28","v":0}]
[null,null,null,null,{"$f":"'NGGT SO'!E29","v":"Spare UM 2"},null,"£m 18/19 prices",{"$f":"'NGGT SO'!H29","v":0},{"$f":"'NGGT SO'!I29","v":"UM"},null,null,null,null,null,null,null,null,null,null,null,null,null,null,null,null,null,null,null,null,null,null,null,null,null,null,null,null,null,null,null,null,{"$f":"'NGGT SO'!AP29","v":0},{"$f":"'NGGT SO'!AQ29","v":0},{"$f":"'NGGT SO'!AR29","v":0},{"$f":"'NGGT SO'!AS29","v":0},{"$f":"'NGGT SO'!AT29","v":0},null,null,null,null,null,null,null,null,{"$f":"'NGGT SO'!AY29","v":0},{"$f":"'NGGT SO'!AZ29","v":0},null,{"$f":"'NGGT SO'!BB29","v":0}]
[null,null,null,null,{"$f":"'NGGT SO'!E30","v":"Spare UM 3"},null,"£m 18/19 prices",{"$f":"'NGGT SO'!H30","v":0},{"$f":"'NGGT SO'!I30","v":"UM"},null,null,null,null,null,null,null,null,null,null,null,null,null,null,null,null,null,null,null,null,null,null,null,null,null,null,null,null,null,null,null,null,{"$f":"'NGGT SO'!AP30","v":0},{"$f":"'NGGT SO'!AQ30","v":0},{"$f":"'NGGT SO'!AR30","v":0},{"$f":"'NGGT SO'!AS30","v":0},{"$f":"'NGGT SO'!AT30","v":0},null,null,null,null,null,null,null,null,{"$f":"'NGGT SO'!AY30","v":0},{"$f":"'NGGT SO'!AZ30","v":0},null,{"$f":"'NGGT SO'!BB30","v":0}]
[null,null,null,null,"RPE non-variant allowances",null,"£m 18/19 prices",{"$f":"'NGGT SO'!H31","v":"RPEAt (non-variant)"},{"$f":"'NGGT SO'!I31","v":"UM"},null,null,null,null,null,null,null,null,null,null,null,null,null,null,null,null,null,null,null,null,null,null,null,null,null,null,null,null,null,null,null,null,{"$f":"SUMPRODUCT((AP$243:AP$248) * ($E$243:$E$248 = $E32))","v":0.68895614880661138},{"$f":"SUMPRODUCT((AQ$243:AQ$248) * ($E$243:$E$248 = $E32))","v":1.4895672550172963},{"$f":"SUMPRODUCT((AR$243:AR$248) * ($E$243:$E$248 = $E32))","v":2.6963992826825982},{"$f":"SUMPRODUCT((AS$243:AS$248) * ($E$243:$E$248 = $E32))","v":3.5763267839150172},{"$f":"SUMPRODUCT((AT$243:AT$248) * ($E$243:$E$248 = $E32))","v":3.9935376275466115},null,null,null,null,null,null,null,null,{"$f":"'NGGT SO'!AY31","v":"TIM"},{"$f":"'NGGT SO'!AZ31","v":0},null,{"$f":"'NGGT SO'!BB31","v":"Fast/Slow Split"}]
[null,null,null,null,"RPE PCDs",null,"£m 18/19 prices",{"$f":"'NGGT SO'!H32","v":"RPEAt (PCD)"},{"$f":"'NGGT SO'!I32","v":"UM"},null,null,null,null,null,null,null,null,null,null,null,null,null,null,null,null,null,null,null,null,null,null,null,null,null,null,null,null,null,null,null,null,{"$f":"SUMPRODUCT((AP$243:AP$248) * ($E$243:$E$248 = $E33))","v":6.267520378866058E-2},{"$f":"SUMPRODUCT((AQ$243:AQ$248) * ($E$243:$E$248 = $E33))","v":4.4202004861907548E-2},{"$f":"SUMPRODUCT((AR$243:AR$248) * ($E$243:$E$248 = $E33))","v":6.4444162362603641E-2},{"$f":"SUMPRODUCT((AS$243:AS$248) * ($E$243:$E$248 = $E33))","v":0},{"$f":"SUMPRODUCT((AT$243:AT$248) * ($E$243:$E$248 = $E33))","v":0},null,null,null,null,null,null,null,null,{"$f":"'NGGT SO'!AY32","v":"TIM"},{"$f":"'NGGT SO'!AZ32","v":0},null,{"$f":"'NGGT SO'!BB32","v":"Fast/Slow Split"}]
[null,null,null,null,"RPE UMs",null,"£m 18/19 prices",{"$f":"'NGGT SO'!H33","v":"RPEAt (UM)"},{"$f":"'NGGT SO'!I33","v":"UM"},null,null,null,null,null,null,null,null,null,null,null,null,null,null,null,null,null,null,null,null,null,null,null,null,null,null,null,null,null,null,null,null,{"$f":"SUMPRODUCT((AP$243:AP$248) * ($E$243:$E$248 = $E34))","v":0},{"$f":"SUMPRODUCT((AQ$243:AQ$248) * ($E$243:$E$248 = $E34))","v":0},{"$f":"SUMPRODUCT((AR$243:AR$248) * ($E$243:$E$248 = $E34))","v":0},{"$f":"SUMPRODUCT((AS$243:AS$248) * ($E$243:$E$248 = $E34))","v":0},{"$f":"SUMPRODUCT((AT$243:AT$248) * ($E$243:$E$248 = $E34))","v":0},null,null,null,null,null,null,null,null,{"$f":"'NGGT SO'!AY33","v":"TIM"},{"$f":"'NGGT SO'!AZ33","v":0},null,{"$f":"'NGGT SO'!BB33","v":"Fast/Slow Split"}]
[null,null,null,null,"Total",null,"£m 18/19 prices",null,null,null,null,null,null,null,null,null,null,null,null,null,null,null,null,null,null,null,null,null,null,null,null,null,null,null,null,null,null,null,null,null,null,{"$f":"SUM(AP17:AP34)","v":8.3698109393841094},{"$f":"SUM(AQ17:AQ34)","v":4.0548186371062656},{"$f":"SUM(AR17:AR34)","v":4.9918571023116058},{"$f":"SUM(AS17:AS34)","v":3.5763267839150172},{"$f":"SUM(AT17:AT34)","v":3.9935376275466115}]
[]
[null,"Actual totex"]
[]
[null,null,null,null,"Actual non-operational capex",null,"£m 18/19 prices",{"$f":"'NGGT SO'!H37","v":"SOANC"},null,">",null,null,null,null,null,null,null,null,null,null,null,null,null,null,null,null,null,null,null,null,null,null,null,{"$f":"'NGGT SO'!AH37","v":23.259791086948155},{"$f":"'NGGT SO'!AI37","v":35.830737751191549},{"$f":"'NGGT SO'!AJ37","v":46.961025375930973},{"$f":"'NGGT SO'!AK37","v":35.218235972302288},{"$f":"'NGGT SO'!AL37","v":27.256786420412368},{"$f":"'NGGT SO'!AM37","v":32.702705495699988},{"$f":"'NGGT SO'!AN37","v":36.632634725485502},{"$f":"'NGGT SO'!AO37","v":27.09251651657442},{"$f":"'NGGT SO'!AP37","v":28.512983604797579},{"$f":"'NGGT SO'!AQ37","v":27.033875340363011},{"$f":"'NGGT SO'!AR37","v":36.60580712515614},{"$f":"'NGGT SO'!AS37","v":27.829170575314308},{"$f":"'NGGT SO'!AT37","v":16.583124184465422}]
[null,null,null,null,"Actual controllable opex",null,"£m 18/19 prices",{"$f":"'NGGT SO'!H38","v":"SOACO"},null,">",null,null,null,null,null,null,null,null,null,null,null,null,null,null,null,null,null,null,null,null,null,null,null,{"$f":"'NGGT SO'!AH38","v":54.759176193711845},{"$f":"'NGGT SO'!AI38","v":61.08685194790602},{"$f":"'NGGT SO'!AJ38","v":62.559006628075764},{"$f":"'NGGT SO'!AK38","v":63.037854641256736},{"$f":"'NGGT SO'!AL38","v":61.830121751653557},{"$f":"'NGGT SO'!AM38","v":61.616873910457514},{"$f":"'NGGT SO'!AN38","v":62.376419886269751},{"$f":"'NGGT SO'!AO38","v":67.173188756102434},{"$f":"'NGGT SO'!AP38","v":63.59954138669103},{"$f":"'NGGT SO'!AQ38","v":61.978008306149675},{"$f":"'NGGT SO'!AR38","v":61.733583788830387},{"$f":"'NGGT SO'!AS38","v":62.255084029006319},{"$f":"'NGGT SO'!AT38","v":62.016764126336703}]
[null,null,null,null,"Total",null,"£m 18/19 prices",null,null,">",null,null,null,null,null,null,null,null,null,null,null,null,null,null,null,null,null,null,null,null,null,null,null,{"$f":"SUM(AH39:AH40)","v":78.018967280660007},{"$f":"SUM(AI39:AI40)","v":96.917589699097562},109.52003200400674,98.256090613559024,89.086908172065932,94.319579406157501,99.009054611755261,94.265705272676854,92.112524991488613,89.011883646512686,98.339390913986534,90.08425460432062,78.599888310802129]
[]
[null,"Pass-through costs"]
[]
[null,null,null,null,{"$f":"'NGGT SO'!E42","v":"CDSP Costs"},null,"£m 18/19 prices",{"$f":"'NGGT SO'!H42","v":"CDSPt"},null,null,null,null,null,null,null,null,null,null,null,null,null,null,null,null,null,null,null,null,null,null,null,null,null,null,null,null,null,null,null,null,null,{"$f":"'NGGT SO'!AP42","v":2.4630809809885932},{"$f":"'NGGT SO'!AQ42","v":2.4390069562737668},{"$f":"'NGGT SO'!AR42","v":2.4391650779467717},{"$f":"'NGGT SO'!AS42","v":2.4393231996197748},{"$f":"'NGGT SO'!AT42","v":2.2396394429657835}]
[null,null,null,null,{"$f":"'NGGT SO'!E43","v":"Bad Debt"},null,"£m 18/19 prices",{"$f":"'NGGT SO'!H43","v":"SOBDt"},null,null,null,null,null,null,null,null,null,null,null,null,null,null,null,null,null,null,null,null,null,null,null,null,null,null,null,null,null,null,null,null,null,{"$f":"'NGGT SO'!AP43","v":2},{"$f":"'NGGT SO'!AQ43","v":0},{"$f":"'NGGT SO'!AR43","v":0},{"$f":"'NGGT SO'!AS43","v":0},{"$f":"'NGGT SO'!AT43","v":0}]
[null,null,null,null,{"$f":"'NGGT SO'!E44","v":"Pension Scheme Established Deficit"},null,"£m 18/19 prices",{"$f":"'NGGT SO'!H44","v":"SOEDEt"},null,null,null,null,null,null,null,null,null,null,null,null,null,null,null,null,null,null,null,null,null,null,null,null,null,null,null,null,null,null,null,null,null,{"$f":"'NGGT SO'!AP44","v":0.65651475359184319},{"$f":"'NGGT SO'!AQ44","v":0.65651475359184319},{"$f":"'NGGT SO'!AR44","v":0.52521180287347458},{"$f":"'NGGT SO'!AS44","v":0},{"$f":"'NGGT SO'!AT44","v":0}]
[null,null,null,null,"Pass-through expenditure",null,"£m 18/19 prices","SOPTt",null,null,null,null,null,null,null,null,null,null,null,null,null,null,null,null,null,null,null,null,null,null,null,null,null,null,null,null,null,null,null,null,null,{"$f":"SUM(AP45:AP47)","v":5.1195957345804359},{"$f":"SUM(AQ45:AQ47)","v":3.09552170986561},{"$f":"SUM(AR45:AR47)","v":2.9643768808202462},{"$f":"SUM(AS45:AS47)","v":2.4393231996197748},{"$f":"SUM(AT45:AT47)","v":2.2396394429657835}]
[]
[null,"Other revenue allowances"]
[]
[null,null,"Other revenue allowances calculation"]
[null,null,"Note: CMt and SOIRCt components are sourced from the Variable Values table in nominal prices and converted in real 2018/19 prices below."]
[]
[null,null,null,null,{"$f":"'NGGT SO'!E48","v":"Constraint management incentive revenue"},null,"£m 18/19 prices",{"$f":"'NGGT SO'!H48","v":"CMIRt"},null,null,null,null,null,null,null,null,null,null,null,null,null,null,null,null,null,null,null,null,null,null,null,null,null,null,null,null,null,null,null,null,null,{"$f":"'NGGT SO'!AP48 /SOpf","v":0},{"$f":"'NGGT SO'!AQ48 /SOpf","v":0},{"$f":"'NGGT SO'!AR48 /SOpf","v":0},{"$f":"'NGGT SO'!AS48 /SOpf","v":0},{"$f":"'NGGT SO'!AT48 /SOpf","v":0}]
[null,null,null,null,{"$f":"'NGGT SO'!E49","v":"Revenue from accelerated release of incr. obl. entry capacity"},null,"£m 18/19 prices",{"$f":"'NGGT SO'!H49","v":"RAREnCAt"},null,null,null,null,null,null,null,null,null,null,null,null,null,null,null,null,null,null,null,null,null,null,null,null,null,null,null,null,null,null,null,null,null,{"$f":"'NGGT SO'!AP49 /SOpf","v":0},{"$f":"'NGGT SO'!AQ49 /SOpf","v":0},{"$f":"'NGGT SO'!AR49 /SOpf","v":0},{"$f":"'NGGT SO'!AS49 /SOpf","v":0},{"$f":"'NGGT SO'!AT49 /SOpf","v":0}]
[null,null,null,null,{"$f":"'NGGT SO'!E50","v":"Exit capacity buyback cost which users are liable to reimbourse"},null,"£m 18/19 prices",{"$f":"'NGGT SO'!H50","v":"ExBBCNLRAt"},null,null,null,null,null,null,null,null,null,null,null,null,null,null,null,null,null,null,null,null,null,null,null,null,null,null,null,null,null,null,null,null,null,{"$f":"'NGGT SO'!AP50 /SOpf","v":0},{"$f":"'NGGT SO'!AQ50 /SOpf","v":0},{"$f":"'NGGT SO'!AR50 /SOpf","v":0},{"$f":"'NGGT SO'!AS50 /SOpf","v":0},{"$f":"'NGGT SO'!AT50 /SOpf","v":0}]
[null,null,null,null,"Entry capacity and exit capacity constraint management",null,"£m 18/19 prices","CMt",null,null,null,null,null,null,null,null,null,null,null,null,null,null,null,null,null,null,null,null,null,null,null,null,null,null,null,null,null,null,null,null,null,{"$f":"SUM(AP55:AP57)","v":0},{"$f":"SUM(AQ55:AQ57)","v":0},{"$f":"SUM(AR55:AR57)","v":0},{"$f":"SUM(AS55:AS57)","v":0},{"$f":"SUM(AT55:AT57)","v":0}]
[]
[null,null,null,null,{"$f":"'NGGT SO'!E52","v":"Revenue for net residual balancing costs"},null,"£m 18/19 prices",{"$f":"'NGGT SO'!H52","v":"RBCt"},null,null,null,null,null,null,null,null,null,null,null,null,null,null,null,null,null,null,null,null,null,null,null,null,null,null,null,null,null,null,null,null,null,{"$f":"'NGGT SO'!AP52 /SOpf","v":7.7169940203871077},{"$f":"'NGGT SO'!AQ52 /SOpf","v":7.5956323818641005},{"$f":"'NGGT SO'!AR52 /SOpf","v":7.462729990237607},{"$f":"'NGGT SO'!AS52 /SOpf","v":7.3212025003195169},{"$f":"'NGGT SO'!AT52 /SOpf","v":7.1778926184389515}]
[null,null,null,null,{"$f":"'NGGT SO'!E53","v":"Total costs for procurement of operating margin services"},null,"£m 18/19 prices",{"$f":"'NGGT SO'!H53","v":"OMCt"},null,null,null,null,null,null,null,null,null,null,null,null,null,null,null,null,null,null,null,null,null,null,null,null,null,null,null,null,null,null,null,null,null,{"$f":"'NGGT SO'!AP53 /SOpf","v":9.5951790724990502},{"$f":"'NGGT SO'!AQ53 /SOpf","v":9.4442800759359127},{"$f":"'NGGT SO'!AR53 /SOpf","v":9.2790315033115647},{"$f":"'NGGT SO'!AS53 /SOpf","v":9.1030586302138534},{"$f":"'NGGT SO'!AT53 /SOpf","v":8.9248695612745799}]
[null,null,null,null,{"$f":"'NGGT SO'!E54","v":"System costs"},null,"£m 18/19 prices",{"$f":"'NGGT SO'!H54","v":"SCt"},null,null,null,null,null,null,null,null,null,null,null,null,null,null,null,null,null,null,null,null,null,null,null,null,null,null,null,null,null,null,null,null,null,{"$f":"'NGGT SO'!AP54 /SOpf","v":70.206310243334642},{"$f":"'NGGT SO'!AQ54 /SOpf","v":64.426821508117271},{"$f":"'NGGT SO'!AR54 /SOpf","v":63.299531740412554},{"$f":"'NGGT SO'!AS54 /SOpf","v":62.099083130864805},{"$f":"'NGGT SO'!AT54 /SOpf","v":60.883516116021646}]
[null,null,null,null,{"$f":"'NGGT SO'!E55","v":"Residual balancing incentive "},null,"£m 18/19 prices",{"$f":"'NGGT SO'!H55","v":"RBIRt"},null,null,null,null,null,null,null,null,null,null,null,null,null,null,null,null,null,null,null,null,null,null,null,null,null,null,null,null,null,null,null,null,null,{"$f":"'NGGT SO'!AP55 /SOpf","v":0},{"$f":"'NGGT SO'!AQ55 /SOpf","v":0},{"$f":"'NGGT SO'!AR55 /SOpf","v":0},{"$f":"'NGGT SO'!AS55 /SOpf","v":0},{"$f":"'NGGT SO'!AT55 /SOpf","v":0}]
[null,null,null,null,{"$f":"'NGGT SO'!E56","v":"Quality of demand forecasting incentive "},null,"£m 18/19 prices",{"$f":"'NGGT SO'!H56","v":"QDAIRt"},null,null,null,null,null,null,null,null,null,null,null,null,null,null,null,null,null,null,null,null,null,null,null,null,null,null,null,null,null,null,null,null,null,{"$f":"'NGGT SO'!AP56 /SOpf","v":0},{"$f":"'NGGT SO'!AQ56 /SOpf","v":0},{"$f":"'NGGT SO'!AR56 /SOpf","v":0},{"$f":"'NGGT SO'!AS56 /SOpf","v":0},{"$f":"'NGGT SO'!AT56 /SOpf","v":0}]
[null,null,null,null,{"$f":"'NGGT SO'!E57","v":"Greenhouse gas emissions incentive"},null,"£m 18/19 prices",{"$f":"'NGGT SO'!H57","v":"GHGIRt"},null,null,null,null,null,null,null,null,null,null,null,null,null,null,null,null,null,null,null,null,null,null,null,null,null,null,null,null,null,null,null,null,null,{"$f":"'NGGT SO'!AP57 /SOpf","v":0},{"$f":"'NGGT SO'!AQ57 /SOpf","v":0},{"$f":"'NGGT SO'!AR57 /SOpf","v":0},{"$f":"'NGGT SO'!AS57 /SOpf","v":0},{"$f":"'NGGT SO'!AT57 /SOpf","v":0}]
[null,null,null,null,{"$f":"'NGGT SO'!E58","v":"Maintenance incentive "},null,"£m 18/19 prices",{"$f":"'NGGT SO'!H58","v":"MIRt"},null,null,null,null,null,null,null,null,null,null,null,null,null,null,null,null,null,null,null,null,null,null,null,null,null,null,null,null,null,null,null,null,null,{"$f":"'NGGT SO'!AP58 /SOpf","v":0},{"$f":"'NGGT SO'!AQ58 /SOpf","v":0},{"$f":"'NGGT SO'!AR58 /SOpf","v":0},{"$f":"'NGGT SO'!AS58 /SOpf","v":0},{"$f":"'NGGT SO'!AT58 /SOpf","v":0}]
[null,null,null,null,"SO external incentives, revenues and costs",null,"£m 18/19 prices","SOIRCt",null,null,null,null,null,null,null,null,null,null,null,null,null,null,null,null,null,null,null,null,null,null,null,null,null,null,null,null,null,null,null,null,null,{"$f":"SUM(AP60:AP66)","v":87.518483336220797},{"$f":"SUM(AQ60:AQ66)","v":81.466733965917285},{"$f":"SUM(AR60:AR66)","v":80.041293233961724},{"$f":"SUM(AS60:AS66)","v":78.523344261398179},{"$f":"SUM(AT60:AT66)","v":76.986278295735175}]
[]
[null,null,null,null,{"$f":"'NGGT SO'!E60","v":"Pre-RIIO-1 pension true-up"},null,"£m 18/19 prices","SOPRPNt",{"$f":"'NGGT SO'!I60","v":-1.2486316894265654},null,null,null,null,null,null,null,null,null,null,null,null,null,null,null,null,null,null,null,null,null,null,null,null,null,null,null,null,null,null,null,null,{"$f":"($I$69/9)*(1+$AH$122)*(1+$AI$122)*(1+$AJ$122)*(1+$AK$122)*(1+$AL$122)*(1+$AM$122)*(1+$AN$122)*(1+$AO$122)*(1+$AP$122) * (AP$4 = $I$127)","v":-0.19404535555172955},{"$f":"($I$69/9)*(1+$AH$122)*(1+$AI$122)*(1+$AJ$122)*(1+$AK$122)*(1+$AL$122)*(1+$AM$122)*(1+$AN$122)*(1+$AO$122)*(1+$AP$122) * (AQ$4 = $I$127)","v":0},{"$f":"($I$69/9)*(1+$AH$122)*(1+$AI$122)*(1+$AJ$122)*(1+$AK$122)*(1+$AL$122)*(1+$AM$122)*(1+$AN$122)*(1+$AO$122)*(1+$AP$122) * (AR$4 = $I$127)","v":0},{"$f":"($I$69/9)*(1+$AH$122)*(1+$AI$122)*(1+$AJ$122)*(1+$AK$122)*(1+$AL$122)*(1+$AM$122)*(1+$AN$122)*(1+$AO$122)*(1+$AP$122) * (AS$4 = $I$127)","v":0},{"$f":"($I$69/9)*(1+$AH$122)*(1+$AI$122)*(1+$AJ$122)*(1+$AK$122)*(1+$AL$122)*(1+$AM$122)*(1+$AN$122)*(1+$AO$122)*(1+$AP$122) * (AT$4 = $I$127)","v":0}]
[]
[null,null,"Other revenue allowances summary"]
[null,null,null,null,null,null,null,null,"Assumed cost multipliers:"]
[null,null,null,null,{"$f":"E58","v":"Entry capacity and exit capacity constraint management"},null,"£m 18/19 prices",{"$f":"H58","v":"CMt"},{"$f":"'NGGT SO'!I177","v":1},null,null,null,null,null,null,null,null,null,null,null,null,null,null,null,null,null,null,null,null,null,null,null,null,null,null,null,null,null,null,null,null,{"$f":"AP58","v":0},{"$f":"AQ58","v":0},{"$f":"AR58","v":0},{"$f":"AS58","v":0},{"$f":"AT58","v":0}]
[null,null,null,null,{"$f":"E67","v":"SO external incentives, revenues and costs"},null,"£m 18/19 prices",{"$f":"H67","v":"SOIRCt"},{"$f":"'NGGT SO'!I178","v":1},null,null,null,null,null,null,null,null,null,null,null,null,null,null,null,null,null,null,null,null,null,null,null,null,null,null,null,null,null,null,null,null,{"$f":"AP67","v":87.518483336220797},{"$f":"AQ67","v":81.466733965917285},{"$f":"AR67","v":80.041293233961724},{"$f":"AS67","v":78.523344261398179},{"$f":"AT67","v":76.986278295735175}]
[null,null,null,null,{"$f":"E69","v":"Pre-RIIO-1 pension true-up"},null,"£m 18/19 prices",{"$f":"H69","v":"SOPRPNt"},{"$f":"'NGGT SO'!I179","v":0},null,null,null,null,null,null,null,null,null,null,null,null,null,null,null,null,null,null,null,null,null,null,null,null,null,null,null,null,null,null,null,null,{"$f":"AP69","v":-0.19404535555172955},{"$f":"AQ69","v":0},{"$f":"AR69","v":0},{"$f":"AS69","v":0},{"$f":"AT69","v":0}]
[null,null,null,null,"Total other revenue",null,"£m 18/19 prices","SOORAt",null,null,null,null,null,null,null,null,null,null,null,null,null,null,null,null,null,null,null,null,null,null,null,null,null,null,null,null,null,null,null,null,null,{"$f":"SUM(AP73:AP75)","v":87.32443798066906},{"$f":"SUM(AQ73:AQ75)","v":81.466733965917285},{"$f":"SUM(AR73:AR75)","v":80.041293233961724},{"$f":"SUM(AS73:AS75)","v":78.523344261398179},{"$f":"SUM(AT73:AT75)","v":76.986278295735175}]
[]
[null,null,null,null,"Costs associated with \"Other revenue\"",null,"£m 18/19 prices",null,null,null,null,null,null,null,null,null,null,null,null,null,null,null,null,null,null,null,null,null,null,null,null,null,null,null,null,null,null,null,null,null,null,{"$f":"SUMPRODUCT((AP73:AP75) * ($I73:$I75))","v":87.518483336220797},{"$f":"SUMPRODUCT((AQ73:AQ75) * ($I73:$I75))","v":81.466733965917285},{"$f":"SUMPRODUCT((AR73:AR75) * ($I73:$I75))","v":80.041293233961724},{"$f":"SUMPRODUCT((AS73:AS75) * ($I73:$I75))","v":78.523344261398179},{"$f":"SUMPRODUCT((AT73:AT75) * ($I73:$I75))","v":76.986278295735175}]
[]
[null,"Legacy adjustments"]
[]
[null,null,null,null,{"$f":"'NGGT SO'!E64","v":"System Operator legacy MOD"},null,"£m nominal",{"$f":"'NGGT SO'!H64","v":"SOLMODt"},null,null,null,null,null,null,null,null,null,null,null,null,null,null,null,null,null,null,null,null,null,null,null,null,null,null,null,null,null,null,null,null,null,{"$f":"'NGGT SO'!AP64","v":-3.753166750113913},{"$f":"'NGGT SO'!AQ64","v":-3.5804450928379321},{"$f":"'NGGT SO'!AR64","v":0},{"$f":"'NGGT SO'!AS64","v":0},{"$f":"'NGGT SO'!AT64","v":0}]
[null,null,null,null,{"$f":"'NGGT SO'!E65","v":"System Operator legacy K correction"},null,"£m nominal",{"$f":"'NGGT SO'!H65","v":"SOLKt"},null,null,null,null,null,null,null,null,null,null,null,null,null,null,null,null,null,null,null,null,null,null,null,null,null,null,null,null,null,null,null,null,null,{"$f":"'NGGT SO'!AP65","v":21.23851321096431},{"$f":"'NGGT SO'!AQ65","v":0},{"$f":"'NGGT SO'!AR65","v":0},{"$f":"'NGGT SO'!AS65","v":0},{"$f":"'NGGT SO'!AT65","v":0}]
[null,null,null,null,{"$f":"'NGGT SO'!E66","v":"System Operator legacy TRU term"},null,"£m nominal",{"$f":"'NGGT SO'!H66","v":"SOLTRUt"},null,null,null,null,null,null,null,null,null,null,null,null,null,null,null,null,null,null,null,null,null,null,null,null,null,null,null,null,null,null,null,null,null,{"$f":"'NGGT SO'!AP66","v":-1.3497079190288108},{"$f":"'NGGT SO'!AQ66","v":-0.18883598178621469},{"$f":"'NGGT SO'!AR66","v":0},{"$f":"'NGGT SO'!AS66","v":0},{"$f":"'NGGT SO'!AT66","v":0}]
[null,null,null,null,{"$f":"'NGGT SO'!E67","v":"Close out of the RIIO-GT1 entry and exit capacity constraint management incentive"},null,"£m nominal",{"$f":"'NGGT SO'!H67","v":"LCMIRt"},null,null,null,null,null,null,null,null,null,null,null,null,null,null,null,null,null,null,null,null,null,null,null,null,null,null,null,null,null,null,null,null,null,{"$f":"'NGGT SO'!AP67","v":16.480497895781021},{"$f":"'NGGT SO'!AQ67","v":14.7221569869},{"$f":"'NGGT SO'!AR67","v":0},{"$f":"'NGGT SO'!AS67","v":0},{"$f":"'NGGT SO'!AT67","v":0}]
[null,null,null,null,{"$f":"'NGGT SO'!E68","v":"Close out of the RIIO-GT1 constraint management cost adjustment"},null,"£m nominal",{"$f":"'NGGT SO'!H68","v":"LCMCAt"},null,null,null,null,null,null,null,null,null,null,null,null,null,null,null,null,null,null,null,null,null,null,null,null,null,null,null,null,null,null,null,null,null,{"$f":"'NGGT SO'!AP68","v":-38.363602684223508},{"$f":"'NGGT SO'!AQ68","v":-39.222075749999995},{"$f":"'NGGT SO'!AR68","v":0},{"$f":"'NGGT SO'!AS68","v":0},{"$f":"'NGGT SO'!AT68","v":0}]
[null,null,null,null,{"$f":"'NGGT SO'!E69","v":"Close out of the RIIO-GT1 transportation support services adjustment"},null,"£m nominal",{"$f":"'NGGT SO'!H69","v":"LTSSt"},null,null,null,null,null,null,null,null,null,null,null,null,null,null,null,null,null,null,null,null,null,null,null,null,null,null,null,null,null,null,null,null,null,{"$f":"'NGGT SO'!AP69","v":0},{"$f":"'NGGT SO'!AQ69","v":0},{"$f":"'NGGT SO'!AR69","v":0},{"$f":"'NGGT SO'!AS69","v":0},{"$f":"'NGGT SO'!AT69","v":0}]
[null,null,null,null,"Legacy adjustments",null,"£m nominal","SOLARt",null,null,null,null,null,null,null,null,null,null,null,null,null,null,null,null,null,null,null,null,null,null,null,null,null,null,null,null,null,null,null,null,null,{"$f":"SUM(AP82:AP87)","v":-5.7474662466209026},{"$f":"SUM(AQ82:AQ87)","v":-28.269199837724141},0,0,0]
[]
[null,"Finance inputs"]
[]
[null,null,"Allowed return on debt"]
[]
[null,null,null,null,{"$f":"'NGGT SO'!E74","v":"iBoxx trailing average"},null,"annual real %",{"$f":"'NGGT SO'!H74","v":"iBTAt"},null,null,null,null,null,null,null,null,null,null,null,null,null,null,null,null,null,null,null,null,null,null,null,null,null,null,null,null,null,null,null,null,null,{"$f":"'NGGT SO'!AP74","v":2.0500000000000001E-2},{"$f":"'NGGT SO'!AQ74","v":1.9E-2},{"$f":"'NGGT SO'!AR74","v":1.7999999999999999E-2},{"$f":"'NGGT SO'!AS74","v":1.7100000000000001E-2},{"$f":"'NGGT SO'!AT74","v":1.6500000000000001E-2}]
[null,null,null,null,{"$f":"'NGGT SO'!E119","v":"Uplift on iBoxx trailing average"},null,"annual real %",{"$f":"'NGGT SO'!H119","v":"CDEUt"},null,null,null,null,null,null,null,null,null,null,null,null,null,null,null,null,null,null,null,null,null,null,null,null,null,null,null,null,null,null,null,null,null,{"$f":"'NGGT SO'!AP119","v":0},{"$f":"'NGGT SO'!AQ119","v":0},{"$f":"'NGGT SO'!AR119","v":0},{"$f":"'NGGT SO'!AS119","v":0},{"$f":"'NGGT SO'!AT119","v":0}]
[null,null,null,null,"Allowed return on debt",null,"annual real %","SOCDEt",null,null,null,null,null,null,null,null,null,null,null,null,null,null,null,null,null,null,null,null,null,null,null,null,null,null,null,null,null,null,null,null,null,{"$f":"SUM(AP94:AP95)","v":2.0500000000000001E-2},{"$f":"SUM(AQ94:AQ95)","v":1.9E-2},1.7999999999999999E-2,1.7100000000000001E-2,1.6500000000000001E-2]
[]
[null,null,"Allowed return on equity"]
[]
[null,null,null,null,{"$f":"'NGGT SO'!E75","v":"Risk-free rate"},null,"annual real %",{"$f":"'NGGT SO'!H75","v":"SORFRt"},null,null,null,null,null,null,null,null,null,null,null,null,null,null,null,null,null,null,null,null,null,null,null,null,null,null,null,null,null,null,null,null,null,{"$f":"'NGGT SO'!AP75","v":-1.7100000000000001E-2},{"$f":"'NGGT SO'!AQ75","v":-1.66E-2},{"$f":"'NGGT SO'!AR75","v":-1.5800000000000002E-2},{"$f":"'NGGT SO'!AS75","v":-1.5100000000000001E-2},{"$f":"'NGGT SO'!AT75","v":-1.43E-2}]
[null,null,null,null,"Equity Beta",null,"scalar",null,null,null,null,null,null,null,null,null,null,null,null,null,null,null,null,null,null,null,null,null,null,null,null,null,null,null,null,null,null,null,null,null,null,{"$f":"'NGGT SO'!AP121","v":0.75861000000000001},{"$f":"'NGGT SO'!AQ121","v":0.75861000000000001},{"$f":"'NGGT SO'!AR121","v":0.75861000000000001},{"$f":"'NGGT SO'!AS121","v":0.75861000000000001},{"$f":"'NGGT SO'!AT121","v":0.75861000000000001}]
[null,null,null,null,"Total Market Return",null,"%",null,null,null,null,null,null,null,null,null,null,null,null,null,null,null,null,null,null,null,null,null,null,null,null,null,null,null,null,null,null,null,null,null,null,{"$f":"'NGGT SO'!AP122","v":6.5000000000000002E-2},{"$f":"'NGGT SO'!AQ122","v":6.5000000000000002E-2},{"$f":"'NGGT SO'!AR122","v":6.5000000000000002E-2},{"$f":"'NGGT SO'!AS122","v":6.5000000000000002E-2},{"$f":"'NGGT SO'!AT122","v":6.5000000000000002E-2}]
[]
[null,null,null,null,"Cost of equity at 60% gearing",null,"annual real %",null,null,null,null,null,null,null,null,null,null,null,null,null,null,null,null,null,null,null,null,null,null,null,null,null,null,null,null,null,null,null,null,null,null,{"$f":"AP100 + AP101 * (AP102 - AP100)","v":4.5181881000000007E-2},{"$f":"AQ100 + AQ101 * (AQ102 - AQ100)","v":4.5302576000000011E-2},4.5495688000000006E-2,4.5664661000000002E-2,4.5857773000000004E-2]
[null,null,null,null,"Expected outperformance at 60% gearing",null,"%",null,null,null,null,null,null,null,null,null,null,null,null,null,null,null,null,null,null,null,null,null,null,null,null,null,null,null,null,null,null,null,null,null,null,{"$f":"'NGGT SO'!AP127","v":2.5000000000000001E-3},{"$f":"'NGGT SO'!AQ127","v":2.5000000000000001E-3},{"$f":"'NGGT SO'!AR127","v":2.5000000000000001E-3},{"$f":"'NGGT SO'!AS127","v":2.5000000000000001E-3},{"$f":"'NGGT SO'!AT127","v":2.5000000000000001E-3}]
[null,null,null,null,"Allowed return on equity at 60% gearing",null,"annual real %",null,null,null,null,null,null,null,null,null,null,null,null,null,null,null,null,null,null,null,null,null,null,null,null,null,null,null,null,null,null,null,null,null,null,{"$f":"AP104 - AP105","v":4.2681881000000005E-2},{"$f":"AQ104 - AQ105","v":4.2802576000000009E-2},4.2995688000000004E-2,4.3164661E-2,4.3357773000000002E-2]
[null,null,null,null,"Benchmark gearing (60%)",null,"%",null,null,null,null,null,null,null,null,null,null,null,null,null,null,null,null,null,null,null,null,null,null,null,null,null,null,null,null,null,null,null,null,null,null,{"$f":"'NGGT SO'!AP123","v":0.6},{"$f":"'NGGT SO'!AQ123","v":0.6},{"$f":"'NGGT SO'!AR123","v":0.6},{"$f":"'NGGT SO'!AS123","v":0.6},{"$f":"'NGGT SO'!AT123","v":0.6}]
[null,null,null,null,"Vanilla WACC at 60% gearing",null,"annual real %",null,null,null,null,null,null,null,null,null,null,null,null,null,null,null,null,null,null,null,null,null,null,null,null,null,null,null,null,null,null,null,null,null,null,{"$f":"(AP96 * AP107) + (AP104 * (1 - AP107))","v":3.0372752400000001E-2},{"$f":"(AQ96 * AQ107) + (AQ104 * (1 - AQ107))","v":2.9521030400000002E-2},2.89982752E-2,2.8525864400000003E-2,2.8243109200000005E-2]
[null,null,null,null,"Allowed return on capital at 60% gearing",null,"annual real %",null,null,null,null,null,null,null,null,null,null,null,null,null,null,null,null,null,null,null,null,null,null,null,null,null,null,null,null,null,null,null,null,null,null,{"$f":"(AP96* AP107) + (AP106 * (1 - AP107))","v":2.93727524E-2},{"$f":"(AQ96* AQ107) + (AQ106 * (1 - AQ107))","v":2.8521030400000001E-2},2.7998275199999999E-2,2.7525864400000002E-2,2.7243109200000004E-2]
[]
[null,null,null,null,"Notional gearing",null,"%",null,null,null,null,null,null,null,null,null,null,null,null,null,null,null,null,null,null,null,null,null,null,null,null,null,null,null,null,null,null,null,null,null,null,{"$f":"'NGGT SO'!AP125","v":0.6},{"$f":"'NGGT SO'!AQ125","v":0.6},{"$f":"'NGGT SO'!AR125","v":0.6},{"$f":"'NGGT SO'!AS125","v":0.6},{"$f":"'NGGT SO'!AT125","v":0.6}]
[null,null,null,null,"Cost of equity at notional gearing",null,"annual real %",null,null,null,null,null,null,null,null,null,null,null,null,null,null,null,null,null,null,null,null,null,null,null,null,null,null,null,null,null,null,null,null,null,null,{"$f":"(AP108 - (AP111 * AP96)) / (1 - AP111)","v":4.5181881000000007E-2},{"$f":"(AQ108 - (AQ111 * AQ96)) / (1 - AQ111)","v":4.5302576000000004E-2},4.5495688000000006E-2,4.5664661000000009E-2,4.5857773000000011E-2]
[null,null,null,null,"Allowed return on equity",null,"annual real %",null,null,null,null,null,null,null,null,null,null,null,null,null,null,null,null,null,null,null,null,null,null,null,null,null,null,null,null,null,null,null,null,null,null,{"$f":"(AP109 - (AP96 * AP111)) / (1 - AP111)","v":4.2681881000000005E-2},{"$f":"(AQ109 - (AQ96 * AQ111)) / (1 - AQ111)","v":4.2802576000000002E-2},4.2995688000000004E-2,4.3164661000000007E-2,4.3357773000000009E-2]
[null,null,null,null,"Expected outperformance at notional gearing",null,"%",null,null,null,null,null,null,null,null,null,null,null,null,null,null,null,null,null,null,null,null,null,null,null,null,null,null,null,null,null,null,null,null,null,null,{"$f":"AP112 - AP113","v":2.5000000000000022E-3},{"$f":"AQ112 - AQ113","v":2.5000000000000022E-3},2.5000000000000022E-3,2.5000000000000022E-3,2.5000000000000022E-3]
[]
[null,null,"Vanilla allowed return on capital"]
[]
[null,null,null,null,"Allowed return on debt",null,"annual real %",null,null,">",null,null,null,null,null,null,null,null,null,null,null,null,null,null,null,null,null,null,null,null,null,null,null,null,null,null,null,null,null,null,null,{"$f":"AP96","v":2.0500000000000001E-2},{"$f":"AQ96","v":1.9E-2},1.7999999999999999E-2,1.7100000000000001E-2,1.6500000000000001E-2]
[null,null,null,null,"Allowed return on equity",null,"annual real %",null,null,">",null,null,null,null,null,null,null,null,null,null,null,null,null,null,null,null,null,null,null,null,null,null,null,null,null,null,null,null,null,null,null,{"$f":"AP106","v":4.2681881000000005E-2},{"$f":"AQ106","v":4.2802576000000009E-2},4.2995688000000004E-2,4.3164661E-2,4.3357773000000002E-2]
[null,null,null,null,"Notional gearing",null,"%",null,null,">",null,null,null,null,null,null,null,null,null,null,null,null,null,null,null,null,null,null,null,null,null,null,null,null,null,null,null,null,null,null,null,{"$f":"AP111","v":0.6},{"$f":"AQ111","v":0.6},{"$f":"AR111","v":0.6},{"$f":"AS111","v":0.6},{"$f":"AT111","v":0.6}]
[]
[null,null,null,null,"Vanilla allowed return on capital",null,"annual real %",null,null,">",null,null,null,null,null,null,null,null,null,null,null,null,null,null,null,null,null,null,null,null,null,null,null,{"$f":"'NGGT SO'!AH129","v":4.3749999999999997E-2},{"$f":"'NGGT SO'!AI129","v":4.2499999999999996E-2},{"$f":"'NGGT SO'!AJ129","v":4.1437500000000002E-2},{"$f":"'NGGT SO'!AK129","v":4.0375000000000001E-2},{"$f":"'NGGT SO'!AL129","v":3.9375E-2},{"$f":"'NGGT SO'!AM129","v":3.7437499999999999E-2},{"$f":"'NGGT SO'!AN129","v":3.5375000000000004E-2},{"$f":"'NGGT SO'!AO129","v":3.2312500000000001E-2},{"$f":"(AP118 * AP120) + (AP119 * (1 - AP120))","v":2.93727524E-2},{"$f":"(AQ118 * AQ120) + (AQ119 * (1 - AQ120))","v":2.8521030400000001E-2},2.7998275199999999E-2,2.7525864400000002E-2,2.7243109200000004E-2]
[null,null,null,null,"Vanilla Weighted Average Cost of Capital ",null,"annual real %",null,null,">",null,null,null,null,null,null,null,null,null,null,null,null,null,null,null,null,null,null,null,null,null,null,null,{"$f":"AH122","v":4.3749999999999997E-2},{"$f":"AI122","v":4.2499999999999996E-2},4.1437500000000002E-2,4.0375000000000001E-2,3.9375E-2,3.7437499999999999E-2,3.5375000000000004E-2,{"$f":"AO122","v":3.2312500000000001E-2},{"$f":"(AP118 * AP120) + (AP112 * (1 - AP120))","v":3.0372752400000001E-2},{"$f":"(AQ118 * AQ120) + (AQ112 * (1 - AQ120))","v":2.9521030400000002E-2},2.89982752E-2,2.8525864400000003E-2,2.8243109200000005E-2]
[]
[null,null,"Inflation and price conversion"]
[]
[null,null,null,null,"Start of RIIO-2",null,"year ending",null,{"$f":"'Annual Inflation'!I15","v":"2022-03-31"}]
[]
[null,null,null,"Price indices and inflation rates"]
[]
[null,null,null,null,"Retail Prices Index (financial year average)","Spc2.1","index value","RPIt",null,">",null,null,null,null,null,null,null,null,null,null,null,{"$f":"'Annual Inflation'!V23","v":173.875},{"$f":"'Annual Inflation'!W23","v":177.51666666666665},{"$f":"'Annual Inflation'!X23","v":182.47499999999999},{"$f":"'Annual Inflation'!Y23","v":188.15},{"$f":"'Annual Inflation'!Z23","v":193.10833333333332},{"$f":"'Annual Inflation'!AA23","v":200.31666666666669},{"$f":"'Annual Inflation'!AB23","v":208.5916666666667},{"$f":"'Annual Inflation'!AC23","v":214.78333333333339},{"$f":"'Annual Inflation'!AD23","v":215.76666666666662},{"$f":"'Annual Inflation'!AE23","v":226.47499999999999},{"$f":"'Annual Inflation'!AF23","v":237.3416666666667},{"$f":"'Annual Inflation'!AG23","v":244.67499999999998},{"$f":"'Annual Inflation'!AH23","v":251.73333333333335},{"$f":"'Annual Inflation'!AI23","v":256.66666666666669},{"$f":"'Annual Inflation'!AJ23","v":259.43333333333334},{"$f":"'Annual Inflation'!AK23","v":264.99166666666673},{"$f":"'Annual Inflation'!AL23","v":274.90833333333336},{"$f":"'Annual Inflation'!AM23","v":283.30833333333334},{"$f":"'Annual Inflation'!AN23","v":290.64166666666665},{"$f":"'Annual Inflation'!AO23","v":294.17509269226207},{"$f":"'Annual Inflation'!AP23","v":298.31993410998405},{"$f":"'Annual Inflation'!AQ23","v":303.87812996757594},{"$f":"'Annual Inflation'!AR23","v":312.0253475439311},{"$f":"'Annual Inflation'!AS23","v":321.33052371186744},{"$f":"'Annual Inflation'!AT23","v":330.95442761580398}]
[null,null,null,null,"RPI inflation (financial year average)",null,"annual %",null,null,">",null,null,null,null,null,null,null,null,null,null,null,null,{"$f":"'Annual Inflation'!W24","v":2.0944164869398429E-2},{"$f":"'Annual Inflation'!X24","v":2.7931649610365206E-2},{"$f":"'Annual Inflation'!Y24","v":3.1100150705576146E-2},{"$f":"'Annual Inflation'!Z24","v":2.635308707591455E-2},{"$f":"'Annual Inflation'!AA24","v":3.7327924739999352E-2},{"$f":"'Annual Inflation'!AB24","v":4.1309593144188472E-2},{"$f":"'Annual Inflation'!AC24","v":2.9683192840877393E-2},{"$f":"'Annual Inflation'!AD24","v":4.57825715837612E-3},{"$f":"'Annual Inflation'!AE24","v":4.9629229105515371E-2},{"$f":"'Annual Inflation'!AF24","v":4.7981749273282803E-2},{"$f":"'Annual Inflation'!AG24","v":3.0897791510129391E-2},{"$f":"'Annual Inflation'!AH24","v":2.8847791287762714E-2},{"$f":"'Annual Inflation'!AI24","v":1.9597457627118731E-2},{"$f":"'Annual Inflation'!AJ24","v":1.0779220779220777E-2},{"$f":"'Annual Inflation'!AK24","v":2.1424900424001248E-2},{"$f":"'Annual Inflation'!AL24","v":3.7422560457875953E-2},{"$f":"'Annual Inflation'!AM24","v":3.0555639758707454E-2},{"$f":"'Annual Inflation'!AN24","v":2.5884636879724532E-2},{"$f":"'Annual Inflation'!AO24","v":1.2157327839878773E-2},{"$f":"'Annual Inflation'!AP24","v":1.4089708886598107E-2},{"$f":"'Annual Inflation'!AQ24","v":1.8631660918585258E-2},{"$f":"'Annual Inflation'!AR24","v":2.6810805954428085E-2},{"$f":"'Annual Inflation'!AS24","v":2.9821859798189188E-2},{"$f":"'Annual Inflation'!AT24","v":2.9950170288105538E-2}]
[]
[null,null,null,null,"Consumer Prices Index incl. housing costs (financial year average)","Spc2.1","index value","CPIHt",null,">",null,null,null,null,null,null,null,null,null,null,null,{"$f":"'Annual Inflation'!V26","v":74.86666666666666},{"$f":"'Annual Inflation'!W26","v":75.958333333333329},{"$f":"'Annual Inflation'!X26","v":76.974999999999994},{"$f":"'Annual Inflation'!Y26","v":78.124999999999986},{"$f":"'Annual Inflation'!Z26","v":79.825000000000003},{"$f":"'Annual Inflation'!AA26","v":81.916666666666671},{"$f":"'Annual Inflation'!AB26","v":83.825000000000003},{"$f":"'Annual Inflation'!AC26","v":86.858333333333334},{"$f":"'Annual Inflation'!AD26","v":88.433333333333337},{"$f":"'Annual Inflation'!AE26","v":90.908333333333317},{"$f":"'Annual Inflation'!AF26","v":94.308333333333351},{"$f":"'Annual Inflation'!AG26","v":96.583333333333314},{"$f":"'Annual Inflation'!AH26","v":98.600000000000009},{"$f":"'Annual Inflation'!AI26","v":99.72499999999998},{"$f":"'Annual Inflation'!AJ26","v":100.16666666666667},{"$f":"'Annual Inflation'!AK26","v":101.54166666666667},{"$f":"'Annual Inflation'!AL26","v":104.21666666666665},{"$f":"'Annual Inflation'!AM26","v":106.43333333333334},{"$f":"'Annual Inflation'!AN26","v":108.24166666666663},{"$f":"'Annual Inflation'!AO26","v":109.16563279586747},{"$f":"'Annual Inflation'!AP26","v":110.55301778572785},{"$f":"'Annual Inflation'!AQ26","v":112.31941388122272},{"$f":"'Annual Inflation'!AR26","v":114.3196897521745},{"$f":"'Annual Inflation'!AS26","v":116.52962435487591},{"$f":"'Annual Inflation'!AT26","v":118.85619116070755}]
[null,null,null,null,"CPIH inflation (financial year average)",null,"annual %",null,null,">",null,null,null,null,null,null,null,null,null,null,null,null,{"$f":"'Annual Inflation'!W27","v":1.4581478183437246E-2},{"$f":"'Annual Inflation'!X27","v":1.3384530992868848E-2},{"$f":"'Annual Inflation'!Y27","v":1.4939915556998917E-2},{"$f":"'Annual Inflation'!Z27","v":2.1760000000000224E-2},{"$f":"'Annual Inflation'!AA27","v":2.6203152729930013E-2},{"$f":"'Annual Inflation'!AB27","v":2.3296032553407953E-2},{"$f":"'Annual Inflation'!AC27","v":3.6186499652052895E-2},{"$f":"'Annual Inflation'!AD27","v":1.8132975151108122E-2},{"$f":"'Annual Inflation'!AE27","v":2.7987184319637981E-2},{"$f":"'Annual Inflation'!AF27","v":3.7400311669264275E-2},{"$f":"'Annual Inflation'!AG27","v":2.4123000795263305E-2},{"$f":"'Annual Inflation'!AH27","v":2.088006902502193E-2},{"$f":"'Annual Inflation'!AI27","v":1.1409736308316099E-2},{"$f":"'Annual Inflation'!AJ27","v":4.4288459931480784E-3},{"$f":"'Annual Inflation'!AK27","v":1.3727121464226277E-2},{"$f":"'Annual Inflation'!AL27","v":2.6343865408288814E-2},{"$f":"'Annual Inflation'!AM27","v":2.1269790500559882E-2},{"$f":"'Annual Inflation'!AN27","v":1.6990291262135582E-2},{"$f":"'Annual Inflation'!AO27","v":8.5361410042421593E-3},{"$f":"'Annual Inflation'!AP27","v":1.2708990497537709E-2},{"$f":"'Annual Inflation'!AQ27","v":1.5977818886124595E-2},{"$f":"'Annual Inflation'!AR27","v":1.7808816853932985E-2},{"$f":"'Annual Inflation'!AS27","v":1.9331180897115496E-2},{"$f":"'Annual Inflation'!AT27","v":1.9965453580682579E-2}]
[]
[null,null,null,null,"Combined RPI-CPIH price index (financial year average)",null,"index value","PIt",null,">",null,null,null,null,null,null,null,null,null,null,null,{"$f":"'Annual Inflation'!V29","v":173.875},{"$f":"'Annual Inflation'!W29","v":177.51666666666665},{"$f":"'Annual Inflation'!X29","v":182.47499999999999},{"$f":"'Annual Inflation'!Y29","v":188.15},{"$f":"'Annual Inflation'!Z29","v":193.10833333333332},{"$f":"'Annual Inflation'!AA29","v":200.31666666666669},{"$f":"'Annual Inflation'!AB29","v":208.5916666666667},{"$f":"'Annual Inflation'!AC29","v":214.78333333333339},{"$f":"'Annual Inflation'!AD29","v":215.76666666666662},{"$f":"'Annual Inflation'!AE29","v":226.47499999999999},{"$f":"'Annual Inflation'!AF29","v":237.3416666666667},{"$f":"'Annual Inflation'!AG29","v":244.67499999999998},{"$f":"'Annual Inflation'!AH29","v":251.73333333333335},{"$f":"'Annual Inflation'!AI29","v":256.66666666666669},{"$f":"'Annual Inflation'!AJ29","v":259.43333333333334},{"$f":"'Annual Inflation'!AK29","v":264.99166666666673},{"$f":"'Annual Inflation'!AL29","v":274.90833333333336},{"$f":"'Annual Inflation'!AM29","v":283.30833333333334},{"$f":"'Annual Inflation'!AN29","v":290.64166666666665},{"$f":"'Annual Inflation'!AO29","v":294.17509269226207},{"$f":"'Annual Inflation'!AP29","v":298.21373265120474},{"$f":"'Annual Inflation'!AQ29","v":302.97853766086087},{"$f":"'Annual Inflation'!AR29","v":308.3742269487355},{"$f":"'Annual Inflation'!AS29","v":314.33546491388961},{"$f":"'Annual Inflation'!AT29","v":320.61131504739012}]
[null,null,null,null,"Combined RPI-CPIH inflation (financial year average)",null,"annual %",null,null,">",null,null,null,null,null,null,null,null,null,null,null,null,{"$f":"'Annual Inflation'!W30","v":2.0944164869398429E-2},{"$f":"'Annual Inflation'!X30","v":2.7931649610365206E-2},{"$f":"'Annual Inflation'!Y30","v":3.1100150705576146E-2},{"$f":"'Annual Inflation'!Z30","v":2.635308707591455E-2},{"$f":"'Annual Inflation'!AA30","v":3.7327924739999352E-2},{"$f":"'Annual Inflation'!AB30","v":4.1309593144188472E-2},{"$f":"'Annual Inflation'!AC30","v":2.9683192840877393E-2},{"$f":"'Annual Inflation'!AD30","v":4.57825715837612E-3},{"$f":"'Annual Inflation'!AE30","v":4.9629229105515371E-2},{"$f":"'Annual Inflation'!AF30","v":4.7981749273282803E-2},{"$f":"'Annual Inflation'!AG30","v":3.0897791510129391E-2},{"$f":"'Annual Inflation'!AH30","v":2.8847791287762714E-2},{"$f":"'Annual Inflation'!AI30","v":1.9597457627118731E-2},{"$f":"'Annual Inflation'!AJ30","v":1.0779220779220777E-2},{"$f":"'Annual Inflation'!AK30","v":2.1424900424001248E-2},{"$f":"'Annual Inflation'!AL30","v":3.7422560457875953E-2},{"$f":"'Annual Inflation'!AM30","v":3.0555639758707454E-2},{"$f":"'Annual Inflation'!AN30","v":2.5884636879724532E-2},{"$f":"'Annual Inflation'!AO30","v":1.2157327839878773E-2},{"$f":"'Annual Inflation'!AP30","v":1.3728694438340794E-2},{"$f":"'Annual Inflation'!AQ30","v":1.5977818886124595E-2},{"$f":"'Annual Inflation'!AR30","v":1.7808816853932763E-2},{"$f":"'Annual Inflation'!AS30","v":1.9331180897115274E-2},{"$f":"'Annual Inflation'!AT30","v":1.9965453580682579E-2}]
[]
[null,null,null,"Price conversion factors"]
[]
[null,null,null,null,"Real to nominal prices conversion factor (financial year average)",null,"scalar",null,null,">",null,null,null,null,null,null,null,null,null,null,null,{"$f":"'Annual Inflation'!V32","v":0.61373062329029027},{"$f":"'Annual Inflation'!W32","v":0.62658469864988076},{"$f":"'Annual Inflation'!X32","v":0.64408624290378558},{"$f":"'Annual Inflation'!Y32","v":0.66411742212548164},{"$f":"'Annual Inflation'!Z32","v":0.68161896637938635},{"$f":"'Annual Inflation'!AA32","v":0.70706238785775222},{"$f":"'Annual Inflation'!AB32","v":0.73627084742771431},{"$f":"'Annual Inflation'!AC32","v":0.7581257169750274},{"$f":"'Annual Inflation'!AD32","v":0.76159661146571744},{"$f":"'Annual Inflation'!AE32","v":0.79939406418213366},{"$f":"'Annual Inflation'!AF32","v":0.83775038974027127},{"$f":"'Annual Inflation'!AG32","v":0.8636350266199958},{"$f":"'Annual Inflation'!AH32","v":0.8885489896167309},{"$f":"'Annual Inflation'!AI32","v":0.90596229079036394},{"$f":"'Annual Inflation'!AJ32","v":0.91572785834044179},{"$f":"'Annual Inflation'!AK32","v":0.93534723652086971},{"$f":"'Annual Inflation'!AL32","v":0.97035032502867913},{"$f":"'Annual Inflation'!AM32","v":1},{"$f":"'Annual Inflation'!AN32","v":1.0258846368797245},{"$f":"'Annual Inflation'!AO32","v":1.0383566527361663},{"$f":"'Annual Inflation'!AP32","v":1.0526119339395996},{"$f":"'Annual Inflation'!AQ32","v":1.0694303767774598},{"$f":"'Annual Inflation'!AR32","v":1.088475666495522},{"$f":"'Annual Inflation'!AS32","v":1.1095171865066551},{"$f":"'Annual Inflation'!AT32","v":1.1316692003908231}]
[null,null,null,null,null,null,null,null,null,null,null,null,null,null,null,null,null,null,null,null,null,null,null,null,null,null,null,null,null,null,null,null,null,null,null,null,null,null,null,null,null,"Adjacent named range: SOpf"]
[null,null,null,null,"Real to nominal prices conversion factor (financial year end)",null,"scalar",null,null,">",null,null,null,null,null,null,null,null,null,null,null,{"$f":"'Annual Inflation'!V45","v":0.6180545342236079},{"$f":"'Annual Inflation'!W45","v":0.63729152572285797},{"$f":"'Annual Inflation'!X45","v":0.65352825249286695},{"$f":"'Annual Inflation'!Y45","v":0.67435361943700922},{"$f":"'Annual Inflation'!Z45","v":0.69094331852810542},{"$f":"'Annual Inflation'!AA45","v":0.72324028590758005},{"$f":"'Annual Inflation'!AB45","v":0.75200753007618326},{"$f":"'Annual Inflation'!AC45","v":0.7461834867782452},{"$f":"'Annual Inflation'!AD45","v":0.78271612201076568},{"$f":"'Annual Inflation'!AE45","v":0.82401388357796268},{"$f":"'Annual Inflation'!AF45","v":0.85295761390710945},{"$f":"'Annual Inflation'!AG45","v":0.87925405182810246},{"$f":"'Annual Inflation'!AH45","v":0.9009618495749625},{"$f":"'Annual Inflation'!AI45","v":0.9090802129599671},{"$f":"'Annual Inflation'!AJ45","v":0.92214018884019178},{"$f":"'Annual Inflation'!AK45","v":0.95284878077477442},{"$f":"'Annual Inflation'!AL45","v":0.98479277583316172},{"$f":"'Annual Inflation'!AM45","v":1.0117951583963289},{"$f":"'Annual Inflation'!AN45","v":1.0327970115010148},{"$f":"'Annual Inflation'!AO45","v":1.0452343986883279},{"$f":"'Annual Inflation'!AP45","v":1.0606454571397199},{"$f":"'Annual Inflation'!AQ45","v":1.0785770775826966},{"$f":"'Annual Inflation'!AR45","v":1.0987601131013411},{"$f":"'Annual Inflation'!AS45","v":1.1205065599926722},{"$f":"'Annual Inflation'!AT45","v":1.1419681372984609}]
[]
[null,null,"Real Price Effects indexation"]
[]
[null,null,null,null,"RPE index",null,"index value","RPEIt",null,">",null,null,null,null,null,null,null,null,null,null,null,null,null,null,null,null,null,null,null,null,null,null,null,null,null,null,null,null,null,{"$f":"PRODUCT(1 + $AN149:AN149)","v":1.0003683592285559},{"$f":"PRODUCT(1 + $AN149:AO149)","v":0.9904495134809792},{"$f":"PRODUCT(1 + $AN149:AP149)","v":1.0082270577996546},{"$f":"PRODUCT(1 + $AN149:AQ149)","v":1.0175331769624147},{"$f":"PRODUCT(1 + $AN149:AR149)","v":1.028885597429092},{"$f":"PRODUCT(1 + $AN149:AS149)","v":1.0413410293602181},{"$f":"PRODUCT(1 + $AN149:AT149)","v":1.0535281191342725}]
[null,null,null,null,{"$f":"'NGGT SO'!E78","v":"RPE annual growth"},null,"annual %",{"$f":"'NGGT SO'!H78","v":"RPEt"},null,">",null,null,null,null,null,null,null,null,null,null,null,null,null,null,null,null,null,null,null,null,null,null,null,null,null,null,null,null,null,{"$f":"'NGGT SO'!AN78","v":3.6835922855594627E-4},{"$f":"'NGGT SO'!AO78","v":-9.9151933945869162E-3},{"$f":"'NGGT SO'!AP78","v":1.7948965673369253E-2},{"$f":"'NGGT SO'!AQ78","v":9.2301819225817233E-3},{"$f":"'NGGT SO'!AR78","v":1.1156806209078208E-2},{"$f":"'NGGT SO'!AS78","v":1.2105750106959287E-2},{"$f":"'NGGT SO'!AT78","v":1.1703264761921265E-2}]
[]
[null,null,"Tax allowance"]
[]
[null,null,null,null,{"$f":"'NGGT SO'!E80","v":"Adjusted net debt"},null,"£m nominal",{"$f":"'NGGT SO'!H80","v":"ANDt"},null,null,null,null,null,null,null,null,null,null,null,null,null,null,null,null,null,null,null,null,null,null,null,null,null,null,null,null,null,null,null,null,null,{"$f":"'NGGT SO'!AP80","v":0},{"$f":"'NGGT SO'!AQ80","v":0},{"$f":"'NGGT SO'!AR80","v":0},{"$f":"'NGGT SO'!AS80","v":0},{"$f":"'NGGT SO'!AT80","v":0}]
[null,null,null,null,{"$f":"'NGGT SO'!E81","v":"Tax deductible net interest cost"},null,"£m nominal",{"$f":"'NGGT SO'!H81","v":"TDNIt"},null,null,null,null,null,null,null,null,null,null,null,null,null,null,null,null,null,null,null,null,null,null,null,null,null,null,null,null,null,null,null,null,null,{"$f":"'NGGT SO'!AP81","v":0},{"$f":"'NGGT SO'!AQ81","v":0},{"$f":"'NGGT SO'!AR81","v":0},{"$f":"'NGGT SO'!AS81","v":0},{"$f":"'NGGT SO'!AT81","v":0}]
[null,null,null,null,{"$f":"'NGGT SO'!E82","v":"Tax allowance adjustment"},null,"£m nominal",{"$f":"'NGGT SO'!H82","v":"SOTAXAt"},null,null,null,null,null,null,null,null,null,null,null,null,null,null,null,null,null,null,null,null,null,null,null,null,null,null,null,null,null,null,null,null,null,{"$f":"'NGGT SO'!AP82","v":0},{"$f":"'NGGT SO'!AQ82","v":0},{"$f":"'NGGT SO'!AR82","v":0},{"$f":"'NGGT SO'!AS82","v":0},{"$f":"'NGGT SO'!AT82","v":0}]
[null,null,null,null,{"$f":"'NGGT SO'!E83","v":"Tax liability - tax trigger events"},null,"£m 18/19 prices",{"$f":"'NGGT SO'!H83","v":"SOTTEt"},null,null,null,null,null,null,null,null,null,null,null,null,null,null,null,null,null,null,null,null,null,null,null,null,null,null,null,null,null,null,null,null,null,{"$f":"'NGGT SO'!AP83","v":0},{"$f":"'NGGT SO'!AQ83","v":0},{"$f":"'NGGT SO'!AR83","v":0},{"$f":"'NGGT SO'!AS83","v":0},{"$f":"'NGGT SO'!AT83","v":0}]
[]
[null,null,null,null,"Notional gearing for \"Tax clawback gearing level test\"",null,"%",null,null,null,null,null,null,null,null,null,null,null,null,null,null,null,null,null,null,null,null,null,null,null,null,null,null,null,null,null,null,null,null,null,null,{"$f":"'NGGT SO'!AP85","v":0.625},{"$f":"'NGGT SO'!AQ85","v":0.61880000000000002},{"$f":"'NGGT SO'!AR85","v":0.61250000000000004},{"$f":"'NGGT SO'!AS85","v":0.60629999999999995},{"$f":"'NGGT SO'!AT85","v":0.6}]
[null,null,null,null,"Tax trigger deadband",null,"£m 18/19 prices",null,null,null,null,null,null,null,null,null,null,null,null,null,null,null,null,null,null,null,null,null,null,null,null,null,null,null,null,null,null,null,null,null,null,{"$f":"'NGGT SO'!AP86","v":0.35535269898445798},{"$f":"'NGGT SO'!AQ86","v":0.33811521212748413},{"$f":"'NGGT SO'!AR86","v":0.35287450221706412},{"$f":"'NGGT SO'!AS86","v":0.33060618568728362},{"$f":"'NGGT SO'!AT86","v":0.30228187223292602}]
[]
[null,null,null,null,{"$f":"'NGGT SO'!E88","v":"General pool capital allowance opening balance brought forward"},null,"£m nominal",{"$f":"'NGGT SO'!H88","v":"SOOGPt"},null,null,null,null,null,null,null,null,null,null,null,null,null,null,null,null,null,null,null,null,null,null,null,null,null,null,null,null,null,null,null,null,null,{"$f":"'NGGT SO'!AP88","v":132.42873901410496}]
[null,null,null,null,{"$f":"'NGGT SO'!E89","v":"Special Rate capital allowance opening balance brought forward"},null,"£m nominal",{"$f":"'NGGT SO'!H89","v":"SOOSRPt"},null,null,null,null,null,null,null,null,null,null,null,null,null,null,null,null,null,null,null,null,null,null,null,null,null,null,null,null,null,null,null,null,null,{"$f":"'NGGT SO'!AP89","v":0}]
[null,null,null,null,{"$f":"'NGGT SO'!E90","v":"Structures and buildings capital allowance opening balance brought forward"},null,"£m nominal",{"$f":"'NGGT SO'!H90","v":"SOOSBPt"},null,null,null,null,null,null,null,null,null,null,null,null,null,null,null,null,null,null,null,null,null,null,null,null,null,null,null,null,null,null,null,null,null,{"$f":"'NGGT SO'!AP90","v":0}]
[null,null,null,null,{"$f":"'NGGT SO'!E91","v":"Deferred revenue expenditure opening balance brought forward"},null,"£m nominal",{"$f":"'NGGT SO'!H91","v":"SOODRPt"},null,null,null,null,null,null,null,null,null,null,null,null,null,null,null,null,null,null,null,null,null,null,null,null,null,null,null,null,null,null,null,null,null,{"$f":"'NGGT SO'!AP91","v":0}]
[null,null,null,null,{"$f":"'NGGT SO'!E92","v":"Deferred revenue pool additions (RIIO1) plus opening balance at start of RIIO1"},null,"£m nominal",{"$f":"'NGGT SO'!H92","v":"SOLODRPt"},null,">",null,null,null,null,null,null,null,null,null,null,null,null,null,null,null,null,null,null,null,null,null,null,null,null,null,null,null,null,null,null,{"$f":"'NGGT SO'!AO92","v":0}]
[null,null,null,null,{"$f":"'NGGT SO'!E93","v":"Tax loss brought forward"},null,"£m nominal",{"$f":"'NGGT SO'!H93","v":"SOOTLt"},null,null,null,null,null,null,null,null,null,null,null,null,null,null,null,null,null,null,null,null,null,null,null,null,null,null,null,null,null,null,null,null,null,{"$f":"'NGGT SO'!AP93","v":0}]
[]
[null,null,null,null,{"$f":"'NGGT SO'!E95","v":"Totex allocation to \"General\" tax pool"},null,"%",{"$f":"'NGGT SO'!H95","v":"SOARGPt"},null,null,null,null,null,null,null,null,null,null,null,null,null,null,null,null,null,null,null,null,null,null,null,null,null,null,null,null,null,null,null,null,null,{"$f":"'NGGT SO'!AP95","v":0.30954513088673058},{"$f":"'NGGT SO'!AQ95","v":0.30371085559452876},{"$f":"'NGGT SO'!AR95","v":0.37223951445025472},{"$f":"'NGGT SO'!AS95","v":0.30892380358309102},{"$f":"'NGGT SO'!AT95","v":0.2109815235219154}]
[null,null,null,null,{"$f":"'NGGT SO'!E96","v":"Totex allocation to \"Special Rate\" tax pool"},null,"%",{"$f":"'NGGT SO'!H96","v":"SOARSRt"},null,null,null,null,null,null,null,null,null,null,null,null,null,null,null,null,null,null,null,null,null,null,null,null,null,null,null,null,null,null,null,null,null,{"$f":"'NGGT SO'!AP96","v":0},{"$f":"'NGGT SO'!AQ96","v":0},{"$f":"'NGGT SO'!AR96","v":0},{"$f":"'NGGT SO'!AS96","v":0},{"$f":"'NGGT SO'!AT96","v":0}]
[null,null,null,null,{"$f":"'NGGT SO'!E97","v":"Totex allocation to \"Revenue\" tax pool"},null,"%",{"$f":"'NGGT SO'!H97","v":"SOARRt"},null,null,null,null,null,null,null,null,null,null,null,null,null,null,null,null,null,null,null,null,null,null,null,null,null,null,null,null,null,null,null,null,null,{"$f":"'NGGT SO'!AP97","v":0.69045486911326948},{"$f":"'NGGT SO'!AQ97","v":0.69628914440547129},{"$f":"'NGGT SO'!AR97","v":0.62776048554974517},{"$f":"'NGGT SO'!AS97","v":0.69107619641690898},{"$f":"'NGGT SO'!AT97","v":0.78901847647808454}]
[null,null,null,null,{"$f":"'NGGT SO'!E98","v":"Totex allocation to \"Structures and Buildings\" tax pool"},null,"%",{"$f":"'NGGT SO'!H98","v":"SOARSBt"},null,null,null,null,null,null,null,null,null,null,null,null,null,null,null,null,null,null,null,null,null,null,null,null,null,null,null,null,null,null,null,null,null,{"$f":"'NGGT SO'!AP98","v":0},{"$f":"'NGGT SO'!AQ98","v":0},{"$f":"'NGGT SO'!AR98","v":0},{"$f":"'NGGT SO'!AS98","v":0},{"$f":"'NGGT SO'!AT98","v":0}]
[null,null,null,null,{"$f":"'NGGT SO'!E99","v":"Totex allocation to \"Deferred revenue\" tax pool"},null,"%",{"$f":"'NGGT SO'!H99","v":"SOARDRt"},null,null,null,null,null,null,null,null,null,null,null,null,null,null,null,null,null,null,null,null,null,null,null,null,null,null,null,null,null,null,null,null,null,{"$f":"'NGGT SO'!AP99","v":0},{"$f":"'NGGT SO'!AQ99","v":0},{"$f":"'NGGT SO'!AR99","v":0},{"$f":"'NGGT SO'!AS99","v":0},{"$f":"'NGGT SO'!AT99","v":0}]
[null,null,null,null,{"$f":"'NGGT SO'!E100","v":"Totex allocation to \"Non Qualifying\" tax pool"},null,"%",{"$f":"'NGGT SO'!H100","v":"SOARNQt"},null,null,null,null,null,null,null,null,null,null,null,null,null,null,null,null,null,null,null,null,null,null,null,null,null,null,null,null,null,null,null,null,null,{"$f":"'NGGT SO'!AP100","v":0},{"$f":"'NGGT SO'!AQ100","v":0},{"$f":"'NGGT SO'!AR100","v":0},{"$f":"'NGGT SO'!AS100","v":0},{"$f":"'NGGT SO'!AT100","v":0}]
[null,null,null,null,"Totex allocation check",null,"%",null,null,null,null,null,null,null,null,null,null,null,null,null,null,null,null,null,null,null,null,null,null,null,null,null,null,null,null,null,null,null,null,null,null,{"$f":"SUM(AP168:AP173)","v":1},{"$f":"SUM(AQ168:AQ173)","v":1},{"$f":"SUM(AR168:AR173)","v":0.99999999999999989},{"$f":"SUM(AS168:AS173)","v":1},{"$f":"SUM(AT168:AT173)","v":1}]
[]
[null,null,null,null,{"$f":"'NGGT SO'!E103","v":"Corporation tax rate"},null,"%",{"$f":"'NGGT SO'!H103","v":"SOCTt"},null,null,null,null,null,null,null,null,null,null,null,null,null,null,null,null,null,null,null,null,null,null,null,null,null,null,null,null,null,null,null,null,null,{"$f":"'NGGT SO'!AP103","v":0.19},{"$f":"'NGGT SO'!AQ103","v":0.19},{"$f":"'NGGT SO'!AR103","v":0.25},{"$f":"'NGGT SO'!AS103","v":0.25},{"$f":"'NGGT SO'!AT103","v":0.25}]
[null,null,null,null,{"$f":"'NGGT SO'!E104","v":"General pool allowance rate"},null,"%",{"$f":"'NGGT SO'!H104","v":"SOGCAt"},null,null,null,null,null,null,null,null,null,null,null,null,null,null,null,null,null,null,null,null,null,null,null,null,null,null,null,null,null,null,null,null,null,{"$f":"'NGGT SO'!AP104","v":0.18},{"$f":"'NGGT SO'!AQ104","v":0.18},{"$f":"'NGGT SO'!AR104","v":0.18},{"$f":"'NGGT SO'!AS104","v":0.18},{"$f":"'NGGT SO'!AT104","v":0.18}]
[null,null,null,null,{"$f":"'NGGT SO'!E105","v":"Special Rate allowance rate"},null,"%",{"$f":"'NGGT SO'!H105","v":"SOSRCAt"},null,null,null,null,null,null,null,null,null,null,null,null,null,null,null,null,null,null,null,null,null,null,null,null,null,null,null,null,null,null,null,null,null,{"$f":"'NGGT SO'!AP105","v":0.06},{"$f":"'NGGT SO'!AQ105","v":0.06},{"$f":"'NGGT SO'!AR105","v":0.06},{"$f":"'NGGT SO'!AS105","v":0.06},{"$f":"'NGGT SO'!AT105","v":0.06}]
[null,null,null,null,{"$f":"'NGGT SO'!E106","v":"Structures and buildings allowance rate"},null,"%",{"$f":"'NGGT SO'!H106","v":"SOSBCAt"},null,null,null,null,null,null,null,null,null,null,null,null,null,null,null,null,null,null,null,null,null,null,null,null,null,null,null,null,null,null,null,null,null,{"$f":"'NGGT SO'!AP106","v":0.03},{"$f":"'NGGT SO'!AQ106","v":0.03},{"$f":"'NGGT SO'!AR106","v":0.03},{"$f":"'NGGT SO'!AS106","v":0.03},{"$f":"'NGGT SO'!AT106","v":0.03}]
[null,null,null,null,{"$f":"'NGGT SO'!E107","v":"Deferred revenue expenditure allowance rate"},null,"%",{"$f":"'NGGT SO'!H107","v":"SODRCAt"},null,null,null,null,null,null,null,null,null,null,null,null,null,null,null,null,null,null,null,null,null,null,null,null,null,null,null,null,null,null,null,null,null,{"$f":"'NGGT SO'!AP107","v":2.2200000000000001E-2},{"$f":"'NGGT SO'!AQ107","v":2.2200000000000001E-2},{"$f":"'NGGT SO'!AR107","v":2.2200000000000001E-2},{"$f":"'NGGT SO'!AS107","v":2.2200000000000001E-2},{"$f":"'NGGT SO'!AT107","v":2.2200000000000001E-2}]
[]
[null,null,"Inputs for true ups to allowed revenue"]
[]
[null,null,null,null,{"$f":"'NGGT SO'!E76","v":"Sterling Overnight Index Average (SONIA)"},null,"annual nominal %",{"$f":"'NGGT SO'!H76","v":"It"},null,">",null,null,null,null,null,null,null,null,null,null,null,null,null,null,null,null,null,null,null,null,null,null,null,null,null,null,null,null,null,null,{"$f":"'NGGT SO'!AO76","v":6.0424854179993959E-4},{"$f":"'NGGT SO'!AP76","v":4.5973702505714439E-4},{"$f":"'NGGT SO'!AQ76","v":8.648026937470648E-4},{"$f":"'NGGT SO'!AR76","v":1.4141542757024586E-3},{"$f":"'NGGT SO'!AS76","v":2.0702335211076469E-3},{"$f":"'NGGT SO'!AT76","v":2.600000849653616E-3}]
[]
[null,null,null,null,{"$f":"'NGGT SO'!E109","v":"RIIO-1 allowed revenue"},null,"£m nominal",{"$f":"'NGGT SO'!H109","v":"RIIO-1 SOARt"},null,">",null,null,null,null,null,null,null,null,null,null,null,null,null,null,null,null,null,null,null,null,null,null,null,null,null,null,null,null,null,null,{"$f":"'NGGT SO'!AO109","v":208.18}]
[null,null,null,null,{"$f":"'NGGT SO'!E110","v":"Recovered revenue"},null,"£m nominal",{"$f":"'NGGT SO'!H110","v":"SORRt"},null,">",null,null,null,null,null,null,null,null,null,null,null,null,null,null,null,null,null,null,null,null,null,null,null,null,null,null,null,null,null,null,{"$f":"'NGGT SO'!AO110","v":267},{"$f":"'NGGT SO'!AP110","v":0},{"$f":"'NGGT SO'!AQ110","v":0},{"$f":"'NGGT SO'!AR110","v":0},{"$f":"'NGGT SO'!AS110","v":0},{"$f":"'NGGT SO'!AT110","v":0}]
[null,null,null,null,{"$f":"'NGGT SO'!E111","v":"K rate margin"},null,"annual nominal %",null,null,">",null,null,null,null,null,null,null,null,null,null,null,null,null,null,null,null,null,null,null,null,null,null,null,null,null,null,null,null,null,null,{"$f":"'NGGT SO'!AO111","v":1.15E-2},{"$f":"'NGGT SO'!AP111","v":1.15E-2},{"$f":"'NGGT SO'!AQ111","v":1.15E-2},{"$f":"'NGGT SO'!AR111","v":1.15E-2},{"$f":"'NGGT SO'!AS111","v":1.15E-2},{"$f":"'NGGT SO'!AT111","v":1.15E-2}]
[null,null,null,null,{"$f":"'NGGT SO'!E112","v":"Over/undercollection percentage for penal rate adjustment"},null,"%",null,{"$f":"'NGGT SO'!I112","v":0.06}]
[null,null,null,null,{"$f":"'NGGT SO'!E113","v":"Penal rate proportion"},null,"scalar",{"$f":"'NGGT SO'!H113","v":"SOPRPt"},null,">",null,null,null,null,null,null,null,null,null,null,null,null,null,null,null,null,null,null,null,null,null,null,null,null,null,null,null,null,null,null,{"$f":"'NGGT SO'!AO113","v":1},{"$f":"'NGGT SO'!AP113","v":1},{"$f":"'NGGT SO'!AQ113","v":1},{"$f":"'NGGT SO'!AR113","v":1},{"$f":"'NGGT SO'!AS113","v":1},{"$f":"'NGGT SO'!AT113","v":1}]
[]
[null,null,"TIM and capitalisation"]
[]
[null,null,null,null,"Years from t until normal reporting of actual costs",null,"years",null,{"$f":"'NGGT SO'!I133","v":2}]
[]
[null,null,null,null,"Capitalisation rate",null,"%",null,null,null,null,null,null,null,null,null,null,null,null,null,null,null,null,null,null,null,null,null,null,null,null,null,null,null,null,null,null,null,null,null,null,{"$f":"'NGGT SO'!AP135","v":0.34},{"$f":"'NGGT SO'!AQ135","v":0.34},{"$f":"'NGGT SO'!AR135","v":0.34},{"$f":"'NGGT SO'!AS135","v":0.34},{"$f":"'NGGT SO'!AT135","v":0.34}]
[]
[null,null,null,null,"RIIO-2 Funding Adjustment Rate ('sharing factor')",null,"%",null,{"$f":"'NGGT SO'!I137","v":0.61}]
[]
[null,"Variant allowances detailed calculation"]
[]
[null,null,"Variant allowances summary"]
[]
[null,null,null,null,"Variant allowed non-operational capex",null,"£m 18/19 prices","Non-operational capex",null,null,null,null,null,null,null,null,null,null,null,null,null,null,null,null,null,null,null,null,null,null,null,null,null,null,null,null,null,null,null,null,null,{"$f":"SUMPRODUCT((AP$213:AP$248) * ($H$213:$H$248 = $H204))","v":4.8035715774909757},1.9784520005387369,2.366303217816637,1.1048124729431104,0.84256265290187959]
[null,null,null,null,"Variant allowed controllable opex",null,"£m 18/19 prices","Controllable opex",null,null,null,null,null,null,null,null,null,null,null,null,null,null,null,null,null,null,null,null,null,null,null,null,null,null,null,null,null,null,null,null,null,3.5662393618931332,2.0763666365675282,2.6255538844949688,2.4715143109719069,3.1509749746447318]
[null,null,null,null,"Total",null,"£m 18/19 prices",null,null,null,null,null,null,null,null,null,null,null,null,null,null,null,null,null,null,null,null,null,null,null,null,null,null,null,null,null,null,null,null,null,null,{"$f":"SUM(AP204:AP205)","v":8.3698109393841094},{"$f":"SUM(AQ204:AQ205)","v":4.0548186371062656},4.9918571023116058,3.5763267839150172,3.9935376275466115]
[null,null,null,null,null,null,null,null,null,null,null,null,null,null,null,null,null,null,null,null,null,null,null,null,null,null,null,null,null,null,null,null,null,null,null,null,null,null,null,null,null,{"$f":"SUM(AP204:AP205) - SUM(AP213:AP248)","v":0},{"$f":"SUM(AQ204:AQ205) - SUM(AQ213:AQ248)","v":0},{"$f":"SUM(AR204:AR205) - SUM(AR213:AR248)","v":0},{"$f":"SUM(AS204:AS205) - SUM(AS213:AS248)","v":0},{"$f":"SUM(AT204:AT205) - SUM(AT213:AT248)","v":0}]
[null,null,null,null,null,null,null,null,null,null,null,null,null,null,null,null,null,null,null,null,null,null,null,null,null,null,null,null,null,null,null,null,null,null,null,null,null,null,null,null,null,{"$f":"SUM(AP204:AP205) - AP35","v":0},{"$f":"SUM(AQ204:AQ205) - AQ35","v":0},{"$f":"SUM(AR204:AR205) - AR35","v":0},{"$f":"SUM(AS204:AS205) - AS35","v":0},{"$f":"SUM(AT204:AT205) - AT35","v":0}]
[]
[null,null,"Variant allowances allocation to totex categories"]
[null,null,null,null,null,null,null,null,null,null,null,null,null,null,null,null,null,null,null,null,null,null,null,null,null,null,null,null,null,null,null,null,null,null,null,null,null,null,null,null,null,null,null,null,null,null,null,"Totex allocation percentages:"]
[null,null,null,null,null,null,null,null,null,null,null,null,null,null,null,null,null,null,null,null,null,null,null,null,null,null,null,null,null,null,null,null,null,null,null,null,null,null,null,null,null,null,null,null,null,null,null,"2022-03-31","2023-03-31","2024-03-31","2025-03-31","2026-03-31"]
[null,null,null,null,{"$f":"'NGGT SO'!E141","v":"Funded incremental obligated capacity Price Control Deliverable"},null,"£m 18/19 prices","Non-operational capex",{"$f":"INDEX($I$17:$I$34, MATCH($E213, $E$17:$E$34, 0))","v":"PCD"},null,null,null,null,null,null,null,null,null,null,null,null,null,null,null,null,null,null,null,null,null,null,null,null,null,null,null,null,null,null,null,null,{"$f":"INDEX(AP$17:AP$34, MATCH($E213, $E$17:$E$34, 0)) * AV213","v":0},{"$f":"INDEX(AQ$17:AQ$34, MATCH($E213, $E$17:$E$34, 0)) * AW213","v":0},{"$f":"INDEX(AR$17:AR$34, MATCH($E213, $E$17:$E$34, 0)) * AX213","v":0},{"$f":"INDEX(AS$17:AS$34, MATCH($E213, $E$17:$E$34, 0)) * AY213","v":0},{"$f":"INDEX(AT$17:AT$34, MATCH($E213, $E$17:$E$34, 0)) * AZ213","v":0},null,{"$f":"'NGGT SO'!AP141","v":0},{"$f":"'NGGT SO'!AQ141","v":0},{"$f":"'NGGT SO'!AR141","v":0},{"$f":"'NGGT SO'!AS141","v":0},{"$f":"'NGGT SO'!AT141","v":0},null,null,{"$f":"INDEX(BC$17:BC$34, MATCH($E213, $E$17:$E$34, 0))","v":"TIM"},"RPEs Apply",0,"Fast/Slow Split"]
[null,null,null,null,{"$f":"'NGGT SO'!E142","v":"Funded incremental obligated capacity Price Control Deliverable"},null,"£m 18/19 prices","Controllable opex","PCD",null,null,null,null,null,null,null,null,null,null,null,null,null,null,null,null,null,null,null,null,null,null,null,null,null,null,null,null,null,null,null,null,0,0,0,0,0,null,{"$f":"'NGGT SO'!AP142","v":0},{"$f":"'NGGT SO'!AQ142","v":0},{"$f":"'NGGT SO'!AR142","v":0},{"$f":"'NGGT SO'!AS142","v":0},{"$f":"'NGGT SO'!AT142","v":0},null,null,"TIM","RPEs Apply",0,"Fast/Slow Split"]
[null,null,null,null,{"$f":"'NGGT SO'!E143","v":"Cyber Resilience OT Price Control Deliverable and use it or lose it allowance"},null,"£m 18/19 prices","Non-operational capex","PCD",null,null,null,null,null,null,null,null,null,null,null,null,null,null,null,null,null,null,null,null,null,null,null,null,null,null,null,null,null,null,null,null,0,0,0,0,0,null,{"$f":"'NGGT SO'!AP143","v":0},{"$f":"'NGGT SO'!AQ143","v":0},{"$f":"'NGGT SO'!AR143","v":0},{"$f":"'NGGT SO'!AS143","v":0},{"$f":"'NGGT SO'!AT143","v":0},null,null,"Non-Tim","RPEs Don’t Apply",0,"Fast/Slow Split"]
[null,null,null,null,{"$f":"'NGGT SO'!E144","v":"Cyber Resilience OT Price Control Deliverable and use it or lose it allowance"},null,"£m 18/19 prices","Controllable opex","PCD",null,null,null,null,null,null,null,null,null,null,null,null,null,null,null,null,null,null,null,null,null,null,null,null,null,null,null,null,null,null,null,null,0,0,0,0,0,null,{"$f":"'NGGT SO'!AP144","v":0},{"$f":"'NGGT SO'!AQ144","v":0},{"$f":"'NGGT SO'!AR144","v":0},{"$f":"'NGGT SO'!AS144","v":0},{"$f":"'NGGT SO'!AT144","v":0},null,null,"Non-Tim","RPEs Don’t Apply",0,"Fast/Slow Split"]
[null,null,null,null,{"$f":"'NGGT SO'!E145","v":"Cyber Resilience IT Price Control Deliverable"},null,"£m 18/19 prices","Non-operational capex","PCD",null,null,null,null,null,null,null,null,null,null,null,null,null,null,null,null,null,null,null,null,null,null,null,null,null,null,null,null,null,null,null,null,4.5709077520733024,1.5126296263362369,1.3386081943598425,0,0,null,{"$f":"'NGGT SO'!AP145","v":0.6},{"$f":"'NGGT SO'!AQ145","v":0.6},{"$f":"'NGGT SO'!AR145","v":0.6},{"$f":"'NGGT SO'!AS145","v":0.6},{"$f":"'NGGT SO'!AT145","v":0.6},null,null,"TIM","RPEs Apply",0,"Fast/Slow Split"]
[null,null,null,null,{"$f":"'NGGT SO'!E146","v":"Cyber Resilience IT Price Control Deliverable"},null,"£m 18/19 prices","Controllable opex","PCD",null,null,null,null,null,null,null,null,null,null,null,null,null,null,null,null,null,null,null,null,null,null,null,null,null,null,null,null,null,null,null,null,3.0472718347155352,1.0084197508908248,0.89240546290656175,0,0,null,{"$f":"'NGGT SO'!AP146","v":0.4},{"$f":"'NGGT SO'!AQ146","v":0.4},{"$f":"'NGGT SO'!AR146","v":0.4},{"$f":"'NGGT SO'!AS146","v":0.4},{"$f":"'NGGT SO'!AT146","v":0.4},null,null,"TIM","RPEs Apply",0,"Fast/Slow Split"]
[null,null,null,null,{"$f":"'NGGT SO'!E147","v":"Spare PCD 1"},null,"£m 18/19 prices","Non-operational capex","PCD",null,null,null,null,null,null,null,null,null,null,null,null,null,null,null,null,null,null,null,null,null,null,null,null,null,null,null,null,null,null,null,null,0,0,0,0,0,null,{"$f":"'NGGT SO'!AP147","v":0},{"$f":"'NGGT SO'!AQ147","v":0},{"$f":"'NGGT SO'!AR147","v":0},{"$f":"'NGGT SO'!AS147","v":0},{"$f":"'NGGT SO'!AT147","v":0},null,null,0,0,0,0]
[null,null,null,null,{"$f":"'NGGT SO'!E148","v":"Spare PCD 1"},null,"£m 18/19 prices","Controllable opex","PCD",null,null,null,null,null,null,null,null,null,null,null,null,null,null,null,null,null,null,null,null,null,null,null,null,null,null,null,null,null,null,null,null,0,0,0,0,0,null,{"$f":"'NGGT SO'!AP148","v":0},{"$f":"'NGGT SO'!AQ148","v":0},{"$f":"'NGGT SO'!AR148","v":0},{"$f":"'NGGT SO'!AS148","v":0},{"$f":"'NGGT SO'!AT148","v":0},null,null,0,0,0,0]
[null,null,null,null,{"$f":"'NGGT SO'!E149","v":"Spare PCD 2"},null,"£m 18/19 prices","Non-operational capex","PCD",null,null,null,null,null,null,null,null,null,null,null,null,null,null,null,null,null,null,null,null,null,null,null,null,null,null,null,null,null,null,null,null,0,0,0,0,0,null,{"$f":"'NGGT SO'!AP149","v":0},{"$f":"'NGGT SO'!AQ149","v":0},{"$f":"'NGGT SO'!AR149","v":0},{"$f":"'NGGT SO'!AS149","v":0},{"$f":"'NGGT SO'!AT149","v":0},null,null,0,0,0,0]
[null,null,null,null,{"$f":"'NGGT SO'!E150","v":"Spare PCD 2"},null,"£m 18/19 prices","Controllable opex","PCD",null,null,null,null,null,null,null,null,null,null,null,null,null,null,null,null,null,null,null,null,null,null,null,null,null,null,null,null,null,null,null,null,0,0,0,0,0,null,{"$f":"'NGGT SO'!AP150","v":0},{"$f":"'NGGT SO'!AQ150","v":0},{"$f":"'NGGT SO'!AR150","v":0},{"$f":"'NGGT SO'!AS150","v":0},{"$f":"'NGGT SO'!AT150","v":0},null,null,0,0,0,0]
[null,null,null,null,{"$f":"'NGGT SO'!E151","v":"Spare PCD 3"},null,"£m 18/19 prices","Non-operational capex","PCD",null,null,null,null,null,null,null,null,null,null,null,null,null,null,null,null,null,null,null,null,null,null,null,null,null,null,null,null,null,null,null,null,0,0,0,0,0,null,{"$f":"'NGGT SO'!AP151","v":0},{"$f":"'NGGT SO'!AQ151","v":0},{"$f":"'NGGT SO'!AR151","v":0},{"$f":"'NGGT SO'!AS151","v":0},{"$f":"'NGGT SO'!AT151","v":0},null,null,0,0,0,0]
[null,null,null,null,{"$f":"'NGGT SO'!E152","v":"Spare PCD 3"},null,"£m 18/19 prices","Controllable opex","PCD",null,null,null,null,null,null,null,null,null,null,null,null,null,null,null,null,null,null,null,null,null,null,null,null,null,null,null,null,null,null,null,null,0,0,0,0,0,null,{"$f":"'NGGT SO'!AP152","v":0},{"$f":"'NGGT SO'!AQ152","v":0},{"$f":"'NGGT SO'!AR152","v":0},{"$f":"'NGGT SO'!AS152","v":0},{"$f":"'NGGT SO'!AT152","v":0},null,null,0,0,0,0]
[null,null,null,null,{"$f":"'NGGT SO'!E153","v":"Non-operational IT Capex Re-opener"},null,"£m 18/19 prices","Non-operational capex","UM",null,null,null,null,null,null,null,null,null,null,null,null,null,null,null,null,null,null,null,null,null,null,null,null,null,null,null,null,null,null,null,null,0,0,0,0,0,null,{"$f":"'NGGT SO'!AP153","v":0},{"$f":"'NGGT SO'!AQ153","v":0},{"$f":"'NGGT SO'!AR153","v":0},{"$f":"'NGGT SO'!AS153","v":0},{"$f":"'NGGT SO'!AT153","v":0},null,null,"TIM","RPEs Don’t Apply",0,"Fast/Slow Split"]
[null,null,null,null,{"$f":"'NGGT SO'!E154","v":"Non-operational IT Capex Re-opener"},null,"£m 18/19 prices","Controllable opex","UM",null,null,null,null,null,null,null,null,null,null,null,null,null,null,null,null,null,null,null,null,null,null,null,null,null,null,null,null,null,null,null,null,0,0,0,0,0,null,{"$f":"'NGGT SO'!AP154","v":0},{"$f":"'NGGT SO'!AQ154","v":0},{"$f":"'NGGT SO'!AR154","v":0},{"$f":"'NGGT SO'!AS154","v":0},{"$f":"'NGGT SO'!AT154","v":0},null,null,"TIM","RPEs Don’t Apply",0,"Fast/Slow Split"]
[null,null,null,null,{"$f":"'NGGT SO'!E155","v":"Net zero Re-opener"},null,"£m 18/19 prices","Non-operational capex","UM",null,null,null,null,null,null,null,null,null,null,null,null,null,null,null,null,null,null,null,null,null,null,null,null,null,null,null,null,null,null,null,null,0,0,0,0,0,null,{"$f":"'NGGT SO'!AP155","v":0},{"$f":"'NGGT SO'!AQ155","v":0},{"$f":"'NGGT SO'!AR155","v":0},{"$f":"'NGGT SO'!AS155","v":0},{"$f":"'NGGT SO'!AT155","v":0},null,null,"TIM","RPEs Don’t Apply",0,"Fast/Slow Split"]
[null,null,null,null,{"$f":"'NGGT SO'!E156","v":"Net zero Re-opener"},null,"£m 18/19 prices","Controllable opex","UM",null,null,null,null,null,null,null,null,null,null,null,null,null,null,null,null,null,null,null,null,null,null,null,null,null,null,null,null,null,null,null,null,0,0,0,0,0,null,{"$f":"'NGGT SO'!AP156","v":0},{"$f":"'NGGT SO'!AQ156","v":0},{"$f":"'NGGT SO'!AR156","v":0},{"$f":"'NGGT SO'!AS156","v":0},{"$f":"'NGGT SO'!AT156","v":0},null,null,"TIM","RPEs Don’t Apply",0,"Fast/Slow Split"]
[null,null,null,null,{"$f":"'NGGT SO'!E157","v":"Cyber Resilience OT Re-Opener"},null,"£m 18/19 prices","Non-operational capex","UM",null,null,null,null,null,null,null,null,null,null,null,null,null,null,null,null,null,null,null,null,null,null,null,null,null,null,null,null,null,null,null,null,0,0,0,0,0,null,{"$f":"'NGGT SO'!AP157","v":0},{"$f":"'NGGT SO'!AQ157","v":0},{"$f":"'NGGT SO'!AR157","v":0},{"$f":"'NGGT SO'!AS157","v":0},{"$f":"'NGGT SO'!AT157","v":0},null,null,"TIM","RPEs Don’t Apply",0,"Fast/Slow Split"]
[null,null,null,null,{"$f":"'NGGT SO'!E158","v":"Cyber Resilience OT Re-Opener"},null,"£m 18/19 prices","Controllable opex","UM",null,null,null,null,null,null,null,null,null,null,null,null,null,null,null,null,null,null,null,null,null,null,null,null,null,null,null,null,null,null,null,null,0,0,0,0,0,null,{"$f":"'NGGT SO'!AP158","v":0},{"$f":"'NGGT SO'!AQ158","v":0},{"$f":"'NGGT SO'!AR158","v":0},{"$f":"'NGGT SO'!AS158","v":0},{"$f":"'NGGT SO'!AT158","v":0},null,null,"TIM","RPEs Don’t Apply",0,"Fast/Slow Split"]
[null,null,null,null,{"$f":"'NGGT SO'!E159","v":"Cyber Resilience IT Re-Opener"},null,"£m 18/19 prices","Non-operational capex","UM",null,null,null,null,null,null,null,null,null,null,null,null,null,null,null,null,null,null,null,null,null,null,null,null,null,null,null,null,null,null,null,null,0,0,0,0,0,null,{"$f":"'NGGT SO'!AP159","v":0},{"$f":"'NGGT SO'!AQ159","v":0},{"$f":"'NGGT SO'!AR159","v":0},{"$f":"'NGGT SO'!AS159","v":0},{"$f":"'NGGT SO'!AT159","v":0},null,null,"Non-Tim","RPEs Don’t Apply",0,"Fast/Slow Split"]
[null,null,null,null,{"$f":"'NGGT SO'!E160","v":"Cyber Resilience IT Re-Opener"},null,"£m 18/19 prices","Controllable opex","UM",null,null,null,null,null,null,null,null,null,null,null,null,null,null,null,null,null,null,null,null,null,null,null,null,null,null,null,null,null,null,null,null,0,0,0,0,0,null,{"$f":"'NGGT SO'!AP160","v":0},{"$f":"'NGGT SO'!AQ160","v":0},{"$f":"'NGGT SO'!AR160","v":0},{"$f":"'NGGT SO'!AS160","v":0},{"$f":"'NGGT SO'!AT160","v":0},null,null,"Non-Tim","RPEs Don’t Apply",0,"Fast/Slow Split"]
[null,null,null,null,{"$f":"'NGGT SO'!E161","v":"Funded incremental obligated capacity Re-Opener"},null,"£m 18/19 prices","Non-operational capex","UM",null,null,null,null,null,null,null,null,null,null,null,null,null,null,null,null,null,null,null,null,null,null,null,null,null,null,null,null,null,null,null,null,0,0,0,0,0,null,{"$f":"'NGGT SO'!AP161","v":0.6},{"$f":"'NGGT SO'!AQ161","v":0.6},{"$f":"'NGGT SO'!AR161","v":0.6},{"$f":"'NGGT SO'!AS161","v":0.6},{"$f":"'NGGT SO'!AT161","v":0.6},null,null,{"$f":"INDEX(BC$17:BC$34, MATCH($E233, $E$17:$E$34, 0))","v":"TIM"},"RPEs Don’t Apply",0,"Fast/Slow Split"]
[null,null,null,null,{"$f":"'NGGT SO'!E162","v":"Funded incremental obligated capacity Re-Opener"},null,"£m 18/19 prices","Controllable opex","UM",null,null,null,null,null,null,null,null,null,null,null,null,null,null,null,null,null,null,null,null,null,null,null,null,null,null,null,null,null,null,null,null,0,0,0,0,0,null,{"$f":"'NGGT SO'!AP162","v":0.4},{"$f":"'NGGT SO'!AQ162","v":0.4},{"$f":"'NGGT SO'!AR162","v":0.4},{"$f":"'NGGT SO'!AS162","v":0.4},{"$f":"'NGGT SO'!AT162","v":0.4},null,null,"TIM","RPEs Don’t Apply",0,"Fast/Slow Split"]
[null,null,null,null,{"$f":"'NGGT SO'!E163","v":"Opex Escalator"},null,"£m 18/19 prices","Non-operational capex","UM",null,null,null,null,null,null,null,null,null,null,null,null,null,null,null,null,null,null,null,null,null,null,null,null,null,null,null,null,null,null,null,null,0,0,0,0,0,null,{"$f":"'NGGT SO'!AP163","v":0},{"$f":"'NGGT SO'!AQ163","v":0},{"$f":"'NGGT SO'!AR163","v":0},{"$f":"'NGGT SO'!AS163","v":0},{"$f":"'NGGT SO'!AT163","v":0},null,null,"TIM","RPEs Don’t Apply",0,"Fast/Slow Split"]
[null,null,null,null,{"$f":"'NGGT SO'!E164","v":"Opex Escalator"},null,"£m 18/19 prices","Controllable opex","UM",null,null,null,null,null,null,null,null,null,null,null,null,null,null,null,null,null,null,null,null,null,null,null,null,null,null,null,null,null,null,null,null,0,0,0,0,0,null,{"$f":"'NGGT SO'!AP164","v":0},{"$f":"'NGGT SO'!AQ164","v":0},{"$f":"'NGGT SO'!AR164","v":0},{"$f":"'NGGT SO'!AS164","v":0},{"$f":"'NGGT SO'!AT164","v":0},null,null,"TIM","RPEs Don’t Apply",0,"Fast/Slow Split"]
[null,null,null,null,{"$f":"'NGGT SO'!E165","v":"Spare UM 1"},null,"£m 18/19 prices","Non-operational capex","UM",null,null,null,null,null,null,null,null,null,null,null,null,null,null,null,null,null,null,null,null,null,null,null,null,null,null,null,null,null,null,null,null,0,0,0,0,0,null,{"$f":"'NGGT SO'!AP165","v":0},{"$f":"'NGGT SO'!AQ165","v":0},{"$f":"'NGGT SO'!AR165","v":0},{"$f":"'NGGT SO'!AS165","v":0},{"$f":"'NGGT SO'!AT165","v":0},null,null,0,0,0,0]
[null,null,null,null,{"$f":"'NGGT SO'!E166","v":"Spare UM 1"},null,"£m 18/19 prices","Controllable opex","UM",null,null,null,null,null,null,null,null,null,null,null,null,null,null,null,null,null,null,null,null,null,null,null,null,null,null,null,null,null,null,null,null,0,0,0,0,0,null,{"$f":"'NGGT SO'!AP166","v":0},{"$f":"'NGGT SO'!AQ166","v":0},{"$f":"'NGGT SO'!AR166","v":0},{"$f":"'NGGT SO'!AS166","v":0},{"$f":"'NGGT SO'!AT166","v":0},null,null,0,0,0,0]
[null,null,null,null,{"$f":"'NGGT SO'!E167","v":"Spare UM 2"},null,"£m 18/19 prices","Non-operational capex","UM",null,null,null,null,null,null,null,null,null,null,null,null,null,null,null,null,null,null,null,null,null,null,null,null,null,null,null,null,null,null,null,null,0,0,0,0,0,null,{"$f":"'NGGT SO'!AP167","v":0},{"$f":"'NGGT SO'!AQ167","v":0},{"$f":"'NGGT SO'!AR167","v":0},{"$f":"'NGGT SO'!AS167","v":0},{"$f":"'NGGT SO'!AT167","v":0},null,null,0,0,0,0]
[null,null,null,null,{"$f":"'NGGT SO'!E168","v":"Spare UM 2"},null,"£m 18/19 prices","Controllable opex","UM",null,null,null,null,null,null,null,null,null,null,null,null,null,null,null,null,null,null,null,null,null,null,null,null,null,null,null,null,null,null,null,null,0,0,0,0,0,null,{"$f":"'NGGT SO'!AP168","v":0},{"$f":"'NGGT SO'!AQ168","v":0},{"$f":"'NGGT SO'!AR168","v":0},{"$f":"'NGGT SO'!AS168","v":0},{"$f":"'NGGT SO'!AT168","v":0},null,null,0,0,0,0]
[null,null,null,null,{"$f":"'NGGT SO'!E169","v":"Spare UM 3"},null,"£m 18/19 prices","Non-operational capex","UM",null,null,null,null,null,null,null,null,null,null,null,null,null,null,null,null,null,null,null,null,null,null,null,null,null,null,null,null,null,null,null,null,0,0,0,0,0,null,{"$f":"'NGGT SO'!AP169","v":0},{"$f":"'NGGT SO'!AQ169","v":0},{"$f":"'NGGT SO'!AR169","v":0},{"$f":"'NGGT SO'!AS169","v":0},{"$f":"'NGGT SO'!AT169","v":0},null,null,0,0,0,0]
[null,null,null,null,{"$f":"'NGGT SO'!E170","v":"Spare UM 3"},null,"£m 18/19 prices","Controllable opex","UM",null,null,null,null,null,null,null,null,null,null,null,null,null,null,null,null,null,null,null,null,null,null,null,null,null,null,null,null,null,null,null,null,0,0,0,0,0,null,{"$f":"'NGGT SO'!AP170","v":0},{"$f":"'NGGT SO'!AQ170","v":0},{"$f":"'NGGT SO'!AR170","v":0},{"$f":"'NGGT SO'!AS170","v":0},{"$f":"'NGGT SO'!AT170","v":0},null,null,0,0,0,0]
[null,null,null,null,"RPE non-variant allowances",null,"£m 18/19 prices","Non-operational capex","UM",null,null,null,null,null,null,null,null,null,null,null,null,null,null,null,null,null,null,null,null,null,null,null,null,null,null,null,null,null,null,null,null,{"$f":"AP10 * (AP$148 - 1)","v":0.19505870314447743},0.43930117128535562,0.9890285260392323,1.1048124729431104,0.84256265290187959,null,{"$f":"IF(SUMPRODUCT((AP$243:AP$248) * ($E$243:$E$248 = $E243)) = 0, 0, AP243 / SUMPRODUCT((AP$243:AP$248) * ($E$243:$E$248 = $E243)))","v":0.28312208764280877},{"$f":"IF(SUMPRODUCT((AQ$243:AQ$248) * ($E$243:$E$248 = $E243)) = 0, 0, AQ243 / SUMPRODUCT((AQ$243:AQ$248) * ($E$243:$E$248 = $E243)))","v":0.29491865493529168},{"$f":"IF(SUMPRODUCT((AR$243:AR$248) * ($E$243:$E$248 = $E243)) = 0, 0, AR243 / SUMPRODUCT((AR$243:AR$248) * ($E$243:$E$248 = $E243)))","v":0.36679602030425773},{"$f":"IF(SUMPRODUCT((AS$243:AS$248) * ($E$243:$E$248 = $E243)) = 0, 0, AS243 / SUMPRODUCT((AS$243:AS$248) * ($E$243:$E$248 = $E243)))","v":0.30892380358309102},{"$f":"IF(SUMPRODUCT((AT$243:AT$248) * ($E$243:$E$248 = $E243)) = 0, 0, AT243 / SUMPRODUCT((AT$243:AT$248) * ($E$243:$E$248 = $E243)))","v":0.2109815235219154},null,null,"TIM",0,0,"Fast/Slow Split"]
[null,null,null,null,"RPE non-variant allowances",null,"£m 18/19 prices","Controllable opex","UM",null,null,null,null,null,null,null,null,null,null,null,null,null,null,null,null,null,null,null,null,null,null,null,null,null,null,null,null,null,null,null,null,0.49389744566213389,1.0502660837319406,1.7073707566433658,2.4715143109719069,3.1509749746447318,null,{"$f":"IF(SUMPRODUCT((AP$243:AP$248) * ($E$243:$E$248 = $E244)) = 0, 0, AP244 / SUMPRODUCT((AP$243:AP$248) * ($E$243:$E$248 = $E244)))","v":0.71687791235719112},{"$f":"IF(SUMPRODUCT((AQ$243:AQ$248) * ($E$243:$E$248 = $E244)) = 0, 0, AQ244 / SUMPRODUCT((AQ$243:AQ$248) * ($E$243:$E$248 = $E244)))","v":0.70508134506470832},{"$f":"IF(SUMPRODUCT((AR$243:AR$248) * ($E$243:$E$248 = $E244)) = 0, 0, AR244 / SUMPRODUCT((AR$243:AR$248) * ($E$243:$E$248 = $E244)))","v":0.63320397969574227},{"$f":"IF(SUMPRODUCT((AS$243:AS$248) * ($E$243:$E$248 = $E244)) = 0, 0, AS244 / SUMPRODUCT((AS$243:AS$248) * ($E$243:$E$248 = $E244)))","v":0.69107619641690898},{"$f":"IF(SUMPRODUCT((AT$243:AT$248) * ($E$243:$E$248 = $E244)) = 0, 0, AT244 / SUMPRODUCT((AT$243:AT$248) * ($E$243:$E$248 = $E244)))","v":0.78901847647808454},null,null,"TIM",0,0,"Fast/Slow Split"]
[null,null,null,null,"RPE PCDs",null,"£m 18/19 prices","Non-operational capex","UM",null,null,null,null,null,null,null,null,null,null,null,null,null,null,null,null,null,null,null,null,null,null,null,null,null,null,null,null,null,null,null,null,{"$f":"SUMPRODUCT((AP$213:AP$242) * ($H$213:$H$242 = $H245) * ($BD$213:$BD$242 = \"RPEs Apply\") * ($I$213:$I$242 = \"PCD\")) * (AP$148 - 1)","v":3.7605122273196345E-2},{"$f":"SUMPRODUCT((AQ$213:AQ$242) * ($H$213:$H$242 = $H245) * ($BD$213:$BD$242 = \"RPEs Apply\") * ($I$213:$I$242 = \"PCD\")) * (AQ$148 - 1)","v":2.6521202917144528E-2},{"$f":"SUMPRODUCT((AR$213:AR$242) * ($H$213:$H$242 = $H245) * ($BD$213:$BD$242 = \"RPEs Apply\") * ($I$213:$I$242 = \"PCD\")) * (AR$148 - 1)","v":3.866649741756218E-2},{"$f":"SUMPRODUCT((AS$213:AS$242) * ($H$213:$H$242 = $H245) * ($BD$213:$BD$242 = \"RPEs Apply\") * ($I$213:$I$242 = \"PCD\")) * (AS$148 - 1)","v":0},{"$f":"SUMPRODUCT((AT$213:AT$242) * ($H$213:$H$242 = $H245) * ($BD$213:$BD$242 = \"RPEs Apply\") * ($I$213:$I$242 = \"PCD\")) * (AT$148 - 1)","v":0},null,{"$f":"IF(SUMPRODUCT((AP$243:AP$248) * ($E$243:$E$248 = $E245)) = 0, 0, AP245 / SUMPRODUCT((AP$243:AP$248) * ($E$243:$E$248 = $E245)))","v":0.6},{"$f":"IF(SUMPRODUCT((AQ$243:AQ$248) * ($E$243:$E$248 = $E245)) = 0, 0, AQ245 / SUMPRODUCT((AQ$243:AQ$248) * ($E$243:$E$248 = $E245)))","v":0.6},{"$f":"IF(SUMPRODUCT((AR$243:AR$248) * ($E$243:$E$248 = $E245)) = 0, 0, AR245 / SUMPRODUCT((AR$243:AR$248) * ($E$243:$E$248 = $E245)))","v":0.6},{"$f":"IF(SUMPRODUCT((AS$243:AS$248) * ($E$243:$E$248 = $E245)) = 0, 0, AS245 / SUMPRODUCT((AS$243:AS$248) * ($E$243:$E$248 = $E245)))","v":0},{"$f":"IF(SUMPRODUCT((AT$243:AT$248) * ($E$243:$E$248 = $E245)) = 0, 0, AT245 / SUMPRODUCT((AT$243:AT$248) * ($E$243:$E$248 = $E245)))","v":0},null,null,"TIM",0,0,"Fast/Slow Split"]
[null,null,null,null,"RPE PCDs",null,"£m 18/19 prices","Controllable opex","UM",null,null,null,null,null,null,null,null,null,null,null,null,null,null,null,null,null,null,null,null,null,null,null,null,null,null,null,null,null,null,null,null,{"$f":"SUMPRODUCT((AP$213:AP$242) * ($H$213:$H$242 = $H246) * ($BD$213:$BD$242 = \"RPEs Apply\") * ($I$213:$I$242 = \"PCD\")) * (AP$148 - 1)","v":2.5070081515464235E-2},{"$f":"SUMPRODUCT((AQ$213:AQ$242) * ($H$213:$H$242 = $H246) * ($BD$213:$BD$242 = \"RPEs Apply\") * ($I$213:$I$242 = \"PCD\")) * (AQ$148 - 1)","v":1.7680801944763024E-2},{"$f":"SUMPRODUCT((AR$213:AR$242) * ($H$213:$H$242 = $H246) * ($BD$213:$BD$242 = \"RPEs Apply\") * ($I$213:$I$242 = \"PCD\")) * (AR$148 - 1)","v":2.5777664945041457E-2},{"$f":"SUMPRODUCT((AS$213:AS$242) * ($H$213:$H$242 = $H246) * ($BD$213:$BD$242 = \"RPEs Apply\") * ($I$213:$I$242 = \"PCD\")) * (AS$148 - 1)","v":0},{"$f":"SUMPRODUCT((AT$213:AT$242) * ($H$213:$H$242 = $H246) * ($BD$213:$BD$242 = \"RPEs Apply\") * ($I$213:$I$242 = \"PCD\")) * (AT$148 - 1)","v":0},null,{"$f":"IF(SUMPRODUCT((AP$243:AP$248) * ($E$243:$E$248 = $E246)) = 0, 0, AP246 / SUMPRODUCT((AP$243:AP$248) * ($E$243:$E$248 = $E246)))","v":0.4},{"$f":"IF(SUMPRODUCT((AQ$243:AQ$248) * ($E$243:$E$248 = $E246)) = 0, 0, AQ246 / SUMPRODUCT((AQ$243:AQ$248) * ($E$243:$E$248 = $E246)))","v":0.40000000000000013},{"$f":"IF(SUMPRODUCT((AR$243:AR$248) * ($E$243:$E$248 = $E246)) = 0, 0, AR246 / SUMPRODUCT((AR$243:AR$248) * ($E$243:$E$248 = $E246)))","v":0.4},{"$f":"IF(SUMPRODUCT((AS$243:AS$248) * ($E$243:$E$248 = $E246)) = 0, 0, AS246 / SUMPRODUCT((AS$243:AS$248) * ($E$243:$E$248 = $E246)))","v":0},{"$f":"IF(SUMPRODUCT((AT$243:AT$248) * ($E$243:$E$248 = $E246)) = 0, 0, AT246 / SUMPRODUCT((AT$243:AT$248) * ($E$243:$E$248 = $E246)))","v":0},null,null,"TIM",0,0,"Fast/Slow Split"]
[null,null,null,null,"RPE UMs",null,"£m 18/19 prices","Non-operational capex","UM",null,null,null,null,null,null,null,null,null,null,null,null,null,null,null,null,null,null,null,null,null,null,null,null,null,null,null,null,null,null,null,null,{"$f":"SUMPRODUCT((AP$213:AP$242) * ($H$213:$H$242 = $H247) * ($BD$213:$BD$242 = \"RPEs Apply\") * ($I$213:$I$242 = \"UM\")) * (AP$148 - 1)","v":0},{"$f":"SUMPRODUCT((AQ$213:AQ$242) * ($H$213:$H$242 = $H247) * ($BD$213:$BD$242 = \"RPEs Apply\") * ($I$213:$I$242 = \"UM\")) * (AQ$148 - 1)","v":0},{"$f":"SUMPRODUCT((AR$213:AR$242) * ($H$213:$H$242 = $H247) * ($BD$213:$BD$242 = \"RPEs Apply\") * ($I$213:$I$242 = \"UM\")) * (AR$148 - 1)","v":0},{"$f":"SUMPRODUCT((AS$213:AS$242) * ($H$213:$H$242 = $H247) * ($BD$213:$BD$242 = \"RPEs Apply\") * ($I$213:$I$242 = \"UM\")) * (AS$148 - 1)","v":0},{"$f":"SUMPRODUCT((AT$213:AT$242) * ($H$213:$H$242 = $H247) * ($BD$213:$BD$242 = \"RPEs Apply\") * ($I$213:$I$242 = \"UM\")) * (AT$148 - 1)","v":0},null,{"$f":"IF(SUMPRODUCT((AP$243:AP$248) * ($E$243:$E$248 = $E247)) = 0, 0, AP247 / SUMPRODUCT((AP$243:AP$248) * ($E$243:$E$248 = $E247)))","v":0},{"$f":"IF(SUMPRODUCT((AQ$243:AQ$248) * ($E$243:$E$248 = $E247)) = 0, 0, AQ247 / SUMPRODUCT((AQ$243:AQ$248) * ($E$243:$E$248 = $E247)))","v":0},{"$f":"IF(SUMPRODUCT((AR$243:AR$248) * ($E$243:$E$248 = $E247)) = 0, 0, AR247 / SUMPRODUCT((AR$243:AR$248) * ($E$243:$E$248 = $E247)))","v":0},{"$f":"IF(SUMPRODUCT((AS$243:AS$248) * ($E$243:$E$248 = $E247)) = 0, 0, AS247 / SUMPRODUCT((AS$243:AS$248) * ($E$243:$E$248 = $E247)))","v":0},{"$f":"IF(SUMPRODUCT((AT$243:AT$248) * ($E$243:$E$248 = $E247)) = 0, 0, AT247 / SUMPRODUCT((AT$243:AT$248) * ($E$243:$E$248 = $E247)))","v":0},null,null,"TIM",0,0,"Fast/Slow Split"]
[null,null,null,null,"RPE UMs",null,"£m 18/19 prices","Controllable opex","UM",null,null,null,null,null,null,null,null,null,null,null,null,null,null,null,null,null,null,null,null,null,null,null,null,null,null,null,null,null,null,null,null,{"$f":"SUMPRODUCT((AP$213:AP$242) * ($H$213:$H$242 = $H248) * ($BD$213:$BD$242 = \"RPEs Apply\") * ($I$213:$I$242 = \"UM\")) * (AP$148 - 1)","v":0},{"$f":"SUMPRODUCT((AQ$213:AQ$242) * ($H$213:$H$242 = $H248) * ($BD$213:$BD$242 = \"RPEs Apply\") * ($I$213:$I$242 = \"UM\")) * (AQ$148 - 1)","v":0},{"$f":"SUMPRODUCT((AR$213:AR$242) * ($H$213:$H$242 = $H248) * ($BD$213:$BD$242 = \"RPEs Apply\") * ($I$213:$I$242 = \"UM\")) * (AR$148 - 1)","v":0},{"$f":"SUMPRODUCT((AS$213:AS$242) * ($H$213:$H$242 = $H248) * ($BD$213:$BD$242 = \"RPEs Apply\") * ($I$213:$I$242 = \"UM\")) * (AS$148 - 1)","v":0},{"$f":"SUMPRODUCT((AT$213:AT$242) * ($H$213:$H$242 = $H248) * ($BD$213:$BD$242 = \"RPEs Apply\") * ($I$213:$I$242 = \"UM\")) * (AT$148 - 1)","v":0},null,{"$f":"IF(SUMPRODUCT((AP$243:AP$248) * ($E$243:$E$248 = $E248)) = 0, 0, AP248 / SUMPRODUCT((AP$243:AP$248) * ($E$243:$E$248 = $E248)))","v":0},{"$f":"IF(SUMPRODUCT((AQ$243:AQ$248) * ($E$243:$E$248 = $E248)) = 0, 0, AQ248 / SUMPRODUCT((AQ$243:AQ$248) * ($E$243:$E$248 = $E248)))","v":0},{"$f":"IF(SUMPRODUCT((AR$243:AR$248) * ($E$243:$E$248 = $E248)) = 0, 0, AR248 / SUMPRODUCT((AR$243:AR$248) * ($E$243:$E$248 = $E248)))","v":0},{"$f":"IF(SUMPRODUCT((AS$243:AS$248) * ($E$243:$E$248 = $E248)) = 0, 0, AS248 / SUMPRODUCT((AS$243:AS$248) * ($E$243:$E$248 = $E248)))","v":0},{"$f":"IF(SUMPRODUCT((AT$243:AT$248) * ($E$243:$E$248 = $E248)) = 0, 0, AT248 / SUMPRODUCT((AT$243:AT$248) * ($E$243:$E$248 = $E248)))","v":0},null,null,"TIM",0,0,"Fast/Slow Split"]
[]
[null,"RAV and assets"]
[]
[null,null,null,null,"Post-vesting asset life",null,"years",null,{"$f":"'NGGT SO'!I183","v":7}]
[null,null,null,null,"Pre-RIIO net additions to RAV",null,"£m 18/19 prices",null,null,">",null,null,null,null,null,null,null,null,null,null,null,null,{"$f":"'NGGT SO'!W184","v":0},{"$f":"'NGGT SO'!X184","v":0},{"$f":"'NGGT SO'!Y184","v":0},{"$f":"'NGGT SO'!Z184","v":0},{"$f":"'NGGT SO'!AA184","v":0},{"$f":"'NGGT SO'!AB184","v":14.419946009279345},{"$f":"'NGGT SO'!AC184","v":9.9877761058030643},{"$f":"'NGGT SO'!AD184","v":13.298360794320898},{"$f":"'NGGT SO'!AE184","v":12.085386055783017},{"$f":"'NGGT SO'!AF184","v":15.19536401925459},{"$f":"'NGGT SO'!AG184","v":31.934742127575522}]
[null,null,null,null,{"$f":"'NGGT SO'!E70","v":"System Operator legacy net RAV additions"},null,"£m 18/19 prices",{"$f":"'NGGT SO'!H70","v":"SOLRAVt"},null,">",null,null,null,null,null,null,null,null,null,null,null,null,null,null,null,null,null,null,null,null,null,null,null,{"$f":"'NGGT SO'!AH70","v":33.613516461402909},{"$f":"'NGGT SO'!AI70","v":37.297896277174495},{"$f":"'NGGT SO'!AJ70","v":39.825586569626246},{"$f":"'NGGT SO'!AK70","v":37.859294684671077},{"$f":"'NGGT SO'!AL70","v":34.931206132038099},{"$f":"'NGGT SO'!AM70","v":37.571292525416673},{"$f":"'NGGT SO'!AN70","v":38.752613646599258},{"$f":"'NGGT SO'!AO70","v":36.479097119731861}]
[]
[null,"Totex"]
[]
[null,null,"Actual totex"]
[]
[null,null,null,"Source of actuals"]
[null,null,null,"Note: The model assumes that there is a time lag from year t until actual expenditure data becomes available for the model. After the lag, actual expenditure inputs are used. Up to that point the model generates a forecast actual expenditure."]
[null,null,null,"When required in the model, forecasts assume that actuals are equal to their corresponding allowance."]
[null,null,null,"In a year where actual totex is assumed to be available, values must be inputted to the model as it will not generate a forecast and the empty input cell will be read as an actual spend of zero."]
[]
[null,null,null,null,"Years from t until normal reporting of actual costs",null,"years",null,{"$f":"I194","v":2}]
[null,null,null,null,"Historic totex",null,"text",null,null,null,null,null,null,null,null,null,null,null,null,null,null,null,null,null,null,null,null,null,null,null,null,null,null,null,null,null,null,null,null,null,null,{"$f":"(YEAR($I$4) >= YEAR(AP$4) + $I265)","v":false},{"$f":"(YEAR($I$4) >= YEAR(AQ$4) + $I265)","v":false},false,false,false]
[null,null,null,null,"Forecasted totex",null,"text",null,null,null,null,null,null,null,null,null,null,null,null,null,null,null,null,null,null,null,null,null,null,null,null,null,null,null,null,null,null,null,null,null,null,{"$f":"IF(AP266, FALSE, TRUE)","v":true},true,true,true,true]
[]
[null,null,null,"Totex applied"]
[null,null,null,"Note: Actuals are exported both to identify performance against the allowance and to generate writing down allowances used in the tax calculation."]
[]
[null,null,null,null,"Actual non-operational capex",null,"£m 18/19 prices",null,null,">",null,null,null,null,null,null,null,null,null,null,null,null,null,null,null,null,null,null,null,null,null,null,null,{"$f":"AH39","v":23.259791086948155},35.830737751191549,46.961025375930973,35.218235972302288,27.256786420412368,32.702705495699988,36.632634725485502,27.09251651657442,28.512983604797579,27.033875340363011,36.60580712515614,27.829170575314308,16.583124184465422]
[null,null,null,null,"Actual controllable opex",null,"£m 18/19 prices",null,null,">",null,null,null,null,null,null,null,null,null,null,null,null,null,null,null,null,null,null,null,null,null,null,null,{"$f":"AH40","v":54.759176193711845},61.08685194790602,62.559006628075764,63.037854641256736,61.830121751653557,61.616873910457514,62.376419886269751,67.173188756102434,63.59954138669103,61.978008306149675,61.733583788830387,62.255084029006319,62.016764126336703]
[null,null,null,null,"Actual totex",null,"£m 18/19 prices",null,null,">",null,null,null,null,null,null,null,null,null,null,null,null,null,null,null,null,null,null,null,null,null,null,null,{"$f":"SUM(AH272:AH273)","v":78.018967280660007},96.917589699097562,109.52003200400674,98.256090613559024,89.086908172065932,94.319579406157501,99.009054611755261,94.265705272676854,{"$f":"SUM(AP272:AP273)","v":92.112524991488613},89.011883646512686,98.339390913986534,90.08425460432062,78.599888310802129]
[]
[null,"TIM"]
[]
[null,null,"Post-TIM overspend (underspend)"]
[null,null,"Note: Totex overspend (underspend) is identified and subject to the \"efficiency incentive rate.\""]
[]
[null,null,null,null,"Actual totex",null,"£m 18/19 prices",null,null,null,null,null,null,null,null,null,null,null,null,null,null,null,null,null,null,null,null,null,null,null,null,null,null,null,null,null,null,null,null,null,null,{"$f":"AP274","v":92.112524991488613},{"$f":"AQ274","v":89.011883646512686},{"$f":"AR274","v":98.339390913986534},{"$f":"AS274","v":90.08425460432062},{"$f":"AT274","v":78.599888310802129}]
[null,null,null,null,"Less allowed totex",null,"£m 18/19 prices",null,null,null,null,null,null,null,null,null,null,null,null,null,null,null,null,null,null,null,null,null,null,null,null,null,null,null,null,null,null,null,null,null,null,{"$f":" - SUM(AP12, AP35)","v":-92.112524991488598},{"$f":" - SUM(AQ12, AQ35)","v":-89.011883646512686},{"$f":" - SUM(AR12, AR35)","v":-98.339390913986534},{"$f":" - SUM(AS12, AS35)","v":-90.084254604320634},{"$f":" - SUM(AT12, AT35)","v":-78.599888310802129}]
[null,null,null,null,"Pre-TIM overspend (underspend)",null,"£m 18/19 prices",null,null,null,null,null,null,null,null,null,null,null,null,null,null,null,null,null,null,null,null,null,null,null,null,null,null,null,null,null,null,null,null,null,null,{"$f":"SUM(AP281:AP282)","v":0},0,0,0,0]
[]
[null,null,null,null,"Funding Adjustment Rate (often referred to as 'sharing factor')",null,"%",null,null,null,null,null,null,null,null,null,null,null,null,null,null,null,null,null,null,null,null,null,null,null,null,null,null,null,null,null,null,null,null,null,null,{"$f":"$I$198","v":0.61},{"$f":"$I$198","v":0.61},{"$f":"$I$198","v":0.61},{"$f":"$I$198","v":0.61},{"$f":"$I$198","v":0.61}]
[]
[null,null,null,null,"Post-TIM overspend (underspend)",null,"£m 18/19 prices",null,null,null,null,null,null,null,null,null,null,null,null,null,null,null,null,null,null,null,null,null,null,null,null,null,null,null,null,null,null,null,null,null,null,{"$f":"AP$285 * AP283","v":0},0,0,0,0]
[]
[null,null,"Post-TIM totex"]
[null,null,"Note: \"Post-TIM overspend (underspend)\" is added to the allowed totex value to give the Post-TIM totex allowance to be split into fast and slow money."]
[]
[null,null,null,null,"Allowed totex",null,"£m 18/19 prices",null,null,null,null,null,null,null,null,null,null,null,null,null,null,null,null,null,null,null,null,null,null,null,null,null,null,null,null,null,null,null,null,null,null,{"$f":"-AP282","v":92.112524991488598},89.011883646512686,98.339390913986534,90.084254604320634,78.599888310802129]
[null,null,null,null,"Post-TIM overspend (underspend)",null,"£m 18/19 prices",null,null,null,null,null,null,null,null,null,null,null,null,null,null,null,null,null,null,null,null,null,null,null,null,null,null,null,null,null,null,null,null,null,null,{"$f":"AP287","v":0},0,0,0,0]
[null,null,null,null,"Post-TIM totex",null,"£m 18/19 prices",null,null,null,null,null,null,null,null,null,null,null,null,null,null,null,null,null,null,null,null,null,null,null,null,null,null,null,null,null,null,null,null,null,null,{"$f":"SUM(AP292:AP293)","v":92.112524991488598},89.011883646512686,98.339390913986534,90.084254604320634,78.599888310802129]
[]
[null,"Capitalisation"]
[null,"Note: The weighted capitalised share of totex the Transmission operators is weighted based on the relative share of allowance to totex, wider works and enter & exit."]
[null,"Post-TIM totex is allocated into \"fast\" and \"slow\" elements based on a pre-set percentage split:"]
[null,"- \"fast money \" is exported to the \"Revenue\" sheet where it is included as an element of \"recalculated base revenue;\" and"]
[null,"- \"slow money \" is exported to the \"Depn\" sheet where it is added to RAV. Slow money is recovered over the life of the RAV through regulatory depreciation and return allowances."]
[]
[null,null,null,null,"Post-TIM totex",null,"£m 18/19 prices",null,null,null,null,null,null,null,null,null,null,null,null,null,null,null,null,null,null,null,null,null,null,null,null,null,null,null,null,null,null,null,null,null,null,{"$f":"AP294","v":92.112524991488598},89.011883646512686,98.339390913986534,90.084254604320634,78.599888310802129]
[null,null,null,null,"Capitalisation rate",null,"%",null,null,null,null,null,null,null,null,null,null,null,null,null,null,null,null,null,null,null,null,null,null,null,null,null,null,null,null,null,null,null,null,null,null,{"$f":"AP196","v":0.34},{"$f":"AQ196","v":0.34},{"$f":"AR196","v":0.34},{"$f":"AS196","v":0.34},{"$f":"AT196","v":0.34}]
[]
[null,null,null,null,"Fast pot expenditure",null,"£m 18/19 prices",null,null,null,null,null,null,null,null,null,null,null,null,null,null,null,null,null,null,null,null,null,null,null,null,null,null,null,null,null,null,null,null,null,null,{"$f":"AP$302 * (1 - AP303)","v":60.79426649438247},58.747843206698363,64.903998003231109,59.455608038851608,51.875926285129395]
[]
[null,null,null,null,"Slow pot expenditure",null,"£m 18/19 prices",null,null,null,null,null,null,null,null,null,null,null,null,null,null,null,null,null,null,null,null,null,null,null,null,null,null,null,null,null,null,null,null,null,null,{"$f":"AP$302 * AP303","v":31.318258497106125},30.264040439814316,33.435392910755425,30.628646565469019,26.723962025672726]
[]
[null,"Tax pool additions"]
[null,"Note: Actual totex is combined with other expenditure and allocated to tax pools. Each cost sub-category can have its own percentage split between each pool."]
[]
[null,null,null,null,"Allocation to \"General\" tax pool",null,"%",null,null,null,null,null,null,null,null,null,null,null,null,null,null,null,null,null,null,null,null,null,null,null,null,null,null,null,null,null,null,null,null,null,null,{"$f":"AP168","v":0.30954513088673058},0.30371085559452876,0.37223951445025472,0.30892380358309102,0.2109815235219154]
[null,null,null,null,"Allocation to \"Special Rate\" tax pool",null,"%",null,null,null,null,null,null,null,null,null,null,null,null,null,null,null,null,null,null,null,null,null,null,null,null,null,null,null,null,null,null,null,null,null,null,0,0,0,0,0]
[null,null,null,null,"Allocation to \"Revenue\" tax pool",null,"%",null,null,null,null,null,null,null,null,null,null,null,null,null,null,null,null,null,null,null,null,null,null,null,null,null,null,null,null,null,null,null,null,null,null,0.69045486911326948,0.69628914440547129,0.62776048554974517,0.69107619641690898,0.78901847647808454]
[null,null,null,null,"Allocation to \"Structures and Buildings\" tax pool",null,"%",null,null,null,null,null,null,null,null,null,null,null,null,null,null,null,null,null,null,null,null,null,null,null,null,null,null,null,null,null,null,null,null,null,null,0,0,0,0,0]
[null,null,null,null,"Allocation to \"Deferred Revenue\" tax pool",null,"%",null,null,null,null,null,null,null,null,null,null,null,null,null,null,null,null,null,null,null,null,null,null,null,null,null,null,null,null,null,null,null,null,null,null,0,0,0,0,0]
[null,null,null,null,"Allocation to \"Non Qualifying\" tax pool",null,"%",null,null,null,null,null,null,null,null,null,null,null,null,null,null,null,null,null,null,null,null,null,null,null,null,null,null,null,null,null,null,null,null,null,null,0,0,0,0,0]
[null,null,null,null,"Allocation check",null,"%",null,null,null,null,null,null,null,null,null,null,null,null,null,null,null,null,null,null,null,null,null,null,null,null,null,null,null,null,null,null,null,null,null,null,{"$f":"SUM(AP312:AP317)","v":1},{"$f":"SUM(AQ312:AQ317)","v":1},{"$f":"SUM(AR312:AR317)","v":0.99999999999999989},{"$f":"SUM(AS312:AS317)","v":1},{"$f":"SUM(AT312:AT317)","v":1}]
[]
[null,null,null,null,"General pool additions",null,"£m 18/19 prices",null,null,null,null,null,null,null,null,null,null,null,null,null,null,null,null,null,null,null,null,null,null,null,null,null,null,null,null,null,null,null,null,null,null,{"$f":"AP312*AP$274","v":28.512983604797583},27.033875340363011,36.60580712515614,27.829170575314304,16.583124184465422]
[null,null,null,null,"Special Rate pool additions",null,"£m 18/19 prices",null,null,null,null,null,null,null,null,null,null,null,null,null,null,null,null,null,null,null,null,null,null,null,null,null,null,null,null,null,null,null,null,null,null,0,0,0,0,0]
[null,null,null,null,"Revenue pool additions",null,"£m 18/19 prices",null,null,null,null,null,null,null,null,null,null,null,null,null,null,null,null,null,null,null,null,null,null,null,null,null,null,null,null,null,null,null,null,null,null,{"$f":"AP314*AP$274 + AP48 + AP78","v":156.23762045749226},{"$f":"AQ314*AQ$274 + AQ48 + AQ78","v":146.54026398193258},{"$f":"AR314*AR$274 + AR48 + AR78","v":144.73925390361234},{"$f":"AS314*AS$274 + AS48 + AS78","v":143.21775149002428},{"$f":"AT314*AT$274 + AT48 + AT78","v":141.24268186503767}]
[null,null,null,null,"Structures and Buildings pool additions",null,"£m 18/19 prices",null,null,null,null,null,null,null,null,null,null,null,null,null,null,null,null,null,null,null,null,null,null,null,null,null,null,null,null,null,null,null,null,null,null,{"$f":"AP315*AP$274","v":0},{"$f":"AQ315*AQ$274","v":0},{"$f":"AR315*AR$274","v":0},{"$f":"AS315*AS$274","v":0},{"$f":"AT315*AT$274","v":0}]
[null,null,null,null,"Deferred Revenue pool additions",null,"£m 18/19 prices",null,null,null,null,null,null,null,null,null,null,null,null,null,null,null,null,null,null,null,null,null,null,null,null,null,null,null,null,null,null,null,null,null,null,{"$f":"AP316*AP$274","v":0},{"$f":"AQ316*AQ$274","v":0},0,0,0]
[null,null,null,null,"Non-qualifying expenditure",null,"£m 18/19 prices",null,null,null,null,null,null,null,null,null,null,null,null,null,null,null,null,null,null,null,null,null,null,null,null,null,null,null,null,null,null,null,null,null,null,{"$f":"AP317*AP$274","v":0},{"$f":"AQ317*AQ$274","v":0},{"$f":"AR317*AR$274","v":0},{"$f":"AS317*AS$274","v":0},{"$f":"AT317*AT$274","v":0}]
[]
[null,"Capital allowances"]
[null,"Note: Note: Special, General and deferred revenue capital allowances are calculated for the tax allowance calculation."]
[]
[null,null,"General pool"]
[]
[null,null,null,null,"Capital allowance rate",null,"%",null,null,null,null,null,null,null,null,null,null,null,null,null,null,null,null,null,null,null,null,null,null,null,null,null,null,null,null,null,null,null,null,null,null,{"$f":"AP177","v":0.18},{"$f":"AQ177","v":0.18},{"$f":"AR177","v":0.18},{"$f":"AS177","v":0.18},{"$f":"AT177","v":0.18}]
[]
[null,null,null,null,"Opening balance brought forward",null,"£m nominal",null,null,null,null,null,null,null,null,null,null,null,null,null,null,null,null,null,null,null,null,null,null,null,null,null,null,null,null,null,null,null,null,null,null,{"$f":"AP161","v":132.42873901410496},{"$f":"AP339","v":133.20231357956601},{"$f":"AQ339","v":132.93279207786355},{"$f":"AR339","v":141.67740435654002},{"$f":"AS339","v":141.49456486478277}]
[null,null,null,null,"Revisions",null,"£m nominal"]
[null,null,null,null,"Capex additions",null,"£m nominal",null,null,null,null,null,null,null,null,null,null,null,null,null,null,null,null,null,null,null,null,null,null,null,null,null,null,null,null,null,null,null,null,null,null,{"$f":"AP320 * SOpf","v":30.013106814634082},{"$f":"AQ320 * SOpf","v":28.910847490999295},{"$f":"AR320 * SOpf","v":39.844530308160856},{"$f":"AS320 * SOpf","v":30.876943039536521},{"$f":"AT320 * SOpf","v":18.766610885815705}]
[null,null,null,null,"Tax book value pre-depreciation",null,"£m nominal",null,null,null,null,null,null,null,null,null,null,null,null,null,null,null,null,null,null,null,null,null,null,null,null,null,null,null,null,null,null,null,null,null,null,{"$f":"SUM(AP334:AP336)","v":162.44184582873905},{"$f":"SUM(AQ334:AQ336)","v":162.1131610705653},{"$f":"SUM(AR334:AR336)","v":172.77732238602442},{"$f":"SUM(AS334:AS336)","v":172.55434739607654},{"$f":"SUM(AT334:AT336)","v":160.26117575059848}]
[null,null,null,null,"General pool capital allowance",null,"£m nominal",null,null,null,null,null,null,null,null,null,null,null,null,null,null,null,null,null,null,null,null,null,null,null,null,null,null,null,null,null,null,null,null,null,null,{"$f":"-AP337*AP332","v":-29.239532249173028},{"$f":"-AQ337*AQ332","v":-29.180368992701752},{"$f":"-AR337*AR332","v":-31.099918029484396},{"$f":"-AS337*AS332","v":-31.059782531293777},{"$f":"-AT337*AT332","v":-28.847011635107727}]
[null,null,null,null,"Closing balance carried forward",null,"£m nominal",null,null,null,null,null,null,null,null,null,null,null,null,null,null,null,null,null,null,null,null,null,null,null,null,null,null,null,null,null,null,null,null,null,null,{"$f":"AP337 + AP338","v":133.20231357956601},{"$f":"AQ337 + AQ338","v":132.93279207786355},{"$f":"AR337 + AR338","v":141.67740435654002},{"$f":"AS337 + AS338","v":141.49456486478277},{"$f":"AT337 + AT338","v":131.41416411549076}]
[]
[null,null,"Special Rate pool"]
[]
[null,null,null,null,"Capital allowance rate",null,"%",null,null,null,null,null,null,null,null,null,null,null,null,null,null,null,null,null,null,null,null,null,null,null,null,null,null,null,null,null,null,null,null,null,null,{"$f":"AP178","v":0.06},{"$f":"AQ178","v":0.06},{"$f":"AR178","v":0.06},{"$f":"AS178","v":0.06},{"$f":"AT178","v":0.06}]
[]
[null,null,null,null,"Opening balance brought forward",null,"£m nominal",null,null,null,null,null,null,null,null,null,null,null,null,null,null,null,null,null,null,null,null,null,null,null,null,null,null,null,null,null,null,null,null,null,null,{"$f":"AP162","v":0},{"$f":"AP350","v":0},{"$f":"AQ350","v":0},{"$f":"AR350","v":0},{"$f":"AS350","v":0}]
[null,null,null,null,"Revisions",null,"£m nominal"]
[null,null,null,null,"Capex additions",null,"£m nominal",null,null,null,null,null,null,null,null,null,null,null,null,null,null,null,null,null,null,null,null,null,null,null,null,null,null,null,null,null,null,null,null,null,null,{"$f":"AP321 * SOpf","v":0},{"$f":"AQ321 * SOpf","v":0},{"$f":"AR321 * SOpf","v":0},{"$f":"AS321 * SOpf","v":0},{"$f":"AT321 * SOpf","v":0}]
[null,null,null,null,"Tax book value pre-depreciation",null,"£m nominal",null,null,null,null,null,null,null,null,null,null,null,null,null,null,null,null,null,null,null,null,null,null,null,null,null,null,null,null,null,null,null,null,null,null,{"$f":"SUM(AP345:AP347)","v":0},0,0,0,0]
[null,null,null,null,"Special Rate pool capital allowance",null,"£m nominal",null,null,null,null,null,null,null,null,null,null,null,null,null,null,null,null,null,null,null,null,null,null,null,null,null,null,null,null,null,null,null,null,null,null,{"$f":"-AP348*AP343","v":0},0,0,0,0]
[null,null,null,null,"Closing balance carried forward",null,"£m nominal",null,null,null,null,null,null,null,null,null,null,null,null,null,null,null,null,null,null,null,null,null,null,null,null,null,null,null,null,null,null,null,null,null,null,{"$f":"AP348 + AP349","v":0},0,0,0,0]
[]
[null,null,"Structures and buildings pool"]
[]
[null,null,null,null,"Capital allowance rate",null,"%",null,null,null,null,null,null,null,null,null,null,null,null,null,null,null,null,null,null,null,null,null,null,null,null,null,null,null,null,null,null,null,null,null,null,{"$f":"AP179","v":0.03},{"$f":"AQ179","v":0.03},{"$f":"AR179","v":0.03},{"$f":"AS179","v":0.03},{"$f":"AT179","v":0.03}]
[]
[null,null,null,null,"Opening balance brought forward",null,"£m nominal",null,null,null,null,null,null,null,null,null,null,null,null,null,null,null,null,null,null,null,null,null,null,null,null,null,null,null,null,null,null,null,null,null,null,{"$f":"AP163","v":0},{"$f":"AP361","v":0},{"$f":"AQ361","v":0},{"$f":"AR361","v":0},{"$f":"AS361","v":0}]
[null,null,null,null,"Revisions",null,"£m nominal"]
[null,null,null,null,"Capex additions",null,"£m nominal",null,null,">",null,null,null,null,null,null,null,null,null,null,null,null,null,null,null,null,null,null,null,null,null,null,null,null,null,null,null,null,null,null,0,{"$f":"AP323 *SOpf","v":0},{"$f":"AQ323 *SOpf","v":0},{"$f":"AR323 *SOpf","v":0},{"$f":"AS323 *SOpf","v":0},{"$f":"AT323 *SOpf","v":0}]
[null,null,null,null,"Tax book value pre-depreciation",null,"£m nominal",null,null,null,null,null,null,null,null,null,null,null,null,null,null,null,null,null,null,null,null,null,null,null,null,null,null,null,null,null,null,null,null,null,null,{"$f":"SUM(AP356:AP358)","v":0},{"$f":"SUM(AQ356:AQ358)","v":0},{"$f":"SUM(AR356:AR358)","v":0},{"$f":"SUM(AS356:AS358)","v":0},{"$f":"SUM(AT356:AT358)","v":0}]
[null,null,null,null,"Structures and buildings pool capital allowance",null,"£m nominal",null,null,null,null,null,null,null,null,null,null,null,null,null,null,null,null,null,null,null,null,null,null,null,null,null,null,null,null,null,null,null,null,null,null,{"$f":" - SUM($AO358:AO358) * AP354","v":0},{"$f":" - SUM($AO358:AP358) * AQ354","v":0},{"$f":" - SUM($AO358:AQ358) * AR354","v":0},{"$f":" - SUM($AO358:AR358) * AS354","v":0},{"$f":" - SUM($AO358:AS358) * AT354","v":0}]
[null,null,null,null,"Closing balance carried forward",null,"£m nominal",null,null,null,null,null,null,null,null,null,null,null,null,null,null,null,null,null,null,null,null,null,null,null,null,null,null,null,null,null,null,null,null,null,null,{"$f":"AP359 + AP360","v":0},{"$f":"AQ359 + AQ360","v":0},{"$f":"AR359 + AR360","v":0},{"$f":"AS359 + AS360","v":0},{"$f":"AT359 + AT360","v":0}]
[]
[null,null,"Deferred revenue expenditure"]
[]
[null,null,null,null,"Capital allowance rate",null,"%",null,null,null,null,null,null,null,null,null,null,null,null,null,null,null,null,null,null,null,null,null,null,null,null,null,null,null,null,null,null,null,null,null,null,{"$f":"AP180","v":2.2200000000000001E-2},{"$f":"AQ180","v":2.2200000000000001E-2},{"$f":"AR180","v":2.2200000000000001E-2},{"$f":"AS180","v":2.2200000000000001E-2},{"$f":"AT180","v":2.2200000000000001E-2}]
[]
[null,null,null,null,"Opening balance brought forward",null,"£m nominal",null,null,null,null,null,null,null,null,null,null,null,null,null,null,null,null,null,null,null,null,null,null,null,null,null,null,null,null,null,null,null,null,null,null,{"$f":"AP164","v":0},{"$f":"AP372","v":0},{"$f":"AQ372","v":0},{"$f":"AR372","v":0},{"$f":"AS372","v":0}]
[null,null,null,null,"Revisions",null,"£m nominal"]
[null,null,null,null,"Capex additions",null,"£m nominal",null,null,">",null,null,null,null,null,null,null,null,null,null,null,null,null,null,null,null,null,null,null,null,null,null,null,null,null,null,null,null,null,null,{"$f":"AO165","v":0},{"$f":"AP324 *SOpf","v":0},{"$f":"AQ324 *SOpf","v":0},{"$f":"AR324 *SOpf","v":0},{"$f":"AS324 *SOpf","v":0},{"$f":"AT324 *SOpf","v":0}]
[null,null,null,null,"Tax book value pre-depreciation",null,"£m nominal",null,null,null,null,null,null,null,null,null,null,null,null,null,null,null,null,null,null,null,null,null,null,null,null,null,null,null,null,null,null,null,null,null,null,{"$f":"SUM(AP367:AP369)","v":0},0,0,0,0]
[null,null,null,null,"Deferred revenue pool capital allowance",null,"£m nominal",null,null,null,null,null,null,null,null,null,null,null,null,null,null,null,null,null,null,null,null,null,null,null,null,null,null,null,null,null,null,null,null,null,null,{"$f":" - SUM($AO369:AO369) * AP365","v":0},{"$f":" - SUM($AO369:AP369) * AQ365","v":0},{"$f":" - SUM($AO369:AQ369) * AR365","v":0},{"$f":" - SUM($AO369:AR369) * AS365","v":0},{"$f":" - SUM($AO369:AS369) * AT365","v":0}]
[null,null,null,null,"Closing balance carried forward",null,"£m nominal",null,null,null,null,null,null,null,null,null,null,null,null,null,null,null,null,null,null,null,null,null,null,null,null,null,null,null,null,null,null,null,null,null,null,{"$f":"AP370 + AP371","v":0},0,0,0,0]
[]
[null,null,"Total capital allowances"]
[]
[null,null,null,null,"General pool",null,"£m nominal",null,null,null,null,null,null,null,null,null,null,null,null,null,null,null,null,null,null,null,null,null,null,null,null,null,null,null,null,null,null,null,null,null,null,{"$f":"AP338","v":-29.239532249173028},{"$f":"AQ338","v":-29.180368992701752},{"$f":"AR338","v":-31.099918029484396},{"$f":"AS338","v":-31.059782531293777},{"$f":"AT338","v":-28.847011635107727}]
[null,null,null,null,"Special Rates pool",null,"£m nominal",null,null,null,null,null,null,null,null,null,null,null,null,null,null,null,null,null,null,null,null,null,null,null,null,null,null,null,null,null,null,null,null,null,null,{"$f":"AP349","v":0},{"$f":"AQ349","v":0},0,0,0]
[null,null,null,null,"Structures and Buildings pool",null,"£m nominal",null,null,null,null,null,null,null,null,null,null,null,null,null,null,null,null,null,null,null,null,null,null,null,null,null,null,null,null,null,null,null,null,null,null,{"$f":"AP360","v":0},{"$f":"AQ360","v":0},{"$f":"AR360","v":0},{"$f":"AS360","v":0},{"$f":"AT360","v":0}]
[null,null,null,null,"Deferred revenue expenditure",null,"£m nominal",null,null,null,null,null,null,null,null,null,null,null,null,null,null,null,null,null,null,null,null,null,null,null,null,null,null,null,null,null,null,null,null,null,null,{"$f":"AP371","v":0},{"$f":"AQ371","v":0},0,0,0]
[null,null,null,null,"Capital allowances",null,"£m nominal",null,null,null,null,null,null,null,null,null,null,null,null,null,null,null,null,null,null,null,null,null,null,null,null,null,null,null,null,null,null,null,null,null,null,{"$f":"SUM(AP376:AP379)","v":-29.239532249173028},{"$f":"SUM(AQ376:AQ379)","v":-29.180368992701752},{"$f":"SUM(AR376:AR379)","v":-31.099918029484396},{"$f":"SUM(AS376:AS379)","v":-31.059782531293777},{"$f":"SUM(AT376:AT379)","v":-28.847011635107727}]
[]
[null,"Regulatory depreciation"]
[]
[null,null,"Depreciation"]
[]
[null,null,null,"Depreciation parameters"]
[]
[null,null,null,null,"Asset life",null,"years",null,{"$f":"I252","v":7}]
[]
[null,null,null,null,"Slow money",null,"£m 18/19 prices",null,null,null,null,null,null,null,null,null,null,null,null,null,null,null,null,null,null,null,null,null,null,null,null,null,null,null,null,null,null,null,null,null,null,{"$f":"AP307","v":31.318258497106125},{"$f":"AQ307","v":30.264040439814316},{"$f":"AR307","v":33.435392910755425},{"$f":"AS307","v":30.628646565469019},{"$f":"AT307","v":26.723962025672726}]
[null,null,null,null,"RIIO-1 net RAV additions",null,"£m 18/19 prices",null,null,">",null,null,null,null,null,null,null,null,null,null,null,null,null,null,null,null,null,null,null,null,null,null,null,{"$f":"AH254","v":33.613516461402909},37.297896277174495,39.825586569626246,37.859294684671077,34.931206132038099,37.571292525416673,38.752613646599258,36.479097119731861]
[null,null,null,null,"Pre-RIIO-2 net RAV additions (incl. adjustments)",null,"£m 18/19 prices",null,null,">",null,null,null,null,null,null,null,null,null,null,null,null,{"$f":"W253","v":0},0,0,0,0,14.419946009279345,9.9877761058030643,13.298360794320898,12.085386055783017,15.19536401925459,31.934742127575522]
[null,null,null,null,"Total Net RAV additions",null,"£m 18/19 prices",null,null,">",null,null,null,null,null,null,null,null,null,null,null,null,{"$f":"SUM(W390:W392)","v":0},0,0,0,0,14.419946009279345,9.9877761058030643,13.298360794320898,12.085386055783017,15.19536401925459,31.934742127575522,33.613516461402909,37.297896277174495,39.825586569626246,37.859294684671077,34.931206132038099,37.571292525416673,38.752613646599258,36.479097119731861,31.318258497106125,30.264040439814316,33.435392910755425,30.628646565469019,26.723962025672726]
[]
[null,null,null,"Depreciation schedule"]
[]
[null,null,null,null,"Depreciation of additions from year ending",null,null,null,"Net additions"]
[]
[null,null,null,null,"2003-03-31",null,"£m 18/19 prices",null,{"$f":"INDEX($W$393:$AT$393,1,MATCH(E399,$W$4:$AT$4,0))","v":0},">",null,null,null,null,null,null,null,null,null,null,null,null,null,{"$f":"$I399/$I$388","v":0},{"$f":"IF($I399 >0, MIN(X399,$I399-SUM($L399:X399)), MAX(X399,$I399-SUM($L399:X399)))","v":0},{"$f":"IF($I399 >0, MIN(Y399,$I399-SUM($L399:Y399)), MAX(Y399,$I399-SUM($L399:Y399)))","v":0},{"$f":"IF($I399 >0, MIN(Z399,$I399-SUM($L399:Z399)), MAX(Z399,$I399-SUM($L399:Z399)))","v":0},{"$f":"IF($I399 >0, MIN(AA399,$I399-SUM($L399:AA399)), MAX(AA399,$I399-SUM($L399:AA399)))","v":0},{"$f":"IF($I399 >0, MIN(AB399,$I399-SUM($L399:AB399)), MAX(AB399,$I399-SUM($L399:AB399)))","v":0},{"$f":"IF($I399 >0, MIN(AC399,$I399-SUM($L399:AC399)), MAX(AC399,$I399-SUM($L399:AC399)))","v":0},{"$f":"IF($I399 >0, MIN(AD399,$I399-SUM($L399:AD399)), MAX(AD399,$I399-SUM($L399:AD399)))","v":0},{"$f":"IF($I399 >0, MIN(AE399,$I399-SUM($L399:AE399)), MAX(AE399,$I399-SUM($L399:AE399)))","v":0},{"$f":"IF($I399 >0, MIN(AF399,$I399-SUM($L399:AF399)), MAX(AF399,$I399-SUM($L399:AF399)))","v":0},{"$f":"IF($I399 >0, MIN(AG399,$I399-SUM($L399:AG399)), MAX(AG399,$I399-SUM($L399:AG399)))","v":0},{"$f":"IF($I399 >0, MIN(AH399,$I399-SUM($L399:AH399)), MAX(AH399,$I399-SUM($L399:AH399)))","v":0},{"$f":"IF($I399 >0, MIN(AI399,$I399-SUM($L399:AI399)), MAX(AI399,$I399-SUM($L399:AI399)))","v":0},{"$f":"IF($I399 >0, MIN(AJ399,$I399-SUM($L399:AJ399)), MAX(AJ399,$I399-SUM($L399:AJ399)))","v":0},{"$f":"IF($I399 >0, MIN(AK399,$I399-SUM($L399:AK399)), MAX(AK399,$I399-SUM($L399:AK399)))","v":0},{"$f":"IF($I399 >0, MIN(AL399,$I399-SUM($L399:AL399)), MAX(AL399,$I399-SUM($L399:AL399)))","v":0},{"$f":"IF($I399 >0, MIN(AM399,$I399-SUM($L399:AM399)), MAX(AM399,$I399-SUM($L399:AM399)))","v":0},{"$f":"IF($I399 >0, MIN(AN399,$I399-SUM($L399:AN399)), MAX(AN399,$I399-SUM($L399:AN399)))","v":0},{"$f":"IF($I399 >0, MIN(AO399,$I399-SUM($L399:AO399)), MAX(AO399,$I399-SUM($L399:AO399)))","v":0},{"$f":"IF($I399 >0, MIN(AP399,$I399-SUM($L399:AP399)), MAX(AP399,$I399-SUM($L399:AP399)))","v":0},{"$f":"IF($I399 >0, MIN(AQ399,$I399-SUM($L399:AQ399)), MAX(AQ399,$I399-SUM($L399:AQ399)))","v":0},{"$f":"IF($I399 >0, MIN(AR399,$I399-SUM($L399:AR399)), MAX(AR399,$I399-SUM($L399:AR399)))","v":0},{"$f":"IF($I399 >0, MIN(AS399,$I399-SUM($L399:AS399)), MAX(AS399,$I399-SUM($L399:AS399)))","v":0}]
[null,null,null,null,"2004-03-31",null,"£m 18/19 prices",null,0,">",null,null,null,null,null,null,null,null,null,null,null,null,null,null,{"$f":"$I400/$I$388","v":0},{"$f":"IF($I400 >0, MIN(Y400,$I400-SUM($L400:Y400)), MAX(Y400,$I400-SUM($L400:Y400)))","v":0},{"$f":"IF($I400 >0, MIN(Z400,$I400-SUM($L400:Z400)), MAX(Z400,$I400-SUM($L400:Z400)))","v":0},{"$f":"IF($I400 >0, MIN(AA400,$I400-SUM($L400:AA400)), MAX(AA400,$I400-SUM($L400:AA400)))","v":0},{"$f":"IF($I400 >0, MIN(AB400,$I400-SUM($L400:AB400)), MAX(AB400,$I400-SUM($L400:AB400)))","v":0},{"$f":"IF($I400 >0, MIN(AC400,$I400-SUM($L400:AC400)), MAX(AC400,$I400-SUM($L400:AC400)))","v":0},{"$f":"IF($I400 >0, MIN(AD400,$I400-SUM($L400:AD400)), MAX(AD400,$I400-SUM($L400:AD400)))","v":0},{"$f":"IF($I400 >0, MIN(AE400,$I400-SUM($L400:AE400)), MAX(AE400,$I400-SUM($L400:AE400)))","v":0},{"$f":"IF($I400 >0, MIN(AF400,$I400-SUM($L400:AF400)), MAX(AF400,$I400-SUM($L400:AF400)))","v":0},{"$f":"IF($I400 >0, MIN(AG400,$I400-SUM($L400:AG400)), MAX(AG400,$I400-SUM($L400:AG400)))","v":0},{"$f":"IF($I400 >0, MIN(AH400,$I400-SUM($L400:AH400)), MAX(AH400,$I400-SUM($L400:AH400)))","v":0},{"$f":"IF($I400 >0, MIN(AI400,$I400-SUM($L400:AI400)), MAX(AI400,$I400-SUM($L400:AI400)))","v":0},{"$f":"IF($I400 >0, MIN(AJ400,$I400-SUM($L400:AJ400)), MAX(AJ400,$I400-SUM($L400:AJ400)))","v":0},{"$f":"IF($I400 >0, MIN(AK400,$I400-SUM($L400:AK400)), MAX(AK400,$I400-SUM($L400:AK400)))","v":0},{"$f":"IF($I400 >0, MIN(AL400,$I400-SUM($L400:AL400)), MAX(AL400,$I400-SUM($L400:AL400)))","v":0},{"$f":"IF($I400 >0, MIN(AM400,$I400-SUM($L400:AM400)), MAX(AM400,$I400-SUM($L400:AM400)))","v":0},{"$f":"IF($I400 >0, MIN(AN400,$I400-SUM($L400:AN400)), MAX(AN400,$I400-SUM($L400:AN400)))","v":0},{"$f":"IF($I400 >0, MIN(AO400,$I400-SUM($L400:AO400)), MAX(AO400,$I400-SUM($L400:AO400)))","v":0},{"$f":"IF($I400 >0, MIN(AP400,$I400-SUM($L400:AP400)), MAX(AP400,$I400-SUM($L400:AP400)))","v":0},{"$f":"IF($I400 >0, MIN(AQ400,$I400-SUM($L400:AQ400)), MAX(AQ400,$I400-SUM($L400:AQ400)))","v":0},{"$f":"IF($I400 >0, MIN(AR400,$I400-SUM($L400:AR400)), MAX(AR400,$I400-SUM($L400:AR400)))","v":0},{"$f":"IF($I400 >0, MIN(AS400,$I400-SUM($L400:AS400)), MAX(AS400,$I400-SUM($L400:AS400)))","v":0}]
[null,null,null,null,"2005-03-31",null,"£m 18/19 prices",null,0,">",null,null,null,null,null,null,null,null,null,null,null,null,null,null,null,{"$f":"$I401/$I$388","v":0},{"$f":"IF($I401 >0, MIN(Z401,$I401-SUM($L401:Z401)), MAX(Z401,$I401-SUM($L401:Z401)))","v":0},{"$f":"IF($I401 >0, MIN(AA401,$I401-SUM($L401:AA401)), MAX(AA401,$I401-SUM($L401:AA401)))","v":0},{"$f":"IF($I401 >0, MIN(AB401,$I401-SUM($L401:AB401)), MAX(AB401,$I401-SUM($L401:AB401)))","v":0},{"$f":"IF($I401 >0, MIN(AC401,$I401-SUM($L401:AC401)), MAX(AC401,$I401-SUM($L401:AC401)))","v":0},{"$f":"IF($I401 >0, MIN(AD401,$I401-SUM($L401:AD401)), MAX(AD401,$I401-SUM($L401:AD401)))","v":0},{"$f":"IF($I401 >0, MIN(AE401,$I401-SUM($L401:AE401)), MAX(AE401,$I401-SUM($L401:AE401)))","v":0},{"$f":"IF($I401 >0, MIN(AF401,$I401-SUM($L401:AF401)), MAX(AF401,$I401-SUM($L401:AF401)))","v":0},{"$f":"IF($I401 >0, MIN(AG401,$I401-SUM($L401:AG401)), MAX(AG401,$I401-SUM($L401:AG401)))","v":0},{"$f":"IF($I401 >0, MIN(AH401,$I401-SUM($L401:AH401)), MAX(AH401,$I401-SUM($L401:AH401)))","v":0},{"$f":"IF($I401 >0, MIN(AI401,$I401-SUM($L401:AI401)), MAX(AI401,$I401-SUM($L401:AI401)))","v":0},{"$f":"IF($I401 >0, MIN(AJ401,$I401-SUM($L401:AJ401)), MAX(AJ401,$I401-SUM($L401:AJ401)))","v":0},{"$f":"IF($I401 >0, MIN(AK401,$I401-SUM($L401:AK401)), MAX(AK401,$I401-SUM($L401:AK401)))","v":0},{"$f":"IF($I401 >0, MIN(AL401,$I401-SUM($L401:AL401)), MAX(AL401,$I401-SUM($L401:AL401)))","v":0},{"$f":"IF($I401 >0, MIN(AM401,$I401-SUM($L401:AM401)), MAX(AM401,$I401-SUM($L401:AM401)))","v":0},{"$f":"IF($I401 >0, MIN(AN401,$I401-SUM($L401:AN401)), MAX(AN401,$I401-SUM($L401:AN401)))","v":0},{"$f":"IF($I401 >0, MIN(AO401,$I401-SUM($L401:AO401)), MAX(AO401,$I401-SUM($L401:AO401)))","v":0},{"$f":"IF($I401 >0, MIN(AP401,$I401-SUM($L401:AP401)), MAX(AP401,$I401-SUM($L401:AP401)))","v":0},{"$f":"IF($I401 >0, MIN(AQ401,$I401-SUM($L401:AQ401)), MAX(AQ401,$I401-SUM($L401:AQ401)))","v":0},{"$f":"IF($I401 >0, MIN(AR401,$I401-SUM($L401:AR401)), MAX(AR401,$I401-SUM($L401:AR401)))","v":0},{"$f":"IF($I401 >0, MIN(AS401,$I401-SUM($L401:AS401)), MAX(AS401,$I401-SUM($L401:AS401)))","v":0}]
[null,null,null,null,"2006-03-31",null,"£m 18/19 prices",null,0,">",null,null,null,null,null,null,null,null,null,null,null,null,null,null,null,null,{"$f":"$I402/$I$388","v":0},{"$f":"IF($I402 >0, MIN(AA402,$I402-SUM($L402:AA402)), MAX(AA402,$I402-SUM($L402:AA402)))","v":0},{"$f":"IF($I402 >0, MIN(AB402,$I402-SUM($L402:AB402)), MAX(AB402,$I402-SUM($L402:AB402)))","v":0},{"$f":"IF($I402 >0, MIN(AC402,$I402-SUM($L402:AC402)), MAX(AC402,$I402-SUM($L402:AC402)))","v":0},{"$f":"IF($I402 >0, MIN(AD402,$I402-SUM($L402:AD402)), MAX(AD402,$I402-SUM($L402:AD402)))","v":0},{"$f":"IF($I402 >0, MIN(AE402,$I402-SUM($L402:AE402)), MAX(AE402,$I402-SUM($L402:AE402)))","v":0},{"$f":"IF($I402 >0, MIN(AF402,$I402-SUM($L402:AF402)), MAX(AF402,$I402-SUM($L402:AF402)))","v":0},{"$f":"IF($I402 >0, MIN(AG402,$I402-SUM($L402:AG402)), MAX(AG402,$I402-SUM($L402:AG402)))","v":0},{"$f":"IF($I402 >0, MIN(AH402,$I402-SUM($L402:AH402)), MAX(AH402,$I402-SUM($L402:AH402)))","v":0},{"$f":"IF($I402 >0, MIN(AI402,$I402-SUM($L402:AI402)), MAX(AI402,$I402-SUM($L402:AI402)))","v":0},{"$f":"IF($I402 >0, MIN(AJ402,$I402-SUM($L402:AJ402)), MAX(AJ402,$I402-SUM($L402:AJ402)))","v":0},{"$f":"IF($I402 >0, MIN(AK402,$I402-SUM($L402:AK402)), MAX(AK402,$I402-SUM($L402:AK402)))","v":0},{"$f":"IF($I402 >0, MIN(AL402,$I402-SUM($L402:AL402)), MAX(AL402,$I402-SUM($L402:AL402)))","v":0},{"$f":"IF($I402 >0, MIN(AM402,$I402-SUM($L402:AM402)), MAX(AM402,$I402-SUM($L402:AM402)))","v":0},{"$f":"IF($I402 >0, MIN(AN402,$I402-SUM($L402:AN402)), MAX(AN402,$I402-SUM($L402:AN402)))","v":0},{"$f":"IF($I402 >0, MIN(AO402,$I402-SUM($L402:AO402)), MAX(AO402,$I402-SUM($L402:AO402)))","v":0},{"$f":"IF($I402 >0, MIN(AP402,$I402-SUM($L402:AP402)), MAX(AP402,$I402-SUM($L402:AP402)))","v":0},{"$f":"IF($I402 >0, MIN(AQ402,$I402-SUM($L402:AQ402)), MAX(AQ402,$I402-SUM($L402:AQ402)))","v":0},{"$f":"IF($I402 >0, MIN(AR402,$I402-SUM($L402:AR402)), MAX(AR402,$I402-SUM($L402:AR402)))","v":0},{"$f":"IF($I402 >0, MIN(AS402,$I402-SUM($L402:AS402)), MAX(AS402,$I402-SUM($L402:AS402)))","v":0}]
[null,null,null,null,"2007-03-31",null,"£m 18/19 prices",null,0,">",null,null,null,null,null,null,null,null,null,null,null,null,null,null,null,null,null,{"$f":"$I403/$I$388","v":0},{"$f":"IF($I403 >0, MIN(AB403,$I403-SUM($L403:AB403)), MAX(AB403,$I403-SUM($L403:AB403)))","v":0},{"$f":"IF($I403 >0, MIN(AC403,$I403-SUM($L403:AC403)), MAX(AC403,$I403-SUM($L403:AC403)))","v":0},{"$f":"IF($I403 >0, MIN(AD403,$I403-SUM($L403:AD403)), MAX(AD403,$I403-SUM($L403:AD403)))","v":0},{"$f":"IF($I403 >0, MIN(AE403,$I403-SUM($L403:AE403)), MAX(AE403,$I403-SUM($L403:AE403)))","v":0},{"$f":"IF($I403 >0, MIN(AF403,$I403-SUM($L403:AF403)), MAX(AF403,$I403-SUM($L403:AF403)))","v":0},{"$f":"IF($I403 >0, MIN(AG403,$I403-SUM($L403:AG403)), MAX(AG403,$I403-SUM($L403:AG403)))","v":0},{"$f":"IF($I403 >0, MIN(AH403,$I403-SUM($L403:AH403)), MAX(AH403,$I403-SUM($L403:AH403)))","v":0},{"$f":"IF($I403 >0, MIN(AI403,$I403-SUM($L403:AI403)), MAX(AI403,$I403-SUM($L403:AI403)))","v":0},{"$f":"IF($I403 >0, MIN(AJ403,$I403-SUM($L403:AJ403)), MAX(AJ403,$I403-SUM($L403:AJ403)))","v":0},{"$f":"IF($I403 >0, MIN(AK403,$I403-SUM($L403:AK403)), MAX(AK403,$I403-SUM($L403:AK403)))","v":0},{"$f":"IF($I403 >0, MIN(AL403,$I403-SUM($L403:AL403)), MAX(AL403,$I403-SUM($L403:AL403)))","v":0},{"$f":"IF($I403 >0, MIN(AM403,$I403-SUM($L403:AM403)), MAX(AM403,$I403-SUM($L403:AM403)))","v":0},{"$f":"IF($I403 >0, MIN(AN403,$I403-SUM($L403:AN403)), MAX(AN403,$I403-SUM($L403:AN403)))","v":0},{"$f":"IF($I403 >0, MIN(AO403,$I403-SUM($L403:AO403)), MAX(AO403,$I403-SUM($L403:AO403)))","v":0},{"$f":"IF($I403 >0, MIN(AP403,$I403-SUM($L403:AP403)), MAX(AP403,$I403-SUM($L403:AP403)))","v":0},{"$f":"IF($I403 >0, MIN(AQ403,$I403-SUM($L403:AQ403)), MAX(AQ403,$I403-SUM($L403:AQ403)))","v":0},{"$f":"IF($I403 >0, MIN(AR403,$I403-SUM($L403:AR403)), MAX(AR403,$I403-SUM($L403:AR403)))","v":0},{"$f":"IF($I403 >0, MIN(AS403,$I403-SUM($L403:AS403)), MAX(AS403,$I403-SUM($L403:AS403)))","v":0}]
[null,null,null,null,"2008-03-31",null,"£m 18/19 prices",null,14.419946009279345,">",null,null,null,null,null,null,null,null,null,null,null,null,null,null,null,null,null,null,{"$f":"$I404/$I$388","v":2.0599922870399063},{"$f":"IF($I404 >0, MIN(AC404,$I404-SUM($L404:AC404)), MAX(AC404,$I404-SUM($L404:AC404)))","v":2.0599922870399063},{"$f":"IF($I404 >0, MIN(AD404,$I404-SUM($L404:AD404)), MAX(AD404,$I404-SUM($L404:AD404)))","v":2.0599922870399063},{"$f":"IF($I404 >0, MIN(AE404,$I404-SUM($L404:AE404)), MAX(AE404,$I404-SUM($L404:AE404)))","v":2.0599922870399063},{"$f":"IF($I404 >0, MIN(AF404,$I404-SUM($L404:AF404)), MAX(AF404,$I404-SUM($L404:AF404)))","v":2.0599922870399063},{"$f":"IF($I404 >0, MIN(AG404,$I404-SUM($L404:AG404)), MAX(AG404,$I404-SUM($L404:AG404)))","v":2.0599922870399063},{"$f":"IF($I404 >0, MIN(AH404,$I404-SUM($L404:AH404)), MAX(AH404,$I404-SUM($L404:AH404)))","v":2.0599922870399063},{"$f":"IF($I404 >0, MIN(AI404,$I404-SUM($L404:AI404)), MAX(AI404,$I404-SUM($L404:AI404)))","v":1.7763568394002505E-15},{"$f":"IF($I404 >0, MIN(AJ404,$I404-SUM($L404:AJ404)), MAX(AJ404,$I404-SUM($L404:AJ404)))","v":0},{"$f":"IF($I404 >0, MIN(AK404,$I404-SUM($L404:AK404)), MAX(AK404,$I404-SUM($L404:AK404)))","v":0},{"$f":"IF($I404 >0, MIN(AL404,$I404-SUM($L404:AL404)), MAX(AL404,$I404-SUM($L404:AL404)))","v":0},{"$f":"IF($I404 >0, MIN(AM404,$I404-SUM($L404:AM404)), MAX(AM404,$I404-SUM($L404:AM404)))","v":0},{"$f":"IF($I404 >0, MIN(AN404,$I404-SUM($L404:AN404)), MAX(AN404,$I404-SUM($L404:AN404)))","v":0},{"$f":"IF($I404 >0, MIN(AO404,$I404-SUM($L404:AO404)), MAX(AO404,$I404-SUM($L404:AO404)))","v":0},{"$f":"IF($I404 >0, MIN(AP404,$I404-SUM($L404:AP404)), MAX(AP404,$I404-SUM($L404:AP404)))","v":0},{"$f":"IF($I404 >0, MIN(AQ404,$I404-SUM($L404:AQ404)), MAX(AQ404,$I404-SUM($L404:AQ404)))","v":0},{"$f":"IF($I404 >0, MIN(AR404,$I404-SUM($L404:AR404)), MAX(AR404,$I404-SUM($L404:AR404)))","v":0},{"$f":"IF($I404 >0, MIN(AS404,$I404-SUM($L404:AS404)), MAX(AS404,$I404-SUM($L404:AS404)))","v":0}]
[null,null,null,null,"2009-03-31",null,"£m 18/19 prices",null,9.9877761058030643,">",null,null,null,null,null,null,null,null,null,null,null,null,null,null,null,null,null,null,null,{"$f":"$I405/$I$388","v":1.4268251579718663},{"$f":"IF($I405 >0, MIN(AD405,$I405-SUM($L405:AD405)), MAX(AD405,$I405-SUM($L405:AD405)))","v":1.4268251579718663},{"$f":"IF($I405 >0, MIN(AE405,$I405-SUM($L405:AE405)), MAX(AE405,$I405-SUM($L405:AE405)))","v":1.4268251579718663},{"$f":"IF($I405 >0, MIN(AF405,$I405-SUM($L405:AF405)), MAX(AF405,$I405-SUM($L405:AF405)))","v":1.4268251579718663},{"$f":"IF($I405 >0, MIN(AG405,$I405-SUM($L405:AG405)), MAX(AG405,$I405-SUM($L405:AG405)))","v":1.4268251579718663},{"$f":"IF($I405 >0, MIN(AH405,$I405-SUM($L405:AH405)), MAX(AH405,$I405-SUM($L405:AH405)))","v":1.4268251579718663},{"$f":"IF($I405 >0, MIN(AI405,$I405-SUM($L405:AI405)), MAX(AI405,$I405-SUM($L405:AI405)))","v":1.4268251579718663},{"$f":"IF($I405 >0, MIN(AJ405,$I405-SUM($L405:AJ405)), MAX(AJ405,$I405-SUM($L405:AJ405)))","v":1.7763568394002505E-15},{"$f":"IF($I405 >0, MIN(AK405,$I405-SUM($L405:AK405)), MAX(AK405,$I405-SUM($L405:AK405)))","v":0},{"$f":"IF($I405 >0, MIN(AL405,$I405-SUM($L405:AL405)), MAX(AL405,$I405-SUM($L405:AL405)))","v":0},{"$f":"IF($I405 >0, MIN(AM405,$I405-SUM($L405:AM405)), MAX(AM405,$I405-SUM($L405:AM405)))","v":0},{"$f":"IF($I405 >0, MIN(AN405,$I405-SUM($L405:AN405)), MAX(AN405,$I405-SUM($L405:AN405)))","v":0},{"$f":"IF($I405 >0, MIN(AO405,$I405-SUM($L405:AO405)), MAX(AO405,$I405-SUM($L405:AO405)))","v":0},{"$f":"IF($I405 >0, MIN(AP405,$I405-SUM($L405:AP405)), MAX(AP405,$I405-SUM($L405:AP405)))","v":0},{"$f":"IF($I405 >0, MIN(AQ405,$I405-SUM($L405:AQ405)), MAX(AQ405,$I405-SUM($L405:AQ405)))","v":0},{"$f":"IF($I405 >0, MIN(AR405,$I405-SUM($L405:AR405)), MAX(AR405,$I405-SUM($L405:AR405)))","v":0},{"$f":"IF($I405 >0, MIN(AS405,$I405-SUM($L405:AS405)), MAX(AS405,$I405-SUM($L405:AS405)))","v":0}]
[null,null,null,null,"2010-03-31",null,"£m 18/19 prices",null,13.298360794320898,">",null,null,null,null,null,null,null,null,null,null,null,null,null,null,null,null,null,null,null,null,{"$f":"$I406/$I$388","v":1.8997658277601281},{"$f":"IF($I406 >0, MIN(AE406,$I406-SUM($L406:AE406)), MAX(AE406,$I406-SUM($L406:AE406)))","v":1.8997658277601281},{"$f":"IF($I406 >0, MIN(AF406,$I406-SUM($L406:AF406)), MAX(AF406,$I406-SUM($L406:AF406)))","v":1.8997658277601281},{"$f":"IF($I406 >0, MIN(AG406,$I406-SUM($L406:AG406)), MAX(AG406,$I406-SUM($L406:AG406)))","v":1.8997658277601281},{"$f":"IF($I406 >0, MIN(AH406,$I406-SUM($L406:AH406)), MAX(AH406,$I406-SUM($L406:AH406)))","v":1.8997658277601281},{"$f":"IF($I406 >0, MIN(AI406,$I406-SUM($L406:AI406)), MAX(AI406,$I406-SUM($L406:AI406)))","v":1.8997658277601281},{"$f":"IF($I406 >0, MIN(AJ406,$I406-SUM($L406:AJ406)), MAX(AJ406,$I406-SUM($L406:AJ406)))","v":1.8997658277601281},{"$f":"IF($I406 >0, MIN(AK406,$I406-SUM($L406:AK406)), MAX(AK406,$I406-SUM($L406:AK406)))","v":1.7763568394002505E-15},{"$f":"IF($I406 >0, MIN(AL406,$I406-SUM($L406:AL406)), MAX(AL406,$I406-SUM($L406:AL406)))","v":0},{"$f":"IF($I406 >0, MIN(AM406,$I406-SUM($L406:AM406)), MAX(AM406,$I406-SUM($L406:AM406)))","v":0},{"$f":"IF($I406 >0, MIN(AN406,$I406-SUM($L406:AN406)), MAX(AN406,$I406-SUM($L406:AN406)))","v":0},{"$f":"IF($I406 >0, MIN(AO406,$I406-SUM($L406:AO406)), MAX(AO406,$I406-SUM($L406:AO406)))","v":0},{"$f":"IF($I406 >0, MIN(AP406,$I406-SUM($L406:AP406)), MAX(AP406,$I406-SUM($L406:AP406)))","v":0},{"$f":"IF($I406 >0, MIN(AQ406,$I406-SUM($L406:AQ406)), MAX(AQ406,$I406-SUM($L406:AQ406)))","v":0},{"$f":"IF($I406 >0, MIN(AR406,$I406-SUM($L406:AR406)), MAX(AR406,$I406-SUM($L406:AR406)))","v":0},{"$f":"IF($I406 >0, MIN(AS406,$I406-SUM($L406:AS406)), MAX(AS406,$I406-SUM($L406:AS406)))","v":0}]
[null,null,null,null,"2011-03-31",null,"£m 18/19 prices",null,12.085386055783017,">",null,null,null,null,null,null,null,null,null,null,null,null,null,null,null,null,null,null,null,null,null,{"$f":"$I407/$I$388","v":1.7264837222547167},{"$f":"IF($I407 >0, MIN(AF407,$I407-SUM($L407:AF407)), MAX(AF407,$I407-SUM($L407:AF407)))","v":1.7264837222547167},{"$f":"IF($I407 >0, MIN(AG407,$I407-SUM($L407:AG407)), MAX(AG407,$I407-SUM($L407:AG407)))","v":1.7264837222547167},{"$f":"IF($I407 >0, MIN(AH407,$I407-SUM($L407:AH407)), MAX(AH407,$I407-SUM($L407:AH407)))","v":1.7264837222547167},{"$f":"IF($I407 >0, MIN(AI407,$I407-SUM($L407:AI407)), MAX(AI407,$I407-SUM($L407:AI407)))","v":1.7264837222547167},{"$f":"IF($I407 >0, MIN(AJ407,$I407-SUM($L407:AJ407)), MAX(AJ407,$I407-SUM($L407:AJ407)))","v":1.7264837222547167},{"$f":"IF($I407 >0, MIN(AK407,$I407-SUM($L407:AK407)), MAX(AK407,$I407-SUM($L407:AK407)))","v":1.7264837222547165},{"$f":"IF($I407 >0, MIN(AL407,$I407-SUM($L407:AL407)), MAX(AL407,$I407-SUM($L407:AL407)))","v":0},{"$f":"IF($I407 >0, MIN(AM407,$I407-SUM($L407:AM407)), MAX(AM407,$I407-SUM($L407:AM407)))","v":0},{"$f":"IF($I407 >0, MIN(AN407,$I407-SUM($L407:AN407)), MAX(AN407,$I407-SUM($L407:AN407)))","v":0},{"$f":"IF($I407 >0, MIN(AO407,$I407-SUM($L407:AO407)), MAX(AO407,$I407-SUM($L407:AO407)))","v":0},{"$f":"IF($I407 >0, MIN(AP407,$I407-SUM($L407:AP407)), MAX(AP407,$I407-SUM($L407:AP407)))","v":0},{"$f":"IF($I407 >0, MIN(AQ407,$I407-SUM($L407:AQ407)), MAX(AQ407,$I407-SUM($L407:AQ407)))","v":0},{"$f":"IF($I407 >0, MIN(AR407,$I407-SUM($L407:AR407)), MAX(AR407,$I407-SUM($L407:AR407)))","v":0},{"$f":"IF($I407 >0, MIN(AS407,$I407-SUM($L407:AS407)), MAX(AS407,$I407-SUM($L407:AS407)))","v":0}]
[null,null,null,null,"2012-03-31",null,"£m 18/19 prices",null,15.19536401925459,">",null,null,null,null,null,null,null,null,null,null,null,null,null,null,null,null,null,null,null,null,null,null,{"$f":"$I408/$I$388","v":2.1707662884649417},{"$f":"IF($I408 >0, MIN(AG408,$I408-SUM($L408:AG408)), MAX(AG408,$I408-SUM($L408:AG408)))","v":2.1707662884649417},{"$f":"IF($I408 >0, MIN(AH408,$I408-SUM($L408:AH408)), MAX(AH408,$I408-SUM($L408:AH408)))","v":2.1707662884649417},{"$f":"IF($I408 >0, MIN(AI408,$I408-SUM($L408:AI408)), MAX(AI408,$I408-SUM($L408:AI408)))","v":2.1707662884649417},{"$f":"IF($I408 >0, MIN(AJ408,$I408-SUM($L408:AJ408)), MAX(AJ408,$I408-SUM($L408:AJ408)))","v":2.1707662884649417},{"$f":"IF($I408 >0, MIN(AK408,$I408-SUM($L408:AK408)), MAX(AK408,$I408-SUM($L408:AK408)))","v":2.1707662884649417},{"$f":"IF($I408 >0, MIN(AL408,$I408-SUM($L408:AL408)), MAX(AL408,$I408-SUM($L408:AL408)))","v":2.1707662884649412},{"$f":"IF($I408 >0, MIN(AM408,$I408-SUM($L408:AM408)), MAX(AM408,$I408-SUM($L408:AM408)))","v":0},{"$f":"IF($I408 >0, MIN(AN408,$I408-SUM($L408:AN408)), MAX(AN408,$I408-SUM($L408:AN408)))","v":0},{"$f":"IF($I408 >0, MIN(AO408,$I408-SUM($L408:AO408)), MAX(AO408,$I408-SUM($L408:AO408)))","v":0},{"$f":"IF($I408 >0, MIN(AP408,$I408-SUM($L408:AP408)), MAX(AP408,$I408-SUM($L408:AP408)))","v":0},{"$f":"IF($I408 >0, MIN(AQ408,$I408-SUM($L408:AQ408)), MAX(AQ408,$I408-SUM($L408:AQ408)))","v":0},{"$f":"IF($I408 >0, MIN(AR408,$I408-SUM($L408:AR408)), MAX(AR408,$I408-SUM($L408:AR408)))","v":0},{"$f":"IF($I408 >0, MIN(AS408,$I408-SUM($L408:AS408)), MAX(AS408,$I408-SUM($L408:AS408)))","v":0}]
[null,null,null,null,"2013-03-31",null,"£m 18/19 prices",null,31.934742127575522,">",null,null,null,null,null,null,null,null,null,null,null,null,null,null,null,null,null,null,null,null,null,null,null,{"$f":"$I409/$I$388","v":4.5621060182250748},{"$f":"IF($I409 >0, MIN(AH409,$I409-SUM($L409:AH409)), MAX(AH409,$I409-SUM($L409:AH409)))","v":4.5621060182250748},{"$f":"IF($I409 >0, MIN(AI409,$I409-SUM($L409:AI409)), MAX(AI409,$I409-SUM($L409:AI409)))","v":4.5621060182250748},{"$f":"IF($I409 >0, MIN(AJ409,$I409-SUM($L409:AJ409)), MAX(AJ409,$I409-SUM($L409:AJ409)))","v":4.5621060182250748},{"$f":"IF($I409 >0, MIN(AK409,$I409-SUM($L409:AK409)), MAX(AK409,$I409-SUM($L409:AK409)))","v":4.5621060182250748},{"$f":"IF($I409 >0, MIN(AL409,$I409-SUM($L409:AL409)), MAX(AL409,$I409-SUM($L409:AL409)))","v":4.5621060182250748},{"$f":"IF($I409 >0, MIN(AM409,$I409-SUM($L409:AM409)), MAX(AM409,$I409-SUM($L409:AM409)))","v":4.5621060182250748},{"$f":"IF($I409 >0, MIN(AN409,$I409-SUM($L409:AN409)), MAX(AN409,$I409-SUM($L409:AN409)))","v":3.5527136788005009E-15},{"$f":"IF($I409 >0, MIN(AO409,$I409-SUM($L409:AO409)), MAX(AO409,$I409-SUM($L409:AO409)))","v":0},{"$f":"IF($I409 >0, MIN(AP409,$I409-SUM($L409:AP409)), MAX(AP409,$I409-SUM($L409:AP409)))","v":0},{"$f":"IF($I409 >0, MIN(AQ409,$I409-SUM($L409:AQ409)), MAX(AQ409,$I409-SUM($L409:AQ409)))","v":0},{"$f":"IF($I409 >0, MIN(AR409,$I409-SUM($L409:AR409)), MAX(AR409,$I409-SUM($L409:AR409)))","v":0},{"$f":"IF($I409 >0, MIN(AS409,$I409-SUM($L409:AS409)), MAX(AS409,$I409-SUM($L409:AS409)))","v":0}]
[null,null,null,null,"2014-03-31",null,"£m 18/19 prices",null,33.613516461402909,">",null,null,null,null,null,null,null,null,null,null,null,null,null,null,null,null,null,null,null,null,null,null,null,null,{"$f":"$I410/$I$388","v":4.8019309230575589},{"$f":"IF($I410 >0, MIN(AI410,$I410-SUM($L410:AI410)), MAX(AI410,$I410-SUM($L410:AI410)))","v":4.8019309230575589},{"$f":"IF($I410 >0, MIN(AJ410,$I410-SUM($L410:AJ410)), MAX(AJ410,$I410-SUM($L410:AJ410)))","v":4.8019309230575589},{"$f":"IF($I410 >0, MIN(AK410,$I410-SUM($L410:AK410)), MAX(AK410,$I410-SUM($L410:AK410)))","v":4.8019309230575589},{"$f":"IF($I410 >0, MIN(AL410,$I410-SUM($L410:AL410)), MAX(AL410,$I410-SUM($L410:AL410)))","v":4.8019309230575589},{"$f":"IF($I410 >0, MIN(AM410,$I410-SUM($L410:AM410)), MAX(AM410,$I410-SUM($L410:AM410)))","v":4.8019309230575589},{"$f":"IF($I410 >0, MIN(AN410,$I410-SUM($L410:AN410)), MAX(AN410,$I410-SUM($L410:AN410)))","v":4.801930923057558},{"$f":"IF($I410 >0, MIN(AO410,$I410-SUM($L410:AO410)), MAX(AO410,$I410-SUM($L410:AO410)))","v":0},{"$f":"IF($I410 >0, MIN(AP410,$I410-SUM($L410:AP410)), MAX(AP410,$I410-SUM($L410:AP410)))","v":0},{"$f":"IF($I410 >0, MIN(AQ410,$I410-SUM($L410:AQ410)), MAX(AQ410,$I410-SUM($L410:AQ410)))","v":0},{"$f":"IF($I410 >0, MIN(AR410,$I410-SUM($L410:AR410)), MAX(AR410,$I410-SUM($L410:AR410)))","v":0},{"$f":"IF($I410 >0, MIN(AS410,$I410-SUM($L410:AS410)), MAX(AS410,$I410-SUM($L410:AS410)))","v":0}]
[null,null,null,null,"2015-03-31",null,"£m 18/19 prices",null,37.297896277174495,">",null,null,null,null,null,null,null,null,null,null,null,null,null,null,null,null,null,null,null,null,null,null,null,null,null,{"$f":"$I411/$I$388","v":5.3282708967392134},{"$f":"IF($I411 >0, MIN(AJ411,$I411-SUM($L411:AJ411)), MAX(AJ411,$I411-SUM($L411:AJ411)))","v":5.3282708967392134},{"$f":"IF($I411 >0, MIN(AK411,$I411-SUM($L411:AK411)), MAX(AK411,$I411-SUM($L411:AK411)))","v":5.3282708967392134},{"$f":"IF($I411 >0, MIN(AL411,$I411-SUM($L411:AL411)), MAX(AL411,$I411-SUM($L411:AL411)))","v":5.3282708967392134},{"$f":"IF($I411 >0, MIN(AM411,$I411-SUM($L411:AM411)), MAX(AM411,$I411-SUM($L411:AM411)))","v":5.3282708967392134},{"$f":"IF($I411 >0, MIN(AN411,$I411-SUM($L411:AN411)), MAX(AN411,$I411-SUM($L411:AN411)))","v":5.3282708967392134},{"$f":"IF($I411 >0, MIN(AO411,$I411-SUM($L411:AO411)), MAX(AO411,$I411-SUM($L411:AO411)))","v":5.3282708967392134},{"$f":"IF($I411 >0, MIN(AP411,$I411-SUM($L411:AP411)), MAX(AP411,$I411-SUM($L411:AP411)))","v":0},{"$f":"IF($I411 >0, MIN(AQ411,$I411-SUM($L411:AQ411)), MAX(AQ411,$I411-SUM($L411:AQ411)))","v":0},{"$f":"IF($I411 >0, MIN(AR411,$I411-SUM($L411:AR411)), MAX(AR411,$I411-SUM($L411:AR411)))","v":0},{"$f":"IF($I411 >0, MIN(AS411,$I411-SUM($L411:AS411)), MAX(AS411,$I411-SUM($L411:AS411)))","v":0}]
[null,null,null,null,"2016-03-31",null,"£m 18/19 prices",null,39.825586569626246,">",null,null,null,null,null,null,null,null,null,null,null,null,null,null,null,null,null,null,null,null,null,null,null,null,null,null,{"$f":"$I412/$I$388","v":5.6893695099466068},{"$f":"IF($I412 >0, MIN(AK412,$I412-SUM($L412:AK412)), MAX(AK412,$I412-SUM($L412:AK412)))","v":5.6893695099466068},{"$f":"IF($I412 >0, MIN(AL412,$I412-SUM($L412:AL412)), MAX(AL412,$I412-SUM($L412:AL412)))","v":5.6893695099466068},{"$f":"IF($I412 >0, MIN(AM412,$I412-SUM($L412:AM412)), MAX(AM412,$I412-SUM($L412:AM412)))","v":5.6893695099466068},{"$f":"IF($I412 >0, MIN(AN412,$I412-SUM($L412:AN412)), MAX(AN412,$I412-SUM($L412:AN412)))","v":5.6893695099466068},{"$f":"IF($I412 >0, MIN(AO412,$I412-SUM($L412:AO412)), MAX(AO412,$I412-SUM($L412:AO412)))","v":5.6893695099466068},{"$f":"IF($I412 >0, MIN(AP412,$I412-SUM($L412:AP412)), MAX(AP412,$I412-SUM($L412:AP412)))","v":5.6893695099466015},{"$f":"IF($I412 >0, MIN(AQ412,$I412-SUM($L412:AQ412)), MAX(AQ412,$I412-SUM($L412:AQ412)))","v":0},{"$f":"IF($I412 >0, MIN(AR412,$I412-SUM($L412:AR412)), MAX(AR412,$I412-SUM($L412:AR412)))","v":0},{"$f":"IF($I412 >0, MIN(AS412,$I412-SUM($L412:AS412)), MAX(AS412,$I412-SUM($L412:AS412)))","v":0}]
[null,null,null,null,"2017-03-31",null,"£m 18/19 prices",null,37.859294684671077,">",null,null,null,null,null,null,null,null,null,null,null,null,null,null,null,null,null,null,null,null,null,null,null,null,null,null,null,{"$f":"$I413/$I$388","v":5.4084706692387252},{"$f":"IF($I413 >0, MIN(AL413,$I413-SUM($L413:AL413)), MAX(AL413,$I413-SUM($L413:AL413)))","v":5.4084706692387252},{"$f":"IF($I413 >0, MIN(AM413,$I413-SUM($L413:AM413)), MAX(AM413,$I413-SUM($L413:AM413)))","v":5.4084706692387252},{"$f":"IF($I413 >0, MIN(AN413,$I413-SUM($L413:AN413)), MAX(AN413,$I413-SUM($L413:AN413)))","v":5.4084706692387252},{"$f":"IF($I413 >0, MIN(AO413,$I413-SUM($L413:AO413)), MAX(AO413,$I413-SUM($L413:AO413)))","v":5.4084706692387252},{"$f":"IF($I413 >0, MIN(AP413,$I413-SUM($L413:AP413)), MAX(AP413,$I413-SUM($L413:AP413)))","v":5.4084706692387252},{"$f":"IF($I413 >0, MIN(AQ413,$I413-SUM($L413:AQ413)), MAX(AQ413,$I413-SUM($L413:AQ413)))","v":5.4084706692387243},{"$f":"IF($I413 >0, MIN(AR413,$I413-SUM($L413:AR413)), MAX(AR413,$I413-SUM($L413:AR413)))","v":0},{"$f":"IF($I413 >0, MIN(AS413,$I413-SUM($L413:AS413)), MAX(AS413,$I413-SUM($L413:AS413)))","v":0}]
[null,null,null,null,"2018-03-31",null,"£m 18/19 prices",null,34.931206132038099,">",null,null,null,null,null,null,null,null,null,null,null,null,null,null,null,null,null,null,null,null,null,null,null,null,null,null,null,null,{"$f":"$I414/$I$388","v":4.9901723045768716},{"$f":"IF($I414 >0, MIN(AM414,$I414-SUM($L414:AM414)), MAX(AM414,$I414-SUM($L414:AM414)))","v":4.9901723045768716},{"$f":"IF($I414 >0, MIN(AN414,$I414-SUM($L414:AN414)), MAX(AN414,$I414-SUM($L414:AN414)))","v":4.9901723045768716},{"$f":"IF($I414 >0, MIN(AO414,$I414-SUM($L414:AO414)), MAX(AO414,$I414-SUM($L414:AO414)))","v":4.9901723045768716},{"$f":"IF($I414 >0, MIN(AP414,$I414-SUM($L414:AP414)), MAX(AP414,$I414-SUM($L414:AP414)))","v":4.9901723045768716},{"$f":"IF($I414 >0, MIN(AQ414,$I414-SUM($L414:AQ414)), MAX(AQ414,$I414-SUM($L414:AQ414)))","v":4.9901723045768716},{"$f":"IF($I414 >0, MIN(AR414,$I414-SUM($L414:AR414)), MAX(AR414,$I414-SUM($L414:AR414)))","v":4.9901723045768662},{"$f":"IF($I414 >0, MIN(AS414,$I414-SUM($L414:AS414)), MAX(AS414,$I414-SUM($L414:AS414)))","v":0}]
[null,null,null,null,"2019-03-31",null,"£m 18/19 prices",null,37.571292525416673,">",null,null,null,null,null,null,null,null,null,null,null,null,null,null,null,null,null,null,null,null,null,null,null,null,null,null,null,null,null,{"$f":"$I415/$I$388","v":5.3673275036309533},{"$f":"IF($I415 >0, MIN(AN415,$I415-SUM($L415:AN415)), MAX(AN415,$I415-SUM($L415:AN415)))","v":5.3673275036309533},{"$f":"IF($I415 >0, MIN(AO415,$I415-SUM($L415:AO415)), MAX(AO415,$I415-SUM($L415:AO415)))","v":5.3673275036309533},{"$f":"IF($I415 >0, MIN(AP415,$I415-SUM($L415:AP415)), MAX(AP415,$I415-SUM($L415:AP415)))","v":5.3673275036309533},{"$f":"IF($I415 >0, MIN(AQ415,$I415-SUM($L415:AQ415)), MAX(AQ415,$I415-SUM($L415:AQ415)))","v":5.3673275036309533},{"$f":"IF($I415 >0, MIN(AR415,$I415-SUM($L415:AR415)), MAX(AR415,$I415-SUM($L415:AR415)))","v":5.3673275036309533},{"$f":"IF($I415 >0, MIN(AS415,$I415-SUM($L415:AS415)), MAX(AS415,$I415-SUM($L415:AS415)))","v":5.3673275036309533}]
[null,null,null,null,"2020-03-31",null,"£m 18/19 prices",null,38.752613646599258,">",null,null,null,null,null,null,null,null,null,null,null,null,null,null,null,null,null,null,null,null,null,null,null,null,null,null,null,null,null,null,{"$f":"$I416/$I$388","v":5.5360876637998944},{"$f":"IF($I416 >0, MIN(AO416,$I416-SUM($L416:AO416)), MAX(AO416,$I416-SUM($L416:AO416)))","v":5.5360876637998944},{"$f":"IF($I416 >0, MIN(AP416,$I416-SUM($L416:AP416)), MAX(AP416,$I416-SUM($L416:AP416)))","v":5.5360876637998944},{"$f":"IF($I416 >0, MIN(AQ416,$I416-SUM($L416:AQ416)), MAX(AQ416,$I416-SUM($L416:AQ416)))","v":5.5360876637998944},{"$f":"IF($I416 >0, MIN(AR416,$I416-SUM($L416:AR416)), MAX(AR416,$I416-SUM($L416:AR416)))","v":5.5360876637998944},{"$f":"IF($I416 >0, MIN(AS416,$I416-SUM($L416:AS416)), MAX(AS416,$I416-SUM($L416:AS416)))","v":5.5360876637998944}]
[null,null,null,null,"2021-03-31",null,"£m 18/19 prices",null,36.479097119731861,null,null,null,null,null,null,null,null,null,null,null,null,null,null,null,null,null,null,null,null,null,null,null,null,null,null,null,null,null,null,null,null,{"$f":"$I417/$I$388","v":5.211299588533123},{"$f":"IF($I417 >0, MIN(AP417,$I417-SUM($L417:AP417)), MAX(AP417,$I417-SUM($L417:AP417)))","v":5.211299588533123},{"$f":"IF($I417 >0, MIN(AQ417,$I417-SUM($L417:AQ417)), MAX(AQ417,$I417-SUM($L417:AQ417)))","v":5.211299588533123},{"$f":"IF($I417 >0, MIN(AR417,$I417-SUM($L417:AR417)), MAX(AR417,$I417-SUM($L417:AR417)))","v":5.211299588533123},{"$f":"IF($I417 >0, MIN(AS417,$I417-SUM($L417:AS417)), MAX(AS417,$I417-SUM($L417:AS417)))","v":5.211299588533123}]
[null,null,null,null,"2022-03-31",null,"£m 18/19 prices",null,31.318258497106125,null,null,null,null,null,null,null,null,null,null,null,null,null,null,null,null,null,null,null,null,null,null,null,null,null,null,null,null,null,null,null,null,null,{"$f":"$I418/$I$388","v":4.4740369281580179},{"$f":"IF($I418 >0, MIN(AQ418,$I418-SUM($L418:AQ418)), MAX(AQ418,$I418-SUM($L418:AQ418)))","v":4.4740369281580179},{"$f":"IF($I418 >0, MIN(AR418,$I418-SUM($L418:AR418)), MAX(AR418,$I418-SUM($L418:AR418)))","v":4.4740369281580179},{"$f":"IF($I418 >0, MIN(AS418,$I418-SUM($L418:AS418)), MAX(AS418,$I418-SUM($L418:AS418)))","v":4.4740369281580179}]
[null,null,null,null,"2023-03-31",null,"£m 18/19 prices",null,30.264040439814316,null,null,null,null,null,null,null,null,null,null,null,null,null,null,null,null,null,null,null,null,null,null,null,null,null,null,null,null,null,null,null,null,null,null,{"$f":"$I419/$I$388","v":4.3234343485449021},{"$f":"IF($I419 >0, MIN(AR419,$I419-SUM($L419:AR419)), MAX(AR419,$I419-SUM($L419:AR419)))","v":4.3234343485449021},{"$f":"IF($I419 >0, MIN(AS419,$I419-SUM($L419:AS419)), MAX(AS419,$I419-SUM($L419:AS419)))","v":4.3234343485449021}]
[null,null,null,null,"2024-03-31",null,"£m 18/19 prices",null,33.435392910755425,null,null,null,null,null,null,null,null,null,null,null,null,null,null,null,null,null,null,null,null,null,null,null,null,null,null,null,null,null,null,null,null,null,null,null,{"$f":"$I420/$I$388","v":4.7764847015364893},{"$f":"IF($I420 >0, MIN(AS420,$I420-SUM($L420:AS420)), MAX(AS420,$I420-SUM($L420:AS420)))","v":4.7764847015364893}]
[null,null,null,null,"2025-03-31",null,"£m 18/19 prices",null,30.628646565469019,null,null,null,null,null,null,null,null,null,null,null,null,null,null,null,null,null,null,null,null,null,null,null,null,null,null,null,null,null,null,null,null,null,null,null,null,{"$f":"$I421/$I$388","v":4.3755209379241453}]
[null,null,null,null,"2026-03-31",null,"£m 18/19 prices",null,26.723962025672726]
[null,null,null,null,"Total",null,"£m 18/19 prices",null,null,null,null,{"$f":"SUM(L399:L422)","v":0},{"$f":"SUM(M399:M422)","v":0},0,0,0,0,0,0,0,0,0,0,0,0,0,0,0,2.0599922870399063,3.4868174450117726,5.386583272771901,7.1130669950266174,9.2838332834915587,13.845939301716633,18.647870224774191,21.9161488344735,26.178693186448243,29.687398027926839,32.951086610248993,36.147647825415007,37.121629470989831,37.530998136465392,36.676764167884187,35.310829006482486,34.678843038780244,34.064191672127521]
[]
[null,"RAV"]
[null,"Note: The RAV is presented separate pre-vesting and post-vesting balances brought together to form a combined \"Running total.\""]
[]
[null,null,"Running total"]
[]
[null,null,null,null,"Opening RAV (before transfers)",null,"£m 18/19 prices",null,null,">",null,null,null,null,null,null,null,null,null,null,null,null,null,null,null,null,null,null,null,null,null,null,null,{"$f":"SUM(W253:AG253)-SUM(L423:AG423)","v":69.591281828674681},{"$f":"AH435","v":89.358858988360964},108.00888504076126,125.91832277591401,137.59892427413683,142.84273237824809,147.46293829341579,150.06790411460003,{"$f":"AO435","v":149.42537176334207},{"$f":"AP435","v":143.21263212398279},{"$f":"AQ435","v":136.79990839591292},{"$f":"AR435","v":134.92447230018587},{"$f":"AS435","v":130.87427582687462}]
[null,null,null,null,"Transfers",null,"£m 18/19 prices"]
[null,null,null,null,"Opening RAV (after transfers)",null,"£m 18/19 prices",null,null,">",null,null,null,null,null,null,null,null,null,null,null,null,null,null,null,null,null,null,null,null,null,null,null,{"$f":"SUM(AH430:AH431)","v":69.591281828674681},89.358858988360964,108.00888504076126,125.91832277591401,137.59892427413683,142.84273237824809,147.46293829341579,150.06790411460003,{"$f":"SUM(AP430:AP431)","v":149.42537176334207},143.21263212398279,136.79990839591292,134.92447230018587,130.87427582687462]
[null,null,null,null,"Net additions (after disposals)",null,"£m 18/19 prices",null,null,">",null,null,null,null,null,null,null,null,null,null,null,null,null,null,null,null,null,null,null,null,null,null,null,{"$f":"AH393","v":33.613516461402909},{"$f":"AI393","v":37.297896277174495},39.825586569626246,37.859294684671077,34.931206132038099,37.571292525416673,38.752613646599258,36.479097119731861,31.318258497106125,30.264040439814316,33.435392910755425,30.628646565469019,26.723962025672726]
[null,null,null,null,"Depreciation",null,"£m 18/19 prices",null,null,">",null,null,null,null,null,null,null,null,null,null,null,null,null,null,null,null,null,null,null,null,null,null,null,{"$f":"-AH423","v":-13.845939301716633},{"$f":"-AI423","v":-18.647870224774191},-21.9161488344735,-26.178693186448243,-29.687398027926839,-32.951086610248993,-36.147647825415007,-37.121629470989831,{"$f":"-AP423","v":-37.530998136465392},-36.676764167884187,-35.310829006482486,-34.678843038780244,-34.064191672127521]
[null,null,null,null,"Closing RAV",null,"£m 18/19 prices",null,null,">",null,null,null,null,null,null,null,null,null,null,null,null,null,null,null,null,null,null,null,null,null,null,null,{"$f":"SUM(AH432:AH434)","v":89.358858988360964},108.00888504076126,125.91832277591401,137.59892427413683,142.84273237824809,147.46293829341579,150.06790411460003,149.42537176334207,{"$f":"SUM(AP432:AP434)","v":143.21263212398279},136.79990839591292,134.92447230018587,130.87427582687462,123.53404618041984]
[]
[null,"Return"]
[]
[null,null,"Return base"]
[null,null,"Note: The \"Return base\" is calculated such that the net present value of the stream of depreciation and return flowing from a RAV addition is equal to the present value of the addition itself."]
[]
[null,null,null,"Present value of closing RAV"]
[]
[null,null,null,null,"Vanilla WACC",null,"annual real %",null,null,null,null,null,null,null,null,null,null,null,null,null,null,null,null,null,null,null,null,null,null,null,null,null,null,null,null,null,null,null,null,null,null,{"$f":"AP122","v":2.93727524E-2},{"$f":"AQ122","v":2.8521030400000001E-2},{"$f":"AR122","v":2.7998275199999999E-2},{"$f":"AS122","v":2.7525864400000002E-2},{"$f":"AT122","v":2.7243109200000004E-2}]
[null,null,null,null,"Single year discount factor",null,"scalar",null,null,null,null,null,null,null,null,null,null,null,null,null,null,null,null,null,null,null,null,null,null,null,null,null,null,null,null,null,null,null,null,null,null,{"$f":"1 / (1 + AP444)","v":0.97146538770186308},0.9722698617169665,0.97276427803874188,0.97321151189116473,0.97347939455031585]
[]
[null,null,null,null,"Closing RAV",null,"£m 18/19 prices",null,null,null,null,null,null,null,null,null,null,null,null,null,null,null,null,null,null,null,null,null,null,null,null,null,null,null,null,null,null,null,null,null,null,{"$f":"AP435","v":143.21263212398279},136.79990839591292,134.92447230018587,130.87427582687462,123.53404618041984]
[]
[null,null,null,null,"Present value closing RAV",null,"£m 18/19 prices",null,null,null,null,null,null,null,null,null,null,null,null,null,null,null,null,null,null,null,null,null,null,null,null,null,null,null,null,null,null,null,null,null,null,{"$f":"AP447 * AP445","v":139.12611519012924},133.00642801898795,131.24970688684854,127.36835184513396,120.25784848206585]
[]
[null,null,null,"NPV-neutral RAV return base"]
[]
[null,null,null,null,"Present value opening RAV (after transfers)",null,"£m 18/19 prices",null,null,null,null,null,null,null,null,null,null,null,null,null,null,null,null,null,null,null,null,null,null,null,null,null,null,null,null,null,null,null,null,null,null,{"$f":"AP432","v":149.42537176334207},143.21263212398279,136.79990839591292,134.92447230018587,130.87427582687462]
[null,null,null,null,"Present value closing RAV",null,"£m 18/19 prices",null,null,null,null,null,null,null,null,null,null,null,null,null,null,null,null,null,null,null,null,null,null,null,null,null,null,null,null,null,null,null,null,null,null,{"$f":"AP449","v":139.12611519012924},133.00642801898795,131.24970688684854,127.36835184513396,120.25784848206585]
[]
[null,null,null,null,"NPV-neutral RAV return base",null,"£m 18/19 prices",null,null,null,null,null,null,null,null,null,null,null,null,null,null,null,null,null,null,null,null,null,null,null,null,null,null,null,null,null,null,null,null,null,null,{"$f":"AVERAGE(AP453:AP454)","v":144.27574347673567},138.10953007148538,134.02480764138073,131.14641207265993,125.56606215447025]
[]
[null,null,"Return on RAV"]
[]
[null,null,null,null,"NPV-neutral RAV return base",null,"£m 18/19 prices",null,null,null,null,null,null,null,null,null,null,null,null,null,null,null,null,null,null,null,null,null,null,null,null,null,null,null,null,null,null,null,null,null,null,{"$f":"AP456","v":144.27574347673567},138.10953007148538,134.02480764138073,131.14641207265993,125.56606215447025]
[null,null,null,null,"Vanilla WACC",null,"annual real %",null,null,null,null,null,null,null,null,null,null,null,null,null,null,null,null,null,null,null,null,null,null,null,null,null,null,null,null,null,null,null,null,null,null,{"$f":"AP444","v":2.93727524E-2},2.8521030400000001E-2,2.7998275199999999E-2,2.7525864400000002E-2,2.7243109200000004E-2]
[]
[null,null,null,null,"Return",null,"£m 18/19 prices",null,null,null,null,null,null,null,null,null,null,null,null,null,null,null,null,null,null,null,null,null,null,null,null,null,null,null,null,null,null,null,null,null,null,{"$f":"AP460 * AP461","v":4.2377756904680721},3.9390261056985487,3.7524634479704404,3.6099183552585603,3.4208099430882206]
[]
[null,"Tax allowance"]
[]
[null,null,"Tax base"]
[null,null,"Note: The tax charge is calculated before tax on tax. Tax on tax is added after losses are taken into account."]
[]
[null,null,null,null,"Add recalculated base revenue (except tax allowance)",null,"£m nominal",null,null,null,null,null,null,null,null,null,null,null,null,null,null,null,null,null,null,null,null,null,null,null,null,null,null,null,null,null,null,null,null,null,null,{"$f":"AP604 * SOpf","v":205.26677333353183},196.69593293929881,203.51551787575588,198.27852878347022,190.78454080075042]
[null,null,null,null,"Less pre-RIIO-1 pension true-up",null,"£m nominal",null,null,null,null,null,null,null,null,null,null,null,null,null,null,null,null,null,null,null,null,null,null,null,null,null,null,null,null,null,null,null,null,null,null,{"$f":" - AP75 *SOpf","v":0.20425445697930328},{"$f":" - AQ75 *SOpf","v":0},{"$f":" - AR75 *SOpf","v":0},{"$f":" - AS75 *SOpf","v":0},{"$f":" - AT75 *SOpf","v":0}]
[null,null,null,null,"Less net interest paid (excluding principal inflation accretion)",null,"£m nominal",null,null,null,null,null,null,null,null,null,null,null,null,null,null,null,null,null,null,null,null,null,null,null,null,null,null,null,null,null,null,null,null,null,null,{"$f":"'Finance&Tax'!AP180","v":-3.1438648007066861},{"$f":"'Finance&Tax'!AQ180","v":-2.8990535609673072},{"$f":"'Finance&Tax'!AR180","v":-2.7064710275678658},{"$f":"'Finance&Tax'!AS180","v":-2.5633318147882869},{"$f":"'Finance&Tax'!AT180","v":-2.4050763696677935}]
[null,null,null,null,"Less net interest paid (principal inflation accretion)",null,"£m nominal",null,null,null,null,null,null,null,null,null,null,null,null,null,null,null,null,null,null,null,null,null,null,null,null,null,null,null,null,null,null,null,null,null,null,{"$f":"'Finance&Tax'!AP182","v":-0.34379891740291457},{"$f":"'Finance&Tax'!AQ182","v":-0.41658827754510619},{"$f":"'Finance&Tax'!AR182","v":-0.44700256994487514},{"$f":"'Finance&Tax'!AS182","v":-0.47284815422609522},{"$f":"'Finance&Tax'!AT182","v":-0.46725955525770702}]
[null,null,null,null,"Less revenue tax pool additions",null,"£m nominal",null,null,null,null,null,null,null,null,null,null,null,null,null,null,null,null,null,null,null,null,null,null,null,null,null,null,null,null,null,null,null,null,null,null,{"$f":" - AP322 * SOpf","v":-164.45758382388209},{"$f":" - AQ322 * SOpf","v":-156.71460972326659},{"$f":" - AR322 * SOpf","v":-157.54515586079901},{"$f":" - AS322 * SOpf","v":-158.90255669102106},{"$f":" - AT322 * SOpf","v":-159.83999284726258}]
[null,null,null,null,"Less capital allowances",null,"£m nominal",null,null,null,null,null,null,null,null,null,null,null,null,null,null,null,null,null,null,null,null,null,null,null,null,null,null,null,null,null,null,null,null,null,null,{"$f":"AP380","v":-29.239532249173028},{"$f":"AQ380","v":-29.180368992701752},{"$f":"AR380","v":-31.099918029484396},{"$f":"AS380","v":-31.059782531293777},{"$f":"AT380","v":-28.847011635107727}]
[null,null,null,null,"Profits attributable to corporation tax (before Tax Clawback)",null,"£m nominal",null,null,null,null,null,null,null,null,null,null,null,null,null,null,null,null,null,null,null,null,null,null,null,null,null,null,null,null,null,null,null,null,null,null,{"$f":"SUM(AP470:AP475)","v":8.2862479993463971},{"$f":"SUM(AQ470:AQ475)","v":7.4853123848180516},{"$f":"SUM(AR470:AR475)","v":11.716970387959723},{"$f":"SUM(AS470:AS475)","v":5.2800095921410133},{"$f":"SUM(AT470:AT475)","v":-0.77479960654537905}]
[]
[null,null,"Tax allowance"]
[]
[null,null,null,"Regulatory Tax losses"]
[]
[null,null,null,null,"Taxable losses brought forward",null,"£m nominal",null,null,null,null,null,null,null,null,null,null,null,null,null,null,null,null,null,null,null,null,null,null,null,null,null,null,null,null,null,null,null,null,null,null,{"$f":"AP166","v":0},{"$f":"SUM(AP487)","v":0},{"$f":"SUM(AQ487)","v":0},{"$f":"SUM(AR487)","v":0},{"$f":"SUM(AS487)","v":0}]
[null,null,null,null,"In-year taxable loss",null,"£m nominal",null,null,null,null,null,null,null,null,null,null,null,null,null,null,null,null,null,null,null,null,null,null,null,null,null,null,null,null,null,null,null,null,null,null,{"$f":"MIN(AP476, 0)","v":0},{"$f":"MIN(AQ476, 0)","v":0},{"$f":"MIN(AR476, 0)","v":0},{"$f":"MIN(AS476, 0)","v":0},{"$f":"MIN(AT476, 0)","v":-0.77479960654537905}]
[null,null,null,null,"Contributions to losses from clawback",null,"£m nominal",null,null,null,null,null,null,null,null,null,null,null,null,null,null,null,null,null,null,null,null,null,null,null,null,null,null,null,null,null,null,null,null,null,null,{"$f":" - AP592","v":0},{"$f":" - AQ592","v":0},{"$f":" - AR592","v":0},{"$f":" - AS592","v":0},{"$f":" - AT592","v":0}]
[null,null,null,null,"Adjustment to losses from tax trigger",null,"£m nominal",null,null,null,null,null,null,null,null,null,null,null,null,null,null,null,null,null,null,null,null,null,null,null,null,null,null,null,null,null,null,null,null,null,null,{"$f":"AP558","v":0},{"$f":"AQ558","v":0},{"$f":"AR558","v":0},{"$f":"AS558","v":0},{"$f":"AT558","v":0}]
[null,null,null,null,"Profits used to offset outstanding losses (excluded from corporation tax)",null,"£m nominal",null,null,null,null,null,null,null,null,null,null,null,null,null,null,null,null,null,null,null,null,null,null,null,null,null,null,null,null,null,null,null,null,null,null,{"$f":"IF(AP476 >= 0, MIN(AP476, -AP482-AP484-AP485), 0)","v":0},{"$f":"IF(AQ476 >= 0, MIN(AQ476, -AQ482-AQ484-AQ485), 0)","v":0},{"$f":"IF(AR476 >= 0, MIN(AR476, -AR482-AR484-AR485), 0)","v":0},{"$f":"IF(AS476 >= 0, MIN(AS476, -AS482-AS484-AS485), 0)","v":0},{"$f":"IF(AT476 >= 0, MIN(AT476, -AT482-AT484-AT485), 0)","v":0}]
[null,null,null,null,"Balance carried forward",null,"£m nominal",null,null,null,null,null,null,null,null,null,null,null,null,null,null,null,null,null,null,null,null,null,null,null,null,null,null,null,null,null,null,null,null,null,null,{"$f":"SUM(AP482:AP486)","v":0},{"$f":"SUM(AQ482:AQ486)","v":0},{"$f":"SUM(AR482:AR486)","v":0},{"$f":"SUM(AS482:AS486)","v":0},{"$f":"SUM(AT482:AT486)","v":-0.77479960654537905}]
[]
[null,null,null,"Tax allowance (before Tax Trigger adjustment)"]
[null,null,null,"Note: A \"grossing-up factor\" based on the infinite geometric progression of being taxed on tax is used to move the tax allowance from a post-tax to a pre-tax basis. This can only be applied once tax losses have been taken into account."]
[]
[null,null,null,null,"Profits attributable to corporation tax (after taxable losses)",null,"£m nominal",null,null,null,null,null,null,null,null,null,null,null,null,null,null,null,null,null,null,null,null,null,null,null,null,null,null,null,null,null,null,null,null,null,null,{"$f":"MAX(AP476 - AP486,0)","v":8.2862479993463971},{"$f":"MAX(AQ476 - AQ486,0)","v":7.4853123848180516},{"$f":"MAX(AR476 - AR486,0)","v":11.716970387959723},{"$f":"MAX(AS476 - AS486,0)","v":5.2800095921410133},{"$f":"MAX(AT476 - AT486,0)","v":0}]
[null,null,null,null,"Corporation tax rate",null,"%",null,null,null,null,null,null,null,null,null,null,null,null,null,null,null,null,null,null,null,null,null,null,null,null,null,null,null,null,null,null,null,null,null,null,{"$f":"AP$176","v":0.19},{"$f":"AQ$176","v":0.19},{"$f":"AR$176","v":0.25},{"$f":"AS$176","v":0.25},{"$f":"AT$176","v":0.25}]
[null,null,null,null,"Corporation tax charge after losses",null,"£m nominal",null,null,null,null,null,null,null,null,null,null,null,null,null,null,null,null,null,null,null,null,null,null,null,null,null,null,null,null,null,null,null,null,null,null,{"$f":"AP493*AP492","v":1.5743871198758155},{"$f":"AQ493*AQ492","v":1.4222093531154298},{"$f":"AR493*AR492","v":2.9292425969899307},{"$f":"AS493*AS492","v":1.3200023980352533},{"$f":"AT493*AT492","v":0}]
[]
[null,null,null,null,"\"Grossing-up\" factor for tax on tax charge after losses",null,"scalar",null,null,null,null,null,null,null,null,null,null,null,null,null,null,null,null,null,null,null,null,null,null,null,null,null,null,null,null,null,null,null,null,null,null,{"$f":"1 / (1 - AP493)","v":1.2345679012345678},1.2345679012345678,1.3333333333333333,1.3333333333333333,1.3333333333333333]
[]
[null,null,null,null,"Tax allowance (before Tax Trigger adjustment)",null,"£m nominal",null,null,null,null,null,null,null,null,null,null,null,null,null,null,null,null,null,null,null,null,null,null,null,null,null,null,null,null,null,null,null,null,null,null,{"$f":"AP494*AP496","v":1.9436878023158215},{"$f":"AQ494*AQ496","v":1.7558140161918887},{"$f":"AR494*AR496","v":3.905656795986574},{"$f":"AS494*AS496","v":1.7600031973803376},{"$f":"AT494*AT496","v":0}]
[]
[null,null,null,"Tax allowance"]
[]
[null,null,null,null,"Tax allowance (before Tax Trigger adjustment)",null,"£m nominal",null,null,null,null,null,null,null,null,null,null,null,null,null,null,null,null,null,null,null,null,null,null,null,null,null,null,null,null,null,null,null,null,null,null,{"$f":"AP498","v":1.9436878023158215},{"$f":"AQ498","v":1.7558140161918887},{"$f":"AR498","v":3.905656795986574},{"$f":"AS498","v":1.7600031973803376},{"$f":"AT498","v":0}]
[null,null,null,null,"Additional allowance where tax trigger positive (net of adjustment to losses)",null,"£m nominal",null,null,null,null,null,null,null,null,null,null,null,null,null,null,null,null,null,null,null,null,null,null,null,null,null,null,null,null,null,null,null,null,null,null,{"$f":"AP566","v":0},{"$f":"AQ566","v":0},{"$f":"AR566","v":0},{"$f":"AS566","v":0},{"$f":"AT566","v":0}]
[null,null,null,null,"Tax allowance",null,"£m nominal",null,null,null,null,null,null,null,null,null,null,null,null,null,null,null,null,null,null,null,null,null,null,null,null,null,null,null,null,null,null,null,null,null,null,{"$f":"SUM(AP502:AP503)","v":1.9436878023158215},{"$f":"SUM(AQ502:AQ503)","v":1.7558140161918887},{"$f":"SUM(AR502:AR503)","v":3.905656795986574},{"$f":"SUM(AS502:AS503)","v":1.7600031973803376},{"$f":"SUM(AT502:AT503)","v":0}]
[null,null,null,null,"Tax allowance adjustment",null,"£m nominal",null,null,null,null,null,null,null,null,null,null,null,null,null,null,null,null,null,null,null,null,null,null,null,null,null,null,null,null,null,null,null,null,null,null,{"$f":"AP155","v":0},{"$f":"AQ155","v":0},{"$f":"AR155","v":0},{"$f":"AS155","v":0},{"$f":"AT155","v":0}]
[null,null,null,null,"Tax allowance (including adjustment)",null,"£m nominal",null,null,null,null,null,null,null,null,null,null,null,null,null,null,null,null,null,null,null,null,null,null,null,null,null,null,null,null,null,null,null,null,null,null,{"$f":"SUM(AP504:AP505)","v":1.9436878023158215},{"$f":"SUM(AQ504:AQ505)","v":1.7558140161918887},{"$f":"SUM(AR504:AR505)","v":3.905656795986574},{"$f":"SUM(AS504:AS505)","v":1.7600031973803376},{"$f":"SUM(AT504:AT505)","v":0}]
[]
[null,"Tax paid"]
[]
[null,null,"Tax base"]
[]
[]
[null,null,null,null,"Add recalculated base revenue (except tax allowance), incl add. income",null,"£m nominal",null,null,null,null,null,null,null,null,null,null,null,null,null,null,null,null,null,null,null,null,null,null,null,null,null,null,null,null,null,null,null,null,null,null,{"$f":"AP470","v":205.26677333353183},196.69593293929881,203.51551787575588,198.27852878347022,190.78454080075042]
[null,null,null,null,"Less pre-RIIO-1 pension true-up",null,"£m nominal",null,null,null,null,null,null,null,null,null,null,null,null,null,null,null,null,null,null,null,null,null,null,null,null,null,null,null,null,null,null,null,null,null,null,0.20425445697930328,0,0,0,0]
[null,null,null,null,"Add tax allowance (including adjustment)",null,"£m nominal",null,null,null,null,null,null,null,null,null,null,null,null,null,null,null,null,null,null,null,null,null,null,null,null,null,null,null,null,null,null,null,null,null,null,{"$f":"AP506","v":1.9436878023158215},{"$f":"AQ506","v":1.7558140161918887},{"$f":"AR506","v":3.905656795986574},{"$f":"AS506","v":1.7600031973803376},{"$f":"AT506","v":0}]
[null,null,null,null,"Less net interest paid (excluding principal inflation accretion)",null,"£m nominal",null,null,null,null,null,null,null,null,null,null,null,null,null,null,null,null,null,null,null,null,null,null,null,null,null,null,null,null,null,null,null,null,null,null,{"$f":"AP472","v":-3.1438648007066861},{"$f":"AQ472","v":-2.8990535609673072},-2.7064710275678658,-2.5633318147882869,-2.4050763696677935]
[null,null,null,null,"Less net interest paid (principal inflation accretion)",null,"£m nominal",null,null,null,null,null,null,null,null,null,null,null,null,null,null,null,null,null,null,null,null,null,null,null,null,null,null,null,null,null,null,null,null,null,null,-0.34379891740291457,-0.41658827754510619,-0.44700256994487514,-0.47284815422609522,-0.46725955525770702]
[null,null,null,null,"Less revenue tax pool additions",null,"£m nominal",null,null,null,null,null,null,null,null,null,null,null,null,null,null,null,null,null,null,null,null,null,null,null,null,null,null,null,null,null,null,null,null,null,null,{"$f":"AP474","v":-164.45758382388209},-156.71460972326659,-157.54515586079901,-158.90255669102106,-159.83999284726258]
[null,null,null,null,"Less capital allowances",null,"£m nominal",null,null,null,null,null,null,null,null,null,null,null,null,null,null,null,null,null,null,null,null,null,null,null,null,null,null,null,null,null,null,null,null,null,null,{"$f":"AP475","v":-29.239532249173028},-29.180368992701752,-31.099918029484396,-31.059782531293777,-28.847011635107727]
[null,null,null,null,"Profits attributable to corporation tax",null,"£m nominal",null,null,null,null,null,null,null,null,null,null,null,null,null,null,null,null,null,null,null,null,null,null,null,null,null,null,null,null,null,null,null,null,null,null,{"$f":"SUM(AP513:AP519)","v":10.229935801662219},{"$f":"SUM(AQ513:AQ519)","v":9.241126401009943},{"$f":"SUM(AR513:AR519)","v":15.622627183946296},{"$f":"SUM(AS513:AS519)","v":7.0400127895213558},{"$f":"SUM(AT513:AT519)","v":-0.77479960654537905}]
[]
[null,null,"Tax losses"]
[]
[null,null,null,null,"Taxable losses brought forward",null,"£m nominal",null,null,null,null,null,null,null,null,null,null,null,null,null,null,null,null,null,null,null,null,null,null,null,null,null,null,null,null,null,null,null,null,null,null,{"$f":"AP482","v":0},{"$f":"SUM(AP527)","v":0},{"$f":"SUM(AQ527)","v":0},{"$f":"SUM(AR527)","v":0},{"$f":"SUM(AS527)","v":0}]
[null,null,null,null,"In-year taxable loss",null,"£m nominal",null,null,null,null,null,null,null,null,null,null,null,null,null,null,null,null,null,null,null,null,null,null,null,null,null,null,null,null,null,null,null,null,null,null,{"$f":"MIN(AP520, 0)","v":0},{"$f":"MIN(AQ520, 0)","v":0},{"$f":"MIN(AR520, 0)","v":0},{"$f":"MIN(AS520, 0)","v":0},{"$f":"MIN(AT520, 0)","v":-0.77479960654537905}]
[null,null,null,null,"Profits reduced by tax losses ",null,"£m nominal",null,null,null,null,null,null,null,null,null,null,null,null,null,null,null,null,null,null,null,null,null,null,null,null,null,null,null,null,null,null,null,null,null,null,{"$f":"IF(AP520 >= 0, MIN(AP520, -AP524), 0)","v":0},{"$f":"IF(AQ520 >= 0, MIN(AQ520, -AQ524), 0)","v":0},{"$f":"IF(AR520 >= 0, MIN(AR520, -AR524), 0)","v":0},{"$f":"IF(AS520 >= 0, MIN(AS520, -AS524), 0)","v":0},{"$f":"IF(AT520 >= 0, MIN(AT520, -AT524), 0)","v":0}]
[null,null,null,null,"Balance carried forward",null,"£m nominal",null,null,null,null,null,null,null,null,null,null,null,null,null,null,null,null,null,null,null,null,null,null,null,null,null,null,null,null,null,null,null,null,null,null,{"$f":"SUM(AP524:AP526)","v":0},{"$f":"SUM(AQ524:AQ526)","v":0},{"$f":"SUM(AR524:AR526)","v":0},{"$f":"SUM(AS524:AS526)","v":0},{"$f":"SUM(AT524:AT526)","v":-0.77479960654537905}]
[]
[null,null,"Tax paid"]
[]
[]
[null,null,null,null,"Profits attributable to corporation tax (after taxable losses)",null,"£m nominal",null,null,null,null,null,null,null,null,null,null,null,null,null,null,null,null,null,null,null,null,null,null,null,null,null,null,null,null,null,null,null,null,null,null,{"$f":"MAX(AP520 - AP526,0)","v":10.229935801662219},{"$f":"MAX(AQ520 - AQ526,0)","v":9.241126401009943},{"$f":"MAX(AR520 - AR526,0)","v":15.622627183946296},{"$f":"MAX(AS520 - AS526,0)","v":7.0400127895213558},{"$f":"MAX(AT520 - AT526,0)","v":0}]
[null,null,null,null,"Corporation tax rate",null,"%",null,null,null,null,null,null,null,null,null,null,null,null,null,null,null,null,null,null,null,null,null,null,null,null,null,null,null,null,null,null,null,null,null,null,{"$f":"AP$176","v":0.19},{"$f":"AQ$176","v":0.19},{"$f":"AR$176","v":0.25},{"$f":"AS$176","v":0.25},{"$f":"AT$176","v":0.25}]
[null,null,null,null,"Corporation tax charge after losses",null,"£m nominal",null,null,null,null,null,null,null,null,null,null,null,null,null,null,null,null,null,null,null,null,null,null,null,null,null,null,null,null,null,null,null,null,null,null,{"$f":"AP533*AP532","v":1.9436878023158215},{"$f":"AQ533*AQ532","v":1.7558140161918891},{"$f":"AR533*AR532","v":3.905656795986574},{"$f":"AS533*AS532","v":1.7600031973803389},{"$f":"AT533*AT532","v":0}]
[]
[null,"Tax trigger calculations"]
[]
[null,null,"Tax trigger adjustment"]
[]
[null,null,null,null,"Tax liability - tax trigger events",null,"£m 18/19 prices",null,null,null,null,null,null,null,null,null,null,null,null,null,null,null,null,null,null,null,null,null,null,null,null,null,null,null,null,null,null,null,null,null,null,{"$f":"AP156","v":0},{"$f":"AQ156","v":0},{"$f":"AR156","v":0},{"$f":"AS156","v":0},{"$f":"AT156","v":0}]
[null,null,null,null,"Tax trigger deadband",null,"£m 18/19 prices",null,null,null,null,null,null,null,null,null,null,null,null,null,null,null,null,null,null,null,null,null,null,null,null,null,null,null,null,null,null,null,null,null,null,{"$f":"AP159","v":0.35535269898445798},{"$f":"AQ159","v":0.33811521212748413},{"$f":"AR159","v":0.35287450221706412},{"$f":"AS159","v":0.33060618568728362},{"$f":"AT159","v":0.30228187223292602}]
[]
[null,null,null,null,"Materiality threshold test passed?",null,"text",null,null,null,null,null,null,null,null,null,null,null,null,null,null,null,null,null,null,null,null,null,null,null,null,null,null,null,null,null,null,null,null,null,null,{"$f":"ABS(AP540) > AP541","v":false},{"$f":"ABS(AQ540) > AQ541","v":false},{"$f":"ABS(AR540) > AR541","v":false},{"$f":"ABS(AS540) > AS541","v":false},{"$f":"ABS(AT540) > AT541","v":false}]
[]
[null,null,null,null,"Tax trigger deadband value applied",null,"£m 18/19 prices",null,null,null,null,null,null,null,null,null,null,null,null,null,null,null,null,null,null,null,null,null,null,null,null,null,null,null,null,null,null,null,null,null,null,{"$f":"IF(AP540 > 0, -AP541, IF(AP540 < 0, AP541, 0))","v":0},{"$f":"IF(AQ540 > 0, -AQ541, IF(AQ540 < 0, AQ541, 0))","v":0},0,0,0]
[]
[null,null,null,null,"Tax trigger adjustment",null,"£m 18/19 prices",null,null,null,null,null,null,null,null,null,null,null,null,null,null,null,null,null,null,null,null,null,null,null,null,null,null,null,null,null,null,null,null,null,null,{"$f":"SUM(AP540, AP545) * AP543","v":0},{"$f":"SUM(AQ540, AQ545) * AQ543","v":0},0,0,0]
[]
[null,null,"Adjustment to losses"]
[]
[null,null,null,null,"Profit impact of tax trigger",null,"£m nominal",null,null,null,null,null,null,null,null,null,null,null,null,null,null,null,null,null,null,null,null,null,null,null,null,null,null,null,null,null,null,null,null,null,null,{"$f":"(AP547 * SOpf) * ((1 - AP493) / AP493)","v":0},{"$f":"(AQ547 * SOpf) * ((1 - AQ493) / AQ493)","v":0},{"$f":"(AR547 * SOpf) * ((1 - AR493) / AR493)","v":0},{"$f":"(AS547 * SOpf) * ((1 - AS493) / AS493)","v":0},{"$f":"(AT547 * SOpf) * ((1 - AT493) / AT493)","v":0}]
[]
[null,null,null,null,"Outstanding taxable losses (before tax trigger)",null,"£m nominal",null,null,null,null,null,null,null,null,null,null,null,null,null,null,null,null,null,null,null,null,null,null,null,null,null,null,null,null,null,null,null,null,null,null,{"$f":" MIN(AP476 + SUM(AP482, AP484), 0)","v":0},{"$f":" MIN(AQ476 + SUM(AQ482, AQ484), 0)","v":0},{"$f":" MIN(AR476 + SUM(AR482, AR484), 0)","v":0},{"$f":" MIN(AS476 + SUM(AS482, AS484), 0)","v":0},{"$f":" MIN(AT476 + SUM(AT482, AT484), 0)","v":-0.77479960654537905}]
[]
[null,null,null,null,"Taxable losses outstanding?",null,"text",null,null,null,null,null,null,null,null,null,null,null,null,null,null,null,null,null,null,null,null,null,null,null,null,null,null,null,null,null,null,null,null,null,null,{"$f":"AP553 < 0","v":false},{"$f":"AQ553 < 0","v":false},{"$f":"AR553 < 0","v":false},{"$f":"AS553 < 0","v":false},{"$f":"AT553 < 0","v":true}]
[null,null,null,null,"Profit impact of tax trigger > outstanding taxable losses?",null,"text",null,null,null,null,null,null,null,null,null,null,null,null,null,null,null,null,null,null,null,null,null,null,null,null,null,null,null,null,null,null,null,null,null,null,{"$f":"AND(AP551 + AP553 > 0, AP555)","v":false},{"$f":"AND(AQ551 + AQ553 > 0, AQ555)","v":false},{"$f":"AND(AR551 + AR553 > 0, AR555)","v":false},{"$f":"AND(AS551 + AS553 > 0, AS555)","v":false},{"$f":"AND(AT551 + AT553 > 0, AT555)","v":false}]
[]
[null,null,null,null,"Adjustment to losses from tax trigger",null,"£m nominal",null,null,null,null,null,null,null,null,null,null,null,null,null,null,null,null,null,null,null,null,null,null,null,null,null,null,null,null,null,null,null,null,null,null,{"$f":"IF(AP551 < 0, AP551, AP555 * IF(AP556, - AP553, AP551))","v":0},{"$f":"IF(AQ551 < 0, AQ551, AQ555 * IF(AQ556, - AQ553, AQ551))","v":0},{"$f":"IF(AR551 < 0, AR551, AR555 * IF(AR556, - AR553, AR551))","v":0},{"$f":"IF(AS551 < 0, AS551, AS555 * IF(AS556, - AS553, AS551))","v":0},{"$f":"IF(AT551 < 0, AT551, AT555 * IF(AT556, - AT553, AT551))","v":0}]
[]
[null,null,"Adjustment to tax allowance"]
[]
[null,null,null,null,"Profit impact of tax trigger (net of adjustment to losses)",null,"£m nominal",null,null,null,null,null,null,null,null,null,null,null,null,null,null,null,null,null,null,null,null,null,null,null,null,null,null,null,null,null,null,null,null,null,null,{"$f":"AP551 - AP558","v":0},{"$f":"AQ551 - AQ558","v":0},{"$f":"AR551 - AR558","v":0},{"$f":"AS551 - AS558","v":0},{"$f":"AT551 - AT558","v":0}]
[null,null,null,null,"Corporation tax rate",null,"%",null,null,null,null,null,null,null,null,null,null,null,null,null,null,null,null,null,null,null,null,null,null,null,null,null,null,null,null,null,null,null,null,null,null,{"$f":"AP493","v":0.19},{"$f":"AQ493","v":0.19},{"$f":"AR493","v":0.25},{"$f":"AS493","v":0.25},{"$f":"AT493","v":0.25}]
[null,null,null,null,"\"Grossing-up\" factor for tax on tax charge after losses",null,"scalar",null,null,null,null,null,null,null,null,null,null,null,null,null,null,null,null,null,null,null,null,null,null,null,null,null,null,null,null,null,null,null,null,null,null,{"$f":"AP496","v":1.2345679012345678},{"$f":"AQ496","v":1.2345679012345678},{"$f":"AR496","v":1.3333333333333333},{"$f":"AS496","v":1.3333333333333333},{"$f":"AT496","v":1.3333333333333333}]
[]
[null,null,null,null,"Additional allowance where tax trigger positive (net of adjustment to losses)",null,"£m nominal",null,null,null,null,null,null,null,null,null,null,null,null,null,null,null,null,null,null,null,null,null,null,null,null,null,null,null,null,null,null,null,null,null,null,{"$f":"AP562 * AP563 * AP564","v":0},{"$f":"AQ562 * AQ563 * AQ564","v":0},{"$f":"AR562 * AR563 * AR564","v":0},{"$f":"AS562 * AS563 * AS564","v":0},{"$f":"AT562 * AT563 * AT564","v":0}]
[]
[null,"Tax clawback calculations"]
[]
[null,null,null,"Gearing level test"]
[]
[null,null,null,null,"Closing RAV (SO)",null,"£m 18/19 prices",null,null,null,null,null,null,null,null,null,null,null,null,null,null,null,null,null,null,null,null,null,null,null,null,null,null,null,null,null,null,null,null,null,null,{"$f":"AP435","v":143.21263212398279},{"$f":"AQ435","v":136.79990839591292},{"$f":"AR435","v":134.92447230018587},{"$f":"AS435","v":130.87427582687462},{"$f":"AT435","v":123.53404618041984}]
[null,null,null,null,"Real to nominal prices conversion factor (financial year end)",null,"scalar",null,null,null,null,null,null,null,null,null,null,null,null,null,null,null,null,null,null,null,null,null,null,null,null,null,null,null,null,null,null,null,null,null,null,{"$f":"AP144","v":1.0606454571397199},{"$f":"AQ144","v":1.0785770775826966},{"$f":"AR144","v":1.0987601131013411},{"$f":"AS144","v":1.1205065599926722},{"$f":"AT144","v":1.1419681372984609}]
[]
[null,null,null,null,"Adjusted net debt",null,"£m nominal",null,null,null,null,null,null,null,null,null,null,null,null,null,null,null,null,null,null,null,null,null,null,null,null,null,null,null,null,null,null,null,null,null,null,{"$f":"AP153","v":0},{"$f":"AQ153","v":0},{"$f":"AR153","v":0},{"$f":"AS153","v":0},{"$f":"AT153","v":0}]
[null,null,null,null,"Closing RAV (SO)",null,"£m nominal",null,null,null,null,null,null,null,null,null,null,null,null,null,null,null,null,null,null,null,null,null,null,null,null,null,null,null,null,null,null,null,null,null,null,{"$f":"AP572 * AP573","v":151.89782766732426},{"$f":"AQ572 * AQ573","v":147.54924541124436},148.24962844469098,146.64548459830343,141.0719446095961]
[]
[null,null,null,null,"Actual gearing",null,"%",null,null,null,null,null,null,null,null,null,null,null,null,null,null,null,null,null,null,null,null,null,null,null,null,null,null,null,null,null,null,null,null,null,null,{"$f":"AP575/AP576","v":0},{"$f":"AQ575/AQ576","v":0},0,0,0]
[null,null,null,null,"Notional gearing for \"Tax clawback gearing level test\"",null,"%",null,null,null,null,null,null,null,null,null,null,null,null,null,null,null,null,null,null,null,null,null,null,null,null,null,null,null,null,null,null,null,null,null,null,{"$f":"AP158","v":0.625},{"$f":"AQ158","v":0.61880000000000002},{"$f":"AR158","v":0.61250000000000004},{"$f":"AS158","v":0.60629999999999995},{"$f":"AT158","v":0.6}]
[null,null,null,null,"Gearing level test (actual gearing > notional gearing)",null,"text",null,null,null,null,null,null,null,null,null,null,null,null,null,null,null,null,null,null,null,null,null,null,null,null,null,null,null,null,null,null,null,null,null,null,{"$f":"AP578 > AP579","v":false},false,false,false,false]
[]
[null,null,null,"Positive benefit test"]
[]
[null,null,null,null,"Tax deductible net interest cost - actual",null,"£m nominal",null,null,null,null,null,null,null,null,null,null,null,null,null,null,null,null,null,null,null,null,null,null,null,null,null,null,null,null,null,null,null,null,null,null,{"$f":"AP154","v":0},{"$f":"AQ154","v":0},{"$f":"AR154","v":0},{"$f":"AS154","v":0},{"$f":"AT154","v":0}]
[null,null,null,null,"Interest (SO) - notional",null,"£m nominal",null,null,null,null,null,null,null,null,null,null,null,null,null,null,null,null,null,null,null,null,null,null,null,null,null,null,null,null,null,null,null,null,null,null,{"$f":" - SUM(AP472, AP473)","v":3.4876637181096006},{"$f":" - SUM(AQ472, AQ473)","v":3.3156418385124136},{"$f":" - SUM(AR472, AR473)","v":3.153473597512741},{"$f":" - SUM(AS472, AS473)","v":3.0361799690143823},{"$f":" - SUM(AT472, AT473)","v":2.8723359249255003}]
[null,null,null,null,"Positive benefit test (actual interest > notional interest)",null,"text",null,null,null,null,null,null,null,null,null,null,null,null,null,null,null,null,null,null,null,null,null,null,null,null,null,null,null,null,null,null,null,null,null,null,{"$f":"AP584 > AP585","v":false},{"$f":"AQ584 > AQ585","v":false},{"$f":"AR584 > AR585","v":false},{"$f":"AS584 > AS585","v":false},{"$f":"AT584 > AT585","v":false}]
[]
[null,null,null,"Positive benefit for tax clawback"]
[]
[null,null,null,null,"Tax clawback applies?",null,"text",null,null,null,null,null,null,null,null,null,null,null,null,null,null,null,null,null,null,null,null,null,null,null,null,null,null,null,null,null,null,null,null,null,null,{"$f":"AP580 * AP586 = 1","v":false},{"$f":"AQ580 * AQ586 = 1","v":false},{"$f":"AR580 * AR586 = 1","v":false},{"$f":"AS580 * AS586 = 1","v":false},{"$f":"AT580 * AT586 = 1","v":false}]
[]
[null,null,null,null,"Positive benefit for tax clawback",null,"£m nominal",null,null,null,null,null,null,null,null,null,null,null,null,null,null,null,null,null,null,null,null,null,null,null,null,null,null,null,null,null,null,null,null,null,null,{"$f":"(AP584 - AP585) * AP590","v":0},{"$f":"(AQ584 - AQ585) * AQ590","v":0},{"$f":"(AR584 - AR585) * AR590","v":0},{"$f":"(AS584 - AS585) * AS590","v":0},{"$f":"(AT584 - AT585) * AT590","v":0}]
[]
[null,"Calculated revenue"]
[null,"Note: \"Recalculated base revenue\" calculates the Base Revenue that would have been allowed if the current inputs were known at Final Proposals."]
[null,"Its values feed into the SOMOD calculation below and are saved via functionality on the \"LiveResults\" sheet so it can be recalled in the SOMOD calculation in the following year."]
[]
[null,null,null,null,"Fast money",null,"£m 18/19 prices","SOFMt",null,null,null,null,null,null,null,null,null,null,null,null,null,null,null,null,null,null,null,null,null,null,null,null,null,null,null,null,null,null,null,null,null,{"$f":"AP305","v":60.79426649438247},{"$f":"AQ305","v":58.747843206698363},{"$f":"AR305","v":64.903998003231109},{"$f":"AS305","v":59.455608038851608},{"$f":"AT305","v":51.875926285129395}]
[null,null,null,null,"Pass-through expenditure",null,"£m 18/19 prices","SOPTt",null,null,null,null,null,null,null,null,null,null,null,null,null,null,null,null,null,null,null,null,null,null,null,null,null,null,null,null,null,null,null,null,null,{"$f":"AP48","v":5.1195957345804359},{"$f":"AQ48","v":3.09552170986561},{"$f":"AR48","v":2.9643768808202462},{"$f":"AS48","v":2.4393231996197748},{"$f":"AT48","v":2.2396394429657835}]
[null,null,null,null,"Depreciation",null,"£m 18/19 prices","SODPNt",null,null,null,null,null,null,null,null,null,null,null,null,null,null,null,null,null,null,null,null,null,null,null,null,null,null,null,null,null,null,null,null,null,{"$f":"AP423","v":37.530998136465392},{"$f":"AQ423","v":36.676764167884187},{"$f":"AR423","v":35.310829006482486},{"$f":"AS423","v":34.678843038780244},{"$f":"AT423","v":34.064191672127521}]
[null,null,null,null,"Return",null,"£m 18/19 prices","SORTNt",null,null,null,null,null,null,null,null,null,null,null,null,null,null,null,null,null,null,null,null,null,null,null,null,null,null,null,null,null,null,null,null,null,{"$f":"AP463","v":4.2377756904680721},{"$f":"AQ463","v":3.9390261056985487},{"$f":"AR463","v":3.7524634479704404},{"$f":"AS463","v":3.6099183552585603},{"$f":"AT463","v":3.4208099430882206}]
[null,null,null,null,"Base revenue",null,"£m 18/19 prices",null,null,null,null,null,null,null,null,null,null,null,null,null,null,null,null,null,null,null,null,null,null,null,null,null,null,null,null,null,null,null,null,null,null,{"$f":"SUM(AP598:AP601)","v":107.68263605589637},{"$f":"SUM(AQ598:AQ601)","v":102.4591551901467},{"$f":"SUM(AR598:AR601)","v":106.93166733850428},{"$f":"SUM(AS598:AS601)","v":100.18369263251019},{"$f":"SUM(AT598:AT601)","v":91.600567343310914}]
[null,null,null,null,"Other revenue allowance",null,"£m 18/19 prices","SOORAt",null,null,null,null,null,null,null,null,null,null,null,null,null,null,null,null,null,null,null,null,null,null,null,null,null,null,null,null,null,null,null,null,null,{"$f":"AP76","v":87.32443798066906},{"$f":"AQ76","v":81.466733965917285},{"$f":"AR76","v":80.041293233961724},{"$f":"AS76","v":78.523344261398179},{"$f":"AT76","v":76.986278295735175}]
[null,null,null,null,"Calculated revenue (before tax)",null,"£m 18/19 prices",null,null,null,null,null,null,null,null,null,null,null,null,null,null,null,null,null,null,null,null,null,null,null,null,null,null,null,null,null,null,null,null,null,null,{"$f":"SUM(AP602:AP603)","v":195.00707403656543},{"$f":"SUM(AQ602:AQ603)","v":183.92588915606399},{"$f":"SUM(AR602:AR603)","v":186.97296057246601},{"$f":"SUM(AS602:AS603)","v":178.70703689390837},{"$f":"SUM(AT602:AT603)","v":168.58684563904609}]
[null,null,null,null,"Tax allowance",null,"£m 18/19 prices","SOTAXt",null,null,null,null,null,null,null,null,null,null,null,null,null,null,null,null,null,null,null,null,null,null,null,null,null,null,null,null,null,null,null,null,null,{"$f":"AP504 / SOpf","v":1.8465378736883606},{"$f":"AQ504 / SOpf","v":1.641821715858423},{"$f":"AR504 / SOpf","v":3.5881893515923098},{"$f":"AS504 / SOpf","v":1.5862784450610949},{"$f":"AT504 / SOpf","v":0}]
[null,null,null,null,"Tax allowance adjustment",null,"£m 18/19 prices","SOTAXAt",null,null,null,null,null,null,null,null,null,null,null,null,null,null,null,null,null,null,null,null,null,null,null,null,null,null,null,null,null,null,null,null,null,{"$f":"AP155 / SOpf","v":0},{"$f":"AQ155 / SOpf","v":0},{"$f":"AR155 / SOpf","v":0},{"$f":"AS155 / SOpf","v":0},{"$f":"AT155 / SOpf","v":0}]
[null,null,null,null,"Calculated revenue",null,"£m 18/19 prices","SORt",null,null,null,null,null,null,null,null,null,null,null,null,null,null,null,null,null,null,null,null,null,null,null,null,null,null,null,null,null,null,null,null,null,{"$f":"SUM(AP604:AP606)","v":196.85361191025379},{"$f":"SUM(AQ604:AQ606)","v":185.5677108719224},{"$f":"SUM(AR604:AR606)","v":190.56114992405833},{"$f":"SUM(AS604:AS606)","v":180.29331533896945},{"$f":"SUM(AT604:AT606)","v":168.58684563904609}]
[]
[null,"End of sheet"]

{"sheet":"Return&RAV","index":7,"n_rows":156,"n_cols":46,"rows_kept":156,"cut":false,"hidden":false,"merged":[]}
["Return & RAV"]
[null,{"$f":"UserInterface!G17","v":"NGGT TO"}]
[null,null,null,null,"Parameter",null,"Units",null,"Constant",null,null,null,null,null,null,null,null,null,null,null,null,null,null,null,null,null,null,null,null,null,null,null,null,null,null,null,null,null,null,null,null,"Annual values"]
[null,null,null,null,"PCFM year ending",{"$f":"Cover!C4","v":"Model Version"},null,null,{"$f":"UserInterface!$G$10","v":"2022-03-31"},null,"1991-03-31","1992-03-31","1993-03-31","1994-03-31","1995-03-31","1996-03-31","1997-03-31","1998-03-31","1999-03-31","2000-03-31","2001-03-31","2002-03-31","2003-03-31","2004-03-31","2005-03-31","2006-03-31","2007-03-31","2008-03-31","2009-03-31","2010-03-31","2011-03-31","2012-03-31","2013-03-31","2014-03-31","2015-03-31","2016-03-31","2017-03-31","2018-03-31","2019-03-31","2020-03-31","2021-03-31","2022-03-31","2023-03-31","2024-03-31","2025-03-31","2026-03-31"]
[]
[null,"Return"]
[]
[null,null,"Return base"]
[null,null,"Note: The \"Return base\" is calculated such that the net present value of the stream of depreciation and return flowing from a RAV addition is equal to the present value of the addition itself."]
[]
[null,null,null,"Present value of closing RAV"]
[]
[null,null,null,null,"Vanilla WACC",null,"annual real %",null,null,null,null,null,null,null,null,null,null,null,null,null,null,null,null,null,null,null,null,null,null,null,null,null,null,null,null,null,null,null,null,null,null,{"$f":"Input!AP169","v":2.93727524E-2},{"$f":"Input!AQ169","v":2.8521030400000001E-2},{"$f":"Input!AR169","v":2.7998275199999999E-2},{"$f":"Input!AS169","v":2.7525864400000002E-2},{"$f":"Input!AT169","v":2.7243109200000004E-2}]
[null,null,null,null,"Single year discount factor",null,"scalar",null,null,null,null,null,null,null,null,null,null,null,null,null,null,null,null,null,null,null,null,null,null,null,null,null,null,null,null,null,null,null,null,null,null,{"$f":"1 / (1 + AP13)","v":0.97146538770186308},0.9722698617169665,0.97276427803874188,0.97321151189116473,0.97347939455031585]
[]
[null,null,null,null,"Closing RAV",null,"£m 18/19 prices",null,null,null,null,null,null,null,null,null,null,null,null,null,null,null,null,null,null,null,null,null,null,null,null,null,null,null,null,null,null,null,null,null,null,{"$f":"AP44","v":5857.5260398589608},5828.4123375147101,5800.7052124493484,5646.556840441639,5484.1255302550444]
[]
[null,null,null,null,"Discounted closing RAV",null,"£m 18/19 prices",null,null,null,null,null,null,null,null,null,null,null,null,null,null,null,null,null,null,null,null,null,null,null,null,null,null,null,null,null,null,null,null,null,null,{"$f":"AP16 * AP14","v":5690.3838052853444},5666.7896574248889,5642.7188181038573,5495.2941196656056,5338.6832008306101]
[]
[null,null,null,"NPV-neutral RAV return base"]
[]
[null,null,null,null,"Opening RAV (after transfers)",null,"£m 18/19 prices",null,null,null,null,null,null,null,null,null,null,null,null,null,null,null,null,null,null,null,null,null,null,null,null,null,null,null,null,null,null,null,null,null,null,{"$f":"AP41","v":5959.612586666095},5857.5260398589608,5828.4123375147101,5800.7052124493484,5646.556840441639]
[null,null,null,null,"Discounted closing RAV",null,"£m 18/19 prices",null,null,null,null,null,null,null,null,null,null,null,null,null,null,null,null,null,null,null,null,null,null,null,null,null,null,null,null,null,null,null,null,null,null,{"$f":"AP18","v":5690.3838052853444},5666.7896574248889,5642.7188181038573,5495.2941196656056,5338.6832008306101]
[]
[null,null,null,null,"NPV-neutral RAV return base",null,"£m 18/19 prices",null,null,null,null,null,null,null,null,null,null,null,null,null,null,null,null,null,null,null,null,null,null,null,null,null,null,null,null,null,null,null,null,null,null,{"$f":"AVERAGE(AP22:AP23)","v":5824.9981959757197},5762.1578486419248,5735.5655778092842,5647.999666057477,5492.6200206361245]
[]
[null,null,"Return on RAV"]
[]
[null,null,null,null,"NPV-neutral RAV return base",null,"£m 18/19 prices",null,null,null,null,null,null,null,null,null,null,null,null,null,null,null,null,null,null,null,null,null,null,null,null,null,null,null,null,null,null,null,null,null,null,{"$f":"AP25","v":5824.9981959757197},5762.1578486419248,5735.5655778092842,5647.999666057477,5492.6200206361245]
[null,null,null,null,"Vanilla WACC",null,"annual real %",null,null,null,null,null,null,null,null,null,null,null,null,null,null,null,null,null,null,null,null,null,null,null,null,null,null,null,null,null,null,null,null,null,null,{"$f":"AP13","v":2.93727524E-2},2.8521030400000001E-2,2.7998275199999999E-2,2.7525864400000002E-2,2.7243109200000004E-2]
[]
[null,null,null,null,"Return",null,"£m 18/19 prices",null,null,null,null,null,null,null,null,null,null,null,null,null,null,null,null,null,null,null,null,null,null,null,null,null,null,null,null,null,null,null,null,null,null,{"$f":"AP29 * AP30","v":171.09622974084149},164.34267917071494,160.58594347515134,155.4660729391434,149.6360470162962]
[]
[null,"RAV"]
[null,"Note: The RAV is presented separate pre-vesting and post-vesting balances brought together to form a combined \"Running total.\""]
[]
[null,null,"Running total"]
[]
[null,null,null,null,"Opening RAV (before transfers)",null,"£m 18/19 prices",null,null,null,null,null,null,null,null,null,null,null,null,null,null,null,null,null,null,null,null,null,null,null,null,null,null,{"$f":"(AH51 - AH60) + (AH77 - AH86)","v":5271.0229334341439},{"$f":"AH44","v":5615.0488180816392},5602.630109021201,5579.5037720634682,5592.0583410610316,5980.447411659411,6025.1351147898677,6017.2806700323163,{"$f":"AO44","v":5959.612586666095},{"$f":"AP44","v":5857.5260398589608},{"$f":"AQ44","v":5828.4123375147101},{"$f":"AR44","v":5800.7052124493484},{"$f":"AS44","v":5646.556840441639}]
[null,null,null,null,"Transfers",null,"£m 18/19 prices",null,null,null,null,null,null,null,null,null,null,null,null,null,null,null,null,null,null,null,null,null,null,null,null,null,null,{"$f":"(AH52 - AH61) + (AH78 - AH87)","v":313.69384550980573},{"$f":"(AI52 - AI61) + (AI78 - AI87)","v":2.0863575566386627},2.5435552573371676,19.242051647933504,341.69935414528072,18.293399082289202,24.260658999472774,1.0643712982245235,{"$f":"(AP52 - AP61) + (AP78 - AP87)","v":0},0,0,0,0]
[null,null,null,null,"Opening RAV (after transfers)",null,"£m 18/19 prices",null,null,null,null,null,null,null,null,null,null,null,null,null,null,null,null,null,null,null,null,null,null,null,null,null,null,{"$f":"SUM(AH39:AH40)","v":5584.71677894395},5617.1351756382783,5605.1736642785381,5598.7458237114015,5933.7576952063118,5998.7408107417004,6049.3957737893406,6018.3450413305409,{"$f":"SUM(AP39:AP40)","v":5959.612586666095},5857.5260398589608,5828.4123375147101,5800.7052124493484,5646.556840441639]
[null,null,null,null,"Net additions (after disposals)",null,"£m 18/19 prices",null,null,null,null,null,null,null,null,null,null,null,null,null,null,null,null,null,null,null,null,null,null,null,null,null,null,{"$f":"AH54 + AH80","v":212.5523707516233},{"$f":"AI54 + AI80","v":170.28866360126466},160.76820306435465,181.59587737509875,245.9491647431349,229.32945839854813,174.25903562198178,149.34140951034567,{"$f":"AP54 + AP80","v":196.37873160813356},271.21938499480945,277.55797474414959,156.06228341594996,147.17430753284222]
[null,null,null,null,"Depreciation",null,"£m 18/19 prices",null,null,null,null,null,null,null,null,null,null,null,null,null,null,null,null,null,null,null,null,null,null,null,null,null,null,{"$f":"-(AH63 + AH89)","v":-182.22033161393381},{"$f":"-(AI63 + AI89)","v":-184.79373021834192},-186.43809527942426,-188.28336002546865,-199.25944829003606,-202.93515435038114,-206.37413937900612,-208.07386417479077,{"$f":"-(AP63 + AP89)","v":-298.46527841526796},-300.33308733906023,-305.2650998095117,-310.21065542365932,-309.60561771943674]
[null,null,null,null,"Closing RAV",null,"£m 18/19 prices",null,null,null,null,null,null,null,null,null,null,null,null,null,null,null,null,null,null,null,null,null,null,null,null,null,null,{"$f":"SUM(AH41:AH43)","v":5615.0488180816392},{"$f":"SUM(AI41:AI43)","v":5602.630109021201},5579.5037720634682,5592.0583410610316,5980.447411659411,6025.1351147898677,6017.2806700323163,5959.612586666095,{"$f":"SUM(AP41:AP43)","v":5857.5260398589608},5828.4123375147101,5800.7052124493484,5646.556840441639,5484.1255302550444]
[]
[null,null,"Pre-vesting balance"]
[null,null,"Note: Pre-vesting RAV opening balances are inputs to the model. The continued depreciation of these assets uses annual depreciation rates calculated on the \"Depn\" sheet."]
[]
[null,null,null,"Cost"]
[]
[null,null,null,null,"Opening balance brought forward (before transfers)",null,"£m 18/19 prices",null,null,null,null,null,null,null,null,null,null,null,null,null,null,null,null,null,null,null,null,null,null,null,null,null,null,{"$f":"Input!AH505","v":3505.376058031005},{"$f":"AH56","v":3505.376058031005},{"$f":"AI56","v":3505.376058031005},3505.376058031005,3505.376058031005,3505.376058031005,3505.376058031005,3505.376058031005,{"$f":"AO56","v":3505.376058031005},{"$f":"AP56","v":3505.376058031005},{"$f":"AQ56","v":3505.376058031005},{"$f":"AR56","v":3505.376058031005},{"$f":"AS56","v":3505.376058031005}]
[null,null,null,null,"Transfers",null,"£m 18/19 prices"]
[null,null,null,null,"Opening balance brought forward (after transfers)",null,"£m 18/19 prices",null,null,null,null,null,null,null,null,null,null,null,null,null,null,null,null,null,null,null,null,null,null,null,null,null,null,{"$f":"SUM(AH51:AH52)","v":3505.376058031005},{"$f":"SUM(AI51:AI52)","v":3505.376058031005},3505.376058031005,3505.376058031005,3505.376058031005,3505.376058031005,3505.376058031005,3505.376058031005,{"$f":"SUM(AP51:AP52)","v":3505.376058031005},3505.376058031005,3505.376058031005,3505.376058031005,3505.376058031005]
[null,null,null,null,"Net additions (after disposals)",null,"£m 18/19 prices",null,null,null,null,null,null,null,null,null,null,null,null,null,null,null,null,null,null,null,null,null,null,null,null,null,null,{"$f":"-Input!AH509","v":0},{"$f":"-Input!AI509","v":0},{"$f":"-Input!AJ509","v":0},{"$f":"-Input!AK509","v":0},{"$f":"-Input!AL509","v":0},{"$f":"-Input!AM509","v":0},{"$f":"-Input!AN509","v":0},{"$f":"-Input!AO509","v":0},{"$f":"-Input!AP509","v":0},{"$f":"-Input!AQ509","v":0},{"$f":"-Input!AR509","v":0},{"$f":"-Input!AS509","v":0},{"$f":"-Input!AT509","v":0}]
[null,null,null,null,"Removals",null,"£m 18/19 prices"]
[null,null,null,null,"Closing value carried forward",null,"£m 18/19 prices",null,null,null,null,null,null,null,null,null,null,null,null,null,null,null,null,null,null,null,null,null,null,null,null,null,null,{"$f":"AH53 + AH54 - AH55","v":3505.376058031005},{"$f":"AI53 + AI54 - AI55","v":3505.376058031005},3505.376058031005,3505.376058031005,3505.376058031005,3505.376058031005,3505.376058031005,3505.376058031005,{"$f":"AP53 + AP54 - AP55","v":3505.376058031005},3505.376058031005,3505.376058031005,3505.376058031005,3505.376058031005]
[]
[null,null,null,"Cumulative depreciation"]
[]
[null,null,null,null,"Opening balance brought forward (before transfers)",null,"£m 18/19 prices",null,null,null,null,null,null,null,null,null,null,null,null,null,null,null,null,null,null,null,null,null,null,null,null,null,null,{"$f":"Input!AH506","v":1232.1662007494456},{"$f":"AH65","v":1331.0019918593423},{"$f":"AI65","v":1427.6414320556858},1522.084521338476,1614.3312597077129,1704.3816471633966,1792.235683705527,1877.8933693341041,{"$f":"AO65","v":1961.354704049128},{"$f":"AP65","v":2042.6196878505987},{"$f":"AQ65","v":2121.6883207385163},{"$f":"AR65","v":2198.5606027128806},{"$f":"AS65","v":2273.2365337736915}]
[null,null,null,null,"Transfers",null,"£m 18/19 prices"]
[null,null,null,null,"Opening balance brought forward (after transfers)",null,"£m 18/19 prices",null,null,null,null,null,null,null,null,null,null,null,null,null,null,null,null,null,null,null,null,null,null,null,null,null,null,{"$f":"SUM(AH60:AH61)","v":1232.1662007494456},{"$f":"SUM(AI60:AI61)","v":1331.0019918593423},1427.6414320556858,1522.084521338476,1614.3312597077129,1704.3816471633966,1792.235683705527,1877.8933693341041,{"$f":"SUM(AP60:AP61)","v":1961.354704049128},2042.6196878505987,2121.6883207385163,2198.5606027128806,2273.2365337736915]
[null,null,null,null,"Depreciation",null,"£m 18/19 prices",null,null,null,null,null,null,null,null,null,null,null,null,null,null,null,null,null,null,null,null,null,null,null,null,null,null,{"$f":"AH51 * Depn!AH30","v":98.835791109896746},{"$f":"AI51 * Depn!AI30","v":96.639440196343486},{"$f":"AJ51 * Depn!AJ30","v":94.443089282790226},{"$f":"AK51 * Depn!AK30","v":92.246738369236965},{"$f":"AL51 * Depn!AL30","v":90.050387455683705},{"$f":"AM51 * Depn!AM30","v":87.854036542130444},{"$f":"AN51 * Depn!AN30","v":85.657685628577184},{"$f":"AO51 * Depn!AO30","v":83.461334715023924},{"$f":"AP51 * Depn!AP30","v":81.264983801470663},{"$f":"AQ51 * Depn!AQ30","v":79.068632887917403},{"$f":"AR51 * Depn!AR30","v":76.872281974364142},{"$f":"AS51 * Depn!AS30","v":74.675931060810882},{"$f":"AT51 * Depn!AT30","v":72.479580147257622}]
[null,null,null,null,"Removals",null,"£m 18/19 prices",null,null,null,null,null,null,null,null,null,null,null,null,null,null,null,null,null,null,null,null,null,null,null,null,null,null,{"$f":"AH55","v":0},0,0,0,0,0,0,0,{"$f":"AP55","v":0},0,0,0,0]
[null,null,null,null,"Closing value carried forward",null,"£m 18/19 prices",null,null,null,null,null,null,null,null,null,null,null,null,null,null,null,null,null,null,null,null,null,null,null,null,null,null,{"$f":"AH62 + AH63 - AH64","v":1331.0019918593423},{"$f":"AI62 + AI63 - AI64","v":1427.6414320556858},1522.084521338476,1614.3312597077129,1704.3816471633966,1792.235683705527,1877.8933693341041,1961.354704049128,{"$f":"AP62 + AP63 - AP64","v":2042.6196878505987},2121.6883207385163,2198.5606027128806,2273.2365337736915,2345.7161139209493]
[]
[null,null,null,"Asset balance"]
[]
[null,null,null,null,"Net value after regulatory depreciation",null,"£m 18/19 prices",null,null,null,null,null,null,null,null,null,null,null,null,null,null,null,null,null,null,null,null,null,null,null,null,null,null,{"$f":"AH56 - AH65","v":2174.3740661716629},2077.7346259753194,1983.291536692529,1891.0447983232921,1800.9944108676084,1713.140374325478,1627.4826886969008,1544.0213539818769,1462.7563701804063,1383.6877372924887,1306.8154553181244,1232.1395242573135,1159.6599441100557]
[]
[null,null,"Post-vesting balance"]
[null,null,"Note: Post-vesting RAV opening balances are generated from calculations built up since vesting. Net additions (after disposals), depreciation and removals are calculated principally on the \"Depn\" sheet."]
[null,null,"Assets with non-standard depreciation policies applied or that are transferred to the RAV during the price control are also brought into the RAV here."]
[]
[null,null,null,"Cost"]
[]
[null,null,null,null,"Opening balance brought forward (before transfers)",null,"£m 18/19 prices",null,null,null,null,null,null,null,null,null,null,null,null,null,null,null,null,null,null,null,null,null,null,null,null,null,null,{"$f":"Depn!AH285 + AH103 + AH138","v":3402.5847219999032},{"$f":"AH82","v":3964.8566934332912},4137.2317145911948,4300.5434729128865,4503.2438519055249,5160.3569022889924,5407.9797597698298,5606.4994543912844,{"$f":"AO82","v":5756.9052351998544},{"$f":"AP82","v":5953.2839668079878},{"$f":"AQ82","v":6224.5033518027976},{"$f":"AR82","v":6502.0613265469474},{"$f":"AS82","v":6658.1236099628977}]
[null,null,null,null,"Transfers",null,"£m 18/19 prices",null,null,null,null,null,null,null,null,null,null,null,null,null,null,null,null,null,null,null,null,null,null,null,null,null,null,{"$f":"AH132","v":349.71960068176492},{"$f":"AI132","v":2.0863575566386627},2.5435552573371676,21.104501617539544,411.16388564033224,18.293399082289202,24.260658999472774,1.0643712982245235,{"$f":"AP132","v":0},0,0,0,0]
[null,null,null,null,"Opening balance brought forward (after transfers)",null,"£m 18/19 prices",null,null,null,null,null,null,null,null,null,null,null,null,null,null,null,null,null,null,null,null,null,null,null,null,null,null,{"$f":"SUM(AH77:AH78)","v":3752.3043226816681},3966.9430509899298,4139.7752698485319,4321.6479745304259,4914.4077375458573,5178.6503013712818,5432.2404187693028,5607.563825689509,{"$f":"SUM(AP77:AP78)","v":5756.9052351998544},5953.2839668079878,6224.5033518027976,6502.0613265469474,6658.1236099628977]
[null,null,null,null,"Net additions (after disposals)",null,"£m 18/19 prices",null,null,null,null,null,null,null,null,null,null,null,null,null,null,null,null,null,null,null,null,null,null,null,null,null,null,{"$f":"Depn!AH16 + AH106","v":212.5523707516233},{"$f":"Depn!AI16 + AI106","v":170.28866360126466},{"$f":"Depn!AJ16 + AJ106","v":160.76820306435465},{"$f":"Depn!AK16 + AK106","v":181.59587737509875},{"$f":"Depn!AL16 + AL106","v":245.9491647431349},{"$f":"Depn!AM16 + AM106","v":229.32945839854813},{"$f":"Depn!AN16 + AN106","v":174.25903562198178},{"$f":"Depn!AO16 + AO106","v":149.34140951034567},{"$f":"Depn!AP16 + AP106","v":196.37873160813356},{"$f":"Depn!AQ16 + AQ106","v":271.21938499480945},{"$f":"Depn!AR16 + AR106","v":277.55797474414959},{"$f":"Depn!AS16 + AS106","v":156.06228341594996},{"$f":"Depn!AT16 + AT106","v":147.17430753284222}]
[null,null,null,null,"Removals",null,"£m 18/19 prices",null,null,null,null,null,null,null,null,null,null,null,null,null,null,null,null,null,null,null,null,null,null,null,null,null,null,{"$f":"Depn!AH276","v":0},{"$f":"Depn!AI276","v":0},{"$f":"Depn!AJ276","v":0},{"$f":"Depn!AK276","v":0},{"$f":"Depn!AL276","v":0},{"$f":"Depn!AM276","v":0},{"$f":"Depn!AN276","v":0},{"$f":"Depn!AO276","v":0},{"$f":"Depn!AP276","v":0},{"$f":"Depn!AQ276","v":0},{"$f":"Depn!AR276","v":0},{"$f":"Depn!AS276","v":0},{"$f":"Depn!AT276","v":0}]
[null,null,null,null,"Closing value carried forward",null,"£m 18/19 prices",null,null,null,null,null,null,null,null,null,null,null,null,null,null,null,null,null,null,null,null,null,null,null,null,null,null,{"$f":"AH79 + AH80 - AH81","v":3964.8566934332912},{"$f":"AI79 + AI80 - AI81","v":4137.2317145911948},4300.5434729128865,4503.2438519055249,5160.3569022889924,5407.9797597698298,5606.4994543912844,5756.9052351998544,{"$f":"AP79 + AP80 - AP81","v":5953.2839668079878},6224.5033518027976,6502.0613265469474,6658.1236099628977,6805.29791749574]
[]
[null,null,null,"Cumulative depreciation"]
[]
[null,null,null,null,"Opening balance brought forward (before transfers)",null,"£m 18/19 prices",null,null,null,null,null,null,null,null,null,null,null,null,null,null,null,null,null,null,null,null,null,null,null,null,null,null,{"$f":"Depn!AH286 + AH114 + AH146","v":404.77164584731895},{"$f":"AH91","v":524.18194152331523},612.33623154531369,704.33123754194776,802.23030916778544,980.90390149718928,1095.9850193054399,1216.7014730558687,{"$f":"AO91","v":1341.3140025156356},{"$f":"AP91","v":1558.5142971294329},{"$f":"AQ91","v":1779.7787515805758},{"$f":"AR91","v":2008.1715694157233},{"$f":"AS91","v":2243.7062937785718}]
[null,null,null,null,"Transfers",null,"£m 18/19 prices",null,null,null,null,null,null,null,null,null,null,null,null,null,null,null,null,null,null,null,null,null,null,null,null,null,null,{"$f":" - AH133","v":36.025755171959204},{"$f":" - AI133","v":0},0,1.8624499696060408,69.464531495051489,0,0,0,{"$f":" - AP133","v":0},0,0,0,0]
[null,null,null,null,"Opening balance brought forward (after transfers)",null,"£m 18/19 prices",null,null,null,null,null,null,null,null,null,null,null,null,null,null,null,null,null,null,null,null,null,null,null,null,null,null,{"$f":"SUM(AH86:AH87)","v":440.79740101927814},524.18194152331523,612.33623154531369,706.19368751155378,871.6948406628369,980.90390149718928,1095.9850193054399,1216.7014730558687,{"$f":"SUM(AP86:AP87)","v":1341.3140025156356},1558.5142971294329,1779.7787515805758,2008.1715694157233,2243.7062937785718]
[null,null,null,null,"Depreciation",null,"£m 18/19 prices",null,null,null,null,null,null,null,null,null,null,null,null,null,null,null,null,null,null,null,null,null,null,null,null,null,null,{"$f":"Depn!AH229 + AH117 + AH149","v":83.384540504037062},{"$f":"Depn!AI229 + AI117 + AI149","v":88.154290021998449},{"$f":"Depn!AJ229 + AJ117 + AJ149","v":91.995005996634035},{"$f":"Depn!AK229 + AK117 + AK149","v":96.036621656231688},{"$f":"Depn!AL229 + AL117 + AL149","v":109.20906083435237},{"$f":"Depn!AM229 + AM117 + AM149","v":115.08111780825068},{"$f":"Depn!AN229 + AN117 + AN149","v":120.71645375042893},{"$f":"Depn!AO229 + AO117 + AO149","v":124.61252945976685},{"$f":"Depn!AP229 + AP117 + AP149","v":217.2002946137973},{"$f":"Depn!AQ229 + AQ117 + AQ149","v":221.26445445114283},{"$f":"Depn!AR229 + AR117 + AR149","v":228.39281783514755},{"$f":"Depn!AS229 + AS117 + AS149","v":235.53472436284846},{"$f":"Depn!AT229 + AT117 + AT149","v":237.12603757217914}]
[null,null,null,null,"Removals",null,"£m 18/19 prices",null,null,null,null,null,null,null,null,null,null,null,null,null,null,null,null,null,null,null,null,null,null,null,null,null,null,{"$f":"AH81","v":0},0,0,0,0,0,0,0,{"$f":"AP81","v":0},0,0,0,0]
[null,null,null,null,"Closing value carried forward",null,"£m 18/19 prices",null,null,null,null,null,null,null,null,null,null,null,null,null,null,null,null,null,null,null,null,null,null,null,null,null,null,{"$f":"AH88 + AH89 - AH90","v":524.18194152331523},{"$f":"AI88 + AI89 - AI90","v":612.33623154531369},704.33123754194776,802.23030916778544,980.90390149718928,1095.9850193054399,1216.7014730558687,1341.3140025156356,{"$f":"AP88 + AP89 - AP90","v":1558.5142971294329},1779.7787515805758,2008.1715694157233,2243.7062937785718,2480.8323313507508]
[]
[null,null,null,"Asset balance"]
[]
[null,null,null,null,"Net value after regulatory depreciation",null,"£m 18/19 prices",null,null,null,null,null,null,null,null,null,null,null,null,null,null,null,null,null,null,null,null,null,null,null,null,null,null,{"$f":"AH82 - AH91","v":3440.6747519099758},3524.8954830458811,3596.2122353709387,3701.0135427377395,4179.4530007918029,4311.9947404643899,4389.7979813354159,4415.591232684219,{"$f":"AP82 - AP91","v":4394.7696696785551},4444.7246002222219,4493.8897571312245,4414.4173161843264,4324.4655861449892]
[]
[]
[null,null,"Retrospective addition of logged-up and security costs"]
[null,null,"Note: Retrospective logged-up and security cost calculations are kept separate due to their non-standard depreciation profile and deemed depreciation before transfer to RAV."]
[]
[null,null,null,"Cost"]
[]
[null,null,null,null,"Opening balance brought forward",null,"£m 18/19 prices",null,null,">",null,null,null,null,null,null,null,null,null,null,null,null,null,null,null,{"$f":"Y108","v":0},0,0.21073077034006701,117.85670067647301,127.50799806279332,144.05630075307516,220.68199994376539,296.03141435286483,296.03141435286483,296.03141435286483,296.03141435286483,296.03141435286483,296.03141435286483,296.03141435286483,296.03141435286483,296.03141435286483,{"$f":"AO108","v":296.03141435286483},{"$f":"AP108","v":296.03141435286483},{"$f":"AQ108","v":296.03141435286483},{"$f":"AR108","v":296.03141435286483},{"$f":"AS108","v":296.03141435286483}]
[null,null,null,null,"Transfer",null,"£m 18/19 prices",null,null,">"]
[null,null,null,null,"Opening balance brought forward (after transfer)",null,"£m 18/19 prices",null,null,">",null,null,null,null,null,null,null,null,null,null,null,null,null,null,{"$f":"SUM(Y103:Y104)","v":0},{"$f":"SUM(Z103:Z104)","v":0},{"$f":"SUM(AA103:AA104)","v":0},{"$f":"SUM(AB103:AB104)","v":0.21073077034006701},{"$f":"SUM(AC103:AC104)","v":117.85670067647301},{"$f":"SUM(AD103:AD104)","v":127.50799806279332},144.05630075307516,220.68199994376539,296.03141435286483,296.03141435286483,296.03141435286483,296.03141435286483,296.03141435286483,296.03141435286483,296.03141435286483,296.03141435286483,296.03141435286483,{"$f":"SUM(AP103:AP104)","v":296.03141435286483},296.03141435286483,296.03141435286483,296.03141435286483,296.03141435286483]
[null,null,null,null,"Net additions (after disposals)",null,"£m 18/19 prices",null,null,">",null,null,null,null,null,null,null,null,null,null,null,null,null,null,{"$f":"Input!Y532 + Input!Y533","v":0},{"$f":"Input!Z532 + Input!Z533","v":0},{"$f":"Input!AA532 + Input!AA533","v":0.21073077034006701},{"$f":"Input!AB532 + Input!AB533","v":117.64596990613295},{"$f":"Input!AC532 + Input!AC533","v":9.6512973863203104},{"$f":"Input!AD532 + Input!AD533","v":16.548302690281858},{"$f":"Input!AE532 + Input!AE533","v":76.625699190690241},{"$f":"Input!AF532 + Input!AF533","v":75.349414409099438},{"$f":"Input!AG532 + Input!AG533","v":0}]
[null,null,null,null,"Removals",null,"£m 18/19 prices",null,null,">"]
[null,null,null,null,"Balance carried forward",null,"£m 18/19 prices",null,null,">",null,null,null,null,null,null,null,null,null,null,null,null,null,null,{"$f":"Y105 + Y106 - Y107","v":0},{"$f":"Z105 + Z106 - Z107","v":0},{"$f":"AA105 + AA106 - AA107","v":0.21073077034006701},{"$f":"AB105 + AB106 - AB107","v":117.85670067647301},{"$f":"AC105 + AC106 - AC107","v":127.50799806279332},{"$f":"AD105 + AD106 - AD107","v":144.05630075307516},220.68199994376539,296.03141435286483,296.03141435286483,296.03141435286483,296.03141435286483,296.03141435286483,296.03141435286483,296.03141435286483,296.03141435286483,296.03141435286483,296.03141435286483,{"$f":"AP105 + AP106 - AP107","v":296.03141435286483},296.03141435286483,296.03141435286483,296.03141435286483,296.03141435286483]
[]
[null,null,null,"Accumulated depreciation"]
[]
[null,null,null,null,"Logged-up items and security costs asset life",null,"years",null,{"$f":"Input!I531","v":45},">"]
[]
[null,null,null,null,"Opening balance brought forward",null,"£m 18/19 prices",null,null,">",null,null,null,null,null,null,null,null,null,null,null,null,null,null,null,{"$f":"Y119","v":0},0,0,4.682906007557045E-3,2.6237206988180684,5.4572317668801418,8.6584828947262569,13.562527337921043,20.141003212429151,26.719479086937259,33.297954961445363,39.876430835953471,46.454906710461579,53.033382584969686,59.611858459477794,66.190334333985902,{"$f":"AO119","v":72.768810208494003},{"$f":"AP119","v":79.347286083002103},{"$f":"AQ119","v":85.925761957510204},{"$f":"AR119","v":92.504237832018305},{"$f":"AS119","v":99.082713706526405}]
[null,null,null,null,"Transfer",null,"£m 18/19 prices",null,null,">"]
[null,null,null,null,"Opening balance brought forward (after transfer)",null,"£m 18/19 prices",null,null,">",null,null,null,null,null,null,null,null,null,null,null,null,null,null,{"$f":"SUM(Y114:Y115)","v":0},{"$f":"SUM(Z114:Z115)","v":0},{"$f":"SUM(AA114:AA115)","v":0},{"$f":"SUM(AB114:AB115)","v":0},{"$f":"SUM(AC114:AC115)","v":4.682906007557045E-3},{"$f":"SUM(AD114:AD115)","v":2.6237206988180684},5.4572317668801418,8.6584828947262569,13.562527337921043,20.141003212429151,26.719479086937259,33.297954961445363,39.876430835953471,46.454906710461579,53.033382584969686,59.611858459477794,66.190334333985902,{"$f":"SUM(AP114:AP115)","v":72.768810208494003},79.347286083002103,85.925761957510204,92.504237832018305,99.082713706526405]
[null,null,null,null,"Regulatory depreciation",null,"£m 18/19 prices",null,null,">",null,null,null,null,null,null,null,null,null,null,null,null,null,null,null,{"$f":"MIN(Z103 / $I$112, Y124)","v":0},{"$f":"MIN(AA103 / $I$112, Z124)","v":0},4.682906007557045E-3,2.6190377928105115,2.8335110680620739,3.2012511278461147,4.9040444431947865,6.5784758745081069,6.5784758745081069,6.5784758745081069,6.5784758745081069,6.5784758745081069,6.5784758745081069,6.5784758745081069,6.5784758745081069,6.5784758745081069,{"$f":"MIN(AP103 / $I$112, AO124)","v":6.5784758745081069},{"$f":"MIN(AQ103 / $I$112, AP124)","v":6.5784758745081069},{"$f":"MIN(AR103 / $I$112, AQ124)","v":6.5784758745081069},{"$f":"MIN(AS103 / $I$112, AR124)","v":6.5784758745081069},{"$f":"MIN(AT103 / $I$112, AS124)","v":6.5784758745081069}]
[null,null,null,null,"Removals",null,"£m 18/19 prices",null,null,">",null,null,null,null,null,null,null,null,null,null,null,null,null,null,null,{"$f":"Z107","v":0},{"$f":"AA107","v":0},{"$f":"AB107","v":0},{"$f":"AC107","v":0},{"$f":"AD107","v":0},0,0,0,0,0,0,0,0,0,0,0,{"$f":"AP107","v":0},0,0,0,0]
[null,null,null,null,"Closing value carried forward",null,"£m 18/19 prices",null,null,">",null,null,null,null,null,null,null,null,null,null,null,null,null,null,{"$f":"Y116 + Y117 - Y118","v":0},{"$f":"Z116 + Z117 - Z118","v":0},{"$f":"AA116 + AA117 - AA118","v":0},{"$f":"AB116 + AB117 - AB118","v":4.682906007557045E-3},{"$f":"AC116 + AC117 - AC118","v":2.6237206988180684},{"$f":"AD116 + AD117 - AD118","v":5.4572317668801418},8.6584828947262569,13.562527337921043,20.141003212429151,26.719479086937259,33.297954961445363,39.876430835953471,46.454906710461579,53.033382584969686,59.611858459477794,66.190334333985902,72.768810208494003,{"$f":"AP116 + AP117 - AP118","v":79.347286083002103},85.925761957510204,92.504237832018305,99.082713706526405,105.66118958103451]
[]
[null,null,null,"Asset balance"]
[]
[null,null,null,null,"Included in RAV",null,"text",null,null,">",null,null,null,null,null,null,null,null,null,null,null,null,null,null,{"$f":"YEAR(Y$4) >= YEAR($AG$4)","v":false},{"$f":"YEAR(Z$4) >= YEAR($AG$4)","v":false},{"$f":"YEAR(AA$4) >= YEAR($AG$4)","v":false},{"$f":"YEAR(AB$4) >= YEAR($AG$4)","v":false},{"$f":"YEAR(AC$4) >= YEAR($AG$4)","v":false},{"$f":"YEAR(AD$4) >= YEAR($AG$4)","v":false},false,false,true,true,true,true,true,true,true,true,true,true,true,true,true,true]
[null,null,null,null,"Net value after regulatory depreciation",null,"£m 18/19 prices",null,null,">",null,null,null,null,null,null,null,null,null,null,null,null,null,null,{"$f":"Y108 - Y119","v":0},{"$f":"Z108 - Z119","v":0},{"$f":"AA108 - AA119","v":0.21073077034006701},{"$f":"AB108 - AB119","v":117.85201777046545},{"$f":"AC108 - AC119","v":124.88427736397526},{"$f":"AD108 - AD119","v":138.59906898619502},212.02351704903913,282.46888701494379,275.89041114043567,269.31193526592756,262.73345939141944,256.15498351691133,249.57650764240324,242.99803176789516,236.41955589338704,229.84108001887893,223.26260414437081,{"$f":"AP108 - AP119","v":216.68412826986273},210.10565239535464,203.52717652084652,196.94870064633841,190.37022477183032]
[]
[]
[null,null,"Revenue driver transferred to RAV"]
[null,null,"Note: Revenue driver assets are transferred to the RAV during the price control. "]
[]
[null,null,null,"Transfer"]
[]
[null,null,null,null,"Cost transferred to RAV",null,"£m 18/19 prices",null,null,null,null,null,null,null,null,null,null,null,null,null,null,null,null,null,null,null,null,null,null,null,null,null,null,{"$f":"NonCore!AH11","v":349.71960068176492},{"$f":"NonCore!AI11","v":2.0863575566386627},{"$f":"NonCore!AJ11","v":2.5435552573371676},{"$f":"NonCore!AK11","v":21.104501617539544},{"$f":"NonCore!AL11","v":411.16388564033224},{"$f":"NonCore!AM11","v":18.293399082289202},{"$f":"NonCore!AN11","v":24.260658999472774},{"$f":"NonCore!AO11","v":1.0643712982245235},{"$f":"NonCore!AP11","v":0},{"$f":"NonCore!AQ11","v":0},{"$f":"NonCore!AR11","v":0},{"$f":"NonCore!AS11","v":0},{"$f":"NonCore!AT11","v":0}]
[null,null,null,null,"Accumulated depreciation transferred to RAV",null,"£m 18/19 prices",null,null,null,null,null,null,null,null,null,null,null,null,null,null,null,null,null,null,null,null,null,null,null,null,null,null,{"$f":"-NonCore!AH13","v":-36.025755171959204},{"$f":"-NonCore!AI13","v":0},{"$f":"-NonCore!AJ13","v":0},{"$f":"-NonCore!AK13","v":-1.8624499696060408},{"$f":"-NonCore!AL13","v":-69.464531495051489},{"$f":"-NonCore!AM13","v":0},{"$f":"-NonCore!AN13","v":0},{"$f":"-NonCore!AO13","v":0},{"$f":"-NonCore!AP13","v":0},{"$f":"-NonCore!AQ13","v":0},{"$f":"-NonCore!AR13","v":0},{"$f":"-NonCore!AS13","v":0},{"$f":"-NonCore!AT13","v":0}]
[null,null,null,null,"Net transfer",null,"£m 18/19 prices",null,null,null,null,null,null,null,null,null,null,null,null,null,null,null,null,null,null,null,null,null,null,null,null,null,null,{"$f":"SUM(AH132:AH133)","v":313.69384550980573},2.0863575566386627,2.5435552573371676,19.242051647933504,341.69935414528072,18.293399082289202,24.260658999472774,1.0643712982245235,{"$f":"SUM(AP132:AP133)","v":0},0,0,0,0]
[]
[null,null,null,"Cost"]
[]
[null,null,null,null,"Opening balance brought forward",null,"£m 18/19 prices",null,null,null,null,null,null,null,null,null,null,null,null,null,null,null,null,null,null,null,null,null,null,null,null,null,null,null,{"$f":"AH140","v":349.71960068176492},{"$f":"AI140","v":351.8059582384036},354.34951349574078,375.45401511328032,786.6179007536125,804.91129983590167,829.17195883537443,{"$f":"AO140","v":830.23633013359893},{"$f":"AP140","v":830.23633013359893},{"$f":"AQ140","v":830.23633013359893},{"$f":"AR140","v":830.23633013359893},{"$f":"AS140","v":830.23633013359893}]
[null,null,null,null,"Transfer",null,"£m 18/19 prices",null,null,null,null,null,null,null,null,null,null,null,null,null,null,null,null,null,null,null,null,null,null,null,null,null,null,{"$f":"AH132","v":349.71960068176492},{"$f":"AI132","v":2.0863575566386627},2.5435552573371676,21.104501617539544,411.16388564033224,18.293399082289202,24.260658999472774,1.0643712982245235,{"$f":"AP132","v":0},0,0,0,0]
[null,null,null,null,"Opening balance brought forward (after transfer)",null,"£m 18/19 prices",null,null,null,null,null,null,null,null,null,null,null,null,null,null,null,null,null,null,null,null,null,null,null,null,null,null,{"$f":"SUM(AH138:AH139)","v":349.71960068176492},351.8059582384036,354.34951349574078,375.45401511328032,786.6179007536125,804.91129983590167,829.17195883537443,830.23633013359893,{"$f":"SUM(AP138:AP139)","v":830.23633013359893},830.23633013359893,830.23633013359893,830.23633013359893,830.23633013359893]
[]
[null,null,null,"Accumulated depreciation"]
[]
[null,null,null,null,"Asset life remaining on transfer to RAV",null,"years",null,null,null,null,null,null,null,null,null,null,null,null,null,null,null,null,null,null,null,null,null,null,null,null,null,null,{"$f":"Input!AH515","v":45},{"$f":"Input!AI515","v":45},{"$f":"Input!AJ515","v":45},{"$f":"Input!AK515","v":45},{"$f":"Input!AL515","v":45},{"$f":"Input!AM515","v":45},{"$f":"Input!AN515","v":45},{"$f":"Input!AO515","v":45},{"$f":"Input!AP515","v":45},{"$f":"Input!AQ515","v":45},{"$f":"Input!AR515","v":45},{"$f":"Input!AS515","v":45},{"$f":"Input!AT515","v":45}]
[]
[null,null,null,null,"Opening balance brought forward",null,"£m 18/19 prices",null,null,null,null,null,null,null,null,null,null,null,null,null,null,null,null,null,null,null,null,null,null,null,null,null,null,null,{"$f":"AH150","v":43.797301853776204},51.615212036851844,59.489645670090525,69.695518197769459,156.64044748734568,174.52736526147683,192.95340879115182,{"$f":"AO150","v":211.40310501634289},{"$f":"AP150","v":229.85280124153397},{"$f":"AQ150","v":248.30249746672504},{"$f":"AR150","v":266.75219369191615},{"$f":"AS150","v":285.20188991710722}]
[null,null,null,null,"Transfer",null,"£m 18/19 prices",null,null,null,null,null,null,null,null,null,null,null,null,null,null,null,null,null,null,null,null,null,null,null,null,null,null,{"$f":"-AH133","v":36.025755171959204},{"$f":"-AI133","v":0},0,1.8624499696060408,69.464531495051489,0,0,0,{"$f":"-AP133","v":0},0,0,0,0]
[null,null,null,null,"Opening balance brought forward (after transfer)",null,"£m 18/19 prices",null,null,null,null,null,null,null,null,null,null,null,null,null,null,null,null,null,null,null,null,null,null,null,null,null,null,{"$f":"SUM(AH146:AH147)","v":36.025755171959204},43.797301853776204,51.615212036851844,61.352095639696564,139.16004969282096,156.64044748734568,174.52736526147683,192.95340879115182,{"$f":"SUM(AP146:AP147)","v":211.40310501634289},229.85280124153397,248.30249746672504,266.75219369191615,285.20188991710722]
[null,null,null,null,"Regulatory depreciation",null,"£m 18/19 prices",null,null,null,null,null,null,null,null,null,null,null,null,null,null,null,null,null,null,null,null,null,null,null,null,null,null,{"$f":"AH140 / AH$144","v":7.7715466818169983},7.8179101830756359,7.8744336332386844,8.3434225580728967,17.480397794524723,17.886917774131149,18.426043529674988,18.449696225191087,{"$f":"AP140 / AP$144","v":18.449696225191087},18.449696225191087,18.449696225191087,18.449696225191087,18.449696225191087]
[null,null,null,null,"Closing value carried forward",null,"£m 18/19 prices",null,null,null,null,null,null,null,null,null,null,null,null,null,null,null,null,null,null,null,null,null,null,null,null,null,null,{"$f":"AH148 + AH149","v":43.797301853776204},{"$f":"AI148 + AI149","v":51.615212036851844},59.489645670090525,69.695518197769459,156.64044748734568,174.52736526147683,192.95340879115182,211.40310501634289,{"$f":"AP148 + AP149","v":229.85280124153397},248.30249746672504,266.75219369191615,285.20188991710722,303.6515861422983]
[]
[null,null,null,"Asset balance"]
[]
[null,null,null,null,"Net value after regulatory depreciation",null,"£m 18/19 prices",null,null,null,null,null,null,null,null,null,null,null,null,null,null,null,null,null,null,null,null,null,null,null,null,null,null,{"$f":"AH140 - AH150","v":305.9222988279887},300.19074620155175,294.85986782565027,305.75849691551088,629.97745326626682,630.38393457442487,636.21855004422264,618.83322511725601,{"$f":"AP140 - AP150","v":600.38352889206499},581.93383266687385,563.48413644168272,545.0344402164917,526.58474399130068]
[]
[null,"End of sheet"]

{"sheet":"TaxPools","index":8,"n_rows":102,"n_cols":46,"rows_kept":102,"cut":false,"hidden":false,"merged":[]}
["Tax Pools"]
[null,{"$f":"UserInterface!G17","v":"NGGT TO"}]
[null,null,null,null,"Parameter",null,"Units",null,"Constant",null,null,null,null,null,null,null,null,null,null,null,null,null,null,null,null,null,null,null,null,null,null,null,null,null,null,null,null,null,null,null,null,"Annual values"]
[null,null,null,null,"PCFM year ending",{"$f":"Cover!C4","v":"Model Version"},null,null,{"$f":"UserInterface!$G$10","v":"2022-03-31"},null,"1991-03-31","1992-03-31","1993-03-31","1994-03-31","1995-03-31","1996-03-31","1997-03-31","1998-03-31","1999-03-31","2000-03-31","2001-03-31","2002-03-31","2003-03-31","2004-03-31","2005-03-31","2006-03-31","2007-03-31","2008-03-31","2009-03-31","2010-03-31","2011-03-31","2012-03-31","2013-03-31","2014-03-31","2015-03-31","2016-03-31","2017-03-31","2018-03-31","2019-03-31","2020-03-31","2021-03-31","2022-03-31","2023-03-31","2024-03-31","2025-03-31","2026-03-31"]
[]
[null,"Tax pool additions"]
[null,"Note: Actual totex is combined with other expenditure and allocated to tax pools. Each cost sub-category can have its own percentage split between each pool."]
[]
[null,null,"Expenditure categories allocated to tax pools"]
[]
[null,null,null,"Actual totex"]
[]
[null,null,null,null,"Load related capex expenditure",null,"£m 18/19 prices",null,null,null,null,null,null,null,null,null,null,null,null,null,null,null,null,null,null,null,null,null,null,null,null,null,null,null,null,null,null,null,null,null,null,{"$f":"Totex!AP76","v":1.9779514619147203},{"$f":"Totex!AQ76","v":2.9472105406130411},{"$f":"Totex!AR76","v":2.3900757234535996},{"$f":"Totex!AS76","v":1.9927175424639441},{"$f":"Totex!AT76","v":1.6600000000000001}]
[null,null,null,null,"Asset replacement capex expenditure",null,"£m 18/19 prices",null,null,null,null,null,null,null,null,null,null,null,null,null,null,null,null,null,null,null,null,null,null,null,null,null,null,null,null,null,null,null,null,null,null,{"$f":"Totex!AP77","v":112.41692705692083},{"$f":"Totex!AQ77","v":171.82579275225982},{"$f":"Totex!AR77","v":194.17675243146417},{"$f":"Totex!AS77","v":111.82186448096374},{"$f":"Totex!AT77","v":104.96026438269078}]
[null,null,null,null,"Other capex expenditure",null,"£m 18/19 prices",null,null,null,null,null,null,null,null,null,null,null,null,null,null,null,null,null,null,null,null,null,null,null,null,null,null,null,null,null,null,null,null,null,null,{"$f":"Totex!AP78","v":46.941091304769124},{"$f":"Totex!AQ78","v":94.006934147213556},{"$f":"Totex!AR78","v":84.222842453303983},{"$f":"Totex!AS78","v":3.3446286435108754},{"$f":"Totex!AT78","v":2.0477006277467233}]
[null,null,null,null,"Non-load (opex)",null,"£m 18/19 prices",null,null,null,null,null,null,null,null,null,null,null,null,null,null,null,null,null,null,null,null,null,null,null,null,null,null,null,null,null,null,null,null,null,null,{"$f":"Totex!AP79","v":42.548943384532755},{"$f":"Totex!AQ79","v":42.824297858287068},{"$f":"Totex!AR79","v":43.20760265882253},{"$f":"Totex!AS79","v":45.649061443260607},{"$f":"Totex!AT79","v":42.553708955783151}]
[null,null,null,null,"Indirects (opex)",null,"£m 18/19 prices",null,null,null,null,null,null,null,null,null,null,null,null,null,null,null,null,null,null,null,null,null,null,null,null,null,null,null,null,null,null,null,null,null,null,{"$f":"Totex!AP80","v":72.01853324883524},{"$f":"Totex!AQ80","v":80.695753609767621},{"$f":"Totex!AR80","v":80.323457689122989},{"$f":"Totex!AS80","v":56.435121113861555},{"$f":"Totex!AT80","v":55.251322961856715}]
[null,null,null,null,"Non-operational capex",null,"£m 18/19 prices",null,null,null,null,null,null,null,null,null,null,null,null,null,null,null,null,null,null,null,null,null,null,null,null,null,null,null,null,null,null,null,null,null,null,{"$f":"Totex!AP81","v":26.217679094001976},{"$f":"Totex!AQ81","v":24.960603391565677},{"$f":"Totex!AR81","v":22.691537880985955},{"$f":"Totex!AS81","v":20.852427415862305},{"$f":"Totex!AT81","v":19.949014660910692}]
[null,null,null,null,"Actual totex",null,"£m 18/19 prices",null,null,null,null,null,null,null,null,null,null,null,null,null,null,null,null,null,null,null,null,null,null,null,null,null,null,null,null,null,null,null,null,null,null,{"$f":"SUM(AP13:AP18)","v":302.12112555097468},417.26059229970679,427.01226883715321,240.09582063992303,226.42201158898803]
[]
[null,null,null,"Non-totex items"]
[]
[null,null,null,null,"Pass-through expenditure and \"Other revenue associated costs\"",null,"£m 18/19 prices",null,null,null,null,null,null,null,null,null,null,null,null,null,null,null,null,null,null,null,null,null,null,null,null,null,null,null,null,null,null,null,null,null,null,{"$f":"SUM(Input!AP91, Input!AP114)","v":152.43063617040343},{"$f":"SUM(Input!AQ91, Input!AQ114)","v":152.31348286482947},{"$f":"SUM(Input!AR91, Input!AR114)","v":152.68994441443056},{"$f":"SUM(Input!AS91, Input!AS114)","v":160.05069002330237},{"$f":"SUM(Input!AT91, Input!AT114)","v":160.45053888390956}]
[]
[null,null,"Tax pool allocation"]
[]
[null,null,null,null,"Allocation to \"General\" tax pool",null,"%",null,null,null,null,null,null,null,null,null,null,null,null,null,null,null,null,null,null,null,null,null,null,null,null,null,null,null,null,null,null,null,null,null,null,{"$f":"Input!AP217","v":0.18701026443985583},{"$f":"Input!AQ217","v":0.1995347222001809},{"$f":"Input!AR217","v":0.18093772010616962},{"$f":"Input!AS217","v":0.1168874783775718},{"$f":"Input!AT217","v":0.11542032383677082}]
[null,null,null,null,"Allocation to \"Special Rate\" tax pool",null,"%",null,null,null,null,null,null,null,null,null,null,null,null,null,null,null,null,null,null,null,null,null,null,null,null,null,null,null,null,null,null,null,null,null,null,{"$f":"Input!AP218","v":0.42341306282094709},{"$f":"Input!AQ218","v":0.49163151843421532},{"$f":"Input!AR218","v":0.51757541599609003},{"$f":"Input!AS218","v":0.45049784596705122},{"$f":"Input!AT218","v":0.44544004790073499}]
[null,null,null,null,"Allocation to \"Structures and Buildings\" tax pool",null,"%",null,null,null,null,null,null,null,null,null,null,null,null,null,null,null,null,null,null,null,null,null,null,null,null,null,null,null,null,null,null,null,null,null,null,{"$f":"Input!AP219","v":9.1837336149433041E-3},{"$f":"Input!AQ219","v":1.1713894526616147E-2},{"$f":"Input!AR219","v":1.1468759946578517E-2},{"$f":"Input!AS219","v":6.3415530324603927E-3},{"$f":"Input!AT219","v":6.1620683213308653E-3}]
[null,null,null,null,"Allocation to \"Deferred Revenue\" tax pool",null,"%",null,null,null,null,null,null,null,null,null,null,null,null,null,null,null,null,null,null,null,null,null,null,null,null,null,null,null,null,null,null,null,null,null,null,{"$f":"Input!AP220","v":0},{"$f":"Input!AQ220","v":0},{"$f":"Input!AR220","v":0},{"$f":"Input!AS220","v":0},{"$f":"Input!AT220","v":0}]
[null,null,null,null,"Allocation to \"Revenue\" tax pool",null,"%",null,null,null,null,null,null,null,null,null,null,null,null,null,null,null,null,null,null,null,null,null,null,null,null,null,null,null,null,null,null,null,null,null,null,{"$f":"Input!AP221","v":0.37905738808476308},{"$f":"Input!AQ221","v":0.29550766332966238},{"$f":"Input!AR221","v":0.28837102042974838},{"$f":"Input!AS221","v":0.42505281529574307},{"$f":"Input!AT221","v":0.43177717378609237}]
[null,null,null,null,"Allocation to \"Non Qualifying\" tax pool",null,"%",null,null,null,null,null,null,null,null,null,null,null,null,null,null,null,null,null,null,null,null,null,null,null,null,null,null,null,null,null,null,null,null,null,null,{"$f":"Input!AP222","v":1.3355510394905546E-3},{"$f":"Input!AQ222","v":1.612201509325279E-3},{"$f":"Input!AR222","v":1.6470835214134893E-3},{"$f":"Input!AS222","v":1.2203073271735256E-3},{"$f":"Input!AT222","v":1.2003861550708098E-3}]
[null,null,null,null,"Allocation check",null,"%",null,null,null,null,null,null,null,null,null,null,null,null,null,null,null,null,null,null,null,null,null,null,null,null,null,null,null,null,null,null,null,null,null,null,{"$f":"SUM(AP27:AP32)","v":0.99999999999999989},{"$f":"SUM(AQ27:AQ32)","v":1},1,1,0.99999999999999978]
[]
[null,null,null,null,"General pool additions",null,"£m 18/19 prices",null,null,null,null,null,null,null,null,null,null,null,null,null,null,null,null,null,null,null,null,null,null,null,null,null,null,null,null,null,null,null,null,null,null,{"$f":"AP27*AP$19","v":56.499751582154659},{"$f":"AQ27*AQ$19","v":83.257976369604933},77.262626380757283,28.06419504359436,26.133701901374074]
[null,null,null,null,"Special Rate pool additions",null,"£m 18/19 prices",null,null,null,null,null,null,null,null,null,null,null,null,null,null,null,null,null,null,null,null,null,null,null,null,null,null,null,null,null,null,null,null,null,null,{"$f":"AP28*AP$19","v":127.92203111245009},{"$f":"AQ28*AQ$19","v":205.1384585750649},221.0110526788238,108.16265002397681,100.8574316879796]
[null,null,null,null,"Structures and Buildings pool additions",null,"£m 18/19 prices",null,null,null,null,null,null,null,null,null,null,null,null,null,null,null,null,null,null,null,null,null,null,null,null,null,null,null,null,null,null,null,null,null,null,{"$f":"AP29*AP$19","v":2.7745999365069927},4.8877465683121475,4.8973012055371603,1.5225803794601704,1.3952279048645131]
[null,null,null,null,"Deferred revenue pool additions",null,"£m 18/19 prices",null,null,null,null,null,null,null,null,null,null,null,null,null,null,null,null,null,null,null,null,null,null,null,null,null,null,null,null,null,null,null,null,null,null,{"$f":"AP30*AP$19","v":0},0,0,0,0]
[null,null,null,null,"Revenue pool additions",null,"£m 18/19 prices",null,null,null,null,null,null,null,null,null,null,null,null,null,null,null,null,null,null,null,null,null,null,null,null,null,null,null,null,null,null,null,null,null,null,{"$f":"AP31*AP$19 + AP23","v":266.95188090698468},{"$f":"AQ31*AQ$19 + AQ23","v":275.6171854948667},275.82790811502247,262.10409452704346,258.21439513076467]
[null,null,null,null,"Non-qualifying expenditure",null,"£m 18/19 prices",null,null,null,null,null,null,null,null,null,null,null,null,null,null,null,null,null,null,null,null,null,null,null,null,null,null,null,null,null,null,null,null,null,null,{"$f":"AP32*AP$19","v":0.40349818328166059},{"$f":"AQ32*AQ$19","v":0.67270815668754713},0.70332487144306188,0.29299068915063869,0.27179384791470368]
[]
[null,"Capital allowances"]
[null,"Note: Special, General and deferred revenue capital allowances are calculated for the tax allowance calculation."]
[null,"When \"non-core\" assets are transferred to the RAV their tax book value is moved into the \"Transfer\" line."]
[]
[null,null,"General pool"]
[]
[null,null,null,null,"Capital allowance rate",null,"%",null,null,null,null,null,null,null,null,null,null,null,null,null,null,null,null,null,null,null,null,null,null,null,null,null,null,null,null,null,null,null,null,null,null,{"$f":"Input!AP226","v":0.18},{"$f":"Input!AQ226","v":0.18},{"$f":"Input!AR226","v":0.18},{"$f":"Input!AS226","v":0.18},{"$f":"Input!AT226","v":0.18}]
[]
[null,null,null,null,"Opening balance brought forward",null,"£m nominal",null,null,null,null,null,null,null,null,null,null,null,null,null,null,null,null,null,null,null,null,null,null,null,null,null,null,null,null,null,null,null,null,null,null,{"$f":"Input!AP210","v":218.62847778800551},{"$f":"AP56","v":228.04264826576352},{"$f":"AQ56","v":260.00663098963997},{"$f":"AR56","v":282.16619818239599},{"$f":"AS56","v":256.90920202516583}]
[null,null,null,null,"Transfer",null,"£m nominal",null,null,null,null,null,null,null,null,null,null,null,null,null,null,null,null,null,null,null,null,null,null,null,null,null,null,null,null,null,null,null,null,null,null,{"$f":"-NonCore!AP16","v":0},{"$f":"-NonCore!AQ16","v":0},{"$f":"-NonCore!AR16","v":0},{"$f":"-NonCore!AS16","v":0},{"$f":"-NonCore!AT16","v":0}]
[null,null,null,null,"Revisions",null,"£m nominal"]
[null,null,null,null,"Capex additions",null,"£m nominal",null,null,null,null,null,null,null,null,null,null,null,null,null,null,null,null,null,null,null,null,null,null,null,null,null,null,null,null,null,null,null,null,null,null,{"$f":"AP35 * TOpf","v":59.472312779998767},{"$f":"AQ35 * TOpf","v":89.038609038675446},{"$f":"AR35 * TOpf","v":84.098488744989282},{"$f":"AS35 * TOpf","v":31.137706726342827},{"$f":"AT35 * TOpf","v":29.574705533980133}]
[null,null,null,null,"Tax book value pre-depreciation",null,"£m nominal",null,null,null,null,null,null,null,null,null,null,null,null,null,null,null,null,null,null,null,null,null,null,null,null,null,null,null,null,null,null,null,null,null,null,{"$f":"SUM(AP50:AP53)","v":278.1007905680043},317.08125730443896,344.10511973462928,313.30390490873879,286.48390755914596]
[null,null,null,null,"General pool capital allowance (reducing balance)",null,"£m nominal",null,null,null,null,null,null,null,null,null,null,null,null,null,null,null,null,null,null,null,null,null,null,null,null,null,null,null,null,null,null,null,null,null,null,{"$f":"-AP54*AP48","v":-50.058142302240775},{"$f":"-AQ54*AQ48","v":-57.074626314799012},-61.938921552233268,-56.394702883572982,-51.567103360646271]
[null,null,null,null,"Closing balance carried forward",null,"£m nominal",null,null,null,null,null,null,null,null,null,null,null,null,null,null,null,null,null,null,null,null,null,null,null,null,null,null,null,null,null,null,null,null,null,null,{"$f":"SUM(AP54:AP55)","v":228.04264826576352},{"$f":"SUM(AQ54:AQ55)","v":260.00663098963997},{"$f":"SUM(AR54:AR55)","v":282.16619818239599},{"$f":"SUM(AS54:AS55)","v":256.90920202516583},{"$f":"SUM(AT54:AT55)","v":234.91680419849968}]
[]
[null,null,"Special Rates pool"]
[]
[null,null,null,null,"Capital allowance rate",null,"%",null,null,null,null,null,null,null,null,null,null,null,null,null,null,null,null,null,null,null,null,null,null,null,null,null,null,null,null,null,null,null,null,null,null,{"$f":"Input!AP227","v":0.06},{"$f":"Input!AQ227","v":0.06},{"$f":"Input!AR227","v":0.06},{"$f":"Input!AS227","v":0.06},{"$f":"Input!AT227","v":0.06}]
[]
[null,null,null,null,"Opening balance brought forward",null,"£m nominal",null,null,null,null,null,null,null,null,null,null,null,null,null,null,null,null,null,null,null,null,null,null,null,null,null,null,null,null,null,null,null,null,null,null,{"$f":"Input!AP211","v":1634.022843171673},{"$f":"AP68","v":1662.5545937503648},{"$f":"AQ68","v":1769.0197392280932},{"$f":"AR68","v":1889.0097985698196},{"$f":"AS68","v":1888.477030646955}]
[null,null,null,null,"Transfer",null,"£m nominal",null,null,null,null,null,null,null,null,null,null,null,null,null,null,null,null,null,null,null,null,null,null,null,null,null,null,null,null,null,null,null,null,null,null,{"$f":"-NonCore!AP17","v":0},{"$f":"-NonCore!AQ17","v":0},{"$f":"-NonCore!AR17","v":0},{"$f":"-NonCore!AS17","v":0},{"$f":"-NonCore!AT17","v":0}]
[null,null,null,null,"Revisions",null,"£m nominal"]
[null,null,null,null,"Capex additions",null,"£m nominal",null,null,null,null,null,null,null,null,null,null,null,null,null,null,null,null,null,null,null,null,null,null,null,null,null,null,null,null,null,null,null,null,null,null,{"$f":"AP36 * TOpf","v":134.65225656275771},{"$f":"AQ36 * TOpf","v":219.38129904547898},{"$f":"AR36 * TOpf","v":240.56515286745966},{"$f":"AS36 * TOpf","v":120.00831913970674},{"$f":"AT36 * TOpf","v":114.13724907180793}]
[null,null,null,null,"Tax book value pre-depreciation",null,"£m nominal",null,null,null,null,null,null,null,null,null,null,null,null,null,null,null,null,null,null,null,null,null,null,null,null,null,null,null,null,null,null,null,null,null,null,{"$f":"SUM(AP62:AP65)","v":1768.6750997344307},1881.9358927958438,2009.5848920955527,2009.0181177095265,2002.6142797187629]
[null,null,null,null,"Special Rates capital allowance (reducing balance)",null,"£m nominal",null,null,null,null,null,null,null,null,null,null,null,null,null,null,null,null,null,null,null,null,null,null,null,null,null,null,null,null,null,null,null,null,null,null,{"$f":"-AP66*AP60","v":-106.12050598406583},{"$f":"-AQ66*AQ60","v":-112.91615356775063},-120.57509352573317,-120.54108706257158,-120.15685678312576]
[null,null,null,null,"Closing balance carried forward",null,"£m nominal",null,null,null,null,null,null,null,null,null,null,null,null,null,null,null,null,null,null,null,null,null,null,null,null,null,null,null,null,null,null,null,null,null,null,{"$f":"SUM(AP66:AP67)","v":1662.5545937503648},{"$f":"SUM(AQ66:AQ67)","v":1769.0197392280932},{"$f":"SUM(AR66:AR67)","v":1889.0097985698196},{"$f":"SUM(AS66:AS67)","v":1888.477030646955},{"$f":"SUM(AT66:AT67)","v":1882.4574229356372}]
[]
[null,null,"Structures and Buildings pool"]
[]
[null,null,null,null,"Capital allowance rate",null,"%",null,null,null,null,null,null,null,null,null,null,null,null,null,null,null,null,null,null,null,null,null,null,null,null,null,null,null,null,null,null,null,null,null,null,{"$f":"Input!AP228","v":0.03},{"$f":"Input!AQ228","v":0.03},{"$f":"Input!AR228","v":0.03},{"$f":"Input!AS228","v":0.03},{"$f":"Input!AT228","v":0.03}]
[]
[null,null,null,null,"Opening balance brought forward",null,"£m nominal",null,null,null,null,null,null,null,null,null,null,null,null,null,null,null,null,null,null,null,null,null,null,null,null,null,null,null,null,null,null,null,null,null,null,{"$f":"Input!AP212","v":0},{"$f":"AP80","v":2.9205770050753159},{"$f":"AQ80","v":8.0600643490658523},{"$f":"AR80","v":13.146227093015694},{"$f":"AS80","v":14.431207946276244}]
[null,null,null,null,"Transfer",null,"£m nominal"]
[null,null,null,null,"Revisions",null,"£m nominal"]
[null,null,null,null,"Capex additions",null,"£m nominal",null,null,null,null,null,null,null,null,null,null,null,null,null,null,null,null,null,null,null,null,null,null,null,null,null,null,null,null,null,null,null,null,null,0,{"$f":"AP37 * TOpf","v":2.9205770050753159},{"$f":"AQ37 * TOpf","v":5.2271046541427957},{"$f":"AR37 * TOpf","v":5.3305931937263837},{"$f":"AS37 * TOpf","v":1.6893290988488836},{"$f":"AT37 * TOpf","v":1.5789364474609868}]
[null,null,null,null,"Tax book value pre-depreciation",null,"£m nominal",null,null,null,null,null,null,null,null,null,null,null,null,null,null,null,null,null,null,null,null,null,null,null,null,null,null,null,null,null,null,null,null,null,null,{"$f":"SUM(AP74:AP77)","v":2.9205770050753159},8.1476816592181116,13.390657542792237,14.835556191864578,16.010144393737232]
[null,null,null,null,"Structures and Buildings capital allowance (straight line)",null,"£m nominal",null,null,null,null,null,null,null,null,null,null,null,null,null,null,null,null,null,null,null,null,null,null,null,null,null,null,null,null,null,null,null,null,null,null,{"$f":" - SUM($AO77:AO77) * AP72","v":0},{"$f":" - SUM($AO77:AP77) * AQ72","v":-8.7617310152259473E-2},{"$f":" - SUM($AO77:AQ77) * AR72","v":-0.24443044977654335},{"$f":" - SUM($AO77:AR77) * AS72","v":-0.40434824558833482},{"$f":" - SUM($AO77:AS77) * AT72","v":-0.45502811855380132}]
[null,null,null,null,"Closing balance carried forward",null,"£m nominal",null,null,null,null,null,null,null,null,null,null,null,null,null,null,null,null,null,null,null,null,null,null,null,null,null,null,null,null,null,null,null,null,null,null,{"$f":"AP78 + AP79","v":2.9205770050753159},8.0600643490658523,13.146227093015694,14.431207946276244,15.55511627518343]
[]
[null,null,"Deferred revenue expenditure"]
[]
[null,null,null,null,"Capital allowance rate",null,"%",null,null,null,null,null,null,null,null,null,null,null,null,null,null,null,null,null,null,null,null,null,null,null,null,null,null,null,null,null,null,null,null,null,null,{"$f":"Input!AP229","v":2.2200000000000001E-2},{"$f":"Input!AQ229","v":2.2200000000000001E-2},{"$f":"Input!AR229","v":2.2200000000000001E-2},{"$f":"Input!AS229","v":2.2200000000000001E-2},{"$f":"Input!AT229","v":2.2200000000000001E-2}]
[]
[null,null,null,null,"Opening balance brought forward",null,"£m nominal",null,null,null,null,null,null,null,null,null,null,null,null,null,null,null,null,null,null,null,null,null,null,null,null,null,null,null,null,null,null,null,null,null,null,{"$f":"Input!AP213","v":0},{"$f":"AP92","v":0},{"$f":"AQ92","v":0},{"$f":"AR92","v":0},{"$f":"AS92","v":0}]
[null,null,null,null,"Transfer",null,"£m nominal"]
[null,null,null,null,"Revisions",null,"£m nominal"]
[null,null,null,null,"Capex additions",null,"£m nominal",null,null,null,null,null,null,null,null,null,null,null,null,null,null,null,null,null,null,null,null,null,null,null,null,null,null,null,null,null,null,null,null,null,{"$f":"Input!AO214","v":0},{"$f":"AP38 * TOpf","v":0},{"$f":"AQ38 * TOpf","v":0},{"$f":"AR38 * TOpf","v":0},{"$f":"AS38 * TOpf","v":0},{"$f":"AT38 * TOpf","v":0}]
[null,null,null,null,"Tax book value pre-depreciation",null,"£m nominal",null,null,null,null,null,null,null,null,null,null,null,null,null,null,null,null,null,null,null,null,null,null,null,null,null,null,null,null,null,null,null,null,null,null,{"$f":"SUM(AP86:AP89)","v":0},0,0,0,0]
[null,null,null,null,"Deferred revenue expenditure capital allowance (straight line)",null,"£m nominal",null,null,null,null,null,null,null,null,null,null,null,null,null,null,null,null,null,null,null,null,null,null,null,null,null,null,null,null,null,null,null,null,null,null,{"$f":"-SUM($AO89:AO89) * AP84","v":0},{"$f":"-SUM($AO89:AP89) * AQ84","v":0},{"$f":"-SUM($AO89:AQ89) * AR84","v":0},{"$f":"-SUM($AO89:AR89) * AS84","v":0},{"$f":"-SUM($AO89:AS89) * AT84","v":0}]
[null,null,null,null,"Closing balance carried forward",null,"£m nominal",null,null,null,null,null,null,null,null,null,null,null,null,null,null,null,null,null,null,null,null,null,null,null,null,null,null,null,null,null,null,null,null,null,null,{"$f":"AP90+AP91","v":0},0,0,0,0]
[]
[null,null,"Total capital allowances"]
[]
[null,null,null,null,"General pool",null,"£m nominal",null,null,null,null,null,null,null,null,null,null,null,null,null,null,null,null,null,null,null,null,null,null,null,null,null,null,null,null,null,null,null,null,null,null,{"$f":"-AP55","v":50.058142302240775},{"$f":"-AQ55","v":57.074626314799012},61.938921552233268,56.394702883572982,51.567103360646271]
[null,null,null,null,"Special Rates pool",null,"£m nominal",null,null,null,null,null,null,null,null,null,null,null,null,null,null,null,null,null,null,null,null,null,null,null,null,null,null,null,null,null,null,null,null,null,null,{"$f":"-AP67","v":106.12050598406583},{"$f":"-AQ67","v":112.91615356775063},120.57509352573317,120.54108706257158,120.15685678312576]
[null,null,null,null,"Structures and Buildings pool",null,"£m nominal",null,null,null,null,null,null,null,null,null,null,null,null,null,null,null,null,null,null,null,null,null,null,null,null,null,null,null,null,null,null,null,null,null,null,{"$f":"-AP79","v":0},{"$f":"-AQ79","v":8.7617310152259473E-2},{"$f":"-AR79","v":0.24443044977654335},{"$f":"-AS79","v":0.40434824558833482},{"$f":"-AT79","v":0.45502811855380132}]
[null,null,null,null,"Deferred revenue expenditure",null,"£m nominal",null,null,null,null,null,null,null,null,null,null,null,null,null,null,null,null,null,null,null,null,null,null,null,null,null,null,null,null,null,null,null,null,null,null,{"$f":"-AP91","v":0},{"$f":"-AQ91","v":0},{"$f":"-AR91","v":0},{"$f":"-AS91","v":0},{"$f":"-AT91","v":0}]
[null,null,null,null,"Capital allowances",null,"£m nominal",null,null,null,null,null,null,null,null,null,null,null,null,null,null,null,null,null,null,null,null,null,null,null,null,null,null,null,null,null,null,null,null,null,null,{"$f":"SUM(AP96:AP99)","v":156.17864828630661},{"$f":"SUM(AQ96:AQ99)","v":170.07839719270191},182.75844552774296,177.34013819173288,172.17898826232584]
[]
[null,"End of sheet"]

{"sheet":"Finance&Tax","index":9,"n_rows":338,"n_cols":46,"rows_kept":338,"cut":false,"hidden":false,"merged":[]}
["Finance & Tax"]
[null,{"$f":"UserInterface!G17","v":"NGGT TO"}]
[null,null,null,null,"Parameter",null,"Units",null,"Constant",null,null,null,null,null,null,null,null,null,null,null,null,null,null,null,null,null,null,null,null,null,null,null,null,null,null,null,null,null,null,null,null,"Annual values"]
[null,null,null,null,"PCFM year ending",{"$f":"Cover!C4","v":"Model Version"},null,null,{"$f":"UserInterface!$G$10","v":"2022-03-31"},null,"1991-03-31","1992-03-31","1993-03-31","1994-03-31","1995-03-31","1996-03-31","1997-03-31","1998-03-31","1999-03-31","2000-03-31","2001-03-31","2002-03-31","2003-03-31","2004-03-31","2005-03-31","2006-03-31","2007-03-31","2008-03-31","2009-03-31","2010-03-31","2011-03-31","2012-03-31","2013-03-31","2014-03-31","2015-03-31","2016-03-31","2017-03-31","2018-03-31","2019-03-31","2020-03-31","2021-03-31","2022-03-31","2023-03-31","2024-03-31","2025-03-31","2026-03-31"]
[]
[null,"Net debt"]
[null,"Note: Net debt is calculated to generate interest paid (for the tax calculation) and gearing levels (for equity issuance calculations)."]
[null,"\"Core\" net debt is distinct from \"Non-core\" net debt. Non-core net debt relates to assets held outside the main RAV and receiving a pre-tax income."]
[]
[null,null,"Core net debt"]
[null,null,"Note: The company opens the price control at its notionally geared level. Any equity issuance required to reach this level is not shown."]
[null,null,"Equity issuance (if any) occurs at the start of the year and may be followed by transfers to or from non-core net debt (to equalise opening gearing levels across the company)."]
[null,null,"Start of year transfers may also include net debt accompanying non-core assets transferred to core RAV."]
[null,null,"A sub-total is taken before tax and interest on in-year cashflow. This allows the calculation of interest on in-year cashflow to be solved analytically."]
[]
[null,null,null,null,"Opening balance brought forward (before equity issuance and transfers)",null,"£m nominal",null,null,null,null,null,null,null,null,null,null,null,null,null,null,null,null,null,null,null,null,null,null,null,null,null,null,null,null,null,null,null,null,null,null,null,{"$f":"AP40","v":-3709.681166240915},{"$f":"AQ40","v":-3712.4378846533737},{"$f":"AR40","v":-3721.7251164657555},{"$f":"AS40","v":-3585.6243984934763}]
[null,null,null,null,"Equity issuance",null,"£m nominal",null,null,null,null,null,null,null,null,null,null,null,null,null,null,null,null,null,null,null,null,null,null,null,null,null,null,null,null,null,null,null,null,null,null,null,{"$f":"AQ103","v":0},{"$f":"AR103","v":0},{"$f":"AS103","v":0},{"$f":"AT103","v":0}]
[null,null,null,null,"Opening balance brought forward (after equity issuance, before transfers)",null,"£m nominal",null,null,null,null,null,null,null,null,null,null,null,null,null,null,null,null,null,null,null,null,null,null,null,null,null,null,null,null,null,null,null,null,null,null,null,{"$f":"SUM(AQ16:AQ17)","v":-3709.681166240915},{"$f":"SUM(AR16:AR17)","v":-3712.4378846533737},{"$f":"SUM(AS16:AS17)","v":-3721.7251164657555},{"$f":"SUM(AT16:AT17)","v":-3585.6243984934763}]
[null,null,null,null,"Transfer from non-core net debt",null,"£m nominal",null,null,null,null,null,null,null,null,null,null,null,null,null,null,null,null,null,null,null,null,null,null,null,null,null,null,null,null,null,null,null,null,null,null,null,{"$f":"-AQ53","v":0},{"$f":"-AR53","v":0},{"$f":"-AS53","v":0},{"$f":"-AT53","v":0}]
[null,null,null,null,"Opening balance brought forward (after equity issuance and transfers)",null,"£m nominal",null,null,null,null,null,null,null,null,null,null,null,null,null,null,null,null,null,null,null,null,null,null,null,null,null,null,null,null,null,null,null,null,null,null,{"$f":"-AP83 * (AP70 + AP71)","v":-3806.0161235717837},{"$f":"SUM(AQ18:AQ19)","v":-3709.681166240915},{"$f":"SUM(AR18:AR19)","v":-3712.4378846533737},{"$f":"SUM(AS18:AS19)","v":-3721.7251164657555},{"$f":"SUM(AT18:AT19)","v":-3585.6243984934763}]
[null,null,null,null,"Add TO calculated revenue (before tax)",null,"£m nominal",null,null,null,null,null,null,null,null,null,null,null,null,null,null,null,null,null,null,null,null,null,null,null,null,null,null,null,null,null,null,null,null,null,null,{"$f":"Revenue!AP21 * TOpf","v":790.3201078768692},{"$f":"Revenue!AQ21 * TOpf","v":810.77356238750099},{"$f":"Revenue!AR21 * TOpf","v":830.61657159353649},{"$f":"Revenue!AS21 * TOpf","v":782.06138505156821},{"$f":"Revenue!AT21 * TOpf","v":785.42974866887096}]
[null,null,null,null,"Add SO calculated revenue (before tax)",null,"£m nominal",null,null,null,null,null,null,null,null,null,null,null,null,null,null,null,null,null,null,null,null,null,null,null,null,null,null,null,null,null,null,null,null,null,null,{"$f":"SystemOperator!AP604 * TOpf","v":205.26677333353183},{"$f":"SystemOperator!AQ604 * TOpf","v":196.69593293929881},{"$f":"SystemOperator!AR604 * TOpf","v":203.51551787575588},{"$f":"SystemOperator!AS604 * TOpf","v":198.27852878347022},{"$f":"SystemOperator!AT604 * TOpf","v":190.78454080075042}]
[null,null,null,null,"Less TO directly remunerated services adjustment",null,"£m nominal",null,null,null,null,null,null,null,null,null,null,null,null,null,null,null,null,null,null,null,null,null,null,null,null,null,null,null,null,null,null,null,null,null,null,{"$f":" - Input!AP135 * TOpf","v":0},{"$f":" - Input!AQ135 * TOpf","v":0},{"$f":" - Input!AR135 * TOpf","v":0},{"$f":" - Input!AS135 * TOpf","v":0},{"$f":" - Input!AT135 * TOpf","v":0}]
[null,null,null,null,"Less TO actual totex",null,"£m nominal",null,null,null,null,null,null,null,null,null,null,null,null,null,null,null,null,null,null,null,null,null,null,null,null,null,null,null,null,null,null,null,null,null,null,{"$f":"-Totex!AP82 * TOpf","v":-318.01630225022006},{"$f":"-Totex!AQ82 * TOpf","v":-446.23115243746145},{"$f":"-Totex!AR82 * TOpf","v":-464.79246392428536},{"$f":"-Totex!AS82 * TOpf","v":-266.3904394084139},{"$f":"-Totex!AT82 * TOpf","v":-256.23481680579175}]
[null,null,null,null,"Less SO actual totex",null,"£m nominal",null,null,null,null,null,null,null,null,null,null,null,null,null,null,null,null,null,null,null,null,null,null,null,null,null,null,null,null,null,null,null,null,null,null,{"$f":" - SystemOperator!AP274 * TOpf","v":-96.958743071350526},{"$f":" - SystemOperator!AQ274 * TOpf","v":-95.192012265761477},{"$f":" - SystemOperator!AR274 * TOpf","v":-107.04003406786516},{"$f":" - SystemOperator!AS274 * TOpf","v":-99.950028717134998},{"$f":" - SystemOperator!AT274 * TOpf","v":-88.949072755493447}]
[null,null,null,null,"Less TO actual non-totex",null,"£m nominal",null,null,null,null,null,null,null,null,null,null,null,null,null,null,null,null,null,null,null,null,null,null,null,null,null,null,null,null,null,null,null,null,null,null,{"$f":"-Input!AP91 * TOpf","v":-154.55567990091009},{"$f":"-Input!AQ91 * TOpf","v":-156.94738549743587},{"$f":"-Input!AR91 * TOpf","v":-160.15220197757529},{"$f":"-Input!AS91 * TOpf","v":-171.4150069236218},{"$f":"-Input!AT91 * TOpf","v":-175.28988192774827}]
[null,null,null,null,"Less SO actual non-totex",null,"£m nominal",null,null,null,null,null,null,null,null,null,null,null,null,null,null,null,null,null,null,null,null,null,null,null,null,null,null,null,null,null,null,null,null,null,null,{"$f":" - SystemOperator!AP48 * TOpf","v":-5.3889475671656379},{"$f":" - SystemOperator!AQ48 * TOpf","v":-3.3104449485043861},{"$f":" - SystemOperator!AR48 * TOpf","v":-3.226652101094734},{"$f":" - SystemOperator!AS48 * TOpf","v":-2.7064710134225445},{"$f":" - SystemOperator!AT48 * TOpf","v":-2.5345309775848368}]
[null,null,null,null,"Less TO other costs",null,"£m nominal",null,null,null,null,null,null,null,null,null,null,null,null,null,null,null,null,null,null,null,null,null,null,null,null,null,null,null,null,null,null,null,null,null,null,{"$f":" - Input!AP114 * TOpf","v":-5.8946268300617577},{"$f":" - Input!AQ114 * TOpf","v":-5.9412798709858876},{"$f":" - Input!AR114 * TOpf","v":-6.047087036086233},{"$f":" - Input!AS114 * TOpf","v":-6.1639843694814171},{"$f":" - Input!AT114 * TOpf","v":-6.2870511132823506}]
[null,null,null,null,"Less SO other costs",null,"£m nominal",null,null,null,null,null,null,null,null,null,null,null,null,null,null,null,null,null,null,null,null,null,null,null,null,null,null,null,null,null,null,null,null,null,null,{"$f":" - SystemOperator!AP78 *SOpf","v":-92.12299999999999},{"$f":" - SystemOperator!AQ78 *SOpf","v":-87.123000000000005},{"$f":" - SystemOperator!AR78 *SOpf","v":-87.123000000000005},{"$f":" - SystemOperator!AS78 *SOpf","v":-87.123000000000005},{"$f":" - SystemOperator!AT78 *SOpf","v":-87.123000000000005}]
[null,null,null,null,"Less dividends",null,"£m nominal",null,null,null,null,null,null,null,null,null,null,null,null,null,null,null,null,null,null,null,null,null,null,null,null,null,null,null,null,null,null,null,null,null,null,{"$f":"-AP205","v":-75.797389662985324},{"$f":"-AQ205","v":-76.55255015642058},{"$f":"-AR205","v":-77.529461726140241},{"$f":"-AS205","v":-76.92190940829893},{"$f":"-AT205","v":-76.152187547143953}]
[null,null,null,null,"Less pre-vesting disposal proceeds",null,"£m nominal",null,null,null,null,null,null,null,null,null,null,null,null,null,null,null,null,null,null,null,null,null,null,null,null,null,null,null,null,null,null,null,null,null,null,{"$f":"-('Return&RAV'!AP54) * TOpf","v":0},{"$f":"-('Return&RAV'!AQ54) * TOpf","v":0},{"$f":"-('Return&RAV'!AR54) * TOpf","v":0},{"$f":"-('Return&RAV'!AS54) * TOpf","v":0},{"$f":"-('Return&RAV'!AT54) * TOpf","v":0}]
[null,null,null,null,"Less equity issuance costs",null,"£m nominal",null,null,null,null,null,null,null,null,null,null,null,null,null,null,null,null,null,null,null,null,null,null,null,null,null,null,null,null,null,null,null,null,null,null,{"$f":"-AP195","v":-7.9292002574412237},{"$f":"-AQ195","v":0},{"$f":"-AR195","v":0},{"$f":"-AS195","v":0},{"$f":"-AT195","v":0}]
[null,null,null,null,"Closing net debt (before tax and debt costs)",null,"£m nominal",null,null,null,null,null,null,null,null,null,null,null,null,null,null,null,null,null,null,null,null,null,null,null,null,null,null,null,null,null,null,null,null,null,null,{"$f":"SUM(AP20:AP32)","v":-3567.0931319015172},{"$f":"SUM(AQ20:AQ32)","v":-3573.5094960906849},{"$f":"SUM(AR20:AR32)","v":-3584.2166960171285},{"$f":"SUM(AS20:AS32)","v":-3452.0560424710907},{"$f":"SUM(AT20:AT32)","v":-3301.9806501508992}]
[null,null,null,null,"Less net interest paid (excluding principal inflation accretion)",null,"£m nominal",null,null,null,null,null,null,null,null,null,null,null,null,null,null,null,null,null,null,null,null,null,null,null,null,null,null,null,null,null,null,null,null,null,null,{"$f":"AP169","v":-128.53231801963011},{"$f":"AQ169","v":-121.47296336531144},{"$f":"AR169","v":-118.01670268759102},{"$f":"AS169","v":-112.76670682742622},{"$f":"AT169","v":-106.17184291817486}]
[null,null,null,null,"Less net interest paid (principal inflation accretion)",null,"£m nominal",null,null,null,null,null,null,null,null,null,null,null,null,null,null,null,null,null,null,null,null,null,null,null,null,null,null,null,null,null,null,null,null,null,null,{"$f":"AP171","v":-14.055716319767626},{"$f":"AQ171","v":-17.455425197377217},{"$f":"AR171","v":-19.491717761035822},{"$f":"AS171","v":-20.801649194959055},{"$f":"AT171","v":-20.62712383211764}]
[null,null,null,null,"Add tax allowance (including adjustment)",null,"£m nominal",null,null,null,null,null,null,null,null,null,null,null,null,null,null,null,null,null,null,null,null,null,null,null,null,null,null,null,null,null,null,null,null,null,null,{"$f":"AP249","v":50.207934733830008},{"$f":"AQ249","v":49.336438652710939},{"$f":"AR249","v":71.090404363704891},{"$f":"AS249","v":61.126691091648254},{"$f":"AT249","v":65.703617171381893}]
[null,null,null,null,"Add SO tax allowance (including adjustment)",null,"£m nominal",null,null,null,null,null,null,null,null,null,null,null,null,null,null,null,null,null,null,null,null,null,null,null,null,null,null,null,null,null,null,null,null,null,null,{"$f":"SystemOperator!AP506","v":1.9436878023158215},{"$f":"SystemOperator!AQ506","v":1.7558140161918887},{"$f":"SystemOperator!AR506","v":3.905656795986574},{"$f":"SystemOperator!AS506","v":1.7600031973803376},{"$f":"SystemOperator!AT506","v":0}]
[null,null,null,null,"Less tax paid (including cash flow on revenue without a tax allowance)",null,"£m nominal",null,null,null,null,null,null,null,null,null,null,null,null,null,null,null,null,null,null,null,null,null,null,null,null,null,null,null,null,null,null,null,null,null,null,{"$f":"-AP278+ NonCore!AP21","v":-50.207934733830015},{"$f":"-AQ278+ NonCore!AQ21","v":-49.336438652710946},{"$f":"-AR278+ NonCore!AR21","v":-71.090404363704891},{"$f":"-AS278+ NonCore!AS21","v":-61.126691091648254},{"$f":"-AT278+ NonCore!AT21","v":-65.703617171381893}]
[null,null,null,null,"Less SO tax paid",null,"£m nominal",null,null,null,null,null,null,null,null,null,null,null,null,null,null,null,null,null,null,null,null,null,null,null,null,null,null,null,null,null,null,null,null,null,null,{"$f":"-SystemOperator!AP534","v":-1.9436878023158215},{"$f":"-SystemOperator!AQ534","v":-1.7558140161918891},{"$f":"-SystemOperator!AR534","v":-3.905656795986574},{"$f":"-SystemOperator!AS534","v":-1.7600031973803389},{"$f":"-SystemOperator!AT534","v":0}]
[null,null,null,null,"Closing value",null,"£m nominal",null,null,null,null,null,null,null,null,null,null,null,null,null,null,null,null,null,null,null,null,null,null,null,null,null,null,null,null,null,null,null,null,null,null,{"$f":"SUM(AP33:AP39)","v":-3709.681166240915},{"$f":"SUM(AQ33:AQ39)","v":-3712.4378846533737},{"$f":"SUM(AR33:AR39)","v":-3721.7251164657555},{"$f":"SUM(AS33:AS39)","v":-3585.6243984934763},{"$f":"SUM(AT33:AT39)","v":-3428.7796169011917}]
[]
[null,null,"SO net debt"]
[null,null,"Note: Values presented below are a summary for the System Operator. These are NOT used in calculations."]
[]
[null,null,null,null,"Opening balance brought forward (after transfers)",null,"£m nominal",null,null,null,null,null,null,null,null,null,null,null,null,null,null,null,null,null,null,null,null,null,null,null,null,null,null,null,null,null,null,null,null,null,null,{"$f":"AP71*AP83","v":93.09409731482468},{"$f":"SUM(AP47)","v":90.448395398763566},{"$f":"SUM(AQ47)","v":85.921510674214389},{"$f":"SUM(AR47)","v":85.465380799409644},{"$f":"SUM(AS47)","v":83.64636951401242}]
[null,null,null,null,"Movement in year",null,"£m nominal",null,null,null,null,null,null,null,null,null,null,null,null,null,null,null,null,null,null,null,null,null,null,null,null,null,null,null,null,null,null,null,null,null,null,{"$f":"AP47-AP45","v":-2.6457019160611139},{"$f":"AQ47-AQ45","v":-4.526884724549177},{"$f":"AR47-AR45","v":-0.45612987480474487},{"$f":"AS47-AS45","v":-1.8190112853972238},{"$f":"AT47-AT45","v":-5.4471988937963545}]
[null,null,null,null,"Closing net debt",null,"£m nominal",null,null,null,null,null,null,null,null,null,null,null,null,null,null,null,null,null,null,null,null,null,null,null,null,null,null,null,null,null,null,null,null,null,null,{"$f":"(SystemOperator!AP435 * TOpf) * AP112","v":90.448395398763566},{"$f":"(SystemOperator!AQ435 * TOpf) * AQ112","v":85.921510674214389},{"$f":"(SystemOperator!AR435 * TOpf) * AR112","v":85.465380799409644},{"$f":"(SystemOperator!AS435 * TOpf) * AS112","v":83.64636951401242},{"$f":"(SystemOperator!AT435 * TOpf) * AT112","v":78.199170620216066}]
[]
[null,null,"Non-core net debt"]
[null,null,"Note: Values presented below are a summary of those calculated on the \"NonCore\" sheet."]
[]
[null,null,null,null,"Opening balance brought forward (before transfers)",null,"£m nominal",null,null,null,null,null,null,null,null,null,null,null,null,null,null,null,null,null,null,null,null,null,null,null,null,null,null,null,null,null,null,null,null,null,null,null,{"$f":"AP56","v":0},{"$f":"AQ56","v":0},{"$f":"AR56","v":0},{"$f":"AS56","v":0}]
[null,null,null,null,"Transfer from core net debt",null,"£m nominal",null,null,null,null,null,null,null,null,null,null,null,null,null,null,null,null,null,null,null,null,null,null,null,null,null,null,null,null,null,null,null,null,null,null,null,{"$f":"NonCore!AQ23","v":0},{"$f":"NonCore!AR23","v":0},{"$f":"NonCore!AS23","v":0},{"$f":"NonCore!AT23","v":0}]
[null,null,null,null,"Opening balance brought forward (after transfers)",null,"£m nominal",null,null,null,null,null,null,null,null,null,null,null,null,null,null,null,null,null,null,null,null,null,null,null,null,null,null,null,null,null,null,null,null,null,null,{"$f":"-AP72 * AP83","v":0},{"$f":"SUM(AQ52:AQ53)","v":0},{"$f":"SUM(AR52:AR53)","v":0},{"$f":"SUM(AS52:AS53)","v":0},{"$f":"SUM(AT52:AT53)","v":0}]
[null,null,null,null,"Movement in year",null,"£m nominal",null,null,null,null,null,null,null,null,null,null,null,null,null,null,null,null,null,null,null,null,null,null,null,null,null,null,null,null,null,null,null,null,null,null,{"$f":"AP56-AP54","v":0},{"$f":"AQ56-AQ54","v":0},{"$f":"AR56-AR54","v":0},{"$f":"AS56-AS54","v":0},{"$f":"AT56-AT54","v":0}]
[null,null,null,null,"Closing net debt",null,"£m nominal",null,null,null,null,null,null,null,null,null,null,null,null,null,null,null,null,null,null,null,null,null,null,null,null,null,null,null,null,null,null,null,null,null,null,{"$f":"NonCore!AP22","v":0},{"$f":"NonCore!AQ22","v":0},{"$f":"NonCore!AR22","v":0},{"$f":"NonCore!AS22","v":0},{"$f":"NonCore!AT22","v":0}]
[]
[null,null,"Total net debt"]
[]
[null,null,null,null,"Opening total net debt (before equity issuance)",null,"£m nominal",null,null,null,null,null,null,null,null,null,null,null,null,null,null,null,null,null,null,null,null,null,null,null,null,null,null,null,null,null,null,null,null,null,null,null,{"$f":"AQ16 + AQ52","v":-3709.681166240915},{"$f":"AR16 + AR52","v":-3712.4378846533737},{"$f":"AS16 + AS52","v":-3721.7251164657555},{"$f":"AT16 + AT52","v":-3585.6243984934763}]
[null,null,null,null,"Opening total net debt (after equity issuance)",null,"£m nominal",null,null,null,null,null,null,null,null,null,null,null,null,null,null,null,null,null,null,null,null,null,null,null,null,null,null,null,null,null,null,null,null,null,null,{"$f":"AP20 + AP54","v":-3806.0161235717837},{"$f":"AQ18 + AQ52","v":-3709.681166240915},{"$f":"AR18 + AR52","v":-3712.4378846533737},{"$f":"AS18 + AS52","v":-3721.7251164657555},{"$f":"AT18 + AT52","v":-3585.6243984934763}]
[]
[null,"Regearing"]
[]
[null,null,"Overall opening gearing"]
[null,null,"Note: Opening values are based on real opening RAV inflated by the previous years prices."]
[]
[null,null,null,null,"Opening total net debt (before equity issuance)",null,"£m nominal",null,null,null,null,null,null,null,null,null,null,null,null,null,null,null,null,null,null,null,null,null,null,null,null,null,null,null,null,null,null,null,null,null,null,null,{"$f":"AQ60","v":-3709.681166240915},{"$f":"AR60","v":-3712.4378846533737},{"$f":"AS60","v":-3721.7251164657555},{"$f":"AT60","v":-3585.6243984934763}]
[]
[null,null,null,null,"Opening core RAV (after transfers)",null,"£m nominal",null,null,null,null,null,null,null,null,null,null,null,null,null,null,null,null,null,null,null,null,null,null,null,null,null,null,null,null,null,null,null,null,null,null,{"$f":"('Return&RAV'!AP41) * Input!AO$191","v":6188.203377094932},{"$f":"('Return&RAV'!AQ41) * Input!AP$191","v":6165.7018129175049},{"$f":"('Return&RAV'!AR41) * Input!AQ$191","v":6233.0812021227512},{"$f":"('Return&RAV'!AS41) * Input!AR$191","v":6313.9264722648531},{"$f":"('Return&RAV'!AT41) * Input!AS$191","v":6264.951859056715}]
[null,null,null,null,"Opening SO RAV (after transfers)",null,"£m nominal",null,null,null,null,null,null,null,null,null,null,null,null,null,null,null,null,null,null,null,null,null,null,null,null,null,null,null,null,null,null,null,null,null,null,{"$f":"SystemOperator!AP432 * Input!AO$191","v":155.15682885804114},{"$f":"SystemOperator!AQ432 * Input!AP$191","v":150.74732566460594},{"$f":"SystemOperator!AR432 * Input!AQ$191","v":146.29797757896313},{"$f":"SystemOperator!AS432 * Input!AR$191","v":146.86200491350141},{"$f":"SystemOperator!AT432 * Input!AS$191","v":145.20725830152986}]
[null,null,null,null,"Opening non-core RAV (after transfers)",null,"£m nominal",null,null,null,null,null,null,null,null,null,null,null,null,null,null,null,null,null,null,null,null,null,null,null,null,null,null,null,null,null,null,null,null,null,null,{"$f":"NonCore!AP14 * Input!AO$191","v":0},{"$f":"NonCore!AQ14 * Input!AP$191","v":0},{"$f":"NonCore!AR14 * Input!AQ$191","v":0},{"$f":"NonCore!AS14 * Input!AR$191","v":0},{"$f":"NonCore!AT14 * Input!AS$191","v":0}]
[null,null,null,null,"Total opening regulatory assets (after transfers)",null,"£m nominal",null,null,null,null,null,null,null,null,null,null,null,null,null,null,null,null,null,null,null,null,null,null,null,null,null,null,null,null,null,null,null,null,null,null,{"$f":"SUM(AP70:AP72)","v":6343.360205952973},{"$f":"SUM(AQ70:AQ72)","v":6316.4491385821111},{"$f":"SUM(AR70:AR72)","v":6379.3791797017147},{"$f":"SUM(AS70:AS72)","v":6460.7884771783547},{"$f":"SUM(AT70:AT72)","v":6410.1591173582447}]
[]
[null,null,null,null,"Overall gearing at start of year (before equity issuance)",null,"%",null,null,null,null,null,null,null,null,null,null,null,null,null,null,null,null,null,null,null,null,null,null,null,null,null,null,null,null,null,null,null,null,null,null,null,{"$f":" - AQ68 / AQ$73","v":0.58730484245989634},{"$f":" - AR68 / AR$73","v":0.5819434430964423},{"$f":" - AS68 / AS$73","v":0.57604812935946159},{"$f":" - AT68 / AT$73","v":0.55936589604833153}]
[]
[null,null,"Start of price control notional regearing"]
[null,null,"Note: An allowance is given to cover the change in notional gearing from its level in the previous price control. "]
[null,null,"For transmission only, where the Pre-RIIO closing gearing is higher than the notional opening gear the notional gearing at the start of RIIO will be uplifted to reflect this difference."]
[]
[null,null,null,null,"End of price control closing notional gearing",null,null,null,null,">",null,null,null,null,null,null,null,null,null,null,null,null,null,null,null,null,null,null,null,null,null,null,null,null,null,null,null,null,null,null,{"$f":"Input!AO167","v":0.625}]
[]
[null,null,null,null,"Notional gearing",null,"%",null,null,">",null,null,null,null,null,null,null,null,null,null,null,null,null,null,null,null,null,null,null,null,null,null,null,null,null,null,null,null,null,null,null,{"$f":"Input!$AP$167","v":0.6}]
[]
[null,null,null,null,"Start of price control change in notional gearing",null,"%",null,null,null,null,null,null,null,null,null,null,null,null,null,null,null,null,null,null,null,null,null,null,null,null,null,null,null,null,null,null,null,null,null,null,{"$f":"AO81-AP83","v":2.5000000000000022E-2}]
[null,null,null,null,"Total opening regulatory assets (after transfers)",null,"£m nominal",null,null,null,null,null,null,null,null,null,null,null,null,null,null,null,null,null,null,null,null,null,null,null,null,null,null,null,null,null,null,null,null,null,null,{"$f":"AP73","v":6343.360205952973}]
[]
[null,null,null,null,"Movement in net debt for notional regearing change",null,"£m nominal",null,null,null,null,null,null,null,null,null,null,null,null,null,null,null,null,null,null,null,null,null,null,null,null,null,null,null,null,null,null,null,null,null,null,{"$f":" AP85 * AP$86","v":158.58400514882447}]
[]
[null,null,"Equity issuance"]
[null,null,"Note: If opening overall gearing exceeds its target level beyond a given threshold, an equity issuance is triggered, bringing opening gearing back to its target level. An allowance is calculated for the cost of raising this equity."]
[]
[null,null,null,null,"Total opening regulatory assets (after transfers)",null,"£m nominal",null,null,null,null,null,null,null,null,null,null,null,null,null,null,null,null,null,null,null,null,null,null,null,null,null,null,null,null,null,null,null,null,null,null,null,{"$f":"AQ73","v":6316.4491385821111},{"$f":"AR73","v":6379.3791797017147},{"$f":"AS73","v":6460.7884771783547},{"$f":"AT73","v":6410.1591173582447}]
[]
[null,null,null,null,"Overall gearing at start of year (before equity issuance)",null,"%",null,null,null,null,null,null,null,null,null,null,null,null,null,null,null,null,null,null,null,null,null,null,null,null,null,null,null,null,null,null,null,null,null,null,null,{"$f":"AQ75","v":0.58730484245989634},{"$f":"AR75","v":0.5819434430964423},{"$f":"AS75","v":0.57604812935946159},{"$f":"AT75","v":0.55936589604833153}]
[null,null,null,null,"Less target gearing for equity issuance",null,"%",null,null,null,null,null,null,null,null,null,null,null,null,null,null,null,null,null,null,null,null,null,null,null,null,null,null,null,null,null,null,null,null,null,null,null,{"$f":"-Input!AQ246","v":-0.6},{"$f":"-Input!AR246","v":-0.6},{"$f":"-Input!AS246","v":-0.6},{"$f":"-Input!AT246","v":-0.6}]
[null,null,null,null,"Deviation from equity issuance target gearing",null,"%",null,null,null,null,null,null,null,null,null,null,null,null,null,null,null,null,null,null,null,null,null,null,null,null,null,null,null,null,null,null,null,null,null,null,null,{"$f":"SUM(AQ95:AQ96)","v":-1.2695157540103641E-2},{"$f":"SUM(AR95:AR96)","v":-1.8056556903557675E-2},{"$f":"SUM(AS95:AS96)","v":-2.3951870640538386E-2},{"$f":"SUM(AT95:AT96)","v":-4.0634103951668443E-2}]
[]
[null,null,null,null,"Threshold deviation above target level",null,"%",null,null,null,null,null,null,null,null,null,null,null,null,null,null,null,null,null,null,null,null,null,null,null,null,null,null,null,null,null,null,null,null,null,null,null,{"$f":"Input!AQ243","v":0.05},{"$f":"Input!AR243","v":0.05},{"$f":"Input!AS243","v":0.05},{"$f":"Input!AT243","v":0.05}]
[]
[null,null,null,null,"Equity issuance threshold met",null,"text",null,null,null,null,null,null,null,null,null,null,null,null,null,null,null,null,null,null,null,null,null,null,null,null,null,null,null,null,null,null,null,null,null,null,null,{"$f":"AQ97 >= AQ99","v":false},{"$f":"AR97 >= AR99","v":false},{"$f":"AS97 >= AS99","v":false},{"$f":"AT97 >= AT99","v":false}]
[]
[null,null,null,null,"Equity issuance",null,"£m nominal",null,null,null,null,null,null,null,null,null,null,null,null,null,null,null,null,null,null,null,null,null,null,null,null,null,null,null,null,null,null,null,null,null,null,null,{"$f":"AQ93 * AQ97 * AQ101","v":0},{"$f":"AR93 * AR97 * AR101","v":0},{"$f":"AS93 * AS97 * AS101","v":0},{"$f":"AT93 * AT97 * AT101","v":0}]
[]
[null,null,"Start of year gearing equalisation between core and non-core net debt"]
[null,null,"Note: Movements in non-core cashflow allow core and non-core gearing levels to diverge within the year. Net debt transfers at the start of the year equalise levels of gearing across the company."]
[null,null,"The overall gearing percentage is exported to the \"NonCore\" sheet to set their opening gearing to that level. Net movements required to reach that level from their net debt brought forward generate a transfer from Core net debt."]
[]
[null,null,null,null,"Opening total net debt (after equity issuance)",null,"£m nominal",null,null,null,null,null,null,null,null,null,null,null,null,null,null,null,null,null,null,null,null,null,null,null,null,null,null,null,null,null,null,null,null,null,null,{"$f":"AP61","v":-3806.0161235717837},{"$f":"AQ61","v":-3709.681166240915},{"$f":"AR61","v":-3712.4378846533737},{"$f":"AS61","v":-3721.7251164657555},{"$f":"AT61","v":-3585.6243984934763}]
[null,null,null,null,"Total opening regulatory assets (after transfers)",null,"£m nominal",null,null,null,null,null,null,null,null,null,null,null,null,null,null,null,null,null,null,null,null,null,null,null,null,null,null,null,null,null,null,null,null,null,null,{"$f":"AP73","v":6343.360205952973},{"$f":"AQ73","v":6316.4491385821111},{"$f":"AR73","v":6379.3791797017147},{"$f":"AS73","v":6460.7884771783547},{"$f":"AT73","v":6410.1591173582447}]
[]
[null,null,null,null,"Overall gearing at start of year (after equity issuance)",null,"%",null,null,null,null,null,null,null,null,null,null,null,null,null,null,null,null,null,null,null,null,null,null,null,null,null,null,null,null,null,null,null,null,null,null,{"$f":"-AP109/AP110","v":0.6},{"$f":"-AQ109/AQ110","v":0.58730484245989634},{"$f":"-AR109/AR110","v":0.5819434430964423},{"$f":"-AS109/AS110","v":0.57604812935946159},{"$f":"-AT109/AT110","v":0.55936589604833153}]
[]
[null,"Financing costs"]
[]
[null,null,"Interest"]
[]
[null,null,null,"Forecast cost of debt"]
[null,null,null,"Note: The nominal cost of debt is calculated and adjusted for any portion indexed for inflation."]
[]
[null,null,null,null,"Fixed rate debt"]
[]
[null,null,null,null,"Cost of debt",null,"annual real %",null,null,null,null,null,null,null,null,null,null,null,null,null,null,null,null,null,null,null,null,null,null,null,null,null,null,null,null,null,null,null,null,null,null,{"$f":"Input!AP165","v":2.0500000000000001E-2},{"$f":"Input!AQ165","v":1.9E-2},{"$f":"Input!AR165","v":1.7999999999999999E-2},{"$f":"Input!AS165","v":1.7100000000000001E-2},{"$f":"Input!AT165","v":1.6500000000000001E-2}]
[null,null,null,null,"Forecast Debt inflation (CPIH long term)",null,"annual %",null,null,null,null,null,null,null,null,null,null,null,null,null,null,null,null,null,null,null,null,null,null,null,null,null,null,null,null,null,null,null,null,null,null,{"$f":"Input!AP187","v":0.02},{"$f":"Input!AQ187","v":0.02},{"$f":"Input!AR187","v":0.02},{"$f":"Input!AS187","v":0.02},{"$f":"Input!AT187","v":0.02}]
[]
[null,null,null,null,"Forecast cost of debt (fixed rate)",null,"nominal annual %",null,null,null,null,null,null,null,null,null,null,null,null,null,null,null,null,null,null,null,null,null,null,null,null,null,null,null,null,null,null,null,null,null,null,{"$f":"((1 + AP123) * (1 + AP124)) - 1","v":4.0910000000000002E-2},{"$f":"((1 + AQ123) * (1 + AQ124)) - 1","v":3.9379999999999971E-2},{"$f":"((1 + AR123) * (1 + AR124)) - 1","v":3.835999999999995E-2},{"$f":"((1 + AS123) * (1 + AS124)) - 1","v":3.7441999999999975E-2},{"$f":"((1 + AT123) * (1 + AT124)) - 1","v":3.6829999999999918E-2}]
[]
[null,null,null,null,"CPIH index-linked debt"]
[]
[null,null,null,null,"Cost of debt (CPIH index-linked)",null,"annual real % (CPIH)",null,null,null,null,null,null,null,null,null,null,null,null,null,null,null,null,null,null,null,null,null,null,null,null,null,null,null,null,null,null,null,null,null,null,{"$f":"AP123","v":2.0500000000000001E-2},{"$f":"AQ123","v":1.9E-2},{"$f":"AR123","v":1.7999999999999999E-2},{"$f":"AS123","v":1.7100000000000001E-2},{"$f":"AT123","v":1.6500000000000001E-2}]
[null,null,null,null,"Forecast Debt inflation (CPIH)",null,"annual %",null,null,null,null,null,null,null,null,null,null,null,null,null,null,null,null,null,null,null,null,null,null,null,null,null,null,null,null,null,null,null,null,null,null,{"$f":"Input!AP182","v":1.2708990497537709E-2},{"$f":"Input!AQ182","v":1.5977818886124595E-2},{"$f":"Input!AR182","v":1.7808816853932985E-2},{"$f":"Input!AS182","v":1.9331180897115496E-2},{"$f":"Input!AT182","v":1.9965453580682579E-2}]
[]
[null,null,null,null,"Forecast cost of debt (CPIH index-linked)",null,"nominal annual %",null,null,null,null,null,null,null,null,null,null,null,null,null,null,null,null,null,null,null,null,null,null,null,null,null,null,null,null,null,null,null,null,null,null,{"$f":"((1 + AP130) * (1 + AP131)) - 1","v":3.3469524802737238E-2},{"$f":"((1 + AQ130) * (1 + AQ131)) - 1","v":3.5281397444960838E-2},{"$f":"((1 + AR130) * (1 + AR131)) - 1","v":3.6129375557303778E-2},{"$f":"((1 + AS130) * (1 + AS131)) - 1","v":3.6761744090455961E-2},{"$f":"((1 + AT130) * (1 + AT131)) - 1","v":3.6794883564763792E-2}]
[]
[null,null,null,"Average net debt (except for interest and tax)"]
[]
[null,null,null,null,"Opening net debt",null,"£m nominal",null,null,null,null,null,null,null,null,null,null,null,null,null,null,null,null,null,null,null,null,null,null,null,null,null,null,null,null,null,null,null,null,null,null,{"$f":"AP20","v":-3806.0161235717837},{"$f":"AQ20","v":-3709.681166240915},{"$f":"AR20","v":-3712.4378846533737},{"$f":"AS20","v":-3721.7251164657555},{"$f":"AT20","v":-3585.6243984934763}]
[null,null,null,null,"Closing net debt (except for interest and tax)",null,"£m nominal",null,null,null,null,null,null,null,null,null,null,null,null,null,null,null,null,null,null,null,null,null,null,null,null,null,null,null,null,null,null,null,null,null,null,{"$f":"AP33","v":-3567.0931319015172},{"$f":"AQ33","v":-3573.5094960906849},{"$f":"AR33","v":-3584.2166960171285},{"$f":"AS33","v":-3452.0560424710907},{"$f":"AT33","v":-3301.9806501508992}]
[]
[null,null,null,null,"Average net debt (except for interest and tax)",null,"£m nominal",null,null,null,null,null,null,null,null,null,null,null,null,null,null,null,null,null,null,null,null,null,null,null,null,null,null,null,null,null,null,null,null,null,null,{"$f":"AVERAGE(AP137:AP138)","v":-3686.5546277366502},{"$f":"AVERAGE(AQ137:AQ138)","v":-3641.5953311658},{"$f":"AVERAGE(AR137:AR138)","v":-3648.3272903352508},{"$f":"AVERAGE(AS137:AS138)","v":-3586.8905794684233},{"$f":"AVERAGE(AT137:AT138)","v":-3443.8025243221878}]
[]
[null,null,null,null,"Average cost of debt applied (for non core assets)",null,"nominal annual %",null,null,null,null,null,null,null,null,null,null,null,null,null,null,null,null,null,null,null,null,null,null,null,null,null,null,null,null,null,null,null,null,null,null,{"$f":"AP167 / AP140","v":3.8677857440821174E-2},{"$f":"AQ167 / AQ140","v":3.8150419233488227E-2},{"$f":"AR167 / AR140","v":3.7690812667191098E-2},{"$f":"AS167 / AS140","v":3.7237923227136774E-2},{"$f":"AT167 / AT140","v":3.6819465069429083E-2}]
[]
[null,null,null,"Net interest received"]
[]
[null,null,null,null,"Fixed rate debt"]
[]
[null,null,null,null,"Fixed rate debt as a percentage of net debt",null,"%",null,null,null,null,null,null,null,null,null,null,null,null,null,null,null,null,null,null,null,null,null,null,null,null,null,null,null,null,null,null,null,null,null,null,{"$f":"1 - AP156","v":0.7},{"$f":"1 - AQ156","v":0.7},0.7,0.7,0.7]
[null,null,null,null,"Average net debt (except for interest and tax) - fixed rate",null,"£m nominal",null,null,null,null,null,null,null,null,null,null,null,null,null,null,null,null,null,null,null,null,null,null,null,null,null,null,null,null,null,null,null,null,null,null,{"$f":"AP$140 * AP148","v":-2580.5882394156552},{"$f":"AQ$140 * AQ148","v":-2549.1167318160597},{"$f":"AR$140 * AR148","v":-2553.8291032346756},{"$f":"AS$140 * AS148","v":-2510.8234056278961},{"$f":"AT$140 * AT148","v":-2410.6617670255314}]
[null,null,null,null,"Forecast cost of debt (fixed rate)",null,"%",null,null,null,null,null,null,null,null,null,null,null,null,null,null,null,null,null,null,null,null,null,null,null,null,null,null,null,null,null,null,null,null,null,null,{"$f":"AP$126","v":4.0910000000000002E-2},{"$f":"AQ$126","v":3.9379999999999971E-2},{"$f":"AR$126","v":3.835999999999995E-2},{"$f":"AS$126","v":3.7441999999999975E-2},{"$f":"AT$126","v":3.6829999999999918E-2}]
[]
[null,null,null,null,"Net interest received (fixed rate)",null,"£m nominal",null,null,null,null,null,null,null,null,null,null,null,null,null,null,null,null,null,null,null,null,null,null,null,null,null,null,null,null,null,null,null,null,null,null,{"$f":"AP149 * AP150","v":-105.57186487449445},{"$f":"AQ149 * AQ150","v":-100.38421689891635},{"$f":"AR149 * AR150","v":-97.964884400082028},{"$f":"AS149 * AS150","v":-94.010249953519619},{"$f":"AT149 * AT150","v":-88.784672879550129}]
[]
[null,null,null,null,"CPIH index-linked debt"]
[]
[null,null,null,null,"CPIH index-linked debt as a percentage of net debt",null,"%",null,null,null,null,null,null,null,null,null,null,null,null,null,null,null,null,null,null,null,null,null,null,null,null,null,null,null,null,null,null,null,null,null,null,{"$f":"Input!AP247","v":0.3},{"$f":"Input!AQ247","v":0.3},{"$f":"Input!AR247","v":0.3},{"$f":"Input!AS247","v":0.3},{"$f":"Input!AT247","v":0.3}]
[null,null,null,null,"Average net debt (except for interest and tax) - CPIH index-linked",null,"£m nominal",null,null,null,null,null,null,null,null,null,null,null,null,null,null,null,null,null,null,null,null,null,null,null,null,null,null,null,null,null,null,null,null,null,null,{"$f":"AP$140 * AP156","v":-1105.9663883209951},{"$f":"AQ$140 * AQ156","v":-1092.4785993497399},{"$f":"AR$140 * AR156","v":-1094.4981871005753},{"$f":"AS$140 * AS156","v":-1076.0671738405269},{"$f":"AT$140 * AT156","v":-1033.1407572966564}]
[null,null,null,null,"Forecast cost of debt (CPIH index-linked)",null,"%",null,null,null,null,null,null,null,null,null,null,null,null,null,null,null,null,null,null,null,null,null,null,null,null,null,null,null,null,null,null,null,null,null,null,{"$f":"AP$133","v":3.3469524802737238E-2},{"$f":"AQ$133","v":3.5281397444960838E-2},{"$f":"AR$133","v":3.6129375557303778E-2},{"$f":"AS$133","v":3.6761744090455961E-2},{"$f":"AT$133","v":3.6794883564763792E-2}]
[]
[null,null,null,null,"Net interest received (CPIH index-linked)",null,"£m nominal",null,null,null,null,null,null,null,null,null,null,null,null,null,null,null,null,null,null,null,null,null,null,null,null,null,null,null,null,null,null,null,null,null,null,{"$f":"AP157 * AP158","v":-37.016169464903271},{"$f":"AQ157 * AQ158","v":-38.544171663772303},{"$f":"AR157 * AR158","v":-39.543536048544823},{"$f":"AS157 * AS158","v":-39.558106068865641},{"$f":"AT157 * AT158","v":-38.014293870742357}]
[]
[null,null,null,null,"Principal inflation accretion on CPIH index-linked debt",null,"£m nominal",null,null,null,null,null,null,null,null,null,null,null,null,null,null,null,null,null,null,null,null,null,null,null,null,null,null,null,null,null,null,null,null,null,null,{"$f":"AP157 * AP131","v":-14.055716319767626},{"$f":"AQ157 * AQ131","v":-17.455425197377217},{"$f":"AR157 * AR131","v":-19.491717761035822},{"$f":"AS157 * AS131","v":-20.801649194959055},{"$f":"AT157 * AT131","v":-20.62712383211764}]
[]
[null,null,null,"Principal inflation accretion on index linked debt"]
[null,null,null,"Note: The principal inflation accretion from index linked debt is identified separately from other interest costs."]
[]
[null,null,null,null,"Net interest received",null,"£m nominal",null,null,null,null,null,null,null,null,null,null,null,null,null,null,null,null,null,null,null,null,null,null,null,null,null,null,null,null,null,null,null,null,null,null,{"$f":"SUM(AP152, AP160)","v":-142.58803433939772},{"$f":"SUM(AQ152, AQ160)","v":-138.92838856268867},-137.50842044862685,-133.56835602238527,-126.79896675029249]
[]
[null,null,null,null,"Net interest received (excluding principal inflation accretion)",null,"£m nominal",null,null,null,null,null,null,null,null,null,null,null,null,null,null,null,null,null,null,null,null,null,null,null,null,null,null,null,null,null,null,null,null,null,null,{"$f":"AP167 - AP171","v":-128.53231801963011},{"$f":"AQ167 - AQ171","v":-121.47296336531144},{"$f":"AR167 - AR171","v":-118.01670268759102},{"$f":"AS167 - AS171","v":-112.76670682742622},{"$f":"AT167 - AT171","v":-106.17184291817486}]
[]
[null,null,null,null,"Net interest received (principal inflation accretion)",null,"£m nominal",null,null,null,null,null,null,null,null,null,null,null,null,null,null,null,null,null,null,null,null,null,null,null,null,null,null,null,null,null,null,null,null,null,null,{"$f":"AP162","v":-14.055716319767626},{"$f":"AQ162","v":-17.455425197377217},-19.491717761035822,-20.801649194959055,-20.62712383211764]
[]
[null,null,null,null,"Share of interest expense as principal inflation accretion",null,"%",null,null,null,null,null,null,null,null,null,null,null,null,null,null,null,null,null,null,null,null,null,null,null,null,null,null,null,null,null,null,null,null,null,null,{"$f":"AP171/AP167","v":9.8575707175479088E-2},{"$f":"AQ171/AQ167","v":0.12564332875350961},{"$f":"AR171/AR167","v":0.14174926668085702},{"$f":"AS171/AS167","v":0.15573785449206862},{"$f":"AT171/AT167","v":0.1626758037606017}]
[]
[null,null,null,"Allocation of interest to SO"]
[null,null,null,"Note: Allocation of interest to SO is based on opening net debt."]
[]
[null,null,null,null,"SO allocation",null,"%",null,null,null,null,null,null,null,null,null,null,null,null,null,null,null,null,null,null,null,null,null,null,null,null,null,null,null,null,null,null,null,null,null,null,{"$f":" - (AP71 * AP112) / AP137","v":2.4459722263987637E-2},{"$f":" - (AQ71 * AQ112) / AQ137","v":2.3865833850194671E-2},{"$f":" - (AR71 * AR112) / AR137","v":2.2932949031225901E-2},{"$f":" - (AS71 * AS112) / AS137","v":2.2731282014922277E-2},{"$f":" - (AT71 * AT112) / AT137","v":2.2652676110382221E-2}]
[]
[null,null,null,null,"SO net interest received (excluding principal inflation accretion)",null,"£m nominal",null,null,null,null,null,null,null,null,null,null,null,null,null,null,null,null,null,null,null,null,null,null,null,null,null,null,null,null,null,null,null,null,null,null,{"$f":"AP169 * AP$178","v":-3.1438648007066861},{"$f":"AQ169 * AQ$178","v":-2.8990535609673072},{"$f":"AR169 * AR$178","v":-2.7064710275678658},{"$f":"AS169 * AS$178","v":-2.5633318147882869},{"$f":"AT169 * AT$178","v":-2.4050763696677935}]
[]
[null,null,null,null,"SO net interest received (principal inflation accretion)",null,"£m nominal",null,null,null,null,null,null,null,null,null,null,null,null,null,null,null,null,null,null,null,null,null,null,null,null,null,null,null,null,null,null,null,null,null,null,{"$f":"AP171 * AP$178","v":-0.34379891740291457},{"$f":"AQ171 * AQ$178","v":-0.41658827754510619},{"$f":"AR171 * AR$178","v":-0.44700256994487514},{"$f":"AS171 * AS$178","v":-0.47284815422609522},{"$f":"AT171 * AT$178","v":-0.46725955525770702}]
[]
[null,null,"Cost of raising equity"]
[null,null,"Note: If equity issuance is negative, then equity issuance costs are set to zero"]
[]
[null,null,null,null,"First year of RIIO-2 (for start of price control regearing)",null,"text",null,null,null,null,null,null,null,null,null,null,null,null,null,null,null,null,null,null,null,null,null,null,null,null,null,null,null,null,null,null,null,null,null,null,{"$f":"YEAR(AP$4)=YEAR(Input!$I$174)","v":true},{"$f":"YEAR(AQ$4)=YEAR(Input!$I$174)","v":false},{"$f":"YEAR(AR$4)=YEAR(Input!$I$174)","v":false},{"$f":"YEAR(AS$4)=YEAR(Input!$I$174)","v":false},{"$f":"YEAR(AT$4)=YEAR(Input!$I$174)","v":false}]
[]
[null,null,null,null,"Start of price control change in notional gearing",null,"£m nominal",null,null,null,null,null,null,null,null,null,null,null,null,null,null,null,null,null,null,null,null,null,null,null,null,null,null,null,null,null,null,null,null,null,null,{"$f":"AP88","v":158.58400514882447}]
[null,null,null,null,"Issue or redeem equity",null,"£m nominal",null,null,null,null,null,null,null,null,null,null,null,null,null,null,null,null,null,null,null,null,null,null,null,null,null,null,null,null,null,null,null,null,null,null,null,{"$f":"AQ103","v":0},{"$f":"AR103","v":0},{"$f":"AS103","v":0},{"$f":"AT103","v":0}]
[null,null,null,null,"Equity issuance with issuance costs allowed",null,"£m nominal",null,null,null,null,null,null,null,null,null,null,null,null,null,null,null,null,null,null,null,null,null,null,null,null,null,null,null,null,null,null,null,null,null,null,{"$f":"IF(AP187, MAX(AP189,0), MAX(SUM(AP189:AP190),0))","v":158.58400514882447},{"$f":"IF(AQ187, MAX(AQ189,0), MAX(SUM(AQ189:AQ190),0))","v":0},{"$f":"IF(AR187, MAX(AR189,0), MAX(SUM(AR189:AR190),0))","v":0},{"$f":"IF(AS187, MAX(AS189,0), MAX(SUM(AS189:AS190),0))","v":0},{"$f":"IF(AT187, MAX(AT189,0), MAX(SUM(AT189:AT190),0))","v":0}]
[]
[null,null,null,null,"Equity issuance cost as percentage of new equity",null,"%",null,null,null,null,null,null,null,null,null,null,null,null,null,null,null,null,null,null,null,null,null,null,null,null,null,null,null,null,null,null,null,null,null,null,{"$f":"Input!AP244","v":0.05},{"$f":"Input!AQ244","v":0.05},{"$f":"Input!AR244","v":0.05},{"$f":"Input!AS244","v":0.05},{"$f":"Input!AT244","v":0.05}]
[]
[null,null,null,null,"Equity issuance cost",null,"£m nominal",null,null,null,null,null,null,null,null,null,null,null,null,null,null,null,null,null,null,null,null,null,null,null,null,null,null,null,null,null,null,null,null,null,null,{"$f":"AP191 * AP193","v":7.9292002574412237},{"$f":"AQ191 * AQ193","v":0},{"$f":"AR191 * AR193","v":0},{"$f":"AS191 * AS193","v":0},{"$f":"AT191 * AT193","v":0}]
[]
[null,null,"Dividends"]
[null,null,"Note: Unlike interest, dividends are based on notional rather than modelled gearing levels."]
[null,null,"The notional dividend calculation for NGGT is based on 'Base' RAV which excludes variant allowances."]
[]
[null,null,null,null,"Closing core RAV (including SO)",null,"£m nominal",null,null,null,null,null,null,null,null,null,null,null,null,null,null,null,null,null,null,null,null,null,null,null,null,null,null,null,null,null,null,null,null,null,null,{"$f":"('Return&RAV'!AP44 + SystemOperator!AP435) * TOpf","v":6316.4491385821111},{"$f":"('Return&RAV'!AQ44 + SystemOperator!AQ435) * TOpf","v":6379.3791797017147},{"$f":"('Return&RAV'!AR44 + SystemOperator!AR435) * TOpf","v":6460.7884771783538},{"$f":"('Return&RAV'!AS44 + SystemOperator!AS435) * TOpf","v":6410.1591173582447},{"$f":"('Return&RAV'!AT44 + SystemOperator!AT435) * TOpf","v":6346.0156289286633}]
[null,null,null,null,"Assumed equity portion of RAV",null,"%",null,null,null,null,null,null,null,null,null,null,null,null,null,null,null,null,null,null,null,null,null,null,null,null,null,null,null,null,null,null,null,null,null,null,{"$f":"(1-Input!AP167)","v":0.4},{"$f":"(1-Input!AQ167)","v":0.4},{"$f":"(1-Input!AR167)","v":0.4},{"$f":"(1-Input!AS167)","v":0.4},{"$f":"(1-Input!AT167)","v":0.4}]
[null,null,null,null,"Assumed dividends as percentage of notional equity portion of RAV",null,"%",null,null,null,null,null,null,null,null,null,null,null,null,null,null,null,null,null,null,null,null,null,null,null,null,null,null,null,null,null,null,null,null,null,null,{"$f":"Input!AP$245","v":0.03},{"$f":"Input!AQ$245","v":0.03},{"$f":"Input!AR$245","v":0.03},{"$f":"Input!AS$245","v":0.03},{"$f":"Input!AT$245","v":0.03}]
[]
[null,null,null,null,"Notional dividends",null,"£m nominal",null,null,null,null,null,null,null,null,null,null,null,null,null,null,null,null,null,null,null,null,null,null,null,null,null,null,null,null,null,null,null,null,null,null,{"$f":"AP201 * AP202 * AP203","v":75.797389662985324},{"$f":"AQ201 * AQ202 * AQ203","v":76.55255015642058},{"$f":"AR201 * AR202 * AR203","v":77.529461726140241},{"$f":"AS201 * AS202 * AS203","v":76.92190940829893},{"$f":"AT201 * AT202 * AT203","v":76.152187547143953}]
[]
[null,"Tax allowance"]
[]
[null,null,"Tax base"]
[null,null,"Note: The tax charge is calculated before tax on tax. Tax on tax is added after losses are taken into account."]
[]
[null,null,null,null,"Add calculated revenue (except tax allowance)",null,"£m nominal",null,null,null,null,null,null,null,null,null,null,null,null,null,null,null,null,null,null,null,null,null,null,null,null,null,null,null,null,null,null,null,null,null,null,{"$f":"(Revenue!AP21) * TOpf","v":790.3201078768692},{"$f":"(Revenue!AQ21) * TOpf","v":810.77356238750099},{"$f":"(Revenue!AR21) * TOpf","v":830.61657159353649},{"$f":"(Revenue!AS21) * TOpf","v":782.06138505156821},{"$f":"(Revenue!AT21) * TOpf","v":785.42974866887096}]
[null,null,null,null,"Less directly remunerated services adjustment",null,"£m nominal",null,null,null,null,null,null,null,null,null,null,null,null,null,null,null,null,null,null,null,null,null,null,null,null,null,null,null,null,null,null,null,null,null,null,{"$f":" - Input!AP135 * TOpf","v":0},{"$f":" - Input!AQ135 * TOpf","v":0},{"$f":" - Input!AR135 * TOpf","v":0},{"$f":" - Input!AS135 * TOpf","v":0},{"$f":" - Input!AT135 * TOpf","v":0}]
[null,null,null,null,"Less NGGT SO Revenue Driver Income - tax calculation in NonCore tab",null,"£m nominal",null,null,null,null,null,null,null,null,null,null,null,null,null,null,null,null,null,null,null,null,null,null,null,null,null,null,null,null,null,null,null,null,null,null,{"$f":" - Input!AP585 *TOpf","v":0},{"$f":" - Input!AQ585 *TOpf","v":0},{"$f":" - Input!AR585 *TOpf","v":0},{"$f":" - Input!AS585 *TOpf","v":0},{"$f":" - Input!AT585 *TOpf","v":0}]
[null,null,null,null,"Less net interest paid (excluding principal inflation accretion)",null,{"$f":"G169","v":"£m nominal"},null,null,null,null,null,null,null,null,null,null,null,null,null,null,null,null,null,null,null,null,null,null,null,null,null,null,null,null,null,null,null,null,null,null,{"$f":"AP169 - AP180","v":-125.38845321892343},{"$f":"AQ169 - AQ180","v":-118.57390980434414},{"$f":"AR169 - AR180","v":-115.31023166002315},{"$f":"AS169 - AS180","v":-110.20337501263793},{"$f":"AT169 - AT180","v":-103.76676654850706}]
[null,null,null,null,"Less net interest paid (principal inflation accretion)",null,{"$f":"G171","v":"£m nominal"},null,null,null,null,null,null,null,null,null,null,null,null,null,null,null,null,null,null,null,null,null,null,null,null,null,null,null,null,null,null,null,null,null,null,{"$f":"AP171 - AP182","v":-13.711917402364712},{"$f":"AQ171 - AQ182","v":-17.038836919832111},{"$f":"AR171 - AR182","v":-19.044715191090948},{"$f":"AS171 - AS182","v":-20.328801040732959},{"$f":"AT171 - AT182","v":-20.159864276859931}]
[null,null,null,null,"Less revenue tax pool additions",null,"£m nominal",null,null,null,null,null,null,null,null,null,null,null,null,null,null,null,null,null,null,null,null,null,null,null,null,null,null,null,null,null,null,null,null,null,null,{"$f":"-(TaxPools!AP39) * TOpf","v":-280.99673563031484},{"$f":"-(TaxPools!AQ39) * TOpf","v":-294.75339053011834},{"$f":"-(TaxPools!AR39) * TOpf","v":-300.23196612356469},{"$f":"-(TaxPools!AS39) * TOpf","v":-290.80899753151965},{"$f":"-(TaxPools!AT39) * TOpf","v":-292.21327806703249}]
[null,null,null,null,"Less capital allowances",null,"£m nominal",null,null,null,null,null,null,null,null,null,null,null,null,null,null,null,null,null,null,null,null,null,null,null,null,null,null,null,null,null,null,null,null,null,null,{"$f":"-TaxPools!AP100","v":-156.17864828630661},{"$f":"-TaxPools!AQ100","v":-170.07839719270191},{"$f":"-TaxPools!AR100","v":-182.75844552774296},{"$f":"-TaxPools!AS100","v":-177.34013819173288},{"$f":"-TaxPools!AT100","v":-172.17898826232584}]
[null,null,null,null,"Profits attributable to corporation tax (before Tax Clawback)",null,"£m nominal",null,null,null,null,null,null,null,null,null,null,null,null,null,null,null,null,null,null,null,null,null,null,null,null,null,null,null,null,null,null,null,null,null,null,{"$f":"SUM(AP212:AP218)","v":214.04435333895952},{"$f":"SUM(AQ212:AQ218)","v":210.32902794050455},{"$f":"SUM(AR212:AR218)","v":213.27121309111467},{"$f":"SUM(AS212:AS218)","v":183.38007327494478},{"$f":"SUM(AT212:AT218)","v":197.11085151414568}]
[]
[null,null,"Tax allowance"]
[]
[null,null,null,"Tax losses"]
[]
[null,null,null,null,"Taxable losses brought forward",null,"£m nominal",null,null,null,null,null,null,null,null,null,null,null,null,null,null,null,null,null,null,null,null,null,null,null,null,null,null,null,null,null,null,null,null,null,null,{"$f":"Input!$AP$215","v":0},{"$f":"SUM(AP230)","v":0},{"$f":"SUM(AQ230)","v":0},{"$f":"SUM(AR230)","v":0},{"$f":"SUM(AS230)","v":0}]
[null,null,null,null,"In-year taxable loss",null,"£m nominal",null,null,null,null,null,null,null,null,null,null,null,null,null,null,null,null,null,null,null,null,null,null,null,null,null,null,null,null,null,null,null,null,null,null,{"$f":"MIN(AP219, 0)","v":0},{"$f":"MIN(AQ219, 0)","v":0},{"$f":"MIN(AR219, 0)","v":0},{"$f":"MIN(AS219, 0)","v":0},{"$f":"MIN(AT219, 0)","v":0}]
[null,null,null,null,"Contributions to losses from clawback",null,"£m nominal",null,null,null,null,null,null,null,null,null,null,null,null,null,null,null,null,null,null,null,null,null,null,null,null,null,null,null,null,null,null,null,null,null,null,{"$f":" - AP336","v":0},{"$f":" - AQ336","v":0},{"$f":" - AR336","v":0},{"$f":" - AS336","v":0},{"$f":" - AT336","v":0}]
[null,null,null,null,"Adjustment to losses from tax trigger",null,"£m nominal",null,null,null,null,null,null,null,null,null,null,null,null,null,null,null,null,null,null,null,null,null,null,null,null,null,null,null,null,null,null,null,null,null,null,{"$f":"AP302","v":0},{"$f":"AQ302","v":0},{"$f":"AR302","v":0},{"$f":"AS302","v":0},{"$f":"AT302","v":0}]
[null,null,null,null,"Profits used to offset outstanding losses (excluded from corporation tax)",null,"£m nominal",null,null,null,null,null,null,null,null,null,null,null,null,null,null,null,null,null,null,null,null,null,null,null,null,null,null,null,null,null,null,null,null,null,null,{"$f":"IF(AP219 >= 0, MIN(AP219, -AP225-AP227-AP228), 0)","v":0},{"$f":"IF(AQ219 >= 0, MIN(AQ219, -AQ225-AQ227-AQ228), 0)","v":0},{"$f":"IF(AR219 >= 0, MIN(AR219, -AR225-AR227-AR228), 0)","v":0},{"$f":"IF(AS219 >= 0, MIN(AS219, -AS225-AS227-AS228), 0)","v":0},{"$f":"IF(AT219 >= 0, MIN(AT219, -AT225-AT227-AT228), 0)","v":0}]
[null,null,null,null,"Balance carried forward",null,"£m nominal",null,null,null,null,null,null,null,null,null,null,null,null,null,null,null,null,null,null,null,null,null,null,null,null,null,null,null,null,null,null,null,null,null,null,{"$f":"SUM(AP225:AP229)","v":0},{"$f":"SUM(AQ225:AQ229)","v":0},{"$f":"SUM(AR225:AR229)","v":0},{"$f":"SUM(AS225:AS229)","v":0},{"$f":"SUM(AT225:AT229)","v":0}]
[]
[null,null,null,"Tax allowance (before Tax Trigger adjustment)"]
[null,null,null,"Note: A \"grossing-up factor\" based on the infinite geometric progression of being taxed on tax is used to move the tax allowance from a post-tax to a pre-tax basis. This can only be applied once tax losses have been taken into account."]
[]
[null,null,null,null,"Profits attributable to corporation tax (after taxable losses)",null,"£m nominal",null,null,null,null,null,null,null,null,null,null,null,null,null,null,null,null,null,null,null,null,null,null,null,null,null,null,null,null,null,null,null,null,null,null,{"$f":"MAX(AP219 - AP229,0)","v":214.04435333895952},{"$f":"MAX(AQ219 - AQ229,0)","v":210.32902794050455},{"$f":"MAX(AR219 - AR229,0)","v":213.27121309111467},{"$f":"MAX(AS219 - AS229,0)","v":183.38007327494478},{"$f":"MAX(AT219 - AT229,0)","v":197.11085151414568}]
[null,null,null,null,"Corporation tax rate",null,"%",null,null,null,null,null,null,null,null,null,null,null,null,null,null,null,null,null,null,null,null,null,null,null,null,null,null,null,null,null,null,null,null,null,null,{"$f":"Input!AP$225","v":0.19},{"$f":"Input!AQ$225","v":0.19},{"$f":"Input!AR$225","v":0.25},{"$f":"Input!AS$225","v":0.25},{"$f":"Input!AT$225","v":0.25}]
[null,null,null,null,"Corporation tax charge after losses",null,"£m nominal",null,null,null,null,null,null,null,null,null,null,null,null,null,null,null,null,null,null,null,null,null,null,null,null,null,null,null,null,null,null,null,null,null,null,{"$f":"AP236*AP235","v":40.668427134402307},{"$f":"AQ236*AQ235","v":39.962515308695863},{"$f":"AR236*AR235","v":53.317803272778669},{"$f":"AS236*AS235","v":45.845018318736194},{"$f":"AT236*AT235","v":49.27771287853642}]
[]
[null,null,null,null,"\"Grossing-up\" factor for tax on tax charge after losses",null,"scalar",null,null,null,null,null,null,null,null,null,null,null,null,null,null,null,null,null,null,null,null,null,null,null,null,null,null,null,null,null,null,null,null,null,null,{"$f":"1 / (1 - AP236)","v":1.2345679012345678},1.2345679012345678,1.3333333333333333,1.3333333333333333,1.3333333333333333]
[]
[null,null,null,null,"Tax allowance (before Tax Trigger adjustment)",null,"£m nominal",null,null,null,null,null,null,null,null,null,null,null,null,null,null,null,null,null,null,null,null,null,null,null,null,null,null,null,null,null,null,null,null,null,null,{"$f":"AP237 * AP239","v":50.207934733830008},{"$f":"AQ237 * AQ239","v":49.336438652710939},{"$f":"AR237 * AR239","v":71.090404363704891},{"$f":"AS237 * AS239","v":61.126691091648254},{"$f":"AT237 * AT239","v":65.703617171381893}]
[]
[null,null,null,"Tax allowance"]
[]
[null,null,null,null,"Tax allowance (before Tax Trigger adjustment)",null,"£m nominal",null,null,null,null,null,null,null,null,null,null,null,null,null,null,null,null,null,null,null,null,null,null,null,null,null,null,null,null,null,null,null,null,null,null,{"$f":"AP241","v":50.207934733830008},{"$f":"AQ241","v":49.336438652710939},{"$f":"AR241","v":71.090404363704891},{"$f":"AS241","v":61.126691091648254},{"$f":"AT241","v":65.703617171381893}]
[null,null,null,null,"Additional allowance where tax trigger positive (net of adjustment to losses)",null,"£m nominal",null,null,null,null,null,null,null,null,null,null,null,null,null,null,null,null,null,null,null,null,null,null,null,null,null,null,null,null,null,null,null,null,null,null,{"$f":"AP310","v":0},{"$f":"AQ310","v":0},{"$f":"AR310","v":0},{"$f":"AS310","v":0},{"$f":"AT310","v":0}]
[null,null,null,null,"Tax allowance",null,"£m nominal",null,null,null,null,null,null,null,null,null,null,null,null,null,null,null,null,null,null,null,null,null,null,null,null,null,null,null,null,null,null,null,null,null,null,{"$f":"SUM(AP245:AP246)","v":50.207934733830008},{"$f":"SUM(AQ245:AQ246)","v":49.336438652710939},{"$f":"SUM(AR245:AR246)","v":71.090404363704891},{"$f":"SUM(AS245:AS246)","v":61.126691091648254},{"$f":"SUM(AT245:AT246)","v":65.703617171381893}]
[null,null,null,null,"Tax allowance adjustment",null,"£m nominal",null,null,null,null,null,null,null,null,null,null,null,null,null,null,null,null,null,null,null,null,null,null,null,null,null,null,null,null,null,null,null,null,null,null,{"$f":"Revenue!AP23 * TOpf","v":0},{"$f":"Revenue!AQ23 * TOpf","v":0},{"$f":"Revenue!AR23 * TOpf","v":0},{"$f":"Revenue!AS23 * TOpf","v":0},{"$f":"Revenue!AT23 * TOpf","v":0}]
[null,null,null,null,"Tax allowance (including adjustment)",null,"£m nominal",null,null,null,null,null,null,null,null,null,null,null,null,null,null,null,null,null,null,null,null,null,null,null,null,null,null,null,null,null,null,null,null,null,null,{"$f":"SUM(AP247:AP248)","v":50.207934733830008},{"$f":"SUM(AQ247:AQ248)","v":49.336438652710939},{"$f":"SUM(AR247:AR248)","v":71.090404363704891},{"$f":"SUM(AS247:AS248)","v":61.126691091648254},{"$f":"SUM(AT247:AT248)","v":65.703617171381893}]
[]
[null,"Tax paid"]
[]
[null,null,"Tax base"]
[]
[]
[null,null,null,null,"Add recalculated base revenue (except tax allowance), incl add. income",null,"£m nominal",null,null,null,null,null,null,null,null,null,null,null,null,null,null,null,null,null,null,null,null,null,null,null,null,null,null,null,null,null,null,null,null,null,null,{"$f":"AP212","v":790.3201078768692},810.77356238750099,830.61657159353649,782.06138505156821,785.42974866887096]
[null,null,null,null,"Less directly remunerated services adjustment",null,"£m nominal",null,null,null,null,null,null,null,null,null,null,null,null,null,null,null,null,null,null,null,null,null,null,null,null,null,null,null,null,null,null,null,null,null,null,0,0,0,0,0]
[null,null,null,null,"Less NGGT SO Revenue Driver Income - tax calculation in NonCore tab",null,"£m nominal",null,null,null,null,null,null,null,null,null,null,null,null,null,null,null,null,null,null,null,null,null,null,null,null,null,null,null,null,null,null,null,null,null,null,0,0,0,0,0]
[null,null,null,null,"Add tax allowance (including adjustment)",null,"£m nominal",null,null,null,null,null,null,null,null,null,null,null,null,null,null,null,null,null,null,null,null,null,null,null,null,null,null,null,null,null,null,null,null,null,null,{"$f":"AP249","v":50.207934733830008},{"$f":"AQ249","v":49.336438652710939},{"$f":"AR249","v":71.090404363704891},{"$f":"AS249","v":61.126691091648254},{"$f":"AT249","v":65.703617171381893}]
[null,null,null,null,"Less net interest paid (excluding principal inflation accretion)",null,"£m nominal",null,null,null,null,null,null,null,null,null,null,null,null,null,null,null,null,null,null,null,null,null,null,null,null,null,null,null,null,null,null,null,null,null,null,{"$f":"AP215","v":-125.38845321892343},-118.57390980434414,-115.31023166002315,-110.20337501263793,-103.76676654850706]
[null,null,null,null,"Less net interest paid (principal inflation accretion)",null,"£m nominal",null,null,null,null,null,null,null,null,null,null,null,null,null,null,null,null,null,null,null,null,null,null,null,null,null,null,null,null,null,null,null,null,null,null,-13.711917402364712,-17.038836919832111,-19.044715191090948,-20.328801040732959,-20.159864276859931]
[null,null,null,null,"Less revenue tax pool additions",null,"£m nominal",null,null,null,null,null,null,null,null,null,null,null,null,null,null,null,null,null,null,null,null,null,null,null,null,null,null,null,null,null,null,null,null,null,null,-280.99673563031484,-294.75339053011834,-300.23196612356469,-290.80899753151965,-292.21327806703249]
[null,null,null,null,"Less capital allowances",null,"£m nominal",null,null,null,null,null,null,null,null,null,null,null,null,null,null,null,null,null,null,null,null,null,null,null,null,null,null,null,null,null,null,null,null,null,null,-156.17864828630661,-170.07839719270191,-182.75844552774296,-177.34013819173288,-172.17898826232584]
[null,null,null,null,"Profits attributable to corporation tax",null,"£m nominal",null,null,null,null,null,null,null,null,null,null,null,null,null,null,null,null,null,null,null,null,null,null,null,null,null,null,null,null,null,null,null,null,null,null,{"$f":"SUM(AP256:AP263)","v":264.25228807278955},{"$f":"SUM(AQ256:AQ263)","v":259.66546659321551},{"$f":"SUM(AR256:AR263)","v":284.36161745481957},{"$f":"SUM(AS256:AS263)","v":244.50676436659302},{"$f":"SUM(AT256:AT263)","v":262.81446868552757}]
[]
[null,null,"Tax losses"]
[]
[null,null,null,null,"Taxable losses brought forward",null,"£m nominal",null,null,null,null,null,null,null,null,null,null,null,null,null,null,null,null,null,null,null,null,null,null,null,null,null,null,null,null,null,null,null,null,null,null,{"$f":"AP225","v":0},{"$f":"SUM(AP271)","v":0},{"$f":"SUM(AQ271)","v":0},{"$f":"SUM(AR271)","v":0},{"$f":"SUM(AS271)","v":0}]
[null,null,null,null,"In-year taxable loss",null,"£m nominal",null,null,null,null,null,null,null,null,null,null,null,null,null,null,null,null,null,null,null,null,null,null,null,null,null,null,null,null,null,null,null,null,null,null,{"$f":"MIN(AP264, 0)","v":0},{"$f":"MIN(AQ264, 0)","v":0},{"$f":"MIN(AR264, 0)","v":0},{"$f":"MIN(AS264, 0)","v":0},{"$f":"MIN(AT264, 0)","v":0}]
[null,null,null,null,"Profits reduced by tax losses ",null,"£m nominal",null,null,null,null,null,null,null,null,null,null,null,null,null,null,null,null,null,null,null,null,null,null,null,null,null,null,null,null,null,null,null,null,null,null,{"$f":"IF(AP264 >= 0, MIN(AP264, -AP268), 0)","v":0},{"$f":"IF(AQ264 >= 0, MIN(AQ264, -AQ268), 0)","v":0},{"$f":"IF(AR264 >= 0, MIN(AR264, -AR268), 0)","v":0},{"$f":"IF(AS264 >= 0, MIN(AS264, -AS268), 0)","v":0},{"$f":"IF(AT264 >= 0, MIN(AT264, -AT268), 0)","v":0}]
[null,null,null,null,"Balance carried forward",null,"£m nominal",null,null,null,null,null,null,null,null,null,null,null,null,null,null,null,null,null,null,null,null,null,null,null,null,null,null,null,null,null,null,null,null,null,null,{"$f":"SUM(AP268:AP270)","v":0},{"$f":"SUM(AQ268:AQ270)","v":0},{"$f":"SUM(AR268:AR270)","v":0},{"$f":"SUM(AS268:AS270)","v":0},{"$f":"SUM(AT268:AT270)","v":0}]
[]
[null,null,"Tax paid"]
[]
[]
[null,null,null,null,"Profits attributable to corporation tax (after taxable losses)",null,"£m nominal",null,null,null,null,null,null,null,null,null,null,null,null,null,null,null,null,null,null,null,null,null,null,null,null,null,null,null,null,null,null,null,null,null,null,{"$f":"MAX(AP264 - AP270,0)","v":264.25228807278955},{"$f":"MAX(AQ264 - AQ270,0)","v":259.66546659321551},{"$f":"MAX(AR264 - AR270,0)","v":284.36161745481957},{"$f":"MAX(AS264 - AS270,0)","v":244.50676436659302},{"$f":"MAX(AT264 - AT270,0)","v":262.81446868552757}]
[null,null,null,null,"Corporation tax rate",null,"%",null,null,null,null,null,null,null,null,null,null,null,null,null,null,null,null,null,null,null,null,null,null,null,null,null,null,null,null,null,null,null,null,null,null,{"$f":"Input!AP$225","v":0.19},{"$f":"Input!AQ$225","v":0.19},{"$f":"Input!AR$225","v":0.25},{"$f":"Input!AS$225","v":0.25},{"$f":"Input!AT$225","v":0.25}]
[null,null,null,null,"Corporation tax charge after losses",null,"£m nominal",null,null,null,null,null,null,null,null,null,null,null,null,null,null,null,null,null,null,null,null,null,null,null,null,null,null,null,null,null,null,null,null,null,null,{"$f":"AP277*AP276","v":50.207934733830015},{"$f":"AQ277*AQ276","v":49.336438652710946},{"$f":"AR277*AR276","v":71.090404363704891},{"$f":"AS277*AS276","v":61.126691091648254},{"$f":"AT277*AT276","v":65.703617171381893}]
[]
[null,"Tax trigger calculations"]
[]
[null,null,"Tax trigger adjustment"]
[]
[null,null,null,null,"Tax liability - tax trigger events",null,"£m 18/19 prices",null,null,null,null,null,null,null,null,null,null,null,null,null,null,null,null,null,null,null,null,null,null,null,null,null,null,null,null,null,null,null,null,null,null,{"$f":"Input!AP205","v":0},{"$f":"Input!AQ205","v":0},{"$f":"Input!AR205","v":0},{"$f":"Input!AS205","v":0},{"$f":"Input!AT205","v":0}]
[null,null,null,null,"Tax trigger deadband",null,"£m 18/19 prices",null,null,null,null,null,null,null,null,null,null,null,null,null,null,null,null,null,null,null,null,null,null,null,null,null,null,null,null,null,null,null,null,null,null,{"$f":"Input!AP208","v":2.4079045095034153},{"$f":"Input!AQ208","v":2.4996671737090232},{"$f":"Input!AR208","v":2.5160510965805876},{"$f":"Input!AS208","v":2.3238778201799244},{"$f":"Input!AT208","v":2.2881683619967679}]
[]
[null,null,null,null,"Materiality threshold test passed?",null,"text",null,null,null,null,null,null,null,null,null,null,null,null,null,null,null,null,null,null,null,null,null,null,null,null,null,null,null,null,null,null,null,null,null,null,{"$f":"ABS(AP284) > AP285","v":false},{"$f":"ABS(AQ284) > AQ285","v":false},{"$f":"ABS(AR284) > AR285","v":false},{"$f":"ABS(AS284) > AS285","v":false},{"$f":"ABS(AT284) > AT285","v":false}]
[]
[null,null,null,null,"Tax trigger deadband value applied",null,"£m 18/19 prices",null,null,null,null,null,null,null,null,null,null,null,null,null,null,null,null,null,null,null,null,null,null,null,null,null,null,null,null,null,null,null,null,null,null,{"$f":"IF(AP284 > 0, -AP285, IF(AP284 < 0, AP285, 0))","v":0},{"$f":"IF(AQ284 > 0, -AQ285, IF(AQ284 < 0, AQ285, 0))","v":0},0,0,0]
[]
[null,null,null,null,"Tax trigger adjustment",null,"£m 18/19 prices",null,null,null,null,null,null,null,null,null,null,null,null,null,null,null,null,null,null,null,null,null,null,null,null,null,null,null,null,null,null,null,null,null,null,{"$f":"SUM(AP284, AP289) * AP287","v":0},{"$f":"SUM(AQ284, AQ289) * AQ287","v":0},0,0,0]
[]
[null,null,"Adjustment to losses"]
[]
[null,null,null,null,"Profit impact of tax trigger",null,"£m nominal",null,null,null,null,null,null,null,null,null,null,null,null,null,null,null,null,null,null,null,null,null,null,null,null,null,null,null,null,null,null,null,null,null,null,{"$f":"(AP291 * TOpf) * ((1 - AP236) / AP236)","v":0},{"$f":"(AQ291 * TOpf) * ((1 - AQ236) / AQ236)","v":0},{"$f":"(AR291 * TOpf) * ((1 - AR236) / AR236)","v":0},{"$f":"(AS291 * TOpf) * ((1 - AS236) / AS236)","v":0},{"$f":"(AT291 * TOpf) * ((1 - AT236) / AT236)","v":0}]
[]
[null,null,null,null,"Outstanding taxable losses (before tax trigger)",null,"£m nominal",null,null,null,null,null,null,null,null,null,null,null,null,null,null,null,null,null,null,null,null,null,null,null,null,null,null,null,null,null,null,null,null,null,null,{"$f":" MIN(AP219 + SUM(AP225, AP227), 0)","v":0},{"$f":" MIN(AQ219 + SUM(AQ225, AQ227), 0)","v":0},{"$f":" MIN(AR219 + SUM(AR225, AR227), 0)","v":0},{"$f":" MIN(AS219 + SUM(AS225, AS227), 0)","v":0},{"$f":" MIN(AT219 + SUM(AT225, AT227), 0)","v":0}]
[]
[null,null,null,null,"Taxable losses outstanding?",null,"text",null,null,null,null,null,null,null,null,null,null,null,null,null,null,null,null,null,null,null,null,null,null,null,null,null,null,null,null,null,null,null,null,null,null,{"$f":"AP297 < 0","v":false},{"$f":"AQ297 < 0","v":false},{"$f":"AR297 < 0","v":false},{"$f":"AS297 < 0","v":false},{"$f":"AT297 < 0","v":false}]
[null,null,null,null,"Profit impact of tax trigger > outstanding taxable losses?",null,"text",null,null,null,null,null,null,null,null,null,null,null,null,null,null,null,null,null,null,null,null,null,null,null,null,null,null,null,null,null,null,null,null,null,null,{"$f":"AND(AP295 + AP297 > 0, AP299)","v":false},{"$f":"AND(AQ295 + AQ297 > 0, AQ299)","v":false},{"$f":"AND(AR295 + AR297 > 0, AR299)","v":false},{"$f":"AND(AS295 + AS297 > 0, AS299)","v":false},{"$f":"AND(AT295 + AT297 > 0, AT299)","v":false}]
[]
[null,null,null,null,"Adjustment to losses from tax trigger",null,"£m nominal",null,null,null,null,null,null,null,null,null,null,null,null,null,null,null,null,null,null,null,null,null,null,null,null,null,null,null,null,null,null,null,null,null,null,{"$f":"IF(AP295 < 0, AP295, AP299 * IF(AP300, - AP297, AP295))","v":0},{"$f":"IF(AQ295 < 0, AQ295, AQ299 * IF(AQ300, - AQ297, AQ295))","v":0},{"$f":"IF(AR295 < 0, AR295, AR299 * IF(AR300, - AR297, AR295))","v":0},{"$f":"IF(AS295 < 0, AS295, AS299 * IF(AS300, - AS297, AS295))","v":0},{"$f":"IF(AT295 < 0, AT295, AT299 * IF(AT300, - AT297, AT295))","v":0}]
[]
[null,null,"Adjustment to tax allowance"]
[]
[null,null,null,null,"Profit impact of tax trigger (net of adjustment to losses)",null,"£m nominal",null,null,null,null,null,null,null,null,null,null,null,null,null,null,null,null,null,null,null,null,null,null,null,null,null,null,null,null,null,null,null,null,null,null,{"$f":"AP295 - AP302","v":0},{"$f":"AQ295 - AQ302","v":0},{"$f":"AR295 - AR302","v":0},{"$f":"AS295 - AS302","v":0},{"$f":"AT295 - AT302","v":0}]
[null,null,null,null,"Corporation tax rate",null,"%",null,null,null,null,null,null,null,null,null,null,null,null,null,null,null,null,null,null,null,null,null,null,null,null,null,null,null,null,null,null,null,null,null,null,{"$f":"AP236","v":0.19},{"$f":"AQ236","v":0.19},0.25,0.25,0.25]
[null,null,null,null,"\"Grossing-up\" factor for tax on tax charge after losses",null,"scalar",null,null,null,null,null,null,null,null,null,null,null,null,null,null,null,null,null,null,null,null,null,null,null,null,null,null,null,null,null,null,null,null,null,null,{"$f":"AP239","v":1.2345679012345678},{"$f":"AQ239","v":1.2345679012345678},1.3333333333333333,1.3333333333333333,1.3333333333333333]
[]
[null,null,null,null,"Additional allowance where tax trigger positive (net of adjustment to losses)",null,"£m nominal",null,null,null,null,null,null,null,null,null,null,null,null,null,null,null,null,null,null,null,null,null,null,null,null,null,null,null,null,null,null,null,null,null,null,{"$f":"AP306 * AP307 * AP308","v":0},{"$f":"AQ306 * AQ307 * AQ308","v":0},{"$f":"AR306 * AR307 * AR308","v":0},{"$f":"AS306 * AS307 * AS308","v":0},{"$f":"AT306 * AT307 * AT308","v":0}]
[]
[null,"Tax clawback calculations"]
[]
[null,null,null,"Gearing level test"]
[]
[null,null,null,null,"Closing RAV (TO, Non-core)",null,"£m 18/19 prices",null,null,null,null,null,null,null,null,null,null,null,null,null,null,null,null,null,null,null,null,null,null,null,null,null,null,null,null,null,null,null,null,null,null,{"$f":"SUM('Return&RAV'!AP44,NonCore!AP33)","v":5857.5260398589608},{"$f":"SUM('Return&RAV'!AQ44,NonCore!AQ33)","v":5828.4123375147101},{"$f":"SUM('Return&RAV'!AR44,NonCore!AR33)","v":5800.7052124493484},{"$f":"SUM('Return&RAV'!AS44,NonCore!AS33)","v":5646.556840441639},{"$f":"SUM('Return&RAV'!AT44,NonCore!AT33)","v":5484.1255302550444}]
[null,null,null,null,"Real to nominal prices conversion factor (financial year end)",null,"scalar",null,null,null,null,null,null,null,null,null,null,null,null,null,null,null,null,null,null,null,null,null,null,null,null,null,null,null,null,null,null,null,null,null,null,{"$f":"Input!AP193","v":1.0606454571397199},{"$f":"Input!AQ193","v":1.0785770775826966},{"$f":"Input!AR193","v":1.0987601131013411},{"$f":"Input!AS193","v":1.1205065599926722},{"$f":"Input!AT193","v":1.1419681372984609}]
[]
[null,null,null,null,"Adjusted net debt",null,"£m nominal",null,null,null,null,null,null,null,null,null,null,null,null,null,null,null,null,null,null,null,null,null,null,null,null,null,null,null,null,null,null,null,null,null,null,{"$f":"Input!AP202","v":0},{"$f":"Input!AQ202","v":0},{"$f":"Input!AR202","v":0},{"$f":"Input!AS202","v":0},{"$f":"Input!AT202","v":0}]
[null,null,null,null,"Closing RAV (TO, Non-core)",null,"£m nominal",null,null,null,null,null,null,null,null,null,null,null,null,null,null,null,null,null,null,null,null,null,null,null,null,null,null,null,null,null,null,null,null,null,null,{"$f":"AP316 * AP317","v":6212.7583842540207},{"$f":"AQ316 * AQ317","v":6286.3919459435492},{"$f":"AR316 * AR317","v":6373.5835152983855},{"$f":"AS316 * AS317","v":6327.0039810863527},{"$f":"AT316 * AT317","v":6262.6966164962869}]
[]
[null,null,null,null,"Actual gearing",null,"%",null,null,null,null,null,null,null,null,null,null,null,null,null,null,null,null,null,null,null,null,null,null,null,null,null,null,null,null,null,null,null,null,null,null,{"$f":"AP319/AP320","v":0},{"$f":"AQ319/AQ320","v":0},{"$f":"AR319/AR320","v":0},{"$f":"AS319/AS320","v":0},{"$f":"AT319/AT320","v":0}]
[null,null,null,null,"Notional gearing for \"Tax clawback gearing level test\"",null,"%",null,null,null,null,null,null,null,null,null,null,null,null,null,null,null,null,null,null,null,null,null,null,null,null,null,null,null,null,null,null,null,null,null,null,{"$f":"Input!AP207","v":0.625},{"$f":"Input!AQ207","v":0.61880000000000002},{"$f":"Input!AR207","v":0.61250000000000004},{"$f":"Input!AS207","v":0.60629999999999995},{"$f":"Input!AT207","v":0.6}]
[null,null,null,null,"Gearing level test (actual gearing > notional gearing)",null,"text",null,null,null,null,null,null,null,null,null,null,null,null,null,null,null,null,null,null,null,null,null,null,null,null,null,null,null,null,null,null,null,null,null,null,{"$f":"AP322 > AP323","v":false},{"$f":"AQ322 > AQ323","v":false},{"$f":"AR322 > AR323","v":false},{"$f":"AS322 > AS323","v":false},{"$f":"AT322 > AT323","v":false}]
[]
[null,null,null,"Positive benefit test"]
[]
[null,null,null,null,"Tax deductible net interest cost - actual",null,"£m nominal",null,null,null,null,null,null,null,null,null,null,null,null,null,null,null,null,null,null,null,null,null,null,null,null,null,null,null,null,null,null,null,null,null,null,{"$f":"Input!AP203","v":0},{"$f":"Input!AQ203","v":0},{"$f":"Input!AR203","v":0},{"$f":"Input!AS203","v":0},{"$f":"Input!AT203","v":0}]
[null,null,null,null,"Interest (TO, Non-core) - notional",null,"£m nominal",null,null,null,null,null,null,null,null,null,null,null,null,null,null,null,null,null,null,null,null,null,null,null,null,null,null,null,null,null,null,null,null,null,null,{"$f":" - SUM(AP215, AP216, NonCore!AP19, NonCore!AP20)","v":139.10037062128814},{"$f":" - SUM(AQ215, AQ216, NonCore!AQ19, NonCore!AQ20)","v":135.61274672417625},{"$f":" - SUM(AR215, AR216, NonCore!AR19, NonCore!AR20)","v":134.35494685111411},{"$f":" - SUM(AS215, AS216, NonCore!AS19, NonCore!AS20)","v":130.5321760533709},{"$f":" - SUM(AT215, AT216, NonCore!AT19, NonCore!AT20)","v":123.926630825367}]
[null,null,null,null,"Positive benefit test (actual interest > notional interest)",null,"text",null,null,null,null,null,null,null,null,null,null,null,null,null,null,null,null,null,null,null,null,null,null,null,null,null,null,null,null,null,null,null,null,null,null,{"$f":"AP328 > AP329","v":false},{"$f":"AQ328 > AQ329","v":false},{"$f":"AR328 > AR329","v":false},{"$f":"AS328 > AS329","v":false},{"$f":"AT328 > AT329","v":false}]
[]
[null,null,null,"Positive benefit for tax clawback"]
[]
[null,null,null,null,"Tax clawback applies?",null,"text",null,null,null,null,null,null,null,null,null,null,null,null,null,null,null,null,null,null,null,null,null,null,null,null,null,null,null,null,null,null,null,null,null,null,{"$f":"AP324 * AP330 = 1","v":false},{"$f":"AQ324 * AQ330 = 1","v":false},{"$f":"AR324 * AR330 = 1","v":false},{"$f":"AS324 * AS330 = 1","v":false},{"$f":"AT324 * AT330 = 1","v":false}]
[]
[null,null,null,null,"Positive benefit for tax clawback",null,"£m nominal",null,null,null,null,null,null,null,null,null,null,null,null,null,null,null,null,null,null,null,null,null,null,null,null,null,null,null,null,null,null,null,null,null,null,{"$f":"(AP328 - AP329) * AP334","v":0},{"$f":"(AQ328 - AQ329) * AQ334","v":0},{"$f":"(AR328 - AR329) * AR334","v":0},{"$f":"(AS328 - AS329) * AS334","v":0},{"$f":"(AT328 - AT329) * AT334","v":0}]
[]
[null,"End of sheet"]

{"sheet":"NonCore","index":10,"n_rows":1311,"n_cols":46,"rows_kept":1311,"cut":false,"hidden":false,"merged":[]}
["Non-Core Calculations"]
[null,{"$f":"UserInterface!G17","v":"NGGT TO"}]
[null,null,null,null,"Parameter",null,"Units",null,"Constant",null,null,null,null,null,null,null,null,null,null,null,null,null,null,null,null,null,null,null,null,null,null,null,null,null,null,null,null,null,null,null,null,"Annual values"]
[null,null,null,null,"PCFM year ending",{"$f":"Cover!C4","v":"Model Version"},null,null,{"$f":"UserInterface!$G$10","v":"2022-03-31"},null,"1991-03-31","1992-03-31","1993-03-31","1994-03-31","1995-03-31","1996-03-31","1997-03-31","1998-03-31","1999-03-31","2000-03-31","2001-03-31","2002-03-31","2003-03-31","2004-03-31","2005-03-31","2006-03-31","2007-03-31","2008-03-31","2009-03-31","2010-03-31","2011-03-31","2012-03-31","2013-03-31","2014-03-31","2015-03-31","2016-03-31","2017-03-31","2018-03-31","2019-03-31","2020-03-31","2021-03-31","2022-03-31","2023-03-31","2024-03-31","2025-03-31","2026-03-31"]
[]
[null,"Non-Core"]
[]
[null,null,"Exported values"]
[]
[null,null,null,null,"Capex",null,"£m 18/19 prices",null,null,null,null,null,null,null,null,null,null,null,null,null,null,null,null,null,null,null,null,null,null,null,null,null,null,{"$f":"AH112 + AH216 + AH320 + AH424 + AH528 + AH608 + AH688 + AH768 + AH848 + AH928 + AH1008 + AH1088  + AH1168 + AH1248","v":2.0863575566386627},2.5435552573371676,2.5666081808652415,2.5898700392224914,18.293399082289202,24.260658999472774,1.0643712982245235,0,{"$f":"AP112 + AP216 + AP320 + AP424 + AP528 + AP608 + AP688 + AP768 + AP848 + AP928 + AP1008 + AP1088  + AP1168 + AP1248","v":0},0,0,0,0]
[null,null,null,null,"Cost transferred to RAV",null,"£m 18/19 prices",null,null,null,null,null,null,null,null,null,null,null,null,null,null,null,null,null,null,null,null,null,null,null,null,null,null,{"$f":"-AH110 - AH214 - AH318 - AH422 - AH526 - AH606 - AH686 - AH766 - AH846 - AH926 - AH1006 - AH1086 - AH1166 - AH1246","v":349.71960068176492},{"$f":"-AI110 - AI214 - AI318 - AI422 - AI526 - AI606 - AI686 - AI766 - AI846 - AI926 - AI1006 - AI1086 - AI1166 - AI1246","v":2.0863575566386627},2.5435552573371676,{"$f":"-AK110 - AK214 - AK318 - AK422 - AK526 - AK606 - AK686 - AK766 - AK846 - AK926 - AK1006 - AK1086 - AK1166 - AK1246","v":21.104501617539544},411.16388564033224,18.293399082289202,24.260658999472774,1.0643712982245235,{"$f":"-AP110 - AP214 - AP318 - AP422 - AP526 - AP606 - AP686 - AP766 - AP846 - AP926 - AP1006 - AP1086 - AP1166 - AP1246","v":0},0,0,0,0]
[null,null,null,null,"Regulatory depreciation",null,"£m 18/19 prices",null,null,null,null,null,null,null,null,null,null,null,null,null,null,null,null,null,null,null,null,null,null,null,null,null,null,{"$f":"AH121 + AH225 + AH329 + AH433 + AH537 + AH617 + AH697 + AH777 + AH857 + AH937 + AH1017 + AH1097 + AH1177 + AH1257","v":9.4913757563952004},9.4913757563952004,9.4913757563952004,9.0794225689135484,0,0,0,0,{"$f":"AP121 + AP225 + AP329 + AP433 + AP537 + AP617 + AP697 + AP777 + AP857 + AP937 + AP1017 + AP1097 + AP1177 + AP1257","v":0},0,0,0,0]
[null,null,null,null,"Accumulated depreciation transferred to RAV",null,"£m 18/19 prices",null,null,null,null,null,null,null,null,null,null,null,null,null,null,null,null,null,null,null,null,null,null,null,null,null,null,{"$f":"- AH119 - AH223 - AH327 - AH431 - AH535 - AH615 - AH695 - AH775 - AH855 - AH935 - AH1015 - AH1095 - AH1175 - AH1255","v":36.025755171959204},0,0,1.8624499696060408,69.464531495051489,0,0,0,{"$f":"- AP119 - AP223 - AP327 - AP431 - AP535 - AP615 - AP695 - AP775 - AP855 - AP935 - AP1015 - AP1095 - AP1175 - AP1255","v":0},0,0,0,0]
[null,null,null,null,"Opening RAV after transfers",null,"£m 18/19 prices",null,null,null,null,null,null,null,null,null,null,null,null,null,null,null,null,null,null,null,null,null,null,null,null,null,null,{"$f":"(AH111 - AH120) + (AH215 - AH224) + (AH319 - AH328) + (AH423 - AH432) + (AH527 - AH536) + (AH607 - AH616) + (AH687 - AH696) + (AH767 - AH776) + (AH847 - AH856) + (AH927 - AH936) + (AH1007 - AH1016) + (AH1087 - AH1096) + (AH1167 - AH1176) + (AH1247 - AH1256)","v":393.33847741122565},383.84710165483045,374.35572589843531,348.1889066749718,0,0,0,0,{"$f":"(AP111 - AP120) + (AP215 - AP224) + (AP319 - AP328) + (AP423 - AP432) + (AP527 - AP536) + (AP607 - AP616) + (AP687 - AP696) + (AP767 - AP776) + (AP847 - AP856) + (AP927 - AP936) + (AP1007 - AP1016) + (AP1087 - AP1096) + (AP1167 - AP1176) + (AP1247 - AP1256)","v":0},0,0,0,0]
[null,null,null,null,"Net value after regulatory depreciation",null,"£m 18/19 prices",null,null,null,null,null,null,null,null,null,null,null,null,null,null,null,null,null,null,null,null,null,null,null,null,null,null,{"$f":"AH127 + AH231 + AH335 + AH439 + AH543 + AH623 + AH703 + AH783 + AH863 + AH943 + AH1023 + AH1103 + AH1183 + AH1263","v":385.93345921146908},376.89928115577248,367.43095832290527,341.69935414528072,18.293399082289202,24.260658999472774,1.0643712982245235,0,{"$f":"AP127 + AP231 + AP335 + AP439 + AP543 + AP623 + AP703 + AP783 + AP863 + AP943 + AP1023 + AP1103 + AP1183 + AP1263","v":0},0,0,0,0]
[null,null,null,null,"General pool capital allowance transfer",null,"£m nominal",null,null,null,null,null,null,null,null,null,null,null,null,null,null,null,null,null,null,null,null,null,null,null,null,null,null,{"$f":"AH136+AH240+AH344+AH448+AH552+AH632+AH712+AH792+AH872+AH952+AH1032+AH1112+AH1192+AH1272","v":-1.4945506191943752},-4.8644522787936718E-2,-6.046654147536077E-2,-0.15549699660908975,-0.51905938921023398,-0.46578639075873629,-0.63659969214616563,-2.8652037551459147E-2,{"$f":"AP136+AP240+AP344+AP448+AP552+AP632+AP712+AP792+AP872+AP952+AP1032+AP1112+AP1192+AP1272","v":0},0,0,0,0]
[null,null,null,null,"Special Rate capital allowance transfer ",null,"£m nominal",null,null,null,null,null,null,null,null,null,null,null,null,null,null,null,null,null,null,null,null,null,null,null,null,null,null,{"$f":"AH147+AH251+AH355+AH459+AH563+AH643+AH723+AH803+AH883+AH963+AH1043+AH1123+AH1203+AH1283","v":-149.29237051175062},-1.6219537300922862,-2.0161351550161069,-11.006706179672474,-64.61815950293834,-15.530709946746702,-21.226135771818718,-0.97611289819936697,{"$f":"AP147+AP251+AP355+AP459+AP563+AP643+AP723+AP803+AP883+AP963+AP1043+AP1123+AP1203+AP1283","v":0},0,0,0,0]
[null,null,null,null,"Dividends",null,"£m nominal",null,null,null,null,null,null,null,null,null,null,null,null,null,null,null,null,null,null,null,null,null,null,null,null,null,null,null,null,null,null,null,null,null,null,{"$f":"AP169+AP273+AP377+AP481+AP585+AP665+AP745+AP825+AP905+AP985+AP1065+AP1145+AP1225+AP1305","v":0},0,0,0,0]
[null,null,null,null,"Interest paid (excluding principal inflation accretion)",null,"£m nominal",null,null,null,null,null,null,null,null,null,null,null,null,null,null,null,null,null,null,null,null,null,null,null,null,null,null,null,null,null,null,null,null,null,null,{"$f":"AP171+AP275+AP379+AP483+AP587+AP667+AP747+AP827+AP907+AP987+AP1067+AP1147+AP1227+AP1307","v":0},0,0,0,0]
[null,null,null,null,"interest paid (principal inflation accretion)",null,"£m nominal",null,null,null,null,null,null,null,null,null,null,null,null,null,null,null,null,null,null,null,null,null,null,null,null,null,null,null,null,null,null,null,null,null,null,{"$f":"AP172+AP276+AP380+AP484+AP588+AP668+AP748+AP828+AP908+AP988+AP1068+AP1148+AP1228+AP1308","v":0},0,0,0,0]
[null,null,null,null,"Tax",null,"£m nominal",null,null,null,null,null,null,null,null,null,null,null,null,null,null,null,null,null,null,null,null,null,null,null,null,null,null,null,null,null,null,null,null,null,null,{"$f":"-AP69","v":0},0,0,0,0]
[null,null,null,null,"Closing total net debt",null,"£m nominal",null,null,null,null,null,null,null,null,null,null,null,null,null,null,null,null,null,null,null,null,null,null,null,null,null,null,null,null,null,null,null,null,null,null,{"$f":"AP173+AP277+AP381+AP485+AP589+AP669+AP749+AP829+AP909+AP989+AP1069+AP1149+AP1229+AP1309","v":0},0,0,0,0]
[null,null,null,null,"Net debt transfer from core net debt",null,"£m nominal",null,null,null,null,null,null,null,null,null,null,null,null,null,null,null,null,null,null,null,null,null,null,null,null,null,null,null,null,null,null,null,null,null,null,null,{"$f":"AQ166+AQ270+AQ374+AQ478+AQ582+AQ662+AQ742+AQ822+AQ902+AQ982+AQ1062+AQ1142+AQ1222+AQ1302","v":0},0,0,0]
[]
[]
[null,null,"Non-core RAV summary"]
[]
[null,null,null,null,"Opening RAV (before transfers)",null,"£m 18/19 prices",null,null,null,null,null,null,null,null,null,null,null,null,null,null,null,null,null,null,null,null,null,null,null,null,null,null,{"$f":"NonCore!AH109+NonCore!AH213+NonCore!AH317+NonCore!AH421+NonCore!AH525+NonCore!AH605+NonCore!AH685+NonCore!AH765+NonCore!AH845+NonCore!AH925+NonCore!AH1005+NonCore!AH1085+NonCore!AH1165+NonCore!AH1245 -(NonCore!AH118+NonCore!AH222+NonCore!AH326+NonCore!AH430+NonCore!AH534+NonCore!AH614+NonCore!AH694+NonCore!AH774+NonCore!AH854+NonCore!AH934+NonCore!AH1014+NonCore!AH1094+NonCore!AH1174+NonCore!AH1254)","v":707.03232292103132},{"$f":"AH33","v":385.93345921146908},{"$f":"AI33","v":376.89928115577237},367.43095832290521,341.69935414528061,18.293399082289202,24.260658999472774,1.0643712982245235,{"$f":"AO33","v":0},{"$f":"AP33","v":0},{"$f":"AQ33","v":0},{"$f":"AR33","v":0},{"$f":"AS33","v":0}]
[null,null,null,null,"Transfers",null,"£m 18/19 prices",null,null,null,null,null,null,null,null,null,null,null,null,null,null,null,null,null,null,null,null,null,null,null,null,null,null,{"$f":"NonCore!AH110+NonCore!AH214+NonCore!AH318+NonCore!AH422+NonCore!AH526+NonCore!AH606+NonCore!AH686+NonCore!AH766+NonCore!AH846+NonCore!AH926+NonCore!AH1006+NonCore!AH1086+NonCore!AH1166+NonCore!AH1246-(NonCore!AH119+NonCore!AH223+NonCore!AH327+NonCore!AH431+NonCore!AH535+NonCore!AH615+NonCore!AH695+NonCore!AH775+NonCore!AH855+NonCore!AH935+NonCore!AH1015+NonCore!AH1095+NonCore!AH1175+NonCore!AH1255)","v":-313.69384550980573},{"$f":"NonCore!AI110+NonCore!AI214+NonCore!AI318+NonCore!AI422+NonCore!AI526+NonCore!AI606+NonCore!AI686+NonCore!AI766+NonCore!AI846+NonCore!AI926+NonCore!AI1006+NonCore!AI1086+NonCore!AI1166+NonCore!AI1246-(NonCore!AI119+NonCore!AI223+NonCore!AI327+NonCore!AI431+NonCore!AI535+NonCore!AI615+NonCore!AI695+NonCore!AI775+NonCore!AI855+NonCore!AI935+NonCore!AI1015+NonCore!AI1095+NonCore!AI1175+NonCore!AI1255)","v":-2.0863575566386627},{"$f":"NonCore!AJ110+NonCore!AJ214+NonCore!AJ318+NonCore!AJ422+NonCore!AJ526+NonCore!AJ606+NonCore!AJ686+NonCore!AJ766+NonCore!AJ846+NonCore!AJ926+NonCore!AJ1006+NonCore!AJ1086+NonCore!AJ1166+NonCore!AJ1246-(NonCore!AJ119+NonCore!AJ223+NonCore!AJ327+NonCore!AJ431+NonCore!AJ535+NonCore!AJ615+NonCore!AJ695+NonCore!AJ775+NonCore!AJ855+NonCore!AJ935+NonCore!AJ1015+NonCore!AJ1095+NonCore!AJ1175+NonCore!AJ1255)","v":-2.5435552573371676},{"$f":"NonCore!AK110+NonCore!AK214+NonCore!AK318+NonCore!AK422+NonCore!AK526+NonCore!AK606+NonCore!AK686+NonCore!AK766+NonCore!AK846+NonCore!AK926+NonCore!AK1006+NonCore!AK1086+NonCore!AK1166+NonCore!AK1246-(NonCore!AK119+NonCore!AK223+NonCore!AK327+NonCore!AK431+NonCore!AK535+NonCore!AK615+NonCore!AK695+NonCore!AK775+NonCore!AK855+NonCore!AK935+NonCore!AK1015+NonCore!AK1095+NonCore!AK1175+NonCore!AK1255)","v":-19.242051647933504},{"$f":"NonCore!AL110+NonCore!AL214+NonCore!AL318+NonCore!AL422+NonCore!AL526+NonCore!AL606+NonCore!AL686+NonCore!AL766+NonCore!AL846+NonCore!AL926+NonCore!AL1006+NonCore!AL1086+NonCore!AL1166+NonCore!AL1246-(NonCore!AL119+NonCore!AL223+NonCore!AL327+NonCore!AL431+NonCore!AL535+NonCore!AL615+NonCore!AL695+NonCore!AL775+NonCore!AL855+NonCore!AL935+NonCore!AL1015+NonCore!AL1095+NonCore!AL1175+NonCore!AL1255)","v":-341.69935414528072},{"$f":"NonCore!AM110+NonCore!AM214+NonCore!AM318+NonCore!AM422+NonCore!AM526+NonCore!AM606+NonCore!AM686+NonCore!AM766+NonCore!AM846+NonCore!AM926+NonCore!AM1006+NonCore!AM1086+NonCore!AM1166+NonCore!AM1246-(NonCore!AM119+NonCore!AM223+NonCore!AM327+NonCore!AM431+NonCore!AM535+NonCore!AM615+NonCore!AM695+NonCore!AM775+NonCore!AM855+NonCore!AM935+NonCore!AM1015+NonCore!AM1095+NonCore!AM1175+NonCore!AM1255)","v":-18.293399082289202},{"$f":"NonCore!AN110+NonCore!AN214+NonCore!AN318+NonCore!AN422+NonCore!AN526+NonCore!AN606+NonCore!AN686+NonCore!AN766+NonCore!AN846+NonCore!AN926+NonCore!AN1006+NonCore!AN1086+NonCore!AN1166+NonCore!AN1246-(NonCore!AN119+NonCore!AN223+NonCore!AN327+NonCore!AN431+NonCore!AN535+NonCore!AN615+NonCore!AN695+NonCore!AN775+NonCore!AN855+NonCore!AN935+NonCore!AN1015+NonCore!AN1095+NonCore!AN1175+NonCore!AN1255)","v":-24.260658999472774},{"$f":"NonCore!AO110+NonCore!AO214+NonCore!AO318+NonCore!AO422+NonCore!AO526+NonCore!AO606+NonCore!AO686+NonCore!AO766+NonCore!AO846+NonCore!AO926+NonCore!AO1006+NonCore!AO1086+NonCore!AO1166+NonCore!AO1246-(NonCore!AO119+NonCore!AO223+NonCore!AO327+NonCore!AO431+NonCore!AO535+NonCore!AO615+NonCore!AO695+NonCore!AO775+NonCore!AO855+NonCore!AO935+NonCore!AO1015+NonCore!AO1095+NonCore!AO1175+NonCore!AO1255)","v":-1.0643712982245235},{"$f":"NonCore!AP110+NonCore!AP214+NonCore!AP318+NonCore!AP422+NonCore!AP526+NonCore!AP606+NonCore!AP686+NonCore!AP766+NonCore!AP846+NonCore!AP926+NonCore!AP1006+NonCore!AP1086+NonCore!AP1166+NonCore!AP1246-(NonCore!AP119+NonCore!AP223+NonCore!AP327+NonCore!AP431+NonCore!AP535+NonCore!AP615+NonCore!AP695+NonCore!AP775+NonCore!AP855+NonCore!AP935+NonCore!AP1015+NonCore!AP1095+NonCore!AP1175+NonCore!AP1255)","v":0},{"$f":"NonCore!AQ110+NonCore!AQ214+NonCore!AQ318+NonCore!AQ422+NonCore!AQ526+NonCore!AQ606+NonCore!AQ686+NonCore!AQ766+NonCore!AQ846+NonCore!AQ926+NonCore!AQ1006+NonCore!AQ1086+NonCore!AQ1166+NonCore!AQ1246-(NonCore!AQ119+NonCore!AQ223+NonCore!AQ327+NonCore!AQ431+NonCore!AQ535+NonCore!AQ615+NonCore!AQ695+NonCore!AQ775+NonCore!AQ855+NonCore!AQ935+NonCore!AQ1015+NonCore!AQ1095+NonCore!AQ1175+NonCore!AQ1255)","v":0},{"$f":"NonCore!AR110+NonCore!AR214+NonCore!AR318+NonCore!AR422+NonCore!AR526+NonCore!AR606+NonCore!AR686+NonCore!AR766+NonCore!AR846+NonCore!AR926+NonCore!AR1006+NonCore!AR1086+NonCore!AR1166+NonCore!AR1246-(NonCore!AR119+NonCore!AR223+NonCore!AR327+NonCore!AR431+NonCore!AR535+NonCore!AR615+NonCore!AR695+NonCore!AR775+NonCore!AR855+NonCore!AR935+NonCore!AR1015+NonCore!AR1095+NonCore!AR1175+NonCore!AR1255)","v":0},{"$f":"NonCore!AS110+NonCore!AS214+NonCore!AS318+NonCore!AS422+NonCore!AS526+NonCore!AS606+NonCore!AS686+NonCore!AS766+NonCore!AS846+NonCore!AS926+NonCore!AS1006+NonCore!AS1086+NonCore!AS1166+NonCore!AS1246-(NonCore!AS119+NonCore!AS223+NonCore!AS327+NonCore!AS431+NonCore!AS535+NonCore!AS615+NonCore!AS695+NonCore!AS775+NonCore!AS855+NonCore!AS935+NonCore!AS1015+NonCore!AS1095+NonCore!AS1175+NonCore!AS1255)","v":0},{"$f":"NonCore!AT110+NonCore!AT214+NonCore!AT318+NonCore!AT422+NonCore!AT526+NonCore!AT606+NonCore!AT686+NonCore!AT766+NonCore!AT846+NonCore!AT926+NonCore!AT1006+NonCore!AT1086+NonCore!AT1166+NonCore!AT1246-(NonCore!AT119+NonCore!AT223+NonCore!AT327+NonCore!AT431+NonCore!AT535+NonCore!AT615+NonCore!AT695+NonCore!AT775+NonCore!AT855+NonCore!AT935+NonCore!AT1015+NonCore!AT1095+NonCore!AT1175+NonCore!AT1255)","v":0}]
[null,null,null,null,"Opening RAV (after transfers)",null,"£m 18/19 prices",null,null,null,null,null,null,null,null,null,null,null,null,null,null,null,null,null,null,null,null,null,null,null,null,null,null,{"$f":"SUM(AH28:AH29)","v":393.3384774112256},{"$f":"SUM(AI28:AI29)","v":383.8471016548304},374.3557258984352,348.18890667497169,0,0,0,0,{"$f":"SUM(AP28:AP29)","v":0},0,0,0,0]
[null,null,null,null,"Net additions (after disposals)",null,"£m 18/19 prices",null,null,null,null,null,null,null,null,null,null,null,null,null,null,null,null,null,null,null,null,null,null,null,null,null,null,{"$f":"NonCore!AH112+NonCore!AH216+NonCore!AH320+NonCore!AH424+NonCore!AH528+NonCore!AH608+NonCore!AH688+NonCore!AH768+NonCore!AH848+NonCore!AH928+NonCore!AH1008+NonCore!AH1088+NonCore!AH1168+NonCore!AH1248","v":2.0863575566386627},{"$f":"NonCore!AI112+NonCore!AI216+NonCore!AI320+NonCore!AI424+NonCore!AI528+NonCore!AI608+NonCore!AI688+NonCore!AI768+NonCore!AI848+NonCore!AI928+NonCore!AI1008+NonCore!AI1088+NonCore!AI1168+NonCore!AI1248","v":2.5435552573371676},{"$f":"NonCore!AJ112+NonCore!AJ216+NonCore!AJ320+NonCore!AJ424+NonCore!AJ528+NonCore!AJ608+NonCore!AJ688+NonCore!AJ768+NonCore!AJ848+NonCore!AJ928+NonCore!AJ1008+NonCore!AJ1088+NonCore!AJ1168+NonCore!AJ1248","v":2.5666081808652415},{"$f":"NonCore!AK112+NonCore!AK216+NonCore!AK320+NonCore!AK424+NonCore!AK528+NonCore!AK608+NonCore!AK688+NonCore!AK768+NonCore!AK848+NonCore!AK928+NonCore!AK1008+NonCore!AK1088+NonCore!AK1168+NonCore!AK1248","v":2.5898700392224914},{"$f":"NonCore!AL112+NonCore!AL216+NonCore!AL320+NonCore!AL424+NonCore!AL528+NonCore!AL608+NonCore!AL688+NonCore!AL768+NonCore!AL848+NonCore!AL928+NonCore!AL1008+NonCore!AL1088+NonCore!AL1168+NonCore!AL1248","v":18.293399082289202},{"$f":"NonCore!AM112+NonCore!AM216+NonCore!AM320+NonCore!AM424+NonCore!AM528+NonCore!AM608+NonCore!AM688+NonCore!AM768+NonCore!AM848+NonCore!AM928+NonCore!AM1008+NonCore!AM1088+NonCore!AM1168+NonCore!AM1248","v":24.260658999472774},{"$f":"NonCore!AN112+NonCore!AN216+NonCore!AN320+NonCore!AN424+NonCore!AN528+NonCore!AN608+NonCore!AN688+NonCore!AN768+NonCore!AN848+NonCore!AN928+NonCore!AN1008+NonCore!AN1088+NonCore!AN1168+NonCore!AN1248","v":1.0643712982245235},{"$f":"NonCore!AO112+NonCore!AO216+NonCore!AO320+NonCore!AO424+NonCore!AO528+NonCore!AO608+NonCore!AO688+NonCore!AO768+NonCore!AO848+NonCore!AO928+NonCore!AO1008+NonCore!AO1088+NonCore!AO1168+NonCore!AO1248","v":0},{"$f":"NonCore!AP112+NonCore!AP216+NonCore!AP320+NonCore!AP424+NonCore!AP528+NonCore!AP608+NonCore!AP688+NonCore!AP768+NonCore!AP848+NonCore!AP928+NonCore!AP1008+NonCore!AP1088+NonCore!AP1168+NonCore!AP1248","v":0},{"$f":"NonCore!AQ112+NonCore!AQ216+NonCore!AQ320+NonCore!AQ424+NonCore!AQ528+NonCore!AQ608+NonCore!AQ688+NonCore!AQ768+NonCore!AQ848+NonCore!AQ928+NonCore!AQ1008+NonCore!AQ1088+NonCore!AQ1168+NonCore!AQ1248","v":0},{"$f":"NonCore!AR112+NonCore!AR216+NonCore!AR320+NonCore!AR424+NonCore!AR528+NonCore!AR608+NonCore!AR688+NonCore!AR768+NonCore!AR848+NonCore!AR928+NonCore!AR1008+NonCore!AR1088+NonCore!AR1168+NonCore!AR1248","v":0},{"$f":"NonCore!AS112+NonCore!AS216+NonCore!AS320+NonCore!AS424+NonCore!AS528+NonCore!AS608+NonCore!AS688+NonCore!AS768+NonCore!AS848+NonCore!AS928+NonCore!AS1008+NonCore!AS1088+NonCore!AS1168+NonCore!AS1248","v":0},{"$f":"NonCore!AT112+NonCore!AT216+NonCore!AT320+NonCore!AT424+NonCore!AT528+NonCore!AT608+NonCore!AT688+NonCore!AT768+NonCore!AT848+NonCore!AT928+NonCore!AT1008+NonCore!AT1088+NonCore!AT1168+NonCore!AT1248","v":0}]
[null,null,null,null,"Depreciation",null,"£m 18/19 prices",null,null,null,null,null,null,null,null,null,null,null,null,null,null,null,null,null,null,null,null,null,null,null,null,null,null,{"$f":"-(NonCore!AH121+NonCore!AH225+NonCore!AH329+NonCore!AH433+NonCore!AH537+NonCore!AH617+NonCore!AH697+NonCore!AH777+NonCore!AH857+NonCore!AH937+NonCore!AH1017+NonCore!AH1097+NonCore!AH1177+NonCore!AH1257)","v":-9.4913757563952004},{"$f":"-(NonCore!AI121+NonCore!AI225+NonCore!AI329+NonCore!AI433+NonCore!AI537+NonCore!AI617+NonCore!AI697+NonCore!AI777+NonCore!AI857+NonCore!AI937+NonCore!AI1017+NonCore!AI1097+NonCore!AI1177+NonCore!AI1257)","v":-9.4913757563952004},{"$f":"-(NonCore!AJ121+NonCore!AJ225+NonCore!AJ329+NonCore!AJ433+NonCore!AJ537+NonCore!AJ617+NonCore!AJ697+NonCore!AJ777+NonCore!AJ857+NonCore!AJ937+NonCore!AJ1017+NonCore!AJ1097+NonCore!AJ1177+NonCore!AJ1257)","v":-9.4913757563952004},{"$f":"-(NonCore!AK121+NonCore!AK225+NonCore!AK329+NonCore!AK433+NonCore!AK537+NonCore!AK617+NonCore!AK697+NonCore!AK777+NonCore!AK857+NonCore!AK937+NonCore!AK1017+NonCore!AK1097+NonCore!AK1177+NonCore!AK1257)","v":-9.0794225689135484},{"$f":"-(NonCore!AL121+NonCore!AL225+NonCore!AL329+NonCore!AL433+NonCore!AL537+NonCore!AL617+NonCore!AL697+NonCore!AL777+NonCore!AL857+NonCore!AL937+NonCore!AL1017+NonCore!AL1097+NonCore!AL1177+NonCore!AL1257)","v":0},{"$f":"-(NonCore!AM121+NonCore!AM225+NonCore!AM329+NonCore!AM433+NonCore!AM537+NonCore!AM617+NonCore!AM697+NonCore!AM777+NonCore!AM857+NonCore!AM937+NonCore!AM1017+NonCore!AM1097+NonCore!AM1177+NonCore!AM1257)","v":0},{"$f":"-(NonCore!AN121+NonCore!AN225+NonCore!AN329+NonCore!AN433+NonCore!AN537+NonCore!AN617+NonCore!AN697+NonCore!AN777+NonCore!AN857+NonCore!AN937+NonCore!AN1017+NonCore!AN1097+NonCore!AN1177+NonCore!AN1257)","v":0},{"$f":"-(NonCore!AO121+NonCore!AO225+NonCore!AO329+NonCore!AO433+NonCore!AO537+NonCore!AO617+NonCore!AO697+NonCore!AO777+NonCore!AO857+NonCore!AO937+NonCore!AO1017+NonCore!AO1097+NonCore!AO1177+NonCore!AO1257)","v":0},{"$f":"-(NonCore!AP121+NonCore!AP225+NonCore!AP329+NonCore!AP433+NonCore!AP537+NonCore!AP617+NonCore!AP697+NonCore!AP777+NonCore!AP857+NonCore!AP937+NonCore!AP1017+NonCore!AP1097+NonCore!AP1177+NonCore!AP1257)","v":0},{"$f":"-(NonCore!AQ121+NonCore!AQ225+NonCore!AQ329+NonCore!AQ433+NonCore!AQ537+NonCore!AQ617+NonCore!AQ697+NonCore!AQ777+NonCore!AQ857+NonCore!AQ937+NonCore!AQ1017+NonCore!AQ1097+NonCore!AQ1177+NonCore!AQ1257)","v":0},{"$f":"-(NonCore!AR121+NonCore!AR225+NonCore!AR329+NonCore!AR433+NonCore!AR537+NonCore!AR617+NonCore!AR697+NonCore!AR777+NonCore!AR857+NonCore!AR937+NonCore!AR1017+NonCore!AR1097+NonCore!AR1177+NonCore!AR1257)","v":0},{"$f":"-(NonCore!AS121+NonCore!AS225+NonCore!AS329+NonCore!AS433+NonCore!AS537+NonCore!AS617+NonCore!AS697+NonCore!AS777+NonCore!AS857+NonCore!AS937+NonCore!AS1017+NonCore!AS1097+NonCore!AS1177+NonCore!AS1257)","v":0},{"$f":"-(NonCore!AT121+NonCore!AT225+NonCore!AT329+NonCore!AT433+NonCore!AT537+NonCore!AT617+NonCore!AT697+NonCore!AT777+NonCore!AT857+NonCore!AT937+NonCore!AT1017+NonCore!AT1097+NonCore!AT1177+NonCore!AT1257)","v":0}]
[null,null,null,null,"Closing RAV",null,"£m 18/19 prices",null,null,null,null,null,null,null,null,null,null,null,null,null,null,null,null,null,null,null,null,null,null,null,null,null,null,{"$f":"SUM(AH30:AH32)","v":385.93345921146908},{"$f":"SUM(AI30:AI32)","v":376.89928115577237},367.43095832290521,341.69935414528061,18.293399082289202,24.260658999472774,1.0643712982245235,0,{"$f":"SUM(AP30:AP32)","v":0},0,0,0,0]
[]
[]
[null,"Revenue driver"]
[null,"Note: Revenue driver projects are held outside the RAV.  They are transferred into the core based on project specific transfer dates."]
[null,"Holding 'Revenue Drivers' outside the core allows the core tax calculation to avoid double counting the tax already allowed in the 'Revenue Drivers' pre-tax revenues."]
[]
[null,null,"Common imports"]
[]
[null,null,null,null,"Post-vesting asset life",null,"years",null,null,">",{"$f":"Input!K515","v":45},{"$f":"Input!L515","v":45},{"$f":"Input!M515","v":45},{"$f":"Input!N515","v":45},{"$f":"Input!O515","v":45},{"$f":"Input!P515","v":45},{"$f":"Input!Q515","v":45},{"$f":"Input!R515","v":45},{"$f":"Input!S515","v":45},{"$f":"Input!T515","v":45},{"$f":"Input!U515","v":45},{"$f":"Input!V515","v":45},{"$f":"Input!W515","v":45},{"$f":"Input!X515","v":45},{"$f":"Input!Y515","v":45},{"$f":"Input!Z515","v":45},{"$f":"Input!AA515","v":45},{"$f":"Input!AB515","v":45},{"$f":"Input!AC515","v":45},{"$f":"Input!AD515","v":45},{"$f":"Input!AE515","v":45},{"$f":"Input!AF515","v":45},{"$f":"Input!AG515","v":45},{"$f":"Input!AH515","v":45},{"$f":"Input!AI515","v":45},{"$f":"Input!AJ515","v":45},{"$f":"Input!AK515","v":45},{"$f":"Input!AL515","v":45},{"$f":"Input!AM515","v":45},{"$f":"Input!AN515","v":45},{"$f":"Input!AO515","v":45},{"$f":"Input!AP515","v":45},{"$f":"Input!AQ515","v":45},{"$f":"Input!AR515","v":45},{"$f":"Input!AS515","v":45},{"$f":"Input!AT515","v":45}]
[null,null,null,null,"General pool capital allowance rate",null,"%",null,null,">",null,null,null,null,null,null,null,null,null,null,null,{"$f":"Input!V537","v":0.25},{"$f":"Input!W537","v":0.25},{"$f":"Input!X537","v":0.25},{"$f":"Input!Y537","v":0.25},{"$f":"Input!Z537","v":0.25},{"$f":"Input!AA537","v":0.25},{"$f":"Input!AB537","v":0.25},{"$f":"Input!AC537","v":0.2},{"$f":"Input!AD537","v":0.2},{"$f":"Input!AE537","v":0.2},{"$f":"Input!AF537","v":0.2},{"$f":"Input!AG537","v":0.18000000000000002},{"$f":"Input!AH537","v":0.18000000000000002},{"$f":"Input!AI537","v":0.18000000000000002},{"$f":"Input!AJ537","v":0.18000000000000002},{"$f":"Input!AK537","v":0.18000000000000002},{"$f":"Input!AL537","v":0.18000000000000002},{"$f":"Input!AM537","v":0.18000000000000002},{"$f":"Input!AN537","v":0.18000000000000002},{"$f":"Input!AO537","v":0.18000000000000002},{"$f":"Input!AP226","v":0.18},{"$f":"Input!AQ226","v":0.18},{"$f":"Input!AR226","v":0.18},{"$f":"Input!AS226","v":0.18},{"$f":"Input!AT226","v":0.18}]
[null,null,null,null,"Special Rate capital allowance rate",null,"%",null,null,">",null,null,null,null,null,null,null,null,null,null,null,{"$f":"Input!V538","v":0.06},{"$f":"Input!W538","v":0.06},{"$f":"Input!X538","v":0.06},{"$f":"Input!Y538","v":0.06},{"$f":"Input!Z538","v":0.06},{"$f":"Input!AA538","v":0.06},{"$f":"Input!AB538","v":0.06},{"$f":"Input!AC538","v":0.1},{"$f":"Input!AD538","v":0.1},{"$f":"Input!AE538","v":0.1},{"$f":"Input!AF538","v":0.1},{"$f":"Input!AG538","v":0.08},{"$f":"Input!AH538","v":0.08},{"$f":"Input!AI538","v":0.08},{"$f":"Input!AJ538","v":0.08},{"$f":"Input!AK538","v":0.08},{"$f":"Input!AL538","v":0.08},{"$f":"Input!AM538","v":0.08},{"$f":"Input!AN538","v":0.06},{"$f":"Input!AO538","v":0.06},{"$f":"Input!AP227","v":0.06},{"$f":"Input!AQ227","v":0.06},{"$f":"Input!AR227","v":0.06},{"$f":"Input!AS227","v":0.06},{"$f":"Input!AT227","v":0.06}]
[null,null,null,null,"Corporation tax rate",null,"%",null,null,null,null,null,null,null,null,null,null,null,null,null,null,null,null,null,null,null,null,null,null,null,null,null,null,null,null,null,null,null,null,null,null,{"$f":"Input!AP$225","v":0.19},{"$f":"Input!AQ$225","v":0.19},{"$f":"Input!AR$225","v":0.25},{"$f":"Input!AS$225","v":0.25},{"$f":"Input!AT$225","v":0.25}]
[null,null,null,null,"Overall gearing at start of year (after equity issuance)",null,"%",null,null,null,null,null,null,null,null,null,null,null,null,null,null,null,null,null,null,null,null,null,null,null,null,null,null,null,null,null,null,null,null,null,null,{"$f":"'Finance&Tax'!AP$112","v":0.6},{"$f":"'Finance&Tax'!AQ$112","v":0.58730484245989634},{"$f":"'Finance&Tax'!AR$112","v":0.5819434430964423},{"$f":"'Finance&Tax'!AS$112","v":0.57604812935946159},{"$f":"'Finance&Tax'!AT$112","v":0.55936589604833153}]
[null,null,null,null,"Forecast cost of debt",null,"nominal annual %",null,null,null,null,null,null,null,null,null,null,null,null,null,null,null,null,null,null,null,null,null,null,null,null,null,null,null,null,null,null,null,null,null,null,{"$f":"'Finance&Tax'!AP$142","v":3.8677857440821174E-2},{"$f":"'Finance&Tax'!AQ$142","v":3.8150419233488227E-2},{"$f":"'Finance&Tax'!AR$142","v":3.7690812667191098E-2},{"$f":"'Finance&Tax'!AS$142","v":3.7237923227136774E-2},{"$f":"'Finance&Tax'!AT$142","v":3.6819465069429083E-2}]
[null,null,null,null,"Share of interest as principal inflation accretion",null,"%",null,null,null,null,null,null,null,null,null,null,null,null,null,null,null,null,null,null,null,null,null,null,null,null,null,null,null,null,null,null,null,null,null,null,{"$f":"'Finance&Tax'!AP$173","v":9.8575707175479088E-2},{"$f":"'Finance&Tax'!AQ$173","v":0.12564332875350961},{"$f":"'Finance&Tax'!AR$173","v":0.14174926668085702},{"$f":"'Finance&Tax'!AS$173","v":0.15573785449206862},{"$f":"'Finance&Tax'!AT$173","v":0.1626758037606017}]
[null,null,null,null,"Assumed dividends as % of notional equity portion of RAV",null,"%",null,null,null,null,null,null,null,null,null,null,null,null,null,null,null,null,null,null,null,null,null,null,null,null,null,null,null,null,null,null,null,null,null,null,{"$f":"Input!AP245","v":0.03},{"$f":"Input!AQ245","v":0.03},{"$f":"Input!AR245","v":0.03},{"$f":"Input!AS245","v":0.03},{"$f":"Input!AT245","v":0.03}]
[]
[null,null,null,"Tax pool allocations"]
[]
[null,null,null,null,"Allocation to \"General\" pool",null,null,null,null,">",null,null,null,null,null,null,null,null,null,null,null,{"$f":"Input!V540","v":1.9E-2},{"$f":"Input!W540","v":1.9E-2},{"$f":"Input!X540","v":1.9E-2},{"$f":"Input!Y540","v":1.9E-2},{"$f":"Input!Z540","v":1.9E-2},{"$f":"Input!AA540","v":1.9E-2},{"$f":"Input!AB540","v":1.9E-2},{"$f":"Input!AC540","v":1.9E-2},{"$f":"Input!AD540","v":1.9E-2},{"$f":"Input!AE540","v":1.9E-2},{"$f":"Input!AF540","v":1.9E-2},{"$f":"Input!AG540","v":1.9E-2},{"$f":"Input!AH540","v":3.2000000000000001E-2},{"$f":"Input!AI540","v":3.2000000000000001E-2},{"$f":"Input!AJ540","v":3.2000000000000001E-2},{"$f":"Input!AK540","v":3.2000000000000001E-2},{"$f":"Input!AL540","v":3.2000000000000001E-2},{"$f":"Input!AM540","v":3.2000000000000001E-2},{"$f":"Input!AN540","v":3.2000000000000001E-2},{"$f":"Input!AO540","v":3.2000000000000001E-2},{"$f":"Input!AP540","v":3.2000000000000001E-2},{"$f":"Input!AQ540","v":3.2000000000000001E-2},{"$f":"Input!AR540","v":3.2000000000000001E-2},{"$f":"Input!AS540","v":3.2000000000000001E-2},{"$f":"Input!AT540","v":3.2000000000000001E-2}]
[null,null,null,null,"Allocation to \"Special Rate\" pool",null,null,null,null,">",null,null,null,null,null,null,null,null,null,null,null,{"$f":"Input!V541","v":0.96399999999999997},{"$f":"Input!W541","v":0.96399999999999997},{"$f":"Input!X541","v":0.96399999999999997},{"$f":"Input!Y541","v":0.96399999999999997},{"$f":"Input!Z541","v":0.96399999999999997},{"$f":"Input!AA541","v":0.96399999999999997},{"$f":"Input!AB541","v":0.96399999999999997},{"$f":"Input!AC541","v":0.96399999999999997},{"$f":"Input!AD541","v":0.96399999999999997},{"$f":"Input!AE541","v":0.96399999999999997},{"$f":"Input!AF541","v":0.96399999999999997},{"$f":"Input!AG541","v":0.96399999999999997},{"$f":"Input!AH541","v":0.95099999999999996},{"$f":"Input!AI541","v":0.95099999999999996},{"$f":"Input!AJ541","v":0.95099999999999996},{"$f":"Input!AK541","v":0.95099999999999996},{"$f":"Input!AL541","v":0.95099999999999996},{"$f":"Input!AM541","v":0.95099999999999996},{"$f":"Input!AN541","v":0.95099999999999996},{"$f":"Input!AO541","v":0.95099999999999996},{"$f":"Input!AP541","v":0.95099999999999996},{"$f":"Input!AQ541","v":0.95099999999999996},{"$f":"Input!AR541","v":0.95099999999999996},{"$f":"Input!AS541","v":0.95099999999999996},{"$f":"Input!AT541","v":0.95099999999999996}]
[null,null,null,null,"Allocation to \"Revenue\" pool",null,null,null,null,">",null,null,null,null,null,null,null,null,null,null,null,{"$f":"Input!V542","v":4.0000000000000001E-3},{"$f":"Input!W542","v":4.0000000000000001E-3},{"$f":"Input!X542","v":4.0000000000000001E-3},{"$f":"Input!Y542","v":4.0000000000000001E-3},{"$f":"Input!Z542","v":4.0000000000000001E-3},{"$f":"Input!AA542","v":4.0000000000000001E-3},{"$f":"Input!AB542","v":4.0000000000000001E-3},{"$f":"Input!AC542","v":4.0000000000000001E-3},{"$f":"Input!AD542","v":4.0000000000000001E-3},{"$f":"Input!AE542","v":4.0000000000000001E-3},{"$f":"Input!AF542","v":4.0000000000000001E-3},{"$f":"Input!AG542","v":4.0000000000000001E-3},{"$f":"Input!AH542","v":0},{"$f":"Input!AI542","v":0},{"$f":"Input!AJ542","v":0},{"$f":"Input!AK542","v":0},{"$f":"Input!AL542","v":0},{"$f":"Input!AM542","v":0},{"$f":"Input!AN542","v":0},{"$f":"Input!AO542","v":0},{"$f":"Input!AP542","v":0},{"$f":"Input!AQ542","v":0},{"$f":"Input!AR542","v":0},{"$f":"Input!AS542","v":0},{"$f":"Input!AT542","v":0}]
[null,null,null,null,"Allocation to \"Non Qualifying\" pool",null,null,null,null,">",null,null,null,null,null,null,null,null,null,null,null,{"$f":"Input!V543","v":1.2999999999999999E-2},{"$f":"Input!W543","v":1.2999999999999999E-2},{"$f":"Input!X543","v":1.2999999999999999E-2},{"$f":"Input!Y543","v":1.2999999999999999E-2},{"$f":"Input!Z543","v":1.2999999999999999E-2},{"$f":"Input!AA543","v":1.2999999999999999E-2},{"$f":"Input!AB543","v":1.2999999999999999E-2},{"$f":"Input!AC543","v":1.2999999999999999E-2},{"$f":"Input!AD543","v":1.2999999999999999E-2},{"$f":"Input!AE543","v":1.2999999999999999E-2},{"$f":"Input!AF543","v":1.2999999999999999E-2},{"$f":"Input!AG543","v":1.2999999999999999E-2},{"$f":"Input!AH543","v":1.7000000000000001E-2},{"$f":"Input!AI543","v":1.7000000000000001E-2},{"$f":"Input!AJ543","v":1.7000000000000001E-2},{"$f":"Input!AK543","v":1.7000000000000001E-2},{"$f":"Input!AL543","v":1.7000000000000001E-2},{"$f":"Input!AM543","v":1.7000000000000001E-2},{"$f":"Input!AN543","v":1.7000000000000001E-2},{"$f":"Input!AO543","v":1.7000000000000001E-2},{"$f":"Input!AP543","v":2.5000000000000005E-3},{"$f":"Input!AQ543","v":2.5000000000000005E-3},{"$f":"Input!AR543","v":2.5000000000000005E-3},{"$f":"Input!AS543","v":2.5000000000000005E-3},{"$f":"Input!AT543","v":2.5000000000000005E-3}]
[]
[null,null,"Tax calculation"]
[]
[null,null,null,null,"Corporation tax rate",null,"%",null,null,null,null,null,null,null,null,null,null,null,null,null,null,null,null,null,null,null,null,null,null,null,null,null,null,null,null,null,null,null,null,null,null,{"$f":"AP45","v":0.19},0.19,0.25,0.25,0.25]
[]
[null,null,null,null,"NGGT SO Revenue Driver Income",null,"£m nominal",null,null,null,null,null,null,null,null,null,null,null,null,null,null,null,null,null,null,null,null,null,null,null,null,null,null,null,null,null,null,null,null,null,null,{"$f":"(Input!AP585) * TOpf","v":0},{"$f":"(Input!AQ585) * TOpf","v":0},{"$f":"(Input!AR585) * TOpf","v":0},{"$f":"(Input!AS585) * TOpf","v":0},{"$f":"(Input!AT585) * TOpf","v":0}]
[]
[null,null,null,null,"Less interest payable",null,"£m nominal",null,null,null,null,null,null,null,null,null,null,null,null,null,null,null,null,null,null,null,null,null,null,null,null,null,null,null,null,null,null,null,null,null,null,{"$f":"AP171+AP172+AP275+AP276+AP379+AP380++AP483+AP484+AP587+AP588+AP667+AP668+AP747+AP748+AP827+AP828+AP907+AP908+AP987+AP988+AP1067+AP1068+AP1147+AP1148+AP1227+AP1228+AP1307+AP1308","v":0},0,0,0,0]
[null,null,null,null,"Less capital allowances",null,"£m nominal",null,null,null,null,null,null,null,null,null,null,null,null,null,null,null,null,null,null,null,null,null,null,null,null,null,null,null,null,null,null,null,null,null,null,{"$f":"AP139+AP150+AP243+AP254+AP347+AP358+AP451+AP462++AP555+AP566+AP635+AP646+AP715+AP726+AP795+AP806+AP875+AP886+AP955+AP966+AP1035+AP1046+AP1115+AP1126+AP1195+AP1206+AP1275+AP1286","v":0},0,0,0,0]
[null,null,null,null,"Less revenue tax pool additions",null,null,null,null,null,null,null,null,null,null,null,null,null,null,null,null,null,null,null,null,null,null,null,null,null,null,null,null,null,null,null,null,null,null,null,null,{"$f":"AP155+AP259+AP363+AP467+AP571+AP651+AP731+AP811+AP891+AP971+AP1051+AP1131+AP1211+AP1291","v":0},0,0,0,0]
[null,null,null,null,"Taxable profit",null,"£m nominal",null,null,null,null,null,null,null,null,null,null,null,null,null,null,null,null,null,null,null,null,null,null,null,null,null,null,null,null,null,null,null,null,null,null,{"$f":"AP62 + AP64+AP65+AP66","v":0},0,0,0,0]
[]
[null,null,null,null,"Tax",null,"£m nominal",null,null,null,null,null,null,null,null,null,null,null,null,null,null,null,null,null,null,null,null,null,null,null,null,null,null,null,null,null,null,null,null,null,null,{"$f":"AP67*AP60","v":0},0,0,0,0]
[]
[null,"Isle of Grain PH2"]
[]
[null,null,"Project specific inputs"]
[]
[null,null,null,null,"Asset transfer",null,"year ending",null,{"$f":"Input!I545","v":"2018-03-31"}]
[]
[null,null,null,null,"Deemed cost",null,"£m 18/19 prices",null,null,">",null,null,null,null,null,null,null,null,null,null,null,{"$f":"Input!V560","v":0},{"$f":"Input!W560","v":0},{"$f":"Input!X560","v":0},{"$f":"Input!Y560","v":0},{"$f":"Input!Z560","v":0},{"$f":"Input!AA560","v":14.98691647969774},{"$f":"Input!AB560","v":59.948978948095295},{"$f":"Input!AC560","v":0},{"$f":"Input!AD560","v":0},{"$f":"Input!AE560","v":0},{"$f":"Input!AF560","v":0},{"$f":"Input!AG560","v":0}]
[]
[null,null,null,null,"Pre-RIIO actual cost",null,"£m 18/19 prices",null,null,">",null,null,null,null,null,null,null,null,null,null,null,{"$f":"Input!V566","v":0},{"$f":"Input!W566","v":0},{"$f":"Input!X566","v":0},{"$f":"Input!Y566","v":0},{"$f":"Input!Z566","v":0.12417494452707112},{"$f":"Input!AA566","v":6.8395570829836529},{"$f":"Input!AB566","v":23.098259794717976},{"$f":"Input!AC566","v":54.31829537582982},{"$f":"Input!AD566","v":8.2352564037442271},{"$f":"Input!AE566","v":0.57155614772579155},{"$f":"Input!AF566","v":0},{"$f":"Input!AG566","v":0}]
[null,null,null,null,"Post-RIIO actual cost",null,"£m 18/19 prices",null,null,">"]
[null,null,null,null,"Actual cost",null,null,null,null,null,null,null,null,null,null,null,null,null,null,null,null,{"$f":"SUM(V79:V80)","v":0},0,0,0,0.12417494452707112,6.8395570829836529,23.098259794717976,54.31829537582982,8.2352564037442271,0.57155614772579155,0,0,0,0,0,0,0,0,0,0,{"$f":"SUM(AP79:AP80)","v":0},0,0,0,0]
[]
[null,null,"RAV"]
[]
[null,null,null,"Deemed cost"]
[]
[null,null,null,null,"Opening balance brought forward",null,"£m 18/19 prices",null,null,">",null,null,null,null,null,null,null,null,null,null,null,0,{"$f":"V92","v":0},0,0,0,0,14.98691647969774,74.935895427793042,74.935895427793042,74.935895427793042,74.935895427793042,74.935895427793042,74.935895427793042,74.935895427793042,74.935895427793042,74.935895427793042,74.935895427793042,0,0,0,{"$f":"AO92","v":0},{"$f":"AP92","v":0},{"$f":"AQ92","v":0},{"$f":"AR92","v":0},{"$f":"AS92","v":0}]
[null,null,null,null,"Transfer",null,"£m 18/19 prices",null,null,">",null,null,null,null,null,null,null,null,null,null,null,{"$f":"IF(V$4 = $I75, -V87, 0)","v":0},0,0,0,0,0,0,0,0,0,0,0,0,0,0,0,-74.935895427793042,0,0,0,{"$f":"IF(AP$4 = $I75, -AP87, 0)","v":0},0,0,0,0]
[null,null,null,null,"Opening balance after transfers",null,"£m 18/19 prices",null,null,">",null,null,null,null,null,null,null,null,null,null,null,{"$f":"SUM(V87:V88)","v":0},0,0,0,0,0,14.98691647969774,74.935895427793042,74.935895427793042,74.935895427793042,74.935895427793042,74.935895427793042,74.935895427793042,74.935895427793042,74.935895427793042,74.935895427793042,0,0,0,0,{"$f":"SUM(AP87:AP88)","v":0},0,0,0,0]
[null,null,null,null,"Net additions (after disposals)",null,"£m 18/19 prices",null,null,">",null,null,null,null,null,null,null,null,null,null,null,{"$f":"V77","v":0},{"$f":"W77","v":0},0,0,0,14.98691647969774,59.948978948095295,0,0,0,0,0,0,0,0,0,0,0,0,0,{"$f":"AP77","v":0},0,0,0,0]
[null,null,null,null,"Removals",null,"£m 18/19 prices"]
[null,null,null,null,"Balance carried forward",null,"£m 18/19 prices",null,null,">",null,null,null,null,null,null,null,null,null,null,null,{"$f":"V89 + V90 - V91","v":0},0,0,0,0,14.98691647969774,74.935895427793042,74.935895427793042,74.935895427793042,74.935895427793042,74.935895427793042,74.935895427793042,74.935895427793042,74.935895427793042,74.935895427793042,74.935895427793042,0,0,0,0,{"$f":"AP89 + AP90 - AP91","v":0},0,0,0,0]
[]
[null,null,null,"Deemed accumulated depreciation"]
[]
[null,null,null,null,"Opening balance brought forward",null,"£m 18/19 prices",null,null,">",null,null,null,null,null,null,null,null,null,null,null,0,{"$f":"V101","v":0},{"$f":"W101","v":0},0,0,0,0,0.33304258843772755,1.9982847090553506,3.6635268296729739,5.3287689502905966,6.9940110709082202,8.6592531915258437,10.324495312143467,11.989737432761091,13.654979553378714,15.320221673996338,0,0,0,{"$f":"AO101","v":0},{"$f":"AP101","v":0},{"$f":"AQ101","v":0},{"$f":"AR101","v":0},{"$f":"AS101","v":0}]
[null,null,null,null,"Transfer",null,"£m 18/19 prices",null,null,">",null,null,null,null,null,null,null,null,null,null,null,{"$f":"IF(V$4 = $I75, -V96, 0)","v":0},0,0,0,0,0,0,0,0,0,0,0,0,0,0,0,-15.320221673996338,0,0,0,{"$f":"IF(AP$4 = $I75, -AP96, 0)","v":0},0,0,0,0]
[null,null,null,null,"Opening balance after transfers",null,"£m 18/19 prices",null,null,">",null,null,null,null,null,null,null,null,null,null,null,{"$f":"SUM(V96:V97)","v":0},0,0,0,0,0,0,0.33304258843772755,1.9982847090553506,3.6635268296729739,5.3287689502905966,6.9940110709082202,8.6592531915258437,10.324495312143467,11.989737432761091,13.654979553378714,0,0,0,0,{"$f":"SUM(AP96:AP97)","v":0},0,0,0,0]
[null,null,null,null,"Regulatory depreciation",null,"£m 18/19 prices",null,null,">",null,null,null,null,null,null,null,null,null,null,null,{"$f":"V89/V$42","v":0},{"$f":"W89/W$42","v":0},0,0,0,0,0.33304258843772755,1.6652421206176231,1.6652421206176231,1.6652421206176231,1.6652421206176231,1.6652421206176231,1.6652421206176231,1.6652421206176231,1.6652421206176231,1.6652421206176231,0,0,0,0,{"$f":"AP89/AP$42","v":0},0,0,0,0]
[null,null,null,null,"Removals",null,"£m 18/19 prices",null,null,">"]
[null,null,null,null,"Closing value carried forward",null,"£m 18/19 prices",null,null,">",null,null,null,null,null,null,null,null,null,null,null,{"$f":"V98 + V99 - V100","v":0},0,0,0,0,0,0.33304258843772755,1.9982847090553506,3.6635268296729739,5.3287689502905966,6.9940110709082202,8.6592531915258437,10.324495312143467,11.989737432761091,13.654979553378714,15.320221673996338,0,0,0,0,{"$f":"AP98 + AP99 - AP100","v":0},0,0,0,0]
[]
[null,null,null,"Deemed asset balance"]
[]
[null,null,null,null,"Net value after regulatory depreciation",null,"£m 18/19 prices",null,null,">",null,null,null,null,null,null,null,null,null,null,null,{"$f":"V92-V101","v":0},0,0,0,0,14.98691647969774,74.602852839355322,72.937610718737687,71.272368598120067,{"$f":"AE92-AE101","v":69.607126477502447},{"$f":"AF92-AF101","v":67.941884356884827},66.276642236267193,64.611400115649573,62.946157995031953,61.280915874414326,59.615673753796706,0,0,0,0,{"$f":"AP92-AP101","v":0},0,0,0,0]
[]
[null,null,null,"Actual cost"]
[]
[null,null,null,null,"Opening balance brought forward",null,"£m 18/19 prices",null,null,">",null,null,null,null,null,null,null,null,null,null,null,0,{"$f":"V114","v":0},0,0,0,0.12417494452707112,6.9637320275107237,30.061991822228698,84.380287198058511,92.615543601802742,93.187099749528528,93.187099749528528,74.935895427793042,74.935895427793042,74.935895427793042,74.935895427793042,74.935895427793042,0,0,0,{"$f":"AO114","v":0},{"$f":"AP114","v":0},{"$f":"AQ114","v":0},{"$f":"AR114","v":0},{"$f":"AS114","v":0}]
[null,null,null,null,"Transfer",null,"£m 18/19 prices",null,null,">",null,null,null,null,null,null,null,null,null,null,null,{"$f":"IF(V$4 = $I75, -V109, IF(YEAR(V$4) = 2013, V87 - V109, IF( YEAR(V$4) > YEAR($I75), -V109, 0)))","v":0},{"$f":"IF(W$4 = $I75, -W109, IF(YEAR(W$4) = 2013, W87 - W109, IF( YEAR(W$4) > YEAR($I75), -W109, 0)))","v":0},0,0,0,0,0,0,0,0,0,-18.251204321735486,0,0,0,0,-74.935895427793042,0,0,0,{"$f":"IF(AP$4 = $I75, -AP109, IF(YEAR(AP$4) = 2013, AP87 - AP109, IF( YEAR(AP$4) > YEAR($I75), -AP109, 0)))","v":0},0,0,0,0]
[null,null,null,null,"Opening balance after transfers",null,"£m 18/19 prices",null,null,">",null,null,null,null,null,null,null,null,null,null,null,{"$f":"SUM(V109:V110)","v":0},{"$f":"SUM(W109:W110)","v":0},0,0,0,0.12417494452707112,6.9637320275107237,30.061991822228698,84.380287198058511,92.615543601802742,93.187099749528528,74.935895427793042,74.935895427793042,74.935895427793042,74.935895427793042,74.935895427793042,0,0,0,0,{"$f":"SUM(AP109:AP110)","v":0},0,0,0,0]
[null,null,null,null,"Net additions (after disposals)",null,"£m 18/19 prices",null,null,">",null,null,null,null,null,null,null,null,null,null,null,{"$f":"V81","v":0},{"$f":"W81","v":0},0,0,0.12417494452707112,6.8395570829836529,23.098259794717976,54.31829537582982,8.2352564037442271,0.57155614772579155,0,0,0,0,0,0,0,0,0,0,{"$f":"AP81","v":0},0,0,0,0]
[null,null,null,null,"Removals",null,"£m 18/19 prices"]
[null,null,null,null,"Balance carried forward",null,"£m 18/19 prices",null,null,">",null,null,null,null,null,null,null,null,null,null,null,{"$f":"V111 + V112 - V113","v":0},0,0,0,0.12417494452707112,6.9637320275107237,30.061991822228698,84.380287198058511,92.615543601802742,93.187099749528528,93.187099749528528,74.935895427793042,74.935895427793042,74.935895427793042,74.935895427793042,74.935895427793042,0,0,0,0,{"$f":"AP111 + AP112 - AP113","v":0},0,0,0,0]
[]
[null,null,null,"Actual accumulated depreciation"]
[]
[null,null,null,null,"Opening balance brought forward",null,"£m 18/19 prices",null,null,">",null,null,null,null,null,null,null,null,null,null,null,0,{"$f":"V123","v":0},0,0,0,0,2.7594432117126915E-3,0.15750904382306211,0.8255533065392554,2.7006707998294446,4.7587939909806165,6.8296184298590283,8.6592531915258437,10.324495312143467,11.989737432761091,13.654979553378714,15.320221673996338,0,0,0,{"$f":"AO123","v":0},{"$f":"AP123","v":0},{"$f":"AQ123","v":0},{"$f":"AR123","v":0},{"$f":"AS123","v":0}]
[null,null,null,null,"Transfer",null,"£m 18/19 prices",null,null,">",null,null,null,null,null,null,null,null,null,null,null,{"$f":"IF(V$4 = $I75, -V118,IF(YEAR(V$4) = 2013, V96 - V118,0))","v":0},0,0,0,0,0,0,0,0,0,0,0.16439264104919182,0,0,0,0,-15.320221673996338,0,0,0,{"$f":"IF(AP$4 = $I75, -AP118,IF(YEAR(AP$4) = 2013, AP96 - AP118,0))","v":0},0,0,0,0]
[null,null,null,null,"Opening balance after transfers",null,"£m 18/19 prices",null,null,">",null,null,null,null,null,null,null,null,null,null,null,{"$f":"SUM(V118:V119)","v":0},0,0,0,0,0,2.7594432117126915E-3,0.15750904382306211,0.8255533065392554,2.7006707998294446,4.7587939909806165,6.9940110709082202,8.6592531915258437,10.324495312143467,11.989737432761091,13.654979553378714,0,0,0,0,{"$f":"SUM(AP118:AP119)","v":0},0,0,0,0]
[null,null,null,null,"Regulatory depreciation",null,"£m 18/19 prices",null,null,">",null,null,null,null,null,null,null,null,null,null,null,{"$f":"V111/V$42","v":0},{"$f":"W111/W$42","v":0},0,0,0,2.7594432117126915E-3,0.1547496006113494,0.66804426271619333,1.8751174932901891,2.0581231911511719,2.0708244388784118,1.6652421206176231,1.6652421206176231,1.6652421206176231,1.6652421206176231,1.6652421206176231,0,0,0,0,{"$f":"AP111/AP$42","v":0},0,0,0,0]
[null,null,null,null,"Removals",null,"£m 18/19 prices",null,null,">"]
[null,null,null,null,"Closing value carried forward",null,"£m 18/19 prices",null,null,">",null,null,null,null,null,null,null,null,null,null,null,{"$f":"V120 + V121 - V122","v":0},{"$f":"W120 + W121 - W122","v":0},0,0,0,2.7594432117126915E-3,0.15750904382306211,0.8255533065392554,2.7006707998294446,4.7587939909806165,6.8296184298590283,8.6592531915258437,10.324495312143467,11.989737432761091,13.654979553378714,15.320221673996338,0,0,0,0,{"$f":"AP120 + AP121 - AP122","v":0},0,0,0,0]
[]
[null,null,null,"Actual asset balance"]
[]
[null,null,null,null,"Net value after regulatory depreciation",null,"£m 18/19 prices",null,null,">",null,null,null,null,null,null,null,null,null,null,null,{"$f":"V114 - V123","v":0},0,0,0,0.12417494452707112,6.9609725842990109,29.904482778405637,83.554733891519263,89.914872801973303,88.428305758547907,86.357481319669503,66.276642236267193,64.611400115649573,62.946157995031953,61.280915874414326,59.615673753796706,0,0,0,0,{"$f":"AP114 - AP123","v":0},0,0,0,0]
[]
[null,null,"Capital allowances"]
[]
[null,null,null,"General pool"]
[]
[null,null,null,null,"General pool capital allowance rate",null,"%",null,null,">",null,null,null,null,null,null,null,null,null,null,null,{"$f":"V$43","v":0.25},{"$f":"W$43","v":0.25},0.25,0.25,0.25,0.25,0.25,0.2,0.2,0.2,0.2,0.18000000000000002,0.18000000000000002,0.18000000000000002,0.18000000000000002,0.18000000000000002,0.18000000000000002,0.18000000000000002,0.18000000000000002,0.18000000000000002,0.18,0.18,0.18,0.18,0.18]
[]
[null,null,null,null,"Opening balance brought forward",null,"£m nominal",null,null,">",null,null,null,null,null,null,null,null,null,null,null,0,{"$f":"V140","v":0},0,0,0,1.2061199620773278E-3,6.9817498244077486E-2,0.29470682189562381,0.86170292624176592,0.78469588024238557,0.63470156278985823,0.50776125023188656,0.41636422519014699,0.34141866465592052,0.27996330501785482,0.22956991011464095,0.18824732629400559,0,0,0,{"$f":"AO140","v":0},{"$f":"AP140","v":0},{"$f":"AQ140","v":0},{"$f":"AR140","v":0},{"$f":"AS140","v":0}]
[null,null,null,null,"Transfer",null,"£m nominal",null,null,">",null,null,null,null,null,null,null,null,null,null,null,{"$f":"IF(V$4 >= $I75, -V135, 0)","v":0},{"$f":"IF(W$4 >= $I75, -W135, 0)","v":0},0,0,0,0,0,0,0,0,0,0,0,0,{"$f":"IF(AJ$4 >= $I75, -AJ135, 0)","v":0},{"$f":"IF(AK$4 >= $I75, -AK135, 0)","v":0},{"$f":"IF(AL$4 >= $I75, -AL135, 0)","v":-0.18824732629400559},{"$f":"IF(AM$4 >= $I75, -AM135, 0)","v":0},{"$f":"IF(AN$4 >= $I75, -AN135, 0)","v":0},0,{"$f":"IF(AP$4 >= $I75, -AP135, 0)","v":0},0,0,0,0]
[null,null,null,null,"Capex additions",null,"£m nominal",null,null,">",null,null,null,null,null,null,null,null,null,null,null,{"$f":"(V112 * V$53) * TOpf","v":0},0,0,0,1.6081599494364371E-3,9.1883877696692651E-2,0.3231249309500876,0.78242183590658354,0.11916692406121612,8.681073244937285E-3,0,0,0,0,0,0,0,0,0,0,0,0,0,0,0]
[null,null,null,null,"Tax book value pre-depreciation",null,"£m nominal",null,null,">",null,null,null,null,null,null,null,null,null,null,null,{"$f":"SUM(V135:V137)","v":0},0,0,0,1.6081599494364371E-3,9.3089997658769977E-2,0.39294242919416511,{"$f":"SUM(AC135:AC137)","v":1.0771286578022075},0.98086985030298202,0.79337695348732284,0.63470156278985823,0.50776125023188656,0.41636422519014699,0.34141866465592052,{"$f":"SUM(AJ135:AJ137)","v":0.27996330501785482},{"$f":"SUM(AK135:AK137)","v":0.22956991011464095},{"$f":"SUM(AL135:AL137)","v":0},{"$f":"SUM(AM135:AM137)","v":0},{"$f":"SUM(AN135:AN137)","v":0},0,{"$f":"SUM(AP135:AP137)","v":0},0,0,0,0]
[null,null,null,null,"General pool capital allowance",null,"£m nominal",null,null,">",null,null,null,null,null,null,null,null,null,null,null,{"$f":"-V138*V133","v":0},0,0,0,-4.0203998735910927E-4,-2.3272499414692494E-2,-9.8235607298541278E-2,-0.21542573156044151,-0.19617397006059642,-0.15867539069746459,-0.12694031255797164,-9.1397025041739591E-2,-7.4945560534226463E-2,-6.1455359638065699E-2,-5.0393394903213873E-2,-4.1322583820635375E-2,0,0,0,0,{"$f":"-AP138*AP133","v":0},0,0,0,0]
[null,null,null,null,"Closing balance carried forward",null,null,null,null,">",null,null,null,null,null,null,null,null,null,null,null,{"$f":"SUM(V138:V139)","v":0},{"$f":"SUM(W138:W139)","v":0},0,0,1.2061199620773278E-3,6.9817498244077486E-2,0.29470682189562381,0.86170292624176592,0.78469588024238557,0.63470156278985823,0.50776125023188656,0.41636422519014699,0.34141866465592052,0.27996330501785482,0.22956991011464095,0.18824732629400559,0,0,0,0,{"$f":"SUM(AP138:AP139)","v":0},0,0,0,0]
[]
[null,null,null,"Special Rates"]
[]
[null,null,null,null,"Special Rate capital allowance rate",null,"%",null,null,">",null,null,null,null,null,null,null,null,null,null,null,{"$f":"V$44","v":0.06},{"$f":"W$44","v":0.06},0.06,0.06,0.06,0.06,0.06,0.1,0.1,0.1,0.1,0.08,0.08,0.08,0.08,0.08,0.08,0.08,0.06,0.06,0.06,0.06,0.06,0.06,0.06]
[]
[null,null,null,null,"Opening balance brought forward",null,"£m nominal",null,null,">",null,null,null,null,null,null,null,null,null,null,null,0,{"$f":"V151","v":0},0,0,0,7.6697379988490633E-2,4.4542794642226031,19.59770098214458,53.365782717222331,53.470742514737523,48.520073481543115,43.668066133388805,40.174620842717701,36.960651175300285,34.003799081276263,31.283495154774162,28.780815542392229,0,0,0,{"$f":"AO151","v":0},{"$f":"AP151","v":0},{"$f":"AQ151","v":0},{"$f":"AR151","v":0},{"$f":"AS151","v":0}]
[null,null,null,null,"Transfer",null,"£m nominal",null,null,">",null,null,null,null,null,null,null,null,null,null,null,{"$f":"IF(V$4 >= $I75,-V146,0)","v":0},{"$f":"IF(W$4 >= $I75,-W146,0)","v":0},0,0,0,0,0,0,0,0,0,0,0,0,0,0,-28.780815542392229,0,0,0,{"$f":"IF(AP$4 >= $I75,-AP146,0)","v":0},0,0,0,0]
[null,null,null,null,"Capex additions",null,"£m nominal",null,null,">",null,null,null,null,null,null,null,null,null,null,null,{"$f":"(V112 * V$54) * TOpf","v":0},0,0,0,8.1592957434564503E-2,4.6618977947164062,16.394338601888656,39.697613148102455,6.0461534102638073,0.44045024253260751,0,0,0,0,0,0,0,0,0,0,0,0,0,0,0]
[null,null,null,null,"Tax book value pre-depreciation",null,"£m nominal",null,null,">",null,null,null,null,null,null,null,null,null,null,null,{"$f":"SUM(V146:V148)","v":0},0,0,0,8.1592957434564503E-2,4.7385951747048969,20.848618066111257,{"$f":"SUM(AC146:AC148)","v":59.295314130247036},59.411936127486136,53.911192757270129,48.520073481543115,43.668066133388805,40.174620842717701,36.960651175300285,34.003799081276263,31.283495154774162,0,0,0,0,{"$f":"SUM(AP146:AP148)","v":0},0,0,0,0]
[null,null,null,null,"Special Rate capital allowance",null,"£m nominal",null,null,">",null,null,null,null,null,null,null,null,null,null,null,{"$f":"-V149*V144","v":0},{"$f":"-W149*W144","v":0},{"$f":"-X149*X144","v":0},{"$f":"-Y149*Y144","v":0},{"$f":"-Z149*Z144","v":-4.8955774460738696E-3},-0.28431571048229382,-1.2509170839666754,-5.9295314130247041,-5.9411936127486138,-5.3911192757270134,-4.852007348154312,-3.4934452906711044,-3.2139696674174161,-2.9568520940240228,-2.7203039265021012,-2.5026796123819328,0,0,0,0,{"$f":"-AP149*AP144","v":0},0,0,0,0]
[null,null,null,null,"Closing balance carried forward",null,null,null,null,">",null,null,null,null,null,null,null,null,null,null,null,{"$f":"SUM(V149:V150)","v":0},{"$f":"SUM(W149:W150)","v":0},{"$f":"SUM(X149:X150)","v":0},{"$f":"SUM(Y149:Y150)","v":0},{"$f":"SUM(Z149:Z150)","v":7.6697379988490633E-2},4.4542794642226031,19.59770098214458,53.365782717222331,53.470742514737523,48.520073481543115,43.668066133388805,40.174620842717701,36.960651175300285,34.003799081276263,31.283495154774162,28.780815542392229,0,0,0,0,{"$f":"SUM(AP149:AP150)","v":0},0,0,0,0]
[]
[null,null,"Revenue pool"]
[]
[null,null,null,null,"Revenue pool additions",null,"£m nominal",null,null,">",null,null,null,null,null,null,null,null,null,null,null,{"$f":"(V112 * V$55) * TOpf","v":0},0,0,0,3.385599893550394E-4,1.9343974251935299E-2,6.8026301252650023E-2,0.16472038650664919,2.5087773486571815E-2,1.827594367355218E-3,0,0,0,0,0,0,0,0,0,0,0,0,0,0,0]
[]
[null,null,"Non-qualifying pool"]
[]
[null,null,null,null,"Non-qualifying expenditure",null,"£m nominal",null,null,">",null,null,null,null,null,null,null,null,null,null,null,{"$f":"(V112 * V$56) * TOpf","v":0},0,0,0,1.1003199654038779E-3,6.2867916318789713E-2,0.22108547907111259,0.53534125614660977,8.1535263831358396E-2,5.9396816939044578E-3,0,0,0,0,0,0,0,0,0,0,0,0,0,0,0]
[]
[null,null,"Net debt"]
[]
[null,null,null,null,"Overall gearing after equity issuance",null,"%",null,null,null,null,null,null,null,null,null,null,null,null,null,null,null,null,null,null,null,null,null,null,null,null,null,null,null,null,null,null,null,null,null,null,{"$f":"AP$46","v":0.6},0.58730484245989634,0.5819434430964423,0.57604812935946159,0.55936589604833153]
[]
[null,null,null,null,"Opening net debt",null,"£m nominal",null,null,null,null,null,null,null,null,null,null,null,null,null,null,null,null,null,null,null,null,null,null,null,null,null,null,null,null,null,null,null,null,null,null,null,{"$f":"AP173","v":0},{"$f":"AQ173","v":0},{"$f":"AR173","v":0},{"$f":"AS173","v":0}]
[null,null,null,null,"Transfer from core net debt",null,"£m nominal",null,null,null,null,null,null,null,null,null,null,null,null,null,null,null,null,null,null,null,null,null,null,null,null,null,null,null,null,null,null,null,null,null,null,null,{"$f":"AQ167-AQ165","v":0},0,0,0]
[null,null,null,null,"Opening net debt after transfer",null,"£m nominal",null,null,null,null,null,null,null,null,null,null,null,null,null,null,null,null,null,null,null,null,null,null,null,null,null,null,null,null,null,null,null,null,null,null,{"$f":"-AP163 * (AP111 - AP120) * Input!AO$191","v":0},{"$f":"-AQ163 * (AQ111 - AQ120) * Input!AP$191","v":0},{"$f":"-AR163 * (AR111 - AR120) * Input!AQ$191","v":0},{"$f":"-AS163 * (AS111 - AS120) * Input!AR$191","v":0},{"$f":"-AT163 * (AT111 - AT120) * Input!AS$191","v":0}]
[null,null,null,null,"Less capex",null,"£m nominal",null,null,null,null,null,null,null,null,null,null,null,null,null,null,null,null,null,null,null,null,null,null,null,null,null,null,null,null,null,null,null,null,null,null,{"$f":"-AP112 * TOpf","v":0},0,0,0,0]
[null,null,null,null,"Less dividends",null,"£m nominal",null,null,null,null,null,null,null,null,null,null,null,null,null,null,null,null,null,null,null,null,null,null,null,null,null,null,null,null,null,null,null,null,null,null,{"$f":"-AP127 * (1 - AP163) * AP$49 * TOpf","v":0},0,0,0,0]
[null,null,null,null,"Closing net debt (before interest and tax)",null,"£m nominal",null,null,null,null,null,null,null,null,null,null,null,null,null,null,null,null,null,null,null,null,null,null,null,null,null,null,null,null,null,null,null,null,null,null,{"$f":"SUM(AP167:AP169)","v":0},0,0,0,0]
[null,null,null,null,"Less net interest paid (excluding principal inflation accretion)",null,"£m nominal",null,null,null,null,null,null,null,null,null,null,null,null,null,null,null,null,null,null,null,null,null,null,null,null,null,null,null,null,null,null,null,null,null,null,{"$f":"((AP167 + AP170) / 2) * AP$47 * (1 - AP$48)","v":0},0,0,0,0]
[null,null,null,null,"Less net interest paid (principal inflation accretion)",null,"£m nominal",null,null,null,null,null,null,null,null,null,null,null,null,null,null,null,null,null,null,null,null,null,null,null,null,null,null,null,null,null,null,null,null,null,null,{"$f":"((AP167 + AP170) / 2) * AP$47 * AP$48","v":0},0,0,0,0]
[null,null,null,null,"Closing net debt",null,"£m nominal",null,null,null,null,null,null,null,null,null,null,null,null,null,null,null,null,null,null,null,null,null,null,null,null,null,null,null,null,null,null,null,null,null,null,{"$f":"SUM(AP170:AP172)","v":0},0,0,0,0]
[]
[null,"Easington"]
[]
[null,null,"Project specific inputs"]
[]
[null,null,null,null,"Asset transfer",null,"year ending",null,{"$f":"Input!I546","v":"2018-03-31"}]
[]
[null,null,null,null,"Deemed cost",null,"£m 18/19 prices",null,null,">",null,null,null,null,null,null,null,null,null,null,null,{"$f":"Input!V561","v":0},{"$f":"Input!W561","v":0},{"$f":"Input!X561","v":0},{"$f":"Input!Y561","v":0},{"$f":"Input!Z561","v":0},{"$f":"Input!AA561","v":0},{"$f":"Input!AB561","v":4.0152436126612656},{"$f":"Input!AC561","v":16.060974450645062},{"$f":"Input!AD561","v":0},{"$f":"Input!AE561","v":0},{"$f":"Input!AF561","v":0},{"$f":"Input!AG561","v":0}]
[]
[null,null,null,null,"Pre-RIIO actual cost",null,"£m 18/19 prices",null,null,">",null,null,null,null,null,null,null,null,null,null,null,{"$f":"Input!V567","v":0},{"$f":"Input!W567","v":0},{"$f":"Input!X567","v":0},{"$f":"Input!Y567","v":0},{"$f":"Input!Z567","v":0},{"$f":"Input!AA567","v":0.13294424437561272},{"$f":"Input!AB567","v":2.7456208354433298},{"$f":"Input!AC567","v":5.7937034651984609},{"$f":"Input!AD567","v":34.270186915519197},{"$f":"Input!AE567","v":34.839361407895645},{"$f":"Input!AF567","v":1.407338564227161},{"$f":"Input!AG567","v":0}]
[null,null,null,null,"Post-RIIO actual cost",null,"£m 18/19 prices",null,null,">"]
[null,null,null,null,"Actual cost",null,null,null,null,null,null,null,null,null,null,null,null,null,null,null,null,{"$f":"SUM(V183:V184)","v":0},0,0,0,0,0.13294424437561272,2.7456208354433298,5.7937034651984609,34.270186915519197,34.839361407895645,1.407338564227161,0,0,0,0,0,0,0,0,0,0,0,0,0,0]
[]
[null,null,"RAV"]
[]
[null,null,null,"Deemed cost"]
[]
[null,null,null,null,"Opening balance brought forward",null,"£m 18/19 prices",null,null,">",null,null,null,null,null,null,null,null,null,null,null,0,{"$f":"V196","v":0},0,0,0,0,0,4.0152436126612656,20.076218063306328,20.076218063306328,20.076218063306328,20.076218063306328,20.076218063306328,20.076218063306328,20.076218063306328,20.076218063306328,20.076218063306328,0,0,0,{"$f":"AO196","v":0},{"$f":"AP196","v":0},{"$f":"AQ196","v":0},{"$f":"AR196","v":0},{"$f":"AS196","v":0}]
[null,null,null,null,"Transfer",null,"£m 18/19 prices",null,null,">",null,null,null,null,null,null,null,null,null,null,null,{"$f":"IF(V$4 = $I179, -V191, 0)","v":0},0,0,0,0,0,0,0,0,0,0,0,0,0,0,0,-20.076218063306328,0,0,0,{"$f":"IF(AP$4 = $I179, -AP191, 0)","v":0},0,0,0,0]
[null,null,null,null,"Opening balance after transfers",null,"£m 18/19 prices",null,null,">",null,null,null,null,null,null,null,null,null,null,null,{"$f":"SUM(V191:V192)","v":0},0,0,0,0,0,0,4.0152436126612656,20.076218063306328,20.076218063306328,20.076218063306328,20.076218063306328,20.076218063306328,20.076218063306328,20.076218063306328,20.076218063306328,0,0,0,0,{"$f":"SUM(AP191:AP192)","v":0},0,0,0,0]
[null,null,null,null,"Net additions (after disposals)",null,"£m 18/19 prices",null,null,">",null,null,null,null,null,null,null,null,null,null,null,{"$f":"V181","v":0},{"$f":"W181","v":0},0,0,0,0,4.0152436126612656,16.060974450645062,0,0,0,0,0,0,0,0,0,0,0,0,{"$f":"AP181","v":0},0,0,0,0]
[null,null,null,null,"Removals",null,"£m 18/19 prices"]
[null,null,null,null,"Balance carried forward",null,"£m 18/19 prices",null,null,">",null,null,null,null,null,null,null,null,null,null,null,{"$f":"V193 + V194 - V195","v":0},0,0,0,0,0,4.0152436126612656,20.076218063306328,20.076218063306328,20.076218063306328,20.076218063306328,20.076218063306328,20.076218063306328,20.076218063306328,20.076218063306328,20.076218063306328,0,0,0,0,{"$f":"AP193 + AP194 - AP195","v":0},0,0,0,0]
[]
[null,null,null,"Deemed accumulated depreciation"]
[]
[null,null,null,null,"Opening balance brought forward",null,"£m 18/19 prices",null,null,">",null,null,null,null,null,null,null,null,null,null,null,0,{"$f":"V205","v":0},{"$f":"W205","v":0},0,0,0,0,0,8.9227635836917008E-2,0.53536581502150216,0.98150399420608725,1.4276421733906723,1.8737803525752574,2.3199185317598428,2.7660567109444276,3.2121948901290125,3.6583330693135974,0,0,0,{"$f":"AO205","v":0},{"$f":"AP205","v":0},{"$f":"AQ205","v":0},{"$f":"AR205","v":0},{"$f":"AS205","v":0}]
[null,null,null,null,"Transfer",null,"£m 18/19 prices",null,null,">",null,null,null,null,null,null,null,null,null,null,null,{"$f":"IF(V$4 = $I179, -V200, 0)","v":0},0,0,0,0,0,0,0,0,0,0,0,0,0,0,0,-3.6583330693135974,0,0,0,{"$f":"IF(AP$4 = $I179, -AP200, 0)","v":0},0,0,0,0]
[null,null,null,null,"Opening balance after transfers",null,"£m 18/19 prices",null,null,">",null,null,null,null,null,null,null,null,null,null,null,{"$f":"SUM(V200:V201)","v":0},0,0,0,0,0,0,0,8.9227635836917008E-2,0.53536581502150216,0.98150399420608725,1.4276421733906723,1.8737803525752574,2.3199185317598428,2.7660567109444276,3.2121948901290125,0,0,0,0,{"$f":"SUM(AP200:AP201)","v":0},0,0,0,0]
[null,null,null,null,"Regulatory depreciation",null,"£m 18/19 prices",null,null,">",null,null,null,null,null,null,null,null,null,null,null,{"$f":"V193/V$42","v":0},{"$f":"W193/W$42","v":0},0,0,0,0,0,8.9227635836917008E-2,0.44613817918458509,0.44613817918458509,0.44613817918458509,0.44613817918458509,0.44613817918458509,0.44613817918458509,0.44613817918458509,0.44613817918458509,0,0,0,0,{"$f":"AP193/AP$42","v":0},0,0,0,0]
[null,null,null,null,"Removals",null,"£m 18/19 prices",null,null,">"]
[null,null,null,null,"Closing value carried forward",null,"£m 18/19 prices",null,null,">",null,null,null,null,null,null,null,null,null,null,null,{"$f":"V202 + V203 - V204","v":0},0,0,0,0,0,0,8.9227635836917008E-2,0.53536581502150216,0.98150399420608725,1.4276421733906723,1.8737803525752574,2.3199185317598428,2.7660567109444276,3.2121948901290125,3.6583330693135974,0,0,0,0,{"$f":"AP202 + AP203 - AP204","v":0},0,0,0,0]
[]
[null,null,null,"Deemed asset balance"]
[]
[null,null,null,null,"Net value after regulatory depreciation",null,"£m 18/19 prices",null,null,">",null,null,null,null,null,null,null,null,null,null,null,{"$f":"V196-V205","v":0},0,0,0,0,0,4.0152436126612656,19.986990427469411,19.540852248284825,{"$f":"AE196-AE205","v":19.094714069100242},{"$f":"AF196-AF205","v":18.648575889915655},18.202437710731072,17.756299531546485,17.310161352361902,16.864023173177316,16.417884993992729,0,0,0,0,{"$f":"AP196-AP205","v":0},0,0,0,0]
[]
[null,null,null,"Actual cost"]
[]
[null,null,null,null,"Opening balance brought forward",null,"£m 18/19 prices",null,null,">",null,null,null,null,null,null,null,null,null,null,null,0,{"$f":"V218","v":0},0,0,0,0,0.13294424437561272,2.8785650798189426,8.6722685450174026,42.9424554605366,77.781816868432244,79.189155432659405,20.076218063306328,20.076218063306328,20.076218063306328,20.076218063306328,20.076218063306328,0,0,0,{"$f":"AO218","v":0},{"$f":"AP218","v":0},{"$f":"AQ218","v":0},{"$f":"AR218","v":0},{"$f":"AS218","v":0}]
[null,null,null,null,"Transfer",null,"£m 18/19 prices",null,null,">",null,null,null,null,null,null,null,null,null,null,null,{"$f":"IF(V$4 = $I179, -V213, IF(YEAR(V$4) = 2013, V191 - V213, IF( YEAR(V$4) > YEAR($I179), -V213, 0)))","v":0},0,0,0,0,0,0,0,0,0,0,-59.112937369353077,0,0,0,0,-20.076218063306328,0,0,0,{"$f":"IF(AP$4 = $I179, -AP213, IF(YEAR(AP$4) = 2013, AP191 - AP213, IF( YEAR(AP$4) > YEAR($I179), -AP213, 0)))","v":0},0,0,0,0]
[null,null,null,null,"Opening balance after transfers",null,"£m 18/19 prices",null,null,">",null,null,null,null,null,null,null,null,null,null,null,{"$f":"SUM(V213:V214)","v":0},0,0,0,0,0,0.13294424437561272,2.8785650798189426,8.6722685450174026,42.9424554605366,77.781816868432244,20.076218063306328,20.076218063306328,20.076218063306328,20.076218063306328,20.076218063306328,0,0,0,0,{"$f":"SUM(AP213:AP214)","v":0},0,0,0,0]
[null,null,null,null,"Net additions (after disposals)",null,"£m 18/19 prices",null,null,">",null,null,null,null,null,null,null,null,null,null,null,{"$f":"V185","v":0},{"$f":"W185","v":0},0,0,0,0.13294424437561272,2.7456208354433298,5.7937034651984609,34.270186915519197,34.839361407895645,1.407338564227161,0,0,0,0,0,0,0,0,0,{"$f":"AP185","v":0},0,0,0,0]
[null,null,null,null,"Removals",null,"£m 18/19 prices"]
[null,null,null,null,"Balance carried forward",null,"£m 18/19 prices",null,null,">",null,null,null,null,null,null,null,null,null,null,null,{"$f":"V215 + V216 - V217","v":0},0,0,0,0,0.13294424437561272,2.8785650798189426,8.6722685450174026,42.9424554605366,77.781816868432244,79.189155432659405,20.076218063306328,20.076218063306328,20.076218063306328,20.076218063306328,20.076218063306328,0,0,0,0,{"$f":"AP215 + AP216 - AP217","v":0},0,0,0,0]
[]
[null,null,null,"Actual accumulated depreciation"]
[]
[null,null,null,null,"Opening balance brought forward",null,"£m 18/19 prices",null,null,">",null,null,null,null,null,null,null,null,null,null,null,0,{"$f":"V227","v":0},0,0,0,0,0,2.9543165416802829E-3,6.6922429426545679E-2,0.25963950820471016,1.2139162962166345,2.9424011155151288,1.8737803525752574,2.3199185317598428,2.7660567109444276,3.2121948901290125,3.6583330693135974,0,0,0,{"$f":"AO227","v":0},{"$f":"AP227","v":0},{"$f":"AQ227","v":0},{"$f":"AR227","v":0},{"$f":"AS227","v":0}]
[null,null,null,null,"Transfer",null,"£m 18/19 prices",null,null,">",null,null,null,null,null,null,null,null,null,null,null,{"$f":"IF(V$4 = $I179, -V222,IF(YEAR(V$4) = 2013, V200 - V222,0))","v":0},0,0,0,0,0,0,0,0,0,0,-1.5147589421244565,0,0,0,0,-3.6583330693135974,0,0,0,{"$f":"IF(AP$4 = $I179, -AP222,IF(YEAR(AP$4) = 2013, AP200 - AP222,0))","v":0},0,0,0,0]
[null,null,null,null,"Opening balance after transfers",null,"£m 18/19 prices",null,null,">",null,null,null,null,null,null,null,null,null,null,null,{"$f":"SUM(V222:V223)","v":0},0,0,0,0,0,0,2.9543165416802829E-3,6.6922429426545679E-2,0.25963950820471016,1.2139162962166345,1.4276421733906723,1.8737803525752574,2.3199185317598428,2.7660567109444276,3.2121948901290125,0,0,0,0,{"$f":"SUM(AP222:AP223)","v":0},0,0,0,0]
[null,null,null,null,"Regulatory depreciation",null,"£m 18/19 prices",null,null,">",null,null,null,null,null,null,null,null,null,null,null,{"$f":"V215/V$42","v":0},{"$f":"W215/W$42","v":0},0,0,0,0,2.9543165416802829E-3,6.3968112884865397E-2,0.19271707877816449,0.95427678801192439,1.7284848192984943,0.44613817918458509,0.44613817918458509,0.44613817918458509,0.44613817918458509,0.44613817918458509,0,0,0,0,{"$f":"AP215/AP$42","v":0},0,0,0,0]
[null,null,null,null,"Removals",null,"£m 18/19 prices",null,null,">"]
[null,null,null,null,"Closing value carried forward",null,"£m 18/19 prices",null,null,">",null,null,null,null,null,null,null,null,null,null,null,{"$f":"V224 + V225 - V226","v":0},{"$f":"W224 + W225 - W226","v":0},0,0,0,0,2.9543165416802829E-3,6.6922429426545679E-2,0.25963950820471016,1.2139162962166345,2.9424011155151288,1.8737803525752574,2.3199185317598428,2.7660567109444276,3.2121948901290125,3.6583330693135974,0,0,0,0,{"$f":"AP224 + AP225 - AP226","v":0},0,0,0,0]
[]
[null,null,null,"Actual asset balance"]
[]
[null,null,null,null,"Net value after regulatory depreciation",null,"£m 18/19 prices",null,null,">",null,null,null,null,null,null,null,null,null,null,null,{"$f":"V218 - V227","v":0},0,0,0,0,0.13294424437561272,2.8756107632772623,8.6053461155908568,42.682815952331893,76.567900572215606,76.24675431714428,18.202437710731072,17.756299531546485,17.310161352361902,16.864023173177316,16.417884993992729,0,0,0,0,{"$f":"AP218 - AP227","v":0},0,0,0,0]
[]
[null,null,"Capital allowances"]
[]
[null,null,null,"General pool"]
[]
[null,null,null,null,"General pool capital allowance rate",null,"%",null,null,">",null,null,null,null,null,null,null,null,null,null,null,{"$f":"V$43","v":0.25},{"$f":"W$43","v":0.25},0.25,0.25,0.25,0.25,0.25,0.2,0.2,0.2,0.2,0.18000000000000002,0.18000000000000002,0.18000000000000002,0.18000000000000002,0.18000000000000002,0.18000000000000002,0.18000000000000002,0.18000000000000002,0.18000000000000002,0.18,0.18,0.18,0.18,0.18]
[]
[null,null,null,null,"Opening balance brought forward",null,"£m nominal",null,null,">",null,null,null,null,null,null,null,null,null,null,null,0,{"$f":"V244","v":0},0,0,0,0,1.3394982170423552E-3,2.9811291916767221E-2,9.0612838554526898E-2,0.46921115592679552,0.79869468112382824,0.65687652104536542,0.53863874725719962,0.44168377275090365,0.36218069365574102,0.29698816879770762,0.24353029841412024,0,0,0,{"$f":"AO244","v":0},{"$f":"AP244","v":0},{"$f":"AQ244","v":0},{"$f":"AR244","v":0},{"$f":"AS244","v":0}]
[null,null,null,null,"Transfer",null,"£m nominal",null,null,">",null,null,null,null,null,null,null,null,null,null,null,{"$f":"IF(V$4 >= $I179, -V239, 0)","v":0},0,0,0,0,0,0,0,0,0,0,0,0,0,0,0,-0.24353029841412024,0,0,0,{"$f":"IF(AP$4 >= $I179, -AP239, 0)","v":0},0,0,0,0]
[null,null,null,null,"Capex additions",null,"£m nominal",null,null,">",null,null,null,null,null,null,null,null,null,null,null,{"$f":"(V216 * V$53) * TOpf","v":0},0,0,0,0,1.7859976227231401E-3,3.8408891005313937E-2,8.3454756276391401E-2,0.49590110635396756,0.52915719547798978,2.2400970182878538E-2,0,0,0,0,0,0,0,0,0,0,0,0,0,0]
[null,null,null,null,"Tax book value pre-depreciation",null,"£m nominal",null,null,">",null,null,null,null,null,null,null,null,null,null,null,{"$f":"SUM(V239:V241)","v":0},0,0,0,0,1.7859976227231401E-3,3.9748389222356295E-2,{"$f":"SUM(AC239:AC241)","v":0.11326604819315862},0.5865139449084944,0.9983683514047853,0.82109565130670681,0.65687652104536542,0.53863874725719962,0.44168377275090365,0.36218069365574102,0.29698816879770762,0,0,0,0,{"$f":"SUM(AP239:AP241)","v":0},0,0,0,0]
[null,null,null,null,"General pool capital allowance",null,"£m nominal",null,null,">",null,null,null,null,null,null,null,null,null,null,null,{"$f":"-V242*V237","v":0},0,0,0,0,-4.4649940568078502E-4,-9.9370973055890738E-3,-2.2653209638631724E-2,-0.11730278898169888,-0.19967367028095706,-0.16421913026134138,-0.11823777378816579,-9.6954974506295949E-2,-7.950307909516266E-2,-6.5192524858033396E-2,-5.3457870383587375E-2,0,0,0,0,{"$f":"-AP242*AP237","v":0},0,0,0,0]
[null,null,null,null,"Closing balance carried forward",null,null,null,null,">",null,null,null,null,null,null,null,null,null,null,null,{"$f":"SUM(V242:V243)","v":0},{"$f":"SUM(W242:W243)","v":0},0,0,0,1.3394982170423552E-3,2.9811291916767221E-2,9.0612838554526898E-2,0.46921115592679552,0.79869468112382824,0.65687652104536542,0.53863874725719962,0.44168377275090365,0.36218069365574102,0.29698816879770762,0.24353029841412024,0,0,0,0,{"$f":"SUM(AP242:AP243)","v":0},0,0,0,0]
[]
[null,null,null,"Special Rates"]
[]
[null,null,null,null,"Special Rate capital allowance rate",null,"%",null,null,">",null,null,null,null,null,null,null,null,null,null,null,{"$f":"V$44","v":0.06},{"$f":"W$44","v":0.06},0.06,0.06,0.06,0.06,0.06,0.1,0.1,0.1,0.1,0.08,0.08,0.08,0.08,0.08,0.08,0.08,0.06,0.06,0.06,0.06,0.06,0.06,0.06]
[]
[null,null,null,null,"Opening balance brought forward",null,"£m nominal",null,null,">",null,null,null,null,null,null,null,null,null,null,null,0,{"$f":"V255","v":0},0,0,0,0,8.5178926621410564E-2,1.911889279096509,5.5315080641024981,27.622767777308155,49.023479567824914,45.144030649498497,41.532508197538618,38.209907541735532,35.153114938396691,32.340865743324954,29.753596483858956,0,0,0,{"$f":"AO255","v":0},{"$f":"AP255","v":0},{"$f":"AQ255","v":0},{"$f":"AR255","v":0},{"$f":"AS255","v":0}]
[null,null,null,null,"Transfer",null,"£m nominal",null,null,">",null,null,null,null,null,null,null,null,null,null,null,{"$f":"IF(V$4 >= $I179,-V250,0)","v":0},0,0,0,0,0,0,0,0,0,0,0,0,0,0,0,-29.753596483858956,0,0,0,{"$f":"IF(AP$4 >= $I179,-AP250,0)","v":0},0,0,0,0]
[null,null,null,null,"Capex additions",null,"£m nominal",null,null,">",null,null,null,null,null,null,null,null,null,null,null,{"$f":"(V216 * V$54) * TOpf","v":0},0,0,0,0,9.061587938447932E-2,1.9487458383748755,4.2342307921284892,25.160456132906564,26.847765075830637,1.1365544871734163,0,0,0,0,0,0,0,0,0,0,0,0,0,0]
[null,null,null,null,"Tax book value pre-depreciation",null,"£m nominal",null,null,">",null,null,null,null,null,null,null,null,null,null,null,{"$f":"SUM(V250:V252)","v":0},0,0,0,0,9.061587938447932E-2,2.0339247649962862,{"$f":"SUM(AC250:AC252)","v":6.1461200712249981},30.691964197009064,54.470532853138792,50.160034054998327,45.144030649498497,41.532508197538618,38.209907541735532,35.153114938396691,32.340865743324954,0,0,0,0,{"$f":"SUM(AP250:AP252)","v":0},0,0,0,0]
[null,null,null,null,"Special Rate capital allowance",null,"£m nominal",null,null,">",null,null,null,null,null,null,null,null,null,null,null,{"$f":"-V253*V248","v":0},0,0,0,0,-5.4369527630687593E-3,-0.12203548589977717,-0.61461200712249986,-3.0691964197009067,-5.4470532853138796,-5.0160034054998333,-3.6115224519598796,-3.3226006558030896,-3.0567926033388426,-2.8122491950717352,-2.5872692594659963,0,0,0,0,{"$f":"-AP253*AP248","v":0},0,0,0,0]
[null,null,null,null,"Closing balance carried forward",null,null,null,null,">",null,null,null,null,null,null,null,null,null,null,null,{"$f":"SUM(V253:V254)","v":0},{"$f":"SUM(W253:W254)","v":0},0,0,0,8.5178926621410564E-2,1.911889279096509,5.5315080641024981,27.622767777308155,49.023479567824914,45.144030649498497,41.532508197538618,38.209907541735532,35.153114938396691,32.340865743324954,29.753596483858956,0,0,0,0,{"$f":"SUM(AP253:AP254)","v":0},0,0,0,0]
[]
[null,null,"Revenue pool"]
[]
[null,null,null,null,"Revenue pool additions",null,"£m nominal",null,null,">",null,null,null,null,null,null,null,null,null,null,null,{"$f":"(V216 * V$55) * TOpf","v":0},0,0,0,0,3.7599949952066112E-4,8.0860823169081972E-3,1.7569422373977135E-2,0.10440023291662474,0.11140151483747153,4.7159937227112718E-3,0,0,0,0,0,0,0,0,0,0,0,0,0,0]
[]
[null,null,"Non-qualifying pool"]
[]
[null,null,null,null,"Non-qualifying expenditure",null,"£m nominal",null,null,">",null,null,null,null,null,null,null,null,null,null,null,{"$f":"(V216 * V$56) * TOpf","v":0},0,0,0,0,1.2219983734421485E-3,2.6279767529951641E-2,5.7100622715425688E-2,0.33930075697903045,0.36205492322178245,1.5326979598811633E-2,0,0,0,0,0,0,0,0,0,0,0,0,0,0]
[]
[null,null,"Net debt"]
[]
[null,null,null,null,"Overall gearing after equity issuance",null,"%",null,null,null,null,null,null,null,null,null,null,null,null,null,null,null,null,null,null,null,null,null,null,null,null,null,null,null,null,null,null,null,null,null,null,{"$f":"AP$46","v":0.6},0.58730484245989634,0.5819434430964423,0.57604812935946159,0.55936589604833153]
[]
[null,null,null,null,"Opening net debt",null,"£m nominal",null,null,null,null,null,null,null,null,null,null,null,null,null,null,null,null,null,null,null,null,null,null,null,null,null,null,null,null,null,null,null,null,null,null,null,{"$f":"AP277","v":0},{"$f":"AQ277","v":0},{"$f":"AR277","v":0},{"$f":"AS277","v":0}]
[null,null,null,null,"Transfer from core net debt",null,"£m nominal",null,null,null,null,null,null,null,null,null,null,null,null,null,null,null,null,null,null,null,null,null,null,null,null,null,null,null,null,null,null,null,null,null,null,null,{"$f":"AQ271-AQ269","v":0},0,0,0]
[null,null,null,null,"Opening net debt after transfer",null,"£m nominal",null,null,null,null,null,null,null,null,null,null,null,null,null,null,null,null,null,null,null,null,null,null,null,null,null,null,null,null,null,null,null,null,null,null,{"$f":"-AP267 * (AP215 - AP224) * Input!AO$191","v":0},{"$f":"-AQ267 * (AQ215 - AQ224) * Input!AP$191","v":0},{"$f":"-AR267 * (AR215 - AR224) * Input!AQ$191","v":0},{"$f":"-AS267 * (AS215 - AS224) * Input!AR$191","v":0},{"$f":"-AT267 * (AT215 - AT224) * Input!AS$191","v":0}]
[null,null,null,null,"Less capex",null,"£m nominal",null,null,null,null,null,null,null,null,null,null,null,null,null,null,null,null,null,null,null,null,null,null,null,null,null,null,null,null,null,null,null,null,null,null,{"$f":"-AP216 * TOpf","v":0},0,0,0,0]
[null,null,null,null,"Less dividends",null,"£m nominal",null,null,null,null,null,null,null,null,null,null,null,null,null,null,null,null,null,null,null,null,null,null,null,null,null,null,null,null,null,null,null,null,null,null,{"$f":"-AP231 * (1 - AP267) * AP$49 * TOpf","v":0},0,0,0,0]
[null,null,null,null,"Closing net debt (before interest and tax)",null,"£m nominal",null,null,null,null,null,null,null,null,null,null,null,null,null,null,null,null,null,null,null,null,null,null,null,null,null,null,null,null,null,null,null,null,null,null,{"$f":"SUM(AP271:AP273)","v":0},0,0,0,0]
[null,null,null,null,"Less net interest paid (excluding principal inflation accretion)",null,"£m nominal",null,null,null,null,null,null,null,null,null,null,null,null,null,null,null,null,null,null,null,null,null,null,null,null,null,null,null,null,null,null,null,null,null,null,{"$f":"((AP271 + AP274) / 2) * AP$47 * (1 - AP$48)","v":0},0,0,0,0]
[null,null,null,null,"Less net interest paid (principal inflation accretion)",null,"£m nominal",null,null,null,null,null,null,null,null,null,null,null,null,null,null,null,null,null,null,null,null,null,null,null,null,null,null,null,null,null,null,null,null,null,null,{"$f":"((AP271 + AP274) / 2) * AP$47 * AP$48","v":0},0,0,0,0]
[null,null,null,null,"Closing net debt",null,"£m nominal",null,null,null,null,null,null,null,null,null,null,null,null,null,null,null,null,null,null,null,null,null,null,null,null,null,null,null,null,null,null,null,null,null,null,{"$f":"SUM(AP274:AP276)","v":0},0,0,0,0]
[]
[null,"Hornsea"]
[]
[null,null,"Project specific inputs"]
[]
[null,null,null,null,"Asset transfer",null,"year ending",null,{"$f":"Input!I547","v":"2018-03-31"}]
[]
[null,null,null,null,"Deemed cost",null,"£m 18/19 prices",null,null,">",null,null,null,null,null,null,null,null,null,null,null,{"$f":"Input!V562","v":0},{"$f":"Input!W562","v":0},{"$f":"Input!X562","v":0},{"$f":"Input!Y562","v":0},{"$f":"Input!Z562","v":0},{"$f":"Input!AA562","v":0},{"$f":"Input!AB562","v":3.0422888981478597},{"$f":"Input!AC562","v":12.17178165120011},{"$f":"Input!AD562","v":0},{"$f":"Input!AE562","v":0},{"$f":"Input!AF562","v":0},{"$f":"Input!AG562","v":0}]
[]
[null,null,null,null,"Pre-RIIO actual cost",null,"£m 18/19 prices",null,null,">",null,null,null,null,null,null,null,null,null,null,null,{"$f":"Input!V568","v":0},{"$f":"Input!W568","v":0},{"$f":"Input!X568","v":0},{"$f":"Input!Y568","v":0},{"$f":"Input!Z568","v":0},{"$f":"Input!AA568","v":0},{"$f":"Input!AB568","v":0},{"$f":"Input!AC568","v":0},{"$f":"Input!AD568","v":0},{"$f":"Input!AE568","v":0},{"$f":"Input!AF568","v":0},{"$f":"Input!AG568","v":0}]
[null,null,null,null,"Post-RIIO actual cost",null,"£m 18/19 prices",null,null,">"]
[null,null,null,null,"Actual cost",null,null,null,null,null,null,null,null,null,null,null,null,null,null,null,null,{"$f":"SUM(V287:V288)","v":0},0,0,0,0,0,0,0,0,0,0,0,0,0,0,0,0,0,0,0,0,0,0,0,0]
[]
[null,null,"RAV"]
[]
[null,null,null,"Deemed cost"]
[]
[null,null,null,null,"Opening balance brought forward",null,"£m 18/19 prices",null,null,">",null,null,null,null,null,null,null,null,null,null,null,0,{"$f":"V300","v":0},0,0,0,0,0,3.0422888981478597,15.214070549347969,15.214070549347969,15.214070549347969,15.214070549347969,15.214070549347969,15.214070549347969,15.214070549347969,15.214070549347969,15.214070549347969,0,0,0,{"$f":"AO300","v":0},{"$f":"AP300","v":0},{"$f":"AQ300","v":0},{"$f":"AR300","v":0},{"$f":"AS300","v":0}]
[null,null,null,null,"Transfer",null,"£m 18/19 prices",null,null,">",null,null,null,null,null,null,null,null,null,null,null,{"$f":"IF(V$4 = $I283, -V295, 0)","v":0},0,0,0,0,0,0,0,0,0,0,0,0,0,0,0,-15.214070549347969,0,0,0,{"$f":"IF(AP$4 = $I283, -AP295, 0)","v":0},0,0,0,0]
[null,null,null,null,"Opening balance after transfers",null,"£m 18/19 prices",null,null,">",null,null,null,null,null,null,null,null,null,null,null,{"$f":"SUM(V295:V296)","v":0},0,0,0,0,0,0,3.0422888981478597,15.214070549347969,15.214070549347969,15.214070549347969,15.214070549347969,15.214070549347969,15.214070549347969,15.214070549347969,15.214070549347969,0,0,0,0,{"$f":"SUM(AP295:AP296)","v":0},0,0,0,0]
[null,null,null,null,"Net additions (after disposals)",null,"£m 18/19 prices",null,null,">",null,null,null,null,null,null,null,null,null,null,null,{"$f":"V285","v":0},{"$f":"W285","v":0},0,0,0,0,3.0422888981478597,12.17178165120011,0,0,0,0,0,0,0,0,0,0,0,0,{"$f":"AP285","v":0},0,0,0,0]
[null,null,null,null,"Removals",null,"£m 18/19 prices"]
[null,null,null,null,"Balance carried forward",null,"£m 18/19 prices",null,null,">",null,null,null,null,null,null,null,null,null,null,null,{"$f":"V297 + V298 - V299","v":0},0,0,0,0,0,3.0422888981478597,15.214070549347969,15.214070549347969,15.214070549347969,15.214070549347969,15.214070549347969,15.214070549347969,15.214070549347969,15.214070549347969,15.214070549347969,0,0,0,0,{"$f":"AP297 + AP298 - AP299","v":0},0,0,0,0]
[]
[null,null,null,"Deemed accumulated depreciation"]
[]
[null,null,null,null,"Opening balance brought forward",null,"£m 18/19 prices",null,null,">",null,null,null,null,null,null,null,null,null,null,null,0,{"$f":"V309","v":0},{"$f":"W309","v":0},0,0,0,0,0,6.7606419958841327E-2,0.40569687661101839,0.74378733326319546,1.0818777899153726,1.4199682465675498,1.758058703219727,2.0961491598719042,2.4342396165240814,2.7723300731762586,0,0,0,{"$f":"AO309","v":0},{"$f":"AP309","v":0},{"$f":"AQ309","v":0},{"$f":"AR309","v":0},{"$f":"AS309","v":0}]
[null,null,null,null,"Transfer",null,"£m 18/19 prices",null,null,">",null,null,null,null,null,null,null,null,null,null,null,{"$f":"IF(V$4 = $I283, -V304, 0)","v":0},0,0,0,0,0,0,0,0,0,0,0,0,0,0,0,-2.7723300731762586,0,0,0,{"$f":"IF(AP$4 = $I283, -AP304, 0)","v":0},0,0,0,0]
[null,null,null,null,"Opening balance after transfers",null,"£m 18/19 prices",null,null,">",null,null,null,null,null,null,null,null,null,null,null,{"$f":"SUM(V304:V305)","v":0},0,0,0,0,0,0,0,6.7606419958841327E-2,0.40569687661101839,0.74378733326319546,1.0818777899153726,1.4199682465675498,1.758058703219727,2.0961491598719042,2.4342396165240814,0,0,0,0,{"$f":"SUM(AP304:AP305)","v":0},0,0,0,0]
[null,null,null,null,"Regulatory depreciation",null,"£m 18/19 prices",null,null,">",null,null,null,null,null,null,null,null,null,null,null,{"$f":"V297/V$42","v":0},{"$f":"W297/W$42","v":0},0,0,0,0,0,6.7606419958841327E-2,0.33809045665217707,0.33809045665217707,0.33809045665217707,0.33809045665217707,0.33809045665217707,0.33809045665217707,0.33809045665217707,0.33809045665217707,0,0,0,0,{"$f":"AP297/AP$42","v":0},0,0,0,0]
[null,null,null,null,"Removals",null,"£m 18/19 prices",null,null,">"]
[null,null,null,null,"Closing value carried forward",null,"£m 18/19 prices",null,null,">",null,null,null,null,null,null,null,null,null,null,null,{"$f":"V306 + V307 - V308","v":0},0,0,0,0,0,0,6.7606419958841327E-2,0.40569687661101839,0.74378733326319546,1.0818777899153726,1.4199682465675498,1.758058703219727,2.0961491598719042,2.4342396165240814,2.7723300731762586,0,0,0,0,{"$f":"AP306 + AP307 - AP308","v":0},0,0,0,0]
[]
[null,null,null,"Deemed asset balance"]
[]
[null,null,null,null,"Net value after regulatory depreciation",null,"£m 18/19 prices",null,null,">",null,null,null,null,null,null,null,null,null,null,null,{"$f":"V300-V309","v":0},0,0,0,0,0,3.0422888981478597,15.146464129389129,14.80837367273695,{"$f":"AE300-AE309","v":14.470283216084773},{"$f":"AF300-AF309","v":14.132192759432597},13.79410230278042,13.456011846128241,13.117921389476065,12.779830932823888,12.441740476171711,0,0,0,0,{"$f":"AP300-AP309","v":0},0,0,0,0]
[]
[null,null,null,"Actual cost"]
[]
[null,null,null,null,"Opening balance brought forward",null,"£m 18/19 prices",null,null,">",null,null,null,null,null,null,null,null,null,null,null,0,{"$f":"V322","v":0},0,0,0,0,0,0,0,0,0,0,15.214070549347969,15.214070549347969,15.214070549347969,15.214070549347969,15.214070549347969,0,0,0,{"$f":"AO322","v":0},{"$f":"AP322","v":0},{"$f":"AQ322","v":0},{"$f":"AR322","v":0},{"$f":"AS322","v":0}]
[null,null,null,null,"Transfer",null,"£m 18/19 prices",null,null,">",null,null,null,null,null,null,null,null,null,null,null,{"$f":"IF(V$4 = $I283, -V317, IF(YEAR(V$4) = 2013, V295 - V317, IF( YEAR(V$4) > YEAR($I283), -V317, 0)))","v":0},0,0,0,0,0,0,0,0,0,0,15.214070549347969,0,0,0,0,-15.214070549347969,0,0,0,{"$f":"IF(AP$4 = $I283, -AP317, IF(YEAR(AP$4) = 2013, AP295 - AP317, IF( YEAR(AP$4) > YEAR($I283), -AP317, 0)))","v":0},0,0,0,0]
[null,null,null,null,"Opening balance after transfers",null,"£m 18/19 prices",null,null,">",null,null,null,null,null,null,null,null,null,null,null,{"$f":"SUM(V317:V318)","v":0},0,0,0,0,0,0,0,0,0,0,{"$f":"SUM(AG317:AG318)","v":15.214070549347969},15.214070549347969,15.214070549347969,15.214070549347969,15.214070549347969,0,0,0,0,{"$f":"SUM(AP317:AP318)","v":0},0,0,0,0]
[null,null,null,null,"Net additions (after disposals)",null,"£m 18/19 prices",null,null,">",null,null,null,null,null,null,null,null,null,null,null,{"$f":"V289","v":0},{"$f":"W289","v":0},0,0,0,0,0,0,0,0,0,0,0,0,0,0,0,0,0,0,{"$f":"AP289","v":0},0,0,0,0]
[null,null,null,null,"Removals",null,"£m 18/19 prices"]
[null,null,null,null,"Balance carried forward",null,"£m 18/19 prices",null,null,">",null,null,null,null,null,null,null,null,null,null,null,{"$f":"V319 + V320 - V321","v":0},0,0,0,0,0,0,0,0,0,0,15.214070549347969,15.214070549347969,15.214070549347969,15.214070549347969,15.214070549347969,0,0,0,0,{"$f":"AP319 + AP320 - AP321","v":0},0,0,0,0]
[]
[null,null,null,"Actual accumulated depreciation"]
[]
[null,null,null,null,"Opening balance brought forward",null,"£m 18/19 prices",null,null,">",null,null,null,null,null,null,null,null,null,null,null,0,{"$f":"V331","v":0},0,0,0,0,0,0,0,0,0,0,1.4199682465675498,1.758058703219727,2.0961491598719042,2.4342396165240814,2.7723300731762586,0,0,0,{"$f":"AO331","v":0},{"$f":"AP331","v":0},{"$f":"AQ331","v":0},{"$f":"AR331","v":0},{"$f":"AS331","v":0}]
[null,null,null,null,"Transfer",null,"£m 18/19 prices",null,null,">",null,null,null,null,null,null,null,null,null,null,null,{"$f":"IF(V$4 = $I283, -V326,IF(YEAR(V$4) = 2013, V304 - V326,0))","v":0},0,0,0,0,0,0,0,0,0,0,1.0818777899153726,0,0,0,0,-2.7723300731762586,0,0,0,{"$f":"IF(AP$4 = $I283, -AP326,IF(YEAR(AP$4) = 2013, AP304 - AP326,0))","v":0},0,0,0,0]
[null,null,null,null,"Opening balance after transfers",null,"£m 18/19 prices",null,null,">",null,null,null,null,null,null,null,null,null,null,null,{"$f":"SUM(V326:V327)","v":0},0,0,0,0,0,0,0,0,0,0,1.0818777899153726,1.4199682465675498,1.758058703219727,2.0961491598719042,2.4342396165240814,0,0,0,0,{"$f":"SUM(AP326:AP327)","v":0},0,0,0,0]
[null,null,null,null,"Regulatory depreciation",null,"£m 18/19 prices",null,null,">",null,null,null,null,null,null,null,null,null,null,null,{"$f":"V319/V$42","v":0},{"$f":"W319/W$42","v":0},0,0,0,0,0,0,0,0,0,0.33809045665217707,0.33809045665217707,0.33809045665217707,0.33809045665217707,0.33809045665217707,0,0,0,0,{"$f":"AP319/AP$42","v":0},0,0,0,0]
[null,null,null,null,"Removals",null,"£m 18/19 prices",null,null,">"]
[null,null,null,null,"Closing value carried forward",null,"£m 18/19 prices",null,null,">",null,null,null,null,null,null,null,null,null,null,null,{"$f":"V328 + V329 - V330","v":0},{"$f":"W328 + W329 - W330","v":0},0,0,0,0,0,0,0,0,0,1.4199682465675498,1.758058703219727,2.0961491598719042,2.4342396165240814,2.7723300731762586,0,0,0,0,{"$f":"AP328 + AP329 - AP330","v":0},0,0,0,0]
[]
[null,null,null,"Actual asset balance"]
[]
[null,null,null,null,"Net value after regulatory depreciation",null,"£m 18/19 prices",null,null,">",null,null,null,null,null,null,null,null,null,null,null,{"$f":"V322 - V331","v":0},0,0,0,0,0,0,0,0,0,0,13.79410230278042,13.456011846128241,13.117921389476065,12.779830932823888,12.441740476171711,0,0,0,0,{"$f":"AP322 - AP331","v":0},0,0,0,0]
[]
[null,null,"Capital allowances"]
[]
[null,null,null,"General pool"]
[]
[null,null,null,null,"General pool capital allowance rate",null,"%",null,null,">",null,null,null,null,null,null,null,null,null,null,null,{"$f":"V$43","v":0.25},{"$f":"W$43","v":0.25},0.25,0.25,0.25,0.25,0.25,0.2,0.2,0.2,0.2,0.18000000000000002,0.18000000000000002,0.18000000000000002,0.18000000000000002,0.18000000000000002,0.18000000000000002,0.18000000000000002,0.18000000000000002,0.18000000000000002,0.18,0.18,0.18,0.18,0.18]
[]
[null,null,null,null,"Opening balance brought forward",null,"£m nominal",null,null,">",null,null,null,null,null,null,null,null,null,null,null,0,{"$f":"V348","v":0},0,0,0,0,0,0,0,0,0,0,0,0,0,0,0,0,0,0,{"$f":"AO348","v":0},{"$f":"AP348","v":0},{"$f":"AQ348","v":0},{"$f":"AR348","v":0},{"$f":"AS348","v":0}]
[null,null,null,null,"Transfer",null,"£m nominal",null,null,">",null,null,null,null,null,null,null,null,null,null,null,{"$f":"IF(V$4 >= $I283, -V343, 0)","v":0},0,0,0,0,0,0,0,0,0,0,0,0,0,0,0,0,0,0,0,{"$f":"IF(AP$4 >= $I283, -AP343, 0)","v":0},0,0,0,0]
[null,null,null,null,"Capex additions",null,"£m nominal",null,null,">",null,null,null,null,null,null,null,null,null,null,null,{"$f":"(V320 * V$53) * TOpf","v":0},0,0,0,0,0,0,0,0,0,0,0,0,0,0,0,0,0,0,0,0,0,0,0,0]
[null,null,null,null,"Tax book value pre-depreciation",null,"£m nominal",null,null,">",null,null,null,null,null,null,null,null,null,null,null,{"$f":"SUM(V343:V345)","v":0},0,0,0,0,0,0,{"$f":"SUM(AC343:AC345)","v":0},0,0,0,0,0,0,0,0,0,0,0,0,{"$f":"SUM(AP343:AP345)","v":0},0,0,0,0]
[null,null,null,null,"General pool capital allowance",null,"£m nominal",null,null,">",null,null,null,null,null,null,null,null,null,null,null,{"$f":"-V346*V341","v":0},0,0,0,0,0,0,0,0,0,0,0,0,0,0,0,0,0,0,0,{"$f":"-AP346*AP341","v":0},0,0,0,0]
[null,null,null,null,"Closing balance carried forward",null,null,null,null,">",null,null,null,null,null,null,null,null,null,null,null,{"$f":"SUM(V346:V347)","v":0},{"$f":"SUM(W346:W347)","v":0},0,0,0,0,0,0,0,0,0,0,0,0,0,0,0,0,0,0,{"$f":"SUM(AP346:AP347)","v":0},0,0,0,0]
[]
[null,null,null,"Special Rates"]
[]
[null,null,null,null,"Special Rate capital allowance rate",null,"%",null,null,">",null,null,null,null,null,null,null,null,null,null,null,{"$f":"V$44","v":0.06},{"$f":"W$44","v":0.06},0.06,0.06,0.06,0.06,0.06,0.1,0.1,0.1,0.1,0.08,0.08,0.08,0.08,0.08,0.08,0.08,0.06,0.06,0.06,0.06,0.06,0.06,0.06]
[]
[null,null,null,null,"Opening balance brought forward",null,"£m nominal",null,null,">",null,null,null,null,null,null,null,null,null,null,null,0,{"$f":"V359","v":0},0,0,0,0,0,0,0,0,0,0,0,0,0,0,0,0,0,0,{"$f":"AO359","v":0},{"$f":"AP359","v":0},{"$f":"AQ359","v":0},{"$f":"AR359","v":0},{"$f":"AS359","v":0}]
[null,null,null,null,"Transfer",null,"£m nominal",null,null,">",null,null,null,null,null,null,null,null,null,null,null,{"$f":"IF(V$4 >= $I283,-V354,0)","v":0},0,0,0,0,0,0,0,0,0,0,0,0,0,0,0,0,0,0,0,{"$f":"IF(AP$4 >= $I283,-AP354,0)","v":0},0,0,0,0]
[null,null,null,null,"Capex additions",null,"£m nominal",null,null,">",null,null,null,null,null,null,null,null,null,null,null,{"$f":"(V320 * V$54) * TOpf","v":0},0,0,0,0,0,0,0,0,0,0,0,0,0,0,0,0,0,0,0,0,0,0,0,0]
[null,null,null,null,"Tax book value pre-depreciation",null,"£m nominal",null,null,">",null,null,null,null,null,null,null,null,null,null,null,{"$f":"SUM(V354:V356)","v":0},0,0,0,0,0,0,{"$f":"SUM(AC354:AC356)","v":0},0,0,0,0,0,0,0,0,0,0,0,0,{"$f":"SUM(AP354:AP356)","v":0},0,0,0,0]
[null,null,null,null,"Special Rate capital allowance",null,"£m nominal",null,null,">",null,null,null,null,null,null,null,null,null,null,null,{"$f":"-V357*V352","v":0},0,0,0,0,0,0,0,0,0,0,0,0,0,0,0,0,0,0,0,{"$f":"-AP357*AP352","v":0},0,0,0,0]
[null,null,null,null,"Closing balance carried forward",null,null,null,null,">",null,null,null,null,null,null,null,null,null,null,null,{"$f":"SUM(V357:V358)","v":0},{"$f":"SUM(W357:W358)","v":0},0,0,0,0,0,0,0,0,0,0,0,0,0,0,0,0,0,0,{"$f":"SUM(AP357:AP358)","v":0},0,0,0,0]
[]
[null,null,"Revenue pool"]
[]
[null,null,null,null,"Revenue pool additions",null,"£m nominal",null,null,">",null,null,null,null,null,null,null,null,null,null,null,{"$f":"(V320 * V$55) * TOpf","v":0},0,0,0,0,0,0,0,0,0,0,0,0,0,0,0,0,0,0,0,0,0,0,0,0]
[]
[null,null,"Non-qualifying pool"]
[]
[null,null,null,null,"Non-qualifying expenditure",null,"£m nominal",null,null,">",null,null,null,null,null,null,null,null,null,null,null,{"$f":"(V320 * V$56) * TOpf","v":0},0,0,0,0,0,0,0,0,0,0,0,0,0,0,0,0,0,0,0,0,0,0,0,0]
[]
[null,null,"Net debt"]
[]
[null,null,null,null,"Overall gearing after equity issuance",null,"%",null,null,null,null,null,null,null,null,null,null,null,null,null,null,null,null,null,null,null,null,null,null,null,null,null,null,null,null,null,null,null,null,null,null,{"$f":"AP$46","v":0.6},0.58730484245989634,0.5819434430964423,0.57604812935946159,0.55936589604833153]
[]
[null,null,null,null,"Opening net debt",null,"£m nominal",null,null,null,null,null,null,null,null,null,null,null,null,null,null,null,null,null,null,null,null,null,null,null,null,null,null,null,null,null,null,null,null,null,null,null,{"$f":"AP381","v":0},{"$f":"AQ381","v":0},{"$f":"AR381","v":0},{"$f":"AS381","v":0}]
[null,null,null,null,"Transfer from core net debt",null,"£m nominal",null,null,null,null,null,null,null,null,null,null,null,null,null,null,null,null,null,null,null,null,null,null,null,null,null,null,null,null,null,null,null,null,null,null,null,{"$f":"AQ375-AQ373","v":0},0,0,0]
[null,null,null,null,"Opening net debt after transfer",null,"£m nominal",null,null,null,null,null,null,null,null,null,null,null,null,null,null,null,null,null,null,null,null,null,null,null,null,null,null,null,null,null,null,null,null,null,null,{"$f":"-AP371 * (AP319 - AP328) * Input!AO$191","v":0},{"$f":"-AQ371 * (AQ319 - AQ328) * Input!AP$191","v":0},{"$f":"-AR371 * (AR319 - AR328) * Input!AQ$191","v":0},{"$f":"-AS371 * (AS319 - AS328) * Input!AR$191","v":0},{"$f":"-AT371 * (AT319 - AT328) * Input!AS$191","v":0}]
[null,null,null,null,"Less capex",null,"£m nominal",null,null,null,null,null,null,null,null,null,null,null,null,null,null,null,null,null,null,null,null,null,null,null,null,null,null,null,null,null,null,null,null,null,null,{"$f":"-AP320 * TOpf","v":0},0,0,0,0]
[null,null,null,null,"Less dividends",null,"£m nominal",null,null,null,null,null,null,null,null,null,null,null,null,null,null,null,null,null,null,null,null,null,null,null,null,null,null,null,null,null,null,null,null,null,null,{"$f":"-AP335 * (1 - AP371) * AP$49 * TOpf","v":0},0,0,0,0]
[null,null,null,null,"Closing net debt (before interest and tax)",null,"£m nominal",null,null,null,null,null,null,null,null,null,null,null,null,null,null,null,null,null,null,null,null,null,null,null,null,null,null,null,null,null,null,null,null,null,null,{"$f":"SUM(AP375:AP377)","v":0},0,0,0,0]
[null,null,null,null,"Less net interest paid (excluding principal inflation accretion)",null,"£m nominal",null,null,null,null,null,null,null,null,null,null,null,null,null,null,null,null,null,null,null,null,null,null,null,null,null,null,null,null,null,null,null,null,null,null,{"$f":"((AP375 + AP378) / 2) * AP$47 * (1 - AP$48)","v":0},0,0,0,0]
[null,null,null,null,"Less net interest paid (principal inflation accretion)",null,"£m nominal",null,null,null,null,null,null,null,null,null,null,null,null,null,null,null,null,null,null,null,null,null,null,null,null,null,null,null,null,null,null,null,null,null,null,{"$f":"((AP375 + AP378) / 2) * AP$47 * AP$48","v":0},0,0,0,0]
[null,null,null,null,"Closing net debt",null,"£m nominal",null,null,null,null,null,null,null,null,null,null,null,null,null,null,null,null,null,null,null,null,null,null,null,null,null,null,null,null,null,null,null,null,null,null,{"$f":"SUM(AP378:AP380)","v":0},0,0,0,0]
[]
[null,"Fleetwood"]
[]
[null,null,"Project specific inputs"]
[]
[null,null,null,null,"Asset transfer",null,"year ending",null,{"$f":"Input!I548","v":"2018-03-31"}]
[]
[null,null,null,null,"Deemed cost",null,"£m 18/19 prices",null,null,">",null,null,null,null,null,null,null,null,null,null,null,{"$f":"Input!V563","v":0},{"$f":"Input!W563","v":0},{"$f":"Input!X563","v":0},{"$f":"Input!Y563","v":0},{"$f":"Input!Z563","v":0},{"$f":"Input!AA563","v":0},{"$f":"Input!AB563","v":0},{"$f":"Input!AC563","v":59.405384816099961},{"$f":"Input!AD563","v":237.62285229370417},{"$f":"Input!AE563","v":0},{"$f":"Input!AF563","v":0},{"$f":"Input!AG563","v":0}]
[]
[null,null,null,null,"Pre-RIIO actual cost",null,"£m 18/19 prices",null,null,">",null,null,null,null,null,null,null,null,null,null,null,{"$f":"Input!V569","v":0},{"$f":"Input!W569","v":0},{"$f":"Input!X569","v":0},{"$f":"Input!Y569","v":0},{"$f":"Input!Z569","v":0},{"$f":"Input!AA569","v":0.40307563454308126},{"$f":"Input!AB569","v":9.9712881523861085},{"$f":"Input!AC569","v":0.9301891039222363},{"$f":"Input!AD569","v":2.0446987207874052},{"$f":"Input!AE569","v":-8.6315262082051411E-2},{"$f":"Input!AF569","v":5.9683569305647192E-3},{"$f":"Input!AG569","v":0}]
[null,null,null,null,"Post-RIIO cost",null,"£m 18/19 prices",null,null,">",null,null,null,null,null,null,null,null,null,null,null,null,null,null,null,null,null,null,null,null,null,null,null,{"$f":"Input!AH581","v":0},{"$f":"Input!AI581","v":0},{"$f":"Input!AJ581","v":0},{"$f":"Input!AK581","v":0},{"$f":"Input!AL581","v":0},{"$f":"Input!AM581","v":0},{"$f":"Input!AN581","v":0},{"$f":"Input!AO581","v":0},{"$f":"Input!AP581","v":0},{"$f":"Input!AQ581","v":0},{"$f":"Input!AR581","v":0},{"$f":"Input!AS581","v":0},{"$f":"Input!AT581","v":0}]
[null,null,null,null,"Actual cost",null,null,null,null,null,null,null,null,null,null,null,null,null,null,null,null,{"$f":"SUM(V391:V392)","v":0},{"$f":"SUM(W391:W392)","v":0},0,0,0,0.40307563454308126,9.9712881523861085,0.9301891039222363,2.0446987207874052,-8.6315262082051411E-2,5.9683569305647192E-3,0,0,0,0,0,0,0,0,0,{"$f":"SUM(AP391:AP392)","v":0},0,0,0,0]
[]
[null,null,"RAV"]
[]
[null,null,null,"Deemed cost"]
[]
[null,null,null,null,"Opening balance brought forward",null,"£m 18/19 prices",null,null,">",null,null,null,null,null,null,null,null,null,null,null,0,{"$f":"V404","v":0},0,0,0,0,0,0,59.405384816099961,297.02823710980414,297.02823710980414,297.02823710980414,297.02823710980414,297.02823710980414,297.02823710980414,297.02823710980414,297.02823710980414,0,0,0,{"$f":"AO404","v":0},{"$f":"AP404","v":0},{"$f":"AQ404","v":0},{"$f":"AR404","v":0},{"$f":"AS404","v":0}]
[null,null,null,null,"Transfer",null,"£m 18/19 prices",null,null,">",null,null,null,null,null,null,null,null,null,null,null,{"$f":"IF(V$4 = $I387, -V399, 0)","v":0},0,0,0,0,0,0,0,0,0,0,0,0,0,0,0,-297.02823710980414,0,0,0,{"$f":"IF(AP$4 = $I387, -AP399, 0)","v":0},0,0,0,0]
[null,null,null,null,"Opening balance after transfers",null,"£m 18/19 prices",null,null,">",null,null,null,null,null,null,null,null,null,null,null,{"$f":"SUM(V399:V400)","v":0},{"$f":"SUM(W399:W400)","v":0},0,0,0,0,0,0,59.405384816099961,297.02823710980414,297.02823710980414,297.02823710980414,297.02823710980414,297.02823710980414,297.02823710980414,297.02823710980414,0,0,0,0,{"$f":"SUM(AP399:AP400)","v":0},0,0,0,0]
[null,null,null,null,"Net additions (after disposals)",null,"£m 18/19 prices",null,null,">",null,null,null,null,null,null,null,null,null,null,null,{"$f":"V389","v":0},{"$f":"W389","v":0},0,0,0,0,0,59.405384816099961,237.62285229370417,0,0,0,0,0,0,0,0,0,0,0,{"$f":"AP389","v":0},0,0,0,0]
[null,null,null,null,"Removals",null,"£m 18/19 prices"]
[null,null,null,null,"Balance carried forward",null,"£m 18/19 prices",null,null,">",null,null,null,null,null,null,null,null,null,null,null,{"$f":"V401 + V402 - V403","v":0},0,0,0,0,0,0,59.405384816099961,297.02823710980414,297.02823710980414,297.02823710980414,297.02823710980414,297.02823710980414,297.02823710980414,297.02823710980414,297.02823710980414,0,0,0,0,{"$f":"AP401 + AP402 - AP403","v":0},0,0,0,0]
[]
[null,null,null,"Deemed accumulated depreciation"]
[]
[null,null,null,null,"Opening balance brought forward",null,"£m 18/19 prices",null,null,">",null,null,null,null,null,null,null,null,null,null,null,0,{"$f":"V413","v":0},0,0,0,0,0,0,0,1.3201196625799991,7.9207471539089793,14.521374645237959,21.122002136566941,27.72262962789592,34.323257119224898,40.923884610553877,47.524512101882856,0,0,0,{"$f":"AO413","v":0},{"$f":"AP413","v":0},{"$f":"AQ413","v":0},{"$f":"AR413","v":0},{"$f":"AS413","v":0}]
[null,null,null,null,"Transfer",null,"£m 18/19 prices",null,null,">",null,null,null,null,null,null,null,null,null,null,null,{"$f":"IF(V$4 = $I387, -V408, 0)","v":0},0,0,0,0,0,0,0,0,0,0,0,0,0,0,0,-47.524512101882856,0,0,0,{"$f":"IF(AP$4 = $I387, -AP408, 0)","v":0},0,0,0,0]
[null,null,null,null,"Opening balance after transfers",null,"£m 18/19 prices",null,null,">",null,null,null,null,null,null,null,null,null,null,null,{"$f":"SUM(V408:V409)","v":0},{"$f":"SUM(W408:W409)","v":0},0,0,0,0,0,0,0,1.3201196625799991,7.9207471539089793,14.521374645237959,21.122002136566941,27.72262962789592,34.323257119224898,40.923884610553877,0,0,0,0,{"$f":"SUM(AP408:AP409)","v":0},0,0,0,0]
[null,null,null,null,"Regulatory depreciation",null,"£m 18/19 prices",null,null,">",null,null,null,null,null,null,null,null,null,null,null,{"$f":"V401/V$42","v":0},{"$f":"W401/W$42","v":0},0,0,0,0,0,0,1.3201196625799991,6.6006274913289804,6.6006274913289804,6.6006274913289804,6.6006274913289804,6.6006274913289804,6.6006274913289804,6.6006274913289804,0,0,0,0,{"$f":"AP401/AP$42","v":0},0,0,0,0]
[null,null,null,null,"Removals",null,"£m 18/19 prices",null,null,">"]
[null,null,null,null,"Closing value carried forward",null,"£m 18/19 prices",null,null,">",null,null,null,null,null,null,null,null,null,null,null,{"$f":"V410 + V411 - V412","v":0},{"$f":"W410 + W411 - W412","v":0},0,0,0,0,0,0,1.3201196625799991,7.9207471539089793,14.521374645237959,21.122002136566941,27.72262962789592,34.323257119224898,40.923884610553877,47.524512101882856,0,0,0,0,{"$f":"AP410 + AP411 - AP412","v":0},0,0,0,0]
[]
[null,null,null,"Deemed asset balance"]
[]
[null,null,null,null,"Net value after regulatory depreciation",null,"£m 18/19 prices",null,null,">",null,null,null,null,null,null,null,null,null,null,null,{"$f":"V404-V413","v":0},0,0,0,0,0,0,59.405384816099961,295.70811744722414,{"$f":"AE404-AE413","v":289.10748995589518},{"$f":"AF404-AF413","v":282.50686246456615},275.90623497323719,269.30560748190823,262.70497999057926,256.10435249925024,249.50372500792128,0,0,0,0,{"$f":"AP404-AP413","v":0},0,0,0,0]
[]
[null,null,null,"Actual cost"]
[]
[null,null,null,null,"Opening balance brought forward",null,"£m 18/19 prices",null,null,">",null,null,null,null,null,null,null,null,null,null,null,0,{"$f":"V426","v":0},0,0,0,0,0.40307563454308126,10.374363786929189,11.304552890851426,13.349251611638831,13.26293634955678,13.268904706487344,297.02823710980414,297.02823710980414,297.02823710980414,297.02823710980414,297.02823710980414,0,0,0,{"$f":"AO426","v":0},{"$f":"AP426","v":0},{"$f":"AQ426","v":0},{"$f":"AR426","v":0},{"$f":"AS426","v":0}]
[null,null,null,null,"Transfer",null,"£m 18/19 prices",null,null,">",null,null,null,null,null,null,null,null,null,null,null,{"$f":"IF(V$4 = $I387, -V421, IF(YEAR(V$4) = 2013, V399 - V421, IF( YEAR(V$4) > YEAR($I387), -V421, 0)))","v":0},0,0,0,0,0,0,0,0,0,0,283.75933240331682,0,0,0,0,-297.02823710980414,0,0,0,{"$f":"IF(AP$4 = $I387, -AP421, IF(YEAR(AP$4) = 2013, AP399 - AP421, IF( YEAR(AP$4) > YEAR($I387), -AP421, 0)))","v":0},0,0,0,0]
[null,null,null,null,"Opening balance after transfers",null,"£m 18/19 prices",null,null,">",null,null,null,null,null,null,null,null,null,null,null,{"$f":"SUM(V421:V422)","v":0},0,0,0,0,0,0.40307563454308126,10.374363786929189,11.304552890851426,13.349251611638831,13.26293634955678,{"$f":"SUM(AG421:AG422)","v":297.02823710980414},{"$f":"SUM(AH421:AH422)","v":297.02823710980414},297.02823710980414,297.02823710980414,297.02823710980414,0,0,0,0,{"$f":"SUM(AP421:AP422)","v":0},0,0,0,0]
[null,null,null,null,"Net additions (after disposals)",null,"£m 18/19 prices",null,null,">",null,null,null,null,null,null,null,null,null,null,null,{"$f":"V393","v":0},{"$f":"W393","v":0},0,0,0,0.40307563454308126,9.9712881523861085,0.9301891039222363,2.0446987207874052,-8.6315262082051411E-2,5.9683569305647192E-3,0,0,0,0,0,0,0,0,0,{"$f":"AP393","v":0},0,0,0,0]
[null,null,null,null,"Removals",null,"£m 18/19 prices"]
[null,null,null,null,"Balance carried forward",null,"£m 18/19 prices",null,null,">",null,null,null,null,null,null,null,null,null,null,null,{"$f":"V423 + V424 - V425","v":0},0,0,0,0,0.40307563454308126,10.374363786929189,11.304552890851426,13.349251611638831,13.26293634955678,13.268904706487344,297.02823710980414,297.02823710980414,297.02823710980414,297.02823710980414,297.02823710980414,0,0,0,0,{"$f":"AP423 + AP424 - AP425","v":0},0,0,0,0]
[]
[null,null,null,"Actual accumulated depreciation"]
[]
[null,null,null,null,"Opening balance brought forward",null,"£m 18/19 prices",null,null,">",null,null,null,null,null,null,null,null,null,null,null,0,{"$f":"V435","v":0},0,0,0,0,0,8.9572363231795842E-3,0.2394986538104949,0.49071094027385992,0.78736097608805622,1.0820928949670958,21.122002136566941,27.72262962789592,34.323257119224898,40.923884610553877,47.524512101882856,0,0,0,{"$f":"AO435","v":0},{"$f":"AP435","v":0},{"$f":"AQ435","v":0},{"$f":"AR435","v":0},{"$f":"AS435","v":0}]
[null,null,null,null,"Transfer",null,"£m 18/19 prices",null,null,">",null,null,null,null,null,null,null,null,null,null,null,{"$f":"IF(V$4 = $I387, -V430,IF(YEAR(V$4) = 2013, V408 - V430,0))","v":0},0,0,0,0,0,0,0,0,0,0,13.439281750270863,0,0,0,0,-47.524512101882856,0,0,0,{"$f":"IF(AP$4 = $I387, -AP430,IF(YEAR(AP$4) = 2013, AP408 - AP430,0))","v":0},0,0,0,0]
[null,null,null,null,"Opening balance after transfers",null,"£m 18/19 prices",null,null,">",null,null,null,null,null,null,null,null,null,null,null,{"$f":"SUM(V430:V431)","v":0},0,0,0,0,0,0,8.9572363231795842E-3,0.2394986538104949,0.49071094027385992,0.78736097608805622,14.521374645237959,21.122002136566941,27.72262962789592,34.323257119224898,40.923884610553877,0,0,0,0,{"$f":"SUM(AP430:AP431)","v":0},0,0,0,0]
[null,null,null,null,"Regulatory depreciation",null,"£m 18/19 prices",null,null,">",null,null,null,null,null,null,null,null,null,null,null,{"$f":"V423/V$42","v":0},{"$f":"W423/W$42","v":0},0,0,0,0,8.9572363231795842E-3,0.23054141748731533,0.25121228646336502,0.29665003581419624,0.29473191887903955,6.6006274913289804,6.6006274913289804,6.6006274913289804,6.6006274913289804,6.6006274913289804,0,0,0,0,{"$f":"AP423/AP$42","v":0},0,0,0,0]
[null,null,null,null,"Removals",null,"£m 18/19 prices",null,null,">"]
[null,null,null,null,"Closing value carried forward",null,"£m 18/19 prices",null,null,">",null,null,null,null,null,null,null,null,null,null,null,{"$f":"V432 + V433 - V434","v":0},{"$f":"W432 + W433 - W434","v":0},0,0,0,0,8.9572363231795842E-3,0.2394986538104949,0.49071094027385992,0.78736097608805622,1.0820928949670958,21.122002136566941,27.72262962789592,34.323257119224898,40.923884610553877,47.524512101882856,0,0,0,0,{"$f":"AP432 + AP433 - AP434","v":0},0,0,0,0]
[]
[null,null,null,"Actual asset balance"]
[]
[null,null,null,null,"Net value after regulatory depreciation",null,"£m 18/19 prices",null,null,">",null,null,null,null,null,null,null,null,null,null,null,{"$f":"V426 - V435","v":0},0,0,0,0,0.40307563454308126,10.365406550606009,11.065054237040931,12.85854067136497,12.475575373468724,12.186811811520249,275.90623497323719,269.30560748190823,262.70497999057926,256.10435249925024,249.50372500792128,0,0,0,0,{"$f":"AP426 - AP435","v":0},0,0,0,0]
[]
[null,null,"Capital allowances"]
[]
[null,null,null,"General pool"]
[]
[null,null,null,null,"General pool capital allowance rate",null,"%",null,null,">",null,null,null,null,null,null,null,null,null,null,null,{"$f":"V$43","v":0.25},{"$f":"W$43","v":0.25},0.25,0.25,0.25,0.25,0.25,0.2,0.2,0.2,0.2,0.18000000000000002,0.18000000000000002,0.18000000000000002,0.18000000000000002,0.18000000000000002,0.18000000000000002,0.18000000000000002,0.18000000000000002,0.18000000000000002,0.18,0.18,0.18,0.18,0.18]
[]
[null,null,null,null,"Opening balance brought forward",null,"£m nominal",null,null,">",null,null,null,null,null,null,null,null,null,null,null,0,{"$f":"V452","v":0},0,0,0,0,4.0612445942241632E-3,0.10766328853078941,9.6849675100899257E-2,0.10114972146246301,7.9870978565988307E-2,6.3972782751629931E-2,5.2457681856336542E-2,4.3015299122195962E-2,3.5272545280200684E-2,2.8923487129764561E-2,2.371725944640694E-2,0,0,0,{"$f":"AO452","v":0},{"$f":"AP452","v":0},{"$f":"AQ452","v":0},{"$f":"AR452","v":0},{"$f":"AS452","v":0}]
[null,null,null,null,"Transfer",null,"£m nominal",null,null,">",null,null,null,null,null,null,null,null,null,null,null,{"$f":"IF(V$4 >= $I387, -V447, 0)","v":0},0,0,0,0,0,0,0,0,0,0,0,0,0,0,0,-2.371725944640694E-2,0,0,0,{"$f":"IF(AP$4 >= $I387, -AP447, 0)","v":0},0,0,0,0]
[null,null,null,null,"Capex additions",null,"£m nominal",null,null,">",null,null,null,null,null,null,null,null,null,null,null,{"$f":"(V424 * V$53) * TOpf","v":0},0,0,0,0,5.4149927922988849E-3,0.13948980678016171,1.3398805345334669E-2,2.9587476727179519E-2,-1.3109982549776248E-3,9.4999873549103214E-5,0,0,0,0,0,0,0,0,0,0,0,0,0,0]
[null,null,null,null,"Tax book value pre-depreciation",null,"£m nominal",null,null,">",null,null,null,null,null,null,null,null,null,null,null,{"$f":"SUM(V447:V449)","v":0},0,0,0,0,5.4149927922988849E-3,0.14355105137438587,{"$f":"SUM(AC447:AC449)","v":0.12106209387612407},0.12643715182807877,9.983872320748538E-2,7.9965978439537413E-2,6.3972782751629931E-2,5.2457681856336542E-2,4.3015299122195962E-2,3.5272545280200684E-2,2.8923487129764561E-2,0,0,0,0,{"$f":"SUM(AP447:AP449)","v":0},0,0,0,0]
[null,null,null,null,"General pool capital allowance",null,"£m nominal",null,null,">",null,null,null,null,null,null,null,null,null,null,null,{"$f":"-V450*V445","v":0},0,0,0,0,-1.3537481980747212E-3,-3.5887762843596467E-2,-2.4212418775224814E-2,-2.5287430365615756E-2,-1.9967744641497077E-2,-1.5993195687907483E-2,-1.1515100895293388E-2,-9.4423827341405791E-3,-7.7427538419952736E-3,-6.3490581504361239E-3,-5.2062276833576213E-3,0,0,0,0,{"$f":"-AP450*AP445","v":0},0,0,0,0]
[null,null,null,null,"Closing balance carried forward",null,null,null,null,">",null,null,null,null,null,null,null,null,null,null,null,{"$f":"SUM(V450:V451)","v":0},{"$f":"SUM(W450:W451)","v":0},0,0,0,4.0612445942241632E-3,0.10766328853078941,9.6849675100899257E-2,0.10114972146246301,7.9870978565988307E-2,6.3972782751629931E-2,5.2457681856336542E-2,4.3015299122195962E-2,3.5272545280200684E-2,2.8923487129764561E-2,2.371725944640694E-2,0,0,0,0,{"$f":"SUM(AP450:AP451)","v":0},0,0,0,0]
[]
[null,null,null,"Special Rates"]
[]
[null,null,null,null,"Special Rate capital allowance rate",null,"%",null,null,">",null,null,null,null,null,null,null,null,null,null,null,{"$f":"V$44","v":0.06},{"$f":"W$44","v":0.06},0.06,0.06,0.06,0.06,0.06,0.1,0.1,0.1,0.1,0.08,0.08,0.08,0.08,0.08,0.08,0.08,0.06,0.06,0.06,0.06,0.06,0.06,0.06]
[]
[null,null,null,null,"Opening balance brought forward",null,"£m nominal",null,null,">",null,null,null,null,null,null,null,null,null,null,null,0,{"$f":"V463","v":0},0,0,0,0,0.25825525624576617,6.8953959046558273,6.817688078275105,7.4869768919476449,6.6784148824361127,6.014911388418354,5.5337184773448858,5.091020999157295,4.6837393192247117,4.3090401736867348,3.964316959791796,0,0,0,{"$f":"AO463","v":0},{"$f":"AP463","v":0},{"$f":"AQ463","v":0},{"$f":"AR463","v":0},{"$f":"AS463","v":0}]
[null,null,null,null,"Transfer",null,"£m nominal",null,null,">",null,null,null,null,null,null,null,null,null,null,null,{"$f":"IF(V$4 >= $I387,-V458,0)","v":0},0,0,0,0,0,0,0,0,0,0,0,0,0,0,0,-3.964316959791796,0,0,0,{"$f":"IF(AP$4 >= $I387,-AP458,0)","v":0},0,0,0,0]
[null,null,null,null,"Capex additions",null,"£m nominal",null,null,">",null,null,null,null,null,null,null,null,null,null,null,{"$f":"(V424 * V$54) * TOpf","v":0},0,0,0,0,0.27473963430400655,7.0772723018987307,0.67981307120540113,1.5011751350000559,-6.651591146307527E-2,4.8199935842808154E-3,0,0,0,0,0,0,0,0,0,0,0,0,0,0]
[null,null,null,null,"Tax book value pre-depreciation",null,"£m nominal",null,null,">",null,null,null,null,null,null,null,null,null,null,null,{"$f":"SUM(V458:V460)","v":0},0,0,0,0,0.27473963430400655,7.3355275581444968,{"$f":"SUM(AC458:AC460)","v":7.5752089758612282},8.3188632132751614,7.4204609804845694,6.6832348760203937,6.014911388418354,5.5337184773448858,5.091020999157295,4.6837393192247117,4.3090401736867348,0,0,0,0,{"$f":"SUM(AP458:AP460)","v":0},0,0,0,0]
[null,null,null,null,"Special Rate capital allowance",null,"£m nominal",null,null,">",null,null,null,null,null,null,null,null,null,null,null,{"$f":"-V461*V456","v":0},0,0,0,0,-1.6484378058240393E-2,-0.44013165348866978,-0.75752089758612284,-0.83188632132751616,-0.742046098048457,-0.66832348760203941,-0.48119291107346834,-0.44269747818759086,-0.40728167993258363,-0.37469914553797695,-0.34472321389493876,0,0,0,0,{"$f":"-AP461*AP456","v":0},0,0,0,0]
[null,null,null,null,"Closing balance carried forward",null,null,null,null,">",null,null,null,null,null,null,null,null,null,null,null,{"$f":"SUM(V461:V462)","v":0},{"$f":"SUM(W461:W462)","v":0},0,0,0,0.25825525624576617,6.8953959046558273,6.817688078275105,7.4869768919476449,6.6784148824361127,6.014911388418354,5.5337184773448858,5.091020999157295,4.6837393192247117,4.3090401736867348,3.964316959791796,0,0,0,0,{"$f":"SUM(AP461:AP462)","v":0},0,0,0,0]
[]
[null,null,"Revenue pool"]
[]
[null,null,null,null,"Revenue pool additions",null,"£m nominal",null,null,">",null,null,null,null,null,null,null,null,null,null,null,{"$f":"(V424 * V$55) * TOpf","v":0},0,0,0,0,1.1399984825892389E-3,2.9366275111612994E-2,2.820801125333615E-3,6.2289424688798996E-3,-2.759996326268684E-4,1.9999973378758569E-5,0,0,0,0,0,0,0,0,0,0,0,0,0,0]
[]
[null,null,"Non-qualifying pool"]
[]
[null,null,null,null,"Non-qualifying expenditure",null,"£m nominal",null,null,">",null,null,null,null,null,null,null,null,null,null,null,{"$f":"(V424 * V$56) * TOpf","v":0},0,0,0,0,3.7049950684150262E-3,9.5440394112742202E-2,9.1676036573342477E-3,2.0244063023859674E-2,-8.9699880603732215E-4,6.4999913480965355E-5,0,0,0,0,0,0,0,0,0,0,0,0,0,0]
[]
[null,null,"Net debt"]
[]
[null,null,null,null,"Overall gearing after equity issuance",null,"%",null,null,null,null,null,null,null,null,null,null,null,null,null,null,null,null,null,null,null,null,null,null,null,null,null,null,null,null,null,null,null,null,null,null,{"$f":"AP$46","v":0.6},0.58730484245989634,0.5819434430964423,0.57604812935946159,0.55936589604833153]
[]
[null,null,null,null,"Opening net debt",null,"£m nominal",null,null,null,null,null,null,null,null,null,null,null,null,null,null,null,null,null,null,null,null,null,null,null,null,null,null,null,null,null,null,null,null,null,null,null,{"$f":"AP485","v":0},{"$f":"AQ485","v":0},{"$f":"AR485","v":0},{"$f":"AS485","v":0}]
[null,null,null,null,"Transfer from core net debt",null,"£m nominal",null,null,null,null,null,null,null,null,null,null,null,null,null,null,null,null,null,null,null,null,null,null,null,null,null,null,null,null,null,null,null,null,null,null,null,{"$f":"AQ479-AQ477","v":0},0,0,0]
[null,null,null,null,"Opening net debt after transfer",null,"£m nominal",null,null,null,null,null,null,null,null,null,null,null,null,null,null,null,null,null,null,null,null,null,null,null,null,null,null,null,null,null,null,null,null,null,null,{"$f":"-AP475 * (AP423 - AP432) * Input!AO$191","v":0},{"$f":"-AQ475 * (AQ423 - AQ432) * Input!AP$191","v":0},{"$f":"-AR475 * (AR423 - AR432) * Input!AQ$191","v":0},{"$f":"-AS475 * (AS423 - AS432) * Input!AR$191","v":0},{"$f":"-AT475 * (AT423 - AT432) * Input!AS$191","v":0}]
[null,null,null,null,"Less capex",null,"£m nominal",null,null,null,null,null,null,null,null,null,null,null,null,null,null,null,null,null,null,null,null,null,null,null,null,null,null,null,null,null,null,null,null,null,null,{"$f":"-AP424 * TOpf","v":0},0,0,0,0]
[null,null,null,null,"Less dividends",null,"£m nominal",null,null,null,null,null,null,null,null,null,null,null,null,null,null,null,null,null,null,null,null,null,null,null,null,null,null,null,null,null,null,null,null,null,null,{"$f":"-AP439 * (1 - AP475) * AP$49 * TOpf","v":0},0,0,0,0]
[null,null,null,null,"Closing net debt (before interest and tax)",null,"£m nominal",null,null,null,null,null,null,null,null,null,null,null,null,null,null,null,null,null,null,null,null,null,null,null,null,null,null,null,null,null,null,null,null,null,null,{"$f":"SUM(AP479:AP481)","v":0},0,0,0,0]
[null,null,null,null,"Less net interest paid (excluding principal inflation accretion)",null,"£m nominal",null,null,null,null,null,null,null,null,null,null,null,null,null,null,null,null,null,null,null,null,null,null,null,null,null,null,null,null,null,null,null,null,null,null,{"$f":"((AP479 + AP482) / 2) * AP$47 * (1 - AP$48)","v":0},0,0,0,0]
[null,null,null,null,"Less net interest paid (principal inflation accretion)",null,"£m nominal",null,null,null,null,null,null,null,null,null,null,null,null,null,null,null,null,null,null,null,null,null,null,null,null,null,null,null,null,null,null,null,null,null,null,{"$f":"((AP479 + AP482) / 2) * AP$47 * AP$48","v":0},0,0,0,0]
[null,null,null,null,"Closing net debt",null,"£m nominal",null,null,null,null,null,null,null,null,null,null,null,null,null,null,null,null,null,null,null,null,null,null,null,null,null,null,null,null,null,null,null,null,null,null,{"$f":"SUM(AP482:AP484)","v":0},0,0,0,0]
[]
[null,"Cheshire"]
[]
[null,null,"Project specific inputs"]
[]
[null,null,null,null,"Asset transfer",null,"year ending",null,{"$f":"Input!I549","v":"2018-03-31"}]
[]
[null,null,null,null,"Deemed cost",null,"£m 18/19 prices",null,null,">",null,null,null,null,null,null,null,null,null,null,null,{"$f":"Input!V564","v":0},{"$f":"Input!W564","v":0},{"$f":"Input!X564","v":0},{"$f":"Input!Y564","v":0},{"$f":"Input!Z564","v":0},{"$f":"Input!AA564","v":0},{"$f":"Input!AB564","v":0},{"$f":"Input!AC564","v":6.5651465216829075E-2},{"$f":"Input!AD564","v":0.46218631512647668},{"$f":"Input!AE564","v":0.79175667051495857},{"$f":"Input!AF564","v":0},{"$f":"Input!AG564","v":0}]
[]
[null,null,null,null,"Pre-RIIO actual cost",null,"£m 18/19 prices",null,null,">",null,null,null,null,null,null,null,null,null,null,null,{"$f":"Input!V570","v":0},{"$f":"Input!W570","v":0},{"$f":"Input!X570","v":0},{"$f":"Input!Y570","v":0},{"$f":"Input!Z570","v":0},{"$f":"Input!AA570","v":0},{"$f":"Input!AB570","v":0},{"$f":"Input!AC570","v":0},{"$f":"Input!AD570","v":0},{"$f":"Input!AE570","v":0},{"$f":"Input!AF570","v":0},{"$f":"Input!AG570","v":0}]
[null,null,null,null,"Post-RIIO actual cost",null,"£m 18/19 prices",null,null,">"]
[null,null,null,null,"Actual cost",null,null,null,null,null,null,null,null,null,null,null,null,null,null,null,null,{"$f":"SUM(V495:V496)","v":0},0,0,0,0,0,0,0,0,0,0,0,0,0,0,0,0,0,0,0,0,0,0,0,0]
[]
[null,null,"RAV"]
[]
[null,null,null,"Deemed cost"]
[]
[null,null,null,null,"Opening balance brought forward",null,"£m 18/19 prices",null,null,">",null,null,null,null,null,null,null,null,null,null,null,0,{"$f":"V508","v":0},0,0,0,0,0,0,6.5651465216829075E-2,0.52783778034330575,1.3195944508582644,1.3195944508582644,1.3195944508582644,1.3195944508582644,1.3195944508582644,1.3195944508582644,1.3195944508582644,0,0,0,{"$f":"AO508","v":0},{"$f":"AP508","v":0},{"$f":"AQ508","v":0},{"$f":"AR508","v":0},{"$f":"AS508","v":0}]
[null,null,null,null,"Transfer",null,"£m 18/19 prices",null,null,">",null,null,null,null,null,null,null,null,null,null,null,{"$f":"IF(V$4 = $I491, -V503, 0)","v":0},0,0,0,0,0,0,0,0,0,0,0,0,0,0,0,-1.3195944508582644,0,0,0,{"$f":"IF(AP$4 = $I491, -AP503, 0)","v":0},0,0,0,0]
[null,null,null,null,"Opening balance after transfers",null,"£m 18/19 prices",null,null,">",null,null,null,null,null,null,null,null,null,null,null,{"$f":"SUM(V503:V504)","v":0},0,0,0,0,0,0,0,6.5651465216829075E-2,0.52783778034330575,1.3195944508582644,1.3195944508582644,1.3195944508582644,1.3195944508582644,1.3195944508582644,1.3195944508582644,0,0,0,0,{"$f":"SUM(AP503:AP504)","v":0},0,0,0,0]
[null,null,null,null,"Net additions (after disposals)",null,"£m 18/19 prices",null,null,">",null,null,null,null,null,null,null,null,null,null,null,{"$f":"V493","v":0},{"$f":"W493","v":0},0,0,0,0,0,6.5651465216829075E-2,0.46218631512647668,0.79175667051495857,0,0,0,0,0,0,0,0,0,0,{"$f":"AP493","v":0},0,0,0,0]
[null,null,null,null,"Removals",null,"£m 18/19 prices"]
[null,null,null,null,"Balance carried forward",null,"£m 18/19 prices",null,null,">",null,null,null,null,null,null,null,null,null,null,null,{"$f":"V505 + V506 - V507","v":0},0,0,0,0,0,0,6.5651465216829075E-2,0.52783778034330575,1.3195944508582644,1.3195944508582644,1.3195944508582644,1.3195944508582644,1.3195944508582644,1.3195944508582644,1.3195944508582644,0,0,0,0,{"$f":"AP505 + AP506 - AP507","v":0},0,0,0,0]
[]
[null,null,null,"Deemed accumulated depreciation"]
[]
[null,null,null,null,"Opening balance brought forward",null,"£m 18/19 prices",null,null,">",null,null,null,null,null,null,null,null,null,null,null,0,{"$f":"V517","v":0},{"$f":"W517","v":0},0,0,0,0,0,0,1.4589214492628684E-3,1.3188649901336329E-2,4.2512971031519978E-2,7.1837292161703634E-2,0.10116161329188729,0.13048593442207093,0.15981025555225459,0.18913457668243824,0,0,0,{"$f":"AO517","v":0},{"$f":"AP517","v":0},{"$f":"AQ517","v":0},{"$f":"AR517","v":0},{"$f":"AS517","v":0}]
[null,null,null,null,"Transfer",null,"£m 18/19 prices",null,null,">",null,null,null,null,null,null,null,null,null,null,null,{"$f":"IF(V$4 = $I491, -V512, 0)","v":0},0,0,0,0,0,0,0,0,0,0,0,0,0,0,0,-0.18913457668243824,0,0,0,{"$f":"IF(AP$4 = $I491, -AP512, 0)","v":0},0,0,0,0]
[null,null,null,null,"Opening balance after transfers",null,"£m 18/19 prices",null,null,">",null,null,null,null,null,null,null,null,null,null,null,{"$f":"SUM(V512:V513)","v":0},0,0,0,0,0,0,0,0,1.4589214492628684E-3,1.3188649901336329E-2,4.2512971031519978E-2,7.1837292161703634E-2,0.10116161329188729,0.13048593442207093,0.15981025555225459,0,0,0,0,{"$f":"SUM(AP512:AP513)","v":0},0,0,0,0]
[null,null,null,null,"Regulatory depreciation",null,"£m 18/19 prices",null,null,">",null,null,null,null,null,null,null,null,null,null,null,{"$f":"V505/V$42","v":0},{"$f":"W505/W$42","v":0},0,0,0,0,0,0,1.4589214492628684E-3,1.172972845207346E-2,2.9324321130183652E-2,2.9324321130183652E-2,2.9324321130183652E-2,2.9324321130183652E-2,2.9324321130183652E-2,2.9324321130183652E-2,0,0,0,0,{"$f":"AP505/AP$42","v":0},0,0,0,0]
[null,null,null,null,"Removals",null,"£m 18/19 prices",null,null,">"]
[null,null,null,null,"Closing value carried forward",null,"£m 18/19 prices",null,null,">",null,null,null,null,null,null,null,null,null,null,null,{"$f":"V514 + V515 - V516","v":0},0,0,0,0,0,0,0,1.4589214492628684E-3,1.3188649901336329E-2,4.2512971031519978E-2,7.1837292161703634E-2,0.10116161329188729,0.13048593442207093,0.15981025555225459,0.18913457668243824,0,0,0,0,{"$f":"AP514 + AP515 - AP516","v":0},0,0,0,0]
[]
[null,null,null,"Deemed asset balance"]
[]
[null,null,null,null,"Net value after regulatory depreciation",null,"£m 18/19 prices",null,null,">",null,null,null,null,null,null,null,null,null,null,null,{"$f":"V508-V517","v":0},0,0,0,0,0,0,6.5651465216829075E-2,0.5263788588940429,{"$f":"AE508-AE517","v":1.3064058009569282},{"$f":"AF508-AF517","v":1.2770814798267445},1.2477571586965608,1.2184328375663771,1.1891085164361934,1.1597841953060097,1.1304598741758263,0,0,0,0,{"$f":"AP508-AP517","v":0},0,0,0,0]
[]
[null,null,null,"Actual cost"]
[]
[null,null,null,null,"Opening balance brought forward",null,"£m 18/19 prices",null,null,">",null,null,null,null,null,null,null,null,null,null,null,0,{"$f":"V530","v":0},0,0,0,0,0,0,0,0,0,0,1.3195944508582644,1.3195944508582644,1.3195944508582644,1.3195944508582644,1.3195944508582644,0,0,0,{"$f":"AO530","v":0},{"$f":"AP530","v":0},{"$f":"AQ530","v":0},{"$f":"AR530","v":0},{"$f":"AS530","v":0}]
[null,null,null,null,"Transfer",null,"£m 18/19 prices",null,null,">",null,null,null,null,null,null,null,null,null,null,null,{"$f":"IF(V$4 = $I491, -V525, IF(YEAR(V$4) = 2013, V503 - V525, IF( YEAR(V$4) > YEAR($I491), -V525, 0)))","v":0},0,0,0,0,0,0,0,0,0,0,1.3195944508582644,0,0,0,0,-1.3195944508582644,0,0,0,{"$f":"IF(AP$4 = $I491, -AP525, IF(YEAR(AP$4) = 2013, AP503 - AP525, IF( YEAR(AP$4) > YEAR($I491), -AP525, 0)))","v":0},0,0,0,0]
[null,null,null,null,"Opening balance after transfers",null,"£m 18/19 prices",null,null,">",null,null,null,null,null,null,null,null,null,null,null,{"$f":"SUM(V525:V526)","v":0},0,0,0,0,0,0,0,0,0,0,1.3195944508582644,1.3195944508582644,1.3195944508582644,1.3195944508582644,1.3195944508582644,0,0,0,0,{"$f":"SUM(AP525:AP526)","v":0},0,0,0,0]
[null,null,null,null,"Net additions (after disposals)",null,"£m 18/19 prices",null,null,">",null,null,null,null,null,null,null,null,null,null,null,{"$f":"V497","v":0},{"$f":"W497","v":0},0,0,0,0,0,0,0,0,0,0,0,0,0,0,0,0,0,0,{"$f":"AP497","v":0},0,0,0,0]
[null,null,null,null,"Removals",null,"£m 18/19 prices"]
[null,null,null,null,"Balance carried forward",null,"£m 18/19 prices",null,null,">",null,null,null,null,null,null,null,null,null,null,null,{"$f":"V527 + V528 - V529","v":0},0,0,0,0,0,0,0,0,0,0,1.3195944508582644,1.3195944508582644,1.3195944508582644,1.3195944508582644,1.3195944508582644,0,0,0,0,{"$f":"AP527 + AP528 - AP529","v":0},0,0,0,0]
[]
[null,null,null,"Actual accumulated depreciation"]
[]
[null,null,null,null,"Opening balance brought forward",null,"£m 18/19 prices",null,null,">",null,null,null,null,null,null,null,null,null,null,null,0,{"$f":"V539","v":0},0,0,0,0,0,0,0,0,0,0,7.1837292161703634E-2,0.10116161329188729,0.13048593442207093,0.15981025555225459,0.18913457668243824,0,0,0,{"$f":"AO539","v":0},{"$f":"AP539","v":0},{"$f":"AQ539","v":0},{"$f":"AR539","v":0},{"$f":"AS539","v":0}]
[null,null,null,null,"Transfer",null,"£m 18/19 prices",null,null,">",null,null,null,null,null,null,null,null,null,null,null,{"$f":"IF(V$4 = $I491, -V534,IF(YEAR(V$4) = 2013, V512 - V534,0))","v":0},0,0,0,0,0,0,0,0,0,0,4.2512971031519978E-2,0,0,0,0,-0.18913457668243824,0,0,0,{"$f":"IF(AP$4 = $I491, -AP534,IF(YEAR(AP$4) = 2013, AP512 - AP534,0))","v":0},0,0,0,0]
[null,null,null,null,"Opening balance after transfers",null,"£m 18/19 prices",null,null,">",null,null,null,null,null,null,null,null,null,null,null,{"$f":"SUM(V534:V535)","v":0},0,0,0,0,0,0,0,0,0,0,4.2512971031519978E-2,7.1837292161703634E-2,0.10116161329188729,0.13048593442207093,0.15981025555225459,0,0,0,0,{"$f":"SUM(AP534:AP535)","v":0},0,0,0,0]
[null,null,null,null,"Regulatory depreciation",null,"£m 18/19 prices",null,null,">",null,null,null,null,null,null,null,null,null,null,null,{"$f":"V527/V$42","v":0},{"$f":"W527/W$42","v":0},0,0,0,0,0,0,0,0,0,2.9324321130183652E-2,2.9324321130183652E-2,2.9324321130183652E-2,2.9324321130183652E-2,2.9324321130183652E-2,0,0,0,0,{"$f":"AP527/AP$42","v":0},0,0,0,0]
[null,null,null,null,"Removals",null,"£m 18/19 prices",null,null,">"]
[null,null,null,null,"Closing value carried forward",null,"£m 18/19 prices",null,null,">",null,null,null,null,null,null,null,null,null,null,null,{"$f":"V536 + V537 - V538","v":0},{"$f":"W536 + W537 - W538","v":0},0,0,0,0,0,0,0,0,0,7.1837292161703634E-2,0.10116161329188729,0.13048593442207093,0.15981025555225459,0.18913457668243824,0,0,0,0,{"$f":"AP536 + AP537 - AP538","v":0},0,0,0,0]
[]
[null,null,null,"Actual asset balance"]
[]
[null,null,null,null,"Net value after regulatory depreciation",null,"£m 18/19 prices",null,null,">",null,null,null,null,null,null,null,null,null,null,null,{"$f":"V530 - V539","v":0},0,0,0,0,0,0,0,0,0,0,1.2477571586965608,1.2184328375663771,1.1891085164361934,1.1597841953060097,1.1304598741758263,0,0,0,0,{"$f":"AP530 - AP539","v":0},0,0,0,0]
[]
[null,null,"Capital allowances"]
[]
[null,null,null,"General pool"]
[]
[null,null,null,null,"General pool capital allowance rate",null,"%",null,null,">",null,null,null,null,null,null,null,null,null,null,null,{"$f":"V$43","v":0.25},{"$f":"W$43","v":0.25},0.25,0.25,0.25,0.25,0.25,0.2,0.2,0.2,0.2,0.18000000000000002,0.18000000000000002,0.18000000000000002,0.18000000000000002,0.18000000000000002,0.18000000000000002,0.18000000000000002,0.18000000000000002,0.18000000000000002,0.18,0.18,0.18,0.18,0.18]
[]
[null,null,null,null,"Opening balance brought forward",null,"£m nominal",null,null,">",null,null,null,null,null,null,null,null,null,null,null,0,{"$f":"V556","v":0},0,0,0,0,0,0,0,0,0,0,0,0,0,0,0,0,0,0,{"$f":"AO556","v":0},{"$f":"AP556","v":0},{"$f":"AQ556","v":0},{"$f":"AR556","v":0},{"$f":"AS556","v":0}]
[null,null,null,null,"Transfer",null,"£m nominal",null,null,">",null,null,null,null,null,null,null,null,null,null,null,{"$f":"IF(V$4 >= $I491, -V551, 0)","v":0},0,0,0,0,0,0,0,0,0,0,0,0,0,0,0,0,0,0,0,{"$f":"IF(AP$4 >= $I491, -AP551, 0)","v":0},0,0,0,0]
[null,null,null,null,"Capex additions",null,"£m nominal",null,null,">",null,null,null,null,null,null,null,null,null,null,null,{"$f":"(V528 * V$53) * TOpf","v":0},0,0,0,0,0,0,0,0,0,0,0,0,0,0,0,0,0,0,0,0,0,0,0,0]
[null,null,null,null,"Tax book value pre-depreciation",null,"£m nominal",null,null,">",null,null,null,null,null,null,null,null,null,null,null,{"$f":"SUM(V551:V553)","v":0},0,0,0,0,0,0,{"$f":"SUM(AC551:AC553)","v":0},0,0,0,0,0,0,0,0,0,0,0,0,{"$f":"SUM(AP551:AP553)","v":0},0,0,0,0]
[null,null,null,null,"General pool capital allowance",null,"£m nominal",null,null,">",null,null,null,null,null,null,null,null,null,null,null,{"$f":"-V554*V549","v":0},0,0,0,0,0,0,0,0,0,0,0,0,0,0,0,0,0,0,0,{"$f":"-AP554*AP549","v":0},0,0,0,0]
[null,null,null,null,"Closing balance carried forward",null,null,null,null,">",null,null,null,null,null,null,null,null,null,null,null,{"$f":"SUM(V554:V555)","v":0},{"$f":"SUM(W554:W555)","v":0},0,0,0,0,0,0,0,0,0,0,0,0,0,0,0,0,0,0,{"$f":"SUM(AP554:AP555)","v":0},0,0,0,0]
[]
[null,null,null,"Special Rates"]
[]
[null,null,null,null,"Special Rate capital allowance rate",null,"%",null,null,">",null,null,null,null,null,null,null,null,null,null,null,{"$f":"V$44","v":0.06},{"$f":"W$44","v":0.06},0.06,0.06,0.06,0.06,0.06,0.1,0.1,0.1,0.1,0.08,0.08,0.08,0.08,0.08,0.08,0.08,0.06,0.06,0.06,0.06,0.06,0.06,0.06]
[]
[null,null,null,null,"Opening balance brought forward",null,"£m nominal",null,null,">",null,null,null,null,null,null,null,null,null,null,null,0,{"$f":"V567","v":0},0,0,0,0,0,0,0,0,0,0,0,0,0,0,0,0,0,0,{"$f":"AO567","v":0},{"$f":"AP567","v":0},{"$f":"AQ567","v":0},{"$f":"AR567","v":0},{"$f":"AS567","v":0}]
[null,null,null,null,"Transfer",null,"£m nominal",null,null,">",null,null,null,null,null,null,null,null,null,null,null,{"$f":"IF(V$4 >= $I491,-V562,0)","v":0},0,0,0,0,0,0,0,0,0,0,0,0,0,0,0,0,0,0,0,{"$f":"IF(AP$4 >= $I491,-AP562,0)","v":0},0,0,0,0]
[null,null,null,null,"Capex additions",null,"£m nominal",null,null,">",null,null,null,null,null,null,null,null,null,null,null,{"$f":"(V528 * V$54) * TOpf","v":0},0,0,0,0,0,0,0,0,0,0,0,0,0,0,0,0,0,0,0,0,0,0,0,0]
[null,null,null,null,"Tax book value pre-depreciation",null,"£m nominal",null,null,">",null,null,null,null,null,null,null,null,null,null,null,{"$f":"SUM(V562:V564)","v":0},0,0,0,0,0,0,{"$f":"SUM(AC562:AC564)","v":0},0,0,0,0,0,0,0,0,0,0,0,0,{"$f":"SUM(AP562:AP564)","v":0},0,0,0,0]
[null,null,null,null,"Special Rate capital allowance",null,"£m nominal",null,null,">",null,null,null,null,null,null,null,null,null,null,null,{"$f":"-V565*V560","v":0},0,0,0,0,0,0,0,0,0,0,0,0,0,0,0,0,0,0,0,{"$f":"-AP565*AP560","v":0},0,0,0,0]
[null,null,null,null,"Closing balance carried forward",null,null,null,null,">",null,null,null,null,null,null,null,null,null,null,null,{"$f":"SUM(V565:V566)","v":0},{"$f":"SUM(W565:W566)","v":0},0,0,0,0,0,0,0,0,0,0,0,0,0,0,0,0,0,0,{"$f":"SUM(AP565:AP566)","v":0},0,0,0,0]
[]
[null,null,"Revenue pool"]
[]
[null,null,null,null,"Revenue pool additions",null,"£m nominal",null,null,">",null,null,null,null,null,null,null,null,null,null,null,{"$f":"(V528 * V$55) * TOpf","v":0},0,0,0,0,0,0,0,0,0,0,0,0,0,0,0,0,0,0,0,0,0,0,0,0]
[]
[null,null,"Non-qualifying pool"]
[]
[null,null,null,null,"Non-qualifying expenditure",null,"£m nominal",null,null,">",null,null,null,null,null,null,null,null,null,null,null,{"$f":"(V528 * V$56) * TOpf","v":0},0,0,0,0,0,0,0,0,0,0,0,0,0,0,0,0,0,0,0,0,0,0,0,0]
[]
[null,null,"Net debt"]
[]
[null,null,null,null,"Overall gearing after equity issuance",null,"%",null,null,null,null,null,null,null,null,null,null,null,null,null,null,null,null,null,null,null,null,null,null,null,null,null,null,null,null,null,null,null,null,null,null,{"$f":"AP$46","v":0.6},0.58730484245989634,0.5819434430964423,0.57604812935946159,0.55936589604833153]
[]
[null,null,null,null,"Opening net debt",null,"£m nominal",null,null,null,null,null,null,null,null,null,null,null,null,null,null,null,null,null,null,null,null,null,null,null,null,null,null,null,null,null,null,null,null,null,null,null,{"$f":"AP589","v":0},{"$f":"AQ589","v":0},{"$f":"AR589","v":0},{"$f":"AS589","v":0}]
[null,null,null,null,"Transfer from core net debt",null,"£m nominal",null,null,null,null,null,null,null,null,null,null,null,null,null,null,null,null,null,null,null,null,null,null,null,null,null,null,null,null,null,null,null,null,null,null,null,{"$f":"AQ583-AQ581","v":0},0,0,0]
[null,null,null,null,"Opening net debt after transfer",null,"£m nominal",null,null,null,null,null,null,null,null,null,null,null,null,null,null,null,null,null,null,null,null,null,null,null,null,null,null,null,null,null,null,null,null,null,null,{"$f":"-AP579 * (AP527 - AP536) * Input!AO$191","v":0},{"$f":"-AQ579 * (AQ527 - AQ536) * Input!AP$191","v":0},{"$f":"-AR579 * (AR527 - AR536) * Input!AQ$191","v":0},{"$f":"-AS579 * (AS527 - AS536) * Input!AR$191","v":0},{"$f":"-AT579 * (AT527 - AT536) * Input!AS$191","v":0}]
[null,null,null,null,"Less capex",null,"£m nominal",null,null,null,null,null,null,null,null,null,null,null,null,null,null,null,null,null,null,null,null,null,null,null,null,null,null,null,null,null,null,null,null,null,null,{"$f":"-AP528 * TOpf","v":0},0,0,0,0]
[null,null,null,null,"Less dividends",null,"£m nominal",null,null,null,null,null,null,null,null,null,null,null,null,null,null,null,null,null,null,null,null,null,null,null,null,null,null,null,null,null,null,null,null,null,null,{"$f":"-AP543 * (1 - AP579) * AP$49 * TOpf","v":0},0,0,0,0]
[null,null,null,null,"Closing net debt (before interest and tax)",null,"£m nominal",null,null,null,null,null,null,null,null,null,null,null,null,null,null,null,null,null,null,null,null,null,null,null,null,null,null,null,null,null,null,null,null,null,null,{"$f":"SUM(AP583:AP585)","v":0},0,0,0,0]
[null,null,null,null,"Less net interest paid (excluding principal inflation accretion)",null,"£m nominal",null,null,null,null,null,null,null,null,null,null,null,null,null,null,null,null,null,null,null,null,null,null,null,null,null,null,null,null,null,null,null,null,null,null,{"$f":"((AP583 + AP586) / 2) * AP$47 * (1 - AP$48)","v":0},0,0,0,0]
[null,null,null,null,"Less net interest paid (principal inflation accretion)",null,"£m nominal",null,null,null,null,null,null,null,null,null,null,null,null,null,null,null,null,null,null,null,null,null,null,null,null,null,null,null,null,null,null,null,null,null,null,{"$f":"((AP583 + AP586) / 2) * AP$47 * AP$48","v":0},0,0,0,0]
[null,null,null,null,"Closing net debt",null,"£m nominal",null,null,null,null,null,null,null,null,null,null,null,null,null,null,null,null,null,null,null,null,null,null,null,null,null,null,null,null,null,null,null,null,null,null,{"$f":"SUM(AP586:AP588)","v":0},0,0,0,0]
[]
[null,"Isle of Grain PH3"]
[]
[null,null,"Project specific inputs"]
[]
[null,null,null,null,"Asset transfer",null,"year ending",null,{"$f":"Input!I550","v":"2016-03-31"}]
[]
[null,null,null,null,"Pre-RIIO actual cost",null,"£m 18/19 prices",null,null,">",null,null,null,null,null,null,null,null,null,null,null,{"$f":"Input!V571","v":0},{"$f":"Input!W571","v":0},{"$f":"Input!X571","v":0},{"$f":"Input!Y571","v":0},{"$f":"Input!Z571","v":0},{"$f":"Input!AA571","v":0},{"$f":"Input!AB571","v":0},{"$f":"Input!AC571","v":0},{"$f":"Input!AD571","v":0},{"$f":"Input!AE571","v":0},{"$f":"Input!AF571","v":0},{"$f":"Input!AG571","v":0}]
[null,null,null,null,"Post-RIIO actual cost",null,"£m 18/19 prices",null,null,">"]
[null,null,null,null,"Actual cost",null,null,null,null,null,null,null,null,null,null,null,null,null,null,null,null,{"$f":"SUM(V597:V598)","v":0},0,0,0,0,0,0,0,0,0,0,0,0,0,0,0,0,0,0,0,0,0,0,0,0]
[]
[null,null,"RAV"]
[]
[null,null,null,"Actual cost"]
[]
[null,null,null,null,"Opening balance brought forward",null,"£m 18/19 prices",null,null,">",null,null,null,null,null,null,null,null,null,null,null,0,{"$f":"V610","v":0},0,0,0,0,0,0,0,0,0,0,0,0,0,0,0,0,0,0,{"$f":"AO610","v":0},{"$f":"AP610","v":0},{"$f":"AQ610","v":0},{"$f":"AR610","v":0},{"$f":"AS610","v":0}]
[null,null,null,null,"Transfer",null,"£m 18/19 prices",null,null,">",null,null,null,null,null,null,null,null,null,null,null,{"$f":"IF(V$4=$I595,-V605,IF(YEAR(V$4)>YEAR($I595),-V605,0))","v":0},0,0,0,0,0,0,0,0,0,0,0,{"$f":"IF(AH$4=$I595,-AH605,IF(YEAR(AH$4)>YEAR($I595),-AH605,0))","v":0},{"$f":"IF(AI$4=$I595,-AI605,IF(YEAR(AI$4)>YEAR($I595),-AI605,0))","v":0},0,0,0,0,0,0,{"$f":"IF(AP$4=$I595,-AP605,IF(YEAR(AP$4)>YEAR($I595),-AP605,0))","v":0},0,0,0,0]
[null,null,null,null,"Opening balance after transfers",null,"£m 18/19 prices",null,null,">",null,null,null,null,null,null,null,null,null,null,null,{"$f":"SUM(V605:V606)","v":0},0,0,0,0,0,0,0,0,0,0,0,0,0,0,0,0,0,0,{"$f":"SUM(AO605:AO606)","v":0},{"$f":"SUM(AP605:AP606)","v":0},0,0,0,0]
[null,null,null,null,"Net additions (after disposals)",null,"£m 18/19 prices",null,null,">",null,null,null,null,null,null,null,null,null,null,null,{"$f":"V599","v":0},{"$f":"W599","v":0},0,0,0,0,0,0,0,0,0,0,0,0,0,0,0,0,0,0,{"$f":"AP599","v":0},0,0,0,0]
[null,null,null,null,"Removals",null,"£m 18/19 prices"]
[null,null,null,null,"Balance carried forward",null,"£m 18/19 prices",null,null,">",null,null,null,null,null,null,null,null,null,null,null,{"$f":"V607 + V608 - V609","v":0},0,0,0,0,0,0,0,0,0,0,0,0,0,0,0,0,0,0,0,{"$f":"AP607 + AP608 - AP609","v":0},0,0,0,0]
[]
[null,null,null,"Actual accumulated depreciation"]
[]
[null,null,null,null,"Opening balance brought forward",null,"£m 18/19 prices",null,null,">",null,null,null,null,null,null,null,null,null,null,null,0,{"$f":"V619","v":0},0,0,0,0,0,0,0,0,0,0,0,0,0,0,0,0,0,0,{"$f":"AO619","v":0},{"$f":"AP619","v":0},{"$f":"AQ619","v":0},{"$f":"AR619","v":0},{"$f":"AS619","v":0}]
[null,null,null,null,"Transfer",null,"£m 18/19 prices",null,null,">",null,null,null,null,null,null,null,null,null,null,null,{"$f":"IF(V$4=$I595,-V614,0)","v":0},0,0,0,0,0,0,0,0,0,0,{"$f":"IF(AG$4=$I595,-AG614,0)","v":0},{"$f":"IF(AH$4=$I595,-AH614,0)","v":0},0,0,0,0,0,0,0,{"$f":"IF(AP$4=$I595,-AP614,0)","v":0},0,0,0,0]
[null,null,null,null,"Opening balance after transfers",null,"£m 18/19 prices",null,null,">",null,null,null,null,null,null,null,null,null,null,null,{"$f":"SUM(V614:V615)","v":0},0,0,0,0,0,0,0,0,0,0,0,0,0,0,0,0,0,0,0,{"$f":"SUM(AP614:AP615)","v":0},0,0,0,0]
[null,null,null,null,"Regulatory depreciation",null,"£m 18/19 prices",null,null,">",null,null,null,null,null,null,null,null,null,null,null,{"$f":"V607/V$42","v":0},{"$f":"W607/W$42","v":0},0,0,0,0,0,0,0,0,0,0,0,0,0,0,0,0,0,0,{"$f":"AP607/AP$42","v":0},0,0,0,0]
[null,null,null,null,"Removals",null,"£m 18/19 prices",null,null,">"]
[null,null,null,null,"Closing value carried forward",null,"£m 18/19 prices",null,null,">",null,null,null,null,null,null,null,null,null,null,null,{"$f":"V616 + V617 - V618","v":0},{"$f":"W616 + W617 - W618","v":0},0,0,0,0,0,0,0,0,0,0,0,0,0,0,0,0,0,0,{"$f":"AP616 + AP617 - AP618","v":0},0,0,0,0]
[]
[null,null,null,"Actual asset balance"]
[]
[null,null,null,null,"Net value after regulatory depreciation",null,"£m 18/19 prices",null,null,">",null,null,null,null,null,null,null,null,null,null,null,{"$f":"V610 - V619","v":0},0,0,0,0,0,0,0,0,0,0,0,0,0,0,0,0,0,0,0,{"$f":"AP610 - AP619","v":0},0,0,0,0]
[]
[null,null,"Capital allowances"]
[]
[null,null,null,"General pool"]
[]
[null,null,null,null,"General pool capital allowance rate",null,"%",null,null,">",null,null,null,null,null,null,null,null,null,null,null,{"$f":"V$43","v":0.25},{"$f":"W$43","v":0.25},0.25,0.25,0.25,0.25,0.25,0.2,0.2,0.2,0.2,0.18000000000000002,0.18000000000000002,0.18000000000000002,0.18000000000000002,0.18000000000000002,0.18000000000000002,0.18000000000000002,0.18000000000000002,0.18000000000000002,0.18,0.18,0.18,0.18,0.18]
[]
[null,null,null,null,"Opening balance brought forward",null,"£m nominal",null,null,">",null,null,null,null,null,null,null,null,null,null,null,0,{"$f":"V636","v":0},0,0,0,0,0,0,0,0,0,0,0,0,0,0,0,0,0,0,{"$f":"AO636","v":0},{"$f":"AP636","v":0},{"$f":"AQ636","v":0},{"$f":"AR636","v":0},{"$f":"AS636","v":0}]
[null,null,null,null,"Transfer",null,"£m nominal",null,null,">",null,null,null,null,null,null,null,null,null,null,null,{"$f":"IF(V$4 >= $I595, -V631, 0)","v":0},{"$f":"IF(W$4 >= $I595, -W631, 0)","v":0},0,0,0,0,0,0,0,0,0,0,0,0,0,0,0,0,0,0,{"$f":"IF(AP$4 >= $I595, -AP631, 0)","v":0},0,0,0,0]
[null,null,null,null,"Capex additions",null,"£m nominal",null,null,">",null,null,null,null,null,null,null,null,null,null,null,{"$f":"(V608 * V$53) * TOpf","v":0},0,0,0,0,0,0,0,0,0,0,0,0,0,0,0,0,0,0,0,0,0,0,0,0]
[null,null,null,null,"Tax book value pre-depreciation",null,"£m nominal",null,null,">",null,null,null,null,null,null,null,null,null,null,null,{"$f":"SUM(V631:V633)","v":0},0,0,0,0,0,0,{"$f":"SUM(AC631:AC633)","v":0},0,0,0,0,0,0,0,0,0,0,0,0,{"$f":"SUM(AP631:AP633)","v":0},0,0,0,0]
[null,null,null,null,"General pool capital allowance",null,"£m nominal",null,null,">",null,null,null,null,null,null,null,null,null,null,null,{"$f":"-V634*V629","v":0},0,0,0,0,0,0,0,0,0,0,0,0,0,0,0,0,0,0,0,{"$f":"-AP634*AP629","v":0},0,0,0,0]
[null,null,null,null,"Closing balance carried forward",null,null,null,null,">",null,null,null,null,null,null,null,null,null,null,null,{"$f":"SUM(V634:V635)","v":0},{"$f":"SUM(W634:W635)","v":0},0,0,0,0,0,0,0,0,0,0,0,0,0,0,0,0,0,0,{"$f":"SUM(AP634:AP635)","v":0},0,0,0,0]
[]
[null,null,null,"Special Rates"]
[]
[null,null,null,null,"Special Rate capital allowance rate",null,"%",null,null,">",null,null,null,null,null,null,null,null,null,null,null,{"$f":"V$44","v":0.06},{"$f":"W$44","v":0.06},0.06,0.06,0.06,0.06,0.06,0.1,0.1,0.1,0.1,0.08,0.08,0.08,0.08,0.08,0.08,0.08,0.06,0.06,0.06,0.06,0.06,0.06,0.06]
[]
[null,null,null,null,"Opening balance brought forward",null,"£m nominal",null,null,">",null,null,null,null,null,null,null,null,null,null,null,0,{"$f":"V647","v":0},0,0,0,0,0,0,0,0,0,0,0,0,0,0,0,0,0,0,{"$f":"AO647","v":0},{"$f":"AP647","v":0},{"$f":"AQ647","v":0},{"$f":"AR647","v":0},{"$f":"AS647","v":0}]
[null,null,null,null,"Transfer",null,"£m nominal",null,null,">",null,null,null,null,null,null,null,null,null,null,null,{"$f":"IF(V$4 >= $I595,-V642,0)","v":0},{"$f":"IF(W$4 >= $I595,-W642,0)","v":0},0,0,0,0,0,0,0,0,0,0,0,0,0,0,0,0,0,0,{"$f":"IF(AP$4 >= $I595,-AP642,0)","v":0},0,0,0,0]
[null,null,null,null,"Capex additions",null,"£m nominal",null,null,">",null,null,null,null,null,null,null,null,null,null,null,{"$f":"(V608 * V$54) * TOpf","v":0},0,0,0,0,0,0,0,0,0,0,0,0,0,0,0,0,0,0,0,0,0,0,0,0]
[null,null,null,null,"Tax book value pre-depreciation",null,"£m nominal",null,null,">",null,null,null,null,null,null,null,null,null,null,null,{"$f":"SUM(V642:V644)","v":0},0,0,0,0,0,0,{"$f":"SUM(AC642:AC644)","v":0},0,0,0,0,0,0,0,0,0,0,0,0,{"$f":"SUM(AP642:AP644)","v":0},0,0,0,0]
[null,null,null,null,"Special Rate capital allowance",null,"£m nominal",null,null,">",null,null,null,null,null,null,null,null,null,null,null,{"$f":"-V645*V640","v":0},0,0,0,0,0,0,0,0,0,0,0,0,0,0,0,0,0,0,0,{"$f":"-AP645*AP640","v":0},0,0,0,0]
[null,null,null,null,"Closing balance carried forward",null,null,null,null,">",null,null,null,null,null,null,null,null,null,null,null,{"$f":"SUM(V645:V646)","v":0},{"$f":"SUM(W645:W646)","v":0},0,0,0,0,0,0,0,0,0,0,0,0,0,0,0,0,0,0,{"$f":"SUM(AP645:AP646)","v":0},0,0,0,0]
[]
[null,null,"Revenue pool"]
[]
[null,null,null,null,"Revenue pool additions",null,"£m nominal",null,null,">",null,null,null,null,null,null,null,null,null,null,null,{"$f":"(V608 * V$55) * TOpf","v":0},0,0,0,0,0,0,0,0,0,0,0,0,0,0,0,0,0,0,0,0,0,0,0,0]
[]
[null,null,"Non-qualifying pool"]
[]
[null,null,null,null,"Non-qualifying expenditure",null,"£m nominal",null,null,">",null,null,null,null,null,null,null,null,null,null,null,{"$f":"(V608 * V$56) * TOpf","v":0},0,0,0,0,0,0,0,0,0,0,0,0,0,0,0,0,0,0,0,0,0,0,0,0]
[]
[null,null,"Net debt"]
[]
[null,null,null,null,"Overall gearing after equity issuance",null,"%",null,null,null,null,null,null,null,null,null,null,null,null,null,null,null,null,null,null,null,null,null,null,null,null,null,null,null,null,null,null,null,null,null,null,{"$f":"AP$46","v":0.6},0.58730484245989634,0.5819434430964423,0.57604812935946159,0.55936589604833153]
[]
[null,null,null,null,"Opening net debt",null,"£m nominal",null,null,null,null,null,null,null,null,null,null,null,null,null,null,null,null,null,null,null,null,null,null,null,null,null,null,null,null,null,null,null,null,null,null,null,{"$f":"AP669","v":0},{"$f":"AQ669","v":0},{"$f":"AR669","v":0},{"$f":"AS669","v":0}]
[null,null,null,null,"Transfer from core net debt",null,"£m nominal",null,null,null,null,null,null,null,null,null,null,null,null,null,null,null,null,null,null,null,null,null,null,null,null,null,null,null,null,null,null,null,null,null,null,null,{"$f":"AQ663-AQ661","v":0},0,0,0]
[null,null,null,null,"Opening net debt after transfer",null,"£m nominal",null,null,null,null,null,null,null,null,null,null,null,null,null,null,null,null,null,null,null,null,null,null,null,null,null,null,null,null,null,null,null,null,null,null,{"$f":"-AP659 * (AP607 - AP616) * Input!AO$191","v":0},{"$f":"-AQ659 * (AQ607 - AQ616) * Input!AP$191","v":0},{"$f":"-AR659 * (AR607 - AR616) * Input!AQ$191","v":0},{"$f":"-AS659 * (AS607 - AS616) * Input!AR$191","v":0},{"$f":"-AT659 * (AT607 - AT616) * Input!AS$191","v":0}]
[null,null,null,null,"Less capex",null,"£m nominal",null,null,null,null,null,null,null,null,null,null,null,null,null,null,null,null,null,null,null,null,null,null,null,null,null,null,null,null,null,null,null,null,null,null,{"$f":"-AP608 * TOpf","v":0},0,0,0,0]
[null,null,null,null,"Less dividends",null,"£m nominal",null,null,null,null,null,null,null,null,null,null,null,null,null,null,null,null,null,null,null,null,null,null,null,null,null,null,null,null,null,null,null,null,null,null,{"$f":"-AP623 * (1 - AP659) * AP$49 * TOpf","v":0},0,0,0,0]
[null,null,null,null,"Closing net debt (before interest and tax)",null,"£m nominal",null,null,null,null,null,null,null,null,null,null,null,null,null,null,null,null,null,null,null,null,null,null,null,null,null,null,null,null,null,null,null,null,null,null,{"$f":"SUM(AP663:AP665)","v":0},0,0,0,0]
[null,null,null,null,"Less net interest paid (excluding principal inflation accretion)",null,"£m nominal",null,null,null,null,null,null,null,null,null,null,null,null,null,null,null,null,null,null,null,null,null,null,null,null,null,null,null,null,null,null,null,null,null,null,{"$f":"((AP663 + AP666) / 2) * AP$47 * (1 - AP$48)","v":0},0,0,0,0]
[null,null,null,null,"Less net interest paid (principal inflation accretion)",null,"£m nominal",null,null,null,null,null,null,null,null,null,null,null,null,null,null,null,null,null,null,null,null,null,null,null,null,null,null,null,null,null,null,null,null,null,null,{"$f":"((AP663 + AP666) / 2) * AP$47 * AP$48","v":0},0,0,0,0]
[null,null,null,null,"Closing net debt",null,"£m nominal",null,null,null,null,null,null,null,null,null,null,null,null,null,null,null,null,null,null,null,null,null,null,null,null,null,null,null,null,null,null,null,null,null,null,{"$f":"SUM(AP666:AP668)","v":0},0,0,0,0]
[]
[null,"Caythorpe"]
[]
[null,null,"Project specific inputs"]
[]
[null,null,null,null,"Asset transfer",null,"year ending",null,{"$f":"Input!I551","v":"2017-03-31"}]
[]
[null,null,null,null,"Pre-RIIO actual cost",null,"£m 18/19 prices",null,null,">",null,null,null,null,null,null,null,null,null,null,null,{"$f":"Input!V572","v":0},{"$f":"Input!W572","v":0},{"$f":"Input!X572","v":0},{"$f":"Input!Y572","v":0},{"$f":"Input!Z572","v":0},{"$f":"Input!AA572","v":0},{"$f":"Input!AB572","v":0},{"$f":"Input!AC572","v":0},{"$f":"Input!AD572","v":0},{"$f":"Input!AE572","v":0},{"$f":"Input!AF572","v":0},{"$f":"Input!AG572","v":0}]
[null,null,null,null,"Post-RIIO actual cost",null,"£m 18/19 prices",null,null,">"]
[null,null,null,null,"Actual cost",null,null,null,null,null,null,null,null,null,null,null,null,null,null,null,null,{"$f":"SUM(V677:V678)","v":0},0,0,0,0,0,0,0,0,0,0,0,0,0,0,0,0,0,0,0,0,0,0,0,0]
[]
[null,null,"RAV"]
[]
[null,null,null,"Actual cost"]
[]
[null,null,null,null,"Opening balance brought forward",null,"£m 18/19 prices",null,null,">",null,null,null,null,null,null,null,null,null,null,null,0,{"$f":"V690","v":0},0,0,0,0,0,0,0,0,0,0,0,0,0,0,0,0,0,0,{"$f":"AO690","v":0},{"$f":"AP690","v":0},{"$f":"AQ690","v":0},{"$f":"AR690","v":0},{"$f":"AS690","v":0}]
[null,null,null,null,"Transfer",null,"£m 18/19 prices",null,null,">",null,null,null,null,null,null,null,null,null,null,null,{"$f":"IF(V$4 = $I675, -V685, IF( YEAR(V$4) > YEAR($I675), -V685, 0))","v":0},{"$f":"IF(W$4 = $I675, -W685, IF( YEAR(W$4) > YEAR($I675), -W685, 0))","v":0},0,0,0,0,0,0,0,0,0,0,0,0,0,0,0,0,0,0,{"$f":"IF(AP$4 = $I675, -AP685, IF( YEAR(AP$4) > YEAR($I675), -AP685, 0))","v":0},0,0,0,0]
[null,null,null,null,"Opening balance after transfers",null,"£m 18/19 prices",null,null,">",null,null,null,null,null,null,null,null,null,null,null,{"$f":"SUM(V685:V686)","v":0},0,0,0,0,0,0,0,0,0,0,0,0,0,0,0,0,0,0,0,{"$f":"SUM(AP685:AP686)","v":0},0,0,0,0]
[null,null,null,null,"Net additions (after disposals)",null,"£m 18/19 prices",null,null,">",null,null,null,null,null,null,null,null,null,null,null,{"$f":"V679","v":0},{"$f":"W679","v":0},0,0,0,0,0,0,0,0,0,0,0,0,0,0,0,0,0,0,{"$f":"AP679","v":0},0,0,0,0]
[null,null,null,null,"Removals",null,"£m 18/19 prices"]
[null,null,null,null,"Balance carried forward",null,"£m 18/19 prices",null,null,">",null,null,null,null,null,null,null,null,null,null,null,{"$f":"V687 + V688 - V689","v":0},0,0,0,0,0,0,0,0,0,0,0,0,0,0,0,0,0,0,0,{"$f":"AP687 + AP688 - AP689","v":0},0,0,0,0]
[]
[null,null,null,"Actual accumulated depreciation"]
[]
[null,null,null,null,"Opening balance brought forward",null,"£m 18/19 prices",null,null,">",null,null,null,null,null,null,null,null,null,null,null,0,{"$f":"V699","v":0},0,0,0,0,0,0,0,0,0,0,0,0,0,0,0,0,0,0,{"$f":"AO699","v":0},{"$f":"AP699","v":0},{"$f":"AQ699","v":0},{"$f":"AR699","v":0},{"$f":"AS699","v":0}]
[null,null,null,null,"Transfer",null,"£m 18/19 prices",null,null,">",null,null,null,null,null,null,null,null,null,null,null,{"$f":"IF(V$4 = $I675, -V694, 0)","v":0},{"$f":"IF(W$4 = $I675, -W694, 0)","v":0},0,0,0,0,0,0,0,0,0,0,0,0,0,0,0,0,0,0,{"$f":"IF(AP$4 = $I675, -AP694, 0)","v":0},0,0,0,0]
[null,null,null,null,"Opening balance after transfers",null,"£m 18/19 prices",null,null,">",null,null,null,null,null,null,null,null,null,null,null,{"$f":"SUM(V694:V695)","v":0},0,0,0,0,0,0,0,0,0,0,0,0,0,0,0,0,0,0,0,{"$f":"SUM(AP694:AP695)","v":0},0,0,0,0]
[null,null,null,null,"Regulatory depreciation",null,"£m 18/19 prices",null,null,">",null,null,null,null,null,null,null,null,null,null,null,{"$f":"V687/V$42","v":0},{"$f":"W687/W$42","v":0},0,0,0,0,0,0,0,0,0,0,0,0,0,0,0,0,0,0,{"$f":"AP687/AP$42","v":0},0,0,0,0]
[null,null,null,null,"Removals",null,"£m 18/19 prices",null,null,">"]
[null,null,null,null,"Closing value carried forward",null,"£m 18/19 prices",null,null,">",null,null,null,null,null,null,null,null,null,null,null,{"$f":"V696 + V697 - V698","v":0},{"$f":"W696 + W697 - W698","v":0},0,0,0,0,0,0,0,0,0,0,0,0,0,0,0,0,0,0,{"$f":"AP696 + AP697 - AP698","v":0},0,0,0,0]
[]
[null,null,null,"Actual asset balance"]
[]
[null,null,null,null,"Net value after regulatory depreciation",null,"£m 18/19 prices",null,null,">",null,null,null,null,null,null,null,null,null,null,null,{"$f":"V690 - V699","v":0},0,0,0,0,0,0,0,0,0,0,0,0,0,0,0,0,0,0,0,{"$f":"AP690 - AP699","v":0},0,0,0,0]
[]
[null,null,"Capital allowances"]
[]
[null,null,null,"General pool"]
[]
[null,null,null,null,"General pool capital allowance rate",null,"%",null,null,">",null,null,null,null,null,null,null,null,null,null,null,{"$f":"V$43","v":0.25},{"$f":"W$43","v":0.25},0.25,0.25,0.25,0.25,0.25,0.2,0.2,0.2,0.2,0.18000000000000002,0.18000000000000002,0.18000000000000002,0.18000000000000002,0.18000000000000002,0.18000000000000002,0.18000000000000002,0.18000000000000002,0.18000000000000002,0.18,0.18,0.18,0.18,0.18]
[]
[null,null,null,null,"Opening balance brought forward",null,"£m nominal",null,null,">",null,null,null,null,null,null,null,null,null,null,null,0,{"$f":"V716","v":0},0,0,0,0,0,0,0,0,0,0,0,0,0,0,0,0,0,0,{"$f":"AO716","v":0},{"$f":"AP716","v":0},{"$f":"AQ716","v":0},{"$f":"AR716","v":0},{"$f":"AS716","v":0}]
[null,null,null,null,"Transfer",null,"£m nominal",null,null,">",null,null,null,null,null,null,null,null,null,null,null,{"$f":"IF(V$4 >= $I675, -V711, 0)","v":0},0,0,0,0,0,0,0,0,0,0,0,0,0,0,0,0,0,0,0,{"$f":"IF(AP$4 >= $I675, -AP711, 0)","v":0},0,0,0,0]
[null,null,null,null,"Capex additions",null,"£m nominal",null,null,">",null,null,null,null,null,null,null,null,null,null,null,{"$f":"(V688 * V$53) * TOpf","v":0},0,0,0,0,0,0,0,0,0,0,0,0,0,0,0,0,0,0,0,0,0,0,0,0]
[null,null,null,null,"Tax book value pre-depreciation",null,"£m nominal",null,null,">",null,null,null,null,null,null,null,null,null,null,null,{"$f":"SUM(V711:V713)","v":0},0,0,0,0,0,0,{"$f":"SUM(AC711:AC713)","v":0},0,0,0,0,0,0,0,0,0,0,0,0,{"$f":"SUM(AP711:AP713)","v":0},0,0,0,0]
[null,null,null,null,"General pool capital allowance",null,"£m nominal",null,null,">",null,null,null,null,null,null,null,null,null,null,null,{"$f":"-V714*V709","v":0},0,0,0,0,0,0,0,0,0,0,0,0,0,0,0,0,0,0,0,{"$f":"-AP714*AP709","v":0},0,0,0,0]
[null,null,null,null,"Closing balance carried forward",null,null,null,null,">",null,null,null,null,null,null,null,null,null,null,null,{"$f":"SUM(V714:V715)","v":0},{"$f":"SUM(W714:W715)","v":0},0,0,0,0,0,0,0,0,0,0,0,0,0,0,0,0,0,0,{"$f":"SUM(AP714:AP715)","v":0},0,0,0,0]
[]
[null,null,null,"Special Rates"]
[]
[null,null,null,null,"Special Rate capital allowance rate",null,"%",null,null,">",null,null,null,null,null,null,null,null,null,null,null,{"$f":"V$44","v":0.06},{"$f":"W$44","v":0.06},0.06,0.06,0.06,0.06,0.06,0.1,0.1,0.1,0.1,0.08,0.08,0.08,0.08,0.08,0.08,0.08,0.06,0.06,0.06,0.06,0.06,0.06,0.06]
[]
[null,null,null,null,"Opening balance brought forward",null,"£m nominal",null,null,">",null,null,null,null,null,null,null,null,null,null,null,0,{"$f":"V727","v":0},0,0,0,0,0,0,0,0,0,0,0,0,0,0,0,0,0,0,{"$f":"AO727","v":0},{"$f":"AP727","v":0},{"$f":"AQ727","v":0},{"$f":"AR727","v":0},{"$f":"AS727","v":0}]
[null,null,null,null,"Transfer",null,"£m nominal",null,null,">",null,null,null,null,null,null,null,null,null,null,null,{"$f":"IF(V$4 >= $I675,-V722,0)","v":0},0,0,0,0,0,0,0,0,0,0,0,0,0,0,0,0,0,0,0,{"$f":"IF(AP$4 >= $I675,-AP722,0)","v":0},0,0,0,0]
[null,null,null,null,"Capex additions",null,"£m nominal",null,null,">",null,null,null,null,null,null,null,null,null,null,null,{"$f":"(V688 * V$54) * TOpf","v":0},0,0,0,0,0,0,0,0,0,0,0,0,0,0,0,0,0,0,0,0,0,0,0,0]
[null,null,null,null,"Tax book value pre-depreciation",null,"£m nominal",null,null,">",null,null,null,null,null,null,null,null,null,null,null,{"$f":"SUM(V722:V724)","v":0},0,0,0,0,0,0,{"$f":"SUM(AC722:AC724)","v":0},0,0,0,0,0,0,0,0,0,0,0,0,{"$f":"SUM(AP722:AP724)","v":0},0,0,0,0]
[null,null,null,null,"Special Rate capital allowance",null,"£m nominal",null,null,">",null,null,null,null,null,null,null,null,null,null,null,{"$f":"-V725*V720","v":0},0,0,0,0,0,0,0,0,0,0,0,0,0,0,0,0,0,0,0,{"$f":"-AP725*AP720","v":0},0,0,0,0]
[null,null,null,null,"Closing balance carried forward",null,null,null,null,">",null,null,null,null,null,null,null,null,null,null,null,{"$f":"SUM(V725:V726)","v":0},{"$f":"SUM(W725:W726)","v":0},0,0,0,0,0,0,0,0,0,0,0,0,0,0,0,0,0,0,{"$f":"SUM(AP725:AP726)","v":0},0,0,0,0]
[]
[null,null,"Revenue pool"]
[]
[null,null,null,null,"Revenue pool additions",null,"£m nominal",null,null,">",null,null,null,null,null,null,null,null,null,null,null,{"$f":"(V688 * V$55) * TOpf","v":0},0,0,0,0,0,0,0,0,0,0,0,0,0,0,0,0,0,0,0,0,0,0,0,0]
[]
[null,null,"Non-qualifying pool"]
[]
[null,null,null,null,"Non-qualifying expenditure",null,"£m nominal",null,null,">",null,null,null,null,null,null,null,null,null,null,null,{"$f":"(V688 * V$56) * TOpf","v":0},0,0,0,0,0,0,0,0,0,0,0,0,0,0,0,0,0,0,0,0,0,0,0,0]
[]
[null,null,"Net debt"]
[]
[null,null,null,null,"Overall gearing after equity issuance",null,"%",null,null,null,null,null,null,null,null,null,null,null,null,null,null,null,null,null,null,null,null,null,null,null,null,null,null,null,null,null,null,null,null,null,null,{"$f":"AP$46","v":0.6},0.58730484245989634,0.5819434430964423,0.57604812935946159,0.55936589604833153]
[]
[null,null,null,null,"Opening net debt",null,"£m nominal",null,null,null,null,null,null,null,null,null,null,null,null,null,null,null,null,null,null,null,null,null,null,null,null,null,null,null,null,null,null,null,null,null,null,null,{"$f":"AP749","v":0},{"$f":"AQ749","v":0},{"$f":"AR749","v":0},{"$f":"AS749","v":0}]
[null,null,null,null,"Transfer from core net debt",null,"£m nominal",null,null,null,null,null,null,null,null,null,null,null,null,null,null,null,null,null,null,null,null,null,null,null,null,null,null,null,null,null,null,null,null,null,null,null,{"$f":"AQ743-AQ741","v":0},0,0,0]
[null,null,null,null,"Opening net debt after transfer",null,"£m nominal",null,null,null,null,null,null,null,null,null,null,null,null,null,null,null,null,null,null,null,null,null,null,null,null,null,null,null,null,null,null,null,null,null,null,{"$f":"-AP739 * (AP687 - AP696) * Input!AO$191","v":0},{"$f":"-AQ739 * (AQ687 - AQ696) * Input!AP$191","v":0},{"$f":"-AR739 * (AR687 - AR696) * Input!AQ$191","v":0},{"$f":"-AS739 * (AS687 - AS696) * Input!AR$191","v":0},{"$f":"-AT739 * (AT687 - AT696) * Input!AS$191","v":0}]
[null,null,null,null,"Less capex",null,"£m nominal",null,null,null,null,null,null,null,null,null,null,null,null,null,null,null,null,null,null,null,null,null,null,null,null,null,null,null,null,null,null,null,null,null,null,{"$f":"-AP688 * TOpf","v":0},0,0,0,0]
[null,null,null,null,"Less dividends",null,"£m nominal",null,null,null,null,null,null,null,null,null,null,null,null,null,null,null,null,null,null,null,null,null,null,null,null,null,null,null,null,null,null,null,null,null,null,{"$f":"-AP703 * (1 - AP739) * AP$49 * TOpf","v":0},0,0,0,0]
[null,null,null,null,"Closing net debt (before interest and tax)",null,"£m nominal",null,null,null,null,null,null,null,null,null,null,null,null,null,null,null,null,null,null,null,null,null,null,null,null,null,null,null,null,null,null,null,null,null,null,{"$f":"SUM(AP743:AP745)","v":0},0,0,0,0]
[null,null,null,null,"Less net interest paid (excluding principal inflation accretion)",null,"£m nominal",null,null,null,null,null,null,null,null,null,null,null,null,null,null,null,null,null,null,null,null,null,null,null,null,null,null,null,null,null,null,null,null,null,null,{"$f":"((AP743 + AP746) / 2) * AP$47 * (1 - AP$48)","v":0},0,0,0,0]
[null,null,null,null,"Less net interest paid (principal inflation accretion)",null,"£m nominal",null,null,null,null,null,null,null,null,null,null,null,null,null,null,null,null,null,null,null,null,null,null,null,null,null,null,null,null,null,null,null,null,null,null,{"$f":"((AP743 + AP746) / 2) * AP$47 * AP$48","v":0},0,0,0,0]
[null,null,null,null,"Closing net debt",null,"£m nominal",null,null,null,null,null,null,null,null,null,null,null,null,null,null,null,null,null,null,null,null,null,null,null,null,null,null,null,null,null,null,null,null,null,null,{"$f":"SUM(AP746:AP748)","v":0},0,0,0,0]
[]
[null,"Langage"]
[]
[null,null,"Project specific inputs"]
[]
[null,null,null,null,"Asset transfer",null,"year ending",null,{"$f":"Input!I552","v":"2014-03-31"}]
[]
[null,null,null,null,"Pre-RIIO actual cost",null,"£m 18/19 prices",null,null,">",null,null,null,null,null,null,null,null,null,null,null,{"$f":"Input!V573","v":6.3350184548175488},{"$f":"Input!W573","v":0.15161537419251067},{"$f":"Input!X573","v":6.8313742015200324E-2},{"$f":"Input!Y573","v":0.58001340492677234},{"$f":"Input!Z573","v":15.90257335343291},{"$f":"Input!AA573","v":66.322206337765778},{"$f":"Input!AB573","v":71.872544333507165},{"$f":"Input!AC573","v":14.119648221907918},{"$f":"Input!AD573","v":-8.9339091599954928E-2},{"$f":"Input!AE573","v":-1.2020601152919898E-2},{"$f":"Input!AF573","v":-3.2229127425049485E-2},{"$f":"Input!AG573","v":0}]
[null,null,null,null,"Post-RIIO actual cost",null,"£m 18/19 prices",null,null,">"]
[null,null,null,null,"Actual cost",null,null,null,null,null,null,null,null,null,null,null,null,null,null,null,null,{"$f":"SUM(V757:V758)","v":6.3350184548175488},0.15161537419251067,6.8313742015200324E-2,0.58001340492677234,15.90257335343291,66.322206337765778,71.872544333507165,14.119648221907918,-8.9339091599954928E-2,-1.2020601152919898E-2,-3.2229127425049485E-2,0,0,0,0,0,0,0,0,0,{"$f":"SUM(AP757:AP758)","v":0},0,0,0,0]
[]
[null,null,"RAV"]
[]
[null,null,null,"Actual cost"]
[]
[null,null,null,null,"Opening balance brought forward",null,"£m 18/19 prices",null,null,">",null,null,null,null,null,null,null,null,null,null,null,0,{"$f":"V770","v":6.3350184548175488},6.4866338290100591,6.5549475710252594,7.1349609759520316,23.03753432938494,89.359740667150717,161.2322850006579,175.3519332225658,175.26259413096585,175.25057352981293,175.21834440238788,175.21834440238788,0,0,0,0,0,0,0,{"$f":"AO770","v":0},{"$f":"AP770","v":0},{"$f":"AQ770","v":0},{"$f":"AR770","v":0},{"$f":"AS770","v":0}]
[null,null,null,null,"Transfer",null,"£m 18/19 prices",null,null,">",null,null,null,null,null,null,null,null,null,null,null,{"$f":"IF(V$4=$I755,-V765,IF(YEAR(V$4)>YEAR($I755),-V765,0))","v":0},{"$f":"IF(W$4=$I755,-W765,IF(YEAR(W$4)>YEAR($I755),-W765,0))","v":0},0,0,0,0,0,0,0,0,0,0,-175.21834440238788,0,0,0,0,0,0,0,{"$f":"IF(AP$4=$I755,-AP765,IF(YEAR(AP$4)>YEAR($I755),-AP765,0))","v":0},0,0,0,0]
[null,null,null,null,"Opening balance after transfers",null,"£m 18/19 prices",null,null,">",null,null,null,null,null,null,null,null,null,null,null,{"$f":"SUM(V765:V766)","v":0},6.3350184548175488,6.4866338290100591,6.5549475710252594,7.1349609759520316,23.03753432938494,89.359740667150717,161.2322850006579,175.3519332225658,175.26259413096585,175.25057352981293,175.21834440238788,0,0,0,0,0,0,0,0,{"$f":"SUM(AP765:AP766)","v":0},0,0,0,0]
[null,null,null,null,"Net additions (after disposals)",null,"£m 18/19 prices",null,null,">",null,null,null,null,null,null,null,null,null,null,null,{"$f":"V759","v":6.3350184548175488},{"$f":"W759","v":0.15161537419251067},6.8313742015200324E-2,0.58001340492677234,15.90257335343291,66.322206337765778,71.872544333507165,14.119648221907918,-8.9339091599954928E-2,-1.2020601152919898E-2,-3.2229127425049485E-2,0,0,0,0,0,0,0,0,0,{"$f":"AP759","v":0},0,0,0,0]
[null,null,null,null,"Removals",null,"£m 18/19 prices"]
[null,null,null,null,"Balance carried forward",null,"£m 18/19 prices",null,null,">",null,null,null,null,null,null,null,null,null,null,null,{"$f":"V767 + V768 - V769","v":6.3350184548175488},6.4866338290100591,6.5549475710252594,7.1349609759520316,23.03753432938494,89.359740667150717,161.2322850006579,175.3519332225658,175.26259413096585,175.25057352981293,175.21834440238788,175.21834440238788,0,0,0,0,0,0,0,0,{"$f":"AP767 + AP768 - AP769","v":0},0,0,0,0]
[]
[null,null,null,"Actual accumulated depreciation"]
[]
[null,null,null,null,"Opening balance brought forward",null,"£m 18/19 prices",null,null,">",null,null,null,null,null,null,null,null,null,null,null,0,{"$f":"V779","v":0},0.14077818788483443,0.2849256063072802,0.43059110788561927,0.58914579624010888,1.1010910035597741,3.0868630183853458,6.6698026850666325,10.566512312234762,14.461236626256225,18.355693815807623,22.249434802527354,0,0,0,0,0,0,0,{"$f":"AO779","v":0},{"$f":"AP779","v":0},{"$f":"AQ779","v":0},{"$f":"AR779","v":0},{"$f":"AS779","v":0}]
[null,null,null,null,"Transfer",null,"£m 18/19 prices",null,null,">",null,null,null,null,null,null,null,null,null,null,null,{"$f":"IF(V$4 = $I755, -V774, 0)","v":0},{"$f":"IF(W$4 = $I755, -W774, 0)","v":0},0,0,0,0,0,0,0,0,0,0,-22.249434802527354,0,0,0,0,0,0,0,{"$f":"IF(AP$4 = $I755, -AP774, 0)","v":0},0,0,0,0]
[null,null,null,null,"Opening balance after transfers",null,"£m 18/19 prices",null,null,">",null,null,null,null,null,null,null,null,null,null,null,{"$f":"SUM(V774:V775)","v":0},0,0.14077818788483443,0.2849256063072802,0.43059110788561927,0.58914579624010888,1.1010910035597741,3.0868630183853458,6.6698026850666325,10.566512312234762,14.461236626256225,18.355693815807623,0,0,0,0,0,0,0,0,{"$f":"SUM(AP774:AP775)","v":0},0,0,0,0]
[null,null,null,null,"Regulatory depreciation",null,"£m 18/19 prices",null,null,">",null,null,null,null,null,null,null,null,null,null,null,{"$f":"V767/V$42","v":0},{"$f":"W767/W$42","v":0.14077818788483443},0.14414741842244577,0.1456655015783391,0.1585546883544896,0.51194520731966531,1.9857720148255715,3.5829396666812867,3.896709627168129,3.8947243140214636,3.8944571895513982,3.8937409867197306,0,0,0,0,0,0,0,0,{"$f":"AP767/AP$42","v":0},0,0,0,0]
[null,null,null,null,"Removals",null,"£m 18/19 prices",null,null,">"]
[null,null,null,null,"Closing value carried forward",null,"£m 18/19 prices",null,null,">",null,null,null,null,null,null,null,null,null,null,null,{"$f":"V776 + V777 - V778","v":0},{"$f":"W776 + W777 - W778","v":0.14077818788483443},0.2849256063072802,0.43059110788561927,0.58914579624010888,1.1010910035597741,3.0868630183853458,6.6698026850666325,10.566512312234762,14.461236626256225,18.355693815807623,22.249434802527354,0,0,0,0,0,0,0,0,{"$f":"AP776 + AP777 - AP778","v":0},0,0,0,0]
[]
[null,null,null,"Actual asset balance"]
[]
[null,null,null,null,"Net value after regulatory depreciation",null,"£m 18/19 prices",null,null,">",null,null,null,null,null,null,null,null,null,null,null,{"$f":"V770 - V779","v":6.3350184548175488},6.3458556411252243,6.2700219647179791,6.7043698680664123,22.448388533144829,88.258649663590944,158.14542198227255,168.68213053749918,164.6960818187311,160.78933690355669,156.86265058658026,152.96890959986052,0,0,0,0,0,0,0,0,{"$f":"AP770 - AP779","v":0},0,0,0,0]
[]
[null,null,"Capital allowances"]
[]
[null,null,null,"General pool"]
[]
[null,null,null,null,"General pool capital allowance rate",null,"%",null,null,">",null,null,null,null,null,null,null,null,null,null,null,{"$f":"V$43","v":0.25},{"$f":"W$43","v":0.25},0.25,0.25,0.25,0.25,0.25,0.2,0.2,0.2,0.2,0.18000000000000002,0.18000000000000002,0.18000000000000002,0.18000000000000002,0.18000000000000002,0.18000000000000002,0.18000000000000002,0.18000000000000002,0.18000000000000002,0.18,0.18,0.18,0.18,0.18]
[]
[null,null,null,null,"Opening balance brought forward",null,"£m nominal",null,null,">",null,null,null,null,null,null,null,null,null,null,null,0,{"$f":"V796","v":5.5403926253836985E-2},4.2906692888452461E-2,3.2807018831763429E-2,3.0094321477536799E-2,0.17703355357828779,0.80101377571546273,1.3548369742924433,1.2465774995953252,0.99622778636486409,0.79683616929430623,0.6370585359817128,{"$f":"AG796","v":0.52238799950500447},0,0,0,0,0,0,0,{"$f":"AO796","v":0},{"$f":"AP796","v":0},{"$f":"AQ796","v":0},{"$f":"AR796","v":0},{"$f":"AS796","v":0}]
[null,null,null,null,"Transfer",null,"£m nominal",null,null,">",null,null,null,null,null,null,null,null,null,null,null,{"$f":"IF(V$4 >= $I755, -V791, 0)","v":0},0,0,0,0,0,0,0,0,0,0,0,{"$f":"IF(AH$4 >= $I755, -AH791, 0)","v":-0.52238799950500447},0,0,0,0,0,0,0,{"$f":"IF(AP$4 >= $I755, -AP791, 0)","v":0},0,0,0,0]
[null,null,null,null,"Capex additions",null,"£m nominal",null,null,">",null,null,null,null,null,null,null,null,null,null,null,{"$f":"(V768 * V$53) * TOpf","v":7.3871901671782647E-2},1.804997597432961E-3,8.3599888723210833E-4,7.318743138285632E-3,0.20595041662684693,0.89098481404232921,1.0054355233411285,0.20338490020171313,-1.2927666392450693E-3,-1.8257474698135648E-4,-5.129993171651574E-4,0,0,0,0,0,0,0,0,0,0,0,0,0,0]
[null,null,null,null,"Tax book value pre-depreciation",null,"£m nominal",null,null,">",null,null,null,null,null,null,null,null,null,null,null,{"$f":"SUM(V791:V793)","v":7.3871901671782647E-2},5.7208923851269945E-2,4.3742691775684572E-2,4.0125761970049065E-2,0.23604473810438373,1.068018367620617,1.8064492990565912,{"$f":"SUM(AC791:AC793)","v":1.5582218744941565},1.2452847329560801,0.99604521161788273,0.79632316997714103,0.6370585359817128,0,0,0,0,0,0,0,0,{"$f":"SUM(AP791:AP793)","v":0},0,0,0,0]
[null,null,null,null,"General pool capital allowance",null,"£m nominal",null,null,">",null,null,null,null,null,null,null,null,null,null,null,{"$f":"-V794*V789","v":-1.8467975417945662E-2},-1.4302230962817486E-2,-1.0935672943921143E-2,-1.0031440492512266E-2,-5.9011184526095932E-2,-0.26700459190515424,-0.45161232476414781,-0.31164437489883134,-0.24905694659121602,-0.19920904232357656,-0.15926463399542823,-0.11467053647670832,0,0,0,0,0,0,0,0,{"$f":"-AP794*AP789","v":0},0,0,0,0]
[null,null,null,null,"Closing balance carried forward",null,null,null,null,">",null,null,null,null,null,null,null,null,null,null,null,{"$f":"SUM(V794:V795)","v":5.5403926253836985E-2},{"$f":"SUM(W794:W795)","v":4.2906692888452461E-2},3.2807018831763429E-2,3.0094321477536799E-2,0.17703355357828779,0.80101377571546273,1.3548369742924433,1.2465774995953252,0.99622778636486409,0.79683616929430623,0.6370585359817128,0.52238799950500447,0,0,0,0,0,0,0,0,{"$f":"SUM(AP794:AP795)","v":0},0,0,0,0]
[]
[null,null,null,"Special Rates"]
[]
[null,null,null,null,"Special Rate capital allowance rate",null,"%",null,null,">",null,null,null,null,null,null,null,null,null,null,null,{"$f":"V$44","v":0.06},{"$f":"W$44","v":0.06},0.06,0.06,0.06,0.06,0.06,0.1,0.1,0.1,0.1,0.08,0.08,0.08,0.08,0.08,0.08,0.08,0.06,0.06,0.06,0.06,0.06,0.06,0.06]
[]
[null,null,null,null,"Opening balance brought forward",null,"£m nominal",null,null,">",null,null,null,null,null,null,null,null,null,null,null,0,{"$f":"V807","v":3.5231453904685561},3.3978417524556983,3.2338422342375273,3.3888618202984815,13.007847454795499,54.720787086065506,99.389405851996159,98.737662078112663,88.804864063132499,79.916040717320257,71.90101147676863,66.148930558627143,0,0,0,0,0,0,0,{"$f":"AO807","v":0},{"$f":"AP807","v":0},{"$f":"AQ807","v":0},{"$f":"AR807","v":0},{"$f":"AS807","v":0}]
[null,null,null,null,"Transfer",null,"£m nominal",null,null,">",null,null,null,null,null,null,null,null,null,null,null,{"$f":"IF(V$4 >= $I755,-V802,0)","v":0},0,0,0,0,0,0,0,0,0,0,0,-66.148930558627143,0,0,0,0,0,0,0,{"$f":"IF(AP$4 >= $I755,-AP802,0)","v":0},0,0,0,0]
[null,null,null,null,"Capex additions",null,"£m nominal",null,null,">",null,null,null,null,null,null,null,null,null,null,null,{"$f":"(V768 * V$54) * TOpf","v":3.7480270111367617},9.1579878101335485E-2,4.2415943541671178E-2,0.37132991501617624,10.449273769909496,45.205755828252911,51.012623394781464,10.319107568129022,-6.5590896854328784E-2,-9.263266110001455E-3,-2.6027965355116405E-2,0,0,0,0,0,0,0,0,0,0,0,0,0,0]
[null,null,null,null,"Tax book value pre-depreciation",null,"£m nominal",null,null,">",null,null,null,null,null,null,null,null,null,null,null,{"$f":"SUM(V802:V804)","v":3.7480270111367617},3.6147252685698916,3.4402576959973694,3.6051721492537037,13.838135590207978,58.213603283048414,105.73341048084697,{"$f":"SUM(AC802:AC804)","v":109.70851342012519},98.672071181258332,88.795600797022502,79.890012751965145,71.90101147676863,0,0,0,0,0,0,0,0,{"$f":"SUM(AP802:AP804)","v":0},0,0,0,0]
[null,null,null,null,"Special Rate capital allowance",null,"£m nominal",null,null,">",null,null,null,null,null,null,null,null,null,null,null,{"$f":"-V805*V800","v":-0.22488162066820569},-0.21688351611419349,-0.20641546175984216,-0.2163103289552222,-0.83028813541247859,-3.4928161969829046,-6.3440046288508176,-10.970851342012519,-9.8672071181258332,-8.8795600797022498,-7.9890012751965145,-5.7520809181414903,0,0,0,0,0,0,0,0,{"$f":"-AP805*AP800","v":0},0,0,0,0]
[null,null,null,null,"Closing balance carried forward",null,null,null,null,">",null,null,null,null,null,null,null,null,null,null,null,{"$f":"SUM(V805:V806)","v":3.5231453904685561},{"$f":"SUM(W805:W806)","v":3.3978417524556983},3.2338422342375273,3.3888618202984815,13.007847454795499,54.720787086065506,99.389405851996159,98.737662078112663,88.804864063132499,79.916040717320257,71.90101147676863,66.148930558627143,0,0,0,0,0,0,0,0,{"$f":"SUM(AP805:AP806)","v":0},0,0,0,0]
[]
[null,null,"Revenue pool"]
[]
[null,null,null,null,"Revenue pool additions",null,"£m nominal",null,null,">",null,null,null,null,null,null,null,null,null,null,null,{"$f":"(V768 * V$55) * TOpf","v":1.5551979299322663E-2},3.7999949419641286E-4,1.7599976573307542E-4,1.5407880291127647E-3,4.3357982447757251E-2,0.18757575032470089,0.21167063649286913,4.2817873726676441E-2,-2.7216139773580408E-4,-3.8436788838180319E-5,-1.079998562452963E-4,0,0,0,0,0,0,0,0,0,0,0,0,0,0]
[]
[null,null,"Non-qualifying pool"]
[]
[null,null,null,null,"Non-qualifying expenditure",null,"£m nominal",null,null,">",null,null,null,null,null,null,null,null,null,null,null,{"$f":"(V768 * V$56) * TOpf","v":5.0543932722798654E-2},1.2349983561383416E-3,5.7199923863249507E-4,5.0075610946164846E-3,0.14091344295521105,0.6096211885552778,0.68792956860182475,0.13915808961169843,-8.8452454264136319E-4,-1.2491956372408602E-4,-3.5099953279721293E-4,0,0,0,0,0,0,0,0,0,0,0,0,0,0]
[]
[null,null,"Net debt"]
[]
[null,null,null,null,"Overall gearing after equity issuance",null,"%",null,null,null,null,null,null,null,null,null,null,null,null,null,null,null,null,null,null,null,null,null,null,null,null,null,null,null,null,null,null,null,null,null,null,{"$f":"AP$46","v":0.6},0.58730484245989634,0.5819434430964423,0.57604812935946159,0.55936589604833153]
[]
[null,null,null,null,"Opening net debt",null,"£m nominal",null,null,null,null,null,null,null,null,null,null,null,null,null,null,null,null,null,null,null,null,null,null,null,null,null,null,null,null,null,null,null,null,null,null,null,{"$f":"AP829","v":0},{"$f":"AQ829","v":0},{"$f":"AR829","v":0},{"$f":"AS829","v":0}]
[null,null,null,null,"Transfer from core net debt",null,"£m nominal",null,null,null,null,null,null,null,null,null,null,null,null,null,null,null,null,null,null,null,null,null,null,null,null,null,null,null,null,null,null,null,null,null,null,null,{"$f":"AQ823-AQ821","v":0},0,0,0]
[null,null,null,null,"Opening net debt after transfer",null,"£m nominal",null,null,null,null,null,null,null,null,null,null,null,null,null,null,null,null,null,null,null,null,null,null,null,null,null,null,null,null,null,null,null,null,null,null,{"$f":"-AP819 * (AP767 - AP776) * Input!AO$191","v":0},{"$f":"-AQ819 * (AQ767 - AQ776) * Input!AP$191","v":0},{"$f":"-AR819 * (AR767 - AR776) * Input!AQ$191","v":0},{"$f":"-AS819 * (AS767 - AS776) * Input!AR$191","v":0},{"$f":"-AT819 * (AT767 - AT776) * Input!AS$191","v":0}]
[null,null,null,null,"Less capex",null,"£m nominal",null,null,null,null,null,null,null,null,null,null,null,null,null,null,null,null,null,null,null,null,null,null,null,null,null,null,null,null,null,null,null,null,null,null,{"$f":"-AP768 * TOpf","v":0},0,0,0,0]
[null,null,null,null,"Less dividends",null,"£m nominal",null,null,null,null,null,null,null,null,null,null,null,null,null,null,null,null,null,null,null,null,null,null,null,null,null,null,null,null,null,null,null,null,null,null,{"$f":"-AP783 * (1 - AP819) * AP$49 * TOpf","v":0},0,0,0,0]
[null,null,null,null,"Closing net debt (before interest and tax)",null,"£m nominal",null,null,null,null,null,null,null,null,null,null,null,null,null,null,null,null,null,null,null,null,null,null,null,null,null,null,null,null,null,null,null,null,null,null,{"$f":"SUM(AP823:AP825)","v":0},0,0,0,0]
[null,null,null,null,"Less net interest paid (excluding principal inflation accretion)",null,"£m nominal",null,null,null,null,null,null,null,null,null,null,null,null,null,null,null,null,null,null,null,null,null,null,null,null,null,null,null,null,null,null,null,null,null,null,{"$f":"((AP823 + AP826) / 2) * AP$47 * (1 - AP$48)","v":0},0,0,0,0]
[null,null,null,null,"Less net interest paid (principal inflation accretion)",null,"£m nominal",null,null,null,null,null,null,null,null,null,null,null,null,null,null,null,null,null,null,null,null,null,null,null,null,null,null,null,null,null,null,null,null,null,null,{"$f":"((AP823 + AP826) / 2) * AP$47 * AP$48","v":0},0,0,0,0]
[null,null,null,null,"Closing net debt",null,"£m nominal",null,null,null,null,null,null,null,null,null,null,null,null,null,null,null,null,null,null,null,null,null,null,null,null,null,null,null,null,null,null,null,null,null,null,{"$f":"SUM(AP826:AP828)","v":0},0,0,0,0]
[]
[null,"Marchwood"]
[]
[null,null,"Project specific inputs"]
[]
[null,null,null,null,"Asset transfer",null,"year ending",null,{"$f":"Input!I553","v":"2014-03-31"}]
[]
[null,null,null,null,"Pre-RIIO actual cost",null,"£m 18/19 prices",null,null,">",null,null,null,null,null,null,null,null,null,null,null,{"$f":"Input!V574","v":0},{"$f":"Input!W574","v":0},{"$f":"Input!X574","v":0},{"$f":"Input!Y574","v":0},{"$f":"Input!Z574","v":9.5905463626232118E-2},{"$f":"Input!AA574","v":5.1225963098773342},{"$f":"Input!AB574","v":21.934394469371441},{"$f":"Input!AC574","v":37.845622773415997},{"$f":"Input!AD574","v":0.17055426080929043},{"$f":"Input!AE574","v":0.34988501946523248},{"$f":"Input!AF574","v":-0.24589630553926645},{"$f":"Input!AG574","v":0}]
[null,null,null,null,"Post-RIIO actual cost",null,"£m 18/19 prices",null,null,">"]
[null,null,null,null,"Actual cost",null,null,null,null,null,null,null,null,null,null,null,null,null,null,null,null,{"$f":"SUM(V837:V838)","v":0},0,0,0,9.5905463626232118E-2,5.1225963098773342,21.934394469371441,37.845622773415997,0.17055426080929043,0.34988501946523248,-0.24589630553926645,0,0,0,0,0,0,0,0,0,0,0,0,0,0]
[]
[null,null,"RAV"]
[]
[null,null,null,"Actual cost"]
[]
[null,null,null,null,"Opening balance brought forward",null,"£m 18/19 prices",null,null,">",null,null,null,null,null,null,null,null,null,null,null,0,{"$f":"V850","v":0},0,0,0,9.5905463626232118E-2,5.2185017735035659,27.152896242875006,64.998519016290999,65.169073277100296,65.518958296565529,65.273061991026267,65.273061991026267,0,0,0,0,0,0,0,{"$f":"AO850","v":0},{"$f":"AP850","v":0},{"$f":"AQ850","v":0},{"$f":"AR850","v":0},{"$f":"AS850","v":0}]
[null,null,null,null,"Transfer",null,"£m 18/19 prices",null,null,">",null,null,null,null,null,null,null,null,null,null,null,{"$f":"IF(V$4=$I835,-V845,IF(YEAR(V$4)>YEAR($I835),-V845,0))","v":0},0,0,0,0,0,0,0,0,0,0,0,-65.273061991026267,0,0,0,0,0,0,0,{"$f":"IF(AP$4=$I835,-AP845,IF(YEAR(AP$4)>YEAR($I835),-AP845,0))","v":0},0,0,0,0]
[null,null,null,null,"Opening balance after transfers",null,"£m 18/19 prices",null,null,">",null,null,null,null,null,null,null,null,null,null,null,{"$f":"SUM(V845:V846)","v":0},0,0,0,0,9.5905463626232118E-2,5.2185017735035659,27.152896242875006,64.998519016290999,65.169073277100296,65.518958296565529,65.273061991026267,0,0,0,0,0,0,0,0,{"$f":"SUM(AP845:AP846)","v":0},0,0,0,0]
[null,null,null,null,"Net additions (after disposals)",null,"£m 18/19 prices",null,null,">",null,null,null,null,null,null,null,null,null,null,null,{"$f":"V839","v":0},{"$f":"W839","v":0},0,0,9.5905463626232118E-2,5.1225963098773342,21.934394469371441,37.845622773415997,0.17055426080929043,0.34988501946523248,-0.24589630553926645,0,0,0,0,0,0,0,0,0,{"$f":"AP839","v":0},0,0,0,0]
[null,null,null,null,"Removals",null,"£m 18/19 prices"]
[null,null,null,null,"Balance carried forward",null,"£m 18/19 prices",null,null,">",null,null,null,null,null,null,null,null,null,null,null,{"$f":"V847 + V848 - V849","v":0},0,0,0,9.5905463626232118E-2,5.2185017735035659,27.152896242875006,64.998519016290999,65.169073277100296,65.518958296565529,65.273061991026267,65.273061991026267,0,0,0,0,0,0,0,0,{"$f":"AP847 + AP848 - AP849","v":0},0,0,0,0]
[]
[null,null,null,"Actual accumulated depreciation"]
[]
[null,null,null,null,"Opening balance brought forward",null,"£m 18/19 prices",null,null,">",null,null,null,null,null,null,null,null,null,null,null,0,{"$f":"V859","v":0},0,0,0,0,2.1312325250273803E-3,0.11809793860288439,0.72149563288899565,2.1659071665843515,3.6141087949643582,5.0700856459991481,6.5205981346886208,0,0,0,0,0,0,0,{"$f":"AO859","v":0},{"$f":"AP859","v":0},{"$f":"AQ859","v":0},{"$f":"AR859","v":0},{"$f":"AS859","v":0}]
[null,null,null,null,"Transfer",null,"£m 18/19 prices",null,null,">",null,null,null,null,null,null,null,null,null,null,null,{"$f":"IF(V$4 = $I835, -V854, 0)","v":0},0,0,0,0,0,0,0,0,0,0,0,-6.5205981346886208,0,0,0,0,0,0,0,{"$f":"IF(AP$4 = $I835, -AP854, 0)","v":0},0,0,0,0]
[null,null,null,null,"Opening balance after transfers",null,"£m 18/19 prices",null,null,">",null,null,null,null,null,null,null,null,null,null,null,{"$f":"SUM(V854:V855)","v":0},0,0,0,0,0,2.1312325250273803E-3,0.11809793860288439,0.72149563288899565,2.1659071665843515,3.6141087949643582,5.0700856459991481,0,0,0,0,0,0,0,0,{"$f":"SUM(AP854:AP855)","v":0},0,0,0,0]
[null,null,null,null,"Regulatory depreciation",null,"£m 18/19 prices",null,null,">",null,null,null,null,null,null,null,null,null,null,null,{"$f":"V847/V$42","v":0},{"$f":"W847/W$42","v":0},0,0,0,2.1312325250273803E-3,0.11596670607785702,0.60339769428611123,1.4444115336953556,1.4482016283800065,1.4559768510347895,1.4505124886894727,0,0,0,0,0,0,0,0,{"$f":"AP847/AP$42","v":0},0,0,0,0]
[null,null,null,null,"Removals",null,"£m 18/19 prices",null,null,">"]
[null,null,null,null,"Closing value carried forward",null,"£m 18/19 prices",null,null,">",null,null,null,null,null,null,null,null,null,null,null,{"$f":"V856 + V857 - V858","v":0},{"$f":"W856 + W857 - W858","v":0},0,0,0,2.1312325250273803E-3,0.11809793860288439,0.72149563288899565,2.1659071665843515,3.6141087949643582,5.0700856459991481,6.5205981346886208,0,0,0,0,0,0,0,0,{"$f":"AP856 + AP857 - AP858","v":0},0,0,0,0]
[]
[null,null,null,"Actual asset balance"]
[]
[null,null,null,null,"Net value after regulatory depreciation",null,"£m 18/19 prices",null,null,">",null,null,null,null,null,null,null,null,null,null,null,{"$f":"V850 - V859","v":0},0,0,0,9.5905463626232118E-2,5.2163705409785388,27.034798304272122,64.277023383401996,63.003166110515942,61.90484950160117,60.202976345027118,58.752463856337648,0,0,0,0,0,0,0,0,0,0,0,0,0]
[]
[null,null,"Capital allowances"]
[]
[null,null,null,"General pool"]
[]
[null,null,null,null,"General pool capital allowance rate",null,"%",null,null,">",null,null,null,null,null,null,null,null,null,null,null,{"$f":"V$43","v":0.25},{"$f":"W$43","v":0.25},0.25,0.25,0.25,0.25,0.25,0.2,0.2,0.2,0.2,0.18000000000000002,0.18000000000000002,0.18000000000000002,0.18000000000000002,0.18000000000000002,0.18000000000000002,0.18000000000000002,0.18000000000000002,0.18000000000000002,0.18,0.18,0.18,0.18,0.18]
[]
[null,null,null,null,"Opening balance brought forward",null,"£m nominal",null,null,">",null,null,null,null,null,null,null,null,null,null,null,0,{"$f":"V876","v":0},0,0,0,9.3153650756543646E-4,5.2312083679901859E-2,0.26936664941376121,0.65160776600283787,0.52326059471824193,0.42285985509173624,0.33515668824121059,0.27482848435779267,0,0,0,0,0,0,0,{"$f":"AO876","v":0},{"$f":"AP876","v":0},{"$f":"AQ876","v":0},{"$f":"AR876","v":0},{"$f":"AS876","v":0}]
[null,null,null,null,"Transfer",null,"£m nominal",null,null,">",null,null,null,null,null,null,null,null,null,null,null,{"$f":"IF(V$4 >= $I835, -V871, 0)","v":0},0,0,0,0,0,0,0,0,0,0,0,-0.27482848435779267,0,0,0,0,0,0,0,{"$f":"IF(AP$4 >= $I835, -AP871, 0)","v":0},0,0,0,0]
[null,null,null,null,"Capex additions",null,"£m nominal",null,null,">",null,null,null,null,null,null,null,null,null,null,null,{"$f":"(V848 * V$53) * TOpf","v":0},0,0,0,1.2420486767539152E-3,6.8817908398970382E-2,0.30684344887177972,0.54514305808978614,2.46797739496452E-3,5.3142241464283861E-3,-3.9139947902230524E-3,0,0,0,0,0,0,0,0,0,0,0,0,0,0]
[null,null,null,null,"Tax book value pre-depreciation",null,"£m nominal",null,null,">",null,null,null,null,null,null,null,null,null,null,null,{"$f":"SUM(V871:V873)","v":0},0,0,0,1.2420486767539152E-3,6.9749444906535812E-2,0.35915553255168159,{"$f":"SUM(AC871:AC873)","v":0.81450970750354734},0.65407574339780239,0.52857481886467028,0.41894586030151321,0.33515668824121059,0,0,0,0,0,0,0,0,{"$f":"SUM(AP871:AP873)","v":0},0,0,0,0]
[null,null,null,null,"General pool capital allowance",null,"£m nominal",null,null,">",null,null,null,null,null,null,null,null,null,null,null,{"$f":"-V874*V869","v":0},0,0,0,-3.105121691884788E-4,-1.7437361226633953E-2,-8.9788883137920397E-2,-0.16290194150070947,-0.13081514867956048,-0.10571496377293406,-8.3789172060302647E-2,-6.0328203883417912E-2,0,0,0,0,0,0,0,0,{"$f":"-AP874*AP869","v":0},0,0,0,0]
[null,null,null,null,"Closing balance carried forward",null,null,null,null,">",null,null,null,null,null,null,null,null,null,null,null,{"$f":"SUM(V874:V875)","v":0},{"$f":"SUM(W874:W875)","v":0},0,0,9.3153650756543646E-4,5.2312083679901859E-2,0.26936664941376121,0.65160776600283787,0.52326059471824193,0.42285985509173624,0.33515668824121059,0.27482848435779267,0,0,0,0,0,0,0,0,{"$f":"SUM(AP874:AP875)","v":0},0,0,0,0]
[]
[null,null,null,"Special Rates"]
[]
[null,null,null,null,"Special Rate capital allowance rate",null,"%",null,null,">",null,null,null,null,null,null,null,null,null,null,null,{"$f":"V$44","v":0.06},{"$f":"W$44","v":0.06},0.06,0.06,0.06,0.06,0.06,0.1,0.1,0.1,0.1,0.08,0.08,0.08,0.08,0.08,0.08,0.08,0.06,0.06,0.06,0.06,0.06,0.06,0.06]
[]
[null,null,null,null,"Opening balance brought forward",null,"£m nominal",null,null,">",null,null,null,null,null,null,null,null,null,null,null,0,{"$f":"V887","v":0},0,0,0,5.9236569943543566E-2,3.3377895270527729,17.771693714884972,40.887477880170081,36.911425733619978,33.462947416544367,29.937927312784794,27.54289312776201,0,0,0,0,0,0,0,{"$f":"AO887","v":0},{"$f":"AP887","v":0},{"$f":"AQ887","v":0},{"$f":"AR887","v":0},{"$f":"AS887","v":0}]
[null,null,null,null,"Transfer",null,"£m nominal",null,null,">",null,null,null,null,null,null,null,null,null,null,null,{"$f":"IF(V$4 >= $I835,-V882,0)","v":0},0,0,0,0,0,0,0,0,0,0,0,-27.54289312776201,0,0,0,0,0,0,0,{"$f":"IF(AP$4 >= $I835,-AP882,0)","v":0},0,0,0,0]
[null,null,null,null,"Capex additions",null,"£m nominal",null,null,">",null,null,null,null,null,null,null,null,null,null,null,{"$f":"(V848 * V$54) * TOpf","v":0},0,0,0,6.3017627599514431E-2,3.4916033524530232,15.568267616441878,27.658837263081779,0.12521737940767355,0.26962695142931387,-0.19858373567236962,0,0,0,0,0,0,0,0,0,0,0,0,0,0]
[null,null,null,null,"Tax book value pre-depreciation",null,"£m nominal",null,null,">",null,null,null,null,null,null,null,null,null,null,null,{"$f":"SUM(V882:V884)","v":0},0,0,0,6.3017627599514431E-2,3.550839922396567,18.90605714349465,{"$f":"SUM(AC882:AC884)","v":45.430530977966754},41.012695259577754,37.181052685049295,33.264363680871995,29.937927312784794,0,0,0,0,0,0,0,0,{"$f":"SUM(AP882:AP884)","v":0},0,0,0,0]
[null,null,null,null,"Special Rate capital allowance",null,"£m nominal",null,null,">",null,null,null,null,null,null,null,null,null,null,null,{"$f":"-V885*V880","v":0},0,0,0,-3.7810576559708657E-3,-0.21305039534379402,-1.1343634286096789,-4.5430530977966752,-4.1012695259577754,-3.7181052685049298,-3.3264363680871996,-2.3950341850227836,0,0,0,0,0,0,0,0,{"$f":"-AP885*AP880","v":0},0,0,0,0]
[null,null,null,null,"Closing balance carried forward",null,null,null,null,">",null,null,null,null,null,null,null,null,null,null,null,{"$f":"SUM(V885:V886)","v":0},{"$f":"SUM(W885:W886)","v":0},0,0,5.9236569943543566E-2,3.3377895270527729,17.771693714884972,40.887477880170081,36.911425733619978,33.462947416544367,29.937927312784794,27.54289312776201,0,0,0,0,0,0,0,0,{"$f":"SUM(AP885:AP886)","v":0},0,0,0,0]
[]
[null,null,"Revenue pool"]
[]
[null,null,null,null,"Revenue pool additions",null,"£m nominal",null,null,">",null,null,null,null,null,null,null,null,null,null,null,{"$f":"(V848 * V$55) * TOpf","v":0},0,0,0,2.6148393194819268E-4,1.4487980715572711E-2,6.4598620815111515E-2,0.11476695959784972,5.1957418841358321E-4,1.1187840308270287E-3,-8.239989032048533E-4,0,0,0,0,0,0,0,0,0,0,0,0,0,0]
[]
[null,null,"Non-qualifying pool"]
[]
[null,null,null,null,"Non-qualifying expenditure",null,"£m nominal",null,null,">",null,null,null,null,null,null,null,null,null,null,null,{"$f":"(V848 * V$56) * TOpf","v":0},0,0,0,8.4982277883162622E-4,4.708593732561131E-2,0.20994551764911246,0.37299261869301154,1.6886161123441453E-3,3.6360481001878426E-3,-2.6779964354157726E-3,0,0,0,0,0,0,0,0,0,0,0,0,0,0]
[]
[null,null,"Net debt"]
[]
[null,null,null,null,"Overall gearing after equity issuance",null,"%",null,null,null,null,null,null,null,null,null,null,null,null,null,null,null,null,null,null,null,null,null,null,null,null,null,null,null,null,null,null,null,null,null,null,{"$f":"AP$46","v":0.6},0.58730484245989634,0.5819434430964423,0.57604812935946159,0.55936589604833153]
[]
[null,null,null,null,"Opening net debt",null,"£m nominal",null,null,null,null,null,null,null,null,null,null,null,null,null,null,null,null,null,null,null,null,null,null,null,null,null,null,null,null,null,null,null,null,null,null,null,{"$f":"AP909","v":0},{"$f":"AQ909","v":0},{"$f":"AR909","v":0},{"$f":"AS909","v":0}]
[null,null,null,null,"Transfer from core net debt",null,"£m nominal",null,null,null,null,null,null,null,null,null,null,null,null,null,null,null,null,null,null,null,null,null,null,null,null,null,null,null,null,null,null,null,null,null,null,null,{"$f":"AQ903-AQ901","v":0},0,0,0]
[null,null,null,null,"Opening net debt after transfer",null,"£m nominal",null,null,null,null,null,null,null,null,null,null,null,null,null,null,null,null,null,null,null,null,null,null,null,null,null,null,null,null,null,null,null,null,null,null,{"$f":"-AP899 * (AP847 - AP856) * Input!AO$191","v":0},{"$f":"-AQ899 * (AQ847 - AQ856) * Input!AP$191","v":0},{"$f":"-AR899 * (AR847 - AR856) * Input!AQ$191","v":0},{"$f":"-AS899 * (AS847 - AS856) * Input!AR$191","v":0},{"$f":"-AT899 * (AT847 - AT856) * Input!AS$191","v":0}]
[null,null,null,null,"Less capex",null,"£m nominal",null,null,null,null,null,null,null,null,null,null,null,null,null,null,null,null,null,null,null,null,null,null,null,null,null,null,null,null,null,null,null,null,null,null,{"$f":"-AP848 * TOpf","v":0},0,0,0,0]
[null,null,null,null,"Less dividends",null,"£m nominal",null,null,null,null,null,null,null,null,null,null,null,null,null,null,null,null,null,null,null,null,null,null,null,null,null,null,null,null,null,null,null,null,null,null,{"$f":"-AP863 * (1 - AP899) * AP$49 * TOpf","v":0},0,0,0,0]
[null,null,null,null,"Closing net debt (before interest and tax)",null,"£m nominal",null,null,null,null,null,null,null,null,null,null,null,null,null,null,null,null,null,null,null,null,null,null,null,null,null,null,null,null,null,null,null,null,null,null,{"$f":"SUM(AP903:AP905)","v":0},0,0,0,0]
[null,null,null,null,"Less net interest paid (excluding principal inflation accretion)",null,"£m nominal",null,null,null,null,null,null,null,null,null,null,null,null,null,null,null,null,null,null,null,null,null,null,null,null,null,null,null,null,null,null,null,null,null,null,{"$f":"((AP903 + AP906) / 2) * AP$47 * (1 - AP$48)","v":0},0,0,0,0]
[null,null,null,null,"Less net interest paid (principal inflation accretion)",null,"£m nominal",null,null,null,null,null,null,null,null,null,null,null,null,null,null,null,null,null,null,null,null,null,null,null,null,null,null,null,null,null,null,null,null,null,null,{"$f":"((AP903 + AP906) / 2) * AP$47 * AP$48","v":0},0,0,0,0]
[null,null,null,null,"Closing net debt",null,"£m nominal",null,null,null,null,null,null,null,null,null,null,null,null,null,null,null,null,null,null,null,null,null,null,null,null,null,null,null,null,null,null,null,null,null,null,{"$f":"SUM(AP906:AP908)","v":0},0,0,0,0]
[]
[null,"Pembroke"]
[]
[null,null,"Project specific inputs"]
[]
[null,null,null,null,"Asset transfer",null,"year ending",null,{"$f":"Input!I554","v":"2017-03-31"}]
[]
[null,null,null,null,"Pre-RIIO actual cost",null,"£m 18/19 prices",null,null,">",null,null,null,null,null,null,null,null,null,null,null,{"$f":"Input!V575","v":0},{"$f":"Input!W575","v":0},{"$f":"Input!X575","v":0},{"$f":"Input!Y575","v":0},{"$f":"Input!Z575","v":0},{"$f":"Input!AA575","v":0},{"$f":"Input!AB575","v":0},{"$f":"Input!AC575","v":0},{"$f":"Input!AD575","v":0},{"$f":"Input!AE575","v":0},{"$f":"Input!AF575","v":0},{"$f":"Input!AG575","v":0}]
[null,null,null,null,"Post-RIIO actual cost",null,"£m 18/19 prices",null,null,">"]
[null,null,null,null,"Actual cost",null,null,null,null,null,null,null,null,null,null,null,null,null,null,null,null,{"$f":"SUM(V917:V918)","v":0},0,0,0,0,0,0,0,0,0,0,0,0,0,0,0,0,0,0,0,0,0,0,0,0]
[]
[null,null,"RAV"]
[]
[null,null,null,"Actual cost"]
[]
[null,null,null,null,"Opening balance brought forward",null,"£m 18/19 prices",null,null,">",null,null,null,null,null,null,null,null,null,null,null,0,{"$f":"V930","v":0},0,0,0,0,0,0,0,0,0,0,0,0,0,0,0,0,0,0,{"$f":"AO930","v":0},{"$f":"AP930","v":0},{"$f":"AQ930","v":0},{"$f":"AR930","v":0},{"$f":"AS930","v":0}]
[null,null,null,null,"Transfer",null,"£m 18/19 prices",null,null,">",null,null,null,null,null,null,null,null,null,null,null,{"$f":"IF(V$4=$I915,-V925,IF(YEAR(V$4)>YEAR($I915),-V925,0))","v":0},0,0,0,0,0,0,0,0,0,0,0,0,0,0,0,0,0,0,0,{"$f":"IF(AP$4=$I915,-AP925,IF(YEAR(AP$4)>YEAR($I915),-AP925,0))","v":0},0,0,0,0]
[null,null,null,null,"Opening balance after transfers",null,"£m 18/19 prices",null,null,">",null,null,null,null,null,null,null,null,null,null,null,{"$f":"SUM(V925:V926)","v":0},0,0,0,0,0,0,0,0,0,0,0,0,0,0,0,0,0,0,0,{"$f":"SUM(AP925:AP926)","v":0},0,0,0,0]
[null,null,null,null,"Net additions (after disposals)",null,"£m 18/19 prices",null,null,">",null,null,null,null,null,null,null,null,null,null,null,{"$f":"V919","v":0},{"$f":"W919","v":0},0,0,0,0,0,0,0,0,0,0,0,0,0,0,0,0,0,0,{"$f":"AP919","v":0},0,0,0,0]
[null,null,null,null,"Removals",null,"£m 18/19 prices"]
[null,null,null,null,"Balance carried forward",null,"£m 18/19 prices",null,null,">",null,null,null,null,null,null,null,null,null,null,null,{"$f":"V927 + V928 - V929","v":0},0,0,0,0,0,0,0,0,0,0,0,0,0,0,0,0,0,0,0,{"$f":"AP927 + AP928 - AP929","v":0},0,0,0,0]
[]
[null,null,null,"Actual accumulated depreciation"]
[]
[null,null,null,null,"Opening balance brought forward",null,"£m 18/19 prices",null,null,">",null,null,null,null,null,null,null,null,null,null,null,0,{"$f":"V939","v":0},0,0,0,0,0,0,0,0,0,0,0,0,0,0,0,0,0,0,{"$f":"AO939","v":0},{"$f":"AP939","v":0},{"$f":"AQ939","v":0},{"$f":"AR939","v":0},{"$f":"AS939","v":0}]
[null,null,null,null,"Transfer",null,"£m 18/19 prices",null,null,">",null,null,null,null,null,null,null,null,null,null,null,{"$f":"IF(V$4 = $I915, -V934, 0)","v":0},0,0,0,0,0,0,0,0,0,0,0,0,0,0,0,0,0,0,0,{"$f":"IF(AP$4 = $I915, -AP934, 0)","v":0},0,0,0,0]
[null,null,null,null,"Opening balance after transfers",null,"£m 18/19 prices",null,null,">",null,null,null,null,null,null,null,null,null,null,null,{"$f":"SUM(V934:V935)","v":0},0,0,0,0,0,0,0,0,0,0,0,0,0,0,0,0,0,0,0,{"$f":"SUM(AP934:AP935)","v":0},0,0,0,0]
[null,null,null,null,"Regulatory depreciation",null,"£m 18/19 prices",null,null,">",null,null,null,null,null,null,null,null,null,null,null,{"$f":"V927/V$42","v":0},{"$f":"W927/W$42","v":0},0,0,0,0,0,0,0,0,0,0,0,0,0,0,0,0,0,0,{"$f":"AP927/AP$42","v":0},0,0,0,0]
[null,null,null,null,"Removals",null,"£m 18/19 prices",null,null,">"]
[null,null,null,null,"Closing value carried forward",null,"£m 18/19 prices",null,null,">",null,null,null,null,null,null,null,null,null,null,null,{"$f":"V936 + V937 - V938","v":0},{"$f":"W936 + W937 - W938","v":0},0,0,0,0,0,0,0,0,0,0,0,0,0,0,0,0,0,0,{"$f":"AP936 + AP937 - AP938","v":0},0,0,0,0]
[]
[null,null,null,"Actual asset balance"]
[]
[null,null,null,null,"Net value after regulatory depreciation",null,"£m 18/19 prices",null,null,">",null,null,null,null,null,null,null,null,null,null,null,{"$f":"V930 - V939","v":0},0,0,0,0,0,0,0,0,0,0,0,0,0,0,0,0,0,0,0,0,0,0,0,0]
[]
[null,null,"Capital allowances"]
[]
[null,null,null,"General pool"]
[]
[null,null,null,null,"General pool capital allowance rate",null,"%",null,null,">",null,null,null,null,null,null,null,null,null,null,null,{"$f":"V$43","v":0.25},{"$f":"W$43","v":0.25},0.25,0.25,0.25,0.25,0.25,0.2,0.2,0.2,0.2,0.18000000000000002,0.18000000000000002,0.18000000000000002,0.18000000000000002,0.18000000000000002,0.18000000000000002,0.18000000000000002,0.18000000000000002,0.18000000000000002,0.18,0.18,0.18,0.18,0.18]
[]
[null,null,null,null,"Opening balance brought forward",null,"£m nominal",null,null,">",null,null,null,null,null,null,null,null,null,null,null,0,{"$f":"V956","v":0},0,0,0,0,0,0,0,0,0,0,0,0,0,0,0,0,0,0,{"$f":"AO956","v":0},{"$f":"AP956","v":0},{"$f":"AQ956","v":0},{"$f":"AR956","v":0},{"$f":"AS956","v":0}]
[null,null,null,null,"Transfer",null,"£m nominal",null,null,">",null,null,null,null,null,null,null,null,null,null,null,{"$f":"IF(V$4 >= $I915, -V951, 0)","v":0},0,0,0,0,0,0,0,0,0,0,0,0,0,0,0,0,0,0,0,{"$f":"IF(AP$4 >= $I915, -AP951, 0)","v":0},0,0,0,0]
[null,null,null,null,"Capex additions",null,"£m nominal",null,null,">",null,null,null,null,null,null,null,null,null,null,null,{"$f":"(V928 * V$53) * TOpf","v":0},0,0,0,0,0,0,0,0,0,0,0,0,0,0,0,0,0,0,0,0,0,0,0,0]
[null,null,null,null,"Tax book value pre-depreciation",null,"£m nominal",null,null,">",null,null,null,null,null,null,null,null,null,null,null,{"$f":"SUM(V951:V953)","v":0},0,0,0,0,0,0,{"$f":"SUM(AC951:AC953)","v":0},0,0,0,0,0,0,0,0,0,0,0,0,{"$f":"SUM(AP951:AP953)","v":0},0,0,0,0]
[null,null,null,null,"General pool capital allowance",null,"£m nominal",null,null,">",null,null,null,null,null,null,null,null,null,null,null,{"$f":"-V954*V949","v":0},0,0,0,0,0,0,0,0,0,0,0,0,0,0,0,0,0,0,0,{"$f":"-AP954*AP949","v":0},0,0,0,0]
[null,null,null,null,"Closing balance carried forward",null,null,null,null,">",null,null,null,null,null,null,null,null,null,null,null,{"$f":"SUM(V954:V955)","v":0},{"$f":"SUM(W954:W955)","v":0},0,0,0,0,0,0,0,0,0,0,0,0,0,0,0,0,0,0,{"$f":"SUM(AP954:AP955)","v":0},0,0,0,0]
[]
[null,null,null,"Special Rates"]
[]
[null,null,null,null,"Special Rate capital allowance rate",null,"%",null,null,">",null,null,null,null,null,null,null,null,null,null,null,{"$f":"V$44","v":0.06},{"$f":"W$44","v":0.06},0.06,0.06,0.06,0.06,0.06,0.1,0.1,0.1,0.1,0.08,0.08,0.08,0.08,0.08,0.08,0.08,0.06,0.06,0.06,0.06,0.06,0.06,0.06]
[]
[null,null,null,null,"Opening balance brought forward",null,"£m nominal",null,null,">",null,null,null,null,null,null,null,null,null,null,null,0,{"$f":"V967","v":0},0,0,0,0,0,0,0,0,0,0,0,0,0,0,0,0,0,0,{"$f":"AO967","v":0},{"$f":"AP967","v":0},{"$f":"AQ967","v":0},{"$f":"AR967","v":0},{"$f":"AS967","v":0}]
[null,null,null,null,"Transfer",null,"£m nominal",null,null,">",null,null,null,null,null,null,null,null,null,null,null,{"$f":"IF(V$4 >= $I915,-V962,0)","v":0},0,0,0,0,0,0,0,0,0,0,0,0,0,0,0,0,0,0,0,{"$f":"IF(AP$4 >= $I915,-AP962,0)","v":0},0,0,0,0]
[null,null,null,null,"Capex additions",null,"£m nominal",null,null,">",null,null,null,null,null,null,null,null,null,null,null,{"$f":"(V928 * V$54) * TOpf","v":0},0,0,0,0,0,0,0,0,0,0,0,0,0,0,0,0,0,0,0,0,0,0,0,0]
[null,null,null,null,"Tax book value pre-depreciation",null,"£m nominal",null,null,">",null,null,null,null,null,null,null,null,null,null,null,{"$f":"SUM(V962:V964)","v":0},0,0,0,0,0,0,{"$f":"SUM(AC962:AC964)","v":0},0,0,0,0,0,0,0,0,0,0,0,0,{"$f":"SUM(AP962:AP964)","v":0},0,0,0,0]
[null,null,null,null,"Special Rate capital allowance",null,"£m nominal",null,null,">",null,null,null,null,null,null,null,null,null,null,null,{"$f":"-V965*V960","v":0},0,0,0,0,0,0,0,0,0,0,0,0,0,0,0,0,0,0,0,{"$f":"-AP965*AP960","v":0},0,0,0,0]
[null,null,null,null,"Closing balance carried forward",null,null,null,null,">",null,null,null,null,null,null,null,null,null,null,null,{"$f":"SUM(V965:V966)","v":0},{"$f":"SUM(W965:W966)","v":0},0,0,0,0,0,0,0,0,0,0,0,0,0,0,0,0,0,0,{"$f":"SUM(AP965:AP966)","v":0},0,0,0,0]
[]
[null,null,"Revenue pool"]
[]
[null,null,null,null,"Revenue pool additions",null,"£m nominal",null,null,">",null,null,null,null,null,null,null,null,null,null,null,{"$f":"(V928 * V$55) * TOpf","v":0},0,0,0,0,0,0,0,0,0,0,0,0,0,0,0,0,0,0,0,0,0,0,0,0]
[]
[null,null,"Non-qualifying pool"]
[]
[null,null,null,null,"Non-qualifying expenditure",null,"£m nominal",null,null,">",null,null,null,null,null,null,null,null,null,null,null,{"$f":"(V928 * V$56) * TOpf","v":0},0,0,0,0,0,0,0,0,0,0,0,0,0,0,0,0,0,0,0,0,0,0,0,0]
[]
[null,null,"Net debt"]
[]
[null,null,null,null,"Overall gearing after equity issuance",null,"%",null,null,null,null,null,null,null,null,null,null,null,null,null,null,null,null,null,null,null,null,null,null,null,null,null,null,null,null,null,null,null,null,null,null,{"$f":"AP$46","v":0.6},0.58730484245989634,0.5819434430964423,0.57604812935946159,0.55936589604833153]
[]
[null,null,null,null,"Opening net debt",null,"£m nominal",null,null,null,null,null,null,null,null,null,null,null,null,null,null,null,null,null,null,null,null,null,null,null,null,null,null,null,null,null,null,null,null,null,null,null,{"$f":"AP989","v":0},{"$f":"AQ989","v":0},{"$f":"AR989","v":0},{"$f":"AS989","v":0}]
[null,null,null,null,"Transfer from core net debt",null,"£m nominal",null,null,null,null,null,null,null,null,null,null,null,null,null,null,null,null,null,null,null,null,null,null,null,null,null,null,null,null,null,null,null,null,null,null,null,{"$f":"AQ983-AQ981","v":0},0,0,0]
[null,null,null,null,"Opening net debt after transfer",null,"£m nominal",null,null,null,null,null,null,null,null,null,null,null,null,null,null,null,null,null,null,null,null,null,null,null,null,null,null,null,null,null,null,null,null,null,null,{"$f":"-AP979 * (AP927 - AP936) * Input!AO$191","v":0},{"$f":"-AQ979 * (AQ927 - AQ936) * Input!AP$191","v":0},{"$f":"-AR979 * (AR927 - AR936) * Input!AQ$191","v":0},{"$f":"-AS979 * (AS927 - AS936) * Input!AR$191","v":0},{"$f":"-AT979 * (AT927 - AT936) * Input!AS$191","v":0}]
[null,null,null,null,"Less capex",null,"£m nominal",null,null,null,null,null,null,null,null,null,null,null,null,null,null,null,null,null,null,null,null,null,null,null,null,null,null,null,null,null,null,null,null,null,null,{"$f":"-AP928 * TOpf","v":0},0,0,0,0]
[null,null,null,null,"Less dividends",null,"£m nominal",null,null,null,null,null,null,null,null,null,null,null,null,null,null,null,null,null,null,null,null,null,null,null,null,null,null,null,null,null,null,null,null,null,null,{"$f":"-AP943 * (1 - AP979) * AP$49 * TOpf","v":0},0,0,0,0]
[null,null,null,null,"Closing net debt (before interest and tax)",null,"£m nominal",null,null,null,null,null,null,null,null,null,null,null,null,null,null,null,null,null,null,null,null,null,null,null,null,null,null,null,null,null,null,null,null,null,null,{"$f":"SUM(AP983:AP985)","v":0},0,0,0,0]
[null,null,null,null,"Less net interest paid (excluding principal inflation accretion)",null,"£m nominal",null,null,null,null,null,null,null,null,null,null,null,null,null,null,null,null,null,null,null,null,null,null,null,null,null,null,null,null,null,null,null,null,null,null,{"$f":"((AP983 + AP986) / 2) * AP$47 * (1 - AP$48)","v":0},0,0,0,0]
[null,null,null,null,"Less net interest paid (principal inflation accretion)",null,"£m nominal",null,null,null,null,null,null,null,null,null,null,null,null,null,null,null,null,null,null,null,null,null,null,null,null,null,null,null,null,null,null,null,null,null,null,{"$f":"((AP983 + AP986) / 2) * AP$47 * AP$48","v":0},0,0,0,0]
[null,null,null,null,"Closing net debt",null,"£m nominal",null,null,null,null,null,null,null,null,null,null,null,null,null,null,null,null,null,null,null,null,null,null,null,null,null,null,null,null,null,null,null,null,null,null,{"$f":"SUM(AP986:AP988)","v":0},0,0,0,0]
[]
[null,"Gilwern"]
[]
[null,null,"Project specific inputs"]
[]
[null,null,null,null,"Asset transfer",null,"year ending",null,{"$f":"Input!I555","v":"2016-03-31"}]
[]
[null,null,null,null,"Pre-RIIO actual cost",null,"£m 18/19 prices",null,null,">",null,null,null,null,null,null,null,null,null,null,null,{"$f":"Input!V576","v":0},{"$f":"Input!W576","v":0},{"$f":"Input!X576","v":0},{"$f":"Input!Y576","v":0},{"$f":"Input!Z576","v":0},{"$f":"Input!AA576","v":0},{"$f":"Input!AB576","v":0},{"$f":"Input!AC576","v":0},{"$f":"Input!AD576","v":0},{"$f":"Input!AE576","v":0},{"$f":"Input!AF576","v":0},{"$f":"Input!AG576","v":0}]
[null,null,null,null,"Post-RIIO actual cost",null,"£m 18/19 prices",null,null,">"]
[null,null,null,null,"Actual cost",null,null,null,null,null,null,null,null,null,null,null,null,null,null,null,null,{"$f":"SUM(V997:V998)","v":0},0,0,0,0,0,0,0,0,0,0,0,0,0,0,0,0,0,0,0,0,0,0,0,0]
[]
[null,null,"RAV"]
[]
[null,null,null,"Actual cost"]
[]
[null,null,null,null,"Opening balance brought forward",null,"£m 18/19 prices",null,null,">",null,null,null,null,null,null,null,null,null,null,null,0,{"$f":"V1010","v":0},0,0,0,0,0,0,0,0,0,0,0,0,0,0,0,0,0,0,{"$f":"AO1010","v":0},{"$f":"AP1010","v":0},{"$f":"AQ1010","v":0},{"$f":"AR1010","v":0},{"$f":"AS1010","v":0}]
[null,null,null,null,"Transfer",null,"£m 18/19 prices",null,null,">",null,null,null,null,null,null,null,null,null,null,null,{"$f":"IF(V$4=$I995,-V1005,IF(YEAR(V$4)>YEAR($I995),-V1005,0))","v":0},0,0,0,0,0,0,0,0,0,0,0,0,0,0,0,0,0,0,0,{"$f":"IF(AP$4=$I995,-AP1005,IF(YEAR(AP$4)>YEAR($I995),-AP1005,0))","v":0},0,0,0,0]
[null,null,null,null,"Opening balance after transfers",null,"£m 18/19 prices",null,null,">",null,null,null,null,null,null,null,null,null,null,null,{"$f":"SUM(V1005:V1006)","v":0},0,0,0,0,0,0,0,0,0,0,0,0,0,0,0,0,0,0,0,{"$f":"SUM(AP1005:AP1006)","v":0},0,0,0,0]
[null,null,null,null,"Net additions (after disposals)",null,"£m 18/19 prices",null,null,">",null,null,null,null,null,null,null,null,null,null,null,{"$f":"V999","v":0},{"$f":"W999","v":0},0,0,0,0,0,0,0,0,0,0,0,0,0,0,0,0,0,0,{"$f":"AP999","v":0},0,0,0,0]
[null,null,null,null,"Removals",null,"£m 18/19 prices"]
[null,null,null,null,"Balance carried forward",null,"£m 18/19 prices",null,null,">",null,null,null,null,null,null,null,null,null,null,null,{"$f":"V1007 + V1008 - V1009","v":0},0,0,0,0,0,0,0,0,0,0,0,0,0,0,0,0,0,0,0,{"$f":"AP1007 + AP1008 - AP1009","v":0},0,0,0,0]
[]
[null,null,null,"Actual accumulated depreciation"]
[]
[null,null,null,null,"Opening balance brought forward",null,"£m 18/19 prices",null,null,">",null,null,null,null,null,null,null,null,null,null,null,0,{"$f":"V1019","v":0},0,0,0,0,0,0,0,0,0,0,0,0,0,0,0,0,0,0,{"$f":"AO1019","v":0},{"$f":"AP1019","v":0},{"$f":"AQ1019","v":0},{"$f":"AR1019","v":0},{"$f":"AS1019","v":0}]
[null,null,null,null,"Transfer",null,"£m 18/19 prices",null,null,">",null,null,null,null,null,null,null,null,null,null,null,{"$f":"IF(V$4 = $I995, -V1014, 0)","v":0},0,0,0,0,0,0,0,0,0,0,0,0,0,0,0,0,0,0,0,{"$f":"IF(AP$4 = $I995, -AP1014, 0)","v":0},0,0,0,0]
[null,null,null,null,"Opening balance after transfers",null,"£m 18/19 prices",null,null,">",null,null,null,null,null,null,null,null,null,null,null,{"$f":"SUM(V1014:V1015)","v":0},0,0,0,0,0,0,0,0,0,0,0,0,0,0,0,0,0,0,0,{"$f":"SUM(AP1014:AP1015)","v":0},0,0,0,0]
[null,null,null,null,"Regulatory depreciation",null,"£m 18/19 prices",null,null,">",null,null,null,null,null,null,null,null,null,null,null,{"$f":"V1007/V$42","v":0},{"$f":"W1007/W$42","v":0},0,0,0,0,0,0,0,0,0,0,0,0,0,0,0,0,0,0,{"$f":"AP1007/AP$42","v":0},0,0,0,0]
[null,null,null,null,"Removals",null,"£m 18/19 prices",null,null,">"]
[null,null,null,null,"Closing value carried forward",null,"£m 18/19 prices",null,null,">",null,null,null,null,null,null,null,null,null,null,null,{"$f":"V1016 + V1017 - V1018","v":0},{"$f":"W1016 + W1017 - W1018","v":0},0,0,0,0,0,0,0,0,0,0,0,0,0,0,0,0,0,0,{"$f":"AP1016 + AP1017 - AP1018","v":0},0,0,0,0]
[]
[null,null,null,"Actual asset balance"]
[]
[null,null,null,null,"Net value after regulatory depreciation",null,"£m 18/19 prices",null,null,">",null,null,null,null,null,null,null,null,null,null,null,{"$f":"V1010 - V1019","v":0},0,0,0,0,0,0,0,0,0,0,0,0,0,0,0,0,0,0,0,{"$f":"AP1010 - AP1019","v":0},0,0,0,0]
[]
[null,null,"Capital allowances"]
[]
[null,null,null,"General pool"]
[]
[null,null,null,null,"General pool capital allowance rate",null,"%",null,null,">",null,null,null,null,null,null,null,null,null,null,null,{"$f":"V$43","v":0.25},{"$f":"W$43","v":0.25},0.25,0.25,0.25,0.25,0.25,0.2,0.2,0.2,0.2,0.18000000000000002,0.18000000000000002,0.18000000000000002,0.18000000000000002,0.18000000000000002,0.18000000000000002,0.18000000000000002,0.18000000000000002,0.18000000000000002,0.18,0.18,0.18,0.18,0.18]
[]
[null,null,null,null,"Opening balance brought forward",null,"£m nominal",null,null,">",null,null,null,null,null,null,null,null,null,null,null,0,{"$f":"V1036","v":0},0,0,0,0,0,0,0,0,0,0,0,0,0,0,0,0,0,0,{"$f":"AO1036","v":0},{"$f":"AP1036","v":0},{"$f":"AQ1036","v":0},{"$f":"AR1036","v":0},{"$f":"AS1036","v":0}]
[null,null,null,null,"Transfer",null,"£m nominal",null,null,">",null,null,null,null,null,null,null,null,null,null,null,{"$f":"IF(V$4 >= $I995, -V1031, 0)","v":0},0,0,0,0,0,0,0,0,0,0,0,0,0,0,0,0,0,0,0,{"$f":"IF(AP$4 >= $I995, -AP1031, 0)","v":0},0,0,0,0]
[null,null,null,null,"Capex additions",null,"£m nominal",null,null,">",null,null,null,null,null,null,null,null,null,null,null,{"$f":"(V1008 * V$53) * TOpf","v":0},0,0,0,0,0,0,0,0,0,0,0,0,0,0,0,0,0,0,0,0,0,0,0,0]
[null,null,null,null,"Tax book value pre-depreciation",null,"£m nominal",null,null,">",null,null,null,null,null,null,null,null,null,null,null,{"$f":"SUM(V1031:V1033)","v":0},0,0,0,0,0,0,{"$f":"SUM(AC1031:AC1033)","v":0},0,0,0,0,0,0,0,0,0,0,0,0,{"$f":"SUM(AP1031:AP1033)","v":0},0,0,0,0]
[null,null,null,null,"General pool capital allowance",null,"£m nominal",null,null,">",null,null,null,null,null,null,null,null,null,null,null,{"$f":"-V1034*V1029","v":0},0,0,0,0,0,0,0,0,0,0,0,0,0,0,0,0,0,0,0,{"$f":"-AP1034*AP1029","v":0},0,0,0,0]
[null,null,null,null,"Closing balance carried forward",null,null,null,null,">",null,null,null,null,null,null,null,null,null,null,null,{"$f":"SUM(V1034:V1035)","v":0},{"$f":"SUM(W1034:W1035)","v":0},0,0,0,0,0,0,0,0,0,0,0,0,0,0,0,0,0,0,{"$f":"SUM(AP1034:AP1035)","v":0},0,0,0,0]
[]
[null,null,null,"Special Rates"]
[]
[null,null,null,null,"Special Rate capital allowance rate",null,"%",null,null,">",null,null,null,null,null,null,null,null,null,null,null,{"$f":"V$44","v":0.06},{"$f":"W$44","v":0.06},0.06,0.06,0.06,0.06,0.06,0.1,0.1,0.1,0.1,0.08,0.08,0.08,0.08,0.08,0.08,0.08,0.06,0.06,0.06,0.06,0.06,0.06,0.06]
[]
[null,null,null,null,"Opening balance brought forward",null,"£m nominal",null,null,">",null,null,null,null,null,null,null,null,null,null,null,0,{"$f":"V1047","v":0},0,0,0,0,0,0,0,0,0,0,0,0,0,0,0,0,0,0,{"$f":"AO1047","v":0},{"$f":"AP1047","v":0},{"$f":"AQ1047","v":0},{"$f":"AR1047","v":0},{"$f":"AS1047","v":0}]
[null,null,null,null,"Transfer",null,"£m nominal",null,null,">",null,null,null,null,null,null,null,null,null,null,null,{"$f":"IF(V$4 >= $I995,-V1042,0)","v":0},0,0,0,0,0,0,0,0,0,0,0,0,0,0,0,0,0,0,0,{"$f":"IF(AP$4 >= $I995,-AP1042,0)","v":0},0,0,0,0]
[null,null,null,null,"Capex additions",null,"£m nominal",null,null,">",null,null,null,null,null,null,null,null,null,null,null,{"$f":"(V1008 * V$54) * TOpf","v":0},0,0,0,0,0,0,0,0,0,0,0,0,0,0,0,0,0,0,0,0,0,0,0,0]
[null,null,null,null,"Tax book value pre-depreciation",null,"£m nominal",null,null,">",null,null,null,null,null,null,null,null,null,null,null,{"$f":"SUM(V1042:V1044)","v":0},0,0,0,0,0,0,{"$f":"SUM(AC1042:AC1044)","v":0},0,0,0,0,0,0,0,0,0,0,0,0,{"$f":"SUM(AP1042:AP1044)","v":0},0,0,0,0]
[null,null,null,null,"Special Rate capital allowance",null,"£m nominal",null,null,">",null,null,null,null,null,null,null,null,null,null,null,{"$f":"-V1045*V1040","v":0},0,0,0,0,0,0,0,0,0,0,0,0,0,0,0,0,0,0,0,{"$f":"-AP1045*AP1040","v":0},0,0,0,0]
[null,null,null,null,"Closing balance carried forward",null,null,null,null,">",null,null,null,null,null,null,null,null,null,null,null,{"$f":"SUM(V1045:V1046)","v":0},{"$f":"SUM(W1045:W1046)","v":0},0,0,0,0,0,0,0,0,0,0,0,0,0,0,0,0,0,0,{"$f":"SUM(AP1045:AP1046)","v":0},0,0,0,0]
[]
[null,null,"Revenue pool"]
[]
[null,null,null,null,"Revenue pool additions",null,"£m nominal",null,null,">",null,null,null,null,null,null,null,null,null,null,null,{"$f":"(V1008 * V$55) * TOpf","v":0},0,0,0,0,0,0,0,0,0,0,0,0,0,0,0,0,0,0,0,0,0,0,0,0]
[]
[null,null,"Non-qualifying pool"]
[]
[null,null,null,null,"Non-qualifying expenditure",null,"£m nominal",null,null,">",null,null,null,null,null,null,null,null,null,null,null,{"$f":"(V1008 * V$56) * TOpf","v":0},0,0,0,0,0,0,0,0,0,0,0,0,0,0,0,0,0,0,0,0,0,0,0,0]
[]
[null,null,"Net debt"]
[]
[null,null,null,null,"Overall gearing after equity issuance",null,"%",null,null,null,null,null,null,null,null,null,null,null,null,null,null,null,null,null,null,null,null,null,null,null,null,null,null,null,null,null,null,null,null,null,null,{"$f":"AP$46","v":0.6},0.58730484245989634,0.5819434430964423,0.57604812935946159,0.55936589604833153]
[]
[null,null,null,null,"Opening net debt",null,"£m nominal",null,null,null,null,null,null,null,null,null,null,null,null,null,null,null,null,null,null,null,null,null,null,null,null,null,null,null,null,null,null,null,null,null,null,null,{"$f":"AP1069","v":0},{"$f":"AQ1069","v":0},{"$f":"AR1069","v":0},{"$f":"AS1069","v":0}]
[null,null,null,null,"Transfer from core net debt",null,"£m nominal",null,null,null,null,null,null,null,null,null,null,null,null,null,null,null,null,null,null,null,null,null,null,null,null,null,null,null,null,null,null,null,null,null,null,null,{"$f":"AQ1063-AQ1061","v":0},0,0,0]
[null,null,null,null,"Opening net debt after transfer",null,"£m nominal",null,null,null,null,null,null,null,null,null,null,null,null,null,null,null,null,null,null,null,null,null,null,null,null,null,null,null,null,null,null,null,null,null,null,{"$f":"-AP1059 * (AP1007 - AP1016) * Input!AO$191","v":0},{"$f":"-AQ1059 * (AQ1007 - AQ1016) * Input!AP$191","v":0},{"$f":"-AR1059 * (AR1007 - AR1016) * Input!AQ$191","v":0},{"$f":"-AS1059 * (AS1007 - AS1016) * Input!AR$191","v":0},{"$f":"-AT1059 * (AT1007 - AT1016) * Input!AS$191","v":0}]
[null,null,null,null,"Less capex",null,"£m nominal",null,null,null,null,null,null,null,null,null,null,null,null,null,null,null,null,null,null,null,null,null,null,null,null,null,null,null,null,null,null,null,null,null,null,{"$f":"-AP1008 * TOpf","v":0},0,0,0,0]
[null,null,null,null,"Less dividends",null,"£m nominal",null,null,null,null,null,null,null,null,null,null,null,null,null,null,null,null,null,null,null,null,null,null,null,null,null,null,null,null,null,null,null,null,null,null,{"$f":"-AP1023 * (1 - AP1059) * AP$49 * TOpf","v":0},0,0,0,0]
[null,null,null,null,"Closing net debt (before interest and tax)",null,"£m nominal",null,null,null,null,null,null,null,null,null,null,null,null,null,null,null,null,null,null,null,null,null,null,null,null,null,null,null,null,null,null,null,null,null,null,{"$f":"SUM(AP1063:AP1065)","v":0},0,0,0,0]
[null,null,null,null,"Less net interest paid (excluding principal inflation accretion)",null,"£m nominal",null,null,null,null,null,null,null,null,null,null,null,null,null,null,null,null,null,null,null,null,null,null,null,null,null,null,null,null,null,null,null,null,null,null,{"$f":"((AP1063 + AP1066) / 2) * AP$47 * (1 - AP$48)","v":0},0,0,0,0]
[null,null,null,null,"Less net interest paid (principal inflation accretion)",null,"£m nominal",null,null,null,null,null,null,null,null,null,null,null,null,null,null,null,null,null,null,null,null,null,null,null,null,null,null,null,null,null,null,null,null,null,null,{"$f":"((AP1063 + AP1066) / 2) * AP$47 * AP$48","v":0},0,0,0,0]
[null,null,null,null,"Closing net debt",null,"£m nominal",null,null,null,null,null,null,null,null,null,null,null,null,null,null,null,null,null,null,null,null,null,null,null,null,null,null,null,null,null,null,null,null,null,null,{"$f":"SUM(AP1066:AP1068)","v":0},0,0,0,0]
[]
[null,"SW Quad (2008/09)"]
[]
[null,null,"Project specific inputs"]
[]
[null,null,null,null,"Asset transfer",null,"year ending",null,{"$f":"Input!I556","v":"2014-03-31"}]
[]
[null,null,null,null,"Pre-RIIO actual cost",null,"£m 18/19 prices",null,null,">",null,null,null,null,null,null,null,null,null,null,null,{"$f":"Input!V577","v":0.64360398396423157},{"$f":"Input!W577","v":7.5009711442610552E-2},{"$f":"Input!X577","v":4.6577551374000223E-3},{"$f":"Input!Y577","v":0},{"$f":"Input!Z577","v":0.28899550557839154},{"$f":"Input!AA577","v":5.7194311090955097},{"$f":"Input!AB577","v":9.094783665946613},{"$f":"Input!AC577","v":2.9938747202723861},{"$f":"Input!AD577","v":40.859088316946199},{"$f":"Input!AE577","v":52.75700065067403},{"$f":"Input!AF577","v":-3.2443988274549818},{"$f":"Input!AG577","v":3.6147696748386089E-2}]
[null,null,null,null,"Post-RIIO actual cost",null,"£m 18/19 prices",null,null,">",null,null,null,null,null,null,null,null,null,null,null,null,null,null,null,null,null,null,null,null,null,null,null,{"$f":"Input!AH582","v":1.078073799832975},{"$f":"Input!AI582","v":0},{"$f":"Input!AJ582","v":0},{"$f":"Input!AK582","v":0},{"$f":"Input!AL582","v":0},{"$f":"Input!AM582","v":0},{"$f":"Input!AN582","v":0},{"$f":"Input!AO582","v":0},{"$f":"Input!AP582","v":0},{"$f":"Input!AQ582","v":0},{"$f":"Input!AR582","v":0},{"$f":"Input!AS582","v":0},{"$f":"Input!AT582","v":0}]
[null,null,null,null,"Actual cost",null,null,null,null,null,null,null,null,null,null,null,null,null,null,null,null,{"$f":"SUM(V1077:V1078)","v":0.64360398396423157},7.5009711442610552E-2,4.6577551374000223E-3,0,0.28899550557839154,5.7194311090955097,9.094783665946613,2.9938747202723861,40.859088316946199,52.75700065067403,-3.2443988274549818,3.6147696748386089E-2,1.078073799832975,0,0,0,0,0,0,0,{"$f":"SUM(AP1077:AP1078)","v":0},0,0,0,0]
[]
[null,null,"RAV"]
[]
[null,null,null,"Actual cost"]
[]
[null,null,null,null,"Opening balance brought forward",null,"£m 18/19 prices",null,null,">",null,null,null,null,null,null,null,null,null,null,null,0,{"$f":"V1090","v":0.64360398396423157},0.71861369540684217,0.72327145054424224,0.72327145054424224,1.0122669561226338,6.7316980652181435,15.826481731164757,18.820356451437142,59.679444768383341,112.43644541905738,109.19204659160239,109.22819428835078,1.078073799832975,0,0,0,0,0,0,{"$f":"AO1090","v":0},{"$f":"AP1090","v":0},{"$f":"AQ1090","v":0},{"$f":"AR1090","v":0},{"$f":"AS1090","v":0}]
[null,null,null,null,"Transfer",null,"£m 18/19 prices",null,null,">",null,null,null,null,null,null,null,null,null,null,null,{"$f":"IF(V$4=$I1075,-V1085,IF(YEAR(V$4)>YEAR($I1075),-V1085,0))","v":0},0,0,0,0,0,0,0,0,0,0,0,-109.22819428835078,-1.078073799832975,0,0,0,0,0,0,{"$f":"IF(AP$4=$I1075,-AP1085,IF(YEAR(AP$4)>YEAR($I1075),-AP1085,0))","v":0},0,0,0,0]
[null,null,null,null,"Opening balance after transfers",null,"£m 18/19 prices",null,null,">",null,null,null,null,null,null,null,null,null,null,null,{"$f":"SUM(V1085:V1086)","v":0},0.64360398396423157,0.71861369540684217,0.72327145054424224,0.72327145054424224,1.0122669561226338,6.7316980652181435,15.826481731164757,18.820356451437142,59.679444768383341,112.43644541905738,109.19204659160239,0,0,0,0,0,0,0,0,{"$f":"SUM(AP1085:AP1086)","v":0},0,0,0,0]
[null,null,null,null,"Net additions (after disposals)",null,"£m 18/19 prices",null,null,">",null,null,null,null,null,null,null,null,null,null,null,{"$f":"V1079","v":0.64360398396423157},{"$f":"W1079","v":7.5009711442610552E-2},4.6577551374000223E-3,0,0.28899550557839154,5.7194311090955097,9.094783665946613,2.9938747202723861,40.859088316946199,52.75700065067403,-3.2443988274549818,3.6147696748386089E-2,1.078073799832975,0,0,0,0,0,0,0,{"$f":"AP1079","v":0},0,0,0,0]
[null,null,null,null,"Removals",null,"£m 18/19 prices"]
[null,null,null,null,"Balance carried forward",null,"£m 18/19 prices",null,null,">",null,null,null,null,null,null,null,null,null,null,null,{"$f":"V1087 + V1088 - V1089","v":0.64360398396423157},0.71861369540684217,0.72327145054424224,0.72327145054424224,1.0122669561226338,6.7316980652181435,15.826481731164757,18.820356451437142,59.679444768383341,112.43644541905738,109.19204659160239,109.22819428835078,1.078073799832975,0,0,0,0,0,0,0,{"$f":"AP1087 + AP1088 - AP1089","v":0},0,0,0,0]
[]
[null,null,null,"Actual accumulated depreciation"]
[]
[null,null,null,null,"Opening balance brought forward",null,"£m 18/19 prices",null,null,">",null,null,null,null,null,null,null,null,null,null,null,0,{"$f":"V1099","v":0},1.4302310754760702E-2,3.0271503986023865E-2,4.6344202887007024E-2,6.2416901787990184E-2,8.4911723035159828E-2,0.23450501337334079,0.5862046073992242,1.004434750764494,2.3306446345063461,4.8292323104853985,7.2557222347432297,0,0,0,0,0,0,0,{"$f":"AO1099","v":0},{"$f":"AP1099","v":0},{"$f":"AQ1099","v":0},{"$f":"AR1099","v":0},{"$f":"AS1099","v":0}]
[null,null,null,null,"Transfer",null,"£m 18/19 prices",null,null,">",null,null,null,null,null,null,null,null,null,null,null,{"$f":"IF(V$4 = $I1075, -V1094, 0)","v":0},0,0,0,0,0,0,0,0,0,0,0,-7.2557222347432297,0,0,0,0,0,0,0,{"$f":"IF(AP$4 = $I1075, -AP1094, 0)","v":0},0,0,0,0]
[null,null,null,null,"Opening balance after transfers",null,"£m 18/19 prices",null,null,">",null,null,null,null,null,null,null,null,null,null,null,{"$f":"SUM(V1094:V1095)","v":0},0,1.4302310754760702E-2,3.0271503986023865E-2,4.6344202887007024E-2,6.2416901787990184E-2,8.4911723035159828E-2,0.23450501337334079,0.5862046073992242,1.004434750764494,2.3306446345063461,4.8292323104853985,0,0,0,0,0,0,0,0,{"$f":"SUM(AP1094:AP1095)","v":0},0,0,0,0]
[null,null,null,null,"Regulatory depreciation",null,"£m 18/19 prices",null,null,">",null,null,null,null,null,null,null,null,null,null,null,{"$f":"V1087/V$42","v":0},{"$f":"W1087/W$42","v":1.4302310754760702E-2},1.5969193231263161E-2,1.6072698900983159E-2,1.6072698900983159E-2,2.2494821247169641E-2,0.14959329033818097,0.35169959402588347,0.41823014336526981,1.3262098837418521,2.4985876759790528,2.4264899242578308,0,0,0,0,0,0,0,0,{"$f":"AP1087/AP$42","v":0},0,0,0,0]
[null,null,null,null,"Removals",null,"£m 18/19 prices",null,null,">"]
[null,null,null,null,"Closing value carried forward",null,"£m 18/19 prices",null,null,">",null,null,null,null,null,null,null,null,null,null,null,{"$f":"V1096 + V1097 - V1098","v":0},{"$f":"W1096 + W1097 - W1098","v":1.4302310754760702E-2},3.0271503986023865E-2,4.6344202887007024E-2,6.2416901787990184E-2,8.4911723035159828E-2,0.23450501337334079,0.5862046073992242,1.004434750764494,2.3306446345063461,4.8292323104853985,7.2557222347432297,0,0,0,0,0,0,0,0,{"$f":"AP1096 + AP1097 - AP1098","v":0},0,0,0,0]
[]
[null,null,null,"Actual asset balance"]
[]
[null,null,null,null,"Net value after regulatory depreciation",null,"£m 18/19 prices",null,null,">",null,null,null,null,null,null,null,null,null,null,null,{"$f":"V1090 - V1099","v":0.64360398396423157},0.70431138465208143,0.69299994655821839,0.67692724765723522,0.94985005433464365,6.6467863421829838,15.591976717791416,18.234151844037918,58.675010017618845,110.10580078455104,104.362814281117,101.97247205360755,1.078073799832975,0,0,0,0,0,0,0,{"$f":"AP1090 - AP1099","v":0},0,0,0,{"$f":"AT1090 - AT1099","v":0}]
[]
[null,null,"Capital allowances"]
[]
[null,null,null,"General pool"]
[]
[null,null,null,null,"General pool capital allowance rate",null,"%",null,null,">",null,null,null,null,null,null,null,null,null,null,null,{"$f":"V$43","v":0.25},{"$f":"W$43","v":0.25},0.25,0.25,0.25,0.25,0.25,0.2,0.2,0.2,0.2,0.18000000000000002,0.18000000000000002,0.18000000000000002,0.18000000000000002,0.18000000000000002,0.18000000000000002,0.18000000000000002,0.18000000000000002,0.18000000000000002,0.18,0.18,0.18,0.18,0.18]
[]
[null,null,null,null,"Opening balance brought forward",null,"£m nominal",null,null,">",null,null,null,null,null,null,null,null,null,null,null,0,{"$f":"V1116","v":5.6287425077843657E-3},4.8913059893594523E-3,3.7112294351166857E-3,2.7834220763375142E-3,4.8946002109121339E-3,6.1297873453070112E-2,0.1413945981856026,0.14761562651484875,0.59108827800030261,1.113909846496109,0.84981433218785318,0.69733413533157795,2.5135857157458079E-2,0,0,0,0,0,0,{"$f":"AO1116","v":0},{"$f":"AP1116","v":0},{"$f":"AQ1116","v":0},{"$f":"AR1116","v":0},{"$f":"AS1116","v":0}]
[null,null,null,null,"Transfer",null,"£m nominal",null,null,">",null,null,null,null,null,null,null,null,null,null,null,{"$f":"IF(V$4 >= $I1075, -V1111, 0)","v":0},0,0,0,0,0,0,0,0,0,0,0,-0.69733413533157795,-2.5135857157458079E-2,0,0,0,0,0,0,{"$f":"IF(AP$4 >= $I1075, -AP1111, 0)","v":0},0,0,0,0]
[null,null,null,null,"Capex additions",null,"£m nominal",null,null,">",null,null,null,null,null,null,null,null,null,null,null,{"$f":"(V1088 * V$53) * TOpf","v":7.5049900103791546E-3},8.9299881136157026E-4,5.6999924129461934E-5,0,3.7427115382119972E-3,7.6835897726514682E-2,0.1272282574610667,4.3124934957958334E-2,0.59124472098552949,0.80129903011983383,-5.164193126129251E-2,5.9314992382733512E-4,3.0653484338363509E-2,0,0,0,0,0,0,0,0,0,0,0,0]
[null,null,null,null,"Tax book value pre-depreciation",null,"£m nominal",null,null,">",null,null,null,null,null,null,null,null,null,null,null,{"$f":"SUM(V1111:V1113)","v":7.5049900103791546E-3},6.5217413191459364E-3,4.9483059134889139E-3,3.7112294351166857E-3,6.5261336145495119E-3,8.1730497937426816E-2,0.18852613091413681,{"$f":"SUM(AC1111:AC1113)","v":0.18451953314356093},0.73886034750037821,1.3923873081201363,1.0622679152348165,0.85040748211168049,3.0653484338363509E-2,0,0,0,0,0,0,0,{"$f":"SUM(AP1111:AP1113)","v":0},0,0,0,0]
[null,null,null,null,"General pool capital allowance",null,"£m nominal",null,null,">",null,null,null,null,null,null,null,null,null,null,null,{"$f":"-V1114*V1109","v":-1.8762475025947886E-3},-1.6304353297864841E-3,-1.2370764783722285E-3,-9.2780735877917141E-4,-1.631533403637378E-3,-2.0432624484356704E-2,-4.7131532728534202E-2,-3.6903906628712187E-2,-0.14777206950007565,-0.27847746162402726,-0.2124535830469633,-0.15307334678010251,-5.5176271809054319E-3,0,0,0,0,0,0,0,{"$f":"-AP1114*AP1109","v":0},0,0,0,0]
[null,null,null,null,"Closing balance carried forward",null,null,null,null,">",null,null,null,null,null,null,null,null,null,null,null,{"$f":"SUM(V1114:V1115)","v":5.6287425077843657E-3},{"$f":"SUM(W1114:W1115)","v":4.8913059893594523E-3},3.7112294351166857E-3,2.7834220763375142E-3,4.8946002109121339E-3,6.1297873453070112E-2,0.1413945981856026,0.14761562651484875,0.59108827800030261,1.113909846496109,0.84981433218785318,0.69733413533157795,2.5135857157458079E-2,0,0,0,0,0,0,0,{"$f":"SUM(AP1114:AP1115)","v":0},0,0,0,0]
[]
[null,null,null,"Special Rates"]
[]
[null,null,null,null,"Special Rate capital allowance rate",null,"%",null,null,">",null,null,null,null,null,null,null,null,null,null,null,{"$f":"V$44","v":0.06},{"$f":"W$44","v":0.06},0.06,0.06,0.06,0.06,0.06,0.1,0.1,0.1,0.1,0.08,0.08,0.08,0.08,0.08,0.08,0.08,0.06,0.06,0.06,0.06,0.06,0.06,0.06]
[]
[null,null,null,null,"Opening balance brought forward",null,"£m nominal",null,null,">",null,null,null,null,null,null,null,null,null,null,null,0,{"$f":"V1127","v":0.35793272356869338},0.37904622346527705,0.35902192643889486,0.33748061085256115,0.49573153669962766,4.1304938068059949,9.9505145879197521,10.924683843313286,36.830316507773816,69.737128990257901,60.405282430058563,55.600546825361462,0.8381045786662813,0,0,0,0,0,0,{"$f":"AO1127","v":0},{"$f":"AP1127","v":0},{"$f":"AQ1127","v":0},{"$f":"AR1127","v":0},{"$f":"AS1127","v":0}]
[null,null,null,null,"Transfer",null,"£m nominal",null,null,">",null,null,null,null,null,null,null,null,null,null,null,{"$f":"IF(V$4 >= $I1075,-V1122,0)","v":0},0,0,0,0,0,0,0,0,0,0,0,-55.600546825361462,-0.8381045786662813,0,0,0,0,0,0,{"$f":"IF(AP$4 >= $I1075,-AP1122,0)","v":0},0,0,0,0]
[null,null,null,null,"Capex additions",null,"£m nominal",null,null,">",null,null,null,null,null,null,null,null,null,null,null,{"$f":"(V1088 * V$54) * TOpf","v":0.38077949315818443},4.5307939692239667E-2,2.8919961505684899E-3,0,0.18989336435980869,3.8984108109663236,6.4551600101299105,2.1880230157616753,29.99789005421318,40.655382370290518,-2.6201485124150516,3.0094554029976375E-2,0.91098323768074052,0,0,0,0,0,0,0,0,0,0,0,0]
[null,null,null,null,"Tax book value pre-depreciation",null,"£m nominal",null,null,">",null,null,null,null,null,null,null,null,null,null,null,{"$f":"SUM(V1122:V1124)","v":0.38077949315818443},0.40324066326093305,0.38193821961584556,0.35902192643889486,0.52737397521236984,4.3941423476659516,10.585653816935906,{"$f":"SUM(AC1122:AC1124)","v":12.138537603681428},40.922573897526462,77.485698878064341,67.116980477842844,60.435376984088542,0.91098323768074052,0,0,0,0,0,0,0,{"$f":"SUM(AP1122:AP1124)","v":0},0,0,0,0]
[null,null,null,null,"Special Rate capital allowance",null,"£m nominal",null,null,">",null,null,null,null,null,null,null,null,null,null,null,{"$f":"-V1125*V1120","v":-2.2846769589491066E-2},-2.4194439795655984E-2,-2.2916293176950733E-2,-2.1541315586333692E-2,-3.1642438512742191E-2,-0.26364854085995709,-0.63513922901615438,-1.213853760368143,-4.0922573897526462,-7.7485698878064344,-6.7116980477842851,-4.8348301587270832,-7.2878659014459238E-2,0,0,0,0,0,0,0,{"$f":"-AP1125*AP1120","v":0},0,0,0,0]
[null,null,null,null,"Closing balance carried forward",null,null,null,null,">",null,null,null,null,null,null,null,null,null,null,null,{"$f":"SUM(V1125:V1126)","v":0.35793272356869338},{"$f":"SUM(W1125:W1126)","v":0.37904622346527705},0.35902192643889486,0.33748061085256115,0.49573153669962766,4.1304938068059949,9.9505145879197521,10.924683843313286,36.830316507773816,69.737128990257901,60.405282430058563,55.600546825361462,0.8381045786662813,0,0,0,0,0,0,0,{"$f":"SUM(AP1125:AP1126)","v":0},0,0,0,0]
[]
[null,null,"Revenue pool"]
[]
[null,null,null,null,"Revenue pool additions",null,"£m nominal",null,null,">",null,null,null,null,null,null,null,null,null,null,null,{"$f":"(V1088 * V$55) * TOpf","v":1.5799978969219272E-3},1.8799974976033059E-4,1.1999984027255143E-5,0,7.8793927120252569E-4,1.6175978468739933E-2,2.6784896307592985E-2,9.0789336753596492E-3,0.12447257283905884,0.16869453265680714,-1.0871985528693161E-2,1.2487366817417583E-4,0,0,0,0,0,0,0,0,0,0,0,0,0]
[]
[null,null,"Non-qualifying pool"]
[]
[null,null,null,null,"Non-qualifying expenditure",null,"£m nominal",null,null,">",null,null,null,null,null,null,null,null,null,null,null,{"$f":"(V1088 * V$56) * TOpf","v":5.1349931649962632E-3},6.1099918672107435E-4,3.8999948088579213E-5,0,2.5608026314082083E-3,5.2571930023404781E-2,8.705091299967721E-2,2.950653444491886E-2,0.40453586172694117,0.54825723113462321,-3.5333952968252771E-2,4.058394215660714E-4,1.6284663554755614E-2,0,0,0,0,0,0,0,0,0,0,0,0]
[]
[null,null,"Net debt"]
[]
[null,null,null,null,"Overall gearing after equity issuance",null,"%",null,null,null,null,null,null,null,null,null,null,null,null,null,null,null,null,null,null,null,null,null,null,null,null,null,null,null,null,null,null,null,null,null,null,{"$f":"AP$46","v":0.6},0.58730484245989634,0.5819434430964423,0.57604812935946159,0.55936589604833153]
[]
[null,null,null,null,"Opening net debt",null,"£m nominal",null,null,null,null,null,null,null,null,null,null,null,null,null,null,null,null,null,null,null,null,null,null,null,null,null,null,null,null,null,null,null,null,null,null,null,{"$f":"AP1149","v":0},{"$f":"AQ1149","v":0},{"$f":"AR1149","v":0},{"$f":"AS1149","v":0}]
[null,null,null,null,"Transfer from core net debt",null,"£m nominal",null,null,null,null,null,null,null,null,null,null,null,null,null,null,null,null,null,null,null,null,null,null,null,null,null,null,null,null,null,null,null,null,null,null,null,{"$f":"AQ1143-AQ1141","v":0},0,0,0]
[null,null,null,null,"Opening net debt after transfer",null,"£m nominal",null,null,null,null,null,null,null,null,null,null,null,null,null,null,null,null,null,null,null,null,null,null,null,null,null,null,null,null,null,null,null,null,null,null,{"$f":"-AP1139 * (AP1087 - AP1096) * Input!AO$191","v":0},{"$f":"-AQ1139 * (AQ1087 - AQ1096) * Input!AP$191","v":0},{"$f":"-AR1139 * (AR1087 - AR1096) * Input!AQ$191","v":0},{"$f":"-AS1139 * (AS1087 - AS1096) * Input!AR$191","v":0},{"$f":"-AT1139 * (AT1087 - AT1096) * Input!AS$191","v":0}]
[null,null,null,null,"Less capex",null,"£m nominal",null,null,null,null,null,null,null,null,null,null,null,null,null,null,null,null,null,null,null,null,null,null,null,null,null,null,null,null,null,null,null,null,null,null,{"$f":"-AP1088 * TOpf","v":0},0,0,0,0]
[null,null,null,null,"Less dividends",null,"£m nominal",null,null,null,null,null,null,null,null,null,null,null,null,null,null,null,null,null,null,null,null,null,null,null,null,null,null,null,null,null,null,null,null,null,null,{"$f":"-AP1103 * (1 - AP1139) * AP$49 * TOpf","v":0},0,0,0,0]
[null,null,null,null,"Closing net debt (before interest and tax)",null,"£m nominal",null,null,null,null,null,null,null,null,null,null,null,null,null,null,null,null,null,null,null,null,null,null,null,null,null,null,null,null,null,null,null,null,null,null,{"$f":"SUM(AP1143:AP1145)","v":0},0,0,0,0]
[null,null,null,null,"Less net interest paid (excluding principal inflation accretion)",null,"£m nominal",null,null,null,null,null,null,null,null,null,null,null,null,null,null,null,null,null,null,null,null,null,null,null,null,null,null,null,null,null,null,null,null,null,null,{"$f":"((AP1143 + AP1146) / 2) * AP$47 * (1 - AP$48)","v":0},0,0,0,0]
[null,null,null,null,"Less net interest paid (principal inflation accretion)",null,"£m nominal",null,null,null,null,null,null,null,null,null,null,null,null,null,null,null,null,null,null,null,null,null,null,null,null,null,null,null,null,null,null,null,null,null,null,{"$f":"((AP1143 + AP1146) / 2) * AP$47 * AP$48","v":0},0,0,0,0]
[null,null,null,null,"Closing net debt",null,"£m nominal",null,null,null,null,null,null,null,null,null,null,null,null,null,null,null,null,null,null,null,null,null,null,null,null,null,null,null,null,null,null,null,null,null,null,{"$f":"SUM(AP1146:AP1148)","v":0},0,0,0,0]
[]
[null,"SW Quad (2009/10)"]
[]
[null,null,"Project specific inputs"]
[]
[null,null,null,null,"Asset transfer",null,"year ending",null,{"$f":"Input!I557","v":"2015-03-31"}]
[]
[null,null,null,null,"Pre-RIIO actual cost",null,"£m 18/19 prices",null,null,">",null,null,null,null,null,null,null,null,null,null,null,{"$f":"Input!V578","v":0},{"$f":"Input!W578","v":0},{"$f":"Input!X578","v":0},{"$f":"Input!Y578","v":0},{"$f":"Input!Z578","v":0},{"$f":"Input!AA578","v":0},{"$f":"Input!AB578","v":0},{"$f":"Input!AC578","v":0},{"$f":"Input!AD578","v":0},{"$f":"Input!AE578","v":0},{"$f":"Input!AF578","v":0},{"$f":"Input!AG578","v":0}]
[null,null,null,null,"Post-RIIO actual cost",null,"£m 18/19 prices",null,null,">",null,null,null,null,null,null,null,null,null,null,null,null,null,null,null,null,null,null,null,null,null,null,null,{"$f":"Input!AH583","v":1.0082837568056877},{"$f":"Input!AI583","v":2.5435552573371676},{"$f":"Input!AJ583","v":2.5666081808652415},{"$f":"Input!AK583","v":2.5898700392224914},{"$f":"Input!AL583","v":18.293399082289202},{"$f":"Input!AM583","v":24.260658999472774},{"$f":"Input!AN583","v":1.0643712982245235},{"$f":"Input!AO583","v":0},{"$f":"Input!AP583","v":0},{"$f":"Input!AQ583","v":0},{"$f":"Input!AR583","v":0},{"$f":"Input!AS583","v":0},{"$f":"Input!AT583","v":0}]
[null,null,null,null,"Actual cost",null,null,null,null,null,null,null,null,null,null,null,null,null,null,null,null,{"$f":"SUM(V1157:V1158)","v":0},0,0,0,0,0,0,0,0,0,0,0,1.0082837568056877,2.5435552573371676,2.5666081808652415,2.5898700392224914,18.293399082289202,24.260658999472774,1.0643712982245235,0,{"$f":"SUM(AP1157:AP1158)","v":0},0,0,0,0]
[]
[null,null,"RAV"]
[]
[null,null,null,"Actual cost"]
[]
[null,null,null,null,"Opening balance brought forward",null,"£m 18/19 prices",null,null,">",null,null,null,null,null,null,null,null,null,null,null,0,{"$f":"V1170","v":0},0,0,0,0,0,0,0,0,0,0,0,1.0082837568056877,2.5435552573371676,2.5666081808652415,2.5898700392224914,18.293399082289202,24.260658999472774,1.0643712982245235,{"$f":"AO1170","v":0},{"$f":"AP1170","v":0},{"$f":"AQ1170","v":0},{"$f":"AR1170","v":0},{"$f":"AS1170","v":0}]
[null,null,null,null,"Transfer",null,"£m 18/19 prices",null,null,">",null,null,null,null,null,null,null,null,null,null,null,{"$f":"IF(V$4=$I1155,-V1165,IF(YEAR(V$4)>YEAR($I1155),-V1165,0))","v":0},0,0,0,0,0,0,0,0,0,0,0,0,-1.0082837568056877,-2.5435552573371676,-2.5666081808652415,-2.5898700392224914,-18.293399082289202,-24.260658999472774,-1.0643712982245235,{"$f":"IF(AP$4=$I1155,-AP1165,IF(YEAR(AP$4)>YEAR($I1155),-AP1165,0))","v":0},0,0,0,0]
[null,null,null,null,"Opening balance after transfers",null,"£m 18/19 prices",null,null,">",null,null,null,null,null,null,null,null,null,null,null,{"$f":"SUM(V1165:V1166)","v":0},0,0,0,0,0,0,0,0,0,0,0,0,0,0,0,0,0,0,0,{"$f":"SUM(AP1165:AP1166)","v":0},0,0,0,0]
[null,null,null,null,"Net additions (after disposals)",null,"£m 18/19 prices",null,null,">",null,null,null,null,null,null,null,null,null,null,null,{"$f":"V1159","v":0},{"$f":"W1159","v":0},0,0,0,0,0,0,0,0,0,0,1.0082837568056877,2.5435552573371676,2.5666081808652415,2.5898700392224914,18.293399082289202,24.260658999472774,1.0643712982245235,0,{"$f":"AP1159","v":0},0,0,0,0]
[null,null,null,null,"Removals",null,"£m 18/19 prices"]
[null,null,null,null,"Balance carried forward",null,"£m 18/19 prices",null,null,">",null,null,null,null,null,null,null,null,null,null,null,{"$f":"V1167 + V1168 - V1169","v":0},0,0,0,0,0,0,0,0,0,0,0,1.0082837568056877,2.5435552573371676,2.5666081808652415,2.5898700392224914,18.293399082289202,24.260658999472774,1.0643712982245235,0,{"$f":"AP1167 + AP1168 - AP1169","v":0},0,0,0,0]
[]
[null,null,null,"Actual accumulated depreciation"]
[]
[null,null,null,null,"Opening balance brought forward",null,"£m 18/19 prices",null,null,">",null,null,null,null,null,null,null,null,null,null,null,0,{"$f":"V1179","v":0},0,0,0,0,0,0,0,0,0,0,0,0,0,0,0,0,0,0,{"$f":"AO1179","v":0},{"$f":"AP1179","v":0},{"$f":"AQ1179","v":0},{"$f":"AR1179","v":0},{"$f":"AS1179","v":0}]
[null,null,null,null,"Transfer",null,"£m 18/19 prices",null,null,">",null,null,null,null,null,null,null,null,null,null,null,{"$f":"IF(V$4 = $I1155, -V1174, 0)","v":0},0,0,0,0,0,0,0,0,0,0,0,0,0,0,0,0,0,0,0,{"$f":"IF(AP$4 = $I1155, -AP1174, 0)","v":0},0,0,0,0]
[null,null,null,null,"Opening balance after transfers",null,"£m 18/19 prices",null,null,">",null,null,null,null,null,null,null,null,null,null,null,{"$f":"SUM(V1174:V1175)","v":0},0,0,0,0,0,0,0,0,0,0,0,0,0,0,0,0,0,0,0,{"$f":"SUM(AP1174:AP1175)","v":0},0,0,0,0]
[null,null,null,null,"Regulatory depreciation",null,"£m 18/19 prices",null,null,">",null,null,null,null,null,null,null,null,null,null,null,{"$f":"V1167/V$42","v":0},{"$f":"W1167/W$42","v":0},0,0,0,0,0,0,0,0,0,0,0,0,0,0,0,0,0,0,{"$f":"AP1167/AP$42","v":0},0,0,0,0]
[null,null,null,null,"Removals",null,"£m 18/19 prices",null,null,">"]
[null,null,null,null,"Closing value carried forward",null,"£m 18/19 prices",null,null,">",null,null,null,null,null,null,null,null,null,null,null,{"$f":"V1176 + V1177 - V1178","v":0},{"$f":"W1176 + W1177 - W1178","v":0},0,0,0,0,0,0,0,0,0,0,0,0,0,0,0,0,0,0,{"$f":"AP1176 + AP1177 - AP1178","v":0},0,0,0,0]
[]
[null,null,null,"Actual asset balance"]
[]
[null,null,null,null,"Net value after regulatory depreciation",null,"£m 18/19 prices",null,null,">",null,null,null,null,null,null,null,null,null,null,null,{"$f":"V1170 - V1179","v":0},0,0,0,0,0,0,0,0,0,0,0,1.0082837568056877,2.5435552573371676,2.5666081808652415,2.5898700392224914,18.293399082289202,24.260658999472774,1.0643712982245235,0,{"$f":"AP1170 - AP1179","v":0},0,0,0,0]
[]
[null,null,"Capital allowances"]
[]
[null,null,null,"General pool"]
[]
[null,null,null,null,"General pool capital allowance rate",null,"%",null,null,">",null,null,null,null,null,null,null,null,null,null,null,{"$f":"V$43","v":0.25},{"$f":"W$43","v":0.25},0.25,0.25,0.25,0.25,0.25,0.2,0.2,0.2,0.2,0.18000000000000002,0.18000000000000002,0.18000000000000002,0.18000000000000002,0.18000000000000002,0.18000000000000002,0.18000000000000002,0.18000000000000002,0.18000000000000002,0.18,0.18,0.18,0.18,0.18]
[]
[null,null,null,null,"Opening balance brought forward",null,"£m nominal",null,null,">",null,null,null,null,null,null,null,null,null,null,null,0,{"$f":"V1196","v":0},0,0,0,0,0,0,0,0,0,0,0,2.350866563047864E-2,6.046654147536077E-2,6.1672255436271473E-2,6.3564505055701187E-2,0.46578639075873629,0.63659969214616563,2.8652037551459147E-2,{"$f":"AO1196","v":0},{"$f":"AP1196","v":0},{"$f":"AQ1196","v":0},{"$f":"AR1196","v":0},{"$f":"AS1196","v":0}]
[null,null,null,null,"Transfer",null,"£m nominal",null,null,">",null,null,null,null,null,null,null,null,null,null,null,{"$f":"IF(V$4 >= $I1155, -V1191, 0)","v":0},0,0,0,0,0,0,0,0,0,0,0,0,-2.350866563047864E-2,-6.046654147536077E-2,-6.1672255436271473E-2,-6.3564505055701187E-2,-0.46578639075873629,-0.63659969214616563,-2.8652037551459147E-2,{"$f":"IF(AP$4 >= $I1155, -AP1191, 0)","v":0},0,0,0,0]
[null,null,null,null,"Capex additions",null,"£m nominal",null,null,">",null,null,null,null,null,null,null,null,null,null,null,{"$f":"(V1168 * V$53) * TOpf","v":0},0,0,0,0,0,0,0,0,0,0,0,2.8669104427412977E-2,7.373968472604972E-2,7.521006760520911E-2,7.7517689092318515E-2,0.5680321838521174,0.77634108798312884,3.494150920909652E-2,0,0,0,0,0,0]
[null,null,null,null,"Tax book value pre-depreciation",null,"£m nominal",null,null,">",null,null,null,null,null,null,null,null,null,null,null,{"$f":"SUM(V1191:V1193)","v":0},0,0,0,0,0,0,{"$f":"SUM(AC1191:AC1193)","v":0},0,0,0,0,2.8669104427412977E-2,7.373968472604972E-2,7.521006760520911E-2,7.7517689092318515E-2,0.5680321838521174,0.77634108798312884,3.494150920909652E-2,0,{"$f":"SUM(AP1191:AP1193)","v":0},0,0,0,0]
[null,null,null,null,"General pool capital allowance",null,"£m nominal",null,null,">",null,null,null,null,null,null,null,null,null,null,null,{"$f":"-V1194*V1189","v":0},0,0,0,0,0,0,0,0,0,0,0,-5.1604387969343369E-3,-1.3273143250688952E-2,-1.3537812168937641E-2,-1.3953184036617335E-2,-0.10224579309338114,-0.13974139583696321,-6.2894716576373747E-3,0,{"$f":"-AP1194*AP1189","v":0},0,0,0,0]
[null,null,null,null,"Closing balance carried forward",null,null,null,null,">",null,null,null,null,null,null,null,null,null,null,null,{"$f":"SUM(V1194:V1195)","v":0},{"$f":"SUM(W1194:W1195)","v":0},0,0,0,0,0,0,0,0,0,0,2.350866563047864E-2,6.046654147536077E-2,6.1672255436271473E-2,6.3564505055701187E-2,0.46578639075873629,0.63659969214616563,2.8652037551459147E-2,0,{"$f":"SUM(AP1194:AP1195)","v":0},0,0,0,0]
[]
[null,null,null,"Special Rates"]
[]
[null,null,null,null,"Special Rate capital allowance rate",null,"%",null,null,">",null,null,null,null,null,null,null,null,null,null,null,{"$f":"V$44","v":0.06},{"$f":"W$44","v":0.06},0.06,0.06,0.06,0.06,0.06,0.1,0.1,0.1,0.1,0.08,0.08,0.08,0.08,0.08,0.08,0.08,0.06,0.06,0.06,0.06,0.06,0.06,0.06]
[]
[null,null,null,null,"Opening balance brought forward",null,"£m nominal",null,null,">",null,null,null,null,null,null,null,null,null,null,null,0,{"$f":"V1207","v":0},0,0,0,0,0,0,0,0,0,0,0,0.78384915142600486,2.0161351550161069,2.0563372609109236,2.1194305168953536,15.530709946746702,21.226135771818718,0.97611289819936697,{"$f":"AO1207","v":0},{"$f":"AP1207","v":0},{"$f":"AQ1207","v":0},{"$f":"AR1207","v":0},{"$f":"AS1207","v":0}]
[null,null,null,null,"Transfer",null,"£m nominal",null,null,">",null,null,null,null,null,null,null,null,null,null,null,{"$f":"IF(V$4 >= $I1155,-V1202,0)","v":0},0,0,0,0,0,0,0,0,0,0,0,0,-0.78384915142600486,-2.0161351550161069,-2.0563372609109236,-2.1194305168953536,-15.530709946746702,-21.226135771818718,-0.97611289819936697,{"$f":"IF(AP$4 >= $I1155,-AP1202,0)","v":0},0,0,0,0]
[null,null,null,null,"Capex additions",null,"£m nominal",null,null,">",null,null,null,null,null,null,null,null,null,null,null,{"$f":"(V1168 * V$54) * TOpf","v":0},0,0,0,0,0,0,0,0,0,0,0,0.85200994720217926,2.1914512554522902,2.2351491966423085,2.3037288227123409,16.881206463855111,23.071886708498607,1.0384179768078372,0,0,0,0,0,0]
[null,null,null,null,"Tax book value pre-depreciation",null,"£m nominal",null,null,">",null,null,null,null,null,null,null,null,null,null,null,{"$f":"SUM(V1202:V1204)","v":0},0,0,0,0,0,0,{"$f":"SUM(AC1202:AC1204)","v":0},0,0,0,0,0.85200994720217926,2.1914512554522902,2.2351491966423085,2.3037288227123409,16.881206463855111,23.071886708498607,1.0384179768078372,0,{"$f":"SUM(AP1202:AP1204)","v":0},0,0,0,0]
[null,null,null,null,"Special Rate capital allowance",null,"£m nominal",null,null,">",null,null,null,null,null,null,null,null,null,null,null,{"$f":"-V1205*V1200","v":0},0,0,0,0,0,0,0,0,0,0,0,-6.8160795776174343E-2,-0.17531610043618323,-0.17881193573138468,-0.18429830581698728,-1.3504965171084089,-1.8457509366798885,-6.2305078608470232E-2,0,{"$f":"-AP1205*AP1200","v":0},0,0,0,0]
[null,null,null,null,"Closing balance carried forward",null,null,null,null,">",null,null,null,null,null,null,null,null,null,null,null,{"$f":"SUM(V1205:V1206)","v":0},{"$f":"SUM(W1205:W1206)","v":0},0,0,0,0,0,0,0,0,0,0,0.78384915142600486,2.0161351550161069,2.0563372609109236,2.1194305168953536,15.530709946746702,21.226135771818718,0.97611289819936697,0,{"$f":"SUM(AP1205:AP1206)","v":0},0,0,0,0]
[]
[null,null,"Revenue pool"]
[]
[null,null,null,null,"Revenue pool additions",null,"£m nominal",null,null,">",null,null,null,null,null,null,null,null,null,null,null,{"$f":"(V1168 * V$55) * TOpf","v":0},0,0,0,0,0,0,0,0,0,0,0,0,0,0,0,0,0,0,0,0,0,0,0,0]
[]
[null,null,"Non-qualifying pool"]
[]
[null,null,null,null,"Non-qualifying expenditure",null,"£m nominal",null,null,">",null,null,null,null,null,null,null,null,null,null,null,{"$f":"(V1168 * V$56) * TOpf","v":0},0,0,0,0,0,0,0,0,0,0,0,1.5230461727063143E-2,3.9174207510713925E-2,3.9955348415267343E-2,4.1181272330294214E-2,0.30176709767143733,0.41243120299103719,1.8562676767332528E-2,0,0,0,0,0,0]
[]
[null,null,"Net debt"]
[]
[null,null,null,null,"Overall gearing after equity issuance",null,"%",null,null,null,null,null,null,null,null,null,null,null,null,null,null,null,null,null,null,null,null,null,null,null,null,null,null,null,null,null,null,null,null,null,null,{"$f":"AP$46","v":0.6},0.58730484245989634,0.5819434430964423,0.57604812935946159,0.55936589604833153]
[]
[null,null,null,null,"Opening net debt",null,"£m nominal",null,null,null,null,null,null,null,null,null,null,null,null,null,null,null,null,null,null,null,null,null,null,null,null,null,null,null,null,null,null,null,null,null,null,null,{"$f":"AP1229","v":0},{"$f":"AQ1229","v":0},{"$f":"AR1229","v":0},{"$f":"AS1229","v":0}]
[null,null,null,null,"Transfer from core net debt",null,"£m nominal",null,null,null,null,null,null,null,null,null,null,null,null,null,null,null,null,null,null,null,null,null,null,null,null,null,null,null,null,null,null,null,null,null,null,null,{"$f":"AQ1223-AQ1221","v":0},0,0,0]
[null,null,null,null,"Opening net debt after transfer",null,"£m nominal",null,null,null,null,null,null,null,null,null,null,null,null,null,null,null,null,null,null,null,null,null,null,null,null,null,null,null,null,null,null,null,null,null,null,{"$f":"-AP1219 * (AP1167 - AP1176) * Input!AO$191","v":0},{"$f":"-AQ1219 * (AQ1167 - AQ1176) * Input!AP$191","v":0},{"$f":"-AR1219 * (AR1167 - AR1176) * Input!AQ$191","v":0},{"$f":"-AS1219 * (AS1167 - AS1176) * Input!AR$191","v":0},{"$f":"-AT1219 * (AT1167 - AT1176) * Input!AS$191","v":0}]
[null,null,null,null,"Less capex",null,"£m nominal",null,null,null,null,null,null,null,null,null,null,null,null,null,null,null,null,null,null,null,null,null,null,null,null,null,null,null,null,null,null,null,null,null,null,{"$f":"-AP1168 * TOpf","v":0},0,0,0,0]
[null,null,null,null,"Less dividends",null,"£m nominal",null,null,null,null,null,null,null,null,null,null,null,null,null,null,null,null,null,null,null,null,null,null,null,null,null,null,null,null,null,null,null,null,null,null,{"$f":"-AP1183 * (1 - AP1219) * AP$49 * TOpf","v":0},0,0,0,0]
[null,null,null,null,"Closing net debt (before interest and tax)",null,"£m nominal",null,null,null,null,null,null,null,null,null,null,null,null,null,null,null,null,null,null,null,null,null,null,null,null,null,null,null,null,null,null,null,null,null,null,{"$f":"SUM(AP1223:AP1225)","v":0},0,0,0,0]
[null,null,null,null,"Less net interest paid (excluding principal inflation accretion)",null,"£m nominal",null,null,null,null,null,null,null,null,null,null,null,null,null,null,null,null,null,null,null,null,null,null,null,null,null,null,null,null,null,null,null,null,null,null,{"$f":"((AP1223 + AP1226) / 2) * AP$47 * (1 - AP$48)","v":0},0,0,0,0]
[null,null,null,null,"Less net interest paid (principal inflation accretion)",null,"£m nominal",null,null,null,null,null,null,null,null,null,null,null,null,null,null,null,null,null,null,null,null,null,null,null,null,null,null,null,null,null,null,null,null,null,null,{"$f":"((AP1223 + AP1226) / 2) * AP$47 * AP$48","v":0},0,0,0,0]
[null,null,null,null,"Closing net debt",null,"£m nominal",null,null,null,null,null,null,null,null,null,null,null,null,null,null,null,null,null,null,null,null,null,null,null,null,null,null,null,null,null,null,null,null,null,null,{"$f":"SUM(AP1226:AP1228)","v":0},0,0,0,0]
[]
[null,"North West Entry / Hole House Farm Storage"]
[]
[null,null,"Project specific inputs"]
[]
[null,null,null,null,"Asset transfer",null,"year ending",null,{"$f":"Input!I558","v":"2017-03-31"}]
[]
[null,null,null,null,"Pre-RIIO actual cost",null,"£m 18/19 prices",null,null,">",null,null,null,null,null,null,null,null,null,null,null,{"$f":"Input!V579","v":0},{"$f":"Input!W579","v":0},{"$f":"Input!X579","v":0},{"$f":"Input!Y579","v":0},{"$f":"Input!Z579","v":0},{"$f":"Input!AA579","v":0},{"$f":"Input!AB579","v":0},{"$f":"Input!AC579","v":0},{"$f":"Input!AD579","v":0.80742474720686697},{"$f":"Input!AE579","v":8.0438253911608975},{"$f":"Input!AF579","v":9.6866432983065405},{"$f":"Input!AG579","v":0}]
[null,null,null,null,"Post-RIIO actual cost",null,"£m 18/19 prices",null,null,">"]
[null,null,null,null,"Actual cost",null,null,null,null,null,null,null,null,null,null,null,null,null,null,null,null,{"$f":"SUM(V1237:V1238)","v":0},0,0,0,0,0,0,0,0.80742474720686697,8.0438253911608975,9.6866432983065405,0,0,0,0,0,0,0,0,0,{"$f":"SUM(AP1237:AP1238)","v":0},0,0,0,0]
[]
[null,null,"RAV"]
[]
[null,null,null,"Actual cost"]
[]
[null,null,null,null,"Opening balance brought forward",null,"£m 18/19 prices",null,null,">",null,null,null,null,null,null,null,null,null,null,null,0,{"$f":"V1250","v":0},0,0,0,0,0,0,0,0.80742474720686697,8.8512501383677638,18.537893436674302,18.537893436674302,18.537893436674302,18.537893436674302,18.537893436674302,0,0,0,0,{"$f":"AO1250","v":0},{"$f":"AP1250","v":0},{"$f":"AQ1250","v":0},{"$f":"AR1250","v":0},{"$f":"AS1250","v":0}]
[null,null,null,null,"Transfer",null,"£m 18/19 prices",null,null,">",null,null,null,null,null,null,null,null,null,null,null,{"$f":"IF(V$4=$I1235,-V1245,IF(YEAR(V$4)>YEAR($I1235),-V1245,0))","v":0},0,0,0,0,0,0,0,0,0,0,0,0,0,0,-18.537893436674302,0,0,0,0,{"$f":"IF(AP$4=$I1235,-AP1245,IF(YEAR(AP$4)>YEAR($I1235),-AP1245,0))","v":0},0,0,0,0]
[null,null,null,null,"Opening balance after transfers",null,"£m 18/19 prices",null,null,">",null,null,null,null,null,null,null,null,null,null,null,{"$f":"SUM(V1245:V1246)","v":0},0,0,0,0,0,0,0,0,0.80742474720686697,8.8512501383677638,18.537893436674302,18.537893436674302,18.537893436674302,18.537893436674302,0,0,0,0,0,{"$f":"SUM(AP1245:AP1246)","v":0},0,0,0,0]
[null,null,null,null,"Net additions (after disposals)",null,"£m 18/19 prices",null,null,">",null,null,null,null,null,null,null,null,null,null,null,{"$f":"V1239","v":0},{"$f":"W1239","v":0},0,0,0,0,0,0,0.80742474720686697,8.0438253911608975,9.6866432983065405,0,0,0,0,0,0,0,0,0,{"$f":"AP1239","v":0},0,0,0,0]
[null,null,null,null,"Removals",null,"£m 18/19 prices"]
[null,null,null,null,"Balance carried forward",null,"£m 18/19 prices",null,null,">",null,null,null,null,null,null,null,null,null,null,null,{"$f":"V1247 + V1248 - V1249","v":0},0,0,0,0,0,0,0,0.80742474720686697,8.8512501383677638,18.537893436674302,18.537893436674302,18.537893436674302,18.537893436674302,18.537893436674302,0,0,0,0,0,{"$f":"AP1247 + AP1248 - AP1249","v":0},0,0,0,0]
[]
[null,null,null,"Actual accumulated depreciation"]
[]
[null,null,null,null,"Opening balance brought forward",null,"£m 18/19 prices",null,null,">",null,null,null,null,null,null,null,null,null,null,null,0,{"$f":"V1259","v":0},0,0,0,0,0,0,0,0,1.7942772160152599E-2,0.21463721967943625,0.62659040716108738,1.0385435946427386,1.4504967821243897,1.8624499696060408,0,0,0,0,{"$f":"AO1259","v":0},{"$f":"AP1259","v":0},{"$f":"AQ1259","v":0},{"$f":"AR1259","v":0},{"$f":"AS1259","v":0}]
[null,null,null,null,"Transfer",null,"£m 18/19 prices",null,null,">",null,null,null,null,null,null,null,null,null,null,null,{"$f":"IF(V$4 = $I1235, -V1254, 0)","v":0},0,0,0,0,0,0,0,0,0,0,0,0,0,0,-1.8624499696060408,0,0,0,0,{"$f":"IF(AP$4 = $I1235, -AP1254, 0)","v":0},0,0,0,0]
[null,null,null,null,"Opening balance after transfers",null,"£m 18/19 prices",null,null,">",null,null,null,null,null,null,null,null,null,null,null,{"$f":"SUM(V1254:V1255)","v":0},0,0,0,0,0,0,0,0,0,1.7942772160152599E-2,0.21463721967943625,0.62659040716108738,1.0385435946427386,1.4504967821243897,0,0,0,0,0,{"$f":"SUM(AP1254:AP1255)","v":0},0,0,0,0]
[null,null,null,null,"Regulatory depreciation",null,"£m 18/19 prices",null,null,">",null,null,null,null,null,null,null,null,null,null,null,{"$f":"V1247/V$42","v":0},{"$f":"W1247/W$42","v":0},0,0,0,0,0,0,0,1.7942772160152599E-2,0.19669444751928364,0.41195318748165116,0.41195318748165116,0.41195318748165116,0.41195318748165116,0,0,0,0,0,{"$f":"AP1247/AP$42","v":0},0,0,0,0]
[null,null,null,null,"Removals",null,"£m 18/19 prices",null,null,">"]
[null,null,null,null,"Closing value carried forward",null,"£m 18/19 prices",null,null,">",null,null,null,null,null,null,null,null,null,null,null,{"$f":"V1256 + V1257 - V1258","v":0},{"$f":"W1256 + W1257 - W1258","v":0},0,0,0,0,0,0,0,1.7942772160152599E-2,0.21463721967943625,0.62659040716108738,1.0385435946427386,1.4504967821243897,1.8624499696060408,0,0,0,0,0,{"$f":"AP1256 + AP1257 - AP1258","v":0},0,0,0,0]
[]
[null,null,null,"Actual asset balance"]
[]
[null,null,null,null,"Net value after regulatory depreciation",null,"£m 18/19 prices",null,null,">",null,null,null,null,null,null,null,null,null,null,null,{"$f":"V1250 - V1259","v":0},0,0,0,0,0,0,0,0.80742474720686697,8.8333073662076114,18.323256216994867,17.911303029513213,17.499349842031563,17.087396654549913,16.675443467068263,0,0,0,0,0,{"$f":"AP1250 - AP1259","v":0},0,0,0,0]
[]
[null,null,"Capital allowances"]
[]
[null,null,null,"General pool"]
[]
[null,null,null,null,"General pool capital allowance rate",null,"%",null,null,">",null,null,null,null,null,null,null,null,null,null,null,{"$f":"V$43","v":0.25},{"$f":"W$43","v":0.25},0.25,0.25,0.25,0.25,0.25,0.2,0.2,0.2,0.2,0.18000000000000002,0.18000000000000002,0.18000000000000002,0.18000000000000002,0.18000000000000002,0.18000000000000002,0.18000000000000002,0.18000000000000002,0.18000000000000002,0.18,0.18,0.18,0.18,0.18]
[]
[null,null,null,null,"Opening balance brought forward",null,"£m nominal",null,null,">",null,null,null,null,null,null,null,null,null,null,null,0,{"$f":"V1276","v":0},0,0,0,0,0,0,0,9.3469656625919627E-3,0.10521640384944915,0.20752095889571492,0.17016718629448624,0.13953709276147871,0.11442041606441254,9.3824741172818277E-2,0,0,0,0,{"$f":"AO1276","v":0},{"$f":"AP1276","v":0},{"$f":"AQ1276","v":0},{"$f":"AR1276","v":0},{"$f":"AS1276","v":0}]
[null,null,null,null,"Transfer",null,"£m nominal",null,null,">",null,null,null,null,null,null,null,null,null,null,null,{"$f":"IF(V$4 >= $I1235, -V1271, 0)","v":0},0,0,0,0,0,0,0,0,0,0,0,0,0,0,-9.3824741172818277E-2,0,0,0,0,{"$f":"IF(AP$4 >= $I1235, -AP1271, 0)","v":0},0,0,0,0]
[null,null,null,null,"Capex additions",null,"£m nominal",null,null,">",null,null,null,null,null,null,null,null,null,null,null,{"$f":"(V1248 * V$53) * TOpf","v":0},0,0,0,0,0,0,0,1.1683707078239954E-2,0.12217353914921947,0.15418479477019453,0,0,0,0,0,0,0,0,0,0,0,0,0,0]
[null,null,null,null,"Tax book value pre-depreciation",null,"£m nominal",null,null,">",null,null,null,null,null,null,null,null,null,null,null,{"$f":"SUM(V1271:V1273)","v":0},0,0,0,0,0,0,{"$f":"SUM(AC1271:AC1273)","v":0},1.1683707078239954E-2,0.13152050481181143,0.25940119861964367,0.20752095889571492,0.17016718629448624,0.13953709276147871,0.11442041606441254,0,0,0,0,0,{"$f":"SUM(AP1271:AP1273)","v":0},0,0,0,0]
[null,null,null,null,"General pool capital allowance",null,"£m nominal",null,null,">",null,null,null,null,null,null,null,null,null,null,null,{"$f":"-V1274*V1269","v":0},0,0,0,0,0,0,0,-2.3367414156479911E-3,-2.6304100962362287E-2,-5.1880239723928738E-2,-3.7353772601228692E-2,-3.0630093533007528E-2,-2.5116676697066173E-2,-2.0595674891594262E-2,0,0,0,0,0,{"$f":"-AP1274*AP1269","v":0},0,0,0,0]
[null,null,null,null,"Closing balance carried forward",null,null,null,null,">",null,null,null,null,null,null,null,null,null,null,null,{"$f":"SUM(V1274:V1275)","v":0},{"$f":"SUM(W1274:W1275)","v":0},0,0,0,0,0,0,9.3469656625919627E-3,0.10521640384944915,0.20752095889571492,0.17016718629448624,0.13953709276147871,0.11442041606441254,9.3824741172818277E-2,0,0,0,0,0,{"$f":"SUM(AP1274:AP1275)","v":0},0,0,0,0]
[]
[null,null,null,"Special Rates"]
[]
[null,null,null,null,"Special Rate capital allowance rate",null,"%",null,null,">",null,null,null,null,null,null,null,null,null,null,null,{"$f":"V$44","v":0.06},{"$f":"W$44","v":0.06},0.06,0.06,0.06,0.06,0.06,0.1,0.1,0.1,0.1,0.08,0.08,0.08,0.08,0.08,0.08,0.08,0.06,0.06,0.06,0.06,0.06,0.06,0.06]
[]
[null,null,null,null,"Opening balance brought forward",null,"£m nominal",null,null,">",null,null,null,null,null,null,null,null,null,null,null,0,{"$f":"V1287","v":0},0,0,0,0,0,0,0,0.53351496110952545,6.0589930737281943,12.493658394914362,11.494165723321213,10.574632465455517,9.728661868219076,8.9503689187615496,0,0,0,0,{"$f":"AO1287","v":0},{"$f":"AP1287","v":0},{"$f":"AQ1287","v":0},{"$f":"AR1287","v":0},{"$f":"AS1287","v":0}]
[null,null,null,null,"Transfer",null,"£m nominal",null,null,">",null,null,null,null,null,null,null,null,null,null,null,{"$f":"IF(V$4 >= $I1235,-V1282,0)","v":0},0,0,0,0,0,0,0,0,0,0,0,0,0,0,-8.9503689187615496,0,0,0,0,{"$f":"IF(AP$4 >= $I1235,-AP1282,0)","v":0},0,0,0,0]
[null,null,null,null,"Capex additions",null,"£m nominal",null,null,">",null,null,null,null,null,null,null,null,null,null,null,{"$f":"(V1248 * V$54) * TOpf","v":0},0,0,0,0,0,0,0,0.59279440123280602,6.1986995652551347,7.8228495872877648,0,0,0,0,0,0,0,0,0,0,0,0,0,0]
[null,null,null,null,"Tax book value pre-depreciation",null,"£m nominal",null,null,">",null,null,null,null,null,null,null,null,null,null,null,{"$f":"SUM(V1282:V1284)","v":0},0,0,0,0,0,0,{"$f":"SUM(AC1282:AC1284)","v":0},0.59279440123280602,6.7322145263646602,13.881842661015959,12.493658394914362,11.494165723321213,10.574632465455517,9.728661868219076,0,0,0,0,0,{"$f":"SUM(AP1282:AP1284)","v":0},0,0,0,0]
[null,null,null,null,"Special Rate capital allowance",null,"£m nominal",null,null,">",null,null,null,null,null,null,null,null,null,null,null,{"$f":"-V1285*V1280","v":0},0,0,0,0,0,0,0,-5.9279440123280604E-2,-0.67322145263646604,-1.388184266101596,-0.99949267159314903,-0.91953325786569706,-0.84597059723644141,-0.77829294945752614,0,0,0,0,0,{"$f":"-AP1285*AP1280","v":0},0,0,0,0]
[null,null,null,null,"Closing balance carried forward",null,null,null,null,">",null,null,null,null,null,null,null,null,null,null,null,{"$f":"SUM(V1285:V1286)","v":0},{"$f":"SUM(W1285:W1286)","v":0},0,0,0,0,0,0,0.53351496110952545,6.0589930737281943,12.493658394914362,11.494165723321213,10.574632465455517,9.728661868219076,8.9503689187615496,0,0,0,0,0,{"$f":"SUM(AP1285:AP1286)","v":0},0,0,0,0]
[]
[null,null,"Revenue pool"]
[]
[null,null,null,null,"Revenue pool additions",null,"£m nominal",null,null,">",null,null,null,null,null,null,null,null,null,null,null,{"$f":"(V1248 * V$55) * TOpf","v":0},0,0,0,0,0,0,0,2.4597278059452533E-3,2.5720745084046204E-2,3.2459956793725167E-2,0,0,0,0,0,0,0,0,0,0,0,0,0,0]
[]
[null,null,"Non-qualifying pool"]
[]
[null,null,null,null,"Non-qualifying expenditure",null,"£m nominal",null,null,">",null,null,null,null,null,null,null,null,null,null,null,{"$f":"(V1248 * V$56) * TOpf","v":0},0,0,0,0,0,0,0,7.9941153693220742E-3,8.3592421523150148E-2,0.10549485957960679,0,0,0,0,0,0,0,0,0,0,0,0,0,0]
[]
[null,null,"Net debt"]
[]
[null,null,null,null,"Overall gearing after equity issuance",null,"%",null,null,null,null,null,null,null,null,null,null,null,null,null,null,null,null,null,null,null,null,null,null,null,null,null,null,null,null,null,null,null,null,null,null,{"$f":"AP$46","v":0.6},0.58730484245989634,0.5819434430964423,0.57604812935946159,0.55936589604833153]
[]
[null,null,null,null,"Opening net debt",null,"£m nominal",null,null,null,null,null,null,null,null,null,null,null,null,null,null,null,null,null,null,null,null,null,null,null,null,null,null,null,null,null,null,null,null,null,null,null,{"$f":"AP1309","v":0},{"$f":"AQ1309","v":0},{"$f":"AR1309","v":0},{"$f":"AS1309","v":0}]
[null,null,null,null,"Transfer from core net debt",null,"£m nominal",null,null,null,null,null,null,null,null,null,null,null,null,null,null,null,null,null,null,null,null,null,null,null,null,null,null,null,null,null,null,null,null,null,null,null,{"$f":"AQ1303-AQ1301","v":0},0,0,0]
[null,null,null,null,"Opening net debt after transfer",null,"£m nominal",null,null,null,null,null,null,null,null,null,null,null,null,null,null,null,null,null,null,null,null,null,null,null,null,null,null,null,null,null,null,null,null,null,null,{"$f":"-AP1299 * (AP1247 - AP1256) * Input!AO$191","v":0},{"$f":"-AQ1299 * (AQ1247 - AQ1256) * Input!AP$191","v":0},{"$f":"-AR1299 * (AR1247 - AR1256) * Input!AQ$191","v":0},{"$f":"-AS1299 * (AS1247 - AS1256) * Input!AR$191","v":0},{"$f":"-AT1299 * (AT1247 - AT1256) * Input!AS$191","v":0}]
[null,null,null,null,"Less capex",null,"£m nominal",null,null,null,null,null,null,null,null,null,null,null,null,null,null,null,null,null,null,null,null,null,null,null,null,null,null,null,null,null,null,null,null,null,null,{"$f":"-AP1248 * TOpf","v":0},0,0,0,0]
[null,null,null,null,"Less dividends",null,"£m nominal",null,null,null,null,null,null,null,null,null,null,null,null,null,null,null,null,null,null,null,null,null,null,null,null,null,null,null,null,null,null,null,null,null,null,{"$f":"-AP1263 * (1 - AP1299) * AP$49 * TOpf","v":0},0,0,0,0]
[null,null,null,null,"Closing net debt (before interest and tax)",null,"£m nominal",null,null,null,null,null,null,null,null,null,null,null,null,null,null,null,null,null,null,null,null,null,null,null,null,null,null,null,null,null,null,null,null,null,null,{"$f":"SUM(AP1303:AP1305)","v":0},0,0,0,0]
[null,null,null,null,"Less net interest paid (excluding principal inflation accretion)",null,"£m nominal",null,null,null,null,null,null,null,null,null,null,null,null,null,null,null,null,null,null,null,null,null,null,null,null,null,null,null,null,null,null,null,null,null,null,{"$f":"((AP1303 + AP1306) / 2) * AP$47 * (1 - AP$48)","v":0},0,0,0,0]
[null,null,null,null,"Less net interest paid (principal inflation accretion)",null,"£m nominal",null,null,null,null,null,null,null,null,null,null,null,null,null,null,null,null,null,null,null,null,null,null,null,null,null,null,null,null,null,null,null,null,null,null,{"$f":"((AP1303 + AP1306) / 2) * AP$47 * AP$48","v":0},0,0,0,0]
[null,null,null,null,"Closing net debt",null,"£m nominal",null,null,null,null,null,null,null,null,null,null,null,null,null,null,null,null,null,null,null,null,null,null,null,null,null,null,null,null,null,null,null,null,null,null,{"$f":"SUM(AP1306:AP1308)","v":0},0,0,0,0]
[]
[null,"End of sheet"]

{"sheet":"ReturnAdj","index":11,"n_rows":83,"n_cols":46,"rows_kept":83,"cut":false,"hidden":false,"merged":[]}
["Return adjustment"]
[null,{"$f":"UserInterface!G17","v":"NGGT TO"}]
[null,null,null,null,"Parameter",null,"Units",null,"Constant",null,null,null,null,null,null,null,null,null,null,null,null,null,null,null,null,null,null,null,null,null,null,null,null,null,null,null,null,null,null,null,null,"Annual values"]
[null,null,null,null,"PCFM year ending",{"$f":"Cover!C4","v":"Model Version"},null,null,{"$f":"UserInterface!$G$10","v":"2022-03-31"},null,"1991-03-31","1992-03-31","1993-03-31","1994-03-31","1995-03-31","1996-03-31","1997-03-31","1998-03-31","1999-03-31","2000-03-31","2001-03-31","2002-03-31","2003-03-31","2004-03-31","2005-03-31","2006-03-31","2007-03-31","2008-03-31","2009-03-31","2010-03-31","2011-03-31","2012-03-31","2013-03-31","2014-03-31","2015-03-31","2016-03-31","2017-03-31","2018-03-31","2019-03-31","2020-03-31","2021-03-31","2022-03-31","2023-03-31","2024-03-31","2025-03-31","2026-03-31"]
[]
[null,"Return adjustment"]
[null,"Note: The RTNAt value calculated below is not linked to the \"calculated revenue\" formula in the \"Revenue\" tab. This is because the Return adjustment term (RTNAt) is determined after the end of the Price Control Period."]
[null,"After the end of the Price Control Period the Authority will undertake a review of Operational Performance and the RTNAt term will be determined. Subject to the Authority’s direction, the RTNAt term as obtained in this tab"]
[null,"will be linked to the RTNAt line of the \"calculated revenue\" formula in the \"Revenue\" tab. The RTNAt term is applied to TO calculated revenue, but based on the TO and SO combined performance."]
[]
[null,null,"RAV inputs"]
[null,null,"Note: RAVLt is defined as the sum of TO and SO RAV."]
[]
[null,null,null,null,"Notional gearing",null,"%","G",null,null,null,null,null,null,null,null,null,null,null,null,null,null,null,null,null,null,null,null,null,null,null,null,null,null,null,null,null,null,null,null,null,{"$f":"Input!AP158","v":0.6},{"$f":"Input!AQ158","v":0.6},{"$f":"Input!AR158","v":0.6},{"$f":"Input!AS158","v":0.6},{"$f":"Input!AT158","v":0.6}]
[null,null,null,null,"NPV-neutral RAV return base (TO + SO)",null,"£m 18/19 prices","RAVLt",null,null,null,null,null,null,null,null,null,null,null,null,null,null,null,null,null,null,null,null,null,null,null,null,null,null,null,null,null,null,null,null,null,{"$f":"SUM('Return&RAV'!AP29, SystemOperator!AP460)","v":5969.2739394524551},{"$f":"SUM('Return&RAV'!AQ29, SystemOperator!AQ460)","v":5900.2673787134099},{"$f":"SUM('Return&RAV'!AR29, SystemOperator!AR460)","v":5869.5903854506651},{"$f":"SUM('Return&RAV'!AS29, SystemOperator!AS460)","v":5779.1460781301366},{"$f":"SUM('Return&RAV'!AT29, SystemOperator!AT460)","v":5618.1860827905948}]
[null,null,null,null,"Equity portion of NPV-neutral RAV (TO + SO)",null,"£m 18/19 prices","RAVLt * (1 - G)",null,null,null,null,null,null,null,null,null,null,null,null,null,null,null,null,null,null,null,null,null,null,null,null,null,null,null,null,null,null,null,null,null,{"$f":"AP15 * (1 - AP14)","v":2387.709575780982},{"$f":"AQ15 * (1 - AQ14)","v":2360.1069514853639},2347.836154180266,2311.6584312520549,2247.274433116238]
[]
[null,null,null,null,"Sum of NPV-neutral RAV values over the Price Control Period",null,"£m 18/19 prices","∑t RAVLt",{"$f":"SUM(AP15:AT15)","v":29136.463864537262}]
[null,null,null,null,"Notional gearing",null,"£m 18/19 prices","G",{"$f":"Input!I261","v":0.6}]
[null,null,null,null,"Sum of NPV-neutral equity RAV values over the Price Control Period",null,"£m 18/19 prices","∑t RAVLt * (1 - G)",{"$f":"I18 * (1 - $I19)","v":11654.585545814905}]
[]
[null,null,"Operational performance"]
[null,null,"Note: The combined operational performance includes both TO and SO totex outperformance, as well as TO ODIs and SO incentives. "]
[]
[null,null,null,null,"Totex outperformance (operator share) - TO",null,"£m 18/19 prices",null,null,null,null,null,null,null,null,null,null,null,null,null,null,null,null,null,null,null,null,null,null,null,null,null,null,null,null,null,null,null,null,null,null,{"$f":"LiveResults!L155","v":0},{"$f":"LiveResults!M155","v":0},{"$f":"LiveResults!N155","v":0},{"$f":"LiveResults!O155","v":0},{"$f":"LiveResults!P155","v":0}]
[null,null,null,null,"Totex outperformance (operator share) - SO",null,"£m 18/19 prices",null,null,null,null,null,null,null,null,null,null,null,null,null,null,null,null,null,null,null,null,null,null,null,null,null,null,null,null,null,null,null,null,null,null,{"$f":"LiveResults!L303","v":0},{"$f":"LiveResults!M303","v":0},{"$f":"LiveResults!N303","v":0},{"$f":"LiveResults!O303","v":0},{"$f":"LiveResults!P303","v":0}]
[null,null,null,null,"Output delivery incentives - TO",null,"£m 18/19 prices",null,null,null,null,null,null,null,null,null,null,null,null,null,null,null,null,null,null,null,null,null,null,null,null,null,null,null,null,null,null,null,null,null,null,{"$f":"LiveResults!L156","v":0},{"$f":"LiveResults!M156","v":0},{"$f":"LiveResults!N156","v":0},{"$f":"LiveResults!O156","v":0},{"$f":"LiveResults!P156","v":0}]
[null,null,null,null,"Incentives - SO",null,"£m 18/19 prices",null,null,null,null,null,null,null,null,null,null,null,null,null,null,null,null,null,null,null,null,null,null,null,null,null,null,null,null,null,null,null,null,null,null,{"$f":"LiveResults!L304","v":0},{"$f":"LiveResults!M304","v":0},{"$f":"LiveResults!N304","v":0},{"$f":"LiveResults!O304","v":0},{"$f":"LiveResults!P304","v":0}]
[null,null,null,null,"Operational performance",null,"£m 18/19 prices",null,null,null,null,null,null,null,null,null,null,null,null,null,null,null,null,null,null,null,null,null,null,null,null,null,null,null,null,null,null,null,null,null,null,{"$f":"SUM(AP25:AP28)","v":0},{"$f":"SUM(AQ25:AQ28)","v":0},{"$f":"SUM(AR25:AR28)","v":0},{"$f":"SUM(AS25:AS28)","v":0},{"$f":"SUM(AT25:AT28)","v":0}]
[]
[null,null,null,null,"Operational performance over the Price Control Period",null,"annual real %","OPP",{"$f":"SUM($AP29:$AT29) / SUM($AP16:$AT16)","v":0}]
[]
[null,null,"Return adjustment determination"]
[]
[null,null,null,"Return adjustment parameters"]
[]
[null,null,null,null,"Expected outperformance",null,"annual real %","EO",{"$f":"AVERAGE(Input!AP161:AT161)","v":2.5000000000000022E-3}]
[null,null,null,null,"Threshold 1",null,"annual real %","T1",{"$f":"Input!I262","v":0.03}]
[null,null,null,null,"Threshold 2",null,"annual real %","T2",{"$f":"Input!I263","v":0.04}]
[null,null,null,null,"Adjustment rate 1",null,"%","AR1",{"$f":"Input!I264","v":0.5}]
[null,null,null,null,"Adjustment rate 2",null,"%","AR2",{"$f":"Input!I265","v":0.9}]
[]
[null,null,null,"Return adjustment over the Price Control Period (OPP >= 0)"]
[]
[null,null,null,null,"OPP >= 0",null,"text",null,{"$f":"I31 >= 0","v":true}]
[]
[null,null,null,null,"Adjustment on expected outperformance (OPP < EO)",null,"%",null,{"$f":"I45 * MAX( MIN(I37 - I31, I37),\n                    0)","v":2.5000000000000022E-3}]
[null,null,null,null,"Adjustment 1 (T1 < OPP <= T2)",null,"%",null,{"$f":"I45 * MAX( MIN(I31, I39) - I38,\n                    0) * I40","v":0}]
[null,null,null,null,"Adjustment 2 (OPP > T2)",null,"%",null,{"$f":"I45 * MAX( I31 - I39,\n                    0) * I41","v":0}]
[]
[null,null,null,null,"Return adjustment over the Price Control Period (OPP >= 0)",null,"£m 18/19 prices",null,{"$f":"I20 * (I47 - I48 - I49)","v":29.136463864537291}]
[]
[null,null,null,"Return adjustment over the Price Control Period (OPP < 0)"]
[]
[null,null,null,null,"OPP < 0",null,"text",null,{"$f":"I31 < 0","v":false}]
[]
[null,null,null,null,"Adjustment on expected outperformance ( - OPP <= EO)",null,"%",null,{"$f":"I55 * I37","v":0}]
[null,null,null,null,"Adjustment 1 (T1 < - OPP <= T2)",null,"%",null,{"$f":"I55 * MAX( MIN( - I31, I39) - I38,\n                   0) * I40","v":0}]
[null,null,null,null,"Adjustment 2 ( - OPP > T2)",null,"%",null,{"$f":"I55 * MAX( - I31 - I39,\n                     0) * I41","v":0}]
[]
[null,null,null,null,"Return adjustment over the Price Control Period (OPP < 0)",null,"£m 18/19 prices",null,{"$f":"I20 * (I57 + I58 + I59)","v":0}]
[]
[null,null,null,"Annual return adjustment determination"]
[null,null,null,"Note: The RTNAt term calculated below will be linked to the RTNAt line of \"calculated revenue\" in the \"Revenue\" tab after the end of the Price Control Period, following the Authority review of Operational"]
[null,null,null,"Performance."]
[]
[null,null,null,null,"Return adjustment over the Price Control Period",null,"£m 18/19 prices","RTNR",{"$f":"SUM(I51, I61)","v":29.136463864537291}]
[]
[null,null,null,null,"Return adjustment annual profiling percentages",null,"£m 18/19 prices","RAVLt * (1 - G) / \n∑t RAVLt * (1 - G)",null,null,null,null,null,null,null,null,null,null,null,null,null,null,null,null,null,null,null,null,null,null,null,null,null,null,null,null,null,null,null,null,null,{"$f":"AP16 / $I20","v":0.20487297179249714},{"$f":"AQ16 / $I20","v":0.20250458003913016},{"$f":"AR16 / $I20","v":0.20145170713714144},{"$f":"AS16 / $I20","v":0.1983475450212091},{"$f":"AT16 / $I20","v":0.1928231960100221}]
[]
[null,null,null,null,"Return adjustment",null,"£m 18/19 prices","RTNAt",null,null,null,null,null,null,null,null,null,null,null,null,null,null,null,null,null,null,null,null,null,null,null,null,null,null,null,null,null,null,null,null,null,{"$f":"$I67 * AP69","v":5.9692739394524601},{"$f":"$I67 * AQ69","v":5.9002673787134157},5.869590385450671,5.7791460781301423,5.6181860827905998]
[]
[null,"Outperformance after return adjustment (for information only)"]
[]
[null,null,null,null,"Operational performance",null,"£m 18/19 prices",{"$f":"H29","v":0},null,null,null,null,null,null,null,null,null,null,null,null,null,null,null,null,null,null,null,null,null,null,null,null,null,null,null,null,null,null,null,null,null,{"$f":"AP29","v":0},{"$f":"AQ29","v":0},{"$f":"AR29","v":0},{"$f":"AS29","v":0},{"$f":"AT29","v":0}]
[null,null,null,null,"Return adjustment",null,"£m 18/19 prices",{"$f":"H71","v":"RTNAt"},null,null,null,null,null,null,null,null,null,null,null,null,null,null,null,null,null,null,null,null,null,null,null,null,null,null,null,null,null,null,null,null,null,{"$f":"AP71","v":5.9692739394524601},{"$f":"AQ71","v":5.9002673787134157},{"$f":"AR71","v":5.869590385450671},{"$f":"AS71","v":5.7791460781301423},{"$f":"AT71","v":5.6181860827905998}]
[null,null,null,null,"Operational performance after returrn adjustment",null,"£m 18/19 prices",null,null,null,null,null,null,null,null,null,null,null,null,null,null,null,null,null,null,null,null,null,null,null,null,null,null,null,null,null,null,null,null,null,null,{"$f":"SUM(AP75:AP76)","v":5.9692739394524601},{"$f":"SUM(AQ75:AQ76)","v":5.9002673787134157},5.869590385450671,5.7791460781301423,5.6181860827905998]
[]
[null,null,null,null,"Operational performance over the Price Control Period",null,"% annual real",null,{"$f":"SUM($AP75:$AT75) / $I20","v":0}]
[null,null,null,null,"Return adjustment over the Price Control Period",null,"% annual real",null,{"$f":"SUM($AP76:$AT76) / $I20","v":2.5000000000000022E-3}]
[null,null,null,null,"Outperformance after return adjustment over the Price Control Period",null,"% annual real",null,{"$f":"SUM(I79:I80)","v":2.5000000000000022E-3}]
[]
[null,"End of sheet"]

{"sheet":"Revenue","index":12,"n_rows":28,"n_cols":46,"rows_kept":28,"cut":false,"hidden":false,"merged":[]}
["Revenue"]
[null,{"$f":"UserInterface!G17","v":"NGGT TO"}]
[null,null,null,null,"Parameter",null,"Units",null,"Constant",null,null,null,null,null,null,null,null,null,null,null,null,null,null,null,null,null,null,null,null,null,null,null,null,null,null,null,null,null,null,null,null,"Annual values"]
[null,null,null,null,"PCFM year ending",{"$f":"Cover!C4","v":"Model Version"},null,null,{"$f":"UserInterface!$G$10","v":"2022-03-31"},null,"1991-03-31","1992-03-31","1993-03-31","1994-03-31","1995-03-31","1996-03-31","1997-03-31","1998-03-31","1999-03-31","2000-03-31","2001-03-31","2002-03-31","2003-03-31","2004-03-31","2005-03-31","2006-03-31","2007-03-31","2008-03-31","2009-03-31","2010-03-31","2011-03-31","2012-03-31","2013-03-31","2014-03-31","2015-03-31","2016-03-31","2017-03-31","2018-03-31","2019-03-31","2020-03-31","2021-03-31","2022-03-31","2023-03-31","2024-03-31","2025-03-31","2026-03-31"]
[]
[null,"Calculated revenue"]
[null,"Note: \"Recalculated base revenue\" calculates the Base Revenue that would have been allowed if the current inputs were known at Final Proposals."]
[null,"Its values feed into the MOD calculation below and are saved via functionality on the \"LiveResults\" sheet so it can be recalled in the MOD calculation in the following year."]
[null,"Note: Base revenue referred to in the PCFM is not the BRt terms quoted in the licence as this also includes the terms TRUE and RPIFt which relate to retail price index adjustments"]
[null,null,null,null,"Fast money",null,"£m 18/19 prices","FMt",null,null,null,null,null,null,null,null,null,null,null,null,null,null,null,null,null,null,null,null,null,null,null,null,null,null,null,null,null,null,null,null,null,{"$f":"TIM!AP70","v":105.74239394284112},{"$f":"TIM!AQ70","v":146.04120730489734},{"$f":"TIM!AR70","v":149.45429409300363},{"$f":"TIM!AS70","v":84.03353722397307},{"$f":"TIM!AT70","v":79.247704056145807}]
[null,null,null,null,"Pass-through expenditure",null,"£m 18/19 prices","PTt",null,null,null,null,null,null,null,null,null,null,null,null,null,null,null,null,null,null,null,null,null,null,null,null,null,null,null,null,null,null,null,null,null,{"$f":"Input!AP91","v":146.83063617040344},{"$f":"Input!AQ91","v":146.75792730927392},{"$f":"Input!AR91","v":147.13438885887501},{"$f":"Input!AS91","v":154.49513446774682},{"$f":"Input!AT91","v":154.89498332835402}]
[null,null,null,null,"Depreciation",null,"£m 18/19 prices","DPNt",null,null,null,null,null,null,null,null,null,null,null,null,null,null,null,null,null,null,null,null,null,null,null,null,null,null,null,null,null,null,null,null,null,{"$f":"-'Return&RAV'!AP43","v":298.46527841526796},{"$f":"-'Return&RAV'!AQ43","v":300.33308733906023},{"$f":"-'Return&RAV'!AR43","v":305.2650998095117},{"$f":"-'Return&RAV'!AS43","v":310.21065542365932},{"$f":"-'Return&RAV'!AT43","v":309.60561771943674}]
[null,null,null,null,"Return",null,"£m 18/19 prices","RTNt",null,null,null,null,null,null,null,null,null,null,null,null,null,null,null,null,null,null,null,null,null,null,null,null,null,null,null,null,null,null,null,null,null,{"$f":"'Return&RAV'!AP32","v":171.09622974084149},{"$f":"'Return&RAV'!AQ32","v":164.34267917071494},{"$f":"'Return&RAV'!AR32","v":160.58594347515134},{"$f":"'Return&RAV'!AS32","v":155.4660729391434},{"$f":"'Return&RAV'!AT32","v":149.6360470162962}]
[null,null,null,null,"Equity issuance costs",null,"£m 18/19 prices","EICt",null,null,null,null,null,null,null,null,null,null,null,null,null,null,null,null,null,null,null,null,null,null,null,null,null,null,null,null,null,null,null,null,null,{"$f":"'Finance&Tax'!AP195 / TOpf","v":7.5328808288964471},{"$f":"'Finance&Tax'!AQ195 / TOpf","v":0},{"$f":"'Finance&Tax'!AR195 / TOpf","v":0},{"$f":"'Finance&Tax'!AS195 / TOpf","v":0},{"$f":"'Finance&Tax'!AT195 / TOpf","v":0}]
[null,null,null,null,"Base revenue",null,"£m 18/19 prices",null,null,null,null,null,null,null,null,null,null,null,null,null,null,null,null,null,null,null,null,null,null,null,null,null,null,null,null,null,null,null,null,null,null,{"$f":"SUM(AP10:AP14)","v":729.66741909825043},{"$f":"SUM(AQ10:AQ14)","v":757.47490112394644},762.43972623654167,704.20540005452256,693.38435212023273]
[null,null,null,null,"Return adjustment",null,"£m 18/19 prices","RTNAt",null,null,null,null,null,null,null,null,null,null,null,null,null,null,null,null,null,null,null,null,null,null,null,null,null,null,null,null,null,null,null,null,null,0,0,0,0,0]
[null,null,null,null,"Directly remunerated services adjustment",null,"£m 18/19 prices","DRSt",null,null,null,null,null,null,null,null,null,null,null,null,null,null,null,null,null,null,null,null,null,null,null,null,null,null,null,null,null,null,null,null,null,{"$f":" Input!AP135","v":0},{"$f":" Input!AQ135","v":0},{"$f":" Input!AR135","v":0},{"$f":" Input!AS135","v":0},{"$f":" Input!AT135","v":0}]
[null,null,null,null,"Business plan incentive",null,"£m 18/19 prices","BPIt",null,null,null,null,null,null,null,null,null,null,null,null,null,null,null,null,null,null,null,null,null,null,null,null,null,null,null,null,null,null,null,null,null,{"$f":"Input!AP95","v":-4.3390000000000004},{"$f":"Input!AQ95","v":-4.3390000000000004},{"$f":"Input!AR95","v":-4.3390000000000004},{"$f":"Input!AS95","v":-4.3390000000000004},{"$f":"Input!AT95","v":-4.3390000000000004}]
[null,null,null,null,"Output delivery incentives",null,"£m 18/19 prices","ODIt",null,null,null,null,null,null,null,null,null,null,null,null,null,null,null,null,null,null,null,null,null,null,null,null,null,null,null,null,null,null,null,null,null,{"$f":"Input!AP99","v":0},{"$f":"Input!AQ99","v":0},{"$f":"Input!AR99","v":0},{"$f":"Input!AS99","v":0},{"$f":"Input!AT99","v":0}]
[null,null,null,null,"Other revenue allowance",null,"£m 18/19 prices","ORAt",null,null,null,null,null,null,null,null,null,null,null,null,null,null,null,null,null,null,null,null,null,null,null,null,null,null,null,null,null,null,null,null,null,{"$f":"Input!AP112","v":25.489695721089024},{"$f":"Input!AQ112","v":5},{"$f":"Input!AR112","v":5},{"$f":"Input!AS112","v":5},{"$f":"Input!AT112","v":5}]
[null,null,null,null,"Calculated revenue (before tax)",null,"£m 18/19 prices",null,null,null,null,null,null,null,null,null,null,null,null,null,null,null,null,null,null,null,null,null,null,null,null,null,null,null,null,null,null,null,null,null,null,{"$f":"SUM(AP15:AP20)","v":750.81811481933937},{"$f":"SUM(AQ15:AQ20)","v":758.13590112394638},{"$f":"SUM(AR15:AR20)","v":763.10072623654162},{"$f":"SUM(AS15:AS20)","v":704.8664000545225},{"$f":"SUM(AT15:AT20)","v":694.04535212023268}]
[null,null,null,null,"Tax allowance",null,"£m 18/19 prices","TAXt",null,null,null,null,null,null,null,null,null,null,null,null,null,null,null,null,null,null,null,null,null,null,null,null,null,null,null,null,null,null,null,null,null,{"$f":"'Finance&Tax'!AP247 / TOpf","v":47.698428181331082},{"$f":"'Finance&Tax'!AQ247 / TOpf","v":46.133380652023007},{"$f":"'Finance&Tax'!AR247 / TOpf","v":65.311891254849073},{"$f":"'Finance&Tax'!AS247 / TOpf","v":55.093054740420285},{"$f":"'Finance&Tax'!AT247 / TOpf","v":58.059030985990503}]
[null,null,null,null,"Tax allowance adjustment",null,"£m 18/19 prices","TAXAt",null,null,null,null,null,null,null,null,null,null,null,null,null,null,null,null,null,null,null,null,null,null,null,null,null,null,null,null,null,null,null,null,null,{"$f":"Input!AP204 / TOpf","v":0},{"$f":"Input!AQ204 / TOpf","v":0},{"$f":"Input!AR204 / TOpf","v":0},{"$f":"Input!AS204 / TOpf","v":0},{"$f":"Input!AT204 / TOpf","v":0}]
[null,null,null,null,"Calculated revenue",null,"£m 18/19 prices","Rt",null,null,null,null,null,null,null,null,null,null,null,null,null,null,null,null,null,null,null,null,null,null,null,null,null,null,null,null,null,null,null,null,null,{"$f":"SUM(AP21:AP23)","v":798.51654300067048},{"$f":"SUM(AQ21:AQ23)","v":804.26928177596938},828.41261749139073,759.95945479494276,752.10438310622317]
[null,null,null,null,"Less directly remunerated services adjustment",null,"£m 18/19 prices",null,null,null,null,null,null,null,null,null,null,null,null,null,null,null,null,null,null,null,null,null,null,null,null,null,null,null,null,null,null,null,null,null,null,{"$f":" - Input!AP135","v":0},{"$f":" - Input!AQ135","v":0},{"$f":" - Input!AR135","v":0},{"$f":" - Input!AS135","v":0},{"$f":" - Input!AT135","v":0}]
[null,null,null,null,"Calculated revenue (without DRS adjustment)",null,"£m 18/19 prices",null,null,null,null,null,null,null,null,null,null,null,null,null,null,null,null,null,null,null,null,null,null,null,null,null,null,null,null,null,null,null,null,null,null,{"$f":"SUM(AP24:AP25)","v":798.51654300067048},{"$f":"SUM(AQ24:AQ25)","v":804.26928177596938},828.41261749139073,759.95945479494276,752.10438310622317]
[]
[null,"End of sheet"]

{"sheet":"AR","index":13,"n_rows":48,"n_cols":46,"rows_kept":48,"cut":false,"hidden":false,"merged":[]}
["Allowed revenue (TO)"]
[null,{"$f":"UserInterface!G17","v":"NGGT TO"}]
[null,null,null,null,"Parameter","Licence condition","Units","Term","Constant",null,null,null,null,null,null,null,null,null,null,null,null,null,null,null,null,null,null,null,null,null,null,null,null,null,null,null,null,null,null,null,null,"Annual values"]
[null,null,null,null,"PCFM year ending",null,null,null,{"$f":"UserInterface!$G$10","v":"2022-03-31"},null,"1991-03-31","1992-03-31","1993-03-31","1994-03-31","1995-03-31","1996-03-31","1997-03-31","1998-03-31","1999-03-31","2000-03-31","2001-03-31","2002-03-31","2003-03-31","2004-03-31","2005-03-31","2006-03-31","2007-03-31","2008-03-31","2009-03-31","2010-03-31","2011-03-31","2012-03-31","2013-03-31","2014-03-31","2015-03-31","2016-03-31","2017-03-31","2018-03-31","2019-03-31","2020-03-31","2021-03-31","2022-03-31","2023-03-31","2024-03-31","2025-03-31","2026-03-31"]
[]
[null,"Allowed revenue determination"]
[]
[null,null,"Allowed revenue",null,null,null,null,null,null,null,null,null,null,null,null,null,null,null,null,null,null,null,null,null,null,null,null,null,null,null,null,null,null,null,null,null,null,null,null,null,null,null,null,null,null,{"$f":"IF(AND(INDEX(SavedResults!P$19:P$305,MATCH(\"NGGT.TO_ADJ_\"& YEAR(AT$4),SavedResults!$G$19:$G$305,0))=\"\",$I$4>=AT$4),AT29,INDEX(SavedResults!P$19:P$305,MATCH(\"NGGT.TO_ADJ_\"& YEAR(AT$4),SavedResults!$G$19:$G$305,0)))","v":""}]
[]
[null,null,null,null,"Calculated revenue (as published)",null,"£m nominal","Rt* x  PIt* / PI2018/19",null,null,null,null,null,null,null,null,null,null,null,null,null,null,null,null,null,null,null,null,null,null,null,null,null,null,null,null,null,null,null,null,null,{"$f":"IF(AND(INDEX(SavedResults!L$19:L$305,MATCH(\"NGGT.TO_Rnominal_\"& YEAR(AP$4),SavedResults!$G$19:$G$305,0))=\"\",$I$4>=AP$4),AP29,INDEX(SavedResults!L$19:L$305,MATCH(\"NGGT.TO_Rnominal_\"& YEAR(AP$4),SavedResults!$G$19:$G$305,0)))","v":840.4549529181885},{"$f":"IF(AND(INDEX(SavedResults!M$19:M$305,MATCH(\"NGGT.TO_Rnominal_\"& YEAR(AQ$4),SavedResults!$G$19:$G$305,0))=\"\",$I$4>=AQ$4),AQ29,INDEX(SavedResults!M$19:M$305,MATCH(\"NGGT.TO_Rnominal_\"& YEAR(AQ$4),SavedResults!$G$19:$G$305,0)))","v":""},{"$f":"IF(AND(INDEX(SavedResults!N$19:N$305,MATCH(\"NGGT.TO_Rnominal_\"& YEAR(AR$4),SavedResults!$G$19:$G$305,0))=\"\",$I$4>=AR$4),AR29,INDEX(SavedResults!N$19:N$305,MATCH(\"NGGT.TO_Rnominal_\"& YEAR(AR$4),SavedResults!$G$19:$G$305,0)))","v":""},{"$f":"IF(AND(INDEX(SavedResults!O$19:O$305,MATCH(\"NGGT.TO_Rnominal_\"& YEAR(AS$4),SavedResults!$G$19:$G$305,0))=\"\",$I$4>=AS$4),AS29,INDEX(SavedResults!O$19:O$305,MATCH(\"NGGT.TO_Rnominal_\"& YEAR(AS$4),SavedResults!$G$19:$G$305,0)))","v":""},{"$f":"IF(AND(INDEX(SavedResults!P$19:P$305,MATCH(\"NGGT.TO_Rnominal_\"& YEAR(AT$4),SavedResults!$G$19:$G$305,0))=\"\",$I$4>=AT$4),AT29,INDEX(SavedResults!P$19:P$305,MATCH(\"NGGT.TO_Rnominal_\"& YEAR(AT$4),SavedResults!$G$19:$G$305,0)))","v":""}]
[null,null,null,null,"AIP adjustment term (as published)",null,"£m nominal","ADJ*t",null,null,null,null,null,null,null,null,null,null,null,null,null,null,null,null,null,null,null,null,null,null,null,null,null,null,null,null,null,null,null,null,null,{"$f":"IF(AND(INDEX(SavedResults!L$19:L$305,MATCH(\"NGGT.TO_ADJ_\"& YEAR(AP$4),SavedResults!$G$19:$G$305,0))=\"\",$I$4>=AP$4),AP30,INDEX(SavedResults!L$19:L$305,MATCH(\"NGGT.TO_ADJ_\"& YEAR(AP$4),SavedResults!$G$19:$G$305,0)))","v":0},{"$f":"IF(AND(INDEX(SavedResults!M$19:M$305,MATCH(\"NGGT.TO_ADJ_\"& YEAR(AQ$4),SavedResults!$G$19:$G$305,0))=\"\",$I$4>=AQ$4),AQ30,INDEX(SavedResults!M$19:M$305,MATCH(\"NGGT.TO_ADJ_\"& YEAR(AQ$4),SavedResults!$G$19:$G$305,0)))","v":""},{"$f":"IF(AND(INDEX(SavedResults!N$19:N$305,MATCH(\"NGGT.TO_ADJ_\"& YEAR(AR$4),SavedResults!$G$19:$G$305,0))=\"\",$I$4>=AR$4),AR30,INDEX(SavedResults!N$19:N$305,MATCH(\"NGGT.TO_ADJ_\"& YEAR(AR$4),SavedResults!$G$19:$G$305,0)))","v":""},{"$f":"IF(AND(INDEX(SavedResults!O$19:O$305,MATCH(\"NGGT.TO_ADJ_\"& YEAR(AS$4),SavedResults!$G$19:$G$305,0))=\"\",$I$4>=AS$4),AS30,INDEX(SavedResults!O$19:O$305,MATCH(\"NGGT.TO_ADJ_\"& YEAR(AS$4),SavedResults!$G$19:$G$305,0)))","v":""},{"$f":"IF(AND(INDEX(SavedResults!P$19:P$305,MATCH(\"NGGT.TO_ADJ_\"& YEAR(AT$4),SavedResults!$G$19:$G$305,0))=\"\",$I$4>=AT$4),AT30,INDEX(SavedResults!P$19:P$305,MATCH(\"NGGT.TO_ADJ_\"& YEAR(AT$4),SavedResults!$G$19:$G$305,0)))","v":""}]
[null,null,null,null,"Adjusted revenue (as published)",null,"£m nominal","ADJR*t",null,null,null,null,null,null,null,null,null,null,null,null,null,null,null,null,null,null,null,null,null,null,null,null,null,null,null,null,null,null,null,null,null,{"$f":"IF(AND(AP10 = \"\", AP11 = \"\"), AP31, SUM(AP10:AP11))","v":840.4549529181885},{"$f":"IF(AND(AQ10 = \"\", AQ11 = \"\"), AQ31, SUM(AQ10:AQ11))","v":860.18651395144707},901.70697595724141,843.18807614321645,851.13336584025285]
[]
[null,null,null,null,"Legacy Allowed Revenue",null,"£m nominal","LARt",null,null,null,null,null,null,null,null,null,null,null,null,null,null,null,null,null,null,null,null,null,null,null,null,null,null,null,null,null,null,null,null,null,{"$f":"Input!AP125","v":27.198792144589724},{"$f":"Input!AQ125","v":-10.151751447803129},{"$f":"Input!AR125","v":0},{"$f":"Input!AS125","v":0},{"$f":"Input!AT125","v":0}]
[null,null,null,null,"K Correction Factor",null,"£m nominal","Kt",null,null,null,null,null,null,null,null,null,null,null,null,null,null,null,null,null,null,null,null,null,null,null,null,null,null,null,null,null,null,null,null,null,{"$f":"AP46","v":206.22453562446498},{"$f":"AQ46","v":0},0,0,0]
[null,null,null,null,"Allowed Revenue",null,"£m nominal","ARt",null,null,null,null,null,null,null,null,null,null,null,null,null,null,null,null,null,null,null,null,null,null,null,null,null,null,null,null,null,null,null,null,{"$f":"Input!AO235","v":780.1},{"$f":"SUM(AP12, AP14, AP15)","v":1073.8782806872432},{"$f":"SUM(AQ12, AQ14, AQ15)","v":850.03476250364395},901.70697595724141,843.18807614321645,851.13336584025285]
[]
[null,null,null,null,"Recovered Revenue",null,"£m nominal","RRt",null,null,null,null,null,null,null,null,null,null,null,null,null,null,null,null,null,null,null,null,null,null,null,null,null,null,null,null,null,null,null,null,{"$f":"Input!AO236","v":574},{"$f":"Input!AP236","v":0},{"$f":"Input!AQ236","v":0},{"$f":"Input!AR236","v":0},{"$f":"Input!AS236","v":0},{"$f":"Input!AT236","v":0}]
[]
[null,null,"AIP adjustment term"]
[]
[null,null,null,null,"Vanilla weighted average cost of capital ",null,"annual real %","WACCt",null,null,null,null,null,null,null,null,null,null,null,null,null,null,null,null,null,null,null,null,null,null,null,null,null,null,null,null,null,null,null,null,null,{"$f":"Input!AP170","v":3.0372752400000001E-2},{"$f":"Input!AQ170","v":2.9521030400000002E-2},{"$f":"Input!AR170","v":2.89982752E-2},{"$f":"Input!AS170","v":2.8525864400000003E-2}]
[null,null,null,null,"1 + inflation (from year t to t+1)",null,"annual %","PIt+1/PIt",null,null,null,null,null,null,null,null,null,null,null,null,null,null,null,null,null,null,null,null,null,null,null,null,null,null,null,null,null,null,null,null,null,{"$f":"AQ27/AP27","v":1.0159778188861246},{"$f":"AR27/AQ27","v":1.0178088168539328},1.0193311808971153,1.0199654535806824]
[null,null,null,null,"Nominal time value of money",null,"annual nominal %","TVMt",null,null,null,null,null,null,null,null,null,null,null,null,null,null,null,null,null,null,null,null,null,null,null,null,null,null,null,null,null,null,null,null,null,{"$f":"(1 + AP22) * (AP23) - 1","v":4.6835861623044872E-2},{"$f":"(1 + AQ22) * (AQ23) - 1","v":4.7855581877665809E-2},4.8890027000710878E-2,4.9060849802209372E-2]
[]
[null,null,null,null,"Calculated revenue",null,"£m 18/19 prices","Rt",null,null,null,null,null,null,null,null,null,null,null,null,null,null,null,null,null,null,null,null,null,null,null,null,null,null,null,null,null,null,null,null,null,{"$f":"Revenue!AP24","v":798.51654300067048},{"$f":"Revenue!AQ24","v":804.26928177596938},{"$f":"Revenue!AR24","v":828.41261749139073},{"$f":"Revenue!AS24","v":759.95945479494276},{"$f":"Revenue!AT24","v":752.10438310622317}]
[null,null,null,null,"Real to nominal prices conversion factor",null,"scalar","PIt / PI2018/19",null,null,null,null,null,null,null,null,null,null,null,null,null,null,null,null,null,null,null,null,null,null,null,null,null,null,null,null,null,null,null,null,null,{"$f":"TOpf","v":1.0526119339395996},{"$f":"TOpf","v":1.0694303767774598},{"$f":"TOpf","v":1.088475666495522},{"$f":"TOpf","v":1.1095171865066551},{"$f":"TOpf","v":1.1316692003908231}]
[]
[null,null,null,null,"Calculated revenue",null,"£m nominal","Rt x  PIt / PI2018/19",null,null,null,null,null,null,null,null,null,null,null,null,null,null,null,null,null,null,null,null,null,null,null,null,null,null,null,null,null,null,null,null,null,{"$f":"AP26 * AP27","v":840.52804261069923},{"$f":"AQ26 * AQ27","v":860.11000104021184},{"$f":"AR26 * AR27","v":901.70697595724141},{"$f":"AS26 * AS27","v":843.18807614321645},{"$f":"AT26 * AT27","v":851.13336584025285}]
[null,null,null,null,"AIP Adjustment Term",null,"£m nominal","ADJt",null,null,null,null,null,null,null,null,null,null,null,null,null,null,null,null,null,null,null,null,null,null,null,null,null,null,null,null,null,null,null,null,null,0,{"$f":"(AP31-AP12)*(1+AP24)","v":7.6512911235238151E-2},{"$f":"(AQ31-AQ12)*(1+AQ24)","v":0},{"$f":"(AR31-AR12)*(1+AR24)","v":0},{"$f":"(AS31-AS12)*(1+AS24)","v":0}]
[null,null,null,null,"Adjusted revenue (live)",null,"£m nominal","ADJRt",null,null,null,null,null,null,null,null,null,null,null,null,null,null,null,null,null,null,null,null,null,null,null,null,null,null,null,null,null,null,null,null,null,{"$f":"SUM(AP29:AP30)","v":840.52804261069923},{"$f":"SUM(AQ29:AQ30)","v":860.18651395144707},901.70697595724141,843.18807614321645,851.13336584025285]
[]
[null,null,"Correction term"]
[]
[null,null,null,null,"Sterling Overnight Index Average (SONIA)",null,"annual nominal %","It",null,null,null,null,null,null,null,null,null,null,null,null,null,null,null,null,null,null,null,null,null,null,null,null,null,null,null,null,null,null,null,null,{"$f":"Input!AO233","v":6.0424854179993959E-4},{"$f":"Input!AP233","v":4.5973702505714439E-4},{"$f":"Input!AQ233","v":8.648026937470648E-4},{"$f":"Input!AR233","v":1.4141542757024586E-3},{"$f":"Input!AS233","v":2.0702335211076469E-3},{"$f":"Input!AT233","v":2.600000849653616E-3}]
[null,null,null,null,"K rate margin",null,"annual nominal %",null,null,null,null,null,null,null,null,null,null,null,null,null,null,null,null,null,null,null,null,null,null,null,null,null,null,null,null,null,null,null,null,null,{"$f":"Input!AO237","v":1.15E-2},{"$f":"Input!AP237","v":1.15E-2},{"$f":"Input!AQ237","v":1.15E-2},{"$f":"Input!AR237","v":1.15E-2},{"$f":"Input!AS237","v":1.15E-2}]
[]
[null,null,null,null,"Over/undercollection percentage for penal rate adjustment",null,"%",null,{"$f":"Input!I238","v":0.06}]
[null,null,null,null,"Penal rate proportion",null,"scalar","PRPt",null,null,null,null,null,null,null,null,null,null,null,null,null,null,null,null,null,null,null,null,null,null,null,null,null,null,null,null,null,null,null,null,{"$f":"Input!AO239","v":1},{"$f":"Input!AP239","v":1},{"$f":"Input!AQ239","v":1},{"$f":"Input!AR239","v":1},{"$f":"Input!AS239","v":1}]
[null,null,null,null,"Penal rate adjustment",null,"annual nominal %","PRAt",null,null,null,null,null,null,null,null,null,null,null,null,null,null,null,null,null,null,null,null,null,null,null,null,null,null,null,null,null,null,null,null,{"$f":"IF(AO44/AO16>= (1 + $I$38), AO36, IF(AO44/AO16 <= (1 - $I$38), (- AO36), 0))","v":-1.15E-2},0,0,0,0]
[]
[null,null,null,null,"K rate of interest",null,"annual nominal %",null,null,null,null,null,null,null,null,null,null,null,null,null,null,null,null,null,null,null,null,null,null,null,null,null,null,null,null,null,null,null,null,null,{"$f":"SUM(AO35, AO36, AO40 * AO39)","v":6.0424854179993992E-4},{"$f":"SUM(AP35, AP36, AP40 * AP39)","v":1.1959737025057144E-2},{"$f":"SUM(AQ35, AQ36, AQ40 * AQ39)","v":1.2364802693747064E-2},1.2914154275702458E-2,1.3570233521107648E-2]
[]
[null,null,null,null,"Recovered Revenue (+ forecast)",null,"£m nominal",null,null,null,null,null,null,null,null,null,null,null,null,null,null,null,null,null,null,null,null,null,null,null,null,null,null,null,null,null,null,null,null,null,{"$f":"IF(AO18 = 0, AO16, AO18)","v":574},{"$f":"IF(AP18 = 0, AP16, AP18)","v":1073.8782806872432},{"$f":"IF(AQ18 = 0, AQ16, AQ18)","v":850.03476250364395},{"$f":"IF(AR18 = 0, AR16, AR18)","v":901.70697595724141},{"$f":"IF(AS18 = 0, AS16, AS18)","v":843.18807614321645}]
[]
[null,null,null,null,"K Correction Factor",null,"£m nominal","Kt",null,null,null,null,null,null,null,null,null,null,null,null,null,null,null,null,null,null,null,null,null,null,null,null,null,null,null,null,null,null,null,null,0,{"$f":"(AO16-AO44)*(1+AO42)","v":206.22453562446498},{"$f":"(AP16-AP44)*(1+AP42)","v":0},{"$f":"(AQ16-AQ44)*(1+AQ42)","v":0},{"$f":"(AR16-AR44)*(1+AR42)","v":0},{"$f":"(AS16-AS44)*(1+AS42)","v":0}]
[]
[null,"End of sheet"]

{"sheet":"SOAR","index":14,"n_rows":48,"n_cols":46,"rows_kept":48,"cut":false,"hidden":false,"merged":[]}
["Allowed revenue (SO)"]
[null,{"$f":"UserInterface!G17","v":"NGGT TO"}]
[null,null,null,null,"Parameter","Licence condition","Units","Term","Constant",null,null,null,null,null,null,null,null,null,null,null,null,null,null,null,null,null,null,null,null,null,null,null,null,null,null,null,null,null,null,null,null,"Annual values"]
[null,null,null,null,"PCFM year ending",null,null,null,{"$f":"UserInterface!$G$10","v":"2022-03-31"},null,"1991-03-31","1992-03-31","1993-03-31","1994-03-31","1995-03-31","1996-03-31","1997-03-31","1998-03-31","1999-03-31","2000-03-31","2001-03-31","2002-03-31","2003-03-31","2004-03-31","2005-03-31","2006-03-31","2007-03-31","2008-03-31","2009-03-31","2010-03-31","2011-03-31","2012-03-31","2013-03-31","2014-03-31","2015-03-31","2016-03-31","2017-03-31","2018-03-31","2019-03-31","2020-03-31","2021-03-31","2022-03-31","2023-03-31","2024-03-31","2025-03-31","2026-03-31"]
[]
[null,"Allowed revenue determination"]
[]
[null,null,"Allowed revenue"]
[]
[null,null,null,null,"Calculated revenue (as published)",null,"£m nominal","SOR* x  PI* / PI2018/19",null,null,null,null,null,null,null,null,null,null,null,null,null,null,null,null,null,null,null,null,null,null,null,null,null,null,null,null,null,null,null,null,null,{"$f":"IF(AND(INDEX(SavedResults!L$19:L$305,MATCH(\"NGGT.SO_Rnominal_\"& YEAR(AP$4),SavedResults!$G$19:$G$305,0))=\"\",$I$4>=AP$4),AP29,INDEX(SavedResults!L$19:L$305,MATCH(\"NGGT.SO_Rnominal_\"& YEAR(AP$4),SavedResults!$G$19:$G$305,0)))","v":207.20055528052421},{"$f":"IF(AND(INDEX(SavedResults!M$19:M$305,MATCH(\"NGGT.SO_Rnominal_\"& YEAR(AQ$4),SavedResults!$G$19:$G$305,0))=\"\",$I$4>=AQ$4),AQ29,INDEX(SavedResults!M$19:M$305,MATCH(\"NGGT.SO_Rnominal_\"& YEAR(AQ$4),SavedResults!$G$19:$G$305,0)))","v":""},{"$f":"IF(AND(INDEX(SavedResults!N$19:N$305,MATCH(\"NGGT.SO_Rnominal_\"& YEAR(AR$4),SavedResults!$G$19:$G$305,0))=\"\",$I$4>=AR$4),AR29,INDEX(SavedResults!N$19:N$305,MATCH(\"NGGT.SO_Rnominal_\"& YEAR(AR$4),SavedResults!$G$19:$G$305,0)))","v":""},{"$f":"IF(AND(INDEX(SavedResults!O$19:O$305,MATCH(\"NGGT.SO_Rnominal_\"& YEAR(AS$4),SavedResults!$G$19:$G$305,0))=\"\",$I$4>=AS$4),AS29,INDEX(SavedResults!O$19:O$305,MATCH(\"NGGT.SO_Rnominal_\"& YEAR(AS$4),SavedResults!$G$19:$G$305,0)))","v":""},{"$f":"IF(AND(INDEX(SavedResults!P$19:P$305,MATCH(\"NGGT.SO_Rnominal_\"& YEAR(AT$4),SavedResults!$G$19:$G$305,0))=\"\",$I$4>=AT$4),AT29,INDEX(SavedResults!P$19:P$305,MATCH(\"NGGT.SO_Rnominal_\"& YEAR(AT$4),SavedResults!$G$19:$G$305,0)))","v":""}]
[null,null,null,null,"AIP adjustment term (as published)",null,"£m nominal","SOADJ*t",null,null,null,null,null,null,null,null,null,null,null,null,null,null,null,null,null,null,null,null,null,null,null,null,null,null,null,null,null,null,null,null,null,{"$f":"IF(AND(INDEX(SavedResults!L$19:L$305,MATCH(\"NGGT.SO_ADJ_\"& YEAR(AP$4),SavedResults!$G$19:$G$305,0))=\"\",$I$4>=AP$4),AP30,INDEX(SavedResults!L$19:L$305,MATCH(\"NGGT.SO_ADJ_\"& YEAR(AP$4),SavedResults!$G$19:$G$305,0)))","v":0},{"$f":"IF(AND(INDEX(SavedResults!M$19:M$305,MATCH(\"NGGT.SO_ADJ_\"& YEAR(AQ$4),SavedResults!$G$19:$G$305,0))=\"\",$I$4>=AQ$4),AQ30,INDEX(SavedResults!M$19:M$305,MATCH(\"NGGT.SO_ADJ_\"& YEAR(AQ$4),SavedResults!$G$19:$G$305,0)))","v":""},{"$f":"IF(AND(INDEX(SavedResults!N$19:N$305,MATCH(\"NGGT.SO_ADJ_\"& YEAR(AR$4),SavedResults!$G$19:$G$305,0))=\"\",$I$4>=AR$4),AR30,INDEX(SavedResults!N$19:N$305,MATCH(\"NGGT.SO_ADJ_\"& YEAR(AR$4),SavedResults!$G$19:$G$305,0)))","v":""},{"$f":"IF(AND(INDEX(SavedResults!O$19:O$305,MATCH(\"NGGT.SO_ADJ_\"& YEAR(AS$4),SavedResults!$G$19:$G$305,0))=\"\",$I$4>=AS$4),AS30,INDEX(SavedResults!O$19:O$305,MATCH(\"NGGT.SO_ADJ_\"& YEAR(AS$4),SavedResults!$G$19:$G$305,0)))","v":""},{"$f":"IF(AND(INDEX(SavedResults!P$19:P$305,MATCH(\"NGGT.SO_ADJ_\"& YEAR(AT$4),SavedResults!$G$19:$G$305,0))=\"\",$I$4>=AT$4),AT30,INDEX(SavedResults!P$19:P$305,MATCH(\"NGGT.SO_ADJ_\"& YEAR(AT$4),SavedResults!$G$19:$G$305,0)))","v":""}]
[null,null,null,null,"Adjusted revenue (as published)",null,"£m nominal","SOADJR*t",null,null,null,null,null,null,null,null,null,null,null,null,null,null,null,null,null,null,null,null,null,null,null,null,null,null,null,null,null,null,null,null,null,{"$f":"IF(AND(AP10 = \"\", AP11 = \"\"), AP31, SUM(AP10:AP11))","v":207.20055528052421},{"$f":"IF(AND(AQ10 = \"\", AQ11 = \"\"), AQ31, SUM(AQ10:AQ11))","v":198.46211676008332},207.42117467174248,200.03853198085054,190.78454080075042]
[]
[null,null,null,null,"Legacy Allowed Revenue",null,"£m nominal","SOLARt",null,null,null,null,null,null,null,null,null,null,null,null,null,null,null,null,null,null,null,null,null,null,null,null,null,null,null,null,null,null,null,null,null,{"$f":"SystemOperator!AP88","v":-5.7474662466209026},{"$f":"SystemOperator!AQ88","v":-28.269199837724141},{"$f":"SystemOperator!AR88","v":0},{"$f":"SystemOperator!AS88","v":0},{"$f":"SystemOperator!AT88","v":0}]
[null,null,null,null,"K Correction Factor",null,"£m nominal","SOKt",null,null,null,null,null,null,null,null,null,null,null,null,null,null,null,null,null,null,null,null,null,null,null,null,null,null,null,null,null,null,null,null,null,{"$f":"AP46","v":-60.208401899228669},{"$f":"AQ46","v":0},0,0,0]
[null,null,null,null,"Allowed Revenue",null,"£m nominal","SOARt",null,null,null,null,null,null,null,null,null,null,null,null,null,null,null,null,null,null,null,null,null,null,null,null,null,null,null,null,null,null,null,null,{"$f":"SystemOperator!AO186","v":208.18},{"$f":"SUM(AP12, AP14, AP15)","v":141.24468713467465},{"$f":"SUM(AQ12, AQ14, AQ15)","v":170.19291692235919},207.42117467174248,200.03853198085054,190.78454080075042]
[]
[null,null,null,null,"Recovered Revenue",null,"£m nominal","SORRt",null,null,null,null,null,null,null,null,null,null,null,null,null,null,null,null,null,null,null,null,null,null,null,null,null,null,null,null,null,null,null,null,{"$f":"SystemOperator!AO187","v":267},{"$f":"SystemOperator!AP187","v":0},{"$f":"SystemOperator!AQ187","v":0},{"$f":"SystemOperator!AR187","v":0},{"$f":"SystemOperator!AS187","v":0},{"$f":"SystemOperator!AT187","v":0}]
[]
[null,null,"AIP adjustment term"]
[]
[null,null,null,null,"Vanilla weighted average cost of capital ",null,"annual real %","WACCt",null,null,null,null,null,null,null,null,null,null,null,null,null,null,null,null,null,null,null,null,null,null,null,null,null,null,null,null,null,null,null,null,null,{"$f":"SystemOperator!AP123","v":3.0372752400000001E-2},{"$f":"SystemOperator!AQ123","v":2.9521030400000002E-2},{"$f":"SystemOperator!AR123","v":2.89982752E-2},{"$f":"SystemOperator!AS123","v":2.8525864400000003E-2}]
[null,null,null,null,"1 + inflation (from year t to t+1)",null,"annual %","PIt+1/PIt",null,null,null,null,null,null,null,null,null,null,null,null,null,null,null,null,null,null,null,null,null,null,null,null,null,null,null,null,null,null,null,null,null,{"$f":"AQ27/AP27","v":1.0159778188861246},{"$f":"AR27/AQ27","v":1.0178088168539328},1.0193311808971153,1.0199654535806824]
[null,null,null,null,"Nominal time value of money",null,"annual nominal %","TVMt",null,null,null,null,null,null,null,null,null,null,null,null,null,null,null,null,null,null,null,null,null,null,null,null,null,null,null,null,null,null,null,null,null,{"$f":"(1 + AP22) * (AP23) - 1","v":4.6835861623044872E-2},{"$f":"(1 + AQ22) * (AQ23) - 1","v":4.7855581877665809E-2},4.8890027000710878E-2,4.9060849802209372E-2]
[]
[null,null,null,null,"Calculated revenue",null,"£m 18/19 prices","SORt",null,null,null,null,null,null,null,null,null,null,null,null,null,null,null,null,null,null,null,null,null,null,null,null,null,null,null,null,null,null,null,null,null,{"$f":"SystemOperator!AP607","v":196.85361191025379},{"$f":"SystemOperator!AQ607","v":185.5677108719224},{"$f":"SystemOperator!AR607","v":190.56114992405833},{"$f":"SystemOperator!AS607","v":180.29331533896945},{"$f":"SystemOperator!AT607","v":168.58684563904609}]
[null,null,null,null,"Real to nominal prices conversion factor",null,"scalar","PIt / PI2018/19",null,null,null,null,null,null,null,null,null,null,null,null,null,null,null,null,null,null,null,null,null,null,null,null,null,null,null,null,null,null,null,null,null,{"$f":"SOpf","v":1.0526119339395996},{"$f":"SOpf","v":1.0694303767774598},{"$f":"SOpf","v":1.088475666495522},{"$f":"SOpf","v":1.1095171865066551},{"$f":"SOpf","v":1.1316692003908231}]
[]
[null,null,null,null,"Calculated revenue",null,"£m nominal","SORt x  PIt / PI2018/19",null,null,null,null,null,null,null,null,null,null,null,null,null,null,null,null,null,null,null,null,null,null,null,null,null,null,null,null,null,null,null,null,null,{"$f":"AP26 * AP27","v":207.21046113584765},{"$f":"AQ26 * AQ27","v":198.45174695549071},{"$f":"AR26 * AR27","v":207.42117467174248},{"$f":"AS26 * AS27","v":200.03853198085054},{"$f":"AT26 * AT27","v":190.78454080075042}]
[null,null,null,null,"AIP Adjustment Term",null,"£m nominal","SOADJt",null,null,null,null,null,null,null,null,null,null,null,null,null,null,null,null,null,null,null,null,null,null,null,null,null,null,null,null,null,null,null,null,null,0,{"$f":"(AP31-AP12)*(1+AP24)","v":1.0369804592625044E-2},{"$f":"(AQ31-AQ12)*(1+AQ24)","v":0},{"$f":"(AR31-AR12)*(1+AR24)","v":0},{"$f":"(AS31-AS12)*(1+AS24)","v":0}]
[null,null,null,null,"Adjusted revenue (live)",null,"£m nominal","SOADJRt",null,null,null,null,null,null,null,null,null,null,null,null,null,null,null,null,null,null,null,null,null,null,null,null,null,null,null,null,null,null,null,null,null,{"$f":"SUM(AP29:AP30)","v":207.21046113584765},{"$f":"SUM(AQ29:AQ30)","v":198.46211676008332},207.42117467174248,200.03853198085054,190.78454080075042]
[]
[null,null,"Correction term"]
[]
[null,null,null,null,"Sterling Overnight Index Average (SONIA)",null,"annual nominal %","It",null,null,null,null,null,null,null,null,null,null,null,null,null,null,null,null,null,null,null,null,null,null,null,null,null,null,null,null,null,null,null,null,{"$f":"SystemOperator!AO184","v":6.0424854179993959E-4},{"$f":"SystemOperator!AP184","v":4.5973702505714439E-4},{"$f":"SystemOperator!AQ184","v":8.648026937470648E-4},{"$f":"SystemOperator!AR184","v":1.4141542757024586E-3},{"$f":"SystemOperator!AS184","v":2.0702335211076469E-3},{"$f":"SystemOperator!AT184","v":2.600000849653616E-3}]
[null,null,null,null,"K rate margin",null,"annual nominal %",null,null,null,null,null,null,null,null,null,null,null,null,null,null,null,null,null,null,null,null,null,null,null,null,null,null,null,null,null,null,null,null,null,{"$f":"SystemOperator!AO188","v":1.15E-2},{"$f":"SystemOperator!AP188","v":1.15E-2},{"$f":"SystemOperator!AQ188","v":1.15E-2},{"$f":"SystemOperator!AR188","v":1.15E-2},{"$f":"SystemOperator!AS188","v":1.15E-2}]
[]
[null,null,null,null,"Over/undercollection percentage for penal rate adjustment",null,"%",null,{"$f":"SystemOperator!I189","v":0.06}]
[null,null,null,null,"Penal rate proportion",null,"scalar","SOPRPt",null,null,null,null,null,null,null,null,null,null,null,null,null,null,null,null,null,null,null,null,null,null,null,null,null,null,null,null,null,null,null,null,{"$f":"SystemOperator!AO190","v":1},{"$f":"SystemOperator!AP190","v":1},{"$f":"SystemOperator!AQ190","v":1},{"$f":"SystemOperator!AR190","v":1},{"$f":"SystemOperator!AS190","v":1}]
[null,null,null,null,"Penal rate adjustment",null,"annual nominal %","SOPRAt",null,null,null,null,null,null,null,null,null,null,null,null,null,null,null,null,null,null,null,null,null,null,null,null,null,null,null,null,null,null,null,null,{"$f":"IF(AO44/AO16>= (1 + $I$38), AO36, IF(AO44/AO16 <= (1 - $I$38), (- AO36), 0))","v":1.15E-2},{"$f":"IF(AP44/AP16>= (1 + $I$38), AP36, IF(AP44/AP16 <= (1 - $I$38), (- AP36), 0))","v":0},0,0,0]
[]
[null,null,null,null,"K rate of interest",null,"annual nominal %",null,null,null,null,null,null,null,null,null,null,null,null,null,null,null,null,null,null,null,null,null,null,null,null,null,null,null,null,null,null,null,null,null,{"$f":"SUM(AO35, AO36, AO40 * AO39)","v":2.360424854179994E-2},{"$f":"SUM(AP35, AP36, AP40 * AP39)","v":1.1959737025057144E-2},{"$f":"SUM(AQ35, AQ36, AQ40 * AQ39)","v":1.2364802693747064E-2},1.2914154275702458E-2,1.3570233521107648E-2]
[]
[null,null,null,null,"Recovered Revenue (+ forecast)",null,"£m nominal",null,null,null,null,null,null,null,null,null,null,null,null,null,null,null,null,null,null,null,null,null,null,null,null,null,null,null,null,null,null,null,null,null,{"$f":"IF(AO18 = 0, AO16, AO18)","v":267},{"$f":"IF(AP18 = 0, AP16, AP18)","v":141.24468713467465},170.19291692235919,207.42117467174248,200.03853198085054]
[]
[null,null,null,null,"K Correction Factor",null,"£m nominal","SOKt",null,null,null,null,null,null,null,null,null,null,null,null,null,null,null,null,null,null,null,null,null,null,null,null,null,null,null,null,null,null,null,null,0,{"$f":"(AO16-AO44)*(1+AO42)","v":-60.208401899228669},{"$f":"(AP16-AP44)*(1+AP42)","v":0},{"$f":"(AQ16-AQ44)*(1+AQ42)","v":0},{"$f":"(AR16-AR44)*(1+AR42)","v":0},{"$f":"(AS16-AS44)*(1+AS42)","v":0}]
[]
[null,"End of sheet"]

{"sheet":"LiveResults","index":15,"n_rows":307,"n_cols":18,"rows_kept":307,"cut":false,"hidden":false,"merged":[]}
["Live Results"]
[]
[null,"Live results"]
[null,"Note: This sheet displays the output of the PCFM for the live company in the selected year."]
[null,"As well as displaying output it performs the role of recalling results generated with data at earlier stages from the \"SavedResults\" sheet required for the MOD calculation."]
[]
[]
[]
[]
[]
[null,null,{"$f":"\"Values for \"&I15","v":"Values for NGGT TO"}]
[]
[]
[null,null,null,null,null,null,null,null,"Company","Calculated for MOD year ending",null,"File"]
[null,null,null,null,null,null,null,null,"NGGT TO",{"$f":"UserInterface!G10","v":"2022-03-31"},null,{"$f":"MID(CELL(\"filename\"),SEARCH(\"[\",CELL(\"filename\"))+1,SEARCH(\"]\",CELL(\"filename\"))-SEARCH(\"[\",CELL(\"filename\"))-1)","v":"Full Model GT2 - C01.xlsm"}]
[]
[null,null,null,null,null,null,null,null,"PCFM year ending","Unit","Licence term (if applicable)","2022-03-31","2023-03-31","2024-03-31","2025-03-31","2026-03-31","RIIO-2 Total","RIIO-2 average"]
[null,null,null,null,null,null,null,null,"Totex"]
[null,null,null,"NGGT.TO","Totex","SlowMoney",{"$f":"D19&\"_\"&E19&\"_\"&F19","v":"NGGT.TO_Totex_SlowMoney"},1,"Slow pot","£m 18/19 prices","-",{"$f":"TIM!AP72","v":196.37873160813356},{"$f":"TIM!AQ72","v":271.21938499480945},{"$f":"TIM!AR72","v":277.55797474414959},{"$f":"TIM!AS72","v":156.06228341594996},{"$f":"TIM!AT72","v":147.17430753284222},{"$f":"SUM($L19:$P19)","v":1048.3926822958847},{"$f":"IFERROR( AVERAGE($L19:$P19), 0)","v":209.67853645917694}]
[null,null,null,"NGGT.TO","Totex","FastMoney",{"$f":"D20&\"_\"&E20&\"_\"&F20","v":"NGGT.TO_Totex_FastMoney"},{"$f":"H19 + 1","v":2},"Fast pot","£m 18/19 prices","-",{"$f":"TIM!AP70","v":105.74239394284112},{"$f":"TIM!AQ70","v":146.04120730489734},{"$f":"TIM!AR70","v":149.45429409300363},{"$f":"TIM!AS70","v":84.03353722397307},{"$f":"TIM!AT70","v":79.247704056145807},{"$f":"SUM($L20:$P20)","v":564.51913662086099},{"$f":"IFERROR( AVERAGE($L20:$P20), 0)","v":112.9038273241722}]
[null,null,null,"NGGT.TO","Totex","PostTIMTotex","NGGT.TO_Totex_PostTIMTotex",{"$f":"H20 + 1","v":3},"Post-TIM totex allowance","£m 18/19 prices","-",{"$f":"TIM!AP39+TIM!AP45","v":302.12112555097468},{"$f":"TIM!AQ39+TIM!AQ45","v":417.26059229970679},{"$f":"TIM!AR39+TIM!AR45","v":427.01226883715321},{"$f":"TIM!AS39+TIM!AS45","v":240.09582063992303},{"$f":"TIM!AT39+TIM!AT45","v":226.42201158898803},1612.9118189167457,322.58236378334914]
[null,null,null,null,null,null,null,null,"Regulatory Asset Value (RAV)"]
[null,null,null,"NGGT.TO","RAV","OpeningBeforeTransfers","NGGT.TO_RAV_OpeningBeforeTransfers",{"$f":"MAX(H$19:H22) + 1","v":4},"Opening asset value (before transfers)","£m 18/19 prices","-",{"$f":"'Return&RAV'!AP39","v":5959.612586666095},{"$f":"'Return&RAV'!AQ39","v":5857.5260398589608},{"$f":"'Return&RAV'!AR39","v":5828.4123375147101},{"$f":"'Return&RAV'!AS39","v":5800.7052124493484},{"$f":"'Return&RAV'!AT39","v":5646.556840441639},null,{"$f":"IFERROR( AVERAGE($L23:$P23), 0)","v":5818.5626033861508}]
[null,null,null,"NGGT.TO","RAV","Transfers","NGGT.TO_RAV_Transfers",{"$f":"H23 + 1","v":5},"Transfers","£m 18/19 prices","-",{"$f":"'Return&RAV'!AP40","v":0},{"$f":"'Return&RAV'!AQ40","v":0},{"$f":"'Return&RAV'!AR40","v":0},{"$f":"'Return&RAV'!AS40","v":0},{"$f":"'Return&RAV'!AT40","v":0},{"$f":"SUM($L24:$P24)","v":0},{"$f":"IFERROR( AVERAGE($L24:$P24), 0)","v":0}]
[null,null,null,"NGGT.TO","RAV","OpeningAfterTransfers","NGGT.TO_RAV_OpeningAfterTransfers",{"$f":"H24 + 1","v":6},"Opening asset value (after transfers)","£m 18/19 prices","-",{"$f":"'Return&RAV'!AP41","v":5959.612586666095},{"$f":"'Return&RAV'!AQ41","v":5857.5260398589608},{"$f":"'Return&RAV'!AR41","v":5828.4123375147101},{"$f":"'Return&RAV'!AS41","v":5800.7052124493484},{"$f":"'Return&RAV'!AT41","v":5646.556840441639},null,5818.5626033861508]
[null,null,null,"NGGT.TO","RAV","Additions","NGGT.TO_RAV_Additions",7,"RAV additions (after disposals)","£m 18/19 prices","-",{"$f":"'Return&RAV'!AP42","v":196.37873160813356},{"$f":"'Return&RAV'!AQ42","v":271.21938499480945},{"$f":"'Return&RAV'!AR42","v":277.55797474414959},{"$f":"'Return&RAV'!AS42","v":156.06228341594996},{"$f":"'Return&RAV'!AT42","v":147.17430753284222},{"$f":"SUM($L26:$P26)","v":1048.3926822958847},209.67853645917694]
[null,null,null,"NGGT.TO","RAV","Depreciation","NGGT.TO_RAV_Depreciation",8,"Depreciation","£m 18/19 prices","-",{"$f":"'Return&RAV'!AP43","v":-298.46527841526796},{"$f":"'Return&RAV'!AQ43","v":-300.33308733906023},{"$f":"'Return&RAV'!AR43","v":-305.2650998095117},{"$f":"'Return&RAV'!AS43","v":-310.21065542365932},{"$f":"'Return&RAV'!AT43","v":-309.60561771943674},-1523.8797387069358,-304.77594774138714]
[null,null,null,"NGGT.TO","RAV","Closing","NGGT.TO_RAV_Closing",9,"Closing asset value","£m 18/19 prices","-",{"$f":"SUM(L25:L27)","v":5857.5260398589608},{"$f":"SUM(M25:M27)","v":5828.4123375147101},5800.7052124493484,5646.556840441639,5484.1255302550444,null,5723.4651921039413]
[null,null,null,null,null,null,null,null,"Final Proposals allowances (calculated revenue)",null,"Rt"]
[null,null,null,"NGGT.TO","FinalProposals","FM","NGGT.TO_FinalProposals_FM",{"$f":"MAX(H$19:H29) + 1","v":10},"Fast money","£m 18/19 prices","FMt",{"$f":"IF($J$15 = $L$17, L44, INDEX(SavedResults!L$19:L$305, MATCH($G30, SavedResults!$G$19:$G$305, 0)))","v":105.74239394284112},{"$f":"IF($J$15 = $L$17, M44, INDEX(SavedResults!M$19:M$305, MATCH($G30, SavedResults!$G$19:$G$305, 0)))","v":146.04120730489734},{"$f":"IF($J$15 = $L$17, N44, INDEX(SavedResults!N$19:N$305, MATCH($G30, SavedResults!$G$19:$G$305, 0)))","v":149.45429409300363},{"$f":"IF($J$15 = $L$17, O44, INDEX(SavedResults!O$19:O$305, MATCH($G30, SavedResults!$G$19:$G$305, 0)))","v":84.03353722397307},{"$f":"IF($J$15 = $L$17, P44, INDEX(SavedResults!P$19:P$305, MATCH($G30, SavedResults!$G$19:$G$305, 0)))","v":79.247704056145807},{"$f":"SUM($L30:$P30)","v":564.51913662086099},{"$f":"IFERROR( AVERAGE($L30:$P30), 0)","v":112.9038273241722}]
[null,null,null,"NGGT.TO","FinalProposals","PT","NGGT.TO_FinalProposals_PT",{"$f":"H30 + 1","v":11},"Pass-through expenditure","£m 18/19 prices","PTt",{"$f":"IF($J$15 = $L$17, L45, INDEX(SavedResults!L$19:L$305, MATCH($G31, SavedResults!$G$19:$G$305, 0)))","v":146.83063617040344},{"$f":"IF($J$15 = $L$17, M45, INDEX(SavedResults!M$19:M$305, MATCH($G31, SavedResults!$G$19:$G$305, 0)))","v":146.75792730927392},{"$f":"IF($J$15 = $L$17, N45, INDEX(SavedResults!N$19:N$305, MATCH($G31, SavedResults!$G$19:$G$305, 0)))","v":147.13438885887501},{"$f":"IF($J$15 = $L$17, O45, INDEX(SavedResults!O$19:O$305, MATCH($G31, SavedResults!$G$19:$G$305, 0)))","v":154.49513446774682},{"$f":"IF($J$15 = $L$17, P45, INDEX(SavedResults!P$19:P$305, MATCH($G31, SavedResults!$G$19:$G$305, 0)))","v":154.89498332835402},{"$f":"SUM($L31:$P31)","v":750.11307013465319},{"$f":"IFERROR( AVERAGE($L31:$P31), 0)","v":150.02261402693063}]
[null,null,null,"NGGT.TO","FinalProposals","DPN","NGGT.TO_FinalProposals_DPN",{"$f":"H31 + 1","v":12},"Depreciation","£m 18/19 prices","DPNt",{"$f":"IF($J$15 = $L$17, L46, INDEX(SavedResults!L$19:L$305, MATCH($G32, SavedResults!$G$19:$G$305, 0)))","v":298.46527841526796},{"$f":"IF($J$15 = $L$17, M46, INDEX(SavedResults!M$19:M$305, MATCH($G32, SavedResults!$G$19:$G$305, 0)))","v":300.33308733906023},{"$f":"IF($J$15 = $L$17, N46, INDEX(SavedResults!N$19:N$305, MATCH($G32, SavedResults!$G$19:$G$305, 0)))","v":305.2650998095117},{"$f":"IF($J$15 = $L$17, O46, INDEX(SavedResults!O$19:O$305, MATCH($G32, SavedResults!$G$19:$G$305, 0)))","v":310.21065542365932},{"$f":"IF($J$15 = $L$17, P46, INDEX(SavedResults!P$19:P$305, MATCH($G32, SavedResults!$G$19:$G$305, 0)))","v":309.60561771943674},1523.8797387069358,304.77594774138714]
[null,null,null,"NGGT.TO","FinalProposals","RTN","NGGT.TO_FinalProposals_RTN",13,"Return","£m 18/19 prices","RTNt",{"$f":"IF($J$15 = $L$17, L47, INDEX(SavedResults!L$19:L$305, MATCH($G33, SavedResults!$G$19:$G$305, 0)))","v":171.09622974084149},{"$f":"IF($J$15 = $L$17, M47, INDEX(SavedResults!M$19:M$305, MATCH($G33, SavedResults!$G$19:$G$305, 0)))","v":164.34267917071494},{"$f":"IF($J$15 = $L$17, N47, INDEX(SavedResults!N$19:N$305, MATCH($G33, SavedResults!$G$19:$G$305, 0)))","v":160.58594347515134},{"$f":"IF($J$15 = $L$17, O47, INDEX(SavedResults!O$19:O$305, MATCH($G33, SavedResults!$G$19:$G$305, 0)))","v":155.4660729391434},{"$f":"IF($J$15 = $L$17, P47, INDEX(SavedResults!P$19:P$305, MATCH($G33, SavedResults!$G$19:$G$305, 0)))","v":149.6360470162962},801.12697234214738,160.22539446842947]
[null,null,null,"NGGT.TO","FinalProposals","EIC","NGGT.TO_FinalProposals_EIC",14,"Equity issuance costs","£m 18/19 prices","EICt",{"$f":"IF($J$15 = $L$17, L48, INDEX(SavedResults!L$19:L$305, MATCH($G34, SavedResults!$G$19:$G$305, 0)))","v":7.5328808288964471},{"$f":"IF($J$15 = $L$17, M48, INDEX(SavedResults!M$19:M$305, MATCH($G34, SavedResults!$G$19:$G$305, 0)))","v":0},{"$f":"IF($J$15 = $L$17, N48, INDEX(SavedResults!N$19:N$305, MATCH($G34, SavedResults!$G$19:$G$305, 0)))","v":0},{"$f":"IF($J$15 = $L$17, O48, INDEX(SavedResults!O$19:O$305, MATCH($G34, SavedResults!$G$19:$G$305, 0)))","v":0},{"$f":"IF($J$15 = $L$17, P48, INDEX(SavedResults!P$19:P$305, MATCH($G34, SavedResults!$G$19:$G$305, 0)))","v":0},7.5328808288964471,1.5065761657792893]
[null,null,null,"NGGT.TO","FinalProposals","RTNA","NGGT.TO_FinalProposals_RTNA",15,"Return adjustment","£m 18/19 prices","RTNAt",{"$f":"IF($J$15 = $L$17, L49, INDEX(SavedResults!L$19:L$305, MATCH($G35, SavedResults!$G$19:$G$305, 0)))","v":0},{"$f":"IF($J$15 = $L$17, M49, INDEX(SavedResults!M$19:M$305, MATCH($G35, SavedResults!$G$19:$G$305, 0)))","v":0},{"$f":"IF($J$15 = $L$17, N49, INDEX(SavedResults!N$19:N$305, MATCH($G35, SavedResults!$G$19:$G$305, 0)))","v":0},{"$f":"IF($J$15 = $L$17, O49, INDEX(SavedResults!O$19:O$305, MATCH($G35, SavedResults!$G$19:$G$305, 0)))","v":0},{"$f":"IF($J$15 = $L$17, P49, INDEX(SavedResults!P$19:P$305, MATCH($G35, SavedResults!$G$19:$G$305, 0)))","v":0},0,0]
[null,null,null,"NGGT.TO","FinalProposals","DRS",{"$f":"D36&\"_\"&E36&\"_\"&F36","v":"NGGT.TO_FinalProposals_DRS"},16,"Directly remunerated services adjustment","£m 18/19 prices","DRSt",{"$f":"IF($J$15 = $L$17, L50, INDEX(SavedResults!L$19:L$305, MATCH($G36, SavedResults!$G$19:$G$305, 0)))","v":0},{"$f":"IF($J$15 = $L$17, M50, INDEX(SavedResults!M$19:M$305, MATCH($G36, SavedResults!$G$19:$G$305, 0)))","v":0},{"$f":"IF($J$15 = $L$17, N50, INDEX(SavedResults!N$19:N$305, MATCH($G36, SavedResults!$G$19:$G$305, 0)))","v":0},{"$f":"IF($J$15 = $L$17, O50, INDEX(SavedResults!O$19:O$305, MATCH($G36, SavedResults!$G$19:$G$305, 0)))","v":0},{"$f":"IF($J$15 = $L$17, P50, INDEX(SavedResults!P$19:P$305, MATCH($G36, SavedResults!$G$19:$G$305, 0)))","v":0},{"$f":"SUM($L36:$P36)","v":0},{"$f":"IFERROR( AVERAGE($L36:$P36), 0)","v":0}]
[null,null,null,"NGGT.TO","FinalProposals","BPI","NGGT.TO_FinalProposals_BPI",17,"Business plan incentive","£m 18/19 prices","BPIt",{"$f":"IF($J$15 = $L$17, L51, INDEX(SavedResults!L$19:L$305, MATCH($G37, SavedResults!$G$19:$G$305, 0)))","v":-4.3390000000000004},{"$f":"IF($J$15 = $L$17, M51, INDEX(SavedResults!M$19:M$305, MATCH($G37, SavedResults!$G$19:$G$305, 0)))","v":-4.3390000000000004},{"$f":"IF($J$15 = $L$17, N51, INDEX(SavedResults!N$19:N$305, MATCH($G37, SavedResults!$G$19:$G$305, 0)))","v":-4.3390000000000004},{"$f":"IF($J$15 = $L$17, O51, INDEX(SavedResults!O$19:O$305, MATCH($G37, SavedResults!$G$19:$G$305, 0)))","v":-4.3390000000000004},{"$f":"IF($J$15 = $L$17, P51, INDEX(SavedResults!P$19:P$305, MATCH($G37, SavedResults!$G$19:$G$305, 0)))","v":-4.3390000000000004},-21.695,-4.3390000000000004]
[null,null,null,"NGGT.TO","FinalProposals","ODI","NGGT.TO_FinalProposals_ODI",18,"Output delivery incentives","£m 18/19 prices","ODIt",{"$f":"IF($J$15 = $L$17, L52, INDEX(SavedResults!L$19:L$305, MATCH($G38, SavedResults!$G$19:$G$305, 0)))","v":0},{"$f":"IF($J$15 = $L$17, M52, INDEX(SavedResults!M$19:M$305, MATCH($G38, SavedResults!$G$19:$G$305, 0)))","v":0},{"$f":"IF($J$15 = $L$17, N52, INDEX(SavedResults!N$19:N$305, MATCH($G38, SavedResults!$G$19:$G$305, 0)))","v":0},{"$f":"IF($J$15 = $L$17, O52, INDEX(SavedResults!O$19:O$305, MATCH($G38, SavedResults!$G$19:$G$305, 0)))","v":0},{"$f":"IF($J$15 = $L$17, P52, INDEX(SavedResults!P$19:P$305, MATCH($G38, SavedResults!$G$19:$G$305, 0)))","v":0},0,0]
[null,null,null,"NGGT.TO","FinalProposals","ORA","NGGT.TO_FinalProposals_ORA",19,"Other revenue allowance","£m 18/19 prices","ORAt",{"$f":"IF($J$15 = $L$17, L53, INDEX(SavedResults!L$19:L$305, MATCH($G39, SavedResults!$G$19:$G$305, 0)))","v":25.489695721089024},{"$f":"IF($J$15 = $L$17, M53, INDEX(SavedResults!M$19:M$305, MATCH($G39, SavedResults!$G$19:$G$305, 0)))","v":5},{"$f":"IF($J$15 = $L$17, N53, INDEX(SavedResults!N$19:N$305, MATCH($G39, SavedResults!$G$19:$G$305, 0)))","v":5},{"$f":"IF($J$15 = $L$17, O53, INDEX(SavedResults!O$19:O$305, MATCH($G39, SavedResults!$G$19:$G$305, 0)))","v":5},{"$f":"IF($J$15 = $L$17, P53, INDEX(SavedResults!P$19:P$305, MATCH($G39, SavedResults!$G$19:$G$305, 0)))","v":5},45.489695721089021,9.0979391442178041]
[null,null,null,"NGGT.TO","FinalProposals","TAX","NGGT.TO_FinalProposals_TAX",20,"Tax allowance","£m 18/19 prices","TAXt",{"$f":"IF($J$15 = $L$17, L54, INDEX(SavedResults!L$19:L$305, MATCH($G40, SavedResults!$G$19:$G$305, 0)))","v":47.698428181331082},{"$f":"IF($J$15 = $L$17, M54, INDEX(SavedResults!M$19:M$305, MATCH($G40, SavedResults!$G$19:$G$305, 0)))","v":46.133380652023007},{"$f":"IF($J$15 = $L$17, N54, INDEX(SavedResults!N$19:N$305, MATCH($G40, SavedResults!$G$19:$G$305, 0)))","v":65.311891254849073},{"$f":"IF($J$15 = $L$17, O54, INDEX(SavedResults!O$19:O$305, MATCH($G40, SavedResults!$G$19:$G$305, 0)))","v":55.093054740420285},{"$f":"IF($J$15 = $L$17, P54, INDEX(SavedResults!P$19:P$305, MATCH($G40, SavedResults!$G$19:$G$305, 0)))","v":58.059030985990503},272.29578581461396,54.459157162922793]
[null,null,null,"NGGT.TO","FinalProposals","TAXA","NGGT.TO_FinalProposals_TAXA",21,"Tax allowance adjustment","£m 18/19 prices","TAXAt",{"$f":"IF($J$15 = $L$17, L55, INDEX(SavedResults!L$19:L$305, MATCH($G41, SavedResults!$G$19:$G$305, 0)))","v":0},{"$f":"IF($J$15 = $L$17, M55, INDEX(SavedResults!M$19:M$305, MATCH($G41, SavedResults!$G$19:$G$305, 0)))","v":0},{"$f":"IF($J$15 = $L$17, N55, INDEX(SavedResults!N$19:N$305, MATCH($G41, SavedResults!$G$19:$G$305, 0)))","v":0},{"$f":"IF($J$15 = $L$17, O55, INDEX(SavedResults!O$19:O$305, MATCH($G41, SavedResults!$G$19:$G$305, 0)))","v":0},{"$f":"IF($J$15 = $L$17, P55, INDEX(SavedResults!P$19:P$305, MATCH($G41, SavedResults!$G$19:$G$305, 0)))","v":0},0,0]
[null,null,null,"NGGT.TO","FinalProposals","R","NGGT.TO_FinalProposals_R",22,"Calculated revenue","£m 18/19 prices","Rt",{"$f":"SUM(L30:L41)","v":798.51654300067048},{"$f":"SUM(M30:M41)","v":804.26928177596938},{"$f":"SUM(N30:N41)","v":828.41261749139073},{"$f":"SUM(O30:O41)","v":759.95945479494276},{"$f":"SUM(P30:P41)","v":752.10438310622317},3943.2622801691969,788.65245603383937]
[null,null,null,null,null,null,null,null,"Recalculated allowances (calculated revenue)",null,"Rt"]
[null,null,null,"NGGT.TO","CalculatedRevenue","FM",{"$f":"D44&\"_\"&E44&\"_\"&F44","v":"NGGT.TO_CalculatedRevenue_FM"},{"$f":"MAX(H$19:H43) + 1","v":23},"Fast money","£m 18/19 prices","FMt",{"$f":"Revenue!AP10","v":105.74239394284112},{"$f":"Revenue!AQ10","v":146.04120730489734},{"$f":"Revenue!AR10","v":149.45429409300363},{"$f":"Revenue!AS10","v":84.03353722397307},{"$f":"Revenue!AT10","v":79.247704056145807},564.51913662086099,112.9038273241722]
[null,null,null,"NGGT.TO","CalculatedRevenue","PT","NGGT.TO_CalculatedRevenue_PT",{"$f":"H44 + 1","v":24},"Pass-through expenditure","£m 18/19 prices","PTt",{"$f":"Revenue!AP11","v":146.83063617040344},{"$f":"Revenue!AQ11","v":146.75792730927392},{"$f":"Revenue!AR11","v":147.13438885887501},{"$f":"Revenue!AS11","v":154.49513446774682},{"$f":"Revenue!AT11","v":154.89498332835402},750.11307013465319,150.02261402693063]
[null,null,null,"NGGT.TO","CalculatedRevenue","DPN","NGGT.TO_CalculatedRevenue_DPN",{"$f":"H45 + 1","v":25},"Depreciation","£m 18/19 prices","DPNt",{"$f":"Revenue!AP12","v":298.46527841526796},{"$f":"Revenue!AQ12","v":300.33308733906023},{"$f":"Revenue!AR12","v":305.2650998095117},{"$f":"Revenue!AS12","v":310.21065542365932},{"$f":"Revenue!AT12","v":309.60561771943674},1523.8797387069358,304.77594774138714]
[null,null,null,"NGGT.TO","CalculatedRevenue","RTN","NGGT.TO_CalculatedRevenue_RTN",26,"Return","£m 18/19 prices","RTNt",{"$f":"Revenue!AP13","v":171.09622974084149},{"$f":"Revenue!AQ13","v":164.34267917071494},{"$f":"Revenue!AR13","v":160.58594347515134},{"$f":"Revenue!AS13","v":155.4660729391434},{"$f":"Revenue!AT13","v":149.6360470162962},801.12697234214738,160.22539446842947]
[null,null,null,"NGGT.TO","CalculatedRevenue","EIC","NGGT.TO_CalculatedRevenue_EIC",27,"Equity issuance costs","£m 18/19 prices","EICt",{"$f":"Revenue!AP14","v":7.5328808288964471},{"$f":"Revenue!AQ14","v":0},{"$f":"Revenue!AR14","v":0},{"$f":"Revenue!AS14","v":0},{"$f":"Revenue!AT14","v":0},7.5328808288964471,1.5065761657792893]
[null,null,null,"NGGT.TO","CalculatedRevenue","RTNA","NGGT.TO_CalculatedRevenue_RTNA",28,"Return adjustment","£m 18/19 prices","RTNAt",{"$f":"Revenue!AP16","v":0},{"$f":"Revenue!AQ16","v":0},{"$f":"Revenue!AR16","v":0},{"$f":"Revenue!AS16","v":0},{"$f":"Revenue!AT16","v":0},0,0]
[null,null,null,"NGGT.TO","CalculatedRevenue","DRS",{"$f":"D50&\"_\"&E50&\"_\"&F50","v":"NGGT.TO_CalculatedRevenue_DRS"},29,"Directly remunerated services adjustment","£m 18/19 prices","DRSt",{"$f":"Revenue!AP17","v":0},{"$f":"Revenue!AQ17","v":0},{"$f":"Revenue!AR17","v":0},{"$f":"Revenue!AS17","v":0},{"$f":"Revenue!AT17","v":0},{"$f":"SUM($L50:$P50)","v":0},{"$f":"IFERROR( AVERAGE($L50:$P50), 0)","v":0}]
[null,null,null,"NGGT.TO","CalculatedRevenue","BPI","NGGT.TO_CalculatedRevenue_BPI",30,"Business plan incentive","£m 18/19 prices","BPIt",{"$f":"Revenue!AP18","v":-4.3390000000000004},{"$f":"Revenue!AQ18","v":-4.3390000000000004},{"$f":"Revenue!AR18","v":-4.3390000000000004},{"$f":"Revenue!AS18","v":-4.3390000000000004},{"$f":"Revenue!AT18","v":-4.3390000000000004},-21.695,-4.3390000000000004]
[null,null,null,"NGGT.TO","CalculatedRevenue","ODI","NGGT.TO_CalculatedRevenue_ODI",31,"Output delivery incentives","£m 18/19 prices","ODIt",{"$f":"Revenue!AP19","v":0},{"$f":"Revenue!AQ19","v":0},{"$f":"Revenue!AR19","v":0},{"$f":"Revenue!AS19","v":0},{"$f":"Revenue!AT19","v":0},0,0]
[null,null,null,"NGGT.TO","CalculatedRevenue","ORA","NGGT.TO_CalculatedRevenue_ORA",32,"Other revenue allowance","£m 18/19 prices","ORAt",{"$f":"Revenue!AP20","v":25.489695721089024},{"$f":"Revenue!AQ20","v":5},{"$f":"Revenue!AR20","v":5},{"$f":"Revenue!AS20","v":5},{"$f":"Revenue!AT20","v":5},45.489695721089021,9.0979391442178041]
[null,null,null,"NGGT.TO","CalculatedRevenue","TAX","NGGT.TO_CalculatedRevenue_TAX",33,"Tax allowance","£m 18/19 prices","TAXt",{"$f":"Revenue!AP22","v":47.698428181331082},{"$f":"Revenue!AQ22","v":46.133380652023007},{"$f":"Revenue!AR22","v":65.311891254849073},{"$f":"Revenue!AS22","v":55.093054740420285},{"$f":"Revenue!AT22","v":58.059030985990503},272.29578581461396,54.459157162922793]
[null,null,null,"NGGT.TO","CalculatedRevenue","TAXA","NGGT.TO_CalculatedRevenue_TAXA",34,"Tax allowance adjustment","£m 18/19 prices","TAXAt",{"$f":"Revenue!AP23","v":0},{"$f":"Revenue!AQ23","v":0},{"$f":"Revenue!AR23","v":0},{"$f":"Revenue!AS23","v":0},{"$f":"Revenue!AT23","v":0},0,0]
[null,null,null,"NGGT.TO","CalculatedRevenue","R","NGGT.TO_CalculatedRevenue_R",35,"Calculated revenue","£m 18/19 prices","Rt",{"$f":"SUM(L44:L55)","v":798.51654300067048},{"$f":"SUM(M44:M55)","v":804.26928177596938},{"$f":"SUM(N44:N55)","v":828.41261749139073},{"$f":"SUM(O44:O55)","v":759.95945479494276},{"$f":"SUM(P44:P55)","v":752.10438310622317},3943.2622801691969,788.65245603383937]
[null,null,null,null,null,null,null,null,"Price Control Revenue"]
[null,null,null,"NGGT.TO","TotalRevenue","Rnominal",{"$f":"D58&\"_\"&E58&\"_\"&F58","v":"NGGT.TO_TotalRevenue_Rnominal"},{"$f":"MAX(H$19:H57) + 1","v":36},"Calculated revenue","£m nominal","Rt ∙ (Pt / P2018/19)",{"$f":"AR!AP10","v":840.4549529181885},{"$f":"AR!AQ10","v":""},{"$f":"AR!AR10","v":""},{"$f":"AR!AS10","v":""},{"$f":"AR!AT10","v":""},840.4549529181885,840.4549529181885]
[null,null,null,"NGGT.TO","TotalRevenue","ADJ","NGGT.TO_TotalRevenue_ADJ",{"$f":"H58 + 1","v":37},"AIP adjustment term","£m nominal","ADJt",{"$f":"AR!AP11","v":0},{"$f":"AR!AQ11","v":""},{"$f":"AR!AR11","v":""},{"$f":"AR!AS11","v":""},{"$f":"AR!AT11","v":""},0,0]
[null,null,null,"NGGT.TO","TotalRevenue","ADJR","NGGT.TO_TotalRevenue_ADJR",38,"Adjusted revenue","£m nominal","Rt ∙ (Pt / P2018/19) + ADJt",{"$f":"AR!AP12","v":840.4549529181885},{"$f":"AR!AQ12","v":860.18651395144707},{"$f":"AR!AR12","v":901.70697595724141},{"$f":"AR!AS12","v":843.18807614321645},{"$f":"AR!AT12","v":851.13336584025285},4296.669884810346,859.33397696206919]
[null,null,null,"NGGT.TO","TotalRevenue","LAR","NGGT.TO_TotalRevenue_LAR",{"$f":"H60 + 1","v":39},"Legacy allowed revenue","£m nominal","LARt",{"$f":"AR!AP14","v":27.198792144589724},{"$f":"AR!AQ14","v":-10.151751447803129},{"$f":"AR!AR14","v":0},{"$f":"AR!AS14","v":0},{"$f":"AR!AT14","v":0},17.047040696786596,3.409408139357319]
[null,null,null,"NGGT.TO","TotalRevenue","K","NGGT.TO_TotalRevenue_K",{"$f":"H61 + 1","v":40},"Correction term","£m nominal","Kt",{"$f":"AR!AP15","v":206.22453562446498},{"$f":"AR!AQ15","v":0},{"$f":"AR!AR15","v":0},{"$f":"AR!AS15","v":0},{"$f":"AR!AT15","v":0},206.22453562446498,41.244907124892997]
[null,null,null,"NGGT.TO","TotalRevenue","AR","NGGT.TO_TotalRevenue_AR",41,"Allowed revenue","£m nominal","ARt",{"$f":"AR!AP16","v":1073.8782806872432},{"$f":"AR!AQ16","v":850.03476250364395},{"$f":"AR!AR16","v":901.70697595724141},{"$f":"AR!AS16","v":843.18807614321645},{"$f":"AR!AT16","v":851.13336584025285},4519.9414611315979,903.98829222631957]
[null,null,null,"NGGT.TO","TotalRevenue","DRSrevenue","NGGT.TO_TotalRevenue_DRSrevenue",42,"Directly remunerated services revenue","£m nominal","-",{"$f":"SUM(Input!AP129, Input!AP130, Input!AP131) * Input!AP191","v":14.586629585239999},{"$f":"SUM(Input!AQ129, Input!AQ130, Input!AQ131) * Input!AQ191","v":14.819692110911948},{"$f":"SUM(Input!AR129, Input!AR130, Input!AR131) * Input!AR191","v":15.083613293546852},{"$f":"SUM(Input!AS129, Input!AS130, Input!AS131) * Input!AS191","v":15.375197350706541},{"$f":"SUM(Input!AT129, Input!AT130, Input!AT131) * Input!AT191","v":15.682170139705903},75.547302480111256,15.109460496022251]
[null,null,null,"NGGT.TO","TotalRevenue","TR","NGGT.TO_TotalRevenue_TR",43,"Total revenue","£m nominal","-",{"$f":"SUM(L63:L64)","v":1088.4649102724832},{"$f":"SUM(M63:M64)","v":864.85445461455595},916.79058925078823,858.56327349392302,866.81553597995878,4595.4887636117091,919.09775272234185]
[null,null,null,null,null,null,null,null,"Inflation rate",null,"(PIt / PIt-1) - 1"]
[null,null,null,"NGGT.TO","Inflation",2022,{"$f":"D67&\"_\"&E67&\"_\"&F67","v":"NGGT.TO_Inflation_2022"},{"$f":"MAX(H$19:H66) + 1","v":44},"2022-03-31","annual %",null,{"$f":"IF($I67 = $J$15, Input!AP$185,\n  IF($I67 < $J$15, INDEX(SavedResults!L$19:L$305, MATCH($G67, SavedResults!$G$19:$G$305, 0)), \"\"))","v":1.3728694438340794E-2},{"$f":"IF($I67 = $J$15, Input!AQ$185,\n  IF($I67 < $J$15, INDEX(SavedResults!M$19:M$305, MATCH($G67, SavedResults!$G$19:$G$305, 0)), \"\"))","v":1.5977818886124595E-2},{"$f":"IF($I67 = $J$15, Input!AR$185,\n  IF($I67 < $J$15, INDEX(SavedResults!N$19:N$305, MATCH($G67, SavedResults!$G$19:$G$305, 0)), \"\"))","v":1.7808816853932763E-2},{"$f":"IF($I67 = $J$15, Input!AS$185,\n  IF($I67 < $J$15, INDEX(SavedResults!O$19:O$305, MATCH($G67, SavedResults!$G$19:$G$305, 0)), \"\"))","v":1.9331180897115274E-2},{"$f":"IF($I67 = $J$15, Input!AT$185,\n  IF($I67 < $J$15, INDEX(SavedResults!P$19:P$305, MATCH($G67, SavedResults!$G$19:$G$305, 0)), \"\"))","v":1.9965453580682579E-2},null,{"$f":"IFERROR( AVERAGE($L67:$P67), \"\")","v":1.7362392931239201E-2}]
[null,null,null,"NGGT.TO","Inflation",2023,"NGGT.TO_Inflation_2023",{"$f":"H67 + 1","v":45},"2023-03-31","annual %",null,{"$f":"IF($I68 = $J$15, Input!AP$185,\n  IF($I68 < $J$15, INDEX(SavedResults!L$19:L$305, MATCH($G68, SavedResults!$G$19:$G$305, 0)), \"\"))","v":""},{"$f":"IF($I68 = $J$15, Input!AQ$185,\n  IF($I68 < $J$15, INDEX(SavedResults!M$19:M$305, MATCH($G68, SavedResults!$G$19:$G$305, 0)), \"\"))","v":""},{"$f":"IF($I68 = $J$15, Input!AR$185,\n  IF($I68 < $J$15, INDEX(SavedResults!N$19:N$305, MATCH($G68, SavedResults!$G$19:$G$305, 0)), \"\"))","v":""},{"$f":"IF($I68 = $J$15, Input!AS$185,\n  IF($I68 < $J$15, INDEX(SavedResults!O$19:O$305, MATCH($G68, SavedResults!$G$19:$G$305, 0)), \"\"))","v":""},{"$f":"IF($I68 = $J$15, Input!AT$185,\n  IF($I68 < $J$15, INDEX(SavedResults!P$19:P$305, MATCH($G68, SavedResults!$G$19:$G$305, 0)), \"\"))","v":""},null,{"$f":"IFERROR( AVERAGE($L68:$P68), \"\")","v":""}]
[null,null,null,"NGGT.TO","Inflation",2024,"NGGT.TO_Inflation_2024",{"$f":"H68 + 1","v":46},"2024-03-31","annual %",null,{"$f":"IF($I69 = $J$15, Input!AP$185,\n  IF($I69 < $J$15, INDEX(SavedResults!L$19:L$305, MATCH($G69, SavedResults!$G$19:$G$305, 0)), \"\"))","v":""},{"$f":"IF($I69 = $J$15, Input!AQ$185,\n  IF($I69 < $J$15, INDEX(SavedResults!M$19:M$305, MATCH($G69, SavedResults!$G$19:$G$305, 0)), \"\"))","v":""},{"$f":"IF($I69 = $J$15, Input!AR$185,\n  IF($I69 < $J$15, INDEX(SavedResults!N$19:N$305, MATCH($G69, SavedResults!$G$19:$G$305, 0)), \"\"))","v":""},{"$f":"IF($I69 = $J$15, Input!AS$185,\n  IF($I69 < $J$15, INDEX(SavedResults!O$19:O$305, MATCH($G69, SavedResults!$G$19:$G$305, 0)), \"\"))","v":""},{"$f":"IF($I69 = $J$15, Input!AT$185,\n  IF($I69 < $J$15, INDEX(SavedResults!P$19:P$305, MATCH($G69, SavedResults!$G$19:$G$305, 0)), \"\"))","v":""},null,{"$f":"IFERROR( AVERAGE($L69:$P69), \"\")","v":""}]
[null,null,null,"NGGT.TO","Inflation",2025,"NGGT.TO_Inflation_2025",47,"2025-03-31","annual %",null,{"$f":"IF($I70 = $J$15, Input!AP$185,\n  IF($I70 < $J$15, INDEX(SavedResults!L$19:L$305, MATCH($G70, SavedResults!$G$19:$G$305, 0)), \"\"))","v":""},{"$f":"IF($I70 = $J$15, Input!AQ$185,\n  IF($I70 < $J$15, INDEX(SavedResults!M$19:M$305, MATCH($G70, SavedResults!$G$19:$G$305, 0)), \"\"))","v":""},{"$f":"IF($I70 = $J$15, Input!AR$185,\n  IF($I70 < $J$15, INDEX(SavedResults!N$19:N$305, MATCH($G70, SavedResults!$G$19:$G$305, 0)), \"\"))","v":""},{"$f":"IF($I70 = $J$15, Input!AS$185,\n  IF($I70 < $J$15, INDEX(SavedResults!O$19:O$305, MATCH($G70, SavedResults!$G$19:$G$305, 0)), \"\"))","v":""},{"$f":"IF($I70 = $J$15, Input!AT$185,\n  IF($I70 < $J$15, INDEX(SavedResults!P$19:P$305, MATCH($G70, SavedResults!$G$19:$G$305, 0)), \"\"))","v":""},null,""]
[null,null,null,"NGGT.TO","Inflation",2026,"NGGT.TO_Inflation_2026",48,"2026-03-31","annual %",null,{"$f":"IF($I71 = $J$15, Input!AP$185,\n  IF($I71 < $J$15, INDEX(SavedResults!L$19:L$305, MATCH($G71, SavedResults!$G$19:$G$305, 0)), \"\"))","v":""},{"$f":"IF($I71 = $J$15, Input!AQ$185,\n  IF($I71 < $J$15, INDEX(SavedResults!M$19:M$305, MATCH($G71, SavedResults!$G$19:$G$305, 0)), \"\"))","v":""},{"$f":"IF($I71 = $J$15, Input!AR$185,\n  IF($I71 < $J$15, INDEX(SavedResults!N$19:N$305, MATCH($G71, SavedResults!$G$19:$G$305, 0)), \"\"))","v":""},{"$f":"IF($I71 = $J$15, Input!AS$185,\n  IF($I71 < $J$15, INDEX(SavedResults!O$19:O$305, MATCH($G71, SavedResults!$G$19:$G$305, 0)), \"\"))","v":""},{"$f":"IF($I71 = $J$15, Input!AT$185,\n  IF($I71 < $J$15, INDEX(SavedResults!P$19:P$305, MATCH($G71, SavedResults!$G$19:$G$305, 0)), \"\"))","v":""},null,""]
[null,null,null,"NGGT.TO","Inflation",2027,"NGGT.TO_Inflation_2027",49,"2027-03-31","annual %",null,{"$f":"IF($I72 = $J$15, Input!AP$185,\n  IF($I72 < $J$15, INDEX(SavedResults!L$19:L$305, MATCH($G72, SavedResults!$G$19:$G$305, 0)), \"\"))","v":""},{"$f":"IF($I72 = $J$15, Input!AQ$185,\n  IF($I72 < $J$15, INDEX(SavedResults!M$19:M$305, MATCH($G72, SavedResults!$G$19:$G$305, 0)), \"\"))","v":""},{"$f":"IF($I72 = $J$15, Input!AR$185,\n  IF($I72 < $J$15, INDEX(SavedResults!N$19:N$305, MATCH($G72, SavedResults!$G$19:$G$305, 0)), \"\"))","v":""},{"$f":"IF($I72 = $J$15, Input!AS$185,\n  IF($I72 < $J$15, INDEX(SavedResults!O$19:O$305, MATCH($G72, SavedResults!$G$19:$G$305, 0)), \"\"))","v":""},{"$f":"IF($I72 = $J$15, Input!AT$185,\n  IF($I72 < $J$15, INDEX(SavedResults!P$19:P$305, MATCH($G72, SavedResults!$G$19:$G$305, 0)), \"\"))","v":""},null,""]
[null,null,null,"NGGT.TO","Inflation",2028,"NGGT.TO_Inflation_2028",50,"2028-03-31","annual %",null,{"$f":"IF($I73 = $J$15, Input!AP$185,\n  IF($I73 < $J$15, INDEX(SavedResults!L$19:L$305, MATCH($G73, SavedResults!$G$19:$G$305, 0)), \"\"))","v":""},{"$f":"IF($I73 = $J$15, Input!AQ$185,\n  IF($I73 < $J$15, INDEX(SavedResults!M$19:M$305, MATCH($G73, SavedResults!$G$19:$G$305, 0)), \"\"))","v":""},{"$f":"IF($I73 = $J$15, Input!AR$185,\n  IF($I73 < $J$15, INDEX(SavedResults!N$19:N$305, MATCH($G73, SavedResults!$G$19:$G$305, 0)), \"\"))","v":""},{"$f":"IF($I73 = $J$15, Input!AS$185,\n  IF($I73 < $J$15, INDEX(SavedResults!O$19:O$305, MATCH($G73, SavedResults!$G$19:$G$305, 0)), \"\"))","v":""},{"$f":"IF($I73 = $J$15, Input!AT$185,\n  IF($I73 < $J$15, INDEX(SavedResults!P$19:P$305, MATCH($G73, SavedResults!$G$19:$G$305, 0)), \"\"))","v":""},null,""]
[null,null,null,null,null,null,null,null,"Nominal Time Value of Money",null,"TVMt"]
[null,null,null,"NGGT.TO","TVM",2022,{"$f":"D75&\"_\"&E75&\"_\"&F75","v":"NGGT.TO_TVM_2022"},{"$f":"MAX(H$19:H74) + 1","v":51},"2022-03-31","annual nominal %",null,{"$f":"IF($I75 = $J$15, AR!AP$24,\n  IF($I75 < $J$15, INDEX(SavedResults!L$19:L$305, MATCH($G75, SavedResults!$G$19:$G$305, 0)), \"\"))","v":4.6835861623044872E-2},{"$f":"IF($I75 = $J$15, AR!AQ$24,\n  IF($I75 < $J$15, INDEX(SavedResults!M$19:M$305, MATCH($G75, SavedResults!$G$19:$G$305, 0)), \"\"))","v":4.7855581877665809E-2},{"$f":"IF($I75 = $J$15, AR!AR$24,\n  IF($I75 < $J$15, INDEX(SavedResults!N$19:N$305, MATCH($G75, SavedResults!$G$19:$G$305, 0)), \"\"))","v":4.8890027000710878E-2},{"$f":"IF($I75 = $J$15, AR!AS$24,\n  IF($I75 < $J$15, INDEX(SavedResults!O$19:O$305, MATCH($G75, SavedResults!$G$19:$G$305, 0)), \"\"))","v":4.9060849802209372E-2},{"$f":"IF($I75 = $J$15, AR!AT$24,\n  IF($I75 < $J$15, INDEX(SavedResults!P$19:P$305, MATCH($G75, SavedResults!$G$19:$G$305, 0)), \"\"))","v":0},null,3.8528464060726186E-2]
[null,null,null,"NGGT.TO","TVM",2023,"NGGT.TO_TVM_2023",{"$f":"H75 + 1","v":52},"2023-03-31","annual nominal %",null,{"$f":"IF($I76 = $J$15, AR!AP$24,\n  IF($I76 < $J$15, INDEX(SavedResults!L$19:L$305, MATCH($G76, SavedResults!$G$19:$G$305, 0)), \"\"))","v":""},{"$f":"IF($I76 = $J$15, AR!AQ$24,\n  IF($I76 < $J$15, INDEX(SavedResults!M$19:M$305, MATCH($G76, SavedResults!$G$19:$G$305, 0)), \"\"))","v":""},{"$f":"IF($I76 = $J$15, AR!AR$24,\n  IF($I76 < $J$15, INDEX(SavedResults!N$19:N$305, MATCH($G76, SavedResults!$G$19:$G$305, 0)), \"\"))","v":""},{"$f":"IF($I76 = $J$15, AR!AS$24,\n  IF($I76 < $J$15, INDEX(SavedResults!O$19:O$305, MATCH($G76, SavedResults!$G$19:$G$305, 0)), \"\"))","v":""},{"$f":"IF($I76 = $J$15, AR!AT$24,\n  IF($I76 < $J$15, INDEX(SavedResults!P$19:P$305, MATCH($G76, SavedResults!$G$19:$G$305, 0)), \"\"))","v":""},null,{"$f":"IFERROR( AVERAGE($L76:$P76), \"\")","v":""}]
[null,null,null,"NGGT.TO","TVM",2024,"NGGT.TO_TVM_2024",{"$f":"H76 + 1","v":53},"2024-03-31","annual nominal %",null,{"$f":"IF($I77 = $J$15, AR!AP$24,\n  IF($I77 < $J$15, INDEX(SavedResults!L$19:L$305, MATCH($G77, SavedResults!$G$19:$G$305, 0)), \"\"))","v":""},{"$f":"IF($I77 = $J$15, AR!AQ$24,\n  IF($I77 < $J$15, INDEX(SavedResults!M$19:M$305, MATCH($G77, SavedResults!$G$19:$G$305, 0)), \"\"))","v":""},{"$f":"IF($I77 = $J$15, AR!AR$24,\n  IF($I77 < $J$15, INDEX(SavedResults!N$19:N$305, MATCH($G77, SavedResults!$G$19:$G$305, 0)), \"\"))","v":""},{"$f":"IF($I77 = $J$15, AR!AS$24,\n  IF($I77 < $J$15, INDEX(SavedResults!O$19:O$305, MATCH($G77, SavedResults!$G$19:$G$305, 0)), \"\"))","v":""},{"$f":"IF($I77 = $J$15, AR!AT$24,\n  IF($I77 < $J$15, INDEX(SavedResults!P$19:P$305, MATCH($G77, SavedResults!$G$19:$G$305, 0)), \"\"))","v":""},null,{"$f":"IFERROR( AVERAGE($L77:$P77), \"\")","v":""}]
[null,null,null,"NGGT.TO","TVM",2025,"NGGT.TO_TVM_2025",54,"2025-03-31","annual nominal %",null,{"$f":"IF($I78 = $J$15, AR!AP$24,\n  IF($I78 < $J$15, INDEX(SavedResults!L$19:L$305, MATCH($G78, SavedResults!$G$19:$G$305, 0)), \"\"))","v":""},{"$f":"IF($I78 = $J$15, AR!AQ$24,\n  IF($I78 < $J$15, INDEX(SavedResults!M$19:M$305, MATCH($G78, SavedResults!$G$19:$G$305, 0)), \"\"))","v":""},{"$f":"IF($I78 = $J$15, AR!AR$24,\n  IF($I78 < $J$15, INDEX(SavedResults!N$19:N$305, MATCH($G78, SavedResults!$G$19:$G$305, 0)), \"\"))","v":""},{"$f":"IF($I78 = $J$15, AR!AS$24,\n  IF($I78 < $J$15, INDEX(SavedResults!O$19:O$305, MATCH($G78, SavedResults!$G$19:$G$305, 0)), \"\"))","v":""},{"$f":"IF($I78 = $J$15, AR!AT$24,\n  IF($I78 < $J$15, INDEX(SavedResults!P$19:P$305, MATCH($G78, SavedResults!$G$19:$G$305, 0)), \"\"))","v":""},null,""]
[null,null,null,"NGGT.TO","TVM",2026,"NGGT.TO_TVM_2026",55,"2026-03-31","annual nominal %",null,{"$f":"IF($I79 = $J$15, AR!AP$24,\n  IF($I79 < $J$15, INDEX(SavedResults!L$19:L$305, MATCH($G79, SavedResults!$G$19:$G$305, 0)), \"\"))","v":""},{"$f":"IF($I79 = $J$15, AR!AQ$24,\n  IF($I79 < $J$15, INDEX(SavedResults!M$19:M$305, MATCH($G79, SavedResults!$G$19:$G$305, 0)), \"\"))","v":""},{"$f":"IF($I79 = $J$15, AR!AR$24,\n  IF($I79 < $J$15, INDEX(SavedResults!N$19:N$305, MATCH($G79, SavedResults!$G$19:$G$305, 0)), \"\"))","v":""},{"$f":"IF($I79 = $J$15, AR!AS$24,\n  IF($I79 < $J$15, INDEX(SavedResults!O$19:O$305, MATCH($G79, SavedResults!$G$19:$G$305, 0)), \"\"))","v":""},{"$f":"IF($I79 = $J$15, AR!AT$24,\n  IF($I79 < $J$15, INDEX(SavedResults!P$19:P$305, MATCH($G79, SavedResults!$G$19:$G$305, 0)), \"\"))","v":""},null,""]
[null,null,null,"NGGT.TO","TVM",2027,"NGGT.TO_TVM_2027",56,"2027-03-31","annual nominal %",null,{"$f":"IF($I80 = $J$15, AR!AP$24,\n  IF($I80 < $J$15, INDEX(SavedResults!L$19:L$305, MATCH($G80, SavedResults!$G$19:$G$305, 0)), \"\"))","v":""},{"$f":"IF($I80 = $J$15, AR!AQ$24,\n  IF($I80 < $J$15, INDEX(SavedResults!M$19:M$305, MATCH($G80, SavedResults!$G$19:$G$305, 0)), \"\"))","v":""},{"$f":"IF($I80 = $J$15, AR!AR$24,\n  IF($I80 < $J$15, INDEX(SavedResults!N$19:N$305, MATCH($G80, SavedResults!$G$19:$G$305, 0)), \"\"))","v":""},{"$f":"IF($I80 = $J$15, AR!AS$24,\n  IF($I80 < $J$15, INDEX(SavedResults!O$19:O$305, MATCH($G80, SavedResults!$G$19:$G$305, 0)), \"\"))","v":""},{"$f":"IF($I80 = $J$15, AR!AT$24,\n  IF($I80 < $J$15, INDEX(SavedResults!P$19:P$305, MATCH($G80, SavedResults!$G$19:$G$305, 0)), \"\"))","v":""},null,""]
[null,null,null,"NGGT.TO","TVM",2028,"NGGT.TO_TVM_2028",57,"2028-03-31","annual nominal %",null,{"$f":"IF($I81 = $J$15, AR!AP$24,\n  IF($I81 < $J$15, INDEX(SavedResults!L$19:L$305, MATCH($G81, SavedResults!$G$19:$G$305, 0)), \"\"))","v":""},{"$f":"IF($I81 = $J$15, AR!AQ$24,\n  IF($I81 < $J$15, INDEX(SavedResults!M$19:M$305, MATCH($G81, SavedResults!$G$19:$G$305, 0)), \"\"))","v":""},{"$f":"IF($I81 = $J$15, AR!AR$24,\n  IF($I81 < $J$15, INDEX(SavedResults!N$19:N$305, MATCH($G81, SavedResults!$G$19:$G$305, 0)), \"\"))","v":""},{"$f":"IF($I81 = $J$15, AR!AS$24,\n  IF($I81 < $J$15, INDEX(SavedResults!O$19:O$305, MATCH($G81, SavedResults!$G$19:$G$305, 0)), \"\"))","v":""},{"$f":"IF($I81 = $J$15, AR!AT$24,\n  IF($I81 < $J$15, INDEX(SavedResults!P$19:P$305, MATCH($G81, SavedResults!$G$19:$G$305, 0)), \"\"))","v":""},null,""]
[null,null,null,null,null,null,null,null,"Sterling Overnight Index Average (SONIA)",null,"It"]
[null,null,null,"NGGT.TO","SONIA",2022,{"$f":"D83&\"_\"&E83&\"_\"&F83","v":"NGGT.TO_SONIA_2022"},{"$f":"MAX(H$19:H82) + 1","v":58},"2022-03-31","annual nominal %",null,{"$f":"IF($I83 = $J$15, AR!AP$35,\n  IF($I83 < $J$15, INDEX(SavedResults!L$19:L$305, MATCH($G83, SavedResults!$G$19:$G$305, 0)), \"\"))","v":4.5973702505714439E-4},{"$f":"IF($I83 = $J$15, AR!AQ$35,\n  IF($I83 < $J$15, INDEX(SavedResults!M$19:M$305, MATCH($G83, SavedResults!$G$19:$G$305, 0)), \"\"))","v":8.648026937470648E-4},{"$f":"IF($I83 = $J$15, AR!AR$35,\n  IF($I83 < $J$15, INDEX(SavedResults!N$19:N$305, MATCH($G83, SavedResults!$G$19:$G$305, 0)), \"\"))","v":1.4141542757024586E-3},{"$f":"IF($I83 = $J$15, AR!AS$35,\n  IF($I83 < $J$15, INDEX(SavedResults!O$19:O$305, MATCH($G83, SavedResults!$G$19:$G$305, 0)), \"\"))","v":2.0702335211076469E-3},{"$f":"IF($I83 = $J$15, AR!AT$35,\n  IF($I83 < $J$15, INDEX(SavedResults!P$19:P$305, MATCH($G83, SavedResults!$G$19:$G$305, 0)), \"\"))","v":2.600000849653616E-3},null,1.4817856730535862E-3]
[null,null,null,"NGGT.TO","SONIA",2023,"NGGT.TO_SONIA_2023",{"$f":"H83 + 1","v":59},"2023-03-31","annual nominal %",null,{"$f":"IF($I84 = $J$15, AR!AP$35,\n  IF($I84 < $J$15, INDEX(SavedResults!L$19:L$305, MATCH($G84, SavedResults!$G$19:$G$305, 0)), \"\"))","v":""},{"$f":"IF($I84 = $J$15, AR!AQ$35,\n  IF($I84 < $J$15, INDEX(SavedResults!M$19:M$305, MATCH($G84, SavedResults!$G$19:$G$305, 0)), \"\"))","v":""},{"$f":"IF($I84 = $J$15, AR!AR$35,\n  IF($I84 < $J$15, INDEX(SavedResults!N$19:N$305, MATCH($G84, SavedResults!$G$19:$G$305, 0)), \"\"))","v":""},{"$f":"IF($I84 = $J$15, AR!AS$35,\n  IF($I84 < $J$15, INDEX(SavedResults!O$19:O$305, MATCH($G84, SavedResults!$G$19:$G$305, 0)), \"\"))","v":""},{"$f":"IF($I84 = $J$15, AR!AT$35,\n  IF($I84 < $J$15, INDEX(SavedResults!P$19:P$305, MATCH($G84, SavedResults!$G$19:$G$305, 0)), \"\"))","v":""},null,{"$f":"IFERROR( AVERAGE($L84:$P84), \"\")","v":""}]
[null,null,null,"NGGT.TO","SONIA",2024,"NGGT.TO_SONIA_2024",{"$f":"H84 + 1","v":60},"2024-03-31","annual nominal %",null,{"$f":"IF($I85 = $J$15, AR!AP$35,\n  IF($I85 < $J$15, INDEX(SavedResults!L$19:L$305, MATCH($G85, SavedResults!$G$19:$G$305, 0)), \"\"))","v":""},{"$f":"IF($I85 = $J$15, AR!AQ$35,\n  IF($I85 < $J$15, INDEX(SavedResults!M$19:M$305, MATCH($G85, SavedResults!$G$19:$G$305, 0)), \"\"))","v":""},{"$f":"IF($I85 = $J$15, AR!AR$35,\n  IF($I85 < $J$15, INDEX(SavedResults!N$19:N$305, MATCH($G85, SavedResults!$G$19:$G$305, 0)), \"\"))","v":""},{"$f":"IF($I85 = $J$15, AR!AS$35,\n  IF($I85 < $J$15, INDEX(SavedResults!O$19:O$305, MATCH($G85, SavedResults!$G$19:$G$305, 0)), \"\"))","v":""},{"$f":"IF($I85 = $J$15, AR!AT$35,\n  IF($I85 < $J$15, INDEX(SavedResults!P$19:P$305, MATCH($G85, SavedResults!$G$19:$G$305, 0)), \"\"))","v":""},null,{"$f":"IFERROR( AVERAGE($L85:$P85), \"\")","v":""}]
[null,null,null,"NGGT.TO","SONIA",2025,"NGGT.TO_SONIA_2025",61,"2025-03-31","annual nominal %",null,{"$f":"IF($I86 = $J$15, AR!AP$35,\n  IF($I86 < $J$15, INDEX(SavedResults!L$19:L$305, MATCH($G86, SavedResults!$G$19:$G$305, 0)), \"\"))","v":""},{"$f":"IF($I86 = $J$15, AR!AQ$35,\n  IF($I86 < $J$15, INDEX(SavedResults!M$19:M$305, MATCH($G86, SavedResults!$G$19:$G$305, 0)), \"\"))","v":""},{"$f":"IF($I86 = $J$15, AR!AR$35,\n  IF($I86 < $J$15, INDEX(SavedResults!N$19:N$305, MATCH($G86, SavedResults!$G$19:$G$305, 0)), \"\"))","v":""},{"$f":"IF($I86 = $J$15, AR!AS$35,\n  IF($I86 < $J$15, INDEX(SavedResults!O$19:O$305, MATCH($G86, SavedResults!$G$19:$G$305, 0)), \"\"))","v":""},{"$f":"IF($I86 = $J$15, AR!AT$35,\n  IF($I86 < $J$15, INDEX(SavedResults!P$19:P$305, MATCH($G86, SavedResults!$G$19:$G$305, 0)), \"\"))","v":""},null,""]
[null,null,null,"NGGT.TO","SONIA",2026,"NGGT.TO_SONIA_2026",62,"2026-03-31","annual nominal %",null,{"$f":"IF($I87 = $J$15, AR!AP$35,\n  IF($I87 < $J$15, INDEX(SavedResults!L$19:L$305, MATCH($G87, SavedResults!$G$19:$G$305, 0)), \"\"))","v":""},{"$f":"IF($I87 = $J$15, AR!AQ$35,\n  IF($I87 < $J$15, INDEX(SavedResults!M$19:M$305, MATCH($G87, SavedResults!$G$19:$G$305, 0)), \"\"))","v":""},{"$f":"IF($I87 = $J$15, AR!AR$35,\n  IF($I87 < $J$15, INDEX(SavedResults!N$19:N$305, MATCH($G87, SavedResults!$G$19:$G$305, 0)), \"\"))","v":""},{"$f":"IF($I87 = $J$15, AR!AS$35,\n  IF($I87 < $J$15, INDEX(SavedResults!O$19:O$305, MATCH($G87, SavedResults!$G$19:$G$305, 0)), \"\"))","v":""},{"$f":"IF($I87 = $J$15, AR!AT$35,\n  IF($I87 < $J$15, INDEX(SavedResults!P$19:P$305, MATCH($G87, SavedResults!$G$19:$G$305, 0)), \"\"))","v":""},null,""]
[null,null,null,"NGGT.TO","SONIA",2027,"NGGT.TO_SONIA_2027",63,"2027-03-31","annual nominal %",null,{"$f":"IF($I88 = $J$15, AR!AP$35,\n  IF($I88 < $J$15, INDEX(SavedResults!L$19:L$305, MATCH($G88, SavedResults!$G$19:$G$305, 0)), \"\"))","v":""},{"$f":"IF($I88 = $J$15, AR!AQ$35,\n  IF($I88 < $J$15, INDEX(SavedResults!M$19:M$305, MATCH($G88, SavedResults!$G$19:$G$305, 0)), \"\"))","v":""},{"$f":"IF($I88 = $J$15, AR!AR$35,\n  IF($I88 < $J$15, INDEX(SavedResults!N$19:N$305, MATCH($G88, SavedResults!$G$19:$G$305, 0)), \"\"))","v":""},{"$f":"IF($I88 = $J$15, AR!AS$35,\n  IF($I88 < $J$15, INDEX(SavedResults!O$19:O$305, MATCH($G88, SavedResults!$G$19:$G$305, 0)), \"\"))","v":""},{"$f":"IF($I88 = $J$15, AR!AT$35,\n  IF($I88 < $J$15, INDEX(SavedResults!P$19:P$305, MATCH($G88, SavedResults!$G$19:$G$305, 0)), \"\"))","v":""},null,""]
[null,null,null,"NGGT.TO","SONIA",2028,"NGGT.TO_SONIA_2028",64,"2028-03-31","annual nominal %",null,{"$f":"IF($I89 = $J$15, AR!AP$35,\n  IF($I89 < $J$15, INDEX(SavedResults!L$19:L$305, MATCH($G89, SavedResults!$G$19:$G$305, 0)), \"\"))","v":""},{"$f":"IF($I89 = $J$15, AR!AQ$35,\n  IF($I89 < $J$15, INDEX(SavedResults!M$19:M$305, MATCH($G89, SavedResults!$G$19:$G$305, 0)), \"\"))","v":""},{"$f":"IF($I89 = $J$15, AR!AR$35,\n  IF($I89 < $J$15, INDEX(SavedResults!N$19:N$305, MATCH($G89, SavedResults!$G$19:$G$305, 0)), \"\"))","v":""},{"$f":"IF($I89 = $J$15, AR!AS$35,\n  IF($I89 < $J$15, INDEX(SavedResults!O$19:O$305, MATCH($G89, SavedResults!$G$19:$G$305, 0)), \"\"))","v":""},{"$f":"IF($I89 = $J$15, AR!AT$35,\n  IF($I89 < $J$15, INDEX(SavedResults!P$19:P$305, MATCH($G89, SavedResults!$G$19:$G$305, 0)), \"\"))","v":""},null,""]
[null,null,null,null,null,null,null,null,"Calculated revenue",null,"Rt"]
[null,null,null,"NGGT.TO","R",2022,{"$f":"D91&\"_\"&E91&\"_\"&F91","v":"NGGT.TO_R_2022"},{"$f":"MAX(H$19:H90) + 1","v":65},"2022-03-31","£m 18/19 prices",null,{"$f":"IF($I91 = $J$15, L$56,\n  IF($I91 < $J$15, INDEX(SavedResults!L$19:L$305, MATCH($G91, SavedResults!$G$19:$G$305, 0)), \"\"))","v":798.51654300067048},{"$f":"IF($I91 = $J$15, M$56,\n  IF($I91 < $J$15, INDEX(SavedResults!M$19:M$305, MATCH($G91, SavedResults!$G$19:$G$305, 0)), \"\"))","v":804.26928177596938},{"$f":"IF($I91 = $J$15, N$56,\n  IF($I91 < $J$15, INDEX(SavedResults!N$19:N$305, MATCH($G91, SavedResults!$G$19:$G$305, 0)), \"\"))","v":828.41261749139073},{"$f":"IF($I91 = $J$15, O$56,\n  IF($I91 < $J$15, INDEX(SavedResults!O$19:O$305, MATCH($G91, SavedResults!$G$19:$G$305, 0)), \"\"))","v":759.95945479494276},{"$f":"IF($I91 = $J$15, P$56,\n  IF($I91 < $J$15, INDEX(SavedResults!P$19:P$305, MATCH($G91, SavedResults!$G$19:$G$305, 0)), \"\"))","v":752.10438310622317},{"$f":"SUM($L91:$P91)","v":3943.2622801691969},{"$f":"IFERROR( AVERAGE($L91:$P91), 0)","v":788.65245603383937}]
[null,null,null,"NGGT.TO","R",2023,"NGGT.TO_R_2023",{"$f":"H91 + 1","v":66},"2023-03-31","£m 18/19 prices",null,{"$f":"IF($I92 = $J$15, L$56,\n  IF($I92 < $J$15, INDEX(SavedResults!L$19:L$305, MATCH($G92, SavedResults!$G$19:$G$305, 0)), \"\"))","v":""},{"$f":"IF($I92 = $J$15, M$56,\n  IF($I92 < $J$15, INDEX(SavedResults!M$19:M$305, MATCH($G92, SavedResults!$G$19:$G$305, 0)), \"\"))","v":""},{"$f":"IF($I92 = $J$15, N$56,\n  IF($I92 < $J$15, INDEX(SavedResults!N$19:N$305, MATCH($G92, SavedResults!$G$19:$G$305, 0)), \"\"))","v":""},{"$f":"IF($I92 = $J$15, O$56,\n  IF($I92 < $J$15, INDEX(SavedResults!O$19:O$305, MATCH($G92, SavedResults!$G$19:$G$305, 0)), \"\"))","v":""},{"$f":"IF($I92 = $J$15, P$56,\n  IF($I92 < $J$15, INDEX(SavedResults!P$19:P$305, MATCH($G92, SavedResults!$G$19:$G$305, 0)), \"\"))","v":""},0,0]
[null,null,null,"NGGT.TO","R",2024,"NGGT.TO_R_2024",{"$f":"H92 + 1","v":67},"2024-03-31","£m 18/19 prices",null,{"$f":"IF($I93 = $J$15, L$56,\n  IF($I93 < $J$15, INDEX(SavedResults!L$19:L$305, MATCH($G93, SavedResults!$G$19:$G$305, 0)), \"\"))","v":""},{"$f":"IF($I93 = $J$15, M$56,\n  IF($I93 < $J$15, INDEX(SavedResults!M$19:M$305, MATCH($G93, SavedResults!$G$19:$G$305, 0)), \"\"))","v":""},{"$f":"IF($I93 = $J$15, N$56,\n  IF($I93 < $J$15, INDEX(SavedResults!N$19:N$305, MATCH($G93, SavedResults!$G$19:$G$305, 0)), \"\"))","v":""},{"$f":"IF($I93 = $J$15, O$56,\n  IF($I93 < $J$15, INDEX(SavedResults!O$19:O$305, MATCH($G93, SavedResults!$G$19:$G$305, 0)), \"\"))","v":""},{"$f":"IF($I93 = $J$15, P$56,\n  IF($I93 < $J$15, INDEX(SavedResults!P$19:P$305, MATCH($G93, SavedResults!$G$19:$G$305, 0)), \"\"))","v":""},0,0]
[null,null,null,"NGGT.TO","R",2025,"NGGT.TO_R_2025",68,"2025-03-31","£m 18/19 prices",null,{"$f":"IF($I94 = $J$15, L$56,\n  IF($I94 < $J$15, INDEX(SavedResults!L$19:L$305, MATCH($G94, SavedResults!$G$19:$G$305, 0)), \"\"))","v":""},{"$f":"IF($I94 = $J$15, M$56,\n  IF($I94 < $J$15, INDEX(SavedResults!M$19:M$305, MATCH($G94, SavedResults!$G$19:$G$305, 0)), \"\"))","v":""},{"$f":"IF($I94 = $J$15, N$56,\n  IF($I94 < $J$15, INDEX(SavedResults!N$19:N$305, MATCH($G94, SavedResults!$G$19:$G$305, 0)), \"\"))","v":""},{"$f":"IF($I94 = $J$15, O$56,\n  IF($I94 < $J$15, INDEX(SavedResults!O$19:O$305, MATCH($G94, SavedResults!$G$19:$G$305, 0)), \"\"))","v":""},{"$f":"IF($I94 = $J$15, P$56,\n  IF($I94 < $J$15, INDEX(SavedResults!P$19:P$305, MATCH($G94, SavedResults!$G$19:$G$305, 0)), \"\"))","v":""},0,0]
[null,null,null,"NGGT.TO","R",2026,"NGGT.TO_R_2026",69,"2026-03-31","£m 18/19 prices",null,{"$f":"IF($I95 = $J$15, L$56,\n  IF($I95 < $J$15, INDEX(SavedResults!L$19:L$305, MATCH($G95, SavedResults!$G$19:$G$305, 0)), \"\"))","v":""},{"$f":"IF($I95 = $J$15, M$56,\n  IF($I95 < $J$15, INDEX(SavedResults!M$19:M$305, MATCH($G95, SavedResults!$G$19:$G$305, 0)), \"\"))","v":""},{"$f":"IF($I95 = $J$15, N$56,\n  IF($I95 < $J$15, INDEX(SavedResults!N$19:N$305, MATCH($G95, SavedResults!$G$19:$G$305, 0)), \"\"))","v":""},{"$f":"IF($I95 = $J$15, O$56,\n  IF($I95 < $J$15, INDEX(SavedResults!O$19:O$305, MATCH($G95, SavedResults!$G$19:$G$305, 0)), \"\"))","v":""},{"$f":"IF($I95 = $J$15, P$56,\n  IF($I95 < $J$15, INDEX(SavedResults!P$19:P$305, MATCH($G95, SavedResults!$G$19:$G$305, 0)), \"\"))","v":""},0,0]
[null,null,null,"NGGT.TO","R",2027,"NGGT.TO_R_2027",70,"2027-03-31","£m 18/19 prices",null,{"$f":"IF($I96 = $J$15, L$56,\n  IF($I96 < $J$15, INDEX(SavedResults!L$19:L$305, MATCH($G96, SavedResults!$G$19:$G$305, 0)), \"\"))","v":""},{"$f":"IF($I96 = $J$15, M$56,\n  IF($I96 < $J$15, INDEX(SavedResults!M$19:M$305, MATCH($G96, SavedResults!$G$19:$G$305, 0)), \"\"))","v":""},{"$f":"IF($I96 = $J$15, N$56,\n  IF($I96 < $J$15, INDEX(SavedResults!N$19:N$305, MATCH($G96, SavedResults!$G$19:$G$305, 0)), \"\"))","v":""},{"$f":"IF($I96 = $J$15, O$56,\n  IF($I96 < $J$15, INDEX(SavedResults!O$19:O$305, MATCH($G96, SavedResults!$G$19:$G$305, 0)), \"\"))","v":""},{"$f":"IF($I96 = $J$15, P$56,\n  IF($I96 < $J$15, INDEX(SavedResults!P$19:P$305, MATCH($G96, SavedResults!$G$19:$G$305, 0)), \"\"))","v":""},0,0]
[null,null,null,"NGGT.TO","R",2028,"NGGT.TO_R_2028",71,"2028-03-31","£m 18/19 prices",null,{"$f":"IF($I97 = $J$15, L$56,\n  IF($I97 < $J$15, INDEX(SavedResults!L$19:L$305, MATCH($G97, SavedResults!$G$19:$G$305, 0)), \"\"))","v":""},{"$f":"IF($I97 = $J$15, M$56,\n  IF($I97 < $J$15, INDEX(SavedResults!M$19:M$305, MATCH($G97, SavedResults!$G$19:$G$305, 0)), \"\"))","v":""},{"$f":"IF($I97 = $J$15, N$56,\n  IF($I97 < $J$15, INDEX(SavedResults!N$19:N$305, MATCH($G97, SavedResults!$G$19:$G$305, 0)), \"\"))","v":""},{"$f":"IF($I97 = $J$15, O$56,\n  IF($I97 < $J$15, INDEX(SavedResults!O$19:O$305, MATCH($G97, SavedResults!$G$19:$G$305, 0)), \"\"))","v":""},{"$f":"IF($I97 = $J$15, P$56,\n  IF($I97 < $J$15, INDEX(SavedResults!P$19:P$305, MATCH($G97, SavedResults!$G$19:$G$305, 0)), \"\"))","v":""},0,0]
[null,null,null,null,null,null,null,null,"Calculated revenue (nominal)",null,"Rt ∙ (Pt / P2018/19)"]
[null,null,null,"NGGT.TO","Rnominal",2022,{"$f":"D99&\"_\"&E99&\"_\"&F99","v":"NGGT.TO_Rnominal_2022"},{"$f":"MAX(H$19:H98) + 1","v":72},"2022-03-31","£m nominal",null,{"$f":"IF($I99 = $J$15, AR!AP$29,\n  IF($I99 < $J$15, INDEX(SavedResults!L$19:L$305, MATCH($G99, SavedResults!$G$19:$G$305, 0)), \"\"))","v":840.52804261069923},{"$f":"IF($I99 = $J$15, AR!AQ$29,\n  IF($I99 < $J$15, INDEX(SavedResults!M$19:M$305, MATCH($G99, SavedResults!$G$19:$G$305, 0)), \"\"))","v":860.11000104021184},{"$f":"IF($I99 = $J$15, AR!AR$29,\n  IF($I99 < $J$15, INDEX(SavedResults!N$19:N$305, MATCH($G99, SavedResults!$G$19:$G$305, 0)), \"\"))","v":901.70697595724141},{"$f":"IF($I99 = $J$15, AR!AS$29,\n  IF($I99 < $J$15, INDEX(SavedResults!O$19:O$305, MATCH($G99, SavedResults!$G$19:$G$305, 0)), \"\"))","v":843.18807614321645},{"$f":"IF($I99 = $J$15, AR!AT$29,\n  IF($I99 < $J$15, INDEX(SavedResults!P$19:P$305, MATCH($G99, SavedResults!$G$19:$G$305, 0)), \"\"))","v":851.13336584025285},4296.6664615916216,859.33329231832431]
[null,null,null,"NGGT.TO","Rnominal",2023,"NGGT.TO_Rnominal_2023",{"$f":"H99 + 1","v":73},"2023-03-31","£m nominal",null,{"$f":"IF($I100 = $J$15, AR!AP$29,\n  IF($I100 < $J$15, INDEX(SavedResults!L$19:L$305, MATCH($G100, SavedResults!$G$19:$G$305, 0)), \"\"))","v":""},{"$f":"IF($I100 = $J$15, AR!AQ$29,\n  IF($I100 < $J$15, INDEX(SavedResults!M$19:M$305, MATCH($G100, SavedResults!$G$19:$G$305, 0)), \"\"))","v":""},{"$f":"IF($I100 = $J$15, AR!AR$29,\n  IF($I100 < $J$15, INDEX(SavedResults!N$19:N$305, MATCH($G100, SavedResults!$G$19:$G$305, 0)), \"\"))","v":""},{"$f":"IF($I100 = $J$15, AR!AS$29,\n  IF($I100 < $J$15, INDEX(SavedResults!O$19:O$305, MATCH($G100, SavedResults!$G$19:$G$305, 0)), \"\"))","v":""},{"$f":"IF($I100 = $J$15, AR!AT$29,\n  IF($I100 < $J$15, INDEX(SavedResults!P$19:P$305, MATCH($G100, SavedResults!$G$19:$G$305, 0)), \"\"))","v":""},0,0]
[null,null,null,"NGGT.TO","Rnominal",2024,"NGGT.TO_Rnominal_2024",{"$f":"H100 + 1","v":74},"2024-03-31","£m nominal",null,{"$f":"IF($I101 = $J$15, AR!AP$29,\n  IF($I101 < $J$15, INDEX(SavedResults!L$19:L$305, MATCH($G101, SavedResults!$G$19:$G$305, 0)), \"\"))","v":""},{"$f":"IF($I101 = $J$15, AR!AQ$29,\n  IF($I101 < $J$15, INDEX(SavedResults!M$19:M$305, MATCH($G101, SavedResults!$G$19:$G$305, 0)), \"\"))","v":""},{"$f":"IF($I101 = $J$15, AR!AR$29,\n  IF($I101 < $J$15, INDEX(SavedResults!N$19:N$305, MATCH($G101, SavedResults!$G$19:$G$305, 0)), \"\"))","v":""},{"$f":"IF($I101 = $J$15, AR!AS$29,\n  IF($I101 < $J$15, INDEX(SavedResults!O$19:O$305, MATCH($G101, SavedResults!$G$19:$G$305, 0)), \"\"))","v":""},{"$f":"IF($I101 = $J$15, AR!AT$29,\n  IF($I101 < $J$15, INDEX(SavedResults!P$19:P$305, MATCH($G101, SavedResults!$G$19:$G$305, 0)), \"\"))","v":""},0,0]
[null,null,null,"NGGT.TO","Rnominal",2025,"NGGT.TO_Rnominal_2025",75,"2025-03-31","£m nominal",null,{"$f":"IF($I102 = $J$15, AR!AP$29,\n  IF($I102 < $J$15, INDEX(SavedResults!L$19:L$305, MATCH($G102, SavedResults!$G$19:$G$305, 0)), \"\"))","v":""},{"$f":"IF($I102 = $J$15, AR!AQ$29,\n  IF($I102 < $J$15, INDEX(SavedResults!M$19:M$305, MATCH($G102, SavedResults!$G$19:$G$305, 0)), \"\"))","v":""},{"$f":"IF($I102 = $J$15, AR!AR$29,\n  IF($I102 < $J$15, INDEX(SavedResults!N$19:N$305, MATCH($G102, SavedResults!$G$19:$G$305, 0)), \"\"))","v":""},{"$f":"IF($I102 = $J$15, AR!AS$29,\n  IF($I102 < $J$15, INDEX(SavedResults!O$19:O$305, MATCH($G102, SavedResults!$G$19:$G$305, 0)), \"\"))","v":""},{"$f":"IF($I102 = $J$15, AR!AT$29,\n  IF($I102 < $J$15, INDEX(SavedResults!P$19:P$305, MATCH($G102, SavedResults!$G$19:$G$305, 0)), \"\"))","v":""},0,0]
[null,null,null,"NGGT.TO","Rnominal",2026,"NGGT.TO_Rnominal_2026",76,"2026-03-31","£m nominal",null,{"$f":"IF($I103 = $J$15, AR!AP$29,\n  IF($I103 < $J$15, INDEX(SavedResults!L$19:L$305, MATCH($G103, SavedResults!$G$19:$G$305, 0)), \"\"))","v":""},{"$f":"IF($I103 = $J$15, AR!AQ$29,\n  IF($I103 < $J$15, INDEX(SavedResults!M$19:M$305, MATCH($G103, SavedResults!$G$19:$G$305, 0)), \"\"))","v":""},{"$f":"IF($I103 = $J$15, AR!AR$29,\n  IF($I103 < $J$15, INDEX(SavedResults!N$19:N$305, MATCH($G103, SavedResults!$G$19:$G$305, 0)), \"\"))","v":""},{"$f":"IF($I103 = $J$15, AR!AS$29,\n  IF($I103 < $J$15, INDEX(SavedResults!O$19:O$305, MATCH($G103, SavedResults!$G$19:$G$305, 0)), \"\"))","v":""},{"$f":"IF($I103 = $J$15, AR!AT$29,\n  IF($I103 < $J$15, INDEX(SavedResults!P$19:P$305, MATCH($G103, SavedResults!$G$19:$G$305, 0)), \"\"))","v":""},0,0]
[null,null,null,"NGGT.TO","Rnominal",2027,"NGGT.TO_Rnominal_2027",77,"2027-03-31","£m nominal",null,{"$f":"IF($I104 = $J$15, AR!AP$29,\n  IF($I104 < $J$15, INDEX(SavedResults!L$19:L$305, MATCH($G104, SavedResults!$G$19:$G$305, 0)), \"\"))","v":""},{"$f":"IF($I104 = $J$15, AR!AQ$29,\n  IF($I104 < $J$15, INDEX(SavedResults!M$19:M$305, MATCH($G104, SavedResults!$G$19:$G$305, 0)), \"\"))","v":""},{"$f":"IF($I104 = $J$15, AR!AR$29,\n  IF($I104 < $J$15, INDEX(SavedResults!N$19:N$305, MATCH($G104, SavedResults!$G$19:$G$305, 0)), \"\"))","v":""},{"$f":"IF($I104 = $J$15, AR!AS$29,\n  IF($I104 < $J$15, INDEX(SavedResults!O$19:O$305, MATCH($G104, SavedResults!$G$19:$G$305, 0)), \"\"))","v":""},{"$f":"IF($I104 = $J$15, AR!AT$29,\n  IF($I104 < $J$15, INDEX(SavedResults!P$19:P$305, MATCH($G104, SavedResults!$G$19:$G$305, 0)), \"\"))","v":""},0,0]
[null,null,null,"NGGT.TO","Rnominal",2028,"NGGT.TO_Rnominal_2028",78,"2028-03-31","£m nominal",null,{"$f":"IF($I105 = $J$15, AR!AP$29,\n  IF($I105 < $J$15, INDEX(SavedResults!L$19:L$305, MATCH($G105, SavedResults!$G$19:$G$305, 0)), \"\"))","v":""},{"$f":"IF($I105 = $J$15, AR!AQ$29,\n  IF($I105 < $J$15, INDEX(SavedResults!M$19:M$305, MATCH($G105, SavedResults!$G$19:$G$305, 0)), \"\"))","v":""},{"$f":"IF($I105 = $J$15, AR!AR$29,\n  IF($I105 < $J$15, INDEX(SavedResults!N$19:N$305, MATCH($G105, SavedResults!$G$19:$G$305, 0)), \"\"))","v":""},{"$f":"IF($I105 = $J$15, AR!AS$29,\n  IF($I105 < $J$15, INDEX(SavedResults!O$19:O$305, MATCH($G105, SavedResults!$G$19:$G$305, 0)), \"\"))","v":""},{"$f":"IF($I105 = $J$15, AR!AT$29,\n  IF($I105 < $J$15, INDEX(SavedResults!P$19:P$305, MATCH($G105, SavedResults!$G$19:$G$305, 0)), \"\"))","v":""},0,0]
[null,null,null,null,null,null,null,null,"AIP adjustment term",null,"ADJt"]
[null,null,null,"NGGT.TO","ADJ",2022,{"$f":"D107&\"_\"&E107&\"_\"&F107","v":"NGGT.TO_ADJ_2022"},{"$f":"MAX(H$19:H106) + 1","v":79},"2022-03-31","£m nominal",null,{"$f":"IF($I107 = $J$15, AR!AP$30,\n  IF($I107 < $J$15, INDEX(SavedResults!L$19:L$305, MATCH($G107, SavedResults!$G$19:$G$305, 0)), \"\"))","v":0},{"$f":"IF($I107 = $J$15, AR!AQ$30,\n  IF($I107 < $J$15, INDEX(SavedResults!M$19:M$305, MATCH($G107, SavedResults!$G$19:$G$305, 0)), \"\"))","v":7.6512911235238151E-2},{"$f":"IF($I107 = $J$15, AR!AR$30,\n  IF($I107 < $J$15, INDEX(SavedResults!N$19:N$305, MATCH($G107, SavedResults!$G$19:$G$305, 0)), \"\"))","v":0},{"$f":"IF($I107 = $J$15, AR!AS$30,\n  IF($I107 < $J$15, INDEX(SavedResults!O$19:O$305, MATCH($G107, SavedResults!$G$19:$G$305, 0)), \"\"))","v":0},{"$f":"IF($I107 = $J$15, AR!AT$30,\n  IF($I107 < $J$15, INDEX(SavedResults!P$19:P$305, MATCH($G107, SavedResults!$G$19:$G$305, 0)), \"\"))","v":0},{"$f":"SUM($L107:$P107)","v":7.6512911235238151E-2},{"$f":"IFERROR( AVERAGE($L107:$P107), 0)","v":1.5302582247047631E-2}]
[null,null,null,"NGGT.TO","ADJ",2023,"NGGT.TO_ADJ_2023",{"$f":"H107 + 1","v":80},"2023-03-31","£m nominal",null,{"$f":"IF($I108 = $J$15, AR!AP$30,\n  IF($I108 < $J$15, INDEX(SavedResults!L$19:L$305, MATCH($G108, SavedResults!$G$19:$G$305, 0)), \"\"))","v":""},{"$f":"IF($I108 = $J$15, AR!AQ$30,\n  IF($I108 < $J$15, INDEX(SavedResults!M$19:M$305, MATCH($G108, SavedResults!$G$19:$G$305, 0)), \"\"))","v":""},{"$f":"IF($I108 = $J$15, AR!AR$30,\n  IF($I108 < $J$15, INDEX(SavedResults!N$19:N$305, MATCH($G108, SavedResults!$G$19:$G$305, 0)), \"\"))","v":""},{"$f":"IF($I108 = $J$15, AR!AS$30,\n  IF($I108 < $J$15, INDEX(SavedResults!O$19:O$305, MATCH($G108, SavedResults!$G$19:$G$305, 0)), \"\"))","v":""},{"$f":"IF($I108 = $J$15, AR!AT$30,\n  IF($I108 < $J$15, INDEX(SavedResults!P$19:P$305, MATCH($G108, SavedResults!$G$19:$G$305, 0)), \"\"))","v":""},0,0]
[null,null,null,"NGGT.TO","ADJ",2024,"NGGT.TO_ADJ_2024",{"$f":"H108 + 1","v":81},"2024-03-31","£m nominal",null,{"$f":"IF($I109 = $J$15, AR!AP$30,\n  IF($I109 < $J$15, INDEX(SavedResults!L$19:L$305, MATCH($G109, SavedResults!$G$19:$G$305, 0)), \"\"))","v":""},{"$f":"IF($I109 = $J$15, AR!AQ$30,\n  IF($I109 < $J$15, INDEX(SavedResults!M$19:M$305, MATCH($G109, SavedResults!$G$19:$G$305, 0)), \"\"))","v":""},{"$f":"IF($I109 = $J$15, AR!AR$30,\n  IF($I109 < $J$15, INDEX(SavedResults!N$19:N$305, MATCH($G109, SavedResults!$G$19:$G$305, 0)), \"\"))","v":""},{"$f":"IF($I109 = $J$15, AR!AS$30,\n  IF($I109 < $J$15, INDEX(SavedResults!O$19:O$305, MATCH($G109, SavedResults!$G$19:$G$305, 0)), \"\"))","v":""},{"$f":"IF($I109 = $J$15, AR!AT$30,\n  IF($I109 < $J$15, INDEX(SavedResults!P$19:P$305, MATCH($G109, SavedResults!$G$19:$G$305, 0)), \"\"))","v":""},0,0]
[null,null,null,"NGGT.TO","ADJ",2025,"NGGT.TO_ADJ_2025",82,"2025-03-31","£m nominal",null,{"$f":"IF($I110 = $J$15, AR!AP$30,\n  IF($I110 < $J$15, INDEX(SavedResults!L$19:L$305, MATCH($G110, SavedResults!$G$19:$G$305, 0)), \"\"))","v":""},{"$f":"IF($I110 = $J$15, AR!AQ$30,\n  IF($I110 < $J$15, INDEX(SavedResults!M$19:M$305, MATCH($G110, SavedResults!$G$19:$G$305, 0)), \"\"))","v":""},{"$f":"IF($I110 = $J$15, AR!AR$30,\n  IF($I110 < $J$15, INDEX(SavedResults!N$19:N$305, MATCH($G110, SavedResults!$G$19:$G$305, 0)), \"\"))","v":""},{"$f":"IF($I110 = $J$15, AR!AS$30,\n  IF($I110 < $J$15, INDEX(SavedResults!O$19:O$305, MATCH($G110, SavedResults!$G$19:$G$305, 0)), \"\"))","v":""},{"$f":"IF($I110 = $J$15, AR!AT$30,\n  IF($I110 < $J$15, INDEX(SavedResults!P$19:P$305, MATCH($G110, SavedResults!$G$19:$G$305, 0)), \"\"))","v":""},0,0]
[null,null,null,"NGGT.TO","ADJ",2026,"NGGT.TO_ADJ_2026",83,"2026-03-31","£m nominal",null,{"$f":"IF($I111 = $J$15, AR!AP$30,\n  IF($I111 < $J$15, INDEX(SavedResults!L$19:L$305, MATCH($G111, SavedResults!$G$19:$G$305, 0)), \"\"))","v":""},{"$f":"IF($I111 = $J$15, AR!AQ$30,\n  IF($I111 < $J$15, INDEX(SavedResults!M$19:M$305, MATCH($G111, SavedResults!$G$19:$G$305, 0)), \"\"))","v":""},{"$f":"IF($I111 = $J$15, AR!AR$30,\n  IF($I111 < $J$15, INDEX(SavedResults!N$19:N$305, MATCH($G111, SavedResults!$G$19:$G$305, 0)), \"\"))","v":""},{"$f":"IF($I111 = $J$15, AR!AS$30,\n  IF($I111 < $J$15, INDEX(SavedResults!O$19:O$305, MATCH($G111, SavedResults!$G$19:$G$305, 0)), \"\"))","v":""},{"$f":"IF($I111 = $J$15, AR!AT$30,\n  IF($I111 < $J$15, INDEX(SavedResults!P$19:P$305, MATCH($G111, SavedResults!$G$19:$G$305, 0)), \"\"))","v":""},0,0]
[null,null,null,"NGGT.TO","ADJ",2027,"NGGT.TO_ADJ_2027",84,"2027-03-31","£m nominal",null,{"$f":"IF($I112 = $J$15, AR!AP$30,\n  IF($I112 < $J$15, INDEX(SavedResults!L$19:L$305, MATCH($G112, SavedResults!$G$19:$G$305, 0)), \"\"))","v":""},{"$f":"IF($I112 = $J$15, AR!AQ$30,\n  IF($I112 < $J$15, INDEX(SavedResults!M$19:M$305, MATCH($G112, SavedResults!$G$19:$G$305, 0)), \"\"))","v":""},{"$f":"IF($I112 = $J$15, AR!AR$30,\n  IF($I112 < $J$15, INDEX(SavedResults!N$19:N$305, MATCH($G112, SavedResults!$G$19:$G$305, 0)), \"\"))","v":""},{"$f":"IF($I112 = $J$15, AR!AS$30,\n  IF($I112 < $J$15, INDEX(SavedResults!O$19:O$305, MATCH($G112, SavedResults!$G$19:$G$305, 0)), \"\"))","v":""},{"$f":"IF($I112 = $J$15, AR!AT$30,\n  IF($I112 < $J$15, INDEX(SavedResults!P$19:P$305, MATCH($G112, SavedResults!$G$19:$G$305, 0)), \"\"))","v":""},0,0]
[null,null,null,"NGGT.TO","ADJ",2028,"NGGT.TO_ADJ_2028",85,"2028-03-31","£m nominal",null,{"$f":"IF($I113 = $J$15, AR!AP$30,\n  IF($I113 < $J$15, INDEX(SavedResults!L$19:L$305, MATCH($G113, SavedResults!$G$19:$G$305, 0)), \"\"))","v":""},{"$f":"IF($I113 = $J$15, AR!AQ$30,\n  IF($I113 < $J$15, INDEX(SavedResults!M$19:M$305, MATCH($G113, SavedResults!$G$19:$G$305, 0)), \"\"))","v":""},{"$f":"IF($I113 = $J$15, AR!AR$30,\n  IF($I113 < $J$15, INDEX(SavedResults!N$19:N$305, MATCH($G113, SavedResults!$G$19:$G$305, 0)), \"\"))","v":""},{"$f":"IF($I113 = $J$15, AR!AS$30,\n  IF($I113 < $J$15, INDEX(SavedResults!O$19:O$305, MATCH($G113, SavedResults!$G$19:$G$305, 0)), \"\"))","v":""},{"$f":"IF($I113 = $J$15, AR!AT$30,\n  IF($I113 < $J$15, INDEX(SavedResults!P$19:P$305, MATCH($G113, SavedResults!$G$19:$G$305, 0)), \"\"))","v":""},0,0]
[null,null,null,null,null,null,null,null,"Adjusted revenue",null,"ADJRt"]
[null,null,null,"NGGT.TO","ADJR",2022,{"$f":"D115&\"_\"&E115&\"_\"&F115","v":"NGGT.TO_ADJR_2022"},{"$f":"MAX(H$19:H114) + 1","v":86},"2022-03-31","£m nominal",null,{"$f":"IF($I115 = $J$15, AR!AP$12,\n  IF($I115 < $J$15, INDEX(SavedResults!L$19:L$305, MATCH($G115, SavedResults!$G$19:$G$305, 0)), \"\"))","v":840.4549529181885},{"$f":"IF($I115 = $J$15, AR!AQ$12,\n  IF($I115 < $J$15, INDEX(SavedResults!M$19:M$305, MATCH($G115, SavedResults!$G$19:$G$305, 0)), \"\"))","v":860.18651395144707},{"$f":"IF($I115 = $J$15, AR!AR$12,\n  IF($I115 < $J$15, INDEX(SavedResults!N$19:N$305, MATCH($G115, SavedResults!$G$19:$G$305, 0)), \"\"))","v":901.70697595724141},{"$f":"IF($I115 = $J$15, AR!AS$12,\n  IF($I115 < $J$15, INDEX(SavedResults!O$19:O$305, MATCH($G115, SavedResults!$G$19:$G$305, 0)), \"\"))","v":843.18807614321645},{"$f":"IF($I115 = $J$15, AR!AT$12,\n  IF($I115 < $J$15, INDEX(SavedResults!P$19:P$305, MATCH($G115, SavedResults!$G$19:$G$305, 0)), \"\"))","v":851.13336584025285},4296.669884810346,859.33397696206919]
[null,null,null,"NGGT.TO","ADJR",2023,"NGGT.TO_ADJR_2023",{"$f":"H115 + 1","v":87},"2023-03-31","£m nominal",null,{"$f":"IF($I116 = $J$15, AR!AP$12,\n  IF($I116 < $J$15, INDEX(SavedResults!L$19:L$305, MATCH($G116, SavedResults!$G$19:$G$305, 0)), \"\"))","v":""},{"$f":"IF($I116 = $J$15, AR!AQ$12,\n  IF($I116 < $J$15, INDEX(SavedResults!M$19:M$305, MATCH($G116, SavedResults!$G$19:$G$305, 0)), \"\"))","v":""},{"$f":"IF($I116 = $J$15, AR!AR$12,\n  IF($I116 < $J$15, INDEX(SavedResults!N$19:N$305, MATCH($G116, SavedResults!$G$19:$G$305, 0)), \"\"))","v":""},{"$f":"IF($I116 = $J$15, AR!AS$12,\n  IF($I116 < $J$15, INDEX(SavedResults!O$19:O$305, MATCH($G116, SavedResults!$G$19:$G$305, 0)), \"\"))","v":""},{"$f":"IF($I116 = $J$15, AR!AT$12,\n  IF($I116 < $J$15, INDEX(SavedResults!P$19:P$305, MATCH($G116, SavedResults!$G$19:$G$305, 0)), \"\"))","v":""},0,0]
[null,null,null,"NGGT.TO","ADJR",2024,"NGGT.TO_ADJR_2024",{"$f":"H116 + 1","v":88},"2024-03-31","£m nominal",null,{"$f":"IF($I117 = $J$15, AR!AP$12,\n  IF($I117 < $J$15, INDEX(SavedResults!L$19:L$305, MATCH($G117, SavedResults!$G$19:$G$305, 0)), \"\"))","v":""},{"$f":"IF($I117 = $J$15, AR!AQ$12,\n  IF($I117 < $J$15, INDEX(SavedResults!M$19:M$305, MATCH($G117, SavedResults!$G$19:$G$305, 0)), \"\"))","v":""},{"$f":"IF($I117 = $J$15, AR!AR$12,\n  IF($I117 < $J$15, INDEX(SavedResults!N$19:N$305, MATCH($G117, SavedResults!$G$19:$G$305, 0)), \"\"))","v":""},{"$f":"IF($I117 = $J$15, AR!AS$12,\n  IF($I117 < $J$15, INDEX(SavedResults!O$19:O$305, MATCH($G117, SavedResults!$G$19:$G$305, 0)), \"\"))","v":""},{"$f":"IF($I117 = $J$15, AR!AT$12,\n  IF($I117 < $J$15, INDEX(SavedResults!P$19:P$305, MATCH($G117, SavedResults!$G$19:$G$305, 0)), \"\"))","v":""},0,0]
[null,null,null,"NGGT.TO","ADJR",2025,"NGGT.TO_ADJR_2025",89,"2025-03-31","£m nominal",null,{"$f":"IF($I118 = $J$15, AR!AP$12,\n  IF($I118 < $J$15, INDEX(SavedResults!L$19:L$305, MATCH($G118, SavedResults!$G$19:$G$305, 0)), \"\"))","v":""},{"$f":"IF($I118 = $J$15, AR!AQ$12,\n  IF($I118 < $J$15, INDEX(SavedResults!M$19:M$305, MATCH($G118, SavedResults!$G$19:$G$305, 0)), \"\"))","v":""},{"$f":"IF($I118 = $J$15, AR!AR$12,\n  IF($I118 < $J$15, INDEX(SavedResults!N$19:N$305, MATCH($G118, SavedResults!$G$19:$G$305, 0)), \"\"))","v":""},{"$f":"IF($I118 = $J$15, AR!AS$12,\n  IF($I118 < $J$15, INDEX(SavedResults!O$19:O$305, MATCH($G118, SavedResults!$G$19:$G$305, 0)), \"\"))","v":""},{"$f":"IF($I118 = $J$15, AR!AT$12,\n  IF($I118 < $J$15, INDEX(SavedResults!P$19:P$305, MATCH($G118, SavedResults!$G$19:$G$305, 0)), \"\"))","v":""},0,0]
[null,null,null,"NGGT.TO","ADJR",2026,"NGGT.TO_ADJR_2026",90,"2026-03-31","£m nominal",null,{"$f":"IF($I119 = $J$15, AR!AP$12,\n  IF($I119 < $J$15, INDEX(SavedResults!L$19:L$305, MATCH($G119, SavedResults!$G$19:$G$305, 0)), \"\"))","v":""},{"$f":"IF($I119 = $J$15, AR!AQ$12,\n  IF($I119 < $J$15, INDEX(SavedResults!M$19:M$305, MATCH($G119, SavedResults!$G$19:$G$305, 0)), \"\"))","v":""},{"$f":"IF($I119 = $J$15, AR!AR$12,\n  IF($I119 < $J$15, INDEX(SavedResults!N$19:N$305, MATCH($G119, SavedResults!$G$19:$G$305, 0)), \"\"))","v":""},{"$f":"IF($I119 = $J$15, AR!AS$12,\n  IF($I119 < $J$15, INDEX(SavedResults!O$19:O$305, MATCH($G119, SavedResults!$G$19:$G$305, 0)), \"\"))","v":""},{"$f":"IF($I119 = $J$15, AR!AT$12,\n  IF($I119 < $J$15, INDEX(SavedResults!P$19:P$305, MATCH($G119, SavedResults!$G$19:$G$305, 0)), \"\"))","v":""},0,0]
[null,null,null,"NGGT.TO","ADJR",2027,"NGGT.TO_ADJR_2027",91,"2027-03-31","£m nominal",null,{"$f":"IF($I120 = $J$15, AR!AP$12,\n  IF($I120 < $J$15, INDEX(SavedResults!L$19:L$305, MATCH($G120, SavedResults!$G$19:$G$305, 0)), \"\"))","v":""},{"$f":"IF($I120 = $J$15, AR!AQ$12,\n  IF($I120 < $J$15, INDEX(SavedResults!M$19:M$305, MATCH($G120, SavedResults!$G$19:$G$305, 0)), \"\"))","v":""},{"$f":"IF($I120 = $J$15, AR!AR$12,\n  IF($I120 < $J$15, INDEX(SavedResults!N$19:N$305, MATCH($G120, SavedResults!$G$19:$G$305, 0)), \"\"))","v":""},{"$f":"IF($I120 = $J$15, AR!AS$12,\n  IF($I120 < $J$15, INDEX(SavedResults!O$19:O$305, MATCH($G120, SavedResults!$G$19:$G$305, 0)), \"\"))","v":""},{"$f":"IF($I120 = $J$15, AR!AT$12,\n  IF($I120 < $J$15, INDEX(SavedResults!P$19:P$305, MATCH($G120, SavedResults!$G$19:$G$305, 0)), \"\"))","v":""},0,0]
[null,null,null,"NGGT.TO","ADJR",2028,"NGGT.TO_ADJR_2028",92,"2028-03-31","£m nominal",null,{"$f":"IF($I121 = $J$15, AR!AP$12,\n  IF($I121 < $J$15, INDEX(SavedResults!L$19:L$305, MATCH($G121, SavedResults!$G$19:$G$305, 0)), \"\"))","v":""},{"$f":"IF($I121 = $J$15, AR!AQ$12,\n  IF($I121 < $J$15, INDEX(SavedResults!M$19:M$305, MATCH($G121, SavedResults!$G$19:$G$305, 0)), \"\"))","v":""},{"$f":"IF($I121 = $J$15, AR!AR$12,\n  IF($I121 < $J$15, INDEX(SavedResults!N$19:N$305, MATCH($G121, SavedResults!$G$19:$G$305, 0)), \"\"))","v":""},{"$f":"IF($I121 = $J$15, AR!AS$12,\n  IF($I121 < $J$15, INDEX(SavedResults!O$19:O$305, MATCH($G121, SavedResults!$G$19:$G$305, 0)), \"\"))","v":""},{"$f":"IF($I121 = $J$15, AR!AT$12,\n  IF($I121 < $J$15, INDEX(SavedResults!P$19:P$305, MATCH($G121, SavedResults!$G$19:$G$305, 0)), \"\"))","v":""},0,0]
[null,null,null,null,null,null,null,null,"Legacy allowed revenue",null,"LARt"]
[null,null,null,"NGGT.TO","LAR",2022,{"$f":"D123&\"_\"&E123&\"_\"&F123","v":"NGGT.TO_LAR_2022"},{"$f":"MAX(H$19:H122) + 1","v":93},"2022-03-31","£m nominal",null,{"$f":"IF($I123 = $J$15, AR!AP$14,\n  IF($I123 < $J$15, INDEX(SavedResults!L$19:L$305, MATCH($G123, SavedResults!$G$19:$G$305, 0)), \"\"))","v":27.198792144589724},{"$f":"IF($I123 = $J$15, AR!AQ$14,\n  IF($I123 < $J$15, INDEX(SavedResults!M$19:M$305, MATCH($G123, SavedResults!$G$19:$G$305, 0)), \"\"))","v":-10.151751447803129},{"$f":"IF($I123 = $J$15, AR!AR$14,\n  IF($I123 < $J$15, INDEX(SavedResults!N$19:N$305, MATCH($G123, SavedResults!$G$19:$G$305, 0)), \"\"))","v":0},{"$f":"IF($I123 = $J$15, AR!AS$14,\n  IF($I123 < $J$15, INDEX(SavedResults!O$19:O$305, MATCH($G123, SavedResults!$G$19:$G$305, 0)), \"\"))","v":0},{"$f":"IF($I123 = $J$15, AR!AT$14,\n  IF($I123 < $J$15, INDEX(SavedResults!P$19:P$305, MATCH($G123, SavedResults!$G$19:$G$305, 0)), \"\"))","v":0},{"$f":"SUM($L123:$P123)","v":17.047040696786596},{"$f":"IFERROR( AVERAGE($L123:$P123), 0)","v":3.409408139357319}]
[null,null,null,"NGGT.TO","LAR",2023,"NGGT.TO_LAR_2023",{"$f":"H123 + 1","v":94},"2023-03-31","£m nominal",null,{"$f":"IF($I124 = $J$15, AR!AP$14,\n  IF($I124 < $J$15, INDEX(SavedResults!L$19:L$305, MATCH($G124, SavedResults!$G$19:$G$305, 0)), \"\"))","v":""},{"$f":"IF($I124 = $J$15, AR!AQ$14,\n  IF($I124 < $J$15, INDEX(SavedResults!M$19:M$305, MATCH($G124, SavedResults!$G$19:$G$305, 0)), \"\"))","v":""},{"$f":"IF($I124 = $J$15, AR!AR$14,\n  IF($I124 < $J$15, INDEX(SavedResults!N$19:N$305, MATCH($G124, SavedResults!$G$19:$G$305, 0)), \"\"))","v":""},{"$f":"IF($I124 = $J$15, AR!AS$14,\n  IF($I124 < $J$15, INDEX(SavedResults!O$19:O$305, MATCH($G124, SavedResults!$G$19:$G$305, 0)), \"\"))","v":""},{"$f":"IF($I124 = $J$15, AR!AT$14,\n  IF($I124 < $J$15, INDEX(SavedResults!P$19:P$305, MATCH($G124, SavedResults!$G$19:$G$305, 0)), \"\"))","v":""},0,0]
[null,null,null,"NGGT.TO","LAR",2024,"NGGT.TO_LAR_2024",{"$f":"H124 + 1","v":95},"2024-03-31","£m nominal",null,{"$f":"IF($I125 = $J$15, AR!AP$14,\n  IF($I125 < $J$15, INDEX(SavedResults!L$19:L$305, MATCH($G125, SavedResults!$G$19:$G$305, 0)), \"\"))","v":""},{"$f":"IF($I125 = $J$15, AR!AQ$14,\n  IF($I125 < $J$15, INDEX(SavedResults!M$19:M$305, MATCH($G125, SavedResults!$G$19:$G$305, 0)), \"\"))","v":""},{"$f":"IF($I125 = $J$15, AR!AR$14,\n  IF($I125 < $J$15, INDEX(SavedResults!N$19:N$305, MATCH($G125, SavedResults!$G$19:$G$305, 0)), \"\"))","v":""},{"$f":"IF($I125 = $J$15, AR!AS$14,\n  IF($I125 < $J$15, INDEX(SavedResults!O$19:O$305, MATCH($G125, SavedResults!$G$19:$G$305, 0)), \"\"))","v":""},{"$f":"IF($I125 = $J$15, AR!AT$14,\n  IF($I125 < $J$15, INDEX(SavedResults!P$19:P$305, MATCH($G125, SavedResults!$G$19:$G$305, 0)), \"\"))","v":""},0,0]
[null,null,null,"NGGT.TO","LAR",2025,"NGGT.TO_LAR_2025",96,"2025-03-31","£m nominal",null,{"$f":"IF($I126 = $J$15, AR!AP$14,\n  IF($I126 < $J$15, INDEX(SavedResults!L$19:L$305, MATCH($G126, SavedResults!$G$19:$G$305, 0)), \"\"))","v":""},{"$f":"IF($I126 = $J$15, AR!AQ$14,\n  IF($I126 < $J$15, INDEX(SavedResults!M$19:M$305, MATCH($G126, SavedResults!$G$19:$G$305, 0)), \"\"))","v":""},{"$f":"IF($I126 = $J$15, AR!AR$14,\n  IF($I126 < $J$15, INDEX(SavedResults!N$19:N$305, MATCH($G126, SavedResults!$G$19:$G$305, 0)), \"\"))","v":""},{"$f":"IF($I126 = $J$15, AR!AS$14,\n  IF($I126 < $J$15, INDEX(SavedResults!O$19:O$305, MATCH($G126, SavedResults!$G$19:$G$305, 0)), \"\"))","v":""},{"$f":"IF($I126 = $J$15, AR!AT$14,\n  IF($I126 < $J$15, INDEX(SavedResults!P$19:P$305, MATCH($G126, SavedResults!$G$19:$G$305, 0)), \"\"))","v":""},0,0]
[null,null,null,"NGGT.TO","LAR",2026,"NGGT.TO_LAR_2026",97,"2026-03-31","£m nominal",null,{"$f":"IF($I127 = $J$15, AR!AP$14,\n  IF($I127 < $J$15, INDEX(SavedResults!L$19:L$305, MATCH($G127, SavedResults!$G$19:$G$305, 0)), \"\"))","v":""},{"$f":"IF($I127 = $J$15, AR!AQ$14,\n  IF($I127 < $J$15, INDEX(SavedResults!M$19:M$305, MATCH($G127, SavedResults!$G$19:$G$305, 0)), \"\"))","v":""},{"$f":"IF($I127 = $J$15, AR!AR$14,\n  IF($I127 < $J$15, INDEX(SavedResults!N$19:N$305, MATCH($G127, SavedResults!$G$19:$G$305, 0)), \"\"))","v":""},{"$f":"IF($I127 = $J$15, AR!AS$14,\n  IF($I127 < $J$15, INDEX(SavedResults!O$19:O$305, MATCH($G127, SavedResults!$G$19:$G$305, 0)), \"\"))","v":""},{"$f":"IF($I127 = $J$15, AR!AT$14,\n  IF($I127 < $J$15, INDEX(SavedResults!P$19:P$305, MATCH($G127, SavedResults!$G$19:$G$305, 0)), \"\"))","v":""},0,0]
[null,null,null,"NGGT.TO","LAR",2027,"NGGT.TO_LAR_2027",98,"2027-03-31","£m nominal",null,{"$f":"IF($I128 = $J$15, AR!AP$14,\n  IF($I128 < $J$15, INDEX(SavedResults!L$19:L$305, MATCH($G128, SavedResults!$G$19:$G$305, 0)), \"\"))","v":""},{"$f":"IF($I128 = $J$15, AR!AQ$14,\n  IF($I128 < $J$15, INDEX(SavedResults!M$19:M$305, MATCH($G128, SavedResults!$G$19:$G$305, 0)), \"\"))","v":""},{"$f":"IF($I128 = $J$15, AR!AR$14,\n  IF($I128 < $J$15, INDEX(SavedResults!N$19:N$305, MATCH($G128, SavedResults!$G$19:$G$305, 0)), \"\"))","v":""},{"$f":"IF($I128 = $J$15, AR!AS$14,\n  IF($I128 < $J$15, INDEX(SavedResults!O$19:O$305, MATCH($G128, SavedResults!$G$19:$G$305, 0)), \"\"))","v":""},{"$f":"IF($I128 = $J$15, AR!AT$14,\n  IF($I128 < $J$15, INDEX(SavedResults!P$19:P$305, MATCH($G128, SavedResults!$G$19:$G$305, 0)), \"\"))","v":""},0,0]
[null,null,null,"NGGT.TO","LAR",2028,"NGGT.TO_LAR_2028",99,"2028-03-31","£m nominal",null,{"$f":"IF($I129 = $J$15, AR!AP$14,\n  IF($I129 < $J$15, INDEX(SavedResults!L$19:L$305, MATCH($G129, SavedResults!$G$19:$G$305, 0)), \"\"))","v":""},{"$f":"IF($I129 = $J$15, AR!AQ$14,\n  IF($I129 < $J$15, INDEX(SavedResults!M$19:M$305, MATCH($G129, SavedResults!$G$19:$G$305, 0)), \"\"))","v":""},{"$f":"IF($I129 = $J$15, AR!AR$14,\n  IF($I129 < $J$15, INDEX(SavedResults!N$19:N$305, MATCH($G129, SavedResults!$G$19:$G$305, 0)), \"\"))","v":""},{"$f":"IF($I129 = $J$15, AR!AS$14,\n  IF($I129 < $J$15, INDEX(SavedResults!O$19:O$305, MATCH($G129, SavedResults!$G$19:$G$305, 0)), \"\"))","v":""},{"$f":"IF($I129 = $J$15, AR!AT$14,\n  IF($I129 < $J$15, INDEX(SavedResults!P$19:P$305, MATCH($G129, SavedResults!$G$19:$G$305, 0)), \"\"))","v":""},0,0]
[null,null,null,null,null,null,null,null,"Correction term",null,"Kt"]
[null,null,null,"NGGT.TO","K",2022,{"$f":"D131&\"_\"&E131&\"_\"&F131","v":"NGGT.TO_K_2022"},{"$f":"MAX(H$19:H130) + 1","v":100},"2022-03-31","£m nominal",null,{"$f":"IF($I131 = $J$15, AR!AP$15,\n  IF($I131 < $J$15, INDEX(SavedResults!L$19:L$305, MATCH($G131, SavedResults!$G$19:$G$305, 0)), \"\"))","v":206.22453562446498},{"$f":"IF($I131 = $J$15, AR!AQ$15,\n  IF($I131 < $J$15, INDEX(SavedResults!M$19:M$305, MATCH($G131, SavedResults!$G$19:$G$305, 0)), \"\"))","v":0},{"$f":"IF($I131 = $J$15, AR!AR$15,\n  IF($I131 < $J$15, INDEX(SavedResults!N$19:N$305, MATCH($G131, SavedResults!$G$19:$G$305, 0)), \"\"))","v":0},{"$f":"IF($I131 = $J$15, AR!AS$15,\n  IF($I131 < $J$15, INDEX(SavedResults!O$19:O$305, MATCH($G131, SavedResults!$G$19:$G$305, 0)), \"\"))","v":0},{"$f":"IF($I131 = $J$15, AR!AT$15,\n  IF($I131 < $J$15, INDEX(SavedResults!P$19:P$305, MATCH($G131, SavedResults!$G$19:$G$305, 0)), \"\"))","v":0},{"$f":"SUM($L131:$P131)","v":206.22453562446498},{"$f":"IFERROR( AVERAGE($L131:$P131), 0)","v":41.244907124892997}]
[null,null,null,"NGGT.TO","K",2023,"NGGT.TO_K_2023",{"$f":"H131 + 1","v":101},"2023-03-31","£m nominal",null,{"$f":"IF($I132 = $J$15, AR!AP$15,\n  IF($I132 < $J$15, INDEX(SavedResults!L$19:L$305, MATCH($G132, SavedResults!$G$19:$G$305, 0)), \"\"))","v":""},{"$f":"IF($I132 = $J$15, AR!AQ$15,\n  IF($I132 < $J$15, INDEX(SavedResults!M$19:M$305, MATCH($G132, SavedResults!$G$19:$G$305, 0)), \"\"))","v":""},{"$f":"IF($I132 = $J$15, AR!AR$15,\n  IF($I132 < $J$15, INDEX(SavedResults!N$19:N$305, MATCH($G132, SavedResults!$G$19:$G$305, 0)), \"\"))","v":""},{"$f":"IF($I132 = $J$15, AR!AS$15,\n  IF($I132 < $J$15, INDEX(SavedResults!O$19:O$305, MATCH($G132, SavedResults!$G$19:$G$305, 0)), \"\"))","v":""},{"$f":"IF($I132 = $J$15, AR!AT$15,\n  IF($I132 < $J$15, INDEX(SavedResults!P$19:P$305, MATCH($G132, SavedResults!$G$19:$G$305, 0)), \"\"))","v":""},0,0]
[null,null,null,"NGGT.TO","K",2024,"NGGT.TO_K_2024",{"$f":"H132 + 1","v":102},"2024-03-31","£m nominal",null,{"$f":"IF($I133 = $J$15, AR!AP$15,\n  IF($I133 < $J$15, INDEX(SavedResults!L$19:L$305, MATCH($G133, SavedResults!$G$19:$G$305, 0)), \"\"))","v":""},{"$f":"IF($I133 = $J$15, AR!AQ$15,\n  IF($I133 < $J$15, INDEX(SavedResults!M$19:M$305, MATCH($G133, SavedResults!$G$19:$G$305, 0)), \"\"))","v":""},{"$f":"IF($I133 = $J$15, AR!AR$15,\n  IF($I133 < $J$15, INDEX(SavedResults!N$19:N$305, MATCH($G133, SavedResults!$G$19:$G$305, 0)), \"\"))","v":""},{"$f":"IF($I133 = $J$15, AR!AS$15,\n  IF($I133 < $J$15, INDEX(SavedResults!O$19:O$305, MATCH($G133, SavedResults!$G$19:$G$305, 0)), \"\"))","v":""},{"$f":"IF($I133 = $J$15, AR!AT$15,\n  IF($I133 < $J$15, INDEX(SavedResults!P$19:P$305, MATCH($G133, SavedResults!$G$19:$G$305, 0)), \"\"))","v":""},0,0]
[null,null,null,"NGGT.TO","K",2025,"NGGT.TO_K_2025",103,"2025-03-31","£m nominal",null,{"$f":"IF($I134 = $J$15, AR!AP$15,\n  IF($I134 < $J$15, INDEX(SavedResults!L$19:L$305, MATCH($G134, SavedResults!$G$19:$G$305, 0)), \"\"))","v":""},{"$f":"IF($I134 = $J$15, AR!AQ$15,\n  IF($I134 < $J$15, INDEX(SavedResults!M$19:M$305, MATCH($G134, SavedResults!$G$19:$G$305, 0)), \"\"))","v":""},{"$f":"IF($I134 = $J$15, AR!AR$15,\n  IF($I134 < $J$15, INDEX(SavedResults!N$19:N$305, MATCH($G134, SavedResults!$G$19:$G$305, 0)), \"\"))","v":""},{"$f":"IF($I134 = $J$15, AR!AS$15,\n  IF($I134 < $J$15, INDEX(SavedResults!O$19:O$305, MATCH($G134, SavedResults!$G$19:$G$305, 0)), \"\"))","v":""},{"$f":"IF($I134 = $J$15, AR!AT$15,\n  IF($I134 < $J$15, INDEX(SavedResults!P$19:P$305, MATCH($G134, SavedResults!$G$19:$G$305, 0)), \"\"))","v":""},0,0]
[null,null,null,"NGGT.TO","K",2026,"NGGT.TO_K_2026",104,"2026-03-31","£m nominal",null,{"$f":"IF($I135 = $J$15, AR!AP$15,\n  IF($I135 < $J$15, INDEX(SavedResults!L$19:L$305, MATCH($G135, SavedResults!$G$19:$G$305, 0)), \"\"))","v":""},{"$f":"IF($I135 = $J$15, AR!AQ$15,\n  IF($I135 < $J$15, INDEX(SavedResults!M$19:M$305, MATCH($G135, SavedResults!$G$19:$G$305, 0)), \"\"))","v":""},{"$f":"IF($I135 = $J$15, AR!AR$15,\n  IF($I135 < $J$15, INDEX(SavedResults!N$19:N$305, MATCH($G135, SavedResults!$G$19:$G$305, 0)), \"\"))","v":""},{"$f":"IF($I135 = $J$15, AR!AS$15,\n  IF($I135 < $J$15, INDEX(SavedResults!O$19:O$305, MATCH($G135, SavedResults!$G$19:$G$305, 0)), \"\"))","v":""},{"$f":"IF($I135 = $J$15, AR!AT$15,\n  IF($I135 < $J$15, INDEX(SavedResults!P$19:P$305, MATCH($G135, SavedResults!$G$19:$G$305, 0)), \"\"))","v":""},0,0]
[null,null,null,"NGGT.TO","K",2027,"NGGT.TO_K_2027",105,"2027-03-31","£m nominal",null,{"$f":"IF($I136 = $J$15, AR!AP$15,\n  IF($I136 < $J$15, INDEX(SavedResults!L$19:L$305, MATCH($G136, SavedResults!$G$19:$G$305, 0)), \"\"))","v":""},{"$f":"IF($I136 = $J$15, AR!AQ$15,\n  IF($I136 < $J$15, INDEX(SavedResults!M$19:M$305, MATCH($G136, SavedResults!$G$19:$G$305, 0)), \"\"))","v":""},{"$f":"IF($I136 = $J$15, AR!AR$15,\n  IF($I136 < $J$15, INDEX(SavedResults!N$19:N$305, MATCH($G136, SavedResults!$G$19:$G$305, 0)), \"\"))","v":""},{"$f":"IF($I136 = $J$15, AR!AS$15,\n  IF($I136 < $J$15, INDEX(SavedResults!O$19:O$305, MATCH($G136, SavedResults!$G$19:$G$305, 0)), \"\"))","v":""},{"$f":"IF($I136 = $J$15, AR!AT$15,\n  IF($I136 < $J$15, INDEX(SavedResults!P$19:P$305, MATCH($G136, SavedResults!$G$19:$G$305, 0)), \"\"))","v":""},0,0]
[null,null,null,"NGGT.TO","K",2028,"NGGT.TO_K_2028",106,"2028-03-31","£m nominal",null,{"$f":"IF($I137 = $J$15, AR!AP$15,\n  IF($I137 < $J$15, INDEX(SavedResults!L$19:L$305, MATCH($G137, SavedResults!$G$19:$G$305, 0)), \"\"))","v":""},{"$f":"IF($I137 = $J$15, AR!AQ$15,\n  IF($I137 < $J$15, INDEX(SavedResults!M$19:M$305, MATCH($G137, SavedResults!$G$19:$G$305, 0)), \"\"))","v":""},{"$f":"IF($I137 = $J$15, AR!AR$15,\n  IF($I137 < $J$15, INDEX(SavedResults!N$19:N$305, MATCH($G137, SavedResults!$G$19:$G$305, 0)), \"\"))","v":""},{"$f":"IF($I137 = $J$15, AR!AS$15,\n  IF($I137 < $J$15, INDEX(SavedResults!O$19:O$305, MATCH($G137, SavedResults!$G$19:$G$305, 0)), \"\"))","v":""},{"$f":"IF($I137 = $J$15, AR!AT$15,\n  IF($I137 < $J$15, INDEX(SavedResults!P$19:P$305, MATCH($G137, SavedResults!$G$19:$G$305, 0)), \"\"))","v":""},0,0]
[null,null,null,null,null,null,null,null,"Allowed revenue",null,"ARt"]
[null,null,null,"NGGT.TO","AR",2022,{"$f":"D139&\"_\"&E139&\"_\"&F139","v":"NGGT.TO_AR_2022"},{"$f":"MAX(H$19:H138) + 1","v":107},"2022-03-31","£m nominal",null,{"$f":"IF($I139 = $J$15, AR!AP$16,\n  IF($I139 < $J$15, INDEX(SavedResults!L$19:L$305, MATCH($G139, SavedResults!$G$19:$G$305, 0)), \"\"))","v":1073.8782806872432},{"$f":"IF($I139 = $J$15, AR!AQ$16,\n  IF($I139 < $J$15, INDEX(SavedResults!M$19:M$305, MATCH($G139, SavedResults!$G$19:$G$305, 0)), \"\"))","v":850.03476250364395},{"$f":"IF($I139 = $J$15, AR!AR$16,\n  IF($I139 < $J$15, INDEX(SavedResults!N$19:N$305, MATCH($G139, SavedResults!$G$19:$G$305, 0)), \"\"))","v":901.70697595724141},{"$f":"IF($I139 = $J$15, AR!AS$16,\n  IF($I139 < $J$15, INDEX(SavedResults!O$19:O$305, MATCH($G139, SavedResults!$G$19:$G$305, 0)), \"\"))","v":843.18807614321645},{"$f":"IF($I139 = $J$15, AR!AT$16,\n  IF($I139 < $J$15, INDEX(SavedResults!P$19:P$305, MATCH($G139, SavedResults!$G$19:$G$305, 0)), \"\"))","v":851.13336584025285},4519.9414611315979,903.98829222631957]
[null,null,null,"NGGT.TO","AR",2023,"NGGT.TO_AR_2023",{"$f":"H139 + 1","v":108},"2023-03-31","£m nominal",null,{"$f":"IF($I140 = $J$15, AR!AP$16,\n  IF($I140 < $J$15, INDEX(SavedResults!L$19:L$305, MATCH($G140, SavedResults!$G$19:$G$305, 0)), \"\"))","v":""},{"$f":"IF($I140 = $J$15, AR!AQ$16,\n  IF($I140 < $J$15, INDEX(SavedResults!M$19:M$305, MATCH($G140, SavedResults!$G$19:$G$305, 0)), \"\"))","v":""},{"$f":"IF($I140 = $J$15, AR!AR$16,\n  IF($I140 < $J$15, INDEX(SavedResults!N$19:N$305, MATCH($G140, SavedResults!$G$19:$G$305, 0)), \"\"))","v":""},{"$f":"IF($I140 = $J$15, AR!AS$16,\n  IF($I140 < $J$15, INDEX(SavedResults!O$19:O$305, MATCH($G140, SavedResults!$G$19:$G$305, 0)), \"\"))","v":""},{"$f":"IF($I140 = $J$15, AR!AT$16,\n  IF($I140 < $J$15, INDEX(SavedResults!P$19:P$305, MATCH($G140, SavedResults!$G$19:$G$305, 0)), \"\"))","v":""},0,0]
[null,null,null,"NGGT.TO","AR",2024,"NGGT.TO_AR_2024",{"$f":"H140 + 1","v":109},"2024-03-31","£m nominal",null,{"$f":"IF($I141 = $J$15, AR!AP$16,\n  IF($I141 < $J$15, INDEX(SavedResults!L$19:L$305, MATCH($G141, SavedResults!$G$19:$G$305, 0)), \"\"))","v":""},{"$f":"IF($I141 = $J$15, AR!AQ$16,\n  IF($I141 < $J$15, INDEX(SavedResults!M$19:M$305, MATCH($G141, SavedResults!$G$19:$G$305, 0)), \"\"))","v":""},{"$f":"IF($I141 = $J$15, AR!AR$16,\n  IF($I141 < $J$15, INDEX(SavedResults!N$19:N$305, MATCH($G141, SavedResults!$G$19:$G$305, 0)), \"\"))","v":""},{"$f":"IF($I141 = $J$15, AR!AS$16,\n  IF($I141 < $J$15, INDEX(SavedResults!O$19:O$305, MATCH($G141, SavedResults!$G$19:$G$305, 0)), \"\"))","v":""},{"$f":"IF($I141 = $J$15, AR!AT$16,\n  IF($I141 < $J$15, INDEX(SavedResults!P$19:P$305, MATCH($G141, SavedResults!$G$19:$G$305, 0)), \"\"))","v":""},0,0]
[null,null,null,"NGGT.TO","AR",2025,"NGGT.TO_AR_2025",110,"2025-03-31","£m nominal",null,{"$f":"IF($I142 = $J$15, AR!AP$16,\n  IF($I142 < $J$15, INDEX(SavedResults!L$19:L$305, MATCH($G142, SavedResults!$G$19:$G$305, 0)), \"\"))","v":""},{"$f":"IF($I142 = $J$15, AR!AQ$16,\n  IF($I142 < $J$15, INDEX(SavedResults!M$19:M$305, MATCH($G142, SavedResults!$G$19:$G$305, 0)), \"\"))","v":""},{"$f":"IF($I142 = $J$15, AR!AR$16,\n  IF($I142 < $J$15, INDEX(SavedResults!N$19:N$305, MATCH($G142, SavedResults!$G$19:$G$305, 0)), \"\"))","v":""},{"$f":"IF($I142 = $J$15, AR!AS$16,\n  IF($I142 < $J$15, INDEX(SavedResults!O$19:O$305, MATCH($G142, SavedResults!$G$19:$G$305, 0)), \"\"))","v":""},{"$f":"IF($I142 = $J$15, AR!AT$16,\n  IF($I142 < $J$15, INDEX(SavedResults!P$19:P$305, MATCH($G142, SavedResults!$G$19:$G$305, 0)), \"\"))","v":""},0,0]
[null,null,null,"NGGT.TO","AR",2026,"NGGT.TO_AR_2026",111,"2026-03-31","£m nominal",null,{"$f":"IF($I143 = $J$15, AR!AP$16,\n  IF($I143 < $J$15, INDEX(SavedResults!L$19:L$305, MATCH($G143, SavedResults!$G$19:$G$305, 0)), \"\"))","v":""},{"$f":"IF($I143 = $J$15, AR!AQ$16,\n  IF($I143 < $J$15, INDEX(SavedResults!M$19:M$305, MATCH($G143, SavedResults!$G$19:$G$305, 0)), \"\"))","v":""},{"$f":"IF($I143 = $J$15, AR!AR$16,\n  IF($I143 < $J$15, INDEX(SavedResults!N$19:N$305, MATCH($G143, SavedResults!$G$19:$G$305, 0)), \"\"))","v":""},{"$f":"IF($I143 = $J$15, AR!AS$16,\n  IF($I143 < $J$15, INDEX(SavedResults!O$19:O$305, MATCH($G143, SavedResults!$G$19:$G$305, 0)), \"\"))","v":""},{"$f":"IF($I143 = $J$15, AR!AT$16,\n  IF($I143 < $J$15, INDEX(SavedResults!P$19:P$305, MATCH($G143, SavedResults!$G$19:$G$305, 0)), \"\"))","v":""},0,0]
[null,null,null,"NGGT.TO","AR",2027,"NGGT.TO_AR_2027",112,"2027-03-31","£m nominal",null,{"$f":"IF($I144 = $J$15, AR!AP$16,\n  IF($I144 < $J$15, INDEX(SavedResults!L$19:L$305, MATCH($G144, SavedResults!$G$19:$G$305, 0)), \"\"))","v":""},{"$f":"IF($I144 = $J$15, AR!AQ$16,\n  IF($I144 < $J$15, INDEX(SavedResults!M$19:M$305, MATCH($G144, SavedResults!$G$19:$G$305, 0)), \"\"))","v":""},{"$f":"IF($I144 = $J$15, AR!AR$16,\n  IF($I144 < $J$15, INDEX(SavedResults!N$19:N$305, MATCH($G144, SavedResults!$G$19:$G$305, 0)), \"\"))","v":""},{"$f":"IF($I144 = $J$15, AR!AS$16,\n  IF($I144 < $J$15, INDEX(SavedResults!O$19:O$305, MATCH($G144, SavedResults!$G$19:$G$305, 0)), \"\"))","v":""},{"$f":"IF($I144 = $J$15, AR!AT$16,\n  IF($I144 < $J$15, INDEX(SavedResults!P$19:P$305, MATCH($G144, SavedResults!$G$19:$G$305, 0)), \"\"))","v":""},0,0]
[null,null,null,"NGGT.TO","AR",2028,"NGGT.TO_AR_2028",113,"2028-03-31","£m nominal",null,{"$f":"IF($I145 = $J$15, AR!AP$16,\n  IF($I145 < $J$15, INDEX(SavedResults!L$19:L$305, MATCH($G145, SavedResults!$G$19:$G$305, 0)), \"\"))","v":""},{"$f":"IF($I145 = $J$15, AR!AQ$16,\n  IF($I145 < $J$15, INDEX(SavedResults!M$19:M$305, MATCH($G145, SavedResults!$G$19:$G$305, 0)), \"\"))","v":""},{"$f":"IF($I145 = $J$15, AR!AR$16,\n  IF($I145 < $J$15, INDEX(SavedResults!N$19:N$305, MATCH($G145, SavedResults!$G$19:$G$305, 0)), \"\"))","v":""},{"$f":"IF($I145 = $J$15, AR!AS$16,\n  IF($I145 < $J$15, INDEX(SavedResults!O$19:O$305, MATCH($G145, SavedResults!$G$19:$G$305, 0)), \"\"))","v":""},{"$f":"IF($I145 = $J$15, AR!AT$16,\n  IF($I145 < $J$15, INDEX(SavedResults!P$19:P$305, MATCH($G145, SavedResults!$G$19:$G$305, 0)), \"\"))","v":""},0,0]
[null,null,null,null,null,null,null,null,"Recovered revenue",null,"RRt"]
[null,null,null,"NGGT.TO","RR",2022,{"$f":"D147&\"_\"&E147&\"_\"&F147","v":"NGGT.TO_RR_2022"},{"$f":"MAX(H$19:H146) + 1","v":114},"2022-03-31","£m nominal",null,{"$f":"IF($I147 = $J$15, AR!AP$18,\n  IF($I147 < $J$15, INDEX(SavedResults!L$19:L$305, MATCH($G147, SavedResults!$G$19:$G$305, 0)), \"\"))","v":0},{"$f":"IF($I147 = $J$15, AR!AQ$18,\n  IF($I147 < $J$15, INDEX(SavedResults!M$19:M$305, MATCH($G147, SavedResults!$G$19:$G$305, 0)), \"\"))","v":0},{"$f":"IF($I147 = $J$15, AR!AR$18,\n  IF($I147 < $J$15, INDEX(SavedResults!N$19:N$305, MATCH($G147, SavedResults!$G$19:$G$305, 0)), \"\"))","v":0},{"$f":"IF($I147 = $J$15, AR!AS$18,\n  IF($I147 < $J$15, INDEX(SavedResults!O$19:O$305, MATCH($G147, SavedResults!$G$19:$G$305, 0)), \"\"))","v":0},{"$f":"IF($I147 = $J$15, AR!AT$18,\n  IF($I147 < $J$15, INDEX(SavedResults!P$19:P$305, MATCH($G147, SavedResults!$G$19:$G$305, 0)), \"\"))","v":0},0,0]
[null,null,null,"NGGT.TO","RR",2023,"NGGT.TO_RR_2023",{"$f":"H147 + 1","v":115},"2023-03-31","£m nominal",null,{"$f":"IF($I148 = $J$15, AR!AP$18,\n  IF($I148 < $J$15, INDEX(SavedResults!L$19:L$305, MATCH($G148, SavedResults!$G$19:$G$305, 0)), \"\"))","v":""},{"$f":"IF($I148 = $J$15, AR!AQ$18,\n  IF($I148 < $J$15, INDEX(SavedResults!M$19:M$305, MATCH($G148, SavedResults!$G$19:$G$305, 0)), \"\"))","v":""},{"$f":"IF($I148 = $J$15, AR!AR$18,\n  IF($I148 < $J$15, INDEX(SavedResults!N$19:N$305, MATCH($G148, SavedResults!$G$19:$G$305, 0)), \"\"))","v":""},{"$f":"IF($I148 = $J$15, AR!AS$18,\n  IF($I148 < $J$15, INDEX(SavedResults!O$19:O$305, MATCH($G148, SavedResults!$G$19:$G$305, 0)), \"\"))","v":""},{"$f":"IF($I148 = $J$15, AR!AT$18,\n  IF($I148 < $J$15, INDEX(SavedResults!P$19:P$305, MATCH($G148, SavedResults!$G$19:$G$305, 0)), \"\"))","v":""},0,0]
[null,null,null,"NGGT.TO","RR",2024,"NGGT.TO_RR_2024",{"$f":"H148 + 1","v":116},"2024-03-31","£m nominal",null,{"$f":"IF($I149 = $J$15, AR!AP$18,\n  IF($I149 < $J$15, INDEX(SavedResults!L$19:L$305, MATCH($G149, SavedResults!$G$19:$G$305, 0)), \"\"))","v":""},{"$f":"IF($I149 = $J$15, AR!AQ$18,\n  IF($I149 < $J$15, INDEX(SavedResults!M$19:M$305, MATCH($G149, SavedResults!$G$19:$G$305, 0)), \"\"))","v":""},{"$f":"IF($I149 = $J$15, AR!AR$18,\n  IF($I149 < $J$15, INDEX(SavedResults!N$19:N$305, MATCH($G149, SavedResults!$G$19:$G$305, 0)), \"\"))","v":""},{"$f":"IF($I149 = $J$15, AR!AS$18,\n  IF($I149 < $J$15, INDEX(SavedResults!O$19:O$305, MATCH($G149, SavedResults!$G$19:$G$305, 0)), \"\"))","v":""},{"$f":"IF($I149 = $J$15, AR!AT$18,\n  IF($I149 < $J$15, INDEX(SavedResults!P$19:P$305, MATCH($G149, SavedResults!$G$19:$G$305, 0)), \"\"))","v":""},0,0]
[null,null,null,"NGGT.TO","RR",2025,"NGGT.TO_RR_2025",117,"2025-03-31","£m nominal",null,{"$f":"IF($I150 = $J$15, AR!AP$18,\n  IF($I150 < $J$15, INDEX(SavedResults!L$19:L$305, MATCH($G150, SavedResults!$G$19:$G$305, 0)), \"\"))","v":""},{"$f":"IF($I150 = $J$15, AR!AQ$18,\n  IF($I150 < $J$15, INDEX(SavedResults!M$19:M$305, MATCH($G150, SavedResults!$G$19:$G$305, 0)), \"\"))","v":""},{"$f":"IF($I150 = $J$15, AR!AR$18,\n  IF($I150 < $J$15, INDEX(SavedResults!N$19:N$305, MATCH($G150, SavedResults!$G$19:$G$305, 0)), \"\"))","v":""},{"$f":"IF($I150 = $J$15, AR!AS$18,\n  IF($I150 < $J$15, INDEX(SavedResults!O$19:O$305, MATCH($G150, SavedResults!$G$19:$G$305, 0)), \"\"))","v":""},{"$f":"IF($I150 = $J$15, AR!AT$18,\n  IF($I150 < $J$15, INDEX(SavedResults!P$19:P$305, MATCH($G150, SavedResults!$G$19:$G$305, 0)), \"\"))","v":""},0,0]
[null,null,null,"NGGT.TO","RR",2026,"NGGT.TO_RR_2026",118,"2026-03-31","£m nominal",null,{"$f":"IF($I151 = $J$15, AR!AP$18,\n  IF($I151 < $J$15, INDEX(SavedResults!L$19:L$305, MATCH($G151, SavedResults!$G$19:$G$305, 0)), \"\"))","v":""},{"$f":"IF($I151 = $J$15, AR!AQ$18,\n  IF($I151 < $J$15, INDEX(SavedResults!M$19:M$305, MATCH($G151, SavedResults!$G$19:$G$305, 0)), \"\"))","v":""},{"$f":"IF($I151 = $J$15, AR!AR$18,\n  IF($I151 < $J$15, INDEX(SavedResults!N$19:N$305, MATCH($G151, SavedResults!$G$19:$G$305, 0)), \"\"))","v":""},{"$f":"IF($I151 = $J$15, AR!AS$18,\n  IF($I151 < $J$15, INDEX(SavedResults!O$19:O$305, MATCH($G151, SavedResults!$G$19:$G$305, 0)), \"\"))","v":""},{"$f":"IF($I151 = $J$15, AR!AT$18,\n  IF($I151 < $J$15, INDEX(SavedResults!P$19:P$305, MATCH($G151, SavedResults!$G$19:$G$305, 0)), \"\"))","v":""},0,0]
[null,null,null,"NGGT.TO","RR",2027,"NGGT.TO_RR_2027",119,"2027-03-31","£m nominal",null,{"$f":"IF($I152 = $J$15, AR!AP$18,\n  IF($I152 < $J$15, INDEX(SavedResults!L$19:L$305, MATCH($G152, SavedResults!$G$19:$G$305, 0)), \"\"))","v":""},{"$f":"IF($I152 = $J$15, AR!AQ$18,\n  IF($I152 < $J$15, INDEX(SavedResults!M$19:M$305, MATCH($G152, SavedResults!$G$19:$G$305, 0)), \"\"))","v":""},{"$f":"IF($I152 = $J$15, AR!AR$18,\n  IF($I152 < $J$15, INDEX(SavedResults!N$19:N$305, MATCH($G152, SavedResults!$G$19:$G$305, 0)), \"\"))","v":""},{"$f":"IF($I152 = $J$15, AR!AS$18,\n  IF($I152 < $J$15, INDEX(SavedResults!O$19:O$305, MATCH($G152, SavedResults!$G$19:$G$305, 0)), \"\"))","v":""},{"$f":"IF($I152 = $J$15, AR!AT$18,\n  IF($I152 < $J$15, INDEX(SavedResults!P$19:P$305, MATCH($G152, SavedResults!$G$19:$G$305, 0)), \"\"))","v":""},0,0]
[null,null,null,"NGGT.TO","RR",2028,"NGGT.TO_RR_2028",120,"2028-03-31","£m nominal",null,{"$f":"IF($I153 = $J$15, AR!AP$18,\n  IF($I153 < $J$15, INDEX(SavedResults!L$19:L$305, MATCH($G153, SavedResults!$G$19:$G$305, 0)), \"\"))","v":""},{"$f":"IF($I153 = $J$15, AR!AQ$18,\n  IF($I153 < $J$15, INDEX(SavedResults!M$19:M$305, MATCH($G153, SavedResults!$G$19:$G$305, 0)), \"\"))","v":""},{"$f":"IF($I153 = $J$15, AR!AR$18,\n  IF($I153 < $J$15, INDEX(SavedResults!N$19:N$305, MATCH($G153, SavedResults!$G$19:$G$305, 0)), \"\"))","v":""},{"$f":"IF($I153 = $J$15, AR!AS$18,\n  IF($I153 < $J$15, INDEX(SavedResults!O$19:O$305, MATCH($G153, SavedResults!$G$19:$G$305, 0)), \"\"))","v":""},{"$f":"IF($I153 = $J$15, AR!AT$18,\n  IF($I153 < $J$15, INDEX(SavedResults!P$19:P$305, MATCH($G153, SavedResults!$G$19:$G$305, 0)), \"\"))","v":""},0,0]
[null,null,null,null,null,null,null,null,"Operational performance and Return adjustment"]
[null,null,null,"NGGT.TO","OPP","TotexOPM","NGGT.TO_OPP_TotexOPM",{"$f":"MAX(H$19:H154) + 1","v":121},"Totex outperformance (operator share)","£m 18/19 prices",null,{"$f":" - (TIM!AP16 * (1 - TIM!AP18) + TIM!AP26 * (1 - TIM!AP28))","v":0},{"$f":" - (TIM!AQ16 * (1 - TIM!AQ18) + TIM!AQ26 * (1 - TIM!AQ28))","v":0},{"$f":" - (TIM!AR16 * (1 - TIM!AR18) + TIM!AR26 * (1 - TIM!AR28))","v":0},{"$f":" - (TIM!AS16 * (1 - TIM!AS18) + TIM!AS26 * (1 - TIM!AS28))","v":0},{"$f":" - (TIM!AT16 * (1 - TIM!AT18) + TIM!AT26 * (1 - TIM!AT28))","v":0},0,0]
[null,null,null,"NGGT.TO","OPP","ODI","NGGT.TO_OPP_ODI",{"$f":"H155 + 1","v":122},"Output delivery incentives","£m 18/19 prices","ODIt",{"$f":"Input!AP99","v":0},{"$f":"Input!AQ99","v":0},{"$f":"Input!AR99","v":0},{"$f":"Input!AS99","v":0},{"$f":"Input!AT99","v":0},{"$f":"SUM($L156:$P156)","v":0},{"$f":"IFERROR( AVERAGE($L156:$P156), 0)","v":0}]
[null,null,null,"NGGT.TO","OPP","NPVRAV","NGGT.TO_OPP_NPVRAV",{"$f":"H156 + 1","v":123},"NPV-neutral RAV return base","£m 18/19 prices","RAVLt (TO)",{"$f":"'Return&RAV'!AP29","v":5824.9981959757197},{"$f":"'Return&RAV'!AQ29","v":5762.1578486419248},{"$f":"'Return&RAV'!AR29","v":5735.5655778092842},{"$f":"'Return&RAV'!AS29","v":5647.999666057477},{"$f":"'Return&RAV'!AT29","v":5492.6200206361245},28463.341309120529,5692.6682618241057]
[]
[null,null,{"$f":"\"Values for \"&I163","v":"Values for NGGT SO"}]
[]
[]
[null,null,null,null,null,null,null,null,"Company","Calculated for MOD year ending",null,"File"]
[null,null,null,null,null,null,null,null,"NGGT SO",{"$f":"UserInterface!G10","v":"2022-03-31"},null,{"$f":"MID(CELL(\"filename\"),SEARCH(\"[\",CELL(\"filename\"))+1,SEARCH(\"]\",CELL(\"filename\"))-SEARCH(\"[\",CELL(\"filename\"))-1)","v":"Full Model GT2 - C01.xlsm"}]
[]
[null,null,null,null,null,null,null,null,"PCFM year ending","Unit","Licence term (if applicable)","2022-03-31","2023-03-31","2024-03-31","2025-03-31","2026-03-31","RIIO-2 Total","RIIO-2 average"]
[null,null,null,null,null,null,null,null,"Totex"]
[null,null,null,"NGGT.SO","Totex","SlowMoney",{"$f":"D167&\"_\"&E167&\"_\"&F167","v":"NGGT.SO_Totex_SlowMoney"},1,"Slow pot","£m 18/19 prices","-",{"$f":"SystemOperator!AP307","v":31.318258497106125},{"$f":"SystemOperator!AQ307","v":30.264040439814316},{"$f":"SystemOperator!AR307","v":33.435392910755425},{"$f":"SystemOperator!AS307","v":30.628646565469019},{"$f":"SystemOperator!AT307","v":26.723962025672726},{"$f":"SUM($L167:$P167)","v":152.37030043881762},{"$f":"IFERROR( AVERAGE($L167:$P167), 0)","v":30.474060087763526}]
[null,null,null,"NGGT.SO","Totex","FastMoney",{"$f":"D168&\"_\"&E168&\"_\"&F168","v":"NGGT.SO_Totex_FastMoney"},{"$f":"H167 + 1","v":2},"Fast pot","£m 18/19 prices","-",{"$f":"SystemOperator!AP305","v":60.79426649438247},{"$f":"SystemOperator!AQ305","v":58.747843206698363},{"$f":"SystemOperator!AR305","v":64.903998003231109},{"$f":"SystemOperator!AS305","v":59.455608038851608},{"$f":"SystemOperator!AT305","v":51.875926285129395},{"$f":"SUM($L168:$P168)","v":295.77764202829292},{"$f":"IFERROR( AVERAGE($L168:$P168), 0)","v":59.155528405658586}]
[null,null,null,"NGGT.SO","Totex","PostTIMTotex","NGGT.SO_Totex_PostTIMTotex",{"$f":"H168 + 1","v":3},"Post-TIM totex allowance","£m 18/19 prices","-",{"$f":"SystemOperator!AP294","v":92.112524991488598},{"$f":"SystemOperator!AQ294","v":89.011883646512686},{"$f":"SystemOperator!AR294","v":98.339390913986534},{"$f":"SystemOperator!AS294","v":90.084254604320634},{"$f":"SystemOperator!AT294","v":78.599888310802129},448.14794246711051,89.629588493422105]
[null,null,null,null,null,null,null,null,"Regulatory Asset Value (RAV)"]
[null,null,null,"NGGT.SO","RAV","OpeningBeforeTransfers",{"$f":"D171&\"_\"&E171&\"_\"&F171","v":"NGGT.SO_RAV_OpeningBeforeTransfers"},{"$f":"MAX(H$167:H170) + 1","v":4},"Opening asset value (before transfers)","£m 18/19 prices","-",{"$f":"SystemOperator!AP430","v":149.42537176334207},{"$f":"SystemOperator!AQ430","v":143.21263212398279},{"$f":"SystemOperator!AR430","v":136.79990839591292},{"$f":"SystemOperator!AS430","v":134.92447230018587},{"$f":"SystemOperator!AT430","v":130.87427582687462},null,{"$f":"IFERROR( AVERAGE($L171:$P171), 0)","v":139.04733208205965}]
[null,null,null,"NGGT.SO","RAV","Transfers","NGGT.SO_RAV_Transfers",{"$f":"H171 + 1","v":5},"Transfers","£m 18/19 prices","-",{"$f":"SystemOperator!AP431","v":0},{"$f":"SystemOperator!AQ431","v":0},{"$f":"SystemOperator!AR431","v":0},{"$f":"SystemOperator!AS431","v":0},{"$f":"SystemOperator!AT431","v":0},{"$f":"SUM($L172:$P172)","v":0},{"$f":"IFERROR( AVERAGE($L172:$P172), 0)","v":0}]
[null,null,null,"NGGT.SO","RAV","OpeningAfterTransfers","NGGT.SO_RAV_OpeningAfterTransfers",{"$f":"H172 + 1","v":6},"Opening asset value (after transfers)","£m 18/19 prices","-",{"$f":"SystemOperator!AP432","v":149.42537176334207},{"$f":"SystemOperator!AQ432","v":143.21263212398279},{"$f":"SystemOperator!AR432","v":136.79990839591292},{"$f":"SystemOperator!AS432","v":134.92447230018587},{"$f":"SystemOperator!AT432","v":130.87427582687462},null,139.04733208205965]
[null,null,null,"NGGT.SO","RAV","Additions","NGGT.SO_RAV_Additions",7,"RAV additions (after disposals)","£m 18/19 prices","-",{"$f":"SystemOperator!AP433","v":31.318258497106125},{"$f":"SystemOperator!AQ433","v":30.264040439814316},{"$f":"SystemOperator!AR433","v":33.435392910755425},{"$f":"SystemOperator!AS433","v":30.628646565469019},{"$f":"SystemOperator!AT433","v":26.723962025672726},{"$f":"SUM($L174:$P174)","v":152.37030043881762},30.474060087763526]
[null,null,null,"NGGT.SO","RAV","Depreciation","NGGT.SO_RAV_Depreciation",8,"Depreciation","£m 18/19 prices","-",{"$f":"SystemOperator!AP434","v":-37.530998136465392},{"$f":"SystemOperator!AQ434","v":-36.676764167884187},{"$f":"SystemOperator!AR434","v":-35.310829006482486},{"$f":"SystemOperator!AS434","v":-34.678843038780244},{"$f":"SystemOperator!AT434","v":-34.064191672127521},-178.26162602173983,-35.652325204347967]
[null,null,null,"NGGT.SO","RAV","Closing","NGGT.SO_RAV_Closing",9,"Closing asset value","£m 18/19 prices","-",{"$f":"SUM(L173:L175)","v":143.21263212398279},{"$f":"SUM(M173:M175)","v":136.79990839591292},134.92447230018587,130.87427582687462,123.53404618041984,null,133.86906696547521]
[null,null,null,null,null,null,null,null,"Final Proposals allowances (calculated revenue)",null,"SORt"]
[null,null,null,"NGGT.SO","FinalProposals","FM",{"$f":"D178&\"_\"&E178&\"_\"&F178","v":"NGGT.SO_FinalProposals_FM"},{"$f":"MAX(H$167:H177) + 1","v":10},"Fast money","£m 18/19 prices","SOFMt",{"$f":"IF($J$163 = $L$165, L192, INDEX(SavedResults!L$19:L$305, MATCH($G178, SavedResults!$G$19:$G$305, 0)))","v":60.79426649438247},{"$f":"IF($J$163 = $L$165, M192, INDEX(SavedResults!M$19:M$305, MATCH($G178, SavedResults!$G$19:$G$305, 0)))","v":58.747843206698363},{"$f":"IF($J$163 = $L$165, N192, INDEX(SavedResults!N$19:N$305, MATCH($G178, SavedResults!$G$19:$G$305, 0)))","v":64.903998003231109},{"$f":"IF($J$163 = $L$165, O192, INDEX(SavedResults!O$19:O$305, MATCH($G178, SavedResults!$G$19:$G$305, 0)))","v":59.455608038851608},{"$f":"IF($J$163 = $L$165, P192, INDEX(SavedResults!P$19:P$305, MATCH($G178, SavedResults!$G$19:$G$305, 0)))","v":51.875926285129395},{"$f":"SUM($L178:$P178)","v":295.77764202829292},{"$f":"IFERROR( AVERAGE($L178:$P178), 0)","v":59.155528405658586}]
[null,null,null,"NGGT.SO","FinalProposals","PT","NGGT.SO_FinalProposals_PT",{"$f":"H178 + 1","v":11},"Pass-through expenditure","£m 18/19 prices","SOPTt",{"$f":"IF($J$163 = $L$165, L193, INDEX(SavedResults!L$19:L$305, MATCH($G179, SavedResults!$G$19:$G$305, 0)))","v":5.1195957345804359},{"$f":"IF($J$163 = $L$165, M193, INDEX(SavedResults!M$19:M$305, MATCH($G179, SavedResults!$G$19:$G$305, 0)))","v":3.09552170986561},{"$f":"IF($J$163 = $L$165, N193, INDEX(SavedResults!N$19:N$305, MATCH($G179, SavedResults!$G$19:$G$305, 0)))","v":2.9643768808202462},{"$f":"IF($J$163 = $L$165, O193, INDEX(SavedResults!O$19:O$305, MATCH($G179, SavedResults!$G$19:$G$305, 0)))","v":2.4393231996197748},{"$f":"IF($J$163 = $L$165, P193, INDEX(SavedResults!P$19:P$305, MATCH($G179, SavedResults!$G$19:$G$305, 0)))","v":2.2396394429657835},{"$f":"SUM($L179:$P179)","v":15.858456967851851},{"$f":"IFERROR( AVERAGE($L179:$P179), 0)","v":3.1716913935703701}]
[null,null,null,"NGGT.SO","FinalProposals","DPN","NGGT.SO_FinalProposals_DPN",{"$f":"H179 + 1","v":12},"Depreciation","£m 18/19 prices","SODPNt",{"$f":"IF($J$163 = $L$165, L194, INDEX(SavedResults!L$19:L$305, MATCH($G180, SavedResults!$G$19:$G$305, 0)))","v":37.530998136465392},{"$f":"IF($J$163 = $L$165, M194, INDEX(SavedResults!M$19:M$305, MATCH($G180, SavedResults!$G$19:$G$305, 0)))","v":36.676764167884187},{"$f":"IF($J$163 = $L$165, N194, INDEX(SavedResults!N$19:N$305, MATCH($G180, SavedResults!$G$19:$G$305, 0)))","v":35.310829006482486},{"$f":"IF($J$163 = $L$165, O194, INDEX(SavedResults!O$19:O$305, MATCH($G180, SavedResults!$G$19:$G$305, 0)))","v":34.678843038780244},{"$f":"IF($J$163 = $L$165, P194, INDEX(SavedResults!P$19:P$305, MATCH($G180, SavedResults!$G$19:$G$305, 0)))","v":34.064191672127521},178.26162602173983,35.652325204347967]
[null,null,null,"NGGT.SO","FinalProposals","RTN","NGGT.SO_FinalProposals_RTN",13,"Return","£m 18/19 prices","SORTNt",{"$f":"IF($J$163 = $L$165, L195, INDEX(SavedResults!L$19:L$305, MATCH($G181, SavedResults!$G$19:$G$305, 0)))","v":4.2377756904680721},{"$f":"IF($J$163 = $L$165, M195, INDEX(SavedResults!M$19:M$305, MATCH($G181, SavedResults!$G$19:$G$305, 0)))","v":3.9390261056985487},{"$f":"IF($J$163 = $L$165, N195, INDEX(SavedResults!N$19:N$305, MATCH($G181, SavedResults!$G$19:$G$305, 0)))","v":3.7524634479704404},{"$f":"IF($J$163 = $L$165, O195, INDEX(SavedResults!O$19:O$305, MATCH($G181, SavedResults!$G$19:$G$305, 0)))","v":3.6099183552585603},{"$f":"IF($J$163 = $L$165, P195, INDEX(SavedResults!P$19:P$305, MATCH($G181, SavedResults!$G$19:$G$305, 0)))","v":3.4208099430882206},18.959993542483843,3.7919987084967688]
[null,null,null,"NGGT.SO","FinalProposals","EIC","NGGT.SO_FinalProposals_EIC",14,"Equity issuance costs","£m 18/19 prices",null,{"$f":"IF($J$163 = $L$165, L196, INDEX(SavedResults!L$19:L$305, MATCH($G182, SavedResults!$G$19:$G$305, 0)))","v":0},{"$f":"IF($J$163 = $L$165, M196, INDEX(SavedResults!M$19:M$305, MATCH($G182, SavedResults!$G$19:$G$305, 0)))","v":0},{"$f":"IF($J$163 = $L$165, N196, INDEX(SavedResults!N$19:N$305, MATCH($G182, SavedResults!$G$19:$G$305, 0)))","v":0},{"$f":"IF($J$163 = $L$165, O196, INDEX(SavedResults!O$19:O$305, MATCH($G182, SavedResults!$G$19:$G$305, 0)))","v":0},{"$f":"IF($J$163 = $L$165, P196, INDEX(SavedResults!P$19:P$305, MATCH($G182, SavedResults!$G$19:$G$305, 0)))","v":0},0,0]
[null,null,null,"NGGT.SO","FinalProposals","RTNA","NGGT.SO_FinalProposals_RTNA",15,"Return adjustment","£m 18/19 prices",null,{"$f":"IF($J$163 = $L$165, L197, INDEX(SavedResults!L$19:L$305, MATCH($G183, SavedResults!$G$19:$G$305, 0)))","v":0},{"$f":"IF($J$163 = $L$165, M197, INDEX(SavedResults!M$19:M$305, MATCH($G183, SavedResults!$G$19:$G$305, 0)))","v":0},{"$f":"IF($J$163 = $L$165, N197, INDEX(SavedResults!N$19:N$305, MATCH($G183, SavedResults!$G$19:$G$305, 0)))","v":0},{"$f":"IF($J$163 = $L$165, O197, INDEX(SavedResults!O$19:O$305, MATCH($G183, SavedResults!$G$19:$G$305, 0)))","v":0},{"$f":"IF($J$163 = $L$165, P197, INDEX(SavedResults!P$19:P$305, MATCH($G183, SavedResults!$G$19:$G$305, 0)))","v":0},0,0]
[null,null,null,"NGGT.SO","FinalProposals","DRS",{"$f":"D184&\"_\"&E184&\"_\"&F184","v":"NGGT.SO_FinalProposals_DRS"},16,"Directly remunerated services adjustment","£m 18/19 prices",null,{"$f":"IF($J$163 = $L$165, L198, INDEX(SavedResults!L$19:L$305, MATCH($G184, SavedResults!$G$19:$G$305, 0)))","v":0},{"$f":"IF($J$163 = $L$165, M198, INDEX(SavedResults!M$19:M$305, MATCH($G184, SavedResults!$G$19:$G$305, 0)))","v":0},{"$f":"IF($J$163 = $L$165, N198, INDEX(SavedResults!N$19:N$305, MATCH($G184, SavedResults!$G$19:$G$305, 0)))","v":0},{"$f":"IF($J$163 = $L$165, O198, INDEX(SavedResults!O$19:O$305, MATCH($G184, SavedResults!$G$19:$G$305, 0)))","v":0},{"$f":"IF($J$163 = $L$165, P198, INDEX(SavedResults!P$19:P$305, MATCH($G184, SavedResults!$G$19:$G$305, 0)))","v":0},{"$f":"SUM($L184:$P184)","v":0},{"$f":"IFERROR( AVERAGE($L184:$P184), 0)","v":0}]
[null,null,null,"NGGT.SO","FinalProposals","BPI","NGGT.SO_FinalProposals_BPI",17,"Business plan incentive","£m 18/19 prices",null,{"$f":"IF($J$163 = $L$165, L199, INDEX(SavedResults!L$19:L$305, MATCH($G185, SavedResults!$G$19:$G$305, 0)))","v":0},{"$f":"IF($J$163 = $L$165, M199, INDEX(SavedResults!M$19:M$305, MATCH($G185, SavedResults!$G$19:$G$305, 0)))","v":0},{"$f":"IF($J$163 = $L$165, N199, INDEX(SavedResults!N$19:N$305, MATCH($G185, SavedResults!$G$19:$G$305, 0)))","v":0},{"$f":"IF($J$163 = $L$165, O199, INDEX(SavedResults!O$19:O$305, MATCH($G185, SavedResults!$G$19:$G$305, 0)))","v":0},{"$f":"IF($J$163 = $L$165, P199, INDEX(SavedResults!P$19:P$305, MATCH($G185, SavedResults!$G$19:$G$305, 0)))","v":0},0,0]
[null,null,null,"NGGT.SO","FinalProposals","ODI","NGGT.SO_FinalProposals_ODI",18,"Output delivery incentives","£m 18/19 prices",null,{"$f":"IF($J$163 = $L$165, L200, INDEX(SavedResults!L$19:L$305, MATCH($G186, SavedResults!$G$19:$G$305, 0)))","v":0},{"$f":"IF($J$163 = $L$165, M200, INDEX(SavedResults!M$19:M$305, MATCH($G186, SavedResults!$G$19:$G$305, 0)))","v":0},{"$f":"IF($J$163 = $L$165, N200, INDEX(SavedResults!N$19:N$305, MATCH($G186, SavedResults!$G$19:$G$305, 0)))","v":0},{"$f":"IF($J$163 = $L$165, O200, INDEX(SavedResults!O$19:O$305, MATCH($G186, SavedResults!$G$19:$G$305, 0)))","v":0},{"$f":"IF($J$163 = $L$165, P200, INDEX(SavedResults!P$19:P$305, MATCH($G186, SavedResults!$G$19:$G$305, 0)))","v":0},0,0]
[null,null,null,"NGGT.SO","FinalProposals","ORA","NGGT.SO_FinalProposals_ORA",19,"Other revenue allowance","£m 18/19 prices","SOORAt",{"$f":"IF($J$163 = $L$165, L201, INDEX(SavedResults!L$19:L$305, MATCH($G187, SavedResults!$G$19:$G$305, 0)))","v":87.32443798066906},{"$f":"IF($J$163 = $L$165, M201, INDEX(SavedResults!M$19:M$305, MATCH($G187, SavedResults!$G$19:$G$305, 0)))","v":81.466733965917285},{"$f":"IF($J$163 = $L$165, N201, INDEX(SavedResults!N$19:N$305, MATCH($G187, SavedResults!$G$19:$G$305, 0)))","v":80.041293233961724},{"$f":"IF($J$163 = $L$165, O201, INDEX(SavedResults!O$19:O$305, MATCH($G187, SavedResults!$G$19:$G$305, 0)))","v":78.523344261398179},{"$f":"IF($J$163 = $L$165, P201, INDEX(SavedResults!P$19:P$305, MATCH($G187, SavedResults!$G$19:$G$305, 0)))","v":76.986278295735175},404.34208773768142,80.868417547536282]
[null,null,null,"NGGT.SO","FinalProposals","TAX","NGGT.SO_FinalProposals_TAX",20,"Tax allowance","£m 18/19 prices","SOTAXt",{"$f":"IF($J$163 = $L$165, L202, INDEX(SavedResults!L$19:L$305, MATCH($G188, SavedResults!$G$19:$G$305, 0)))","v":1.8465378736883606},{"$f":"IF($J$163 = $L$165, M202, INDEX(SavedResults!M$19:M$305, MATCH($G188, SavedResults!$G$19:$G$305, 0)))","v":1.641821715858423},{"$f":"IF($J$163 = $L$165, N202, INDEX(SavedResults!N$19:N$305, MATCH($G188, SavedResults!$G$19:$G$305, 0)))","v":3.5881893515923098},{"$f":"IF($J$163 = $L$165, O202, INDEX(SavedResults!O$19:O$305, MATCH($G188, SavedResults!$G$19:$G$305, 0)))","v":1.5862784450610949},{"$f":"IF($J$163 = $L$165, P202, INDEX(SavedResults!P$19:P$305, MATCH($G188, SavedResults!$G$19:$G$305, 0)))","v":0},8.6628273862001883,1.7325654772400376]
[null,null,null,"NGGT.SO","FinalProposals","TAXA","NGGT.SO_FinalProposals_TAXA",21,"Tax allowance adjustment","£m 18/19 prices","SOTAXAt",{"$f":"IF($J$163 = $L$165, L203, INDEX(SavedResults!L$19:L$305, MATCH($G189, SavedResults!$G$19:$G$305, 0)))","v":0},{"$f":"IF($J$163 = $L$165, M203, INDEX(SavedResults!M$19:M$305, MATCH($G189, SavedResults!$G$19:$G$305, 0)))","v":0},{"$f":"IF($J$163 = $L$165, N203, INDEX(SavedResults!N$19:N$305, MATCH($G189, SavedResults!$G$19:$G$305, 0)))","v":0},{"$f":"IF($J$163 = $L$165, O203, INDEX(SavedResults!O$19:O$305, MATCH($G189, SavedResults!$G$19:$G$305, 0)))","v":0},{"$f":"IF($J$163 = $L$165, P203, INDEX(SavedResults!P$19:P$305, MATCH($G189, SavedResults!$G$19:$G$305, 0)))","v":0},0,0]
[null,null,null,"NGGT.SO","FinalProposals","R","NGGT.SO_FinalProposals_R",22,"Calculated revenue","£m 18/19 prices","SORt",{"$f":"IF($J$163 = $L$165, L204, INDEX(SavedResults!L$19:L$305, MATCH($G190, SavedResults!$G$19:$G$305, 0)))","v":196.85361191025379},{"$f":"IF($J$163 = $L$165, M204, INDEX(SavedResults!M$19:M$305, MATCH($G190, SavedResults!$G$19:$G$305, 0)))","v":185.5677108719224},{"$f":"IF($J$163 = $L$165, N204, INDEX(SavedResults!N$19:N$305, MATCH($G190, SavedResults!$G$19:$G$305, 0)))","v":190.56114992405833},{"$f":"IF($J$163 = $L$165, O204, INDEX(SavedResults!O$19:O$305, MATCH($G190, SavedResults!$G$19:$G$305, 0)))","v":180.29331533896945},{"$f":"IF($J$163 = $L$165, P204, INDEX(SavedResults!P$19:P$305, MATCH($G190, SavedResults!$G$19:$G$305, 0)))","v":168.58684563904609},921.86263368425011,184.37252673685003]
[null,null,null,null,null,null,null,null,"Recalculated allowances (calculated revenue)",null,"SORt"]
[null,null,null,"NGGT.SO","CalculatedRevenue","FM",{"$f":"D192&\"_\"&E192&\"_\"&F192","v":"NGGT.SO_CalculatedRevenue_FM"},{"$f":"MAX(H$167:H191) + 1","v":23},"Fast money","£m 18/19 prices","SOFMt",{"$f":"SystemOperator!AP598","v":60.79426649438247},{"$f":"SystemOperator!AQ598","v":58.747843206698363},{"$f":"SystemOperator!AR598","v":64.903998003231109},{"$f":"SystemOperator!AS598","v":59.455608038851608},{"$f":"SystemOperator!AT598","v":51.875926285129395},295.77764202829292,59.155528405658586]
[null,null,null,"NGGT.SO","CalculatedRevenue","PT","NGGT.SO_CalculatedRevenue_PT",{"$f":"H192 + 1","v":24},"Pass-through expenditure","£m 18/19 prices","SOPTt",{"$f":"SystemOperator!AP599","v":5.1195957345804359},{"$f":"SystemOperator!AQ599","v":3.09552170986561},{"$f":"SystemOperator!AR599","v":2.9643768808202462},{"$f":"SystemOperator!AS599","v":2.4393231996197748},{"$f":"SystemOperator!AT599","v":2.2396394429657835},15.858456967851851,3.1716913935703701]
[null,null,null,"NGGT.SO","CalculatedRevenue","DPN","NGGT.SO_CalculatedRevenue_DPN",{"$f":"H193 + 1","v":25},"Depreciation","£m 18/19 prices","SODPNt",{"$f":"SystemOperator!AP600","v":37.530998136465392},{"$f":"SystemOperator!AQ600","v":36.676764167884187},{"$f":"SystemOperator!AR600","v":35.310829006482486},{"$f":"SystemOperator!AS600","v":34.678843038780244},{"$f":"SystemOperator!AT600","v":34.064191672127521},178.26162602173983,35.652325204347967]
[null,null,null,"NGGT.SO","CalculatedRevenue","RTN","NGGT.SO_CalculatedRevenue_RTN",26,"Return","£m 18/19 prices","SORTNt",{"$f":"SystemOperator!AP601","v":4.2377756904680721},{"$f":"SystemOperator!AQ601","v":3.9390261056985487},{"$f":"SystemOperator!AR601","v":3.7524634479704404},{"$f":"SystemOperator!AS601","v":3.6099183552585603},{"$f":"SystemOperator!AT601","v":3.4208099430882206},18.959993542483843,3.7919987084967688]
[null,null,null,"NGGT.SO","CalculatedRevenue","EIC","NGGT.SO_CalculatedRevenue_EIC",27,"Equity issuance costs","£m 18/19 prices",null,null,null,null,null,null,0,0]
[null,null,null,"NGGT.SO","CalculatedRevenue","RTNA","NGGT.SO_CalculatedRevenue_RTNA",28,"Return adjustment","£m 18/19 prices",null,null,null,null,null,null,0,0]
[null,null,null,"NGGT.SO","CalculatedRevenue","DRS",{"$f":"D198&\"_\"&E198&\"_\"&F198","v":"NGGT.SO_CalculatedRevenue_DRS"},29,"Directly remunerated services adjustment","£m 18/19 prices",null,null,null,null,null,null,{"$f":"SUM($L198:$P198)","v":0},{"$f":"IFERROR( AVERAGE($L198:$P198), 0)","v":0}]
[null,null,null,"NGGT.SO","CalculatedRevenue","BPI","NGGT.SO_CalculatedRevenue_BPI",30,"Business plan incentive","£m 18/19 prices",null,null,null,null,null,null,0,0]
[null,null,null,"NGGT.SO","CalculatedRevenue","ODI","NGGT.SO_CalculatedRevenue_ODI",31,"Output delivery incentives","£m 18/19 prices",null,null,null,null,null,null,0,0]
[null,null,null,"NGGT.SO","CalculatedRevenue","ORA","NGGT.SO_CalculatedRevenue_ORA",32,"Other revenue allowance","£m 18/19 prices","SOORAt",{"$f":"SystemOperator!AP603","v":87.32443798066906},{"$f":"SystemOperator!AQ603","v":81.466733965917285},{"$f":"SystemOperator!AR603","v":80.041293233961724},{"$f":"SystemOperator!AS603","v":78.523344261398179},{"$f":"SystemOperator!AT603","v":76.986278295735175},404.34208773768142,80.868417547536282]
[null,null,null,"NGGT.SO","CalculatedRevenue","TAX","NGGT.SO_CalculatedRevenue_TAX",33,"Tax allowance","£m 18/19 prices","SOTAXt",{"$f":"SystemOperator!AP605","v":1.8465378736883606},{"$f":"SystemOperator!AQ605","v":1.641821715858423},{"$f":"SystemOperator!AR605","v":3.5881893515923098},{"$f":"SystemOperator!AS605","v":1.5862784450610949},{"$f":"SystemOperator!AT605","v":0},8.6628273862001883,1.7325654772400376]
[null,null,null,"NGGT.SO","CalculatedRevenue","TAXA","NGGT.SO_CalculatedRevenue_TAXA",34,"Tax allowance adjustment","£m 18/19 prices","SOTAXAt",{"$f":"SystemOperator!AP606","v":0},{"$f":"SystemOperator!AQ606","v":0},{"$f":"SystemOperator!AR606","v":0},{"$f":"SystemOperator!AS606","v":0},{"$f":"SystemOperator!AT606","v":0},0,0]
[null,null,null,"NGGT.SO","CalculatedRevenue","R","NGGT.SO_CalculatedRevenue_R",35,"Calculated revenue","£m 18/19 prices","SORt",{"$f":"SUM(L192:L203)","v":196.85361191025379},{"$f":"SUM(M192:M203)","v":185.5677108719224},{"$f":"SUM(N192:N203)","v":190.56114992405833},{"$f":"SUM(O192:O203)","v":180.29331533896945},{"$f":"SUM(P192:P203)","v":168.58684563904609},921.86263368425011,184.37252673685003]
[null,null,null,null,null,null,null,null,"Price Control Revenue"]
[null,null,null,"NGGT.SO","TotalRevenue","Rnominal",{"$f":"D206&\"_\"&E206&\"_\"&F206","v":"NGGT.SO_TotalRevenue_Rnominal"},{"$f":"MAX(H$167:H205) + 1","v":36},"Calculated revenue","£m nominal","SORt ∙ (Pt / P2018/19)",{"$f":"SOAR!AP10","v":207.20055528052421},{"$f":"SOAR!AQ10","v":""},{"$f":"SOAR!AR10","v":""},{"$f":"SOAR!AS10","v":""},{"$f":"SOAR!AT10","v":""},207.20055528052421,207.20055528052421]
[null,null,null,"NGGT.SO","TotalRevenue","ADJ","NGGT.SO_TotalRevenue_ADJ",{"$f":"H206 + 1","v":37},"AIP adjustment term","£m nominal","SOADJt",{"$f":"SOAR!AP11","v":0},{"$f":"SOAR!AQ11","v":""},{"$f":"SOAR!AR11","v":""},{"$f":"SOAR!AS11","v":""},{"$f":"SOAR!AT11","v":""},0,0]
[null,null,null,"NGGT.SO","TotalRevenue","ADJR",{"$f":"D208&\"_\"&E208&\"_\"&F208","v":"NGGT.SO_TotalRevenue_ADJR"},38,"Adjusted revenue","£m nominal","SORt ∙ (Pt / P2018/19) + SOADJt",{"$f":"SOAR!AP12","v":207.20055528052421},{"$f":"SOAR!AQ12","v":198.46211676008332},{"$f":"SOAR!AR12","v":207.42117467174248},{"$f":"SOAR!AS12","v":200.03853198085054},{"$f":"SOAR!AT12","v":190.78454080075042},1003.9069194939509,200.78138389879018]
[null,null,null,"NGGT.SO","TotalRevenue","LAR","NGGT.SO_TotalRevenue_LAR",{"$f":"H208 + 1","v":39},"Legacy allowed revenue","£m nominal","SOLARt",{"$f":"SOAR!AP14","v":-5.7474662466209026},{"$f":"SOAR!AQ14","v":-28.269199837724141},{"$f":"SOAR!AR14","v":0},{"$f":"SOAR!AS14","v":0},{"$f":"SOAR!AT14","v":0},-34.016666084345047,-6.8033332168690093]
[null,null,null,"NGGT.SO","TotalRevenue","K","NGGT.SO_TotalRevenue_K",{"$f":"H209 + 1","v":40},"Correction term","£m nominal","SOKt",{"$f":"SOAR!AP15","v":-60.208401899228669},{"$f":"SOAR!AQ15","v":0},{"$f":"SOAR!AR15","v":0},{"$f":"SOAR!AS15","v":0},{"$f":"SOAR!AT15","v":0},-60.208401899228669,-12.041680379845733]
[null,null,null,"NGGT.SO","TotalRevenue","AR","NGGT.SO_TotalRevenue_AR",41,"Allowed revenue","£m nominal","SOARt",{"$f":"SOAR!AP16","v":141.24468713467465},{"$f":"SOAR!AQ16","v":170.19291692235919},{"$f":"SOAR!AR16","v":207.42117467174248},{"$f":"SOAR!AS16","v":200.03853198085054},{"$f":"SOAR!AT16","v":190.78454080075042},909.68185151037721,181.93637030207543]
[null,null,null,"NGGT.SO","TotalRevenue","DRSrevenue","NGGT.SO_TotalRevenue_DRSrevenue",42,"Directly remunerated services revenue","£m nominal","-",null,null,null,null,null,0,0]
[null,null,null,"NGGT.SO","TotalRevenue","TR","NGGT.SO_TotalRevenue_TR",43,"Total revenue","£m nominal","-",{"$f":"SUM(L211:L212)","v":141.24468713467465},{"$f":"SUM(M211:M212)","v":170.19291692235919},207.42117467174248,200.03853198085054,190.78454080075042,909.68185151037721,181.93637030207543]
[null,null,null,null,null,null,null,null,"Inflation rate",null,"(PIt / PIt-1) - 1"]
[null,null,null,"NGGT.SO","Inflation",2022,{"$f":"D215&\"_\"&E215&\"_\"&F215","v":"NGGT.SO_Inflation_2022"},{"$f":"MAX(H$167:H214) + 1","v":44},"2022-03-31","annual %",null,{"$f":"IF($I215 = $J$163, SystemOperator!AP$138,\n  IF($I215 < $J$163, INDEX(SavedResults!L$19:L$305, MATCH($G215, SavedResults!$G$19:$G$305, 0)), \"\"))","v":1.3728694438340794E-2},{"$f":"IF($I215 = $J$163, SystemOperator!AQ$138,\n  IF($I215 < $J$163, INDEX(SavedResults!M$19:M$305, MATCH($G215, SavedResults!$G$19:$G$305, 0)), \"\"))","v":1.5977818886124595E-2},{"$f":"IF($I215 = $J$163, SystemOperator!AR$138,\n  IF($I215 < $J$163, INDEX(SavedResults!N$19:N$305, MATCH($G215, SavedResults!$G$19:$G$305, 0)), \"\"))","v":1.7808816853932763E-2},{"$f":"IF($I215 = $J$163, SystemOperator!AS$138,\n  IF($I215 < $J$163, INDEX(SavedResults!O$19:O$305, MATCH($G215, SavedResults!$G$19:$G$305, 0)), \"\"))","v":1.9331180897115274E-2},{"$f":"IF($I215 = $J$163, SystemOperator!AT$138,\n  IF($I215 < $J$163, INDEX(SavedResults!P$19:P$305, MATCH($G215, SavedResults!$G$19:$G$305, 0)), \"\"))","v":1.9965453580682579E-2},null,{"$f":"IFERROR( AVERAGE($L215:$P215), \"\")","v":1.7362392931239201E-2}]
[null,null,null,"NGGT.SO","Inflation",2023,"NGGT.SO_Inflation_2023",{"$f":"H215 + 1","v":45},"2023-03-31","annual %",null,{"$f":"IF($I216 = $J$163, SystemOperator!AP$138,\n  IF($I216 < $J$163, INDEX(SavedResults!L$19:L$305, MATCH($G216, SavedResults!$G$19:$G$305, 0)), \"\"))","v":""},{"$f":"IF($I216 = $J$163, SystemOperator!AQ$138,\n  IF($I216 < $J$163, INDEX(SavedResults!M$19:M$305, MATCH($G216, SavedResults!$G$19:$G$305, 0)), \"\"))","v":""},{"$f":"IF($I216 = $J$163, SystemOperator!AR$138,\n  IF($I216 < $J$163, INDEX(SavedResults!N$19:N$305, MATCH($G216, SavedResults!$G$19:$G$305, 0)), \"\"))","v":""},{"$f":"IF($I216 = $J$163, SystemOperator!AS$138,\n  IF($I216 < $J$163, INDEX(SavedResults!O$19:O$305, MATCH($G216, SavedResults!$G$19:$G$305, 0)), \"\"))","v":""},{"$f":"IF($I216 = $J$163, SystemOperator!AT$138,\n  IF($I216 < $J$163, INDEX(SavedResults!P$19:P$305, MATCH($G216, SavedResults!$G$19:$G$305, 0)), \"\"))","v":""},null,{"$f":"IFERROR( AVERAGE($L216:$P216), \"\")","v":""}]
[null,null,null,"NGGT.SO","Inflation",2024,"NGGT.SO_Inflation_2024",{"$f":"H216 + 1","v":46},"2024-03-31","annual %",null,{"$f":"IF($I217 = $J$163, SystemOperator!AP$138,\n  IF($I217 < $J$163, INDEX(SavedResults!L$19:L$305, MATCH($G217, SavedResults!$G$19:$G$305, 0)), \"\"))","v":""},{"$f":"IF($I217 = $J$163, SystemOperator!AQ$138,\n  IF($I217 < $J$163, INDEX(SavedResults!M$19:M$305, MATCH($G217, SavedResults!$G$19:$G$305, 0)), \"\"))","v":""},{"$f":"IF($I217 = $J$163, SystemOperator!AR$138,\n  IF($I217 < $J$163, INDEX(SavedResults!N$19:N$305, MATCH($G217, SavedResults!$G$19:$G$305, 0)), \"\"))","v":""},{"$f":"IF($I217 = $J$163, SystemOperator!AS$138,\n  IF($I217 < $J$163, INDEX(SavedResults!O$19:O$305, MATCH($G217, SavedResults!$G$19:$G$305, 0)), \"\"))","v":""},{"$f":"IF($I217 = $J$163, SystemOperator!AT$138,\n  IF($I217 < $J$163, INDEX(SavedResults!P$19:P$305, MATCH($G217, SavedResults!$G$19:$G$305, 0)), \"\"))","v":""},null,{"$f":"IFERROR( AVERAGE($L217:$P217), \"\")","v":""}]
[null,null,null,"NGGT.SO","Inflation",2025,"NGGT.SO_Inflation_2025",47,"2025-03-31","annual %",null,{"$f":"IF($I218 = $J$163, SystemOperator!AP$138,\n  IF($I218 < $J$163, INDEX(SavedResults!L$19:L$305, MATCH($G218, SavedResults!$G$19:$G$305, 0)), \"\"))","v":""},{"$f":"IF($I218 = $J$163, SystemOperator!AQ$138,\n  IF($I218 < $J$163, INDEX(SavedResults!M$19:M$305, MATCH($G218, SavedResults!$G$19:$G$305, 0)), \"\"))","v":""},{"$f":"IF($I218 = $J$163, SystemOperator!AR$138,\n  IF($I218 < $J$163, INDEX(SavedResults!N$19:N$305, MATCH($G218, SavedResults!$G$19:$G$305, 0)), \"\"))","v":""},{"$f":"IF($I218 = $J$163, SystemOperator!AS$138,\n  IF($I218 < $J$163, INDEX(SavedResults!O$19:O$305, MATCH($G218, SavedResults!$G$19:$G$305, 0)), \"\"))","v":""},{"$f":"IF($I218 = $J$163, SystemOperator!AT$138,\n  IF($I218 < $J$163, INDEX(SavedResults!P$19:P$305, MATCH($G218, SavedResults!$G$19:$G$305, 0)), \"\"))","v":""},null,""]
[null,null,null,"NGGT.SO","Inflation",2026,"NGGT.SO_Inflation_2026",48,"2026-03-31","annual %",null,{"$f":"IF($I219 = $J$163, SystemOperator!AP$138,\n  IF($I219 < $J$163, INDEX(SavedResults!L$19:L$305, MATCH($G219, SavedResults!$G$19:$G$305, 0)), \"\"))","v":""},{"$f":"IF($I219 = $J$163, SystemOperator!AQ$138,\n  IF($I219 < $J$163, INDEX(SavedResults!M$19:M$305, MATCH($G219, SavedResults!$G$19:$G$305, 0)), \"\"))","v":""},{"$f":"IF($I219 = $J$163, SystemOperator!AR$138,\n  IF($I219 < $J$163, INDEX(SavedResults!N$19:N$305, MATCH($G219, SavedResults!$G$19:$G$305, 0)), \"\"))","v":""},{"$f":"IF($I219 = $J$163, SystemOperator!AS$138,\n  IF($I219 < $J$163, INDEX(SavedResults!O$19:O$305, MATCH($G219, SavedResults!$G$19:$G$305, 0)), \"\"))","v":""},{"$f":"IF($I219 = $J$163, SystemOperator!AT$138,\n  IF($I219 < $J$163, INDEX(SavedResults!P$19:P$305, MATCH($G219, SavedResults!$G$19:$G$305, 0)), \"\"))","v":""},null,""]
[null,null,null,"NGGT.SO","Inflation",2027,"NGGT.SO_Inflation_2027",49,"2027-03-31","annual %",null,{"$f":"IF($I220 = $J$163, SystemOperator!AP$138,\n  IF($I220 < $J$163, INDEX(SavedResults!L$19:L$305, MATCH($G220, SavedResults!$G$19:$G$305, 0)), \"\"))","v":""},{"$f":"IF($I220 = $J$163, SystemOperator!AQ$138,\n  IF($I220 < $J$163, INDEX(SavedResults!M$19:M$305, MATCH($G220, SavedResults!$G$19:$G$305, 0)), \"\"))","v":""},{"$f":"IF($I220 = $J$163, SystemOperator!AR$138,\n  IF($I220 < $J$163, INDEX(SavedResults!N$19:N$305, MATCH($G220, SavedResults!$G$19:$G$305, 0)), \"\"))","v":""},{"$f":"IF($I220 = $J$163, SystemOperator!AS$138,\n  IF($I220 < $J$163, INDEX(SavedResults!O$19:O$305, MATCH($G220, SavedResults!$G$19:$G$305, 0)), \"\"))","v":""},{"$f":"IF($I220 = $J$163, SystemOperator!AT$138,\n  IF($I220 < $J$163, INDEX(SavedResults!P$19:P$305, MATCH($G220, SavedResults!$G$19:$G$305, 0)), \"\"))","v":""},null,""]
[null,null,null,"NGGT.SO","Inflation",2028,"NGGT.SO_Inflation_2028",50,"2028-03-31","annual %",null,{"$f":"IF($I221 = $J$163, SystemOperator!AP$138,\n  IF($I221 < $J$163, INDEX(SavedResults!L$19:L$305, MATCH($G221, SavedResults!$G$19:$G$305, 0)), \"\"))","v":""},{"$f":"IF($I221 = $J$163, SystemOperator!AQ$138,\n  IF($I221 < $J$163, INDEX(SavedResults!M$19:M$305, MATCH($G221, SavedResults!$G$19:$G$305, 0)), \"\"))","v":""},{"$f":"IF($I221 = $J$163, SystemOperator!AR$138,\n  IF($I221 < $J$163, INDEX(SavedResults!N$19:N$305, MATCH($G221, SavedResults!$G$19:$G$305, 0)), \"\"))","v":""},{"$f":"IF($I221 = $J$163, SystemOperator!AS$138,\n  IF($I221 < $J$163, INDEX(SavedResults!O$19:O$305, MATCH($G221, SavedResults!$G$19:$G$305, 0)), \"\"))","v":""},{"$f":"IF($I221 = $J$163, SystemOperator!AT$138,\n  IF($I221 < $J$163, INDEX(SavedResults!P$19:P$305, MATCH($G221, SavedResults!$G$19:$G$305, 0)), \"\"))","v":""},null,""]
[null,null,null,null,null,null,null,null,"Nominal Time Value of Money",null,"TVMt"]
[null,null,null,"NGGT.SO","TVM",2022,{"$f":"D223&\"_\"&E223&\"_\"&F223","v":"NGGT.SO_TVM_2022"},{"$f":"MAX(H$167:H222) + 1","v":51},"2022-03-31","annual nominal %",null,{"$f":"IF($I223 = $J$163, SOAR!AP$24,\n  IF($I223 < $J$163, INDEX(SavedResults!L$19:L$305, MATCH($G223, SavedResults!$G$19:$G$305, 0)), \"\"))","v":4.6835861623044872E-2},{"$f":"IF($I223 = $J$163, SOAR!AQ$24,\n  IF($I223 < $J$163, INDEX(SavedResults!M$19:M$305, MATCH($G223, SavedResults!$G$19:$G$305, 0)), \"\"))","v":4.7855581877665809E-2},{"$f":"IF($I223 = $J$163, SOAR!AR$24,\n  IF($I223 < $J$163, INDEX(SavedResults!N$19:N$305, MATCH($G223, SavedResults!$G$19:$G$305, 0)), \"\"))","v":4.8890027000710878E-2},{"$f":"IF($I223 = $J$163, SOAR!AS$24,\n  IF($I223 < $J$163, INDEX(SavedResults!O$19:O$305, MATCH($G223, SavedResults!$G$19:$G$305, 0)), \"\"))","v":4.9060849802209372E-2},{"$f":"IF($I223 = $J$163, SOAR!AT$24,\n  IF($I223 < $J$163, INDEX(SavedResults!P$19:P$305, MATCH($G223, SavedResults!$G$19:$G$305, 0)), \"\"))","v":0},null,3.8528464060726186E-2]
[null,null,null,"NGGT.SO","TVM",2023,"NGGT.SO_TVM_2023",{"$f":"H223 + 1","v":52},"2023-03-31","annual nominal %",null,{"$f":"IF($I224 = $J$163, SOAR!AP$24,\n  IF($I224 < $J$163, INDEX(SavedResults!L$19:L$305, MATCH($G224, SavedResults!$G$19:$G$305, 0)), \"\"))","v":""},{"$f":"IF($I224 = $J$163, SOAR!AQ$24,\n  IF($I224 < $J$163, INDEX(SavedResults!M$19:M$305, MATCH($G224, SavedResults!$G$19:$G$305, 0)), \"\"))","v":""},{"$f":"IF($I224 = $J$163, SOAR!AR$24,\n  IF($I224 < $J$163, INDEX(SavedResults!N$19:N$305, MATCH($G224, SavedResults!$G$19:$G$305, 0)), \"\"))","v":""},{"$f":"IF($I224 = $J$163, SOAR!AS$24,\n  IF($I224 < $J$163, INDEX(SavedResults!O$19:O$305, MATCH($G224, SavedResults!$G$19:$G$305, 0)), \"\"))","v":""},{"$f":"IF($I224 = $J$163, SOAR!AT$24,\n  IF($I224 < $J$163, INDEX(SavedResults!P$19:P$305, MATCH($G224, SavedResults!$G$19:$G$305, 0)), \"\"))","v":""},null,{"$f":"IFERROR( AVERAGE($L224:$P224), \"\")","v":""}]
[null,null,null,"NGGT.SO","TVM",2024,"NGGT.SO_TVM_2024",{"$f":"H224 + 1","v":53},"2024-03-31","annual nominal %",null,{"$f":"IF($I225 = $J$163, SOAR!AP$24,\n  IF($I225 < $J$163, INDEX(SavedResults!L$19:L$305, MATCH($G225, SavedResults!$G$19:$G$305, 0)), \"\"))","v":""},{"$f":"IF($I225 = $J$163, SOAR!AQ$24,\n  IF($I225 < $J$163, INDEX(SavedResults!M$19:M$305, MATCH($G225, SavedResults!$G$19:$G$305, 0)), \"\"))","v":""},{"$f":"IF($I225 = $J$163, SOAR!AR$24,\n  IF($I225 < $J$163, INDEX(SavedResults!N$19:N$305, MATCH($G225, SavedResults!$G$19:$G$305, 0)), \"\"))","v":""},{"$f":"IF($I225 = $J$163, SOAR!AS$24,\n  IF($I225 < $J$163, INDEX(SavedResults!O$19:O$305, MATCH($G225, SavedResults!$G$19:$G$305, 0)), \"\"))","v":""},{"$f":"IF($I225 = $J$163, SOAR!AT$24,\n  IF($I225 < $J$163, INDEX(SavedResults!P$19:P$305, MATCH($G225, SavedResults!$G$19:$G$305, 0)), \"\"))","v":""},null,{"$f":"IFERROR( AVERAGE($L225:$P225), \"\")","v":""}]
[null,null,null,"NGGT.SO","TVM",2025,"NGGT.SO_TVM_2025",54,"2025-03-31","annual nominal %",null,{"$f":"IF($I226 = $J$163, SOAR!AP$24,\n  IF($I226 < $J$163, INDEX(SavedResults!L$19:L$305, MATCH($G226, SavedResults!$G$19:$G$305, 0)), \"\"))","v":""},{"$f":"IF($I226 = $J$163, SOAR!AQ$24,\n  IF($I226 < $J$163, INDEX(SavedResults!M$19:M$305, MATCH($G226, SavedResults!$G$19:$G$305, 0)), \"\"))","v":""},{"$f":"IF($I226 = $J$163, SOAR!AR$24,\n  IF($I226 < $J$163, INDEX(SavedResults!N$19:N$305, MATCH($G226, SavedResults!$G$19:$G$305, 0)), \"\"))","v":""},{"$f":"IF($I226 = $J$163, SOAR!AS$24,\n  IF($I226 < $J$163, INDEX(SavedResults!O$19:O$305, MATCH($G226, SavedResults!$G$19:$G$305, 0)), \"\"))","v":""},{"$f":"IF($I226 = $J$163, SOAR!AT$24,\n  IF($I226 < $J$163, INDEX(SavedResults!P$19:P$305, MATCH($G226, SavedResults!$G$19:$G$305, 0)), \"\"))","v":""},null,""]
[null,null,null,"NGGT.SO","TVM",2026,"NGGT.SO_TVM_2026",55,"2026-03-31","annual nominal %",null,{"$f":"IF($I227 = $J$163, SOAR!AP$24,\n  IF($I227 < $J$163, INDEX(SavedResults!L$19:L$305, MATCH($G227, SavedResults!$G$19:$G$305, 0)), \"\"))","v":""},{"$f":"IF($I227 = $J$163, SOAR!AQ$24,\n  IF($I227 < $J$163, INDEX(SavedResults!M$19:M$305, MATCH($G227, SavedResults!$G$19:$G$305, 0)), \"\"))","v":""},{"$f":"IF($I227 = $J$163, SOAR!AR$24,\n  IF($I227 < $J$163, INDEX(SavedResults!N$19:N$305, MATCH($G227, SavedResults!$G$19:$G$305, 0)), \"\"))","v":""},{"$f":"IF($I227 = $J$163, SOAR!AS$24,\n  IF($I227 < $J$163, INDEX(SavedResults!O$19:O$305, MATCH($G227, SavedResults!$G$19:$G$305, 0)), \"\"))","v":""},{"$f":"IF($I227 = $J$163, SOAR!AT$24,\n  IF($I227 < $J$163, INDEX(SavedResults!P$19:P$305, MATCH($G227, SavedResults!$G$19:$G$305, 0)), \"\"))","v":""},null,""]
[null,null,null,"NGGT.SO","TVM",2027,"NGGT.SO_TVM_2027",56,"2027-03-31","annual nominal %",null,{"$f":"IF($I228 = $J$163, SOAR!AP$24,\n  IF($I228 < $J$163, INDEX(SavedResults!L$19:L$305, MATCH($G228, SavedResults!$G$19:$G$305, 0)), \"\"))","v":""},{"$f":"IF($I228 = $J$163, SOAR!AQ$24,\n  IF($I228 < $J$163, INDEX(SavedResults!M$19:M$305, MATCH($G228, SavedResults!$G$19:$G$305, 0)), \"\"))","v":""},{"$f":"IF($I228 = $J$163, SOAR!AR$24,\n  IF($I228 < $J$163, INDEX(SavedResults!N$19:N$305, MATCH($G228, SavedResults!$G$19:$G$305, 0)), \"\"))","v":""},{"$f":"IF($I228 = $J$163, SOAR!AS$24,\n  IF($I228 < $J$163, INDEX(SavedResults!O$19:O$305, MATCH($G228, SavedResults!$G$19:$G$305, 0)), \"\"))","v":""},{"$f":"IF($I228 = $J$163, SOAR!AT$24,\n  IF($I228 < $J$163, INDEX(SavedResults!P$19:P$305, MATCH($G228, SavedResults!$G$19:$G$305, 0)), \"\"))","v":""},null,""]
[null,null,null,"NGGT.SO","TVM",2028,"NGGT.SO_TVM_2028",57,"2028-03-31","annual nominal %",null,{"$f":"IF($I229 = $J$163, SOAR!AP$24,\n  IF($I229 < $J$163, INDEX(SavedResults!L$19:L$305, MATCH($G229, SavedResults!$G$19:$G$305, 0)), \"\"))","v":""},{"$f":"IF($I229 = $J$163, SOAR!AQ$24,\n  IF($I229 < $J$163, INDEX(SavedResults!M$19:M$305, MATCH($G229, SavedResults!$G$19:$G$305, 0)), \"\"))","v":""},{"$f":"IF($I229 = $J$163, SOAR!AR$24,\n  IF($I229 < $J$163, INDEX(SavedResults!N$19:N$305, MATCH($G229, SavedResults!$G$19:$G$305, 0)), \"\"))","v":""},{"$f":"IF($I229 = $J$163, SOAR!AS$24,\n  IF($I229 < $J$163, INDEX(SavedResults!O$19:O$305, MATCH($G229, SavedResults!$G$19:$G$305, 0)), \"\"))","v":""},{"$f":"IF($I229 = $J$163, SOAR!AT$24,\n  IF($I229 < $J$163, INDEX(SavedResults!P$19:P$305, MATCH($G229, SavedResults!$G$19:$G$305, 0)), \"\"))","v":""},null,""]
[null,null,null,null,null,null,null,null,"Sterling Overnight Index Average (SONIA)",null,"It"]
[null,null,null,"NGGT.SO","SONIA",2022,{"$f":"D231&\"_\"&E231&\"_\"&F231","v":"NGGT.SO_SONIA_2022"},{"$f":"MAX(H$167:H230) + 1","v":58},"2022-03-31","annual nominal %",null,{"$f":"IF($I231 = $J$163, SOAR!AP$35,\n  IF($I231 < $J$163, INDEX(SavedResults!L$19:L$305, MATCH($G231, SavedResults!$G$19:$G$305, 0)), \"\"))","v":4.5973702505714439E-4},{"$f":"IF($I231 = $J$163, SOAR!AQ$35,\n  IF($I231 < $J$163, INDEX(SavedResults!M$19:M$305, MATCH($G231, SavedResults!$G$19:$G$305, 0)), \"\"))","v":8.648026937470648E-4},{"$f":"IF($I231 = $J$163, SOAR!AR$35,\n  IF($I231 < $J$163, INDEX(SavedResults!N$19:N$305, MATCH($G231, SavedResults!$G$19:$G$305, 0)), \"\"))","v":1.4141542757024586E-3},{"$f":"IF($I231 = $J$163, SOAR!AS$35,\n  IF($I231 < $J$163, INDEX(SavedResults!O$19:O$305, MATCH($G231, SavedResults!$G$19:$G$305, 0)), \"\"))","v":2.0702335211076469E-3},{"$f":"IF($I231 = $J$163, SOAR!AT$35,\n  IF($I231 < $J$163, INDEX(SavedResults!P$19:P$305, MATCH($G231, SavedResults!$G$19:$G$305, 0)), \"\"))","v":2.600000849653616E-3},null,1.4817856730535862E-3]
[null,null,null,"NGGT.SO","SONIA",2023,"NGGT.SO_SONIA_2023",{"$f":"H231 + 1","v":59},"2023-03-31","annual nominal %",null,{"$f":"IF($I232 = $J$163, SOAR!AP$35,\n  IF($I232 < $J$163, INDEX(SavedResults!L$19:L$305, MATCH($G232, SavedResults!$G$19:$G$305, 0)), \"\"))","v":""},{"$f":"IF($I232 = $J$163, SOAR!AQ$35,\n  IF($I232 < $J$163, INDEX(SavedResults!M$19:M$305, MATCH($G232, SavedResults!$G$19:$G$305, 0)), \"\"))","v":""},{"$f":"IF($I232 = $J$163, SOAR!AR$35,\n  IF($I232 < $J$163, INDEX(SavedResults!N$19:N$305, MATCH($G232, SavedResults!$G$19:$G$305, 0)), \"\"))","v":""},{"$f":"IF($I232 = $J$163, SOAR!AS$35,\n  IF($I232 < $J$163, INDEX(SavedResults!O$19:O$305, MATCH($G232, SavedResults!$G$19:$G$305, 0)), \"\"))","v":""},{"$f":"IF($I232 = $J$163, SOAR!AT$35,\n  IF($I232 < $J$163, INDEX(SavedResults!P$19:P$305, MATCH($G232, SavedResults!$G$19:$G$305, 0)), \"\"))","v":""},null,{"$f":"IFERROR( AVERAGE($L232:$P232), \"\")","v":""}]
[null,null,null,"NGGT.SO","SONIA",2024,"NGGT.SO_SONIA_2024",{"$f":"H232 + 1","v":60},"2024-03-31","annual nominal %",null,{"$f":"IF($I233 = $J$163, SOAR!AP$35,\n  IF($I233 < $J$163, INDEX(SavedResults!L$19:L$305, MATCH($G233, SavedResults!$G$19:$G$305, 0)), \"\"))","v":""},{"$f":"IF($I233 = $J$163, SOAR!AQ$35,\n  IF($I233 < $J$163, INDEX(SavedResults!M$19:M$305, MATCH($G233, SavedResults!$G$19:$G$305, 0)), \"\"))","v":""},{"$f":"IF($I233 = $J$163, SOAR!AR$35,\n  IF($I233 < $J$163, INDEX(SavedResults!N$19:N$305, MATCH($G233, SavedResults!$G$19:$G$305, 0)), \"\"))","v":""},{"$f":"IF($I233 = $J$163, SOAR!AS$35,\n  IF($I233 < $J$163, INDEX(SavedResults!O$19:O$305, MATCH($G233, SavedResults!$G$19:$G$305, 0)), \"\"))","v":""},{"$f":"IF($I233 = $J$163, SOAR!AT$35,\n  IF($I233 < $J$163, INDEX(SavedResults!P$19:P$305, MATCH($G233, SavedResults!$G$19:$G$305, 0)), \"\"))","v":""},null,{"$f":"IFERROR( AVERAGE($L233:$P233), \"\")","v":""}]
[null,null,null,"NGGT.SO","SONIA",2025,"NGGT.SO_SONIA_2025",61,"2025-03-31","annual nominal %",null,{"$f":"IF($I234 = $J$163, SOAR!AP$35,\n  IF($I234 < $J$163, INDEX(SavedResults!L$19:L$305, MATCH($G234, SavedResults!$G$19:$G$305, 0)), \"\"))","v":""},{"$f":"IF($I234 = $J$163, SOAR!AQ$35,\n  IF($I234 < $J$163, INDEX(SavedResults!M$19:M$305, MATCH($G234, SavedResults!$G$19:$G$305, 0)), \"\"))","v":""},{"$f":"IF($I234 = $J$163, SOAR!AR$35,\n  IF($I234 < $J$163, INDEX(SavedResults!N$19:N$305, MATCH($G234, SavedResults!$G$19:$G$305, 0)), \"\"))","v":""},{"$f":"IF($I234 = $J$163, SOAR!AS$35,\n  IF($I234 < $J$163, INDEX(SavedResults!O$19:O$305, MATCH($G234, SavedResults!$G$19:$G$305, 0)), \"\"))","v":""},{"$f":"IF($I234 = $J$163, SOAR!AT$35,\n  IF($I234 < $J$163, INDEX(SavedResults!P$19:P$305, MATCH($G234, SavedResults!$G$19:$G$305, 0)), \"\"))","v":""},null,""]
[null,null,null,"NGGT.SO","SONIA",2026,"NGGT.SO_SONIA_2026",62,"2026-03-31","annual nominal %",null,{"$f":"IF($I235 = $J$163, SOAR!AP$35,\n  IF($I235 < $J$163, INDEX(SavedResults!L$19:L$305, MATCH($G235, SavedResults!$G$19:$G$305, 0)), \"\"))","v":""},{"$f":"IF($I235 = $J$163, SOAR!AQ$35,\n  IF($I235 < $J$163, INDEX(SavedResults!M$19:M$305, MATCH($G235, SavedResults!$G$19:$G$305, 0)), \"\"))","v":""},{"$f":"IF($I235 = $J$163, SOAR!AR$35,\n  IF($I235 < $J$163, INDEX(SavedResults!N$19:N$305, MATCH($G235, SavedResults!$G$19:$G$305, 0)), \"\"))","v":""},{"$f":"IF($I235 = $J$163, SOAR!AS$35,\n  IF($I235 < $J$163, INDEX(SavedResults!O$19:O$305, MATCH($G235, SavedResults!$G$19:$G$305, 0)), \"\"))","v":""},{"$f":"IF($I235 = $J$163, SOAR!AT$35,\n  IF($I235 < $J$163, INDEX(SavedResults!P$19:P$305, MATCH($G235, SavedResults!$G$19:$G$305, 0)), \"\"))","v":""},null,""]
[null,null,null,"NGGT.SO","SONIA",2027,"NGGT.SO_SONIA_2027",63,"2027-03-31","annual nominal %",null,{"$f":"IF($I236 = $J$163, SOAR!AP$35,\n  IF($I236 < $J$163, INDEX(SavedResults!L$19:L$305, MATCH($G236, SavedResults!$G$19:$G$305, 0)), \"\"))","v":""},{"$f":"IF($I236 = $J$163, SOAR!AQ$35,\n  IF($I236 < $J$163, INDEX(SavedResults!M$19:M$305, MATCH($G236, SavedResults!$G$19:$G$305, 0)), \"\"))","v":""},{"$f":"IF($I236 = $J$163, SOAR!AR$35,\n  IF($I236 < $J$163, INDEX(SavedResults!N$19:N$305, MATCH($G236, SavedResults!$G$19:$G$305, 0)), \"\"))","v":""},{"$f":"IF($I236 = $J$163, SOAR!AS$35,\n  IF($I236 < $J$163, INDEX(SavedResults!O$19:O$305, MATCH($G236, SavedResults!$G$19:$G$305, 0)), \"\"))","v":""},{"$f":"IF($I236 = $J$163, SOAR!AT$35,\n  IF($I236 < $J$163, INDEX(SavedResults!P$19:P$305, MATCH($G236, SavedResults!$G$19:$G$305, 0)), \"\"))","v":""},null,""]
[null,null,null,"NGGT.SO","SONIA",2028,"NGGT.SO_SONIA_2028",64,"2028-03-31","annual nominal %",null,{"$f":"IF($I237 = $J$163, SOAR!AP$35,\n  IF($I237 < $J$163, INDEX(SavedResults!L$19:L$305, MATCH($G237, SavedResults!$G$19:$G$305, 0)), \"\"))","v":""},{"$f":"IF($I237 = $J$163, SOAR!AQ$35,\n  IF($I237 < $J$163, INDEX(SavedResults!M$19:M$305, MATCH($G237, SavedResults!$G$19:$G$305, 0)), \"\"))","v":""},{"$f":"IF($I237 = $J$163, SOAR!AR$35,\n  IF($I237 < $J$163, INDEX(SavedResults!N$19:N$305, MATCH($G237, SavedResults!$G$19:$G$305, 0)), \"\"))","v":""},{"$f":"IF($I237 = $J$163, SOAR!AS$35,\n  IF($I237 < $J$163, INDEX(SavedResults!O$19:O$305, MATCH($G237, SavedResults!$G$19:$G$305, 0)), \"\"))","v":""},{"$f":"IF($I237 = $J$163, SOAR!AT$35,\n  IF($I237 < $J$163, INDEX(SavedResults!P$19:P$305, MATCH($G237, SavedResults!$G$19:$G$305, 0)), \"\"))","v":""},null,""]
[null,null,null,null,null,null,null,null,"Calculated revenue",null,"SORt"]
[null,null,null,"NGGT.SO","R",2022,{"$f":"D239&\"_\"&E239&\"_\"&F239","v":"NGGT.SO_R_2022"},{"$f":"MAX(H$167:H238) + 1","v":65},"2022-03-31","£m 18/19 prices",null,{"$f":"IF($I239 = $J$163, L$204,\n  IF($I239 < $J$163, INDEX(SavedResults!L$19:L$305, MATCH($G239, SavedResults!$G$19:$G$305, 0)), \"\"))","v":196.85361191025379},{"$f":"IF($I239 = $J$163, M$204,\n  IF($I239 < $J$163, INDEX(SavedResults!M$19:M$305, MATCH($G239, SavedResults!$G$19:$G$305, 0)), \"\"))","v":185.5677108719224},{"$f":"IF($I239 = $J$163, N$204,\n  IF($I239 < $J$163, INDEX(SavedResults!N$19:N$305, MATCH($G239, SavedResults!$G$19:$G$305, 0)), \"\"))","v":190.56114992405833},{"$f":"IF($I239 = $J$163, O$204,\n  IF($I239 < $J$163, INDEX(SavedResults!O$19:O$305, MATCH($G239, SavedResults!$G$19:$G$305, 0)), \"\"))","v":180.29331533896945},{"$f":"IF($I239 = $J$163, P$204,\n  IF($I239 < $J$163, INDEX(SavedResults!P$19:P$305, MATCH($G239, SavedResults!$G$19:$G$305, 0)), \"\"))","v":168.58684563904609},{"$f":"SUM($L239:$P239)","v":921.86263368425011},{"$f":"IFERROR( AVERAGE($L239:$P239), 0)","v":184.37252673685003}]
[null,null,null,"NGGT.SO","R",2023,"NGGT.SO_R_2023",{"$f":"H239 + 1","v":66},"2023-03-31","£m 18/19 prices",null,{"$f":"IF($I240 = $J$163, L$204,\n  IF($I240 < $J$163, INDEX(SavedResults!L$19:L$305, MATCH($G240, SavedResults!$G$19:$G$305, 0)), \"\"))","v":""},{"$f":"IF($I240 = $J$163, M$204,\n  IF($I240 < $J$163, INDEX(SavedResults!M$19:M$305, MATCH($G240, SavedResults!$G$19:$G$305, 0)), \"\"))","v":""},{"$f":"IF($I240 = $J$163, N$204,\n  IF($I240 < $J$163, INDEX(SavedResults!N$19:N$305, MATCH($G240, SavedResults!$G$19:$G$305, 0)), \"\"))","v":""},{"$f":"IF($I240 = $J$163, O$204,\n  IF($I240 < $J$163, INDEX(SavedResults!O$19:O$305, MATCH($G240, SavedResults!$G$19:$G$305, 0)), \"\"))","v":""},{"$f":"IF($I240 = $J$163, P$204,\n  IF($I240 < $J$163, INDEX(SavedResults!P$19:P$305, MATCH($G240, SavedResults!$G$19:$G$305, 0)), \"\"))","v":""},0,0]
[null,null,null,"NGGT.SO","R",2024,"NGGT.SO_R_2024",{"$f":"H240 + 1","v":67},"2024-03-31","£m 18/19 prices",null,{"$f":"IF($I241 = $J$163, L$204,\n  IF($I241 < $J$163, INDEX(SavedResults!L$19:L$305, MATCH($G241, SavedResults!$G$19:$G$305, 0)), \"\"))","v":""},{"$f":"IF($I241 = $J$163, M$204,\n  IF($I241 < $J$163, INDEX(SavedResults!M$19:M$305, MATCH($G241, SavedResults!$G$19:$G$305, 0)), \"\"))","v":""},{"$f":"IF($I241 = $J$163, N$204,\n  IF($I241 < $J$163, INDEX(SavedResults!N$19:N$305, MATCH($G241, SavedResults!$G$19:$G$305, 0)), \"\"))","v":""},{"$f":"IF($I241 = $J$163, O$204,\n  IF($I241 < $J$163, INDEX(SavedResults!O$19:O$305, MATCH($G241, SavedResults!$G$19:$G$305, 0)), \"\"))","v":""},{"$f":"IF($I241 = $J$163, P$204,\n  IF($I241 < $J$163, INDEX(SavedResults!P$19:P$305, MATCH($G241, SavedResults!$G$19:$G$305, 0)), \"\"))","v":""},0,0]
[null,null,null,"NGGT.SO","R",2025,"NGGT.SO_R_2025",68,"2025-03-31","£m 18/19 prices",null,{"$f":"IF($I242 = $J$163, L$204,\n  IF($I242 < $J$163, INDEX(SavedResults!L$19:L$305, MATCH($G242, SavedResults!$G$19:$G$305, 0)), \"\"))","v":""},{"$f":"IF($I242 = $J$163, M$204,\n  IF($I242 < $J$163, INDEX(SavedResults!M$19:M$305, MATCH($G242, SavedResults!$G$19:$G$305, 0)), \"\"))","v":""},{"$f":"IF($I242 = $J$163, N$204,\n  IF($I242 < $J$163, INDEX(SavedResults!N$19:N$305, MATCH($G242, SavedResults!$G$19:$G$305, 0)), \"\"))","v":""},{"$f":"IF($I242 = $J$163, O$204,\n  IF($I242 < $J$163, INDEX(SavedResults!O$19:O$305, MATCH($G242, SavedResults!$G$19:$G$305, 0)), \"\"))","v":""},{"$f":"IF($I242 = $J$163, P$204,\n  IF($I242 < $J$163, INDEX(SavedResults!P$19:P$305, MATCH($G242, SavedResults!$G$19:$G$305, 0)), \"\"))","v":""},0,0]
[null,null,null,"NGGT.SO","R",2026,"NGGT.SO_R_2026",69,"2026-03-31","£m 18/19 prices",null,{"$f":"IF($I243 = $J$163, L$204,\n  IF($I243 < $J$163, INDEX(SavedResults!L$19:L$305, MATCH($G243, SavedResults!$G$19:$G$305, 0)), \"\"))","v":""},{"$f":"IF($I243 = $J$163, M$204,\n  IF($I243 < $J$163, INDEX(SavedResults!M$19:M$305, MATCH($G243, SavedResults!$G$19:$G$305, 0)), \"\"))","v":""},{"$f":"IF($I243 = $J$163, N$204,\n  IF($I243 < $J$163, INDEX(SavedResults!N$19:N$305, MATCH($G243, SavedResults!$G$19:$G$305, 0)), \"\"))","v":""},{"$f":"IF($I243 = $J$163, O$204,\n  IF($I243 < $J$163, INDEX(SavedResults!O$19:O$305, MATCH($G243, SavedResults!$G$19:$G$305, 0)), \"\"))","v":""},{"$f":"IF($I243 = $J$163, P$204,\n  IF($I243 < $J$163, INDEX(SavedResults!P$19:P$305, MATCH($G243, SavedResults!$G$19:$G$305, 0)), \"\"))","v":""},0,0]
[null,null,null,"NGGT.SO","R",2027,"NGGT.SO_R_2027",70,"2027-03-31","£m 18/19 prices",null,{"$f":"IF($I244 = $J$163, L$204,\n  IF($I244 < $J$163, INDEX(SavedResults!L$19:L$305, MATCH($G244, SavedResults!$G$19:$G$305, 0)), \"\"))","v":""},{"$f":"IF($I244 = $J$163, M$204,\n  IF($I244 < $J$163, INDEX(SavedResults!M$19:M$305, MATCH($G244, SavedResults!$G$19:$G$305, 0)), \"\"))","v":""},{"$f":"IF($I244 = $J$163, N$204,\n  IF($I244 < $J$163, INDEX(SavedResults!N$19:N$305, MATCH($G244, SavedResults!$G$19:$G$305, 0)), \"\"))","v":""},{"$f":"IF($I244 = $J$163, O$204,\n  IF($I244 < $J$163, INDEX(SavedResults!O$19:O$305, MATCH($G244, SavedResults!$G$19:$G$305, 0)), \"\"))","v":""},{"$f":"IF($I244 = $J$163, P$204,\n  IF($I244 < $J$163, INDEX(SavedResults!P$19:P$305, MATCH($G244, SavedResults!$G$19:$G$305, 0)), \"\"))","v":""},0,0]
[null,null,null,"NGGT.SO","R",2028,"NGGT.SO_R_2028",71,"2028-03-31","£m 18/19 prices",null,{"$f":"IF($I245 = $J$163, L$204,\n  IF($I245 < $J$163, INDEX(SavedResults!L$19:L$305, MATCH($G245, SavedResults!$G$19:$G$305, 0)), \"\"))","v":""},{"$f":"IF($I245 = $J$163, M$204,\n  IF($I245 < $J$163, INDEX(SavedResults!M$19:M$305, MATCH($G245, SavedResults!$G$19:$G$305, 0)), \"\"))","v":""},{"$f":"IF($I245 = $J$163, N$204,\n  IF($I245 < $J$163, INDEX(SavedResults!N$19:N$305, MATCH($G245, SavedResults!$G$19:$G$305, 0)), \"\"))","v":""},{"$f":"IF($I245 = $J$163, O$204,\n  IF($I245 < $J$163, INDEX(SavedResults!O$19:O$305, MATCH($G245, SavedResults!$G$19:$G$305, 0)), \"\"))","v":""},{"$f":"IF($I245 = $J$163, P$204,\n  IF($I245 < $J$163, INDEX(SavedResults!P$19:P$305, MATCH($G245, SavedResults!$G$19:$G$305, 0)), \"\"))","v":""},0,0]
[null,null,null,null,null,null,null,null,"Calculated revenue (nominal)",null,"SORt ∙ (Pt / P2018/19)"]
[null,null,null,"NGGT.SO","Rnominal",2022,{"$f":"D247&\"_\"&E247&\"_\"&F247","v":"NGGT.SO_Rnominal_2022"},{"$f":"MAX(H$167:H246) + 1","v":72},"2022-03-31","£m nominal",null,{"$f":"IF($I247 = $J$163, SOAR!AP$29,\n  IF($I247 < $J$163, INDEX(SavedResults!L$19:L$305, MATCH($G247, SavedResults!$G$19:$G$305, 0)), \"\"))","v":207.21046113584765},{"$f":"IF($I247 = $J$163, SOAR!AQ$29,\n  IF($I247 < $J$163, INDEX(SavedResults!M$19:M$305, MATCH($G247, SavedResults!$G$19:$G$305, 0)), \"\"))","v":198.45174695549071},{"$f":"IF($I247 = $J$163, SOAR!AR$29,\n  IF($I247 < $J$163, INDEX(SavedResults!N$19:N$305, MATCH($G247, SavedResults!$G$19:$G$305, 0)), \"\"))","v":207.42117467174248},{"$f":"IF($I247 = $J$163, SOAR!AS$29,\n  IF($I247 < $J$163, INDEX(SavedResults!O$19:O$305, MATCH($G247, SavedResults!$G$19:$G$305, 0)), \"\"))","v":200.03853198085054},{"$f":"IF($I247 = $J$163, SOAR!AT$29,\n  IF($I247 < $J$163, INDEX(SavedResults!P$19:P$305, MATCH($G247, SavedResults!$G$19:$G$305, 0)), \"\"))","v":190.78454080075042},1003.9064555446818,200.78129110893636]
[null,null,null,"NGGT.SO","Rnominal",2023,"NGGT.SO_Rnominal_2023",{"$f":"H247 + 1","v":73},"2023-03-31","£m nominal",null,{"$f":"IF($I248 = $J$163, SOAR!AP$29,\n  IF($I248 < $J$163, INDEX(SavedResults!L$19:L$305, MATCH($G248, SavedResults!$G$19:$G$305, 0)), \"\"))","v":""},{"$f":"IF($I248 = $J$163, SOAR!AQ$29,\n  IF($I248 < $J$163, INDEX(SavedResults!M$19:M$305, MATCH($G248, SavedResults!$G$19:$G$305, 0)), \"\"))","v":""},{"$f":"IF($I248 = $J$163, SOAR!AR$29,\n  IF($I248 < $J$163, INDEX(SavedResults!N$19:N$305, MATCH($G248, SavedResults!$G$19:$G$305, 0)), \"\"))","v":""},{"$f":"IF($I248 = $J$163, SOAR!AS$29,\n  IF($I248 < $J$163, INDEX(SavedResults!O$19:O$305, MATCH($G248, SavedResults!$G$19:$G$305, 0)), \"\"))","v":""},{"$f":"IF($I248 = $J$163, SOAR!AT$29,\n  IF($I248 < $J$163, INDEX(SavedResults!P$19:P$305, MATCH($G248, SavedResults!$G$19:$G$305, 0)), \"\"))","v":""},0,0]
[null,null,null,"NGGT.SO","Rnominal",2024,"NGGT.SO_Rnominal_2024",{"$f":"H248 + 1","v":74},"2024-03-31","£m nominal",null,{"$f":"IF($I249 = $J$163, SOAR!AP$29,\n  IF($I249 < $J$163, INDEX(SavedResults!L$19:L$305, MATCH($G249, SavedResults!$G$19:$G$305, 0)), \"\"))","v":""},{"$f":"IF($I249 = $J$163, SOAR!AQ$29,\n  IF($I249 < $J$163, INDEX(SavedResults!M$19:M$305, MATCH($G249, SavedResults!$G$19:$G$305, 0)), \"\"))","v":""},{"$f":"IF($I249 = $J$163, SOAR!AR$29,\n  IF($I249 < $J$163, INDEX(SavedResults!N$19:N$305, MATCH($G249, SavedResults!$G$19:$G$305, 0)), \"\"))","v":""},{"$f":"IF($I249 = $J$163, SOAR!AS$29,\n  IF($I249 < $J$163, INDEX(SavedResults!O$19:O$305, MATCH($G249, SavedResults!$G$19:$G$305, 0)), \"\"))","v":""},{"$f":"IF($I249 = $J$163, SOAR!AT$29,\n  IF($I249 < $J$163, INDEX(SavedResults!P$19:P$305, MATCH($G249, SavedResults!$G$19:$G$305, 0)), \"\"))","v":""},0,0]
[null,null,null,"NGGT.SO","Rnominal",2025,"NGGT.SO_Rnominal_2025",75,"2025-03-31","£m nominal",null,{"$f":"IF($I250 = $J$163, SOAR!AP$29,\n  IF($I250 < $J$163, INDEX(SavedResults!L$19:L$305, MATCH($G250, SavedResults!$G$19:$G$305, 0)), \"\"))","v":""},{"$f":"IF($I250 = $J$163, SOAR!AQ$29,\n  IF($I250 < $J$163, INDEX(SavedResults!M$19:M$305, MATCH($G250, SavedResults!$G$19:$G$305, 0)), \"\"))","v":""},{"$f":"IF($I250 = $J$163, SOAR!AR$29,\n  IF($I250 < $J$163, INDEX(SavedResults!N$19:N$305, MATCH($G250, SavedResults!$G$19:$G$305, 0)), \"\"))","v":""},{"$f":"IF($I250 = $J$163, SOAR!AS$29,\n  IF($I250 < $J$163, INDEX(SavedResults!O$19:O$305, MATCH($G250, SavedResults!$G$19:$G$305, 0)), \"\"))","v":""},{"$f":"IF($I250 = $J$163, SOAR!AT$29,\n  IF($I250 < $J$163, INDEX(SavedResults!P$19:P$305, MATCH($G250, SavedResults!$G$19:$G$305, 0)), \"\"))","v":""},0,0]
[null,null,null,"NGGT.SO","Rnominal",2026,"NGGT.SO_Rnominal_2026",76,"2026-03-31","£m nominal",null,{"$f":"IF($I251 = $J$163, SOAR!AP$29,\n  IF($I251 < $J$163, INDEX(SavedResults!L$19:L$305, MATCH($G251, SavedResults!$G$19:$G$305, 0)), \"\"))","v":""},{"$f":"IF($I251 = $J$163, SOAR!AQ$29,\n  IF($I251 < $J$163, INDEX(SavedResults!M$19:M$305, MATCH($G251, SavedResults!$G$19:$G$305, 0)), \"\"))","v":""},{"$f":"IF($I251 = $J$163, SOAR!AR$29,\n  IF($I251 < $J$163, INDEX(SavedResults!N$19:N$305, MATCH($G251, SavedResults!$G$19:$G$305, 0)), \"\"))","v":""},{"$f":"IF($I251 = $J$163, SOAR!AS$29,\n  IF($I251 < $J$163, INDEX(SavedResults!O$19:O$305, MATCH($G251, SavedResults!$G$19:$G$305, 0)), \"\"))","v":""},{"$f":"IF($I251 = $J$163, SOAR!AT$29,\n  IF($I251 < $J$163, INDEX(SavedResults!P$19:P$305, MATCH($G251, SavedResults!$G$19:$G$305, 0)), \"\"))","v":""},0,0]
[null,null,null,"NGGT.SO","Rnominal",2027,"NGGT.SO_Rnominal_2027",77,"2027-03-31","£m nominal",null,{"$f":"IF($I252 = $J$163, SOAR!AP$29,\n  IF($I252 < $J$163, INDEX(SavedResults!L$19:L$305, MATCH($G252, SavedResults!$G$19:$G$305, 0)), \"\"))","v":""},{"$f":"IF($I252 = $J$163, SOAR!AQ$29,\n  IF($I252 < $J$163, INDEX(SavedResults!M$19:M$305, MATCH($G252, SavedResults!$G$19:$G$305, 0)), \"\"))","v":""},{"$f":"IF($I252 = $J$163, SOAR!AR$29,\n  IF($I252 < $J$163, INDEX(SavedResults!N$19:N$305, MATCH($G252, SavedResults!$G$19:$G$305, 0)), \"\"))","v":""},{"$f":"IF($I252 = $J$163, SOAR!AS$29,\n  IF($I252 < $J$163, INDEX(SavedResults!O$19:O$305, MATCH($G252, SavedResults!$G$19:$G$305, 0)), \"\"))","v":""},{"$f":"IF($I252 = $J$163, SOAR!AT$29,\n  IF($I252 < $J$163, INDEX(SavedResults!P$19:P$305, MATCH($G252, SavedResults!$G$19:$G$305, 0)), \"\"))","v":""},0,0]
[null,null,null,"NGGT.SO","Rnominal",2028,"NGGT.SO_Rnominal_2028",78,"2028-03-31","£m nominal",null,{"$f":"IF($I253 = $J$163, SOAR!AP$29,\n  IF($I253 < $J$163, INDEX(SavedResults!L$19:L$305, MATCH($G253, SavedResults!$G$19:$G$305, 0)), \"\"))","v":""},{"$f":"IF($I253 = $J$163, SOAR!AQ$29,\n  IF($I253 < $J$163, INDEX(SavedResults!M$19:M$305, MATCH($G253, SavedResults!$G$19:$G$305, 0)), \"\"))","v":""},{"$f":"IF($I253 = $J$163, SOAR!AR$29,\n  IF($I253 < $J$163, INDEX(SavedResults!N$19:N$305, MATCH($G253, SavedResults!$G$19:$G$305, 0)), \"\"))","v":""},{"$f":"IF($I253 = $J$163, SOAR!AS$29,\n  IF($I253 < $J$163, INDEX(SavedResults!O$19:O$305, MATCH($G253, SavedResults!$G$19:$G$305, 0)), \"\"))","v":""},{"$f":"IF($I253 = $J$163, SOAR!AT$29,\n  IF($I253 < $J$163, INDEX(SavedResults!P$19:P$305, MATCH($G253, SavedResults!$G$19:$G$305, 0)), \"\"))","v":""},0,0]
[null,null,null,null,null,null,null,null,"AIP adjustment term",null,"SOADJt"]
[null,null,null,"NGGT.SO","ADJ",2022,{"$f":"D255&\"_\"&E255&\"_\"&F255","v":"NGGT.SO_ADJ_2022"},{"$f":"MAX(H$167:H254) + 1","v":79},"2022-03-31","£m nominal",null,{"$f":"IF($I255 = $J$163, SOAR!AP$30,\n  IF($I255 < $J$163, INDEX(SavedResults!L$19:L$305, MATCH($G255, SavedResults!$G$19:$G$305, 0)), \"\"))","v":0},{"$f":"IF($I255 = $J$163, SOAR!AQ$30,\n  IF($I255 < $J$163, INDEX(SavedResults!M$19:M$305, MATCH($G255, SavedResults!$G$19:$G$305, 0)), \"\"))","v":1.0369804592625044E-2},{"$f":"IF($I255 = $J$163, SOAR!AR$30,\n  IF($I255 < $J$163, INDEX(SavedResults!N$19:N$305, MATCH($G255, SavedResults!$G$19:$G$305, 0)), \"\"))","v":0},{"$f":"IF($I255 = $J$163, SOAR!AS$30,\n  IF($I255 < $J$163, INDEX(SavedResults!O$19:O$305, MATCH($G255, SavedResults!$G$19:$G$305, 0)), \"\"))","v":0},{"$f":"IF($I255 = $J$163, SOAR!AT$30,\n  IF($I255 < $J$163, INDEX(SavedResults!P$19:P$305, MATCH($G255, SavedResults!$G$19:$G$305, 0)), \"\"))","v":0},{"$f":"SUM($L255:$P255)","v":1.0369804592625044E-2},{"$f":"IFERROR( AVERAGE($L255:$P255), 0)","v":2.0739609185250088E-3}]
[null,null,null,"NGGT.SO","ADJ",2023,"NGGT.SO_ADJ_2023",{"$f":"H255 + 1","v":80},"2023-03-31","£m nominal",null,{"$f":"IF($I256 = $J$163, SOAR!AP$30,\n  IF($I256 < $J$163, INDEX(SavedResults!L$19:L$305, MATCH($G256, SavedResults!$G$19:$G$305, 0)), \"\"))","v":""},{"$f":"IF($I256 = $J$163, SOAR!AQ$30,\n  IF($I256 < $J$163, INDEX(SavedResults!M$19:M$305, MATCH($G256, SavedResults!$G$19:$G$305, 0)), \"\"))","v":""},{"$f":"IF($I256 = $J$163, SOAR!AR$30,\n  IF($I256 < $J$163, INDEX(SavedResults!N$19:N$305, MATCH($G256, SavedResults!$G$19:$G$305, 0)), \"\"))","v":""},{"$f":"IF($I256 = $J$163, SOAR!AS$30,\n  IF($I256 < $J$163, INDEX(SavedResults!O$19:O$305, MATCH($G256, SavedResults!$G$19:$G$305, 0)), \"\"))","v":""},{"$f":"IF($I256 = $J$163, SOAR!AT$30,\n  IF($I256 < $J$163, INDEX(SavedResults!P$19:P$305, MATCH($G256, SavedResults!$G$19:$G$305, 0)), \"\"))","v":""},0,0]
[null,null,null,"NGGT.SO","ADJ",2024,"NGGT.SO_ADJ_2024",{"$f":"H256 + 1","v":81},"2024-03-31","£m nominal",null,{"$f":"IF($I257 = $J$163, SOAR!AP$30,\n  IF($I257 < $J$163, INDEX(SavedResults!L$19:L$305, MATCH($G257, SavedResults!$G$19:$G$305, 0)), \"\"))","v":""},{"$f":"IF($I257 = $J$163, SOAR!AQ$30,\n  IF($I257 < $J$163, INDEX(SavedResults!M$19:M$305, MATCH($G257, SavedResults!$G$19:$G$305, 0)), \"\"))","v":""},{"$f":"IF($I257 = $J$163, SOAR!AR$30,\n  IF($I257 < $J$163, INDEX(SavedResults!N$19:N$305, MATCH($G257, SavedResults!$G$19:$G$305, 0)), \"\"))","v":""},{"$f":"IF($I257 = $J$163, SOAR!AS$30,\n  IF($I257 < $J$163, INDEX(SavedResults!O$19:O$305, MATCH($G257, SavedResults!$G$19:$G$305, 0)), \"\"))","v":""},{"$f":"IF($I257 = $J$163, SOAR!AT$30,\n  IF($I257 < $J$163, INDEX(SavedResults!P$19:P$305, MATCH($G257, SavedResults!$G$19:$G$305, 0)), \"\"))","v":""},0,0]
[null,null,null,"NGGT.SO","ADJ",2025,"NGGT.SO_ADJ_2025",82,"2025-03-31","£m nominal",null,{"$f":"IF($I258 = $J$163, SOAR!AP$30,\n  IF($I258 < $J$163, INDEX(SavedResults!L$19:L$305, MATCH($G258, SavedResults!$G$19:$G$305, 0)), \"\"))","v":""},{"$f":"IF($I258 = $J$163, SOAR!AQ$30,\n  IF($I258 < $J$163, INDEX(SavedResults!M$19:M$305, MATCH($G258, SavedResults!$G$19:$G$305, 0)), \"\"))","v":""},{"$f":"IF($I258 = $J$163, SOAR!AR$30,\n  IF($I258 < $J$163, INDEX(SavedResults!N$19:N$305, MATCH($G258, SavedResults!$G$19:$G$305, 0)), \"\"))","v":""},{"$f":"IF($I258 = $J$163, SOAR!AS$30,\n  IF($I258 < $J$163, INDEX(SavedResults!O$19:O$305, MATCH($G258, SavedResults!$G$19:$G$305, 0)), \"\"))","v":""},{"$f":"IF($I258 = $J$163, SOAR!AT$30,\n  IF($I258 < $J$163, INDEX(SavedResults!P$19:P$305, MATCH($G258, SavedResults!$G$19:$G$305, 0)), \"\"))","v":""},0,0]
[null,null,null,"NGGT.SO","ADJ",2026,"NGGT.SO_ADJ_2026",83,"2026-03-31","£m nominal",null,{"$f":"IF($I259 = $J$163, SOAR!AP$30,\n  IF($I259 < $J$163, INDEX(SavedResults!L$19:L$305, MATCH($G259, SavedResults!$G$19:$G$305, 0)), \"\"))","v":""},{"$f":"IF($I259 = $J$163, SOAR!AQ$30,\n  IF($I259 < $J$163, INDEX(SavedResults!M$19:M$305, MATCH($G259, SavedResults!$G$19:$G$305, 0)), \"\"))","v":""},{"$f":"IF($I259 = $J$163, SOAR!AR$30,\n  IF($I259 < $J$163, INDEX(SavedResults!N$19:N$305, MATCH($G259, SavedResults!$G$19:$G$305, 0)), \"\"))","v":""},{"$f":"IF($I259 = $J$163, SOAR!AS$30,\n  IF($I259 < $J$163, INDEX(SavedResults!O$19:O$305, MATCH($G259, SavedResults!$G$19:$G$305, 0)), \"\"))","v":""},{"$f":"IF($I259 = $J$163, SOAR!AT$30,\n  IF($I259 < $J$163, INDEX(SavedResults!P$19:P$305, MATCH($G259, SavedResults!$G$19:$G$305, 0)), \"\"))","v":""},0,0]
[null,null,null,"NGGT.SO","ADJ",2027,"NGGT.SO_ADJ_2027",84,"2027-03-31","£m nominal",null,{"$f":"IF($I260 = $J$163, SOAR!AP$30,\n  IF($I260 < $J$163, INDEX(SavedResults!L$19:L$305, MATCH($G260, SavedResults!$G$19:$G$305, 0)), \"\"))","v":""},{"$f":"IF($I260 = $J$163, SOAR!AQ$30,\n  IF($I260 < $J$163, INDEX(SavedResults!M$19:M$305, MATCH($G260, SavedResults!$G$19:$G$305, 0)), \"\"))","v":""},{"$f":"IF($I260 = $J$163, SOAR!AR$30,\n  IF($I260 < $J$163, INDEX(SavedResults!N$19:N$305, MATCH($G260, SavedResults!$G$19:$G$305, 0)), \"\"))","v":""},{"$f":"IF($I260 = $J$163, SOAR!AS$30,\n  IF($I260 < $J$163, INDEX(SavedResults!O$19:O$305, MATCH($G260, SavedResults!$G$19:$G$305, 0)), \"\"))","v":""},{"$f":"IF($I260 = $J$163, SOAR!AT$30,\n  IF($I260 < $J$163, INDEX(SavedResults!P$19:P$305, MATCH($G260, SavedResults!$G$19:$G$305, 0)), \"\"))","v":""},0,0]
[null,null,null,"NGGT.SO","ADJ",2028,"NGGT.SO_ADJ_2028",85,"2028-03-31","£m nominal",null,{"$f":"IF($I261 = $J$163, SOAR!AP$30,\n  IF($I261 < $J$163, INDEX(SavedResults!L$19:L$305, MATCH($G261, SavedResults!$G$19:$G$305, 0)), \"\"))","v":""},{"$f":"IF($I261 = $J$163, SOAR!AQ$30,\n  IF($I261 < $J$163, INDEX(SavedResults!M$19:M$305, MATCH($G261, SavedResults!$G$19:$G$305, 0)), \"\"))","v":""},{"$f":"IF($I261 = $J$163, SOAR!AR$30,\n  IF($I261 < $J$163, INDEX(SavedResults!N$19:N$305, MATCH($G261, SavedResults!$G$19:$G$305, 0)), \"\"))","v":""},{"$f":"IF($I261 = $J$163, SOAR!AS$30,\n  IF($I261 < $J$163, INDEX(SavedResults!O$19:O$305, MATCH($G261, SavedResults!$G$19:$G$305, 0)), \"\"))","v":""},{"$f":"IF($I261 = $J$163, SOAR!AT$30,\n  IF($I261 < $J$163, INDEX(SavedResults!P$19:P$305, MATCH($G261, SavedResults!$G$19:$G$305, 0)), \"\"))","v":""},0,0]
[null,null,null,null,null,null,null,null,"Adjusted revenue",null,"SOADJRt"]
[null,null,null,"NGGT.SO","ADJR",2022,{"$f":"D263&\"_\"&E263&\"_\"&F263","v":"NGGT.SO_ADJR_2022"},{"$f":"MAX(H$167:H262) + 1","v":86},"2022-03-31","£m nominal",null,{"$f":"IF($I263 = $J$163, SOAR!AP$12,\n  IF($I263 < $J$163, INDEX(SavedResults!L$19:L$305, MATCH($G263, SavedResults!$G$19:$G$305, 0)), \"\"))","v":207.20055528052421},{"$f":"IF($I263 = $J$163, SOAR!AQ$12,\n  IF($I263 < $J$163, INDEX(SavedResults!M$19:M$305, MATCH($G263, SavedResults!$G$19:$G$305, 0)), \"\"))","v":198.46211676008332},{"$f":"IF($I263 = $J$163, SOAR!AR$12,\n  IF($I263 < $J$163, INDEX(SavedResults!N$19:N$305, MATCH($G263, SavedResults!$G$19:$G$305, 0)), \"\"))","v":207.42117467174248},{"$f":"IF($I263 = $J$163, SOAR!AS$12,\n  IF($I263 < $J$163, INDEX(SavedResults!O$19:O$305, MATCH($G263, SavedResults!$G$19:$G$305, 0)), \"\"))","v":200.03853198085054},{"$f":"IF($I263 = $J$163, SOAR!AT$12,\n  IF($I263 < $J$163, INDEX(SavedResults!P$19:P$305, MATCH($G263, SavedResults!$G$19:$G$305, 0)), \"\"))","v":190.78454080075042},{"$f":"SUM($L263:$P263)","v":1003.9069194939509},{"$f":"IFERROR( AVERAGE($L263:$P263), 0)","v":200.78138389879018}]
[null,null,null,"NGGT.SO","ADJR",2023,"NGGT.SO_ADJR_2023",{"$f":"H263 + 1","v":87},"2023-03-31","£m nominal",null,{"$f":"IF($I264 = $J$163, SOAR!AP$12,\n  IF($I264 < $J$163, INDEX(SavedResults!L$19:L$305, MATCH($G264, SavedResults!$G$19:$G$305, 0)), \"\"))","v":""},{"$f":"IF($I264 = $J$163, SOAR!AQ$12,\n  IF($I264 < $J$163, INDEX(SavedResults!M$19:M$305, MATCH($G264, SavedResults!$G$19:$G$305, 0)), \"\"))","v":""},{"$f":"IF($I264 = $J$163, SOAR!AR$12,\n  IF($I264 < $J$163, INDEX(SavedResults!N$19:N$305, MATCH($G264, SavedResults!$G$19:$G$305, 0)), \"\"))","v":""},{"$f":"IF($I264 = $J$163, SOAR!AS$12,\n  IF($I264 < $J$163, INDEX(SavedResults!O$19:O$305, MATCH($G264, SavedResults!$G$19:$G$305, 0)), \"\"))","v":""},{"$f":"IF($I264 = $J$163, SOAR!AT$12,\n  IF($I264 < $J$163, INDEX(SavedResults!P$19:P$305, MATCH($G264, SavedResults!$G$19:$G$305, 0)), \"\"))","v":""},0,0]
[null,null,null,"NGGT.SO","ADJR",2024,"NGGT.SO_ADJR_2024",{"$f":"H264 + 1","v":88},"2024-03-31","£m nominal",null,{"$f":"IF($I265 = $J$163, SOAR!AP$12,\n  IF($I265 < $J$163, INDEX(SavedResults!L$19:L$305, MATCH($G265, SavedResults!$G$19:$G$305, 0)), \"\"))","v":""},{"$f":"IF($I265 = $J$163, SOAR!AQ$12,\n  IF($I265 < $J$163, INDEX(SavedResults!M$19:M$305, MATCH($G265, SavedResults!$G$19:$G$305, 0)), \"\"))","v":""},{"$f":"IF($I265 = $J$163, SOAR!AR$12,\n  IF($I265 < $J$163, INDEX(SavedResults!N$19:N$305, MATCH($G265, SavedResults!$G$19:$G$305, 0)), \"\"))","v":""},{"$f":"IF($I265 = $J$163, SOAR!AS$12,\n  IF($I265 < $J$163, INDEX(SavedResults!O$19:O$305, MATCH($G265, SavedResults!$G$19:$G$305, 0)), \"\"))","v":""},{"$f":"IF($I265 = $J$163, SOAR!AT$12,\n  IF($I265 < $J$163, INDEX(SavedResults!P$19:P$305, MATCH($G265, SavedResults!$G$19:$G$305, 0)), \"\"))","v":""},0,0]
[null,null,null,"NGGT.SO","ADJR",2025,"NGGT.SO_ADJR_2025",89,"2025-03-31","£m nominal",null,{"$f":"IF($I266 = $J$163, SOAR!AP$12,\n  IF($I266 < $J$163, INDEX(SavedResults!L$19:L$305, MATCH($G266, SavedResults!$G$19:$G$305, 0)), \"\"))","v":""},{"$f":"IF($I266 = $J$163, SOAR!AQ$12,\n  IF($I266 < $J$163, INDEX(SavedResults!M$19:M$305, MATCH($G266, SavedResults!$G$19:$G$305, 0)), \"\"))","v":""},{"$f":"IF($I266 = $J$163, SOAR!AR$12,\n  IF($I266 < $J$163, INDEX(SavedResults!N$19:N$305, MATCH($G266, SavedResults!$G$19:$G$305, 0)), \"\"))","v":""},{"$f":"IF($I266 = $J$163, SOAR!AS$12,\n  IF($I266 < $J$163, INDEX(SavedResults!O$19:O$305, MATCH($G266, SavedResults!$G$19:$G$305, 0)), \"\"))","v":""},{"$f":"IF($I266 = $J$163, SOAR!AT$12,\n  IF($I266 < $J$163, INDEX(SavedResults!P$19:P$305, MATCH($G266, SavedResults!$G$19:$G$305, 0)), \"\"))","v":""},0,0]
[null,null,null,"NGGT.SO","ADJR",2026,"NGGT.SO_ADJR_2026",90,"2026-03-31","£m nominal",null,{"$f":"IF($I267 = $J$163, SOAR!AP$12,\n  IF($I267 < $J$163, INDEX(SavedResults!L$19:L$305, MATCH($G267, SavedResults!$G$19:$G$305, 0)), \"\"))","v":""},{"$f":"IF($I267 = $J$163, SOAR!AQ$12,\n  IF($I267 < $J$163, INDEX(SavedResults!M$19:M$305, MATCH($G267, SavedResults!$G$19:$G$305, 0)), \"\"))","v":""},{"$f":"IF($I267 = $J$163, SOAR!AR$12,\n  IF($I267 < $J$163, INDEX(SavedResults!N$19:N$305, MATCH($G267, SavedResults!$G$19:$G$305, 0)), \"\"))","v":""},{"$f":"IF($I267 = $J$163, SOAR!AS$12,\n  IF($I267 < $J$163, INDEX(SavedResults!O$19:O$305, MATCH($G267, SavedResults!$G$19:$G$305, 0)), \"\"))","v":""},{"$f":"IF($I267 = $J$163, SOAR!AT$12,\n  IF($I267 < $J$163, INDEX(SavedResults!P$19:P$305, MATCH($G267, SavedResults!$G$19:$G$305, 0)), \"\"))","v":""},0,0]
[null,null,null,"NGGT.SO","ADJR",2027,"NGGT.SO_ADJR_2027",91,"2027-03-31","£m nominal",null,{"$f":"IF($I268 = $J$163, SOAR!AP$12,\n  IF($I268 < $J$163, INDEX(SavedResults!L$19:L$305, MATCH($G268, SavedResults!$G$19:$G$305, 0)), \"\"))","v":""},{"$f":"IF($I268 = $J$163, SOAR!AQ$12,\n  IF($I268 < $J$163, INDEX(SavedResults!M$19:M$305, MATCH($G268, SavedResults!$G$19:$G$305, 0)), \"\"))","v":""},{"$f":"IF($I268 = $J$163, SOAR!AR$12,\n  IF($I268 < $J$163, INDEX(SavedResults!N$19:N$305, MATCH($G268, SavedResults!$G$19:$G$305, 0)), \"\"))","v":""},{"$f":"IF($I268 = $J$163, SOAR!AS$12,\n  IF($I268 < $J$163, INDEX(SavedResults!O$19:O$305, MATCH($G268, SavedResults!$G$19:$G$305, 0)), \"\"))","v":""},{"$f":"IF($I268 = $J$163, SOAR!AT$12,\n  IF($I268 < $J$163, INDEX(SavedResults!P$19:P$305, MATCH($G268, SavedResults!$G$19:$G$305, 0)), \"\"))","v":""},0,0]
[null,null,null,"NGGT.SO","ADJR",2028,"NGGT.SO_ADJR_2028",92,"2028-03-31","£m nominal",null,{"$f":"IF($I269 = $J$163, SOAR!AP$12,\n  IF($I269 < $J$163, INDEX(SavedResults!L$19:L$305, MATCH($G269, SavedResults!$G$19:$G$305, 0)), \"\"))","v":""},{"$f":"IF($I269 = $J$163, SOAR!AQ$12,\n  IF($I269 < $J$163, INDEX(SavedResults!M$19:M$305, MATCH($G269, SavedResults!$G$19:$G$305, 0)), \"\"))","v":""},{"$f":"IF($I269 = $J$163, SOAR!AR$12,\n  IF($I269 < $J$163, INDEX(SavedResults!N$19:N$305, MATCH($G269, SavedResults!$G$19:$G$305, 0)), \"\"))","v":""},{"$f":"IF($I269 = $J$163, SOAR!AS$12,\n  IF($I269 < $J$163, INDEX(SavedResults!O$19:O$305, MATCH($G269, SavedResults!$G$19:$G$305, 0)), \"\"))","v":""},{"$f":"IF($I269 = $J$163, SOAR!AT$12,\n  IF($I269 < $J$163, INDEX(SavedResults!P$19:P$305, MATCH($G269, SavedResults!$G$19:$G$305, 0)), \"\"))","v":""},0,0]
[null,null,null,null,null,null,null,null,"Legacy allowed revenue",null,"SOLARt"]
[null,null,null,"NGGT.SO","LAR",2022,{"$f":"D271&\"_\"&E271&\"_\"&F271","v":"NGGT.SO_LAR_2022"},{"$f":"MAX(H$167:H270) + 1","v":93},"2022-03-31","£m nominal",null,{"$f":"IF($I271 = $J$163, SOAR!AP$14,\n  IF($I271 < $J$163, INDEX(SavedResults!L$19:L$305, MATCH($G271, SavedResults!$G$19:$G$305, 0)), \"\"))","v":-5.7474662466209026},{"$f":"IF($I271 = $J$163, SOAR!AQ$14,\n  IF($I271 < $J$163, INDEX(SavedResults!M$19:M$305, MATCH($G271, SavedResults!$G$19:$G$305, 0)), \"\"))","v":-28.269199837724141},{"$f":"IF($I271 = $J$163, SOAR!AR$14,\n  IF($I271 < $J$163, INDEX(SavedResults!N$19:N$305, MATCH($G271, SavedResults!$G$19:$G$305, 0)), \"\"))","v":0},{"$f":"IF($I271 = $J$163, SOAR!AS$14,\n  IF($I271 < $J$163, INDEX(SavedResults!O$19:O$305, MATCH($G271, SavedResults!$G$19:$G$305, 0)), \"\"))","v":0},{"$f":"IF($I271 = $J$163, SOAR!AT$14,\n  IF($I271 < $J$163, INDEX(SavedResults!P$19:P$305, MATCH($G271, SavedResults!$G$19:$G$305, 0)), \"\"))","v":0},{"$f":"SUM($L271:$P271)","v":-34.016666084345047},{"$f":"IFERROR( AVERAGE($L271:$P271), 0)","v":-6.8033332168690093}]
[null,null,null,"NGGT.SO","LAR",2023,"NGGT.SO_LAR_2023",{"$f":"H271 + 1","v":94},"2023-03-31","£m nominal",null,{"$f":"IF($I272 = $J$163, SOAR!AP$14,\n  IF($I272 < $J$163, INDEX(SavedResults!L$19:L$305, MATCH($G272, SavedResults!$G$19:$G$305, 0)), \"\"))","v":""},{"$f":"IF($I272 = $J$163, SOAR!AQ$14,\n  IF($I272 < $J$163, INDEX(SavedResults!M$19:M$305, MATCH($G272, SavedResults!$G$19:$G$305, 0)), \"\"))","v":""},{"$f":"IF($I272 = $J$163, SOAR!AR$14,\n  IF($I272 < $J$163, INDEX(SavedResults!N$19:N$305, MATCH($G272, SavedResults!$G$19:$G$305, 0)), \"\"))","v":""},{"$f":"IF($I272 = $J$163, SOAR!AS$14,\n  IF($I272 < $J$163, INDEX(SavedResults!O$19:O$305, MATCH($G272, SavedResults!$G$19:$G$305, 0)), \"\"))","v":""},{"$f":"IF($I272 = $J$163, SOAR!AT$14,\n  IF($I272 < $J$163, INDEX(SavedResults!P$19:P$305, MATCH($G272, SavedResults!$G$19:$G$305, 0)), \"\"))","v":""},0,0]
[null,null,null,"NGGT.SO","LAR",2024,"NGGT.SO_LAR_2024",{"$f":"H272 + 1","v":95},"2024-03-31","£m nominal",null,{"$f":"IF($I273 = $J$163, SOAR!AP$14,\n  IF($I273 < $J$163, INDEX(SavedResults!L$19:L$305, MATCH($G273, SavedResults!$G$19:$G$305, 0)), \"\"))","v":""},{"$f":"IF($I273 = $J$163, SOAR!AQ$14,\n  IF($I273 < $J$163, INDEX(SavedResults!M$19:M$305, MATCH($G273, SavedResults!$G$19:$G$305, 0)), \"\"))","v":""},{"$f":"IF($I273 = $J$163, SOAR!AR$14,\n  IF($I273 < $J$163, INDEX(SavedResults!N$19:N$305, MATCH($G273, SavedResults!$G$19:$G$305, 0)), \"\"))","v":""},{"$f":"IF($I273 = $J$163, SOAR!AS$14,\n  IF($I273 < $J$163, INDEX(SavedResults!O$19:O$305, MATCH($G273, SavedResults!$G$19:$G$305, 0)), \"\"))","v":""},{"$f":"IF($I273 = $J$163, SOAR!AT$14,\n  IF($I273 < $J$163, INDEX(SavedResults!P$19:P$305, MATCH($G273, SavedResults!$G$19:$G$305, 0)), \"\"))","v":""},0,0]
[null,null,null,"NGGT.SO","LAR",2025,"NGGT.SO_LAR_2025",96,"2025-03-31","£m nominal",null,{"$f":"IF($I274 = $J$163, SOAR!AP$14,\n  IF($I274 < $J$163, INDEX(SavedResults!L$19:L$305, MATCH($G274, SavedResults!$G$19:$G$305, 0)), \"\"))","v":""},{"$f":"IF($I274 = $J$163, SOAR!AQ$14,\n  IF($I274 < $J$163, INDEX(SavedResults!M$19:M$305, MATCH($G274, SavedResults!$G$19:$G$305, 0)), \"\"))","v":""},{"$f":"IF($I274 = $J$163, SOAR!AR$14,\n  IF($I274 < $J$163, INDEX(SavedResults!N$19:N$305, MATCH($G274, SavedResults!$G$19:$G$305, 0)), \"\"))","v":""},{"$f":"IF($I274 = $J$163, SOAR!AS$14,\n  IF($I274 < $J$163, INDEX(SavedResults!O$19:O$305, MATCH($G274, SavedResults!$G$19:$G$305, 0)), \"\"))","v":""},{"$f":"IF($I274 = $J$163, SOAR!AT$14,\n  IF($I274 < $J$163, INDEX(SavedResults!P$19:P$305, MATCH($G274, SavedResults!$G$19:$G$305, 0)), \"\"))","v":""},0,0]
[null,null,null,"NGGT.SO","LAR",2026,"NGGT.SO_LAR_2026",97,"2026-03-31","£m nominal",null,{"$f":"IF($I275 = $J$163, SOAR!AP$14,\n  IF($I275 < $J$163, INDEX(SavedResults!L$19:L$305, MATCH($G275, SavedResults!$G$19:$G$305, 0)), \"\"))","v":""},{"$f":"IF($I275 = $J$163, SOAR!AQ$14,\n  IF($I275 < $J$163, INDEX(SavedResults!M$19:M$305, MATCH($G275, SavedResults!$G$19:$G$305, 0)), \"\"))","v":""},{"$f":"IF($I275 = $J$163, SOAR!AR$14,\n  IF($I275 < $J$163, INDEX(SavedResults!N$19:N$305, MATCH($G275, SavedResults!$G$19:$G$305, 0)), \"\"))","v":""},{"$f":"IF($I275 = $J$163, SOAR!AS$14,\n  IF($I275 < $J$163, INDEX(SavedResults!O$19:O$305, MATCH($G275, SavedResults!$G$19:$G$305, 0)), \"\"))","v":""},{"$f":"IF($I275 = $J$163, SOAR!AT$14,\n  IF($I275 < $J$163, INDEX(SavedResults!P$19:P$305, MATCH($G275, SavedResults!$G$19:$G$305, 0)), \"\"))","v":""},0,0]
[null,null,null,"NGGT.SO","LAR",2027,"NGGT.SO_LAR_2027",98,"2027-03-31","£m nominal",null,{"$f":"IF($I276 = $J$163, SOAR!AP$14,\n  IF($I276 < $J$163, INDEX(SavedResults!L$19:L$305, MATCH($G276, SavedResults!$G$19:$G$305, 0)), \"\"))","v":""},{"$f":"IF($I276 = $J$163, SOAR!AQ$14,\n  IF($I276 < $J$163, INDEX(SavedResults!M$19:M$305, MATCH($G276, SavedResults!$G$19:$G$305, 0)), \"\"))","v":""},{"$f":"IF($I276 = $J$163, SOAR!AR$14,\n  IF($I276 < $J$163, INDEX(SavedResults!N$19:N$305, MATCH($G276, SavedResults!$G$19:$G$305, 0)), \"\"))","v":""},{"$f":"IF($I276 = $J$163, SOAR!AS$14,\n  IF($I276 < $J$163, INDEX(SavedResults!O$19:O$305, MATCH($G276, SavedResults!$G$19:$G$305, 0)), \"\"))","v":""},{"$f":"IF($I276 = $J$163, SOAR!AT$14,\n  IF($I276 < $J$163, INDEX(SavedResults!P$19:P$305, MATCH($G276, SavedResults!$G$19:$G$305, 0)), \"\"))","v":""},0,0]
[null,null,null,"NGGT.SO","LAR",2028,"NGGT.SO_LAR_2028",99,"2028-03-31","£m nominal",null,{"$f":"IF($I277 = $J$163, SOAR!AP$14,\n  IF($I277 < $J$163, INDEX(SavedResults!L$19:L$305, MATCH($G277, SavedResults!$G$19:$G$305, 0)), \"\"))","v":""},{"$f":"IF($I277 = $J$163, SOAR!AQ$14,\n  IF($I277 < $J$163, INDEX(SavedResults!M$19:M$305, MATCH($G277, SavedResults!$G$19:$G$305, 0)), \"\"))","v":""},{"$f":"IF($I277 = $J$163, SOAR!AR$14,\n  IF($I277 < $J$163, INDEX(SavedResults!N$19:N$305, MATCH($G277, SavedResults!$G$19:$G$305, 0)), \"\"))","v":""},{"$f":"IF($I277 = $J$163, SOAR!AS$14,\n  IF($I277 < $J$163, INDEX(SavedResults!O$19:O$305, MATCH($G277, SavedResults!$G$19:$G$305, 0)), \"\"))","v":""},{"$f":"IF($I277 = $J$163, SOAR!AT$14,\n  IF($I277 < $J$163, INDEX(SavedResults!P$19:P$305, MATCH($G277, SavedResults!$G$19:$G$305, 0)), \"\"))","v":""},0,0]
[null,null,null,null,null,null,null,null,"Correction term",null,"Kt"]
[null,null,null,"NGGT.SO","K",2022,{"$f":"D279&\"_\"&E279&\"_\"&F279","v":"NGGT.SO_K_2022"},{"$f":"MAX(H$167:H278) + 1","v":100},"2022-03-31","£m nominal",null,{"$f":"IF($I279 = $J$163, SOAR!AP$15,\n  IF($I279 < $J$163, INDEX(SavedResults!L$19:L$305, MATCH($G279, SavedResults!$G$19:$G$305, 0)), \"\"))","v":-60.208401899228669},{"$f":"IF($I279 = $J$163, SOAR!AQ$15,\n  IF($I279 < $J$163, INDEX(SavedResults!M$19:M$305, MATCH($G279, SavedResults!$G$19:$G$305, 0)), \"\"))","v":0},{"$f":"IF($I279 = $J$163, SOAR!AR$15,\n  IF($I279 < $J$163, INDEX(SavedResults!N$19:N$305, MATCH($G279, SavedResults!$G$19:$G$305, 0)), \"\"))","v":0},{"$f":"IF($I279 = $J$163, SOAR!AS$15,\n  IF($I279 < $J$163, INDEX(SavedResults!O$19:O$305, MATCH($G279, SavedResults!$G$19:$G$305, 0)), \"\"))","v":0},{"$f":"IF($I279 = $J$163, SOAR!AT$15,\n  IF($I279 < $J$163, INDEX(SavedResults!P$19:P$305, MATCH($G279, SavedResults!$G$19:$G$305, 0)), \"\"))","v":0},{"$f":"SUM($L279:$P279)","v":-60.208401899228669},{"$f":"IFERROR( AVERAGE($L279:$P279), 0)","v":-12.041680379845733}]
[null,null,null,"NGGT.SO","K",2023,"NGGT.SO_K_2023",{"$f":"H279 + 1","v":101},"2023-03-31","£m nominal",null,{"$f":"IF($I280 = $J$163, SOAR!AP$15,\n  IF($I280 < $J$163, INDEX(SavedResults!L$19:L$305, MATCH($G280, SavedResults!$G$19:$G$305, 0)), \"\"))","v":""},{"$f":"IF($I280 = $J$163, SOAR!AQ$15,\n  IF($I280 < $J$163, INDEX(SavedResults!M$19:M$305, MATCH($G280, SavedResults!$G$19:$G$305, 0)), \"\"))","v":""},{"$f":"IF($I280 = $J$163, SOAR!AR$15,\n  IF($I280 < $J$163, INDEX(SavedResults!N$19:N$305, MATCH($G280, SavedResults!$G$19:$G$305, 0)), \"\"))","v":""},{"$f":"IF($I280 = $J$163, SOAR!AS$15,\n  IF($I280 < $J$163, INDEX(SavedResults!O$19:O$305, MATCH($G280, SavedResults!$G$19:$G$305, 0)), \"\"))","v":""},{"$f":"IF($I280 = $J$163, SOAR!AT$15,\n  IF($I280 < $J$163, INDEX(SavedResults!P$19:P$305, MATCH($G280, SavedResults!$G$19:$G$305, 0)), \"\"))","v":""},0,0]
[null,null,null,"NGGT.SO","K",2024,"NGGT.SO_K_2024",{"$f":"H280 + 1","v":102},"2024-03-31","£m nominal",null,{"$f":"IF($I281 = $J$163, SOAR!AP$15,\n  IF($I281 < $J$163, INDEX(SavedResults!L$19:L$305, MATCH($G281, SavedResults!$G$19:$G$305, 0)), \"\"))","v":""},{"$f":"IF($I281 = $J$163, SOAR!AQ$15,\n  IF($I281 < $J$163, INDEX(SavedResults!M$19:M$305, MATCH($G281, SavedResults!$G$19:$G$305, 0)), \"\"))","v":""},{"$f":"IF($I281 = $J$163, SOAR!AR$15,\n  IF($I281 < $J$163, INDEX(SavedResults!N$19:N$305, MATCH($G281, SavedResults!$G$19:$G$305, 0)), \"\"))","v":""},{"$f":"IF($I281 = $J$163, SOAR!AS$15,\n  IF($I281 < $J$163, INDEX(SavedResults!O$19:O$305, MATCH($G281, SavedResults!$G$19:$G$305, 0)), \"\"))","v":""},{"$f":"IF($I281 = $J$163, SOAR!AT$15,\n  IF($I281 < $J$163, INDEX(SavedResults!P$19:P$305, MATCH($G281, SavedResults!$G$19:$G$305, 0)), \"\"))","v":""},0,0]
[null,null,null,"NGGT.SO","K",2025,"NGGT.SO_K_2025",103,"2025-03-31","£m nominal",null,{"$f":"IF($I282 = $J$163, SOAR!AP$15,\n  IF($I282 < $J$163, INDEX(SavedResults!L$19:L$305, MATCH($G282, SavedResults!$G$19:$G$305, 0)), \"\"))","v":""},{"$f":"IF($I282 = $J$163, SOAR!AQ$15,\n  IF($I282 < $J$163, INDEX(SavedResults!M$19:M$305, MATCH($G282, SavedResults!$G$19:$G$305, 0)), \"\"))","v":""},{"$f":"IF($I282 = $J$163, SOAR!AR$15,\n  IF($I282 < $J$163, INDEX(SavedResults!N$19:N$305, MATCH($G282, SavedResults!$G$19:$G$305, 0)), \"\"))","v":""},{"$f":"IF($I282 = $J$163, SOAR!AS$15,\n  IF($I282 < $J$163, INDEX(SavedResults!O$19:O$305, MATCH($G282, SavedResults!$G$19:$G$305, 0)), \"\"))","v":""},{"$f":"IF($I282 = $J$163, SOAR!AT$15,\n  IF($I282 < $J$163, INDEX(SavedResults!P$19:P$305, MATCH($G282, SavedResults!$G$19:$G$305, 0)), \"\"))","v":""},0,0]
[null,null,null,"NGGT.SO","K",2026,"NGGT.SO_K_2026",104,"2026-03-31","£m nominal",null,{"$f":"IF($I283 = $J$163, SOAR!AP$15,\n  IF($I283 < $J$163, INDEX(SavedResults!L$19:L$305, MATCH($G283, SavedResults!$G$19:$G$305, 0)), \"\"))","v":""},{"$f":"IF($I283 = $J$163, SOAR!AQ$15,\n  IF($I283 < $J$163, INDEX(SavedResults!M$19:M$305, MATCH($G283, SavedResults!$G$19:$G$305, 0)), \"\"))","v":""},{"$f":"IF($I283 = $J$163, SOAR!AR$15,\n  IF($I283 < $J$163, INDEX(SavedResults!N$19:N$305, MATCH($G283, SavedResults!$G$19:$G$305, 0)), \"\"))","v":""},{"$f":"IF($I283 = $J$163, SOAR!AS$15,\n  IF($I283 < $J$163, INDEX(SavedResults!O$19:O$305, MATCH($G283, SavedResults!$G$19:$G$305, 0)), \"\"))","v":""},{"$f":"IF($I283 = $J$163, SOAR!AT$15,\n  IF($I283 < $J$163, INDEX(SavedResults!P$19:P$305, MATCH($G283, SavedResults!$G$19:$G$305, 0)), \"\"))","v":""},0,0]
[null,null,null,"NGGT.SO","K",2027,"NGGT.SO_K_2027",105,"2027-03-31","£m nominal",null,{"$f":"IF($I284 = $J$163, SOAR!AP$15,\n  IF($I284 < $J$163, INDEX(SavedResults!L$19:L$305, MATCH($G284, SavedResults!$G$19:$G$305, 0)), \"\"))","v":""},{"$f":"IF($I284 = $J$163, SOAR!AQ$15,\n  IF($I284 < $J$163, INDEX(SavedResults!M$19:M$305, MATCH($G284, SavedResults!$G$19:$G$305, 0)), \"\"))","v":""},{"$f":"IF($I284 = $J$163, SOAR!AR$15,\n  IF($I284 < $J$163, INDEX(SavedResults!N$19:N$305, MATCH($G284, SavedResults!$G$19:$G$305, 0)), \"\"))","v":""},{"$f":"IF($I284 = $J$163, SOAR!AS$15,\n  IF($I284 < $J$163, INDEX(SavedResults!O$19:O$305, MATCH($G284, SavedResults!$G$19:$G$305, 0)), \"\"))","v":""},{"$f":"IF($I284 = $J$163, SOAR!AT$15,\n  IF($I284 < $J$163, INDEX(SavedResults!P$19:P$305, MATCH($G284, SavedResults!$G$19:$G$305, 0)), \"\"))","v":""},0,0]
[null,null,null,"NGGT.SO","K",2028,"NGGT.SO_K_2028",106,"2028-03-31","£m nominal",null,{"$f":"IF($I285 = $J$163, SOAR!AP$15,\n  IF($I285 < $J$163, INDEX(SavedResults!L$19:L$305, MATCH($G285, SavedResults!$G$19:$G$305, 0)), \"\"))","v":""},{"$f":"IF($I285 = $J$163, SOAR!AQ$15,\n  IF($I285 < $J$163, INDEX(SavedResults!M$19:M$305, MATCH($G285, SavedResults!$G$19:$G$305, 0)), \"\"))","v":""},{"$f":"IF($I285 = $J$163, SOAR!AR$15,\n  IF($I285 < $J$163, INDEX(SavedResults!N$19:N$305, MATCH($G285, SavedResults!$G$19:$G$305, 0)), \"\"))","v":""},{"$f":"IF($I285 = $J$163, SOAR!AS$15,\n  IF($I285 < $J$163, INDEX(SavedResults!O$19:O$305, MATCH($G285, SavedResults!$G$19:$G$305, 0)), \"\"))","v":""},{"$f":"IF($I285 = $J$163, SOAR!AT$15,\n  IF($I285 < $J$163, INDEX(SavedResults!P$19:P$305, MATCH($G285, SavedResults!$G$19:$G$305, 0)), \"\"))","v":""},0,0]
[null,null,null,null,null,null,null,null,"Allowed revenue",null,"SOARt"]
[null,null,null,"NGGT.SO","AR",2022,{"$f":"D287&\"_\"&E287&\"_\"&F287","v":"NGGT.SO_AR_2022"},{"$f":"MAX(H$167:H286) + 1","v":107},"2022-03-31","£m nominal",null,{"$f":"IF($I287 = $J$163, SOAR!AP$16,\n  IF($I287 < $J$163, INDEX(SavedResults!L$19:L$305, MATCH($G287, SavedResults!$G$19:$G$305, 0)), \"\"))","v":141.24468713467465},{"$f":"IF($I287 = $J$163, SOAR!AQ$16,\n  IF($I287 < $J$163, INDEX(SavedResults!M$19:M$305, MATCH($G287, SavedResults!$G$19:$G$305, 0)), \"\"))","v":170.19291692235919},{"$f":"IF($I287 = $J$163, SOAR!AR$16,\n  IF($I287 < $J$163, INDEX(SavedResults!N$19:N$305, MATCH($G287, SavedResults!$G$19:$G$305, 0)), \"\"))","v":207.42117467174248},{"$f":"IF($I287 = $J$163, SOAR!AS$16,\n  IF($I287 < $J$163, INDEX(SavedResults!O$19:O$305, MATCH($G287, SavedResults!$G$19:$G$305, 0)), \"\"))","v":200.03853198085054},{"$f":"IF($I287 = $J$163, SOAR!AT$16,\n  IF($I287 < $J$163, INDEX(SavedResults!P$19:P$305, MATCH($G287, SavedResults!$G$19:$G$305, 0)), \"\"))","v":190.78454080075042},909.68185151037721,181.93637030207543]
[null,null,null,"NGGT.SO","AR",2023,"NGGT.SO_AR_2023",{"$f":"H287 + 1","v":108},"2023-03-31","£m nominal",null,{"$f":"IF($I288 = $J$163, SOAR!AP$16,\n  IF($I288 < $J$163, INDEX(SavedResults!L$19:L$305, MATCH($G288, SavedResults!$G$19:$G$305, 0)), \"\"))","v":""},{"$f":"IF($I288 = $J$163, SOAR!AQ$16,\n  IF($I288 < $J$163, INDEX(SavedResults!M$19:M$305, MATCH($G288, SavedResults!$G$19:$G$305, 0)), \"\"))","v":""},{"$f":"IF($I288 = $J$163, SOAR!AR$16,\n  IF($I288 < $J$163, INDEX(SavedResults!N$19:N$305, MATCH($G288, SavedResults!$G$19:$G$305, 0)), \"\"))","v":""},{"$f":"IF($I288 = $J$163, SOAR!AS$16,\n  IF($I288 < $J$163, INDEX(SavedResults!O$19:O$305, MATCH($G288, SavedResults!$G$19:$G$305, 0)), \"\"))","v":""},{"$f":"IF($I288 = $J$163, SOAR!AT$16,\n  IF($I288 < $J$163, INDEX(SavedResults!P$19:P$305, MATCH($G288, SavedResults!$G$19:$G$305, 0)), \"\"))","v":""},0,0]
[null,null,null,"NGGT.SO","AR",2024,"NGGT.SO_AR_2024",{"$f":"H288 + 1","v":109},"2024-03-31","£m nominal",null,{"$f":"IF($I289 = $J$163, SOAR!AP$16,\n  IF($I289 < $J$163, INDEX(SavedResults!L$19:L$305, MATCH($G289, SavedResults!$G$19:$G$305, 0)), \"\"))","v":""},{"$f":"IF($I289 = $J$163, SOAR!AQ$16,\n  IF($I289 < $J$163, INDEX(SavedResults!M$19:M$305, MATCH($G289, SavedResults!$G$19:$G$305, 0)), \"\"))","v":""},{"$f":"IF($I289 = $J$163, SOAR!AR$16,\n  IF($I289 < $J$163, INDEX(SavedResults!N$19:N$305, MATCH($G289, SavedResults!$G$19:$G$305, 0)), \"\"))","v":""},{"$f":"IF($I289 = $J$163, SOAR!AS$16,\n  IF($I289 < $J$163, INDEX(SavedResults!O$19:O$305, MATCH($G289, SavedResults!$G$19:$G$305, 0)), \"\"))","v":""},{"$f":"IF($I289 = $J$163, SOAR!AT$16,\n  IF($I289 < $J$163, INDEX(SavedResults!P$19:P$305, MATCH($G289, SavedResults!$G$19:$G$305, 0)), \"\"))","v":""},0,0]
[null,null,null,"NGGT.SO","AR",2025,"NGGT.SO_AR_2025",110,"2025-03-31","£m nominal",null,{"$f":"IF($I290 = $J$163, SOAR!AP$16,\n  IF($I290 < $J$163, INDEX(SavedResults!L$19:L$305, MATCH($G290, SavedResults!$G$19:$G$305, 0)), \"\"))","v":""},{"$f":"IF($I290 = $J$163, SOAR!AQ$16,\n  IF($I290 < $J$163, INDEX(SavedResults!M$19:M$305, MATCH($G290, SavedResults!$G$19:$G$305, 0)), \"\"))","v":""},{"$f":"IF($I290 = $J$163, SOAR!AR$16,\n  IF($I290 < $J$163, INDEX(SavedResults!N$19:N$305, MATCH($G290, SavedResults!$G$19:$G$305, 0)), \"\"))","v":""},{"$f":"IF($I290 = $J$163, SOAR!AS$16,\n  IF($I290 < $J$163, INDEX(SavedResults!O$19:O$305, MATCH($G290, SavedResults!$G$19:$G$305, 0)), \"\"))","v":""},{"$f":"IF($I290 = $J$163, SOAR!AT$16,\n  IF($I290 < $J$163, INDEX(SavedResults!P$19:P$305, MATCH($G290, SavedResults!$G$19:$G$305, 0)), \"\"))","v":""},0,0]
[null,null,null,"NGGT.SO","AR",2026,"NGGT.SO_AR_2026",111,"2026-03-31","£m nominal",null,{"$f":"IF($I291 = $J$163, SOAR!AP$16,\n  IF($I291 < $J$163, INDEX(SavedResults!L$19:L$305, MATCH($G291, SavedResults!$G$19:$G$305, 0)), \"\"))","v":""},{"$f":"IF($I291 = $J$163, SOAR!AQ$16,\n  IF($I291 < $J$163, INDEX(SavedResults!M$19:M$305, MATCH($G291, SavedResults!$G$19:$G$305, 0)), \"\"))","v":""},{"$f":"IF($I291 = $J$163, SOAR!AR$16,\n  IF($I291 < $J$163, INDEX(SavedResults!N$19:N$305, MATCH($G291, SavedResults!$G$19:$G$305, 0)), \"\"))","v":""},{"$f":"IF($I291 = $J$163, SOAR!AS$16,\n  IF($I291 < $J$163, INDEX(SavedResults!O$19:O$305, MATCH($G291, SavedResults!$G$19:$G$305, 0)), \"\"))","v":""},{"$f":"IF($I291 = $J$163, SOAR!AT$16,\n  IF($I291 < $J$163, INDEX(SavedResults!P$19:P$305, MATCH($G291, SavedResults!$G$19:$G$305, 0)), \"\"))","v":""},0,0]
[null,null,null,"NGGT.SO","AR",2027,"NGGT.SO_AR_2027",112,"2027-03-31","£m nominal",null,{"$f":"IF($I292 = $J$163, SOAR!AP$16,\n  IF($I292 < $J$163, INDEX(SavedResults!L$19:L$305, MATCH($G292, SavedResults!$G$19:$G$305, 0)), \"\"))","v":""},{"$f":"IF($I292 = $J$163, SOAR!AQ$16,\n  IF($I292 < $J$163, INDEX(SavedResults!M$19:M$305, MATCH($G292, SavedResults!$G$19:$G$305, 0)), \"\"))","v":""},{"$f":"IF($I292 = $J$163, SOAR!AR$16,\n  IF($I292 < $J$163, INDEX(SavedResults!N$19:N$305, MATCH($G292, SavedResults!$G$19:$G$305, 0)), \"\"))","v":""},{"$f":"IF($I292 = $J$163, SOAR!AS$16,\n  IF($I292 < $J$163, INDEX(SavedResults!O$19:O$305, MATCH($G292, SavedResults!$G$19:$G$305, 0)), \"\"))","v":""},{"$f":"IF($I292 = $J$163, SOAR!AT$16,\n  IF($I292 < $J$163, INDEX(SavedResults!P$19:P$305, MATCH($G292, SavedResults!$G$19:$G$305, 0)), \"\"))","v":""},0,0]
[null,null,null,"NGGT.SO","AR",2028,"NGGT.SO_AR_2028",113,"2028-03-31","£m nominal",null,{"$f":"IF($I293 = $J$163, SOAR!AP$16,\n  IF($I293 < $J$163, INDEX(SavedResults!L$19:L$305, MATCH($G293, SavedResults!$G$19:$G$305, 0)), \"\"))","v":""},{"$f":"IF($I293 = $J$163, SOAR!AQ$16,\n  IF($I293 < $J$163, INDEX(SavedResults!M$19:M$305, MATCH($G293, SavedResults!$G$19:$G$305, 0)), \"\"))","v":""},{"$f":"IF($I293 = $J$163, SOAR!AR$16,\n  IF($I293 < $J$163, INDEX(SavedResults!N$19:N$305, MATCH($G293, SavedResults!$G$19:$G$305, 0)), \"\"))","v":""},{"$f":"IF($I293 = $J$163, SOAR!AS$16,\n  IF($I293 < $J$163, INDEX(SavedResults!O$19:O$305, MATCH($G293, SavedResults!$G$19:$G$305, 0)), \"\"))","v":""},{"$f":"IF($I293 = $J$163, SOAR!AT$16,\n  IF($I293 < $J$163, INDEX(SavedResults!P$19:P$305, MATCH($G293, SavedResults!$G$19:$G$305, 0)), \"\"))","v":""},0,0]
[null,null,null,null,null,null,null,null,"Recovered revenue",null,"SORRt"]
[null,null,null,"NGGT.SO","RR",2022,{"$f":"D295&\"_\"&E295&\"_\"&F295","v":"NGGT.SO_RR_2022"},{"$f":"MAX(H$167:H294) + 1","v":114},"2022-03-31","£m nominal",null,{"$f":"IF($I295 = $J$163, SOAR!AP$18,\n  IF($I295 < $J$163, INDEX(SavedResults!L$19:L$305, MATCH($G295, SavedResults!$G$19:$G$305, 0)), \"\"))","v":0},{"$f":"IF($I295 = $J$163, SOAR!AQ$18,\n  IF($I295 < $J$163, INDEX(SavedResults!M$19:M$305, MATCH($G295, SavedResults!$G$19:$G$305, 0)), \"\"))","v":0},{"$f":"IF($I295 = $J$163, SOAR!AR$18,\n  IF($I295 < $J$163, INDEX(SavedResults!N$19:N$305, MATCH($G295, SavedResults!$G$19:$G$305, 0)), \"\"))","v":0},{"$f":"IF($I295 = $J$163, SOAR!AS$18,\n  IF($I295 < $J$163, INDEX(SavedResults!O$19:O$305, MATCH($G295, SavedResults!$G$19:$G$305, 0)), \"\"))","v":0},{"$f":"IF($I295 = $J$163, SOAR!AT$18,\n  IF($I295 < $J$163, INDEX(SavedResults!P$19:P$305, MATCH($G295, SavedResults!$G$19:$G$305, 0)), \"\"))","v":0},0,0]
[null,null,null,"NGGT.SO","RR",2023,"NGGT.SO_RR_2023",{"$f":"H295 + 1","v":115},"2023-03-31","£m nominal",null,{"$f":"IF($I296 = $J$163, SOAR!AP$18,\n  IF($I296 < $J$163, INDEX(SavedResults!L$19:L$305, MATCH($G296, SavedResults!$G$19:$G$305, 0)), \"\"))","v":""},{"$f":"IF($I296 = $J$163, SOAR!AQ$18,\n  IF($I296 < $J$163, INDEX(SavedResults!M$19:M$305, MATCH($G296, SavedResults!$G$19:$G$305, 0)), \"\"))","v":""},{"$f":"IF($I296 = $J$163, SOAR!AR$18,\n  IF($I296 < $J$163, INDEX(SavedResults!N$19:N$305, MATCH($G296, SavedResults!$G$19:$G$305, 0)), \"\"))","v":""},{"$f":"IF($I296 = $J$163, SOAR!AS$18,\n  IF($I296 < $J$163, INDEX(SavedResults!O$19:O$305, MATCH($G296, SavedResults!$G$19:$G$305, 0)), \"\"))","v":""},{"$f":"IF($I296 = $J$163, SOAR!AT$18,\n  IF($I296 < $J$163, INDEX(SavedResults!P$19:P$305, MATCH($G296, SavedResults!$G$19:$G$305, 0)), \"\"))","v":""},0,0]
[null,null,null,"NGGT.SO","RR",2024,"NGGT.SO_RR_2024",{"$f":"H296 + 1","v":116},"2024-03-31","£m nominal",null,{"$f":"IF($I297 = $J$163, SOAR!AP$18,\n  IF($I297 < $J$163, INDEX(SavedResults!L$19:L$305, MATCH($G297, SavedResults!$G$19:$G$305, 0)), \"\"))","v":""},{"$f":"IF($I297 = $J$163, SOAR!AQ$18,\n  IF($I297 < $J$163, INDEX(SavedResults!M$19:M$305, MATCH($G297, SavedResults!$G$19:$G$305, 0)), \"\"))","v":""},{"$f":"IF($I297 = $J$163, SOAR!AR$18,\n  IF($I297 < $J$163, INDEX(SavedResults!N$19:N$305, MATCH($G297, SavedResults!$G$19:$G$305, 0)), \"\"))","v":""},{"$f":"IF($I297 = $J$163, SOAR!AS$18,\n  IF($I297 < $J$163, INDEX(SavedResults!O$19:O$305, MATCH($G297, SavedResults!$G$19:$G$305, 0)), \"\"))","v":""},{"$f":"IF($I297 = $J$163, SOAR!AT$18,\n  IF($I297 < $J$163, INDEX(SavedResults!P$19:P$305, MATCH($G297, SavedResults!$G$19:$G$305, 0)), \"\"))","v":""},0,0]
[null,null,null,"NGGT.SO","RR",2025,"NGGT.SO_RR_2025",117,"2025-03-31","£m nominal",null,{"$f":"IF($I298 = $J$163, SOAR!AP$18,\n  IF($I298 < $J$163, INDEX(SavedResults!L$19:L$305, MATCH($G298, SavedResults!$G$19:$G$305, 0)), \"\"))","v":""},{"$f":"IF($I298 = $J$163, SOAR!AQ$18,\n  IF($I298 < $J$163, INDEX(SavedResults!M$19:M$305, MATCH($G298, SavedResults!$G$19:$G$305, 0)), \"\"))","v":""},{"$f":"IF($I298 = $J$163, SOAR!AR$18,\n  IF($I298 < $J$163, INDEX(SavedResults!N$19:N$305, MATCH($G298, SavedResults!$G$19:$G$305, 0)), \"\"))","v":""},{"$f":"IF($I298 = $J$163, SOAR!AS$18,\n  IF($I298 < $J$163, INDEX(SavedResults!O$19:O$305, MATCH($G298, SavedResults!$G$19:$G$305, 0)), \"\"))","v":""},{"$f":"IF($I298 = $J$163, SOAR!AT$18,\n  IF($I298 < $J$163, INDEX(SavedResults!P$19:P$305, MATCH($G298, SavedResults!$G$19:$G$305, 0)), \"\"))","v":""},0,0]
[null,null,null,"NGGT.SO","RR",2026,"NGGT.SO_RR_2026",118,"2026-03-31","£m nominal",null,{"$f":"IF($I299 = $J$163, SOAR!AP$18,\n  IF($I299 < $J$163, INDEX(SavedResults!L$19:L$305, MATCH($G299, SavedResults!$G$19:$G$305, 0)), \"\"))","v":""},{"$f":"IF($I299 = $J$163, SOAR!AQ$18,\n  IF($I299 < $J$163, INDEX(SavedResults!M$19:M$305, MATCH($G299, SavedResults!$G$19:$G$305, 0)), \"\"))","v":""},{"$f":"IF($I299 = $J$163, SOAR!AR$18,\n  IF($I299 < $J$163, INDEX(SavedResults!N$19:N$305, MATCH($G299, SavedResults!$G$19:$G$305, 0)), \"\"))","v":""},{"$f":"IF($I299 = $J$163, SOAR!AS$18,\n  IF($I299 < $J$163, INDEX(SavedResults!O$19:O$305, MATCH($G299, SavedResults!$G$19:$G$305, 0)), \"\"))","v":""},{"$f":"IF($I299 = $J$163, SOAR!AT$18,\n  IF($I299 < $J$163, INDEX(SavedResults!P$19:P$305, MATCH($G299, SavedResults!$G$19:$G$305, 0)), \"\"))","v":""},0,0]
[null,null,null,"NGGT.SO","RR",2027,"NGGT.SO_RR_2027",119,"2027-03-31","£m nominal",null,{"$f":"IF($I300 = $J$163, SOAR!AP$18,\n  IF($I300 < $J$163, INDEX(SavedResults!L$19:L$305, MATCH($G300, SavedResults!$G$19:$G$305, 0)), \"\"))","v":""},{"$f":"IF($I300 = $J$163, SOAR!AQ$18,\n  IF($I300 < $J$163, INDEX(SavedResults!M$19:M$305, MATCH($G300, SavedResults!$G$19:$G$305, 0)), \"\"))","v":""},{"$f":"IF($I300 = $J$163, SOAR!AR$18,\n  IF($I300 < $J$163, INDEX(SavedResults!N$19:N$305, MATCH($G300, SavedResults!$G$19:$G$305, 0)), \"\"))","v":""},{"$f":"IF($I300 = $J$163, SOAR!AS$18,\n  IF($I300 < $J$163, INDEX(SavedResults!O$19:O$305, MATCH($G300, SavedResults!$G$19:$G$305, 0)), \"\"))","v":""},{"$f":"IF($I300 = $J$163, SOAR!AT$18,\n  IF($I300 < $J$163, INDEX(SavedResults!P$19:P$305, MATCH($G300, SavedResults!$G$19:$G$305, 0)), \"\"))","v":""},0,0]
[null,null,null,"NGGT.SO","RR",2028,"NGGT.SO_RR_2028",120,"2028-03-31","£m nominal",null,{"$f":"IF($I301 = $J$163, SOAR!AP$18,\n  IF($I301 < $J$163, INDEX(SavedResults!L$19:L$305, MATCH($G301, SavedResults!$G$19:$G$305, 0)), \"\"))","v":""},{"$f":"IF($I301 = $J$163, SOAR!AQ$18,\n  IF($I301 < $J$163, INDEX(SavedResults!M$19:M$305, MATCH($G301, SavedResults!$G$19:$G$305, 0)), \"\"))","v":""},{"$f":"IF($I301 = $J$163, SOAR!AR$18,\n  IF($I301 < $J$163, INDEX(SavedResults!N$19:N$305, MATCH($G301, SavedResults!$G$19:$G$305, 0)), \"\"))","v":""},{"$f":"IF($I301 = $J$163, SOAR!AS$18,\n  IF($I301 < $J$163, INDEX(SavedResults!O$19:O$305, MATCH($G301, SavedResults!$G$19:$G$305, 0)), \"\"))","v":""},{"$f":"IF($I301 = $J$163, SOAR!AT$18,\n  IF($I301 < $J$163, INDEX(SavedResults!P$19:P$305, MATCH($G301, SavedResults!$G$19:$G$305, 0)), \"\"))","v":""},0,0]
[null,null,null,null,null,null,null,null,"Operational performance and Return adjustment"]
[null,null,null,"NGGT.SO","OPP","TotexOPM",{"$f":"D303&\"_\"&E303&\"_\"&F303","v":"NGGT.SO_OPP_TotexOPM"},{"$f":"MAX(H$167:H302) + 1","v":121},"Totex outperformance (operator share)","£m 18/19 prices",null,{"$f":" - (SystemOperator!AP283 * (1 - SystemOperator!AP285))","v":0},{"$f":" - (SystemOperator!AQ283 * (1 - SystemOperator!AQ285))","v":0},{"$f":" - (SystemOperator!AR283 * (1 - SystemOperator!AR285))","v":0},{"$f":" - (SystemOperator!AS283 * (1 - SystemOperator!AS285))","v":0},{"$f":" - (SystemOperator!AT283 * (1 - SystemOperator!AT285))","v":0},{"$f":"SUM($L303:$P303)","v":0},{"$f":"IFERROR( AVERAGE($L303:$P303), 0)","v":0}]
[null,null,null,"NGGT.SO","OPP","ODI","NGGT.SO_OPP_ODI",{"$f":"H303 + 1","v":122},"Output delivery incentives","£m 18/19 prices",null,{"$f":"SUM(SystemOperator!AP55, SystemOperator!AP63, SystemOperator!AP64, SystemOperator!AP65, SystemOperator!AP66)","v":0},{"$f":"SUM(SystemOperator!AQ55, SystemOperator!AQ63, SystemOperator!AQ64, SystemOperator!AQ65, SystemOperator!AQ66)","v":0},{"$f":"SUM(SystemOperator!AR55, SystemOperator!AR63, SystemOperator!AR64, SystemOperator!AR65, SystemOperator!AR66)","v":0},{"$f":"SUM(SystemOperator!AS55, SystemOperator!AS63, SystemOperator!AS64, SystemOperator!AS65, SystemOperator!AS66)","v":0},{"$f":"SUM(SystemOperator!AT55, SystemOperator!AT63, SystemOperator!AT64, SystemOperator!AT65, SystemOperator!AT66)","v":0},0,0]
[null,null,null,"NGGT.SO","OPP","NPVRAV","NGGT.SO_OPP_NPVRAV",{"$f":"H304 + 1","v":123},"NPV-neutral RAV return base","£m 18/19 prices","RAVLt (SO)",{"$f":"SystemOperator!AP460","v":144.27574347673567},{"$f":"SystemOperator!AQ460","v":138.10953007148538},{"$f":"SystemOperator!AR460","v":134.02480764138073},{"$f":"SystemOperator!AS460","v":131.14641207265993},{"$f":"SystemOperator!AT460","v":125.56606215447025},673.12255541673198,134.62451108334639]
[]
[null,"End of sheet"]

{"sheet":"SavedResults","index":16,"n_rows":307,"n_cols":18,"rows_kept":307,"cut":false,"hidden":false,"merged":[]}
["Saved Results"]
[]
[null,"Links to saved results"]
[null,"Note: The \"Run_for_one\" and \"RunForAll\" macros save output on the \"LiveResults\" sheet to points on this sheet designated by named ranges. The hyperlinks below lead to the saved output for each company."]
[null,"The \"LiveResults\" sheet recalls values generated in earlier iterations (Final Proposals allowances and recalculated base revenue) from this sheet."]
[null,"For \"LiveResults\" to recall data correctly, there must be an equal number of rows between each named ranges marking the start of each company's section. There must also be sufficient rows to hold the output generated on the \"LiveResults\" sheet."]
[]
[null,null,null,null,null,null,null,null,"NGGT TO"]
[null,null,null,null,null,null,null,null,"NGGT SO"]
[]
[null,null,"Values for NGGT TO"]
[]
[]
[null,null,null,null,null,null,null,null,"Company","Calculated for MOD year ending",null,"File"]
[null,null,null,null,null,null,null,null,"NGGT TO","2022-03-31",null,"GT2 PCFM 2.5.xlsm"]
[]
[null,null,null,null,null,null,null,null,"PCFM year ending","Unit","Licence term (if applicable)","2022-03-31","2023-03-31","2024-03-31","2025-03-31","2026-03-31","RIIO-2 Total","RIIO-2 average"]
[null,null,null,null,null,null,null,null,"Totex"]
[null,null,null,"NGGT.TO","Totex","SlowMoney","NGGT.TO_Totex_SlowMoney",1,"Slow pot","£m 18/19 prices","-",196.37873160813356,271.21938499480945,277.55797474414959,156.06228341594996,147.17430753284222,1048.3926822958847,209.67853645917694]
[null,null,null,"NGGT.TO","Totex","FastMoney","NGGT.TO_Totex_FastMoney",2,"Fast pot","£m 18/19 prices","-",105.74239394284112,146.04120730489734,149.45429409300363,84.03353722397307,79.247704056145807,564.51913662086099,112.9038273241722]
[null,null,null,"NGGT.TO","Totex","PostTIMTotex","NGGT.TO_Totex_PostTIMTotex",3,"Post-TIM totex allowance","£m 18/19 prices","-",302.12112555097468,417.26059229970679,427.01226883715321,240.09582063992303,226.42201158898803,1612.9118189167457,322.58236378334914]
[null,null,null,null,null,null,null,null,"Regulatory Asset Value (RAV)"]
[null,null,null,"NGGT.TO","RAV","OpeningBeforeTransfers","NGGT.TO_RAV_OpeningBeforeTransfers",4,"Opening asset value (before transfers)","£m 18/19 prices","-",5959.612586666095,5857.5260398589608,5828.4123375147101,5800.7052124493484,5646.556840441639,null,5818.5626033861508]
[null,null,null,"NGGT.TO","RAV","Transfers","NGGT.TO_RAV_Transfers",5,"Transfers","£m 18/19 prices","-",0,0,0,0,0,0,0]
[null,null,null,"NGGT.TO","RAV","OpeningAfterTransfers","NGGT.TO_RAV_OpeningAfterTransfers",6,"Opening asset value (after transfers)","£m 18/19 prices","-",5959.612586666095,5857.5260398589608,5828.4123375147101,5800.7052124493484,5646.556840441639,null,5818.5626033861508]
[null,null,null,"NGGT.TO","RAV","Additions","NGGT.TO_RAV_Additions",7,"RAV additions (after disposals)","£m 18/19 prices","-",196.37873160813356,271.21938499480945,277.55797474414959,156.06228341594996,147.17430753284222,1048.3926822958847,209.67853645917694]
[null,null,null,"NGGT.TO","RAV","Depreciation","NGGT.TO_RAV_Depreciation",8,"Depreciation","£m 18/19 prices","-",-298.46527841526796,-300.33308733906023,-305.2650998095117,-310.21065542365932,-309.60561771943674,-1523.8797387069358,-304.77594774138714]
[null,null,null,"NGGT.TO","RAV","Closing","NGGT.TO_RAV_Closing",9,"Closing asset value","£m 18/19 prices","-",5857.5260398589608,5828.4123375147101,5800.7052124493484,5646.556840441639,5484.1255302550444,null,5723.4651921039413]
[null,null,null,null,null,null,null,null,"Final Proposals allowances (calculated revenue)",null,"Rt"]
[null,null,null,"NGGT.TO","FinalProposals","FM","NGGT.TO_FinalProposals_FM",10,"Fast money","£m 18/19 prices","FMt",105.74239394284112,146.04120730489734,149.45429409300363,84.03353722397307,79.247704056145807,564.51913662086099,112.9038273241722]
[null,null,null,"NGGT.TO","FinalProposals","PT","NGGT.TO_FinalProposals_PT",11,"Pass-through expenditure","£m 18/19 prices","PTt",146.83063617040344,146.75792730927392,147.13438885887501,154.49513446774682,154.89498332835402,750.11307013465319,150.02261402693063]
[null,null,null,"NGGT.TO","FinalProposals","DPN","NGGT.TO_FinalProposals_DPN",12,"Depreciation","£m 18/19 prices","DPNt",298.46527841526796,300.33308733906023,305.2650998095117,310.21065542365932,309.60561771943674,1523.8797387069358,304.77594774138714]
[null,null,null,"NGGT.TO","FinalProposals","RTN","NGGT.TO_FinalProposals_RTN",13,"Return","£m 18/19 prices","RTNt",171.09622974084149,164.34267917071494,160.58594347515134,155.4660729391434,149.6360470162962,801.12697234214738,160.22539446842947]
[null,null,null,"NGGT.TO","FinalProposals","EIC","NGGT.TO_FinalProposals_EIC",14,"Equity issuance costs","£m 18/19 prices","EICt",7.5334949134990987,0,0,0,0,7.5334949134990987,1.5066989826998198]
[null,null,null,"NGGT.TO","FinalProposals","RTNA","NGGT.TO_FinalProposals_RTNA",15,"Return adjustment","£m 18/19 prices","RTNAt",0,0,0,0,0,0,0]
[null,null,null,"NGGT.TO","FinalProposals","DRS","NGGT.TO_FinalProposals_DRS",16,"Directly remunerated services adjustment","£m 18/19 prices","DRSt",0,0,0,0,0,0,0]
[null,null,null,"NGGT.TO","FinalProposals","BPI","NGGT.TO_FinalProposals_BPI",17,"Business plan incentive","£m 18/19 prices","BPIt",-4.3390000000000004,-4.3390000000000004,-4.3390000000000004,-4.3390000000000004,-4.3390000000000004,-21.695,-4.3390000000000004]
[null,null,null,"NGGT.TO","FinalProposals","ODI","NGGT.TO_FinalProposals_ODI",18,"Output delivery incentives","£m 18/19 prices","ODIt",0,0,0,0,0,0,0]
[null,null,null,"NGGT.TO","FinalProposals","ORA","NGGT.TO_FinalProposals_ORA",19,"Other revenue allowance","£m 18/19 prices","ORAt",25.489695721089024,5,5,5,5,45.489695721089021,9.0979391442178041]
[null,null,null,"NGGT.TO","FinalProposals","TAX","NGGT.TO_FinalProposals_TAX",20,"Tax allowance","£m 18/19 prices","TAXt",47.693467441759935,46.128523441854007,45.955577877031075,38.76473822621513,40.852075115756321,219.39438210261645,43.878876420523291]
[null,null,null,"NGGT.TO","FinalProposals","TAXA","NGGT.TO_FinalProposals_TAXA",21,"Tax allowance adjustment","£m 18/19 prices","TAXAt",0,0,0,0,0,0,0]
[null,null,null,"NGGT.TO","FinalProposals","R","NGGT.TO_FinalProposals_R",22,"Calculated revenue","£m 18/19 prices","Rt",798.51219634570202,804.26442456580037,809.05630411357265,743.63113828073767,734.89742723598897,3890.3614905418017,778.07229810836031]
[null,null,null,null,null,null,null,null,"Recalculated allowances (calculated revenue)",null,"Rt"]
[null,null,null,"NGGT.TO","CalculatedRevenue","FM","NGGT.TO_CalculatedRevenue_FM",23,"Fast money","£m 18/19 prices","FMt",105.74239394284112,146.04120730489734,149.45429409300363,84.03353722397307,79.247704056145807,564.51913662086099,112.9038273241722]
[null,null,null,"NGGT.TO","CalculatedRevenue","PT","NGGT.TO_CalculatedRevenue_PT",24,"Pass-through expenditure","£m 18/19 prices","PTt",146.83063617040344,146.75792730927392,147.13438885887501,154.49513446774682,154.89498332835402,750.11307013465319,150.02261402693063]
[null,null,null,"NGGT.TO","CalculatedRevenue","DPN","NGGT.TO_CalculatedRevenue_DPN",25,"Depreciation","£m 18/19 prices","DPNt",298.46527841526796,300.33308733906023,305.2650998095117,310.21065542365932,309.60561771943674,1523.8797387069358,304.77594774138714]
[null,null,null,"NGGT.TO","CalculatedRevenue","RTN","NGGT.TO_CalculatedRevenue_RTN",26,"Return","£m 18/19 prices","RTNt",171.09622974084149,164.34267917071494,160.58594347515134,155.4660729391434,149.6360470162962,801.12697234214738,160.22539446842947]
[null,null,null,"NGGT.TO","CalculatedRevenue","EIC","NGGT.TO_CalculatedRevenue_EIC",27,"Equity issuance costs","£m 18/19 prices","EICt",7.5334949134990987,0,0,0,0,7.5334949134990987,1.5066989826998198]
[null,null,null,"NGGT.TO","CalculatedRevenue","RTNA","NGGT.TO_CalculatedRevenue_RTNA",28,"Return adjustment","£m 18/19 prices","RTNAt",0,0,0,0,0,0,0]
[null,null,null,"NGGT.TO","CalculatedRevenue","DRS","NGGT.TO_CalculatedRevenue_DRS",29,"Directly remunerated services adjustment","£m 18/19 prices","DRSt",0,0,0,0,0,0,0]
[null,null,null,"NGGT.TO","CalculatedRevenue","BPI","NGGT.TO_CalculatedRevenue_BPI",30,"Business plan incentive","£m 18/19 prices","BPIt",-4.3390000000000004,-4.3390000000000004,-4.3390000000000004,-4.3390000000000004,-4.3390000000000004,-21.695,-4.3390000000000004]
[null,null,null,"NGGT.TO","CalculatedRevenue","ODI","NGGT.TO_CalculatedRevenue_ODI",31,"Output delivery incentives","£m 18/19 prices","ODIt",0,0,0,0,0,0,0]
[null,null,null,"NGGT.TO","CalculatedRevenue","ORA","NGGT.TO_CalculatedRevenue_ORA",32,"Other revenue allowance","£m 18/19 prices","ORAt",25.489695721089024,5,5,5,5,45.489695721089021,9.0979391442178041]
[null,null,null,"NGGT.TO","CalculatedRevenue","TAX","NGGT.TO_CalculatedRevenue_TAX",33,"Tax allowance","£m 18/19 prices","TAXt",47.693467441759935,46.128523441854007,45.955577877031075,38.76473822621513,40.852075115756321,219.39438210261645,43.878876420523291]
[null,null,null,"NGGT.TO","CalculatedRevenue","TAXA","NGGT.TO_CalculatedRevenue_TAXA",34,"Tax allowance adjustment","£m 18/19 prices","TAXAt",0,0,0,0,0,0,0]
[null,null,null,"NGGT.TO","CalculatedRevenue","R","NGGT.TO_CalculatedRevenue_R",35,"Calculated revenue","£m 18/19 prices","Rt",798.51219634570202,804.26442456580037,809.05630411357265,743.63113828073767,734.89742723598897,3890.3614905418017,778.07229810836031]
[null,null,null,null,null,null,null,null,"Price Control Revenue"]
[null,null,null,"NGGT.TO","TotalRevenue","Rnominal","NGGT.TO_TotalRevenue_Rnominal",36,"Calculated revenue","£m nominal","Rt ∙ (Pt / P2018/19)",840.4549529181885,"","","","",840.4549529181885,840.4549529181885]
[null,null,null,"NGGT.TO","TotalRevenue","ADJ","NGGT.TO_TotalRevenue_ADJ",37,"AIP adjustment term","£m nominal","ADJt",0,"","","","",0,0]
[null,null,null,"NGGT.TO","TotalRevenue","ADJR","NGGT.TO_TotalRevenue_ADJR",38,"Adjusted revenue","£m nominal","Rt ∙ (Pt / P2018/19) + ADJt",840.4549529181885,860.03469608902321,880.5663156003834,825.00427354027829,831.59299192975789,4237.6532300776316,847.53064601552637]
[null,null,null,"NGGT.TO","TotalRevenue","LAR","NGGT.TO_TotalRevenue_LAR",39,"Legacy allowed revenue","£m nominal","LARt",27.198792144589724,-10.151751447803129,0,0,0,17.047040696786596,3.409408139357319]
[null,null,null,"NGGT.TO","TotalRevenue","K","NGGT.TO_TotalRevenue_K",40,"Correction term","£m nominal","Kt",206.22453562446498,0,0,0,0,206.22453562446498,41.244907124892997]
[null,null,null,"NGGT.TO","TotalRevenue","AR","NGGT.TO_TotalRevenue_AR",41,"Allowed revenue","£m nominal","ARt",1073.8782806872432,849.88294464122009,880.5663156003834,825.00427354027829,831.59299192975789,4460.9248063988825,892.18496127977653]
[null,null,null,"NGGT.TO","TotalRevenue","DRSrevenue","NGGT.TO_TotalRevenue_DRSrevenue",42,"Directly remunerated services revenue","£m nominal","-",14.585440572074699,14.818484099909643,15.082383769297858,15.373944058301873,15.680891824749905,75.54114432433397,15.108228864866794]
[null,null,null,"NGGT.TO","TotalRevenue","TR","NGGT.TO_TotalRevenue_TR",43,"Total revenue","£m nominal","-",1088.4637212593179,864.70142874112969,895.64869936968125,840.37821759858014,847.27388375450778,4536.4659507232172,907.2931901446434]
[null,null,null,null,null,null,null,null,"Inflation rate",null,"(PIt / PIt-1) - 1"]
[null,null,null,"NGGT.TO","Inflation",2022,"NGGT.TO_Inflation_2022",44,"2022-03-31","annual %",null,1.3646061451968894E-2,1.5977818886124817E-2,1.7808816853933429E-2,1.9331180897115718E-2,1.9965453580682135E-2,null,1.7345866333964999E-2]
[null,null,null,"NGGT.TO","Inflation",2023,"NGGT.TO_Inflation_2023",45,"2023-03-31","annual %",null,"","","","","",null,""]
[null,null,null,"NGGT.TO","Inflation",2024,"NGGT.TO_Inflation_2024",46,"2024-03-31","annual %",null,"","","","","",null,""]
[null,null,null,"NGGT.TO","Inflation",2025,"NGGT.TO_Inflation_2025",47,"2025-03-31","annual %",null,"","","","","",null,""]
[null,null,null,"NGGT.TO","Inflation",2026,"NGGT.TO_Inflation_2026",48,"2026-03-31","annual %",null,"","","","","",null,""]
[null,null,null,"NGGT.TO","Inflation",2027,"NGGT.TO_Inflation_2027",49,"2027-03-31","annual %",null,"","","","","",null,""]
[null,null,null,"NGGT.TO","Inflation",2028,"NGGT.TO_Inflation_2028",50,"2028-03-31","annual %",null,"","","","","",null,""]
[null,null,null,null,null,null,null,null,"Nominal Time Value of Money",null,"TVMt"]
[null,null,null,"NGGT.TO","TVM",2022,"NGGT.TO_TVM_2022",51,"2022-03-31","annual nominal %",null,4.6835861623045094E-2,4.7855581877666253E-2,4.88900270007111E-2,4.906084980220915E-2,0,null,3.8528464060726318E-2]
[null,null,null,"NGGT.TO","TVM",2023,"NGGT.TO_TVM_2023",52,"2023-03-31","annual nominal %",null,"","","","","",null,""]
[null,null,null,"NGGT.TO","TVM",2024,"NGGT.TO_TVM_2024",53,"2024-03-31","annual nominal %",null,"","","","","",null,""]
[null,null,null,"NGGT.TO","TVM",2025,"NGGT.TO_TVM_2025",54,"2025-03-31","annual nominal %",null,"","","","","",null,""]
[null,null,null,"NGGT.TO","TVM",2026,"NGGT.TO_TVM_2026",55,"2026-03-31","annual nominal %",null,"","","","","",null,""]
[null,null,null,"NGGT.TO","TVM",2027,"NGGT.TO_TVM_2027",56,"2027-03-31","annual nominal %",null,"","","","","",null,""]
[null,null,null,"NGGT.TO","TVM",2028,"NGGT.TO_TVM_2028",57,"2028-03-31","annual nominal %",null,"","","","","",null,""]
[null,null,null,null,null,null,null,null,"Sterling Overnight Index Average (SONIA)",null,"It"]
[null,null,null,"NGGT.TO","SONIA",2022,"NGGT.TO_SONIA_2022",58,"2022-03-31","annual nominal %",null,4.5973702505714439E-4,8.648026937470648E-4,1.4141542757024586E-3,2.0702335211076469E-3,2.600000849653616E-3,null,1.4817856730535862E-3]
[null,null,null,"NGGT.TO","SONIA",2023,"NGGT.TO_SONIA_2023",59,"2023-03-31","annual nominal %",null,"","","","","",null,""]
[null,null,null,"NGGT.TO","SONIA",2024,"NGGT.TO_SONIA_2024",60,"2024-03-31","annual nominal %",null,"","","","","",null,""]
[null,null,null,"NGGT.TO","SONIA",2025,"NGGT.TO_SONIA_2025",61,"2025-03-31","annual nominal %",null,"","","","","",null,""]
[null,null,null,"NGGT.TO","SONIA",2026,"NGGT.TO_SONIA_2026",62,"2026-03-31","annual nominal %",null,"","","","","",null,""]
[null,null,null,"NGGT.TO","SONIA",2027,"NGGT.TO_SONIA_2027",63,"2027-03-31","annual nominal %",null,"","","","","",null,""]
[null,null,null,"NGGT.TO","SONIA",2028,"NGGT.TO_SONIA_2028",64,"2028-03-31","annual nominal %",null,"","","","","",null,""]
[null,null,null,null,null,null,null,null,"Calculated revenue",null,"Rt"]
[null,null,null,"NGGT.TO","R",2022,"NGGT.TO_R_2022",65,"2022-03-31","£m 18/19 prices",null,798.51219634570202,804.26442456580037,809.05630411357265,743.63113828073767,734.89742723598897,3890.3614905418017,778.07229810836031]
[null,null,null,"NGGT.TO","R",2023,"NGGT.TO_R_2023",66,"2023-03-31","£m 18/19 prices",null,"","","","","",0,0]
[null,null,null,"NGGT.TO","R",2024,"NGGT.TO_R_2024",67,"2024-03-31","£m 18/19 prices",null,"","","","","",0,0]
[null,null,null,"NGGT.TO","R",2025,"NGGT.TO_R_2025",68,"2025-03-31","£m 18/19 prices",null,"","","","","",0,0]
[null,null,null,"NGGT.TO","R",2026,"NGGT.TO_R_2026",69,"2026-03-31","£m 18/19 prices",null,"","","","","",0,0]
[null,null,null,"NGGT.TO","R",2027,"NGGT.TO_R_2027",70,"2027-03-31","£m 18/19 prices",null,"","","","","",0,0]
[null,null,null,"NGGT.TO","R",2028,"NGGT.TO_R_2028",71,"2028-03-31","£m 18/19 prices",null,"","","","","",0,0]
[null,null,null,null,null,null,null,null,"Calculated revenue (nominal)",null,"Rt ∙ (Pt / P2018/19)"]
[null,null,null,"NGGT.TO","Rnominal",2022,"NGGT.TO_Rnominal_2022",72,"2022-03-31","£m nominal",null,840.4549529181885,860.03469608902321,880.5663156003834,825.00427354027829,831.59299192975789,4237.6532300776316,847.53064601552637]
[null,null,null,"NGGT.TO","Rnominal",2023,"NGGT.TO_Rnominal_2023",73,"2023-03-31","£m nominal",null,"","","","","",0,0]
[null,null,null,"NGGT.TO","Rnominal",2024,"NGGT.TO_Rnominal_2024",74,"2024-03-31","£m nominal",null,"","","","","",0,0]
[null,null,null,"NGGT.TO","Rnominal",2025,"NGGT.TO_Rnominal_2025",75,"2025-03-31","£m nominal",null,"","","","","",0,0]
[null,null,null,"NGGT.TO","Rnominal",2026,"NGGT.TO_Rnominal_2026",76,"2026-03-31","£m nominal",null,"","","","","",0,0]
[null,null,null,"NGGT.TO","Rnominal",2027,"NGGT.TO_Rnominal_2027",77,"2027-03-31","£m nominal",null,"","","","","",0,0]
[null,null,null,"NGGT.TO","Rnominal",2028,"NGGT.TO_Rnominal_2028",78,"2028-03-31","£m nominal",null,"","","","","",0,0]
[null,null,null,null,null,null,null,null,"AIP adjustment term",null,"ADJt"]
[null,null,null,"NGGT.TO","ADJ",2022,"NGGT.TO_ADJ_2022",79,"2022-03-31","£m nominal",null,0,0,0,0,0,0,0]
[null,null,null,"NGGT.TO","ADJ",2023,"NGGT.TO_ADJ_2023",80,"2023-03-31","£m nominal",null,"","","","","",0,0]
[null,null,null,"NGGT.TO","ADJ",2024,"NGGT.TO_ADJ_2024",81,"2024-03-31","£m nominal",null,"","","","","",0,0]
[null,null,null,"NGGT.TO","ADJ",2025,"NGGT.TO_ADJ_2025",82,"2025-03-31","£m nominal",null,"","","","","",0,0]
[null,null,null,"NGGT.TO","ADJ",2026,"NGGT.TO_ADJ_2026",83,"2026-03-31","£m nominal",null,"","","","","",0,0]
[null,null,null,"NGGT.TO","ADJ",2027,"NGGT.TO_ADJ_2027",84,"2027-03-31","£m nominal",null,"","","","","",0,0]
[null,null,null,"NGGT.TO","ADJ",2028,"NGGT.TO_ADJ_2028",85,"2028-03-31","£m nominal",null,"","","","","",0,0]
[null,null,null,null,null,null,null,null,"Adjusted revenue",null,"ADJRt"]
[null,null,null,"NGGT.TO","ADJR",2022,"NGGT.TO_ADJR_2022",86,"2022-03-31","£m nominal",null,840.4549529181885,860.03469608902321,880.5663156003834,825.00427354027829,831.59299192975789,4237.6532300776316,847.53064601552637]
[null,null,null,"NGGT.TO","ADJR",2023,"NGGT.TO_ADJR_2023",87,"2023-03-31","£m nominal",null,"","","","","",0,0]
[null,null,null,"NGGT.TO","ADJR",2024,"NGGT.TO_ADJR_2024",88,"2024-03-31","£m nominal",null,"","","","","",0,0]
[null,null,null,"NGGT.TO","ADJR",2025,"NGGT.TO_ADJR_2025",89,"2025-03-31","£m nominal",null,"","","","","",0,0]
[null,null,null,"NGGT.TO","ADJR",2026,"NGGT.TO_ADJR_2026",90,"2026-03-31","£m nominal",null,"","","","","",0,0]
[null,null,null,"NGGT.TO","ADJR",2027,"NGGT.TO_ADJR_2027",91,"2027-03-31","£m nominal",null,"","","","","",0,0]
[null,null,null,"NGGT.TO","ADJR",2028,"NGGT.TO_ADJR_2028",92,"2028-03-31","£m nominal",null,"","","","","",0,0]
[null,null,null,null,null,null,null,null,"Legacy allowed revenue",null,"LARt"]
[null,null,null,"NGGT.TO","LAR",2022,"NGGT.TO_LAR_2022",93,"2022-03-31","£m nominal",null,27.198792144589724,-10.151751447803129,0,0,0,17.047040696786596,3.409408139357319]
[null,null,null,"NGGT.TO","LAR",2023,"NGGT.TO_LAR_2023",94,"2023-03-31","£m nominal",null,"","","","","",0,0]
[null,null,null,"NGGT.TO","LAR",2024,"NGGT.TO_LAR_2024",95,"2024-03-31","£m nominal",null,"","","","","",0,0]
[null,null,null,"NGGT.TO","LAR",2025,"NGGT.TO_LAR_2025",96,"2025-03-31","£m nominal",null,"","","","","",0,0]
[null,null,null,"NGGT.TO","LAR",2026,"NGGT.TO_LAR_2026",97,"2026-03-31","£m nominal",null,"","","","","",0,0]
[null,null,null,"NGGT.TO","LAR",2027,"NGGT.TO_LAR_2027",98,"2027-03-31","£m nominal",null,"","","","","",0,0]
[null,null,null,"NGGT.TO","LAR",2028,"NGGT.TO_LAR_2028",99,"2028-03-31","£m nominal",null,"","","","","",0,0]
[null,null,null,null,null,null,null,null,"Correction term",null,"Kt"]
[null,null,null,"NGGT.TO","K",2022,"NGGT.TO_K_2022",100,"2022-03-31","£m nominal",null,206.22453562446498,0,0,0,0,206.22453562446498,41.244907124892997]
[null,null,null,"NGGT.TO","K",2023,"NGGT.TO_K_2023",101,"2023-03-31","£m nominal",null,"","","","","",0,0]
[null,null,null,"NGGT.TO","K",2024,"NGGT.TO_K_2024",102,"2024-03-31","£m nominal",null,"","","","","",0,0]
[null,null,null,"NGGT.TO","K",2025,"NGGT.TO_K_2025",103,"2025-03-31","£m nominal",null,"","","","","",0,0]
[null,null,null,"NGGT.TO","K",2026,"NGGT.TO_K_2026",104,"2026-03-31","£m nominal",null,"","","","","",0,0]
[null,null,null,"NGGT.TO","K",2027,"NGGT.TO_K_2027",105,"2027-03-31","£m nominal",null,"","","","","",0,0]
[null,null,null,"NGGT.TO","K",2028,"NGGT.TO_K_2028",106,"2028-03-31","£m nominal",null,"","","","","",0,0]
[null,null,null,null,null,null,null,null,"Allowed revenue",null,"ARt"]
[null,null,null,"NGGT.TO","AR",2022,"NGGT.TO_AR_2022",107,"2022-03-31","£m nominal",null,1073.8782806872432,849.88294464122009,880.5663156003834,825.00427354027829,831.59299192975789,4460.9248063988825,892.18496127977653]
[null,null,null,"NGGT.TO","AR",2023,"NGGT.TO_AR_2023",108,"2023-03-31","£m nominal",null,"","","","","",0,0]
[null,null,null,"NGGT.TO","AR",2024,"NGGT.TO_AR_2024",109,"2024-03-31","£m nominal",null,"","","","","",0,0]
[null,null,null,"NGGT.TO","AR",2025,"NGGT.TO_AR_2025",110,"2025-03-31","£m nominal",null,"","","","","",0,0]
[null,null,null,"NGGT.TO","AR",2026,"NGGT.TO_AR_2026",111,"2026-03-31","£m nominal",null,"","","","","",0,0]
[null,null,null,"NGGT.TO","AR",2027,"NGGT.TO_AR_2027",112,"2027-03-31","£m nominal",null,"","","","","",0,0]
[null,null,null,"NGGT.TO","AR",2028,"NGGT.TO_AR_2028",113,"2028-03-31","£m nominal",null,"","","","","",0,0]
[null,null,null,null,null,null,null,null,"Recovered revenue",null,"RRt"]
[null,null,null,"NGGT.TO","RR",2022,"NGGT.TO_RR_2022",114,"2022-03-31","£m nominal",null,0,0,0,0,0,0,0]
[null,null,null,"NGGT.TO","RR",2023,"NGGT.TO_RR_2023",115,"2023-03-31","£m nominal",null,"","","","","",0,0]
[null,null,null,"NGGT.TO","RR",2024,"NGGT.TO_RR_2024",116,"2024-03-31","£m nominal",null,"","","","","",0,0]
[null,null,null,"NGGT.TO","RR",2025,"NGGT.TO_RR_2025",117,"2025-03-31","£m nominal",null,"","","","","",0,0]
[null,null,null,"NGGT.TO","RR",2026,"NGGT.TO_RR_2026",118,"2026-03-31","£m nominal",null,"","","","","",0,0]
[null,null,null,"NGGT.TO","RR",2027,"NGGT.TO_RR_2027",119,"2027-03-31","£m nominal",null,"","","","","",0,0]
[null,null,null,"NGGT.TO","RR",2028,"NGGT.TO_RR_2028",120,"2028-03-31","£m nominal",null,"","","","","",0,0]
[null,null,null,null,null,null,null,null,"Operational performance and Return adjustment"]
[null,null,null,"NGGT.TO","OPP","TotexOPM","NGGT.TO_OPP_TotexOPM",121,"Totex outperformance (operator share)","£m 18/19 prices",null,0,0,0,0,0,0,0]
[null,null,null,"NGGT.TO","OPP","ODI","NGGT.TO_OPP_ODI",122,"Output delivery incentives","£m 18/19 prices","ODIt",0,0,0,0,0,0,0]
[null,null,null,"NGGT.TO","OPP","NPVRAV","NGGT.TO_OPP_NPVRAV",123,"NPV-neutral RAV return base","£m 18/19 prices","RAVLt (TO)",5824.9981959757197,5762.1578486419248,5735.5655778092842,5647.999666057477,5492.6200206361245,28463.341309120529,5692.6682618241057]
[]
[null,null,"Values for NGGT SO"]
[]
[]
[null,null,null,null,null,null,null,null,"Company","Calculated for MOD year ending",null,"File"]
[null,null,null,null,null,null,null,null,"NGGT SO","2022-03-31",null,"GT2 PCFM 2.5.xlsm"]
[]
[null,null,null,null,null,null,null,null,"PCFM year ending","Unit","Licence term (if applicable)","2022-03-31","2023-03-31","2024-03-31","2025-03-31","2026-03-31","RIIO-2 Total","RIIO-2 average"]
[null,null,null,null,null,null,null,null,"Totex"]
[null,null,null,"NGGT.SO","Totex","SlowMoney","NGGT.SO_Totex_SlowMoney",1,"Slow pot","£m 18/19 prices","-",31.318258497106125,30.264040439814316,33.435392910755425,30.628646565469019,26.723962025672726,152.37030043881762,30.474060087763526]
[null,null,null,"NGGT.SO","Totex","FastMoney","NGGT.SO_Totex_FastMoney",2,"Fast pot","£m 18/19 prices","-",60.79426649438247,58.747843206698363,64.903998003231109,59.455608038851608,51.875926285129395,295.77764202829292,59.155528405658586]
[null,null,null,"NGGT.SO","Totex","PostTIMTotex","NGGT.SO_Totex_PostTIMTotex",3,"Post-TIM totex allowance","£m 18/19 prices","-",92.112524991488598,89.011883646512686,98.339390913986534,90.084254604320634,78.599888310802129,448.14794246711051,89.629588493422105]
[null,null,null,null,null,null,null,null,"Regulatory Asset Value (RAV)"]
[null,null,null,"NGGT.SO","RAV","OpeningBeforeTransfers","NGGT.SO_RAV_OpeningBeforeTransfers",4,"Opening asset value (before transfers)","£m 18/19 prices","-",149.42537176334207,143.21263212398279,136.79990839591292,134.92447230018587,130.87427582687462,null,139.04733208205965]
[null,null,null,"NGGT.SO","RAV","Transfers","NGGT.SO_RAV_Transfers",5,"Transfers","£m 18/19 prices","-",0,0,0,0,0,0,0]
[null,null,null,"NGGT.SO","RAV","OpeningAfterTransfers","NGGT.SO_RAV_OpeningAfterTransfers",6,"Opening asset value (after transfers)","£m 18/19 prices","-",149.42537176334207,143.21263212398279,136.79990839591292,134.92447230018587,130.87427582687462,null,139.04733208205965]
[null,null,null,"NGGT.SO","RAV","Additions","NGGT.SO_RAV_Additions",7,"RAV additions (after disposals)","£m 18/19 prices","-",31.318258497106125,30.264040439814316,33.435392910755425,30.628646565469019,26.723962025672726,152.37030043881762,30.474060087763526]
[null,null,null,"NGGT.SO","RAV","Depreciation","NGGT.SO_RAV_Depreciation",8,"Depreciation","£m 18/19 prices","-",-37.530998136465392,-36.676764167884187,-35.310829006482486,-34.678843038780244,-34.064191672127521,-178.26162602173983,-35.652325204347967]
[null,null,null,"NGGT.SO","RAV","Closing","NGGT.SO_RAV_Closing",9,"Closing asset value","£m 18/19 prices","-",143.21263212398279,136.79990839591292,134.92447230018587,130.87427582687462,123.53404618041984,null,133.86906696547521]
[null,null,null,null,null,null,null,null,"Final Proposals allowances (calculated revenue)",null,"SORt"]
[null,null,null,"NGGT.SO","FinalProposals","FM","NGGT.SO_FinalProposals_FM",10,"Fast money","£m 18/19 prices","SOFMt",60.79426649438247,58.747843206698363,64.903998003231109,59.455608038851608,51.875926285129395,295.77764202829292,59.155528405658586]
[null,null,null,"NGGT.SO","FinalProposals","PT","NGGT.SO_FinalProposals_PT",11,"Pass-through expenditure","£m 18/19 prices","SOPTt",5.1195957345804359,3.09552170986561,2.9643768808202462,2.4393231996197748,2.2396394429657835,15.858456967851851,3.1716913935703701]
[null,null,null,"NGGT.SO","FinalProposals","DPN","NGGT.SO_FinalProposals_DPN",12,"Depreciation","£m 18/19 prices","SODPNt",37.530998136465392,36.676764167884187,35.310829006482486,34.678843038780244,34.064191672127521,178.26162602173983,35.652325204347967]
[null,null,null,"NGGT.SO","FinalProposals","RTN","NGGT.SO_FinalProposals_RTN",13,"Return","£m 18/19 prices","SORTNt",4.2377756904680721,3.9390261056985487,3.7524634479704404,3.6099183552585603,3.4208099430882206,18.959993542483843,3.7919987084967688]
[null,null,null,"NGGT.SO","FinalProposals","EIC","NGGT.SO_FinalProposals_EIC",14,"Equity issuance costs","£m 18/19 prices",null,0,0,0,0,0,0,0]
[null,null,null,"NGGT.SO","FinalProposals","RTNA","NGGT.SO_FinalProposals_RTNA",15,"Return adjustment","£m 18/19 prices",null,0,0,0,0,0,0,0]
[null,null,null,"NGGT.SO","FinalProposals","DRS","NGGT.SO_FinalProposals_DRS",16,"Directly remunerated services adjustment","£m 18/19 prices",null,0,0,0,0,0,0,0]
[null,null,null,"NGGT.SO","FinalProposals","BPI","NGGT.SO_FinalProposals_BPI",17,"Business plan incentive","£m 18/19 prices",null,0,0,0,0,0,0,0]
[null,null,null,"NGGT.SO","FinalProposals","ODI","NGGT.SO_FinalProposals_ODI",18,"Output delivery incentives","£m 18/19 prices",null,0,0,0,0,0,0,0]
[null,null,null,"NGGT.SO","FinalProposals","ORA","NGGT.SO_FinalProposals_ORA",19,"Other revenue allowance","£m 18/19 prices","SOORAt",87.331572535733045,81.473375179032558,80.047818244361764,78.529745527760184,76.992554259631362,404.37506574651889,80.875013149303783]
[null,null,null,"NGGT.SO","FinalProposals","TAX","NGGT.SO_FinalProposals_TAX",20,"Tax allowance","£m 18/19 prices","SOTAXt",1.8460394283567947,1.6414078529628735,2.5246782383220228,1.1159813728844883,0,7.128106892526179,1.4256213785052358]
[null,null,null,"NGGT.SO","FinalProposals","TAXA","NGGT.SO_FinalProposals_TAXA",21,"Tax allowance adjustment","£m 18/19 prices","SOTAXAt",0,0,0,0,0,0,0]
[null,null,null,"NGGT.SO","FinalProposals","R","NGGT.SO_FinalProposals_R",22,"Calculated revenue","£m 18/19 prices","SORt",196.86024801998622,185.57393822214215,189.50416382118809,179.82941953315483,168.59312160294229,920.36089119941357,184.0721782398827]
[null,null,null,null,null,null,null,null,"Recalculated allowances (calculated revenue)",null,"SORt"]
[null,null,null,"NGGT.SO","CalculatedRevenue","FM","NGGT.SO_CalculatedRevenue_FM",23,"Fast money","£m 18/19 prices","SOFMt",60.79426649438247,58.747843206698363,64.903998003231109,59.455608038851608,51.875926285129395,295.77764202829292,59.155528405658586]
[null,null,null,"NGGT.SO","CalculatedRevenue","PT","NGGT.SO_CalculatedRevenue_PT",24,"Pass-through expenditure","£m 18/19 prices","SOPTt",5.1195957345804359,3.09552170986561,2.9643768808202462,2.4393231996197748,2.2396394429657835,15.858456967851851,3.1716913935703701]
[null,null,null,"NGGT.SO","CalculatedRevenue","DPN","NGGT.SO_CalculatedRevenue_DPN",25,"Depreciation","£m 18/19 prices","SODPNt",37.530998136465392,36.676764167884187,35.310829006482486,34.678843038780244,34.064191672127521,178.26162602173983,35.652325204347967]
[null,null,null,"NGGT.SO","CalculatedRevenue","RTN","NGGT.SO_CalculatedRevenue_RTN",26,"Return","£m 18/19 prices","SORTNt",4.2377756904680721,3.9390261056985487,3.7524634479704404,3.6099183552585603,3.4208099430882206,18.959993542483843,3.7919987084967688]
[null,null,null,"NGGT.SO","CalculatedRevenue","EIC","NGGT.SO_CalculatedRevenue_EIC",27,"Equity issuance costs","£m 18/19 prices",null,null,null,null,null,null,0,0]
[null,null,null,"NGGT.SO","CalculatedRevenue","RTNA","NGGT.SO_CalculatedRevenue_RTNA",28,"Return adjustment","£m 18/19 prices",null,null,null,null,null,null,0,0]
[null,null,null,"NGGT.SO","CalculatedRevenue","DRS","NGGT.SO_CalculatedRevenue_DRS",29,"Directly remunerated services adjustment","£m 18/19 prices",null,null,null,null,null,null,0,0]
[null,null,null,"NGGT.SO","CalculatedRevenue","BPI","NGGT.SO_CalculatedRevenue_BPI",30,"Business plan incentive","£m 18/19 prices",null,null,null,null,null,null,0,0]
[null,null,null,"NGGT.SO","CalculatedRevenue","ODI","NGGT.SO_CalculatedRevenue_ODI",31,"Output delivery incentives","£m 18/19 prices",null,null,null,null,null,null,0,0]
[null,null,null,"NGGT.SO","CalculatedRevenue","ORA","NGGT.SO_CalculatedRevenue_ORA",32,"Other revenue allowance","£m 18/19 prices","SOORAt",87.331572535733045,81.473375179032558,80.047818244361764,78.529745527760184,76.992554259631362,404.37506574651889,80.875013149303783]
[null,null,null,"NGGT.SO","CalculatedRevenue","TAX","NGGT.SO_CalculatedRevenue_TAX",33,"Tax allowance","£m 18/19 prices","SOTAXt",1.8460394283567947,1.6414078529628735,2.5246782383220228,1.1159813728844883,0,7.128106892526179,1.4256213785052358]
[null,null,null,"NGGT.SO","CalculatedRevenue","TAXA","NGGT.SO_CalculatedRevenue_TAXA",34,"Tax allowance adjustment","£m 18/19 prices","SOTAXAt",0,0,0,0,0,0,0]
[null,null,null,"NGGT.SO","CalculatedRevenue","R","NGGT.SO_CalculatedRevenue_R",35,"Calculated revenue","£m 18/19 prices","SORt",196.86024801998622,185.57393822214215,189.50416382118809,179.82941953315483,168.59312160294229,920.36089119941357,184.0721782398827]
[null,null,null,null,null,null,null,null,"Price Control Revenue"]
[null,null,null,"NGGT.SO","TotalRevenue","Rnominal","NGGT.SO_TotalRevenue_Rnominal",36,"Calculated revenue","£m nominal","SORt ∙ (Pt / P2018/19)",207.20055528052421,"","","","",207.20055528052421,207.20055528052421]
[null,null,null,"NGGT.SO","TotalRevenue","ADJ","NGGT.SO_TotalRevenue_ADJ",37,"AIP adjustment term","£m nominal","SOADJt",0,"","","","",0,0]
[null,null,null,"NGGT.SO","TotalRevenue","ADJR","NGGT.SO_TotalRevenue_ADJR",38,"Adjusted revenue","£m nominal","SORt ∙ (Pt / P2018/19) + SOADJt",207.20055528052421,198.44222955290698,206.25385709068064,199.50756764452626,190.7760909435695,1002.1803005122076,200.43606010244153]
[null,null,null,"NGGT.SO","TotalRevenue","LAR","NGGT.SO_TotalRevenue_LAR",39,"Legacy allowed revenue","£m nominal","SOLARt",-5.7474662466209026,-28.269199837724141,0,0,0,-34.016666084345047,-6.8033332168690093]
[null,null,null,"NGGT.SO","TotalRevenue","K","NGGT.SO_TotalRevenue_K",40,"Correction term","£m nominal","SOKt",-60.208401899228669,0,0,0,0,-60.208401899228669,-12.041680379845733]
[null,null,null,"NGGT.SO","TotalRevenue","AR","NGGT.SO_TotalRevenue_AR",41,"Allowed revenue","£m nominal","SOARt",141.24468713467465,170.17302971518285,206.25385709068064,199.50756764452626,190.7760909435695,907.95523252863381,181.59104650572675]
[null,null,null,"NGGT.SO","TotalRevenue","DRSrevenue","NGGT.SO_TotalRevenue_DRSrevenue",42,"Directly remunerated services revenue","£m nominal","-",null,null,null,null,null,0,0]
[null,null,null,"NGGT.SO","TotalRevenue","TR","NGGT.SO_TotalRevenue_TR",43,"Total revenue","£m nominal","-",141.24468713467465,170.17302971518285,206.25385709068064,199.50756764452626,190.7760909435695,907.95523252863381,181.59104650572675]
[null,null,null,null,null,null,null,null,"Inflation rate",null,"(PIt / PIt-1) - 1"]
[null,null,null,"NGGT.SO","Inflation",2022,"NGGT.SO_Inflation_2022",44,"2022-03-31","annual %",null,1.3646061451968894E-2,1.5977818886124817E-2,1.7808816853933429E-2,1.9331180897115718E-2,1.9965453580682135E-2,null,1.7345866333964999E-2]
[null,null,null,"NGGT.SO","Inflation",2023,"NGGT.SO_Inflation_2023",45,"2023-03-31","annual %",null,"","","","","",null,""]
[null,null,null,"NGGT.SO","Inflation",2024,"NGGT.SO_Inflation_2024",46,"2024-03-31","annual %",null,"","","","","",null,""]
[null,null,null,"NGGT.SO","Inflation",2025,"NGGT.SO_Inflation_2025",47,"2025-03-31","annual %",null,"","","","","",null,""]
[null,null,null,"NGGT.SO","Inflation",2026,"NGGT.SO_Inflation_2026",48,"2026-03-31","annual %",null,"","","","","",null,""]
[null,null,null,"NGGT.SO","Inflation",2027,"NGGT.SO_Inflation_2027",49,"2027-03-31","annual %",null,"","","","","",null,""]
[null,null,null,"NGGT.SO","Inflation",2028,"NGGT.SO_Inflation_2028",50,"2028-03-31","annual %",null,"","","","","",null,""]
[null,null,null,null,null,null,null,null,"Nominal Time Value of Money",null,"TVMt"]
[null,null,null,"NGGT.SO","TVM",2022,"NGGT.SO_TVM_2022",51,"2022-03-31","annual nominal %",null,4.6835861623045094E-2,4.7855581877666253E-2,4.88900270007111E-2,4.906084980220915E-2,0,null,3.8528464060726318E-2]
[null,null,null,"NGGT.SO","TVM",2023,"NGGT.SO_TVM_2023",52,"2023-03-31","annual nominal %",null,"","","","","",null,""]
[null,null,null,"NGGT.SO","TVM",2024,"NGGT.SO_TVM_2024",53,"2024-03-31","annual nominal %",null,"","","","","",null,""]
[null,null,null,"NGGT.SO","TVM",2025,"NGGT.SO_TVM_2025",54,"2025-03-31","annual nominal %",null,"","","","","",null,""]
[null,null,null,"NGGT.SO","TVM",2026,"NGGT.SO_TVM_2026",55,"2026-03-31","annual nominal %",null,"","","","","",null,""]
[null,null,null,"NGGT.SO","TVM",2027,"NGGT.SO_TVM_2027",56,"2027-03-31","annual nominal %",null,"","","","","",null,""]
[null,null,null,"NGGT.SO","TVM",2028,"NGGT.SO_TVM_2028",57,"2028-03-31","annual nominal %",null,"","","","","",null,""]
[null,null,null,null,null,null,null,null,"Sterling Overnight Index Average (SONIA)",null,"It"]
[null,null,null,"NGGT.SO","SONIA",2022,"NGGT.SO_SONIA_2022",58,"2022-03-31","annual nominal %",null,4.5973702505714439E-4,8.648026937470648E-4,1.4141542757024586E-3,2.0702335211076469E-3,2.600000849653616E-3,null,1.4817856730535862E-3]
[null,null,null,"NGGT.SO","SONIA",2023,"NGGT.SO_SONIA_2023",59,"2023-03-31","annual nominal %",null,"","","","","",null,""]
[null,null,null,"NGGT.SO","SONIA",2024,"NGGT.SO_SONIA_2024",60,"2024-03-31","annual nominal %",null,"","","","","",null,""]
[null,null,null,"NGGT.SO","SONIA",2025,"NGGT.SO_SONIA_2025",61,"2025-03-31","annual nominal %",null,"","","","","",null,""]
[null,null,null,"NGGT.SO","SONIA",2026,"NGGT.SO_SONIA_2026",62,"2026-03-31","annual nominal %",null,"","","","","",null,""]
[null,null,null,"NGGT.SO","SONIA",2027,"NGGT.SO_SONIA_2027",63,"2027-03-31","annual nominal %",null,"","","","","",null,""]
[null,null,null,"NGGT.SO","SONIA",2028,"NGGT.SO_SONIA_2028",64,"2028-03-31","annual nominal %",null,"","","","","",null,""]
[null,null,null,null,null,null,null,null,"Calculated revenue",null,"SORt"]
[null,null,null,"NGGT.SO","R",2022,"NGGT.SO_R_2022",65,"2022-03-31","£m 18/19 prices",null,196.86024801998622,185.57393822214215,189.50416382118809,179.82941953315483,168.59312160294229,920.36089119941357,184.0721782398827]
[null,null,null,"NGGT.SO","R",2023,"NGGT.SO_R_2023",66,"2023-03-31","£m 18/19 prices",null,"","","","","",0,0]
[null,null,null,"NGGT.SO","R",2024,"NGGT.SO_R_2024",67,"2024-03-31","£m 18/19 prices",null,"","","","","",0,0]
[null,null,null,"NGGT.SO","R",2025,"NGGT.SO_R_2025",68,"2025-03-31","£m 18/19 prices",null,"","","","","",0,0]
[null,null,null,"NGGT.SO","R",2026,"NGGT.SO_R_2026",69,"2026-03-31","£m 18/19 prices",null,"","","","","",0,0]
[null,null,null,"NGGT.SO","R",2027,"NGGT.SO_R_2027",70,"2027-03-31","£m 18/19 prices",null,"","","","","",0,0]
[null,null,null,"NGGT.SO","R",2028,"NGGT.SO_R_2028",71,"2028-03-31","£m 18/19 prices",null,"","","","","",0,0]
[null,null,null,null,null,null,null,null,"Calculated revenue (nominal)",null,"SORt ∙ (Pt / P2018/19)"]
[null,null,null,"NGGT.SO","Rnominal",2022,"NGGT.SO_Rnominal_2022",72,"2022-03-31","£m nominal",null,207.20055528052421,198.44222955290698,206.25385709068064,199.50756764452626,190.7760909435695,1002.1803005122076,200.43606010244153]
[null,null,null,"NGGT.SO","Rnominal",2023,"NGGT.SO_Rnominal_2023",73,"2023-03-31","£m nominal",null,"","","","","",0,0]
[null,null,null,"NGGT.SO","Rnominal",2024,"NGGT.SO_Rnominal_2024",74,"2024-03-31","£m nominal",null,"","","","","",0,0]
[null,null,null,"NGGT.SO","Rnominal",2025,"NGGT.SO_Rnominal_2025",75,"2025-03-31","£m nominal",null,"","","","","",0,0]
[null,null,null,"NGGT.SO","Rnominal",2026,"NGGT.SO_Rnominal_2026",76,"2026-03-31","£m nominal",null,"","","","","",0,0]
[null,null,null,"NGGT.SO","Rnominal",2027,"NGGT.SO_Rnominal_2027",77,"2027-03-31","£m nominal",null,"","","","","",0,0]
[null,null,null,"NGGT.SO","Rnominal",2028,"NGGT.SO_Rnominal_2028",78,"2028-03-31","£m nominal",null,"","","","","",0,0]
[null,null,null,null,null,null,null,null,"AIP adjustment term",null,"SOADJt"]
[null,null,null,"NGGT.SO","ADJ",2022,"NGGT.SO_ADJ_2022",79,"2022-03-31","£m nominal",null,0,0,0,0,0,0,0]
[null,null,null,"NGGT.SO","ADJ",2023,"NGGT.SO_ADJ_2023",80,"2023-03-31","£m nominal",null,"","","","","",0,0]
[null,null,null,"NGGT.SO","ADJ",2024,"NGGT.SO_ADJ_2024",81,"2024-03-31","£m nominal",null,"","","","","",0,0]
[null,null,null,"NGGT.SO","ADJ",2025,"NGGT.SO_ADJ_2025",82,"2025-03-31","£m nominal",null,"","","","","",0,0]
[null,null,null,"NGGT.SO","ADJ",2026,"NGGT.SO_ADJ_2026",83,"2026-03-31","£m nominal",null,"","","","","",0,0]
[null,null,null,"NGGT.SO","ADJ",2027,"NGGT.SO_ADJ_2027",84,"2027-03-31","£m nominal",null,"","","","","",0,0]
[null,null,null,"NGGT.SO","ADJ",2028,"NGGT.SO_ADJ_2028",85,"2028-03-31","£m nominal",null,"","","","","",0,0]
[null,null,null,null,null,null,null,null,"Adjusted revenue",null,"SOADJRt"]
[null,null,null,"NGGT.SO","ADJR",2022,"NGGT.SO_ADJR_2022",86,"2022-03-31","£m nominal",null,207.20055528052421,198.44222955290698,206.25385709068064,199.50756764452626,190.7760909435695,1002.1803005122076,200.43606010244153]
[null,null,null,"NGGT.SO","ADJR",2023,"NGGT.SO_ADJR_2023",87,"2023-03-31","£m nominal",null,"","","","","",0,0]
[null,null,null,"NGGT.SO","ADJR",2024,"NGGT.SO_ADJR_2024",88,"2024-03-31","£m nominal",null,"","","","","",0,0]
[null,null,null,"NGGT.SO","ADJR",2025,"NGGT.SO_ADJR_2025",89,"2025-03-31","£m nominal",null,"","","","","",0,0]
[null,null,null,"NGGT.SO","ADJR",2026,"NGGT.SO_ADJR_2026",90,"2026-03-31","£m nominal",null,"","","","","",0,0]
[null,null,null,"NGGT.SO","ADJR",2027,"NGGT.SO_ADJR_2027",91,"2027-03-31","£m nominal",null,"","","","","",0,0]
[null,null,null,"NGGT.SO","ADJR",2028,"NGGT.SO_ADJR_2028",92,"2028-03-31","£m nominal",null,"","","","","",0,0]
[null,null,null,null,null,null,null,null,"Legacy allowed revenue",null,"SOLARt"]
[null,null,null,"NGGT.SO","LAR",2022,"NGGT.SO_LAR_2022",93,"2022-03-31","£m nominal",null,-5.7474662466209026,-28.269199837724141,0,0,0,-34.016666084345047,-6.8033332168690093]
[null,null,null,"NGGT.SO","LAR",2023,"NGGT.SO_LAR_2023",94,"2023-03-31","£m nominal",null,"","","","","",0,0]
[null,null,null,"NGGT.SO","LAR",2024,"NGGT.SO_LAR_2024",95,"2024-03-31","£m nominal",null,"","","","","",0,0]
[null,null,null,"NGGT.SO","LAR",2025,"NGGT.SO_LAR_2025",96,"2025-03-31","£m nominal",null,"","","","","",0,0]
[null,null,null,"NGGT.SO","LAR",2026,"NGGT.SO_LAR_2026",97,"2026-03-31","£m nominal",null,"","","","","",0,0]
[null,null,null,"NGGT.SO","LAR",2027,"NGGT.SO_LAR_2027",98,"2027-03-31","£m nominal",null,"","","","","",0,0]
[null,null,null,"NGGT.SO","LAR",2028,"NGGT.SO_LAR_2028",99,"2028-03-31","£m nominal",null,"","","","","",0,0]
[null,null,null,null,null,null,null,null,"Correction term",null,"Kt"]
[null,null,null,"NGGT.SO","K",2022,"NGGT.SO_K_2022",100,"2022-03-31","£m nominal",null,-60.208401899228669,0,0,0,0,-60.208401899228669,-12.041680379845733]
[null,null,null,"NGGT.SO","K",2023,"NGGT.SO_K_2023",101,"2023-03-31","£m nominal",null,"","","","","",0,0]
[null,null,null,"NGGT.SO","K",2024,"NGGT.SO_K_2024",102,"2024-03-31","£m nominal",null,"","","","","",0,0]
[null,null,null,"NGGT.SO","K",2025,"NGGT.SO_K_2025",103,"2025-03-31","£m nominal",null,"","","","","",0,0]
[null,null,null,"NGGT.SO","K",2026,"NGGT.SO_K_2026",104,"2026-03-31","£m nominal",null,"","","","","",0,0]
[null,null,null,"NGGT.SO","K",2027,"NGGT.SO_K_2027",105,"2027-03-31","£m nominal",null,"","","","","",0,0]
[null,null,null,"NGGT.SO","K",2028,"NGGT.SO_K_2028",106,"2028-03-31","£m nominal",null,"","","","","",0,0]
[null,null,null,null,null,null,null,null,"Allowed revenue",null,"SOARt"]
[null,null,null,"NGGT.SO","AR",2022,"NGGT.SO_AR_2022",107,"2022-03-31","£m nominal",null,141.24468713467465,170.17302971518285,206.25385709068064,199.50756764452626,190.7760909435695,907.95523252863381,181.59104650572675]
[null,null,null,"NGGT.SO","AR",2023,"NGGT.SO_AR_2023",108,"2023-03-31","£m nominal",null,"","","","","",0,0]
[null,null,null,"NGGT.SO","AR",2024,"NGGT.SO_AR_2024",109,"2024-03-31","£m nominal",null,"","","","","",0,0]
[null,null,null,"NGGT.SO","AR",2025,"NGGT.SO_AR_2025",110,"2025-03-31","£m nominal",null,"","","","","",0,0]
[null,null,null,"NGGT.SO","AR",2026,"NGGT.SO_AR_2026",111,"2026-03-31","£m nominal",null,"","","","","",0,0]
[null,null,null,"NGGT.SO","AR",2027,"NGGT.SO_AR_2027",112,"2027-03-31","£m nominal",null,"","","","","",0,0]
[null,null,null,"NGGT.SO","AR",2028,"NGGT.SO_AR_2028",113,"2028-03-31","£m nominal",null,"","","","","",0,0]
[null,null,null,null,null,null,null,null,"Recovered revenue",null,"SORRt"]
[null,null,null,"NGGT.SO","RR",2022,"NGGT.SO_RR_2022",114,"2022-03-31","£m nominal",null,0,0,0,0,0,0,0]
[null,null,null,"NGGT.SO","RR",2023,"NGGT.SO_RR_2023",115,"2023-03-31","£m nominal",null,"","","","","",0,0]
[null,null,null,"NGGT.SO","RR",2024,"NGGT.SO_RR_2024",116,"2024-03-31","£m nominal",null,"","","","","",0,0]
[null,null,null,"NGGT.SO","RR",2025,"NGGT.SO_RR_2025",117,"2025-03-31","£m nominal",null,"","","","","",0,0]
[null,null,null,"NGGT.SO","RR",2026,"NGGT.SO_RR_2026",118,"2026-03-31","£m nominal",null,"","","","","",0,0]
[null,null,null,"NGGT.SO","RR",2027,"NGGT.SO_RR_2027",119,"2027-03-31","£m nominal",null,"","","","","",0,0]
[null,null,null,"NGGT.SO","RR",2028,"NGGT.SO_RR_2028",120,"2028-03-31","£m nominal",null,"","","","","",0,0]
[null,null,null,null,null,null,null,null,"Operational performance and Return adjustment"]
[null,null,null,"NGGT.SO","OPP","TotexOPM","NGGT.SO_OPP_TotexOPM",121,"Totex outperformance (operator share)","£m 18/19 prices",null,0,0,0,0,0,0,0]
[null,null,null,"NGGT.SO","OPP","ODI","NGGT.SO_OPP_ODI",122,"Output delivery incentives","£m 18/19 prices",null,0,0,0,0,0,0,0]
[null,null,null,"NGGT.SO","OPP","NPVRAV","NGGT.SO_OPP_NPVRAV",123,"NPV-neutral RAV return base","£m 18/19 prices","RAVLt (SO)",144.27574347673567,138.10953007148538,134.02480764138073,131.14641207265993,125.56606215447025,673.12255541673198,134.62451108334639]
[]
[null,"End of sheet"]

{"sheet":"Annual Inflation","index":17,"n_rows":55,"n_cols":46,"rows_kept":55,"cut":false,"hidden":false,"merged":[]}
["Annual Inflation"]
[]
[null,null,null,null,"Parameter","Licence condition","Units","Term","Constant",null,null,null,null,null,null,null,null,null,null,null,null,null,null,null,null,null,null,null,null,null,null,null,null,"Annual values"]
[null,null,null,null,null,null,null,null,null,null,null,null,null,null,null,null,null,null,null,null,null,"2002-03-31","2003-03-31","2004-03-31","2005-03-31","2006-03-31","2007-03-31","2008-03-31","2009-03-31","2010-03-31","2011-03-31","2012-03-31","2013-03-31","2014-03-31","2015-03-31","2016-03-31","2017-03-31","2018-03-31","2019-03-31","2020-03-31","2021-03-31","2022-03-31","2023-03-31","2024-03-31","2025-03-31","2026-03-31"]
[]
[null,null,null,null,"Calendar year",null,"year",null,null,">",null,null,null,null,null,null,null,null,null,null,null,{"$f":"YEAR(V4)","v":2002},2003,2004,2005,2006,2007,2008,2009,2010,2011,2012,2013,2014,2015,2016,2017,2018,2019,2020,2021,2022,2023,2024,2025,2026]
[]
[null,null,null,null,"Last year of actual data",null,"year",null,{"$f":"YEAR( INDEX('Monthly Inflation'!$A:$A, COUNTIF('Monthly Inflation'!$C:$C, \"<>\")))","v":2020}]
[null,null,null,null,"Last month of actual data",null,"month",null,{"$f":"MONTH( INDEX('Monthly Inflation'!$A:$A, COUNTIF('Monthly Inflation'!$C:$C, \"<>\")))","v":10}]
[]
[null,null,null,null,"First month of financial year",null,"month",null,4]
[null,null,null,null,"First day of financial year",null,"day",null,1]
[]
[null,null,null,null,"RIIO-2 real price base",null,"year ending",null,"2019-03-31"]
[null,null,null,null,"Start of RIIO-2",null,"year ending",null,"2022-03-31"]
[]
[null,"Derivation of annual inflation rates and price indices"]
[]
[null,null,"Financial year average price indices and inflation rates"]
[]
[null,null,null,null,"Outturn/Forecast (financial year average inflation)",null,"text",null,null,">",null,null,null,null,null,null,null,null,null,null,null,{"$f":"IF(DATE($I8, $I9, $I12) >= DATE(V$6, $I11 - 1, $I12),\"OUTTURN\",\"FORECAST\")","v":"OUTTURN"},"OUTTURN","OUTTURN","OUTTURN","OUTTURN","OUTTURN","OUTTURN","OUTTURN","OUTTURN","OUTTURN","OUTTURN","OUTTURN","OUTTURN","OUTTURN","OUTTURN","OUTTURN","OUTTURN","OUTTURN","OUTTURN","FORECAST","FORECAST","FORECAST","FORECAST","FORECAST","FORECAST"]
[]
[null,null,null,null,"Retail Prices Index (financial year average)",null,"index value","RPIt",null,">",null,null,null,null,null,null,null,null,null,null,null,{"$f":"AVERAGEIFS('Monthly Inflation'!$H:$H,'Monthly Inflation'!$A:$A,\">=\"&DATE(V$6 - 1, $I11, $I12),'Monthly Inflation'!$A:$A,\"<=\"&DATE(V$6, $I11 - 1, $I12))","v":173.875},{"$f":"AVERAGEIFS('Monthly Inflation'!$H:$H,'Monthly Inflation'!$A:$A,\">=\"&DATE(W$6 - 1, $I11, $I12),'Monthly Inflation'!$A:$A,\"<=\"&DATE(W$6, $I11 - 1, $I12))","v":177.51666666666665},{"$f":"AVERAGEIFS('Monthly Inflation'!$H:$H,'Monthly Inflation'!$A:$A,\">=\"&DATE(X$6 - 1, $I11, $I12),'Monthly Inflation'!$A:$A,\"<=\"&DATE(X$6, $I11 - 1, $I12))","v":182.47499999999999},{"$f":"AVERAGEIFS('Monthly Inflation'!$H:$H,'Monthly Inflation'!$A:$A,\">=\"&DATE(Y$6 - 1, $I11, $I12),'Monthly Inflation'!$A:$A,\"<=\"&DATE(Y$6, $I11 - 1, $I12))","v":188.15},{"$f":"AVERAGEIFS('Monthly Inflation'!$H:$H,'Monthly Inflation'!$A:$A,\">=\"&DATE(Z$6 - 1, $I11, $I12),'Monthly Inflation'!$A:$A,\"<=\"&DATE(Z$6, $I11 - 1, $I12))","v":193.10833333333332},{"$f":"AVERAGEIFS('Monthly Inflation'!$H:$H,'Monthly Inflation'!$A:$A,\">=\"&DATE(AA$6 - 1, $I11, $I12),'Monthly Inflation'!$A:$A,\"<=\"&DATE(AA$6, $I11 - 1, $I12))","v":200.31666666666669},{"$f":"AVERAGEIFS('Monthly Inflation'!$H:$H,'Monthly Inflation'!$A:$A,\">=\"&DATE(AB$6 - 1, $I11, $I12),'Monthly Inflation'!$A:$A,\"<=\"&DATE(AB$6, $I11 - 1, $I12))","v":208.5916666666667},{"$f":"AVERAGEIFS('Monthly Inflation'!$H:$H,'Monthly Inflation'!$A:$A,\">=\"&DATE(AC$6 - 1, $I11, $I12),'Monthly Inflation'!$A:$A,\"<=\"&DATE(AC$6, $I11 - 1, $I12))","v":214.78333333333339},{"$f":"AVERAGEIFS('Monthly Inflation'!$H:$H,'Monthly Inflation'!$A:$A,\">=\"&DATE(AD$6 - 1, $I11, $I12),'Monthly Inflation'!$A:$A,\"<=\"&DATE(AD$6, $I11 - 1, $I12))","v":215.76666666666662},{"$f":"AVERAGEIFS('Monthly Inflation'!$H:$H,'Monthly Inflation'!$A:$A,\">=\"&DATE(AE$6 - 1, $I11, $I12),'Monthly Inflation'!$A:$A,\"<=\"&DATE(AE$6, $I11 - 1, $I12))","v":226.47499999999999},{"$f":"AVERAGEIFS('Monthly Inflation'!$H:$H,'Monthly Inflation'!$A:$A,\">=\"&DATE(AF$6 - 1, $I11, $I12),'Monthly Inflation'!$A:$A,\"<=\"&DATE(AF$6, $I11 - 1, $I12))","v":237.3416666666667},{"$f":"AVERAGEIFS('Monthly Inflation'!$H:$H,'Monthly Inflation'!$A:$A,\">=\"&DATE(AG$6 - 1, $I11, $I12),'Monthly Inflation'!$A:$A,\"<=\"&DATE(AG$6, $I11 - 1, $I12))","v":244.67499999999998},{"$f":"AVERAGEIFS('Monthly Inflation'!$H:$H,'Monthly Inflation'!$A:$A,\">=\"&DATE(AH$6 - 1, $I11, $I12),'Monthly Inflation'!$A:$A,\"<=\"&DATE(AH$6, $I11 - 1, $I12))","v":251.73333333333335},{"$f":"AVERAGEIFS('Monthly Inflation'!$H:$H,'Monthly Inflation'!$A:$A,\">=\"&DATE(AI$6 - 1, $I11, $I12),'Monthly Inflation'!$A:$A,\"<=\"&DATE(AI$6, $I11 - 1, $I12))","v":256.66666666666669},{"$f":"AVERAGEIFS('Monthly Inflation'!$H:$H,'Monthly Inflation'!$A:$A,\">=\"&DATE(AJ$6 - 1, $I11, $I12),'Monthly Inflation'!$A:$A,\"<=\"&DATE(AJ$6, $I11 - 1, $I12))","v":259.43333333333334},{"$f":"AVERAGEIFS('Monthly Inflation'!$H:$H,'Monthly Inflation'!$A:$A,\">=\"&DATE(AK$6 - 1, $I11, $I12),'Monthly Inflation'!$A:$A,\"<=\"&DATE(AK$6, $I11 - 1, $I12))","v":264.99166666666673},{"$f":"AVERAGEIFS('Monthly Inflation'!$H:$H,'Monthly Inflation'!$A:$A,\">=\"&DATE(AL$6 - 1, $I11, $I12),'Monthly Inflation'!$A:$A,\"<=\"&DATE(AL$6, $I11 - 1, $I12))","v":274.90833333333336},{"$f":"AVERAGEIFS('Monthly Inflation'!$H:$H,'Monthly Inflation'!$A:$A,\">=\"&DATE(AM$6 - 1, $I11, $I12),'Monthly Inflation'!$A:$A,\"<=\"&DATE(AM$6, $I11 - 1, $I12))","v":283.30833333333334},{"$f":"AVERAGEIFS('Monthly Inflation'!$H:$H,'Monthly Inflation'!$A:$A,\">=\"&DATE(AN$6 - 1, $I11, $I12),'Monthly Inflation'!$A:$A,\"<=\"&DATE(AN$6, $I11 - 1, $I12))","v":290.64166666666665},{"$f":"AVERAGEIFS('Monthly Inflation'!$H:$H,'Monthly Inflation'!$A:$A,\">=\"&DATE(AO$6 - 1, $I11, $I12),'Monthly Inflation'!$A:$A,\"<=\"&DATE(AO$6, $I11 - 1, $I12))","v":294.17509269226207},{"$f":"AVERAGEIFS('Monthly Inflation'!$H:$H,'Monthly Inflation'!$A:$A,\">=\"&DATE(AP$6 - 1, $I11, $I12),'Monthly Inflation'!$A:$A,\"<=\"&DATE(AP$6, $I11 - 1, $I12))","v":298.31993410998405},{"$f":"AVERAGEIFS('Monthly Inflation'!$H:$H,'Monthly Inflation'!$A:$A,\">=\"&DATE(AQ$6 - 1, $I11, $I12),'Monthly Inflation'!$A:$A,\"<=\"&DATE(AQ$6, $I11 - 1, $I12))","v":303.87812996757594},{"$f":"AVERAGEIFS('Monthly Inflation'!$H:$H,'Monthly Inflation'!$A:$A,\">=\"&DATE(AR$6 - 1, $I11, $I12),'Monthly Inflation'!$A:$A,\"<=\"&DATE(AR$6, $I11 - 1, $I12))","v":312.0253475439311},{"$f":"AVERAGEIFS('Monthly Inflation'!$H:$H,'Monthly Inflation'!$A:$A,\">=\"&DATE(AS$6 - 1, $I11, $I12),'Monthly Inflation'!$A:$A,\"<=\"&DATE(AS$6, $I11 - 1, $I12))","v":321.33052371186744},{"$f":"AVERAGEIFS('Monthly Inflation'!$H:$H,'Monthly Inflation'!$A:$A,\">=\"&DATE(AT$6 - 1, $I11, $I12),'Monthly Inflation'!$A:$A,\"<=\"&DATE(AT$6, $I11 - 1, $I12))","v":330.95442761580398}]
[null,null,null,null,"RPI inflation (financial year average)",null,"annual %",null,null,">",null,null,null,null,null,null,null,null,null,null,null,null,{"$f":"W23/V23-1","v":2.0944164869398429E-2},2.7931649610365206E-2,3.1100150705576146E-2,2.635308707591455E-2,3.7327924739999352E-2,4.1309593144188472E-2,2.9683192840877393E-2,4.57825715837612E-3,4.9629229105515371E-2,4.7981749273282803E-2,3.0897791510129391E-2,{"$f":"AH23/AG23-1","v":2.8847791287762714E-2},{"$f":"AI23/AH23-1","v":1.9597457627118731E-2},1.0779220779220777E-2,2.1424900424001248E-2,3.7422560457875953E-2,3.0555639758707454E-2,2.5884636879724532E-2,1.2157327839878773E-2,1.4089708886598107E-2,1.8631660918585258E-2,2.6810805954428085E-2,2.9821859798189188E-2,2.9950170288105538E-2]
[]
[null,null,null,null,"Consumer Prices Index incl. housing costs (financial year average)",null,"index value","CPIHt",null,">",null,null,null,null,null,null,null,null,null,null,null,{"$f":"AVERAGEIFS('Monthly Inflation'!$G:$G,'Monthly Inflation'!$A:$A,\">=\"&DATE(V$6-1,$I11, $I12),'Monthly Inflation'!$A:$A,\"<=\"&DATE(V$6,$I11-1,$I12))","v":74.86666666666666},{"$f":"AVERAGEIFS('Monthly Inflation'!$G:$G,'Monthly Inflation'!$A:$A,\">=\"&DATE(W$6-1,$I11, $I12),'Monthly Inflation'!$A:$A,\"<=\"&DATE(W$6,$I11-1,$I12))","v":75.958333333333329},{"$f":"AVERAGEIFS('Monthly Inflation'!$G:$G,'Monthly Inflation'!$A:$A,\">=\"&DATE(X$6-1,$I11, $I12),'Monthly Inflation'!$A:$A,\"<=\"&DATE(X$6,$I11-1,$I12))","v":76.974999999999994},{"$f":"AVERAGEIFS('Monthly Inflation'!$G:$G,'Monthly Inflation'!$A:$A,\">=\"&DATE(Y$6-1,$I11, $I12),'Monthly Inflation'!$A:$A,\"<=\"&DATE(Y$6,$I11-1,$I12))","v":78.124999999999986},{"$f":"AVERAGEIFS('Monthly Inflation'!$G:$G,'Monthly Inflation'!$A:$A,\">=\"&DATE(Z$6-1,$I11, $I12),'Monthly Inflation'!$A:$A,\"<=\"&DATE(Z$6,$I11-1,$I12))","v":79.825000000000003},{"$f":"AVERAGEIFS('Monthly Inflation'!$G:$G,'Monthly Inflation'!$A:$A,\">=\"&DATE(AA$6-1,$I11, $I12),'Monthly Inflation'!$A:$A,\"<=\"&DATE(AA$6,$I11-1,$I12))","v":81.916666666666671},{"$f":"AVERAGEIFS('Monthly Inflation'!$G:$G,'Monthly Inflation'!$A:$A,\">=\"&DATE(AB$6-1,$I11, $I12),'Monthly Inflation'!$A:$A,\"<=\"&DATE(AB$6,$I11-1,$I12))","v":83.825000000000003},{"$f":"AVERAGEIFS('Monthly Inflation'!$G:$G,'Monthly Inflation'!$A:$A,\">=\"&DATE(AC$6-1,$I11, $I12),'Monthly Inflation'!$A:$A,\"<=\"&DATE(AC$6,$I11-1,$I12))","v":86.858333333333334},{"$f":"AVERAGEIFS('Monthly Inflation'!$G:$G,'Monthly Inflation'!$A:$A,\">=\"&DATE(AD$6-1,$I11, $I12),'Monthly Inflation'!$A:$A,\"<=\"&DATE(AD$6,$I11-1,$I12))","v":88.433333333333337},{"$f":"AVERAGEIFS('Monthly Inflation'!$G:$G,'Monthly Inflation'!$A:$A,\">=\"&DATE(AE$6-1,$I11, $I12),'Monthly Inflation'!$A:$A,\"<=\"&DATE(AE$6,$I11-1,$I12))","v":90.908333333333317},{"$f":"AVERAGEIFS('Monthly Inflation'!$G:$G,'Monthly Inflation'!$A:$A,\">=\"&DATE(AF$6-1,$I11, $I12),'Monthly Inflation'!$A:$A,\"<=\"&DATE(AF$6,$I11-1,$I12))","v":94.308333333333351},{"$f":"AVERAGEIFS('Monthly Inflation'!$G:$G,'Monthly Inflation'!$A:$A,\">=\"&DATE(AG$6-1,$I11, $I12),'Monthly Inflation'!$A:$A,\"<=\"&DATE(AG$6,$I11-1,$I12))","v":96.583333333333314},{"$f":"AVERAGEIFS('Monthly Inflation'!$G:$G,'Monthly Inflation'!$A:$A,\">=\"&DATE(AH$6-1,$I11, $I12),'Monthly Inflation'!$A:$A,\"<=\"&DATE(AH$6,$I11-1,$I12))","v":98.600000000000009},{"$f":"AVERAGEIFS('Monthly Inflation'!$G:$G,'Monthly Inflation'!$A:$A,\">=\"&DATE(AI$6-1,$I11, $I12),'Monthly Inflation'!$A:$A,\"<=\"&DATE(AI$6,$I11-1,$I12))","v":99.72499999999998},{"$f":"AVERAGEIFS('Monthly Inflation'!$G:$G,'Monthly Inflation'!$A:$A,\">=\"&DATE(AJ$6-1,$I11, $I12),'Monthly Inflation'!$A:$A,\"<=\"&DATE(AJ$6,$I11-1,$I12))","v":100.16666666666667},{"$f":"AVERAGEIFS('Monthly Inflation'!$G:$G,'Monthly Inflation'!$A:$A,\">=\"&DATE(AK$6-1,$I11, $I12),'Monthly Inflation'!$A:$A,\"<=\"&DATE(AK$6,$I11-1,$I12))","v":101.54166666666667},{"$f":"AVERAGEIFS('Monthly Inflation'!$G:$G,'Monthly Inflation'!$A:$A,\">=\"&DATE(AL$6-1,$I11, $I12),'Monthly Inflation'!$A:$A,\"<=\"&DATE(AL$6,$I11-1,$I12))","v":104.21666666666665},{"$f":"AVERAGEIFS('Monthly Inflation'!$G:$G,'Monthly Inflation'!$A:$A,\">=\"&DATE(AM$6-1,$I11, $I12),'Monthly Inflation'!$A:$A,\"<=\"&DATE(AM$6,$I11-1,$I12))","v":106.43333333333334},{"$f":"AVERAGEIFS('Monthly Inflation'!$G:$G,'Monthly Inflation'!$A:$A,\">=\"&DATE(AN$6-1,$I11, $I12),'Monthly Inflation'!$A:$A,\"<=\"&DATE(AN$6,$I11-1,$I12))","v":108.24166666666663},{"$f":"AVERAGEIFS('Monthly Inflation'!$G:$G,'Monthly Inflation'!$A:$A,\">=\"&DATE(AO$6-1,$I11, $I12),'Monthly Inflation'!$A:$A,\"<=\"&DATE(AO$6,$I11-1,$I12))","v":109.16563279586747},{"$f":"AVERAGEIFS('Monthly Inflation'!$G:$G,'Monthly Inflation'!$A:$A,\">=\"&DATE(AP$6-1,$I11, $I12),'Monthly Inflation'!$A:$A,\"<=\"&DATE(AP$6,$I11-1,$I12))","v":110.55301778572785},{"$f":"AVERAGEIFS('Monthly Inflation'!$G:$G,'Monthly Inflation'!$A:$A,\">=\"&DATE(AQ$6-1,$I11, $I12),'Monthly Inflation'!$A:$A,\"<=\"&DATE(AQ$6,$I11-1,$I12))","v":112.31941388122272},{"$f":"AVERAGEIFS('Monthly Inflation'!$G:$G,'Monthly Inflation'!$A:$A,\">=\"&DATE(AR$6-1,$I11, $I12),'Monthly Inflation'!$A:$A,\"<=\"&DATE(AR$6,$I11-1,$I12))","v":114.3196897521745},{"$f":"AVERAGEIFS('Monthly Inflation'!$G:$G,'Monthly Inflation'!$A:$A,\">=\"&DATE(AS$6-1,$I11, $I12),'Monthly Inflation'!$A:$A,\"<=\"&DATE(AS$6,$I11-1,$I12))","v":116.52962435487591},{"$f":"AVERAGEIFS('Monthly Inflation'!$G:$G,'Monthly Inflation'!$A:$A,\">=\"&DATE(AT$6-1,$I11, $I12),'Monthly Inflation'!$A:$A,\"<=\"&DATE(AT$6,$I11-1,$I12))","v":118.85619116070755}]
[null,null,null,null,"CPIH inflation (financial year average)",null,"annual %",null,null,">",null,null,null,null,null,null,null,null,null,null,null,null,{"$f":"W26/V26-1","v":1.4581478183437246E-2},1.3384530992868848E-2,1.4939915556998917E-2,2.1760000000000224E-2,2.6203152729930013E-2,2.3296032553407953E-2,3.6186499652052895E-2,1.8132975151108122E-2,2.7987184319637981E-2,3.7400311669264275E-2,2.4123000795263305E-2,{"$f":"AH26/AG26-1","v":2.088006902502193E-2},{"$f":"AI26/AH26-1","v":1.1409736308316099E-2},4.4288459931480784E-3,1.3727121464226277E-2,2.6343865408288814E-2,2.1269790500559882E-2,1.6990291262135582E-2,8.5361410042421593E-3,1.2708990497537709E-2,1.5977818886124595E-2,1.7808816853932985E-2,1.9331180897115496E-2,1.9965453580682579E-2]
[]
[null,null,null,null,"Combined RPI-CPIH price index (financial year average)",null,"index value","PIt",null,">",null,null,null,null,null,null,null,null,null,null,null,{"$f":"AVERAGEIFS('Monthly Inflation'!$I:$I,'Monthly Inflation'!$A:$A,\">=\"&DATE(V$6-1, $I11, $I12),'Monthly Inflation'!$A:$A,\"<=\"&DATE(V$6, $I11 - 1, $I12))","v":173.875},{"$f":"AVERAGEIFS('Monthly Inflation'!$I:$I,'Monthly Inflation'!$A:$A,\">=\"&DATE(W$6-1, $I11, $I12),'Monthly Inflation'!$A:$A,\"<=\"&DATE(W$6, $I11 - 1, $I12))","v":177.51666666666665},{"$f":"AVERAGEIFS('Monthly Inflation'!$I:$I,'Monthly Inflation'!$A:$A,\">=\"&DATE(X$6-1, $I11, $I12),'Monthly Inflation'!$A:$A,\"<=\"&DATE(X$6, $I11 - 1, $I12))","v":182.47499999999999},{"$f":"AVERAGEIFS('Monthly Inflation'!$I:$I,'Monthly Inflation'!$A:$A,\">=\"&DATE(Y$6-1, $I11, $I12),'Monthly Inflation'!$A:$A,\"<=\"&DATE(Y$6, $I11 - 1, $I12))","v":188.15},{"$f":"AVERAGEIFS('Monthly Inflation'!$I:$I,'Monthly Inflation'!$A:$A,\">=\"&DATE(Z$6-1, $I11, $I12),'Monthly Inflation'!$A:$A,\"<=\"&DATE(Z$6, $I11 - 1, $I12))","v":193.10833333333332},{"$f":"AVERAGEIFS('Monthly Inflation'!$I:$I,'Monthly Inflation'!$A:$A,\">=\"&DATE(AA$6-1, $I11, $I12),'Monthly Inflation'!$A:$A,\"<=\"&DATE(AA$6, $I11 - 1, $I12))","v":200.31666666666669},{"$f":"AVERAGEIFS('Monthly Inflation'!$I:$I,'Monthly Inflation'!$A:$A,\">=\"&DATE(AB$6-1, $I11, $I12),'Monthly Inflation'!$A:$A,\"<=\"&DATE(AB$6, $I11 - 1, $I12))","v":208.5916666666667},{"$f":"AVERAGEIFS('Monthly Inflation'!$I:$I,'Monthly Inflation'!$A:$A,\">=\"&DATE(AC$6-1, $I11, $I12),'Monthly Inflation'!$A:$A,\"<=\"&DATE(AC$6, $I11 - 1, $I12))","v":214.78333333333339},{"$f":"AVERAGEIFS('Monthly Inflation'!$I:$I,'Monthly Inflation'!$A:$A,\">=\"&DATE(AD$6-1, $I11, $I12),'Monthly Inflation'!$A:$A,\"<=\"&DATE(AD$6, $I11 - 1, $I12))","v":215.76666666666662},{"$f":"AVERAGEIFS('Monthly Inflation'!$I:$I,'Monthly Inflation'!$A:$A,\">=\"&DATE(AE$6-1, $I11, $I12),'Monthly Inflation'!$A:$A,\"<=\"&DATE(AE$6, $I11 - 1, $I12))","v":226.47499999999999},{"$f":"AVERAGEIFS('Monthly Inflation'!$I:$I,'Monthly Inflation'!$A:$A,\">=\"&DATE(AF$6-1, $I11, $I12),'Monthly Inflation'!$A:$A,\"<=\"&DATE(AF$6, $I11 - 1, $I12))","v":237.3416666666667},{"$f":"AVERAGEIFS('Monthly Inflation'!$I:$I,'Monthly Inflation'!$A:$A,\">=\"&DATE(AG$6-1, $I11, $I12),'Monthly Inflation'!$A:$A,\"<=\"&DATE(AG$6, $I11 - 1, $I12))","v":244.67499999999998},{"$f":"AVERAGEIFS('Monthly Inflation'!$I:$I,'Monthly Inflation'!$A:$A,\">=\"&DATE(AH$6-1, $I11, $I12),'Monthly Inflation'!$A:$A,\"<=\"&DATE(AH$6, $I11 - 1, $I12))","v":251.73333333333335},{"$f":"AVERAGEIFS('Monthly Inflation'!$I:$I,'Monthly Inflation'!$A:$A,\">=\"&DATE(AI$6-1, $I11, $I12),'Monthly Inflation'!$A:$A,\"<=\"&DATE(AI$6, $I11 - 1, $I12))","v":256.66666666666669},{"$f":"AVERAGEIFS('Monthly Inflation'!$I:$I,'Monthly Inflation'!$A:$A,\">=\"&DATE(AJ$6-1, $I11, $I12),'Monthly Inflation'!$A:$A,\"<=\"&DATE(AJ$6, $I11 - 1, $I12))","v":259.43333333333334},{"$f":"AVERAGEIFS('Monthly Inflation'!$I:$I,'Monthly Inflation'!$A:$A,\">=\"&DATE(AK$6-1, $I11, $I12),'Monthly Inflation'!$A:$A,\"<=\"&DATE(AK$6, $I11 - 1, $I12))","v":264.99166666666673},{"$f":"AVERAGEIFS('Monthly Inflation'!$I:$I,'Monthly Inflation'!$A:$A,\">=\"&DATE(AL$6-1, $I11, $I12),'Monthly Inflation'!$A:$A,\"<=\"&DATE(AL$6, $I11 - 1, $I12))","v":274.90833333333336},{"$f":"AVERAGEIFS('Monthly Inflation'!$I:$I,'Monthly Inflation'!$A:$A,\">=\"&DATE(AM$6-1, $I11, $I12),'Monthly Inflation'!$A:$A,\"<=\"&DATE(AM$6, $I11 - 1, $I12))","v":283.30833333333334},{"$f":"AVERAGEIFS('Monthly Inflation'!$I:$I,'Monthly Inflation'!$A:$A,\">=\"&DATE(AN$6-1, $I11, $I12),'Monthly Inflation'!$A:$A,\"<=\"&DATE(AN$6, $I11 - 1, $I12))","v":290.64166666666665},{"$f":"AVERAGEIFS('Monthly Inflation'!$I:$I,'Monthly Inflation'!$A:$A,\">=\"&DATE(AO$6-1, $I11, $I12),'Monthly Inflation'!$A:$A,\"<=\"&DATE(AO$6, $I11 - 1, $I12))","v":294.17509269226207},{"$f":"AVERAGEIFS('Monthly Inflation'!$I:$I,'Monthly Inflation'!$A:$A,\">=\"&DATE(AP$6-1, $I11, $I12),'Monthly Inflation'!$A:$A,\"<=\"&DATE(AP$6, $I11 - 1, $I12))","v":298.21373265120474},{"$f":"AVERAGEIFS('Monthly Inflation'!$I:$I,'Monthly Inflation'!$A:$A,\">=\"&DATE(AQ$6-1, $I11, $I12),'Monthly Inflation'!$A:$A,\"<=\"&DATE(AQ$6, $I11 - 1, $I12))","v":302.97853766086087},{"$f":"AVERAGEIFS('Monthly Inflation'!$I:$I,'Monthly Inflation'!$A:$A,\">=\"&DATE(AR$6-1, $I11, $I12),'Monthly Inflation'!$A:$A,\"<=\"&DATE(AR$6, $I11 - 1, $I12))","v":308.3742269487355},{"$f":"AVERAGEIFS('Monthly Inflation'!$I:$I,'Monthly Inflation'!$A:$A,\">=\"&DATE(AS$6-1, $I11, $I12),'Monthly Inflation'!$A:$A,\"<=\"&DATE(AS$6, $I11 - 1, $I12))","v":314.33546491388961},{"$f":"AVERAGEIFS('Monthly Inflation'!$I:$I,'Monthly Inflation'!$A:$A,\">=\"&DATE(AT$6-1, $I11, $I12),'Monthly Inflation'!$A:$A,\"<=\"&DATE(AT$6, $I11 - 1, $I12))","v":320.61131504739012}]
[null,null,null,null,"Combined RPI-CPIH inflation (financial year average)",null,"annual %",null,null,">",null,null,null,null,null,null,null,null,null,null,null,null,{"$f":"W29/V29-1","v":2.0944164869398429E-2},2.7931649610365206E-2,3.1100150705576146E-2,2.635308707591455E-2,3.7327924739999352E-2,4.1309593144188472E-2,2.9683192840877393E-2,4.57825715837612E-3,4.9629229105515371E-2,4.7981749273282803E-2,3.0897791510129391E-2,{"$f":"AH29/AG29-1","v":2.8847791287762714E-2},{"$f":"AI29/AH29-1","v":1.9597457627118731E-2},1.0779220779220777E-2,2.1424900424001248E-2,3.7422560457875953E-2,3.0555639758707454E-2,2.5884636879724532E-2,1.2157327839878773E-2,1.3728694438340794E-2,{"$f":"AQ29/AP29-1","v":1.5977818886124595E-2},{"$f":"AR29/AQ29-1","v":1.7808816853932763E-2},1.9331180897115274E-2,1.9965453580682579E-2]
[]
[null,null,null,null,"Combined RPI-CPIH real to nominal prices conversion factor",null,"scalar",null,null,">",null,null,null,null,null,null,null,null,null,null,null,{"$f":"V29/INDEX($V$29:$AT$29,MATCH($I$14,$V$4:$AT$4,0))","v":0.61373062329029027},0.62658469864988076,0.64408624290378558,0.66411742212548164,0.68161896637938635,0.70706238785775222,0.73627084742771431,0.7581257169750274,0.76159661146571744,0.79939406418213366,0.83775038974027127,0.8636350266199958,0.8885489896167309,0.90596229079036394,0.91572785834044179,0.93534723652086971,0.97035032502867913,1,1.0258846368797245,1.0383566527361663,1.0526119339395996,1.0694303767774598,1.088475666495522,1.1095171865066551,1.1316692003908231]
[]
[null,null,null,null,"Long term CPIH inflation forecast",null,"annual %","LTCPIHt",null,null,null,null,null,null,null,null,null,null,null,null,null,null,null,null,null,null,null,null,null,null,null,null,null,null,null,null,null,null,null,null,null,0.02,0.02,0.02,0.02,0.02]
[]
[null,null,"Financial year end price index"]
[]
[null,null,null,null,"Outturn/Forecast (financial year start inflation)",null,"text",null,null,null,null,null,null,null,null,null,null,null,null,null,null,{"$f":"IF(DATE($I8, $I9, $I12) >= DATE(V$6 - 1, $I11, $I12),\"OUTTURN\",\"FORECAST\")","v":"OUTTURN"},{"$f":"IF(DATE($I8, $I9, $I12) >= DATE(W$6 - 1, $I11, $I12),\"OUTTURN\",\"FORECAST\")","v":"OUTTURN"},"OUTTURN","OUTTURN","OUTTURN","OUTTURN","OUTTURN","OUTTURN","OUTTURN","OUTTURN","OUTTURN","OUTTURN","OUTTURN","OUTTURN","OUTTURN","OUTTURN","OUTTURN","OUTTURN","OUTTURN","OUTTURN","FORECAST","FORECAST","FORECAST","FORECAST","FORECAST"]
[null,null,null,null,"Combined RPI-CPIH price index (financial year start)",null,"index value",null,null,null,null,null,null,null,null,null,null,null,null,null,null,{"$f":"AVERAGEIFS('Monthly Inflation'!$I:$I,'Monthly Inflation'!$A:$A,\">=\"&DATE(V$6 - 1, $I11 - 1, $I12),'Monthly Inflation'!$A:$A,\"<=\"&DATE(V$6 - 1, $I11, $I12))","v":172.64999999999998},{"$f":"AVERAGEIFS('Monthly Inflation'!$I:$I,'Monthly Inflation'!$A:$A,\">=\"&DATE(W$6 - 1, $I11 - 1, $I12),'Monthly Inflation'!$A:$A,\"<=\"&DATE(W$6 - 1, $I11, $I12))","v":175.1},{"$f":"AVERAGEIFS('Monthly Inflation'!$I:$I,'Monthly Inflation'!$A:$A,\">=\"&DATE(X$6 - 1, $I11 - 1, $I12),'Monthly Inflation'!$A:$A,\"<=\"&DATE(X$6 - 1, $I11, $I12))","v":180.55},{"$f":"AVERAGEIFS('Monthly Inflation'!$I:$I,'Monthly Inflation'!$A:$A,\">=\"&DATE(Y$6 - 1, $I11 - 1, $I12),'Monthly Inflation'!$A:$A,\"<=\"&DATE(Y$6 - 1, $I11, $I12))","v":185.14999999999998},{"$f":"AVERAGEIFS('Monthly Inflation'!$I:$I,'Monthly Inflation'!$A:$A,\">=\"&DATE(Z$6 - 1, $I11 - 1, $I12),'Monthly Inflation'!$A:$A,\"<=\"&DATE(Z$6 - 1, $I11, $I12))","v":191.05},{"$f":"AVERAGEIFS('Monthly Inflation'!$I:$I,'Monthly Inflation'!$A:$A,\">=\"&DATE(AA$6 - 1, $I11 - 1, $I12),'Monthly Inflation'!$A:$A,\"<=\"&DATE(AA$6 - 1, $I11, $I12))","v":195.75},{"$f":"AVERAGEIFS('Monthly Inflation'!$I:$I,'Monthly Inflation'!$A:$A,\">=\"&DATE(AB$6 - 1, $I11 - 1, $I12),'Monthly Inflation'!$A:$A,\"<=\"&DATE(AB$6 - 1, $I11, $I12))","v":204.9},{"$f":"AVERAGEIFS('Monthly Inflation'!$I:$I,'Monthly Inflation'!$A:$A,\">=\"&DATE(AC$6 - 1, $I11 - 1, $I12),'Monthly Inflation'!$A:$A,\"<=\"&DATE(AC$6 - 1, $I11, $I12))","v":213.05},{"$f":"AVERAGEIFS('Monthly Inflation'!$I:$I,'Monthly Inflation'!$A:$A,\">=\"&DATE(AD$6 - 1, $I11 - 1, $I12),'Monthly Inflation'!$A:$A,\"<=\"&DATE(AD$6 - 1, $I11, $I12))","v":211.4},{"$f":"AVERAGEIFS('Monthly Inflation'!$I:$I,'Monthly Inflation'!$A:$A,\">=\"&DATE(AE$6 - 1, $I11 - 1, $I12),'Monthly Inflation'!$A:$A,\"<=\"&DATE(AE$6 - 1, $I11, $I12))","v":221.75},{"$f":"AVERAGEIFS('Monthly Inflation'!$I:$I,'Monthly Inflation'!$A:$A,\">=\"&DATE(AF$6 - 1, $I11 - 1, $I12),'Monthly Inflation'!$A:$A,\"<=\"&DATE(AF$6 - 1, $I11, $I12))","v":233.45},{"$f":"AVERAGEIFS('Monthly Inflation'!$I:$I,'Monthly Inflation'!$A:$A,\">=\"&DATE(AG$6 - 1, $I11 - 1, $I12),'Monthly Inflation'!$A:$A,\"<=\"&DATE(AG$6 - 1, $I11, $I12))","v":241.65},{"$f":"AVERAGEIFS('Monthly Inflation'!$I:$I,'Monthly Inflation'!$A:$A,\">=\"&DATE(AH$6 - 1, $I11 - 1, $I12),'Monthly Inflation'!$A:$A,\"<=\"&DATE(AH$6 - 1, $I11, $I12))","v":249.1},{"$f":"AVERAGEIFS('Monthly Inflation'!$I:$I,'Monthly Inflation'!$A:$A,\">=\"&DATE(AI$6 - 1, $I11 - 1, $I12),'Monthly Inflation'!$A:$A,\"<=\"&DATE(AI$6 - 1, $I11, $I12))","v":255.25},{"$f":"AVERAGEIFS('Monthly Inflation'!$I:$I,'Monthly Inflation'!$A:$A,\">=\"&DATE(AJ$6 - 1, $I11 - 1, $I12),'Monthly Inflation'!$A:$A,\"<=\"&DATE(AJ$6 - 1, $I11, $I12))","v":257.55},{"$f":"AVERAGEIFS('Monthly Inflation'!$I:$I,'Monthly Inflation'!$A:$A,\">=\"&DATE(AK$6 - 1, $I11 - 1, $I12),'Monthly Inflation'!$A:$A,\"<=\"&DATE(AK$6 - 1, $I11, $I12))","v":261.25},{"$f":"AVERAGEIFS('Monthly Inflation'!$I:$I,'Monthly Inflation'!$A:$A,\">=\"&DATE(AL$6 - 1, $I11 - 1, $I12),'Monthly Inflation'!$A:$A,\"<=\"&DATE(AL$6 - 1, $I11, $I12))","v":269.95000000000005},{"$f":"AVERAGEIFS('Monthly Inflation'!$I:$I,'Monthly Inflation'!$A:$A,\">=\"&DATE(AM$6 - 1, $I11 - 1, $I12),'Monthly Inflation'!$A:$A,\"<=\"&DATE(AM$6 - 1, $I11, $I12))","v":279},{"$f":"AVERAGEIFS('Monthly Inflation'!$I:$I,'Monthly Inflation'!$A:$A,\">=\"&DATE(AN$6 - 1, $I11 - 1, $I12),'Monthly Inflation'!$A:$A,\"<=\"&DATE(AN$6 - 1, $I11, $I12))","v":286.64999999999998},{"$f":"AVERAGEIFS('Monthly Inflation'!$I:$I,'Monthly Inflation'!$A:$A,\">=\"&DATE(AO$6 - 1, $I11 - 1, $I12),'Monthly Inflation'!$A:$A,\"<=\"&DATE(AO$6 - 1, $I11, $I12))","v":292.60000000000002},{"$f":"AVERAGEIFS('Monthly Inflation'!$I:$I,'Monthly Inflation'!$A:$A,\">=\"&DATE(AP$6 - 1, $I11 - 1, $I12),'Monthly Inflation'!$A:$A,\"<=\"&DATE(AP$6 - 1, $I11, $I12))","v":296.12361543505904},{"$f":"AVERAGEIFS('Monthly Inflation'!$I:$I,'Monthly Inflation'!$A:$A,\">=\"&DATE(AQ$6 - 1, $I11 - 1, $I12),'Monthly Inflation'!$A:$A,\"<=\"&DATE(AQ$6 - 1, $I11, $I12))","v":300.48969671982547},{"$f":"AVERAGEIFS('Monthly Inflation'!$I:$I,'Monthly Inflation'!$A:$A,\">=\"&DATE(AR$6 - 1, $I11 - 1, $I12),'Monthly Inflation'!$A:$A,\"<=\"&DATE(AR$6 - 1, $I11, $I12))","v":305.56987422149115},{"$f":"AVERAGEIFS('Monthly Inflation'!$I:$I,'Monthly Inflation'!$A:$A,\">=\"&DATE(AS$6 - 1, $I11 - 1, $I12),'Monthly Inflation'!$A:$A,\"<=\"&DATE(AS$6 - 1, $I11, $I12))","v":311.28789637588579},{"$f":"AVERAGEIFS('Monthly Inflation'!$I:$I,'Monthly Inflation'!$A:$A,\">=\"&DATE(AT$6 - 1, $I11 - 1, $I12),'Monthly Inflation'!$A:$A,\"<=\"&DATE(AT$6 - 1, $I11, $I12))","v":317.44884600059066}]
[]
[null,null,null,null,"Outturn/Forecast (financial year end inflation)",null,"text",null,null,">",null,null,null,null,null,null,null,null,null,null,null,{"$f":"IF(DATE($I8, $I9, $I12) >= DATE(V$6, I$11, I$12),\"OUTTURN\",\"FORECAST\")","v":"OUTTURN"},"OUTTURN","OUTTURN","OUTTURN","OUTTURN","OUTTURN","OUTTURN","OUTTURN","OUTTURN","OUTTURN","OUTTURN","OUTTURN","OUTTURN","OUTTURN","OUTTURN","OUTTURN","OUTTURN","OUTTURN","OUTTURN","FORECAST","FORECAST","FORECAST","FORECAST","FORECAST","FORECAST"]
[null,null,null,null,"Combined RPI-CPIH price index (financial year end)",null,"index value",null,null,">",null,null,null,null,null,null,null,null,null,null,null,{"$f":"AVERAGEIFS('Monthly Inflation'!$I:$I,'Monthly Inflation'!$A:$A,\">=\"&DATE(V$6,$I11 - 1, $I12),'Monthly Inflation'!$A:$A,\"<=\"&DATE(V$6, $I11, $I12))","v":175.1},{"$f":"AVERAGEIFS('Monthly Inflation'!$I:$I,'Monthly Inflation'!$A:$A,\">=\"&DATE(W$6,$I11 - 1, $I12),'Monthly Inflation'!$A:$A,\"<=\"&DATE(W$6, $I11, $I12))","v":180.55},{"$f":"AVERAGEIFS('Monthly Inflation'!$I:$I,'Monthly Inflation'!$A:$A,\">=\"&DATE(X$6,$I11 - 1, $I12),'Monthly Inflation'!$A:$A,\"<=\"&DATE(X$6, $I11, $I12))","v":185.14999999999998},{"$f":"AVERAGEIFS('Monthly Inflation'!$I:$I,'Monthly Inflation'!$A:$A,\">=\"&DATE(Y$6,$I11 - 1, $I12),'Monthly Inflation'!$A:$A,\"<=\"&DATE(Y$6, $I11, $I12))","v":191.05},{"$f":"AVERAGEIFS('Monthly Inflation'!$I:$I,'Monthly Inflation'!$A:$A,\">=\"&DATE(Z$6,$I11 - 1, $I12),'Monthly Inflation'!$A:$A,\"<=\"&DATE(Z$6, $I11, $I12))","v":195.75},{"$f":"AVERAGEIFS('Monthly Inflation'!$I:$I,'Monthly Inflation'!$A:$A,\">=\"&DATE(AA$6,$I11 - 1, $I12),'Monthly Inflation'!$A:$A,\"<=\"&DATE(AA$6, $I11, $I12))","v":204.9},{"$f":"AVERAGEIFS('Monthly Inflation'!$I:$I,'Monthly Inflation'!$A:$A,\">=\"&DATE(AB$6,$I11 - 1, $I12),'Monthly Inflation'!$A:$A,\"<=\"&DATE(AB$6, $I11, $I12))","v":213.05},{"$f":"AVERAGEIFS('Monthly Inflation'!$I:$I,'Monthly Inflation'!$A:$A,\">=\"&DATE(AC$6,$I11 - 1, $I12),'Monthly Inflation'!$A:$A,\"<=\"&DATE(AC$6, $I11, $I12))","v":211.4},{"$f":"AVERAGEIFS('Monthly Inflation'!$I:$I,'Monthly Inflation'!$A:$A,\">=\"&DATE(AD$6,$I11 - 1, $I12),'Monthly Inflation'!$A:$A,\"<=\"&DATE(AD$6, $I11, $I12))","v":221.75},{"$f":"AVERAGEIFS('Monthly Inflation'!$I:$I,'Monthly Inflation'!$A:$A,\">=\"&DATE(AE$6,$I11 - 1, $I12),'Monthly Inflation'!$A:$A,\"<=\"&DATE(AE$6, $I11, $I12))","v":233.45},{"$f":"AVERAGEIFS('Monthly Inflation'!$I:$I,'Monthly Inflation'!$A:$A,\">=\"&DATE(AF$6,$I11 - 1, $I12),'Monthly Inflation'!$A:$A,\"<=\"&DATE(AF$6, $I11, $I12))","v":241.65},{"$f":"AVERAGEIFS('Monthly Inflation'!$I:$I,'Monthly Inflation'!$A:$A,\">=\"&DATE(AG$6,$I11 - 1, $I12),'Monthly Inflation'!$A:$A,\"<=\"&DATE(AG$6, $I11, $I12))","v":249.1},{"$f":"AVERAGEIFS('Monthly Inflation'!$I:$I,'Monthly Inflation'!$A:$A,\">=\"&DATE(AH$6,$I11 - 1, $I12),'Monthly Inflation'!$A:$A,\"<=\"&DATE(AH$6, $I11, $I12))","v":255.25},{"$f":"AVERAGEIFS('Monthly Inflation'!$I:$I,'Monthly Inflation'!$A:$A,\">=\"&DATE(AI$6,$I11 - 1, $I12),'Monthly Inflation'!$A:$A,\"<=\"&DATE(AI$6, $I11, $I12))","v":257.55},{"$f":"AVERAGEIFS('Monthly Inflation'!$I:$I,'Monthly Inflation'!$A:$A,\">=\"&DATE(AJ$6,$I11 - 1, $I12),'Monthly Inflation'!$A:$A,\"<=\"&DATE(AJ$6, $I11, $I12))","v":261.25},{"$f":"AVERAGEIFS('Monthly Inflation'!$I:$I,'Monthly Inflation'!$A:$A,\">=\"&DATE(AK$6,$I11 - 1, $I12),'Monthly Inflation'!$A:$A,\"<=\"&DATE(AK$6, $I11, $I12))","v":269.95000000000005},{"$f":"AVERAGEIFS('Monthly Inflation'!$I:$I,'Monthly Inflation'!$A:$A,\">=\"&DATE(AL$6,$I11 - 1, $I12),'Monthly Inflation'!$A:$A,\"<=\"&DATE(AL$6, $I11, $I12))","v":279},{"$f":"AVERAGEIFS('Monthly Inflation'!$I:$I,'Monthly Inflation'!$A:$A,\">=\"&DATE(AM$6,$I11 - 1, $I12),'Monthly Inflation'!$A:$A,\"<=\"&DATE(AM$6, $I11, $I12))","v":286.64999999999998},{"$f":"AVERAGEIFS('Monthly Inflation'!$I:$I,'Monthly Inflation'!$A:$A,\">=\"&DATE(AN$6,$I11 - 1, $I12),'Monthly Inflation'!$A:$A,\"<=\"&DATE(AN$6, $I11, $I12))","v":292.60000000000002},{"$f":"AVERAGEIFS('Monthly Inflation'!$I:$I,'Monthly Inflation'!$A:$A,\">=\"&DATE(AO$6,$I11 - 1, $I12),'Monthly Inflation'!$A:$A,\"<=\"&DATE(AO$6, $I11, $I12))","v":296.12361543505904},{"$f":"AVERAGEIFS('Monthly Inflation'!$I:$I,'Monthly Inflation'!$A:$A,\">=\"&DATE(AP$6,$I11 - 1, $I12),'Monthly Inflation'!$A:$A,\"<=\"&DATE(AP$6, $I11, $I12))","v":300.48969671982547},{"$f":"AVERAGEIFS('Monthly Inflation'!$I:$I,'Monthly Inflation'!$A:$A,\">=\"&DATE(AQ$6,$I11 - 1, $I12),'Monthly Inflation'!$A:$A,\"<=\"&DATE(AQ$6, $I11, $I12))","v":305.56987422149115},{"$f":"AVERAGEIFS('Monthly Inflation'!$I:$I,'Monthly Inflation'!$A:$A,\">=\"&DATE(AR$6,$I11 - 1, $I12),'Monthly Inflation'!$A:$A,\"<=\"&DATE(AR$6, $I11, $I12))","v":311.28789637588579},{"$f":"AVERAGEIFS('Monthly Inflation'!$I:$I,'Monthly Inflation'!$A:$A,\">=\"&DATE(AS$6,$I11 - 1, $I12),'Monthly Inflation'!$A:$A,\"<=\"&DATE(AS$6, $I11, $I12))","v":317.44884600059066},{"$f":"AVERAGEIFS('Monthly Inflation'!$I:$I,'Monthly Inflation'!$A:$A,\">=\"&DATE(AT$6,$I11 - 1, $I12),'Monthly Inflation'!$A:$A,\"<=\"&DATE(AT$6, $I11, $I12))","v":323.52908969779816}]
[]
[null,null,null,null,"Combined real to nominal prices conversion factor (financial year start)",null,"scalar",null,null,null,null,null,null,null,null,null,null,null,null,null,null,{"$f":"V39/INDEX($V$29:$AT$29,MATCH($I$14,$V$4:$AT$4,0))","v":0.60940671235697264},{"$f":"W39/INDEX($V$29:$AT$29,MATCH($I$14,$V$4:$AT$4,0))","v":0.6180545342236079},{"$f":"X39/INDEX($V$29:$AT$29,MATCH($I$14,$V$4:$AT$4,0))","v":0.63729152572285797},0.65352825249286695,0.67435361943700922,0.69094331852810542,0.72324028590758005,0.75200753007618326,0.7461834867782452,0.78271612201076568,0.82401388357796268,0.85295761390710945,0.87925405182810246,0.9009618495749625,0.9090802129599671,0.92214018884019178,0.95284878077477442,0.98479277583316172,1.0117951583963289,1.0327970115010148,1.0452343986883279,1.0606454571397199,1.0785770775826966,1.0987601131013411,1.1205065599926722]
[null,null,null,null,"Combined real to nominal prices conversion factor (financial year end)",null,"scalar",null,null,">",null,null,null,null,null,null,null,null,null,null,null,{"$f":"V42/INDEX($V$29:$AT$29,MATCH($I$14,$V$4:$AT$4,0))","v":0.6180545342236079},0.63729152572285797,0.65352825249286695,0.67435361943700922,0.69094331852810542,0.72324028590758005,0.75200753007618326,0.7461834867782452,0.78271612201076568,0.82401388357796268,0.85295761390710945,0.87925405182810246,0.9009618495749625,0.9090802129599671,0.92214018884019178,0.95284878077477442,0.98479277583316172,{"$f":"AM42/INDEX($V$29:$AT$29,MATCH($I$14,$V$4:$AT$4,0))","v":1.0117951583963289},{"$f":"AN42/INDEX($V$29:$AT$29,MATCH($I$14,$V$4:$AT$4,0))","v":1.0327970115010148},1.0452343986883279,1.0606454571397199,1.0785770775826966,1.0987601131013411,1.1205065599926722,1.1419681372984609]
[]
[null,null,"OBR inflation forecasts for monthly rates forecasting"]
[]
[null,null,null,null,"Office for Budget Responsibility RPI inflation forecast (calendar year)",null,"scalar","CYRPIFt",null,null,null,null,null,null,null,null,null,null,null,null,null,null,null,null,null,null,null,null,null,null,null,null,null,null,null,null,null,null,2.5628884588821732,1.4580811980609454,1.3658876595147973,1.5464597860319396,2.5706488203567579,2.9899177160407575,2.9928160713431629,3]
[null,null,null,null,"OBR RPI (financial year)",null,"annual %",null,null,null,null,null,null,null,null,null,null,null,null,null,null,null,null,null,null,null,null,null,null,null,null,null,null,null,null,null,null,null,null,{"$f":"0.75*(AM49/100)+0.25*(AN49/100)","v":2.2866866436768662E-2},1.4350328134244084E-2,1.4110306911440829E-2,1.8025070446131441E-2,2.6754660442777578E-2,2.9906423048663588E-2,2.9946120535073721E-2]
[]
[null,null,null,null,"Office for Budget Responsibility CPI inflation forecast (calendar year)",null,"scalar","CYCPIFt",null,null,null,null,null,null,null,null,null,null,null,null,null,null,null,null,null,null,null,null,null,null,null,null,null,null,null,null,null,null,1.7910205867057716,0.84343654728658013,1.167775999933629,1.5500225915037413,1.7276615507018311,1.9090819063319442,1.9976318667067172,2]
[null,null,null,null,"OBR CPI (financial year)",null,"annual %",null,null,null,null,null,null,null,null,null,null,null,null,null,null,null,null,null,null,null,null,null,null,null,null,null,null,null,null,null,null,null,null,{"$f":"0.75*(AM52/100)+0.25*(AN52/100)","v":1.5541245768509737E-2},9.2452141044834235E-3,1.2633376478261571E-2,1.5944323313032638E-2,1.7730166396093594E-2,1.9312193964256374E-2,1.998223900030038E-2]
[]
[null,"End of sheet"]

{"sheet":"Monthly Inflation","index":18,"n_rows":325,"n_cols":9,"rows_kept":325,"cut":false,"hidden":false,"merged":[]}
["Year-Month","FYE","CPIH Outturn","RPI Outturn","CPI % forecast","RPI % forecast","CPIH","RPI","Price Index"]
["1999-04-01",{"$f":"IF(MONTH(A2)>=4,YEAR(A2)+1,YEAR(A2))","v":2000},72.599999999999994,165.2,{"$f":"IF($A2<DATE(2018,7,1),\"-\",INDEX('Annual Inflation'!$AM$52:$AT$52, MATCH(YEAR(EOMONTH($A2,6)), 'Annual Inflation'!$AM$6:$AT$6, 0))/100)","v":"-"},{"$f":"IF($A2<DATE(2018,7,1),\"-\",INDEX('Annual Inflation'!$AM$49:$AT$49, MATCH(YEAR(EOMONTH($A2,6)), 'Annual Inflation'!$AM$6:$AT$6, 0))/100)","v":"-"},{"$f":"IF(ISBLANK(C2),G1*((1+E2)^(1/12)),C2)","v":72.599999999999994},{"$f":"IF(ISBLANK(D2),H1*((1+F2)^(1/12)),D2)","v":165.2},{"$f":"IF($A2<DATE(2021,4,1),H2,IF(A2=DATE(2021,4,1),I1*((0.5*G2/G1)+(0.5*H2/H1)),I1*(G2/G1)))","v":165.2}]
["1999-05-01",{"$f":"IF(MONTH(A3)>=4,YEAR(A3)+1,YEAR(A3))","v":2000},72.8,165.6,{"$f":"IF($A3<DATE(2018,7,1),\"-\",INDEX('Annual Inflation'!$AM$52:$AT$52, MATCH(YEAR(EOMONTH($A3,6)), 'Annual Inflation'!$AM$6:$AT$6, 0))/100)","v":"-"},{"$f":"IF($A3<DATE(2018,7,1),\"-\",INDEX('Annual Inflation'!$AM$49:$AT$49, MATCH(YEAR(EOMONTH($A3,6)), 'Annual Inflation'!$AM$6:$AT$6, 0))/100)","v":"-"},{"$f":"IF(ISBLANK(C3),G2*((1+E3)^(1/12)),C3)","v":72.8},{"$f":"IF(ISBLANK(D3),H2*((1+F3)^(1/12)),D3)","v":165.6},{"$f":"IF($A3<DATE(2021,4,1),H3,IF(A3=DATE(2021,4,1),I2*((0.5*G3/G2)+(0.5*H3/H2)),I2*(G3/G2)))","v":165.6}]
["1999-06-01",2000,72.7,165.6,{"$f":"IF($A4<DATE(2018,7,1),\"-\",INDEX('Annual Inflation'!$AM$52:$AT$52, MATCH(YEAR(EOMONTH($A4,6)), 'Annual Inflation'!$AM$6:$AT$6, 0))/100)","v":"-"},{"$f":"IF($A4<DATE(2018,7,1),\"-\",INDEX('Annual Inflation'!$AM$49:$AT$49, MATCH(YEAR(EOMONTH($A4,6)), 'Annual Inflation'!$AM$6:$AT$6, 0))/100)","v":"-"},72.7,165.6,165.6]
["1999-07-01",2000,72.400000000000006,165.1,{"$f":"IF($A5<DATE(2018,7,1),\"-\",INDEX('Annual Inflation'!$AM$52:$AT$52, MATCH(YEAR(EOMONTH($A5,6)), 'Annual Inflation'!$AM$6:$AT$6, 0))/100)","v":"-"},{"$f":"IF($A5<DATE(2018,7,1),\"-\",INDEX('Annual Inflation'!$AM$49:$AT$49, MATCH(YEAR(EOMONTH($A5,6)), 'Annual Inflation'!$AM$6:$AT$6, 0))/100)","v":"-"},72.400000000000006,165.1,165.1]
["1999-08-01",2000,72.599999999999994,165.5,{"$f":"IF($A6<DATE(2018,7,1),\"-\",INDEX('Annual Inflation'!$AM$52:$AT$52, MATCH(YEAR(EOMONTH($A6,6)), 'Annual Inflation'!$AM$6:$AT$6, 0))/100)","v":"-"},{"$f":"IF($A6<DATE(2018,7,1),\"-\",INDEX('Annual Inflation'!$AM$49:$AT$49, MATCH(YEAR(EOMONTH($A6,6)), 'Annual Inflation'!$AM$6:$AT$6, 0))/100)","v":"-"},72.599999999999994,165.5,165.5]
["1999-09-01",2000,72.8,166.2,{"$f":"IF($A7<DATE(2018,7,1),\"-\",INDEX('Annual Inflation'!$AM$52:$AT$52, MATCH(YEAR(EOMONTH($A7,6)), 'Annual Inflation'!$AM$6:$AT$6, 0))/100)","v":"-"},{"$f":"IF($A7<DATE(2018,7,1),\"-\",INDEX('Annual Inflation'!$AM$49:$AT$49, MATCH(YEAR(EOMONTH($A7,6)), 'Annual Inflation'!$AM$6:$AT$6, 0))/100)","v":"-"},72.8,166.2,166.2]
["1999-10-01",2000,72.8,166.5,{"$f":"IF($A8<DATE(2018,7,1),\"-\",INDEX('Annual Inflation'!$AM$52:$AT$52, MATCH(YEAR(EOMONTH($A8,6)), 'Annual Inflation'!$AM$6:$AT$6, 0))/100)","v":"-"},{"$f":"IF($A8<DATE(2018,7,1),\"-\",INDEX('Annual Inflation'!$AM$49:$AT$49, MATCH(YEAR(EOMONTH($A8,6)), 'Annual Inflation'!$AM$6:$AT$6, 0))/100)","v":"-"},72.8,166.5,166.5]
["1999-11-01",2000,72.900000000000006,166.7,{"$f":"IF($A9<DATE(2018,7,1),\"-\",INDEX('Annual Inflation'!$AM$52:$AT$52, MATCH(YEAR(EOMONTH($A9,6)), 'Annual Inflation'!$AM$6:$AT$6, 0))/100)","v":"-"},{"$f":"IF($A9<DATE(2018,7,1),\"-\",INDEX('Annual Inflation'!$AM$49:$AT$49, MATCH(YEAR(EOMONTH($A9,6)), 'Annual Inflation'!$AM$6:$AT$6, 0))/100)","v":"-"},72.900000000000006,166.7,166.7]
["1999-12-01",2000,73.099999999999994,167.3,{"$f":"IF($A10<DATE(2018,7,1),\"-\",INDEX('Annual Inflation'!$AM$52:$AT$52, MATCH(YEAR(EOMONTH($A10,6)), 'Annual Inflation'!$AM$6:$AT$6, 0))/100)","v":"-"},{"$f":"IF($A10<DATE(2018,7,1),\"-\",INDEX('Annual Inflation'!$AM$49:$AT$49, MATCH(YEAR(EOMONTH($A10,6)), 'Annual Inflation'!$AM$6:$AT$6, 0))/100)","v":"-"},73.099999999999994,167.3,167.3]
["2000-01-01",2000,72.599999999999994,166.6,{"$f":"IF($A11<DATE(2018,7,1),\"-\",INDEX('Annual Inflation'!$AM$52:$AT$52, MATCH(YEAR(EOMONTH($A11,6)), 'Annual Inflation'!$AM$6:$AT$6, 0))/100)","v":"-"},{"$f":"IF($A11<DATE(2018,7,1),\"-\",INDEX('Annual Inflation'!$AM$49:$AT$49, MATCH(YEAR(EOMONTH($A11,6)), 'Annual Inflation'!$AM$6:$AT$6, 0))/100)","v":"-"},72.599999999999994,166.6,166.6]
["2000-02-01",2000,72.8,167.5,{"$f":"IF($A12<DATE(2018,7,1),\"-\",INDEX('Annual Inflation'!$AM$52:$AT$52, MATCH(YEAR(EOMONTH($A12,6)), 'Annual Inflation'!$AM$6:$AT$6, 0))/100)","v":"-"},{"$f":"IF($A12<DATE(2018,7,1),\"-\",INDEX('Annual Inflation'!$AM$49:$AT$49, MATCH(YEAR(EOMONTH($A12,6)), 'Annual Inflation'!$AM$6:$AT$6, 0))/100)","v":"-"},72.8,167.5,167.5]
["2000-03-01",2000,73,168.4,{"$f":"IF($A13<DATE(2018,7,1),\"-\",INDEX('Annual Inflation'!$AM$52:$AT$52, MATCH(YEAR(EOMONTH($A13,6)), 'Annual Inflation'!$AM$6:$AT$6, 0))/100)","v":"-"},{"$f":"IF($A13<DATE(2018,7,1),\"-\",INDEX('Annual Inflation'!$AM$49:$AT$49, MATCH(YEAR(EOMONTH($A13,6)), 'Annual Inflation'!$AM$6:$AT$6, 0))/100)","v":"-"},73,168.4,168.4]
["2000-04-01",2001,73.3,170.1,{"$f":"IF($A14<DATE(2018,7,1),\"-\",INDEX('Annual Inflation'!$AM$52:$AT$52, MATCH(YEAR(EOMONTH($A14,6)), 'Annual Inflation'!$AM$6:$AT$6, 0))/100)","v":"-"},{"$f":"IF($A14<DATE(2018,7,1),\"-\",INDEX('Annual Inflation'!$AM$49:$AT$49, MATCH(YEAR(EOMONTH($A14,6)), 'Annual Inflation'!$AM$6:$AT$6, 0))/100)","v":"-"},73.3,170.1,170.1]
["2000-05-01",2001,73.5,170.7,{"$f":"IF($A15<DATE(2018,7,1),\"-\",INDEX('Annual Inflation'!$AM$52:$AT$52, MATCH(YEAR(EOMONTH($A15,6)), 'Annual Inflation'!$AM$6:$AT$6, 0))/100)","v":"-"},{"$f":"IF($A15<DATE(2018,7,1),\"-\",INDEX('Annual Inflation'!$AM$49:$AT$49, MATCH(YEAR(EOMONTH($A15,6)), 'Annual Inflation'!$AM$6:$AT$6, 0))/100)","v":"-"},73.5,170.7,170.7]
["2000-06-01",2001,73.599999999999994,171.1,{"$f":"IF($A16<DATE(2018,7,1),\"-\",INDEX('Annual Inflation'!$AM$52:$AT$52, MATCH(YEAR(EOMONTH($A16,6)), 'Annual Inflation'!$AM$6:$AT$6, 0))/100)","v":"-"},{"$f":"IF($A16<DATE(2018,7,1),\"-\",INDEX('Annual Inflation'!$AM$49:$AT$49, MATCH(YEAR(EOMONTH($A16,6)), 'Annual Inflation'!$AM$6:$AT$6, 0))/100)","v":"-"},73.599999999999994,171.1,171.1]
["2000-07-01",2001,73.3,170.5,{"$f":"IF($A17<DATE(2018,7,1),\"-\",INDEX('Annual Inflation'!$AM$52:$AT$52, MATCH(YEAR(EOMONTH($A17,6)), 'Annual Inflation'!$AM$6:$AT$6, 0))/100)","v":"-"},{"$f":"IF($A17<DATE(2018,7,1),\"-\",INDEX('Annual Inflation'!$AM$49:$AT$49, MATCH(YEAR(EOMONTH($A17,6)), 'Annual Inflation'!$AM$6:$AT$6, 0))/100)","v":"-"},73.3,170.5,170.5]
["2000-08-01",2001,73.3,170.5,{"$f":"IF($A18<DATE(2018,7,1),\"-\",INDEX('Annual Inflation'!$AM$52:$AT$52, MATCH(YEAR(EOMONTH($A18,6)), 'Annual Inflation'!$AM$6:$AT$6, 0))/100)","v":"-"},{"$f":"IF($A18<DATE(2018,7,1),\"-\",INDEX('Annual Inflation'!$AM$49:$AT$49, MATCH(YEAR(EOMONTH($A18,6)), 'Annual Inflation'!$AM$6:$AT$6, 0))/100)","v":"-"},73.3,170.5,170.5]
["2000-09-01",2001,73.8,171.7,{"$f":"IF($A19<DATE(2018,7,1),\"-\",INDEX('Annual Inflation'!$AM$52:$AT$52, MATCH(YEAR(EOMONTH($A19,6)), 'Annual Inflation'!$AM$6:$AT$6, 0))/100)","v":"-"},{"$f":"IF($A19<DATE(2018,7,1),\"-\",INDEX('Annual Inflation'!$AM$49:$AT$49, MATCH(YEAR(EOMONTH($A19,6)), 'Annual Inflation'!$AM$6:$AT$6, 0))/100)","v":"-"},73.8,171.7,171.7]
["2000-10-01",2001,73.8,171.6,{"$f":"IF($A20<DATE(2018,7,1),\"-\",INDEX('Annual Inflation'!$AM$52:$AT$52, MATCH(YEAR(EOMONTH($A20,6)), 'Annual Inflation'!$AM$6:$AT$6, 0))/100)","v":"-"},{"$f":"IF($A20<DATE(2018,7,1),\"-\",INDEX('Annual Inflation'!$AM$49:$AT$49, MATCH(YEAR(EOMONTH($A20,6)), 'Annual Inflation'!$AM$6:$AT$6, 0))/100)","v":"-"},73.8,171.6,171.6]
["2000-11-01",2001,74,172.1,{"$f":"IF($A21<DATE(2018,7,1),\"-\",INDEX('Annual Inflation'!$AM$52:$AT$52, MATCH(YEAR(EOMONTH($A21,6)), 'Annual Inflation'!$AM$6:$AT$6, 0))/100)","v":"-"},{"$f":"IF($A21<DATE(2018,7,1),\"-\",INDEX('Annual Inflation'!$AM$49:$AT$49, MATCH(YEAR(EOMONTH($A21,6)), 'Annual Inflation'!$AM$6:$AT$6, 0))/100)","v":"-"},74,172.1,172.1]
["2000-12-01",2001,74,172.2,{"$f":"IF($A22<DATE(2018,7,1),\"-\",INDEX('Annual Inflation'!$AM$52:$AT$52, MATCH(YEAR(EOMONTH($A22,6)), 'Annual Inflation'!$AM$6:$AT$6, 0))/100)","v":"-"},{"$f":"IF($A22<DATE(2018,7,1),\"-\",INDEX('Annual Inflation'!$AM$49:$AT$49, MATCH(YEAR(EOMONTH($A22,6)), 'Annual Inflation'!$AM$6:$AT$6, 0))/100)","v":"-"},74,172.2,172.2]
["2001-01-01",2001,73.5,171.1,{"$f":"IF($A23<DATE(2018,7,1),\"-\",INDEX('Annual Inflation'!$AM$52:$AT$52, MATCH(YEAR(EOMONTH($A23,6)), 'Annual Inflation'!$AM$6:$AT$6, 0))/100)","v":"-"},{"$f":"IF($A23<DATE(2018,7,1),\"-\",INDEX('Annual Inflation'!$AM$49:$AT$49, MATCH(YEAR(EOMONTH($A23,6)), 'Annual Inflation'!$AM$6:$AT$6, 0))/100)","v":"-"},73.5,171.1,171.1]
["2001-02-01",2001,73.7,172,{"$f":"IF($A24<DATE(2018,7,1),\"-\",INDEX('Annual Inflation'!$AM$52:$AT$52, MATCH(YEAR(EOMONTH($A24,6)), 'Annual Inflation'!$AM$6:$AT$6, 0))/100)","v":"-"},{"$f":"IF($A24<DATE(2018,7,1),\"-\",INDEX('Annual Inflation'!$AM$49:$AT$49, MATCH(YEAR(EOMONTH($A24,6)), 'Annual Inflation'!$AM$6:$AT$6, 0))/100)","v":"-"},73.7,172,172]
["2001-03-01",2001,73.900000000000006,172.2,{"$f":"IF($A25<DATE(2018,7,1),\"-\",INDEX('Annual Inflation'!$AM$52:$AT$52, MATCH(YEAR(EOMONTH($A25,6)), 'Annual Inflation'!$AM$6:$AT$6, 0))/100)","v":"-"},{"$f":"IF($A25<DATE(2018,7,1),\"-\",INDEX('Annual Inflation'!$AM$49:$AT$49, MATCH(YEAR(EOMONTH($A25,6)), 'Annual Inflation'!$AM$6:$AT$6, 0))/100)","v":"-"},73.900000000000006,172.2,172.2]
["2001-04-01",2002,74.400000000000006,173.1,{"$f":"IF($A26<DATE(2018,7,1),\"-\",INDEX('Annual Inflation'!$AM$52:$AT$52, MATCH(YEAR(EOMONTH($A26,6)), 'Annual Inflation'!$AM$6:$AT$6, 0))/100)","v":"-"},{"$f":"IF($A26<DATE(2018,7,1),\"-\",INDEX('Annual Inflation'!$AM$49:$AT$49, MATCH(YEAR(EOMONTH($A26,6)), 'Annual Inflation'!$AM$6:$AT$6, 0))/100)","v":"-"},74.400000000000006,173.1,173.1]
["2001-05-01",2002,74.900000000000006,174.2,{"$f":"IF($A27<DATE(2018,7,1),\"-\",INDEX('Annual Inflation'!$AM$52:$AT$52, MATCH(YEAR(EOMONTH($A27,6)), 'Annual Inflation'!$AM$6:$AT$6, 0))/100)","v":"-"},{"$f":"IF($A27<DATE(2018,7,1),\"-\",INDEX('Annual Inflation'!$AM$49:$AT$49, MATCH(YEAR(EOMONTH($A27,6)), 'Annual Inflation'!$AM$6:$AT$6, 0))/100)","v":"-"},74.900000000000006,174.2,174.2]
["2001-06-01",2002,75,174.4,{"$f":"IF($A28<DATE(2018,7,1),\"-\",INDEX('Annual Inflation'!$AM$52:$AT$52, MATCH(YEAR(EOMONTH($A28,6)), 'Annual Inflation'!$AM$6:$AT$6, 0))/100)","v":"-"},{"$f":"IF($A28<DATE(2018,7,1),\"-\",INDEX('Annual Inflation'!$AM$49:$AT$49, MATCH(YEAR(EOMONTH($A28,6)), 'Annual Inflation'!$AM$6:$AT$6, 0))/100)","v":"-"},75,174.4,174.4]
["2001-07-01",2002,74.5,173.3,{"$f":"IF($A29<DATE(2018,7,1),\"-\",INDEX('Annual Inflation'!$AM$52:$AT$52, MATCH(YEAR(EOMONTH($A29,6)), 'Annual Inflation'!$AM$6:$AT$6, 0))/100)","v":"-"},{"$f":"IF($A29<DATE(2018,7,1),\"-\",INDEX('Annual Inflation'!$AM$49:$AT$49, MATCH(YEAR(EOMONTH($A29,6)), 'Annual Inflation'!$AM$6:$AT$6, 0))/100)","v":"-"},74.5,173.3,173.3]
["2001-08-01",2002,74.8,174,{"$f":"IF($A30<DATE(2018,7,1),\"-\",INDEX('Annual Inflation'!$AM$52:$AT$52, MATCH(YEAR(EOMONTH($A30,6)), 'Annual Inflation'!$AM$6:$AT$6, 0))/100)","v":"-"},{"$f":"IF($A30<DATE(2018,7,1),\"-\",INDEX('Annual Inflation'!$AM$49:$AT$49, MATCH(YEAR(EOMONTH($A30,6)), 'Annual Inflation'!$AM$6:$AT$6, 0))/100)","v":"-"},74.8,174,174]
["2001-09-01",2002,75,174.6,{"$f":"IF($A31<DATE(2018,7,1),\"-\",INDEX('Annual Inflation'!$AM$52:$AT$52, MATCH(YEAR(EOMONTH($A31,6)), 'Annual Inflation'!$AM$6:$AT$6, 0))/100)","v":"-"},{"$f":"IF($A31<DATE(2018,7,1),\"-\",INDEX('Annual Inflation'!$AM$49:$AT$49, MATCH(YEAR(EOMONTH($A31,6)), 'Annual Inflation'!$AM$6:$AT$6, 0))/100)","v":"-"},75,174.6,174.6]
["2001-10-01",2002,74.900000000000006,174.3,{"$f":"IF($A32<DATE(2018,7,1),\"-\",INDEX('Annual Inflation'!$AM$52:$AT$52, MATCH(YEAR(EOMONTH($A32,6)), 'Annual Inflation'!$AM$6:$AT$6, 0))/100)","v":"-"},{"$f":"IF($A32<DATE(2018,7,1),\"-\",INDEX('Annual Inflation'!$AM$49:$AT$49, MATCH(YEAR(EOMONTH($A32,6)), 'Annual Inflation'!$AM$6:$AT$6, 0))/100)","v":"-"},74.900000000000006,174.3,174.3]
["2001-11-01",2002,74.900000000000006,173.6,{"$f":"IF($A33<DATE(2018,7,1),\"-\",INDEX('Annual Inflation'!$AM$52:$AT$52, MATCH(YEAR(EOMONTH($A33,6)), 'Annual Inflation'!$AM$6:$AT$6, 0))/100)","v":"-"},{"$f":"IF($A33<DATE(2018,7,1),\"-\",INDEX('Annual Inflation'!$AM$49:$AT$49, MATCH(YEAR(EOMONTH($A33,6)), 'Annual Inflation'!$AM$6:$AT$6, 0))/100)","v":"-"},74.900000000000006,173.6,173.6]
["2001-12-01",2002,75,173.4,{"$f":"IF($A34<DATE(2018,7,1),\"-\",INDEX('Annual Inflation'!$AM$52:$AT$52, MATCH(YEAR(EOMONTH($A34,6)), 'Annual Inflation'!$AM$6:$AT$6, 0))/100)","v":"-"},{"$f":"IF($A34<DATE(2018,7,1),\"-\",INDEX('Annual Inflation'!$AM$49:$AT$49, MATCH(YEAR(EOMONTH($A34,6)), 'Annual Inflation'!$AM$6:$AT$6, 0))/100)","v":"-"},75,173.4,173.4]
["2002-01-01",2002,74.8,173.3,{"$f":"IF($A35<DATE(2018,7,1),\"-\",INDEX('Annual Inflation'!$AM$52:$AT$52, MATCH(YEAR(EOMONTH($A35,6)), 'Annual Inflation'!$AM$6:$AT$6, 0))/100)","v":"-"},{"$f":"IF($A35<DATE(2018,7,1),\"-\",INDEX('Annual Inflation'!$AM$49:$AT$49, MATCH(YEAR(EOMONTH($A35,6)), 'Annual Inflation'!$AM$6:$AT$6, 0))/100)","v":"-"},74.8,173.3,173.3]
["2002-02-01",2002,75,173.8,{"$f":"IF($A36<DATE(2018,7,1),\"-\",INDEX('Annual Inflation'!$AM$52:$AT$52, MATCH(YEAR(EOMONTH($A36,6)), 'Annual Inflation'!$AM$6:$AT$6, 0))/100)","v":"-"},{"$f":"IF($A36<DATE(2018,7,1),\"-\",INDEX('Annual Inflation'!$AM$49:$AT$49, MATCH(YEAR(EOMONTH($A36,6)), 'Annual Inflation'!$AM$6:$AT$6, 0))/100)","v":"-"},75,173.8,173.8]
["2002-03-01",2002,75.2,174.5,{"$f":"IF($A37<DATE(2018,7,1),\"-\",INDEX('Annual Inflation'!$AM$52:$AT$52, MATCH(YEAR(EOMONTH($A37,6)), 'Annual Inflation'!$AM$6:$AT$6, 0))/100)","v":"-"},{"$f":"IF($A37<DATE(2018,7,1),\"-\",INDEX('Annual Inflation'!$AM$49:$AT$49, MATCH(YEAR(EOMONTH($A37,6)), 'Annual Inflation'!$AM$6:$AT$6, 0))/100)","v":"-"},75.2,174.5,174.5]
["2002-04-01",2003,75.599999999999994,175.7,{"$f":"IF($A38<DATE(2018,7,1),\"-\",INDEX('Annual Inflation'!$AM$52:$AT$52, MATCH(YEAR(EOMONTH($A38,6)), 'Annual Inflation'!$AM$6:$AT$6, 0))/100)","v":"-"},{"$f":"IF($A38<DATE(2018,7,1),\"-\",INDEX('Annual Inflation'!$AM$49:$AT$49, MATCH(YEAR(EOMONTH($A38,6)), 'Annual Inflation'!$AM$6:$AT$6, 0))/100)","v":"-"},75.599999999999994,175.7,175.7]
["2002-05-01",2003,75.8,176.2,{"$f":"IF($A39<DATE(2018,7,1),\"-\",INDEX('Annual Inflation'!$AM$52:$AT$52, MATCH(YEAR(EOMONTH($A39,6)), 'Annual Inflation'!$AM$6:$AT$6, 0))/100)","v":"-"},{"$f":"IF($A39<DATE(2018,7,1),\"-\",INDEX('Annual Inflation'!$AM$49:$AT$49, MATCH(YEAR(EOMONTH($A39,6)), 'Annual Inflation'!$AM$6:$AT$6, 0))/100)","v":"-"},75.8,176.2,176.2]
["2002-06-01",2003,75.8,176.2,{"$f":"IF($A40<DATE(2018,7,1),\"-\",INDEX('Annual Inflation'!$AM$52:$AT$52, MATCH(YEAR(EOMONTH($A40,6)), 'Annual Inflation'!$AM$6:$AT$6, 0))/100)","v":"-"},{"$f":"IF($A40<DATE(2018,7,1),\"-\",INDEX('Annual Inflation'!$AM$49:$AT$49, MATCH(YEAR(EOMONTH($A40,6)), 'Annual Inflation'!$AM$6:$AT$6, 0))/100)","v":"-"},75.8,176.2,176.2]
["2002-07-01",2003,75.599999999999994,175.9,{"$f":"IF($A41<DATE(2018,7,1),\"-\",INDEX('Annual Inflation'!$AM$52:$AT$52, MATCH(YEAR(EOMONTH($A41,6)), 'Annual Inflation'!$AM$6:$AT$6, 0))/100)","v":"-"},{"$f":"IF($A41<DATE(2018,7,1),\"-\",INDEX('Annual Inflation'!$AM$49:$AT$49, MATCH(YEAR(EOMONTH($A41,6)), 'Annual Inflation'!$AM$6:$AT$6, 0))/100)","v":"-"},75.599999999999994,175.9,175.9]
["2002-08-01",2003,75.8,176.4,{"$f":"IF($A42<DATE(2018,7,1),\"-\",INDEX('Annual Inflation'!$AM$52:$AT$52, MATCH(YEAR(EOMONTH($A42,6)), 'Annual Inflation'!$AM$6:$AT$6, 0))/100)","v":"-"},{"$f":"IF($A42<DATE(2018,7,1),\"-\",INDEX('Annual Inflation'!$AM$49:$AT$49, MATCH(YEAR(EOMONTH($A42,6)), 'Annual Inflation'!$AM$6:$AT$6, 0))/100)","v":"-"},75.8,176.4,176.4]
["2002-09-01",2003,76,177.6,{"$f":"IF($A43<DATE(2018,7,1),\"-\",INDEX('Annual Inflation'!$AM$52:$AT$52, MATCH(YEAR(EOMONTH($A43,6)), 'Annual Inflation'!$AM$6:$AT$6, 0))/100)","v":"-"},{"$f":"IF($A43<DATE(2018,7,1),\"-\",INDEX('Annual Inflation'!$AM$49:$AT$49, MATCH(YEAR(EOMONTH($A43,6)), 'Annual Inflation'!$AM$6:$AT$6, 0))/100)","v":"-"},76,177.6,177.6]
["2002-10-01",2003,76.099999999999994,177.9,{"$f":"IF($A44<DATE(2018,7,1),\"-\",INDEX('Annual Inflation'!$AM$52:$AT$52, MATCH(YEAR(EOMONTH($A44,6)), 'Annual Inflation'!$AM$6:$AT$6, 0))/100)","v":"-"},{"$f":"IF($A44<DATE(2018,7,1),\"-\",INDEX('Annual Inflation'!$AM$49:$AT$49, MATCH(YEAR(EOMONTH($A44,6)), 'Annual Inflation'!$AM$6:$AT$6, 0))/100)","v":"-"},76.099999999999994,177.9,177.9]
["2002-11-01",2003,76.099999999999994,178.2,{"$f":"IF($A45<DATE(2018,7,1),\"-\",INDEX('Annual Inflation'!$AM$52:$AT$52, MATCH(YEAR(EOMONTH($A45,6)), 'Annual Inflation'!$AM$6:$AT$6, 0))/100)","v":"-"},{"$f":"IF($A45<DATE(2018,7,1),\"-\",INDEX('Annual Inflation'!$AM$49:$AT$49, MATCH(YEAR(EOMONTH($A45,6)), 'Annual Inflation'!$AM$6:$AT$6, 0))/100)","v":"-"},76.099999999999994,178.2,178.2]
["2002-12-01",2003,76.3,178.5,{"$f":"IF($A46<DATE(2018,7,1),\"-\",INDEX('Annual Inflation'!$AM$52:$AT$52, MATCH(YEAR(EOMONTH($A46,6)), 'Annual Inflation'!$AM$6:$AT$6, 0))/100)","v":"-"},{"$f":"IF($A46<DATE(2018,7,1),\"-\",INDEX('Annual Inflation'!$AM$49:$AT$49, MATCH(YEAR(EOMONTH($A46,6)), 'Annual Inflation'!$AM$6:$AT$6, 0))/100)","v":"-"},76.3,178.5,178.5]
["2003-01-01",2003,75.900000000000006,178.4,{"$f":"IF($A47<DATE(2018,7,1),\"-\",INDEX('Annual Inflation'!$AM$52:$AT$52, MATCH(YEAR(EOMONTH($A47,6)), 'Annual Inflation'!$AM$6:$AT$6, 0))/100)","v":"-"},{"$f":"IF($A47<DATE(2018,7,1),\"-\",INDEX('Annual Inflation'!$AM$49:$AT$49, MATCH(YEAR(EOMONTH($A47,6)), 'Annual Inflation'!$AM$6:$AT$6, 0))/100)","v":"-"},75.900000000000006,178.4,178.4]
["2003-02-01",2003,76.099999999999994,179.3,{"$f":"IF($A48<DATE(2018,7,1),\"-\",INDEX('Annual Inflation'!$AM$52:$AT$52, MATCH(YEAR(EOMONTH($A48,6)), 'Annual Inflation'!$AM$6:$AT$6, 0))/100)","v":"-"},{"$f":"IF($A48<DATE(2018,7,1),\"-\",INDEX('Annual Inflation'!$AM$49:$AT$49, MATCH(YEAR(EOMONTH($A48,6)), 'Annual Inflation'!$AM$6:$AT$6, 0))/100)","v":"-"},76.099999999999994,179.3,179.3]
["2003-03-01",2003,76.400000000000006,179.9,{"$f":"IF($A49<DATE(2018,7,1),\"-\",INDEX('Annual Inflation'!$AM$52:$AT$52, MATCH(YEAR(EOMONTH($A49,6)), 'Annual Inflation'!$AM$6:$AT$6, 0))/100)","v":"-"},{"$f":"IF($A49<DATE(2018,7,1),\"-\",INDEX('Annual Inflation'!$AM$49:$AT$49, MATCH(YEAR(EOMONTH($A49,6)), 'Annual Inflation'!$AM$6:$AT$6, 0))/100)","v":"-"},76.400000000000006,179.9,179.9]
["2003-04-01",2004,76.8,181.2,{"$f":"IF($A50<DATE(2018,7,1),\"-\",INDEX('Annual Inflation'!$AM$52:$AT$52, MATCH(YEAR(EOMONTH($A50,6)), 'Annual Inflation'!$AM$6:$AT$6, 0))/100)","v":"-"},{"$f":"IF($A50<DATE(2018,7,1),\"-\",INDEX('Annual Inflation'!$AM$49:$AT$49, MATCH(YEAR(EOMONTH($A50,6)), 'Annual Inflation'!$AM$6:$AT$6, 0))/100)","v":"-"},76.8,181.2,181.2]
["2003-05-01",2004,76.8,181.5,{"$f":"IF($A51<DATE(2018,7,1),\"-\",INDEX('Annual Inflation'!$AM$52:$AT$52, MATCH(YEAR(EOMONTH($A51,6)), 'Annual Inflation'!$AM$6:$AT$6, 0))/100)","v":"-"},{"$f":"IF($A51<DATE(2018,7,1),\"-\",INDEX('Annual Inflation'!$AM$49:$AT$49, MATCH(YEAR(EOMONTH($A51,6)), 'Annual Inflation'!$AM$6:$AT$6, 0))/100)","v":"-"},76.8,181.5,181.5]
["2003-06-01",2004,76.7,181.3,{"$f":"IF($A52<DATE(2018,7,1),\"-\",INDEX('Annual Inflation'!$AM$52:$AT$52, MATCH(YEAR(EOMONTH($A52,6)), 'Annual Inflation'!$AM$6:$AT$6, 0))/100)","v":"-"},{"$f":"IF($A52<DATE(2018,7,1),\"-\",INDEX('Annual Inflation'!$AM$49:$AT$49, MATCH(YEAR(EOMONTH($A52,6)), 'Annual Inflation'!$AM$6:$AT$6, 0))/100)","v":"-"},76.7,181.3,181.3]
["2003-07-01",2004,76.599999999999994,181.3,{"$f":"IF($A53<DATE(2018,7,1),\"-\",INDEX('Annual Inflation'!$AM$52:$AT$52, MATCH(YEAR(EOMONTH($A53,6)), 'Annual Inflation'!$AM$6:$AT$6, 0))/100)","v":"-"},{"$f":"IF($A53<DATE(2018,7,1),\"-\",INDEX('Annual Inflation'!$AM$49:$AT$49, MATCH(YEAR(EOMONTH($A53,6)), 'Annual Inflation'!$AM$6:$AT$6, 0))/100)","v":"-"},76.599999999999994,181.3,181.3]
["2003-08-01",2004,76.8,181.6,{"$f":"IF($A54<DATE(2018,7,1),\"-\",INDEX('Annual Inflation'!$AM$52:$AT$52, MATCH(YEAR(EOMONTH($A54,6)), 'Annual Inflation'!$AM$6:$AT$6, 0))/100)","v":"-"},{"$f":"IF($A54<DATE(2018,7,1),\"-\",INDEX('Annual Inflation'!$AM$49:$AT$49, MATCH(YEAR(EOMONTH($A54,6)), 'Annual Inflation'!$AM$6:$AT$6, 0))/100)","v":"-"},76.8,181.6,181.6]
["2003-09-01",2004,77,182.5,{"$f":"IF($A55<DATE(2018,7,1),\"-\",INDEX('Annual Inflation'!$AM$52:$AT$52, MATCH(YEAR(EOMONTH($A55,6)), 'Annual Inflation'!$AM$6:$AT$6, 0))/100)","v":"-"},{"$f":"IF($A55<DATE(2018,7,1),\"-\",INDEX('Annual Inflation'!$AM$49:$AT$49, MATCH(YEAR(EOMONTH($A55,6)), 'Annual Inflation'!$AM$6:$AT$6, 0))/100)","v":"-"},77,182.5,182.5]
["2003-10-01",2004,77.099999999999994,182.6,{"$f":"IF($A56<DATE(2018,7,1),\"-\",INDEX('Annual Inflation'!$AM$52:$AT$52, MATCH(YEAR(EOMONTH($A56,6)), 'Annual Inflation'!$AM$6:$AT$6, 0))/100)","v":"-"},{"$f":"IF($A56<DATE(2018,7,1),\"-\",INDEX('Annual Inflation'!$AM$49:$AT$49, MATCH(YEAR(EOMONTH($A56,6)), 'Annual Inflation'!$AM$6:$AT$6, 0))/100)","v":"-"},77.099999999999994,182.6,182.6]
["2003-11-01",2004,77.099999999999994,182.7,{"$f":"IF($A57<DATE(2018,7,1),\"-\",INDEX('Annual Inflation'!$AM$52:$AT$52, MATCH(YEAR(EOMONTH($A57,6)), 'Annual Inflation'!$AM$6:$AT$6, 0))/100)","v":"-"},{"$f":"IF($A57<DATE(2018,7,1),\"-\",INDEX('Annual Inflation'!$AM$49:$AT$49, MATCH(YEAR(EOMONTH($A57,6)), 'Annual Inflation'!$AM$6:$AT$6, 0))/100)","v":"-"},77.099999999999994,182.7,182.7]
["2003-12-01",2004,77.3,183.5,{"$f":"IF($A58<DATE(2018,7,1),\"-\",INDEX('Annual Inflation'!$AM$52:$AT$52, MATCH(YEAR(EOMONTH($A58,6)), 'Annual Inflation'!$AM$6:$AT$6, 0))/100)","v":"-"},{"$f":"IF($A58<DATE(2018,7,1),\"-\",INDEX('Annual Inflation'!$AM$49:$AT$49, MATCH(YEAR(EOMONTH($A58,6)), 'Annual Inflation'!$AM$6:$AT$6, 0))/100)","v":"-"},77.3,183.5,183.5]
["2004-01-01",2004,77,183.1,{"$f":"IF($A59<DATE(2018,7,1),\"-\",INDEX('Annual Inflation'!$AM$52:$AT$52, MATCH(YEAR(EOMONTH($A59,6)), 'Annual Inflation'!$AM$6:$AT$6, 0))/100)","v":"-"},{"$f":"IF($A59<DATE(2018,7,1),\"-\",INDEX('Annual Inflation'!$AM$49:$AT$49, MATCH(YEAR(EOMONTH($A59,6)), 'Annual Inflation'!$AM$6:$AT$6, 0))/100)","v":"-"},77,183.1,183.1]
["2004-02-01",2004,77.2,183.8,{"$f":"IF($A60<DATE(2018,7,1),\"-\",INDEX('Annual Inflation'!$AM$52:$AT$52, MATCH(YEAR(EOMONTH($A60,6)), 'Annual Inflation'!$AM$6:$AT$6, 0))/100)","v":"-"},{"$f":"IF($A60<DATE(2018,7,1),\"-\",INDEX('Annual Inflation'!$AM$49:$AT$49, MATCH(YEAR(EOMONTH($A60,6)), 'Annual Inflation'!$AM$6:$AT$6, 0))/100)","v":"-"},77.2,183.8,183.8]
["2004-03-01",2004,77.3,184.6,{"$f":"IF($A61<DATE(2018,7,1),\"-\",INDEX('Annual Inflation'!$AM$52:$AT$52, MATCH(YEAR(EOMONTH($A61,6)), 'Annual Inflation'!$AM$6:$AT$6, 0))/100)","v":"-"},{"$f":"IF($A61<DATE(2018,7,1),\"-\",INDEX('Annual Inflation'!$AM$49:$AT$49, MATCH(YEAR(EOMONTH($A61,6)), 'Annual Inflation'!$AM$6:$AT$6, 0))/100)","v":"-"},77.3,184.6,184.6]
["2004-04-01",2005,77.599999999999994,185.7,{"$f":"IF($A62<DATE(2018,7,1),\"-\",INDEX('Annual Inflation'!$AM$52:$AT$52, MATCH(YEAR(EOMONTH($A62,6)), 'Annual Inflation'!$AM$6:$AT$6, 0))/100)","v":"-"},{"$f":"IF($A62<DATE(2018,7,1),\"-\",INDEX('Annual Inflation'!$AM$49:$AT$49, MATCH(YEAR(EOMONTH($A62,6)), 'Annual Inflation'!$AM$6:$AT$6, 0))/100)","v":"-"},77.599999999999994,185.7,185.7]
["2004-05-01",2005,77.900000000000006,186.5,{"$f":"IF($A63<DATE(2018,7,1),\"-\",INDEX('Annual Inflation'!$AM$52:$AT$52, MATCH(YEAR(EOMONTH($A63,6)), 'Annual Inflation'!$AM$6:$AT$6, 0))/100)","v":"-"},{"$f":"IF($A63<DATE(2018,7,1),\"-\",INDEX('Annual Inflation'!$AM$49:$AT$49, MATCH(YEAR(EOMONTH($A63,6)), 'Annual Inflation'!$AM$6:$AT$6, 0))/100)","v":"-"},77.900000000000006,186.5,186.5]
["2004-06-01",2005,77.900000000000006,186.8,{"$f":"IF($A64<DATE(2018,7,1),\"-\",INDEX('Annual Inflation'!$AM$52:$AT$52, MATCH(YEAR(EOMONTH($A64,6)), 'Annual Inflation'!$AM$6:$AT$6, 0))/100)","v":"-"},{"$f":"IF($A64<DATE(2018,7,1),\"-\",INDEX('Annual Inflation'!$AM$49:$AT$49, MATCH(YEAR(EOMONTH($A64,6)), 'Annual Inflation'!$AM$6:$AT$6, 0))/100)","v":"-"},77.900000000000006,186.8,186.8]
["2004-07-01",2005,77.7,186.8,{"$f":"IF($A65<DATE(2018,7,1),\"-\",INDEX('Annual Inflation'!$AM$52:$AT$52, MATCH(YEAR(EOMONTH($A65,6)), 'Annual Inflation'!$AM$6:$AT$6, 0))/100)","v":"-"},{"$f":"IF($A65<DATE(2018,7,1),\"-\",INDEX('Annual Inflation'!$AM$49:$AT$49, MATCH(YEAR(EOMONTH($A65,6)), 'Annual Inflation'!$AM$6:$AT$6, 0))/100)","v":"-"},77.7,186.8,186.8]
["2004-08-01",2005,77.900000000000006,187.4,{"$f":"IF($A66<DATE(2018,7,1),\"-\",INDEX('Annual Inflation'!$AM$52:$AT$52, MATCH(YEAR(EOMONTH($A66,6)), 'Annual Inflation'!$AM$6:$AT$6, 0))/100)","v":"-"},{"$f":"IF($A66<DATE(2018,7,1),\"-\",INDEX('Annual Inflation'!$AM$49:$AT$49, MATCH(YEAR(EOMONTH($A66,6)), 'Annual Inflation'!$AM$6:$AT$6, 0))/100)","v":"-"},77.900000000000006,187.4,187.4]
["2004-09-01",{"$f":"IF(MONTH(A67)>=4,YEAR(A67)+1,YEAR(A67))","v":2005},77.900000000000006,188.1,{"$f":"IF($A67<DATE(2018,7,1),\"-\",INDEX('Annual Inflation'!$AM$52:$AT$52, MATCH(YEAR(EOMONTH($A67,6)), 'Annual Inflation'!$AM$6:$AT$6, 0))/100)","v":"-"},{"$f":"IF($A67<DATE(2018,7,1),\"-\",INDEX('Annual Inflation'!$AM$49:$AT$49, MATCH(YEAR(EOMONTH($A67,6)), 'Annual Inflation'!$AM$6:$AT$6, 0))/100)","v":"-"},{"$f":"IF(ISBLANK(C67),G66*((1+E67)^(1/12)),C67)","v":77.900000000000006},{"$f":"IF(ISBLANK(D67),H66*((1+F67)^(1/12)),D67)","v":188.1},{"$f":"IF($A67<DATE(2021,4,1),H67,IF(A67=DATE(2021,4,1),I66*((0.5*G67/G66)+(0.5*H67/H66)),I66*(G67/G66)))","v":188.1}]
["2004-10-01",2005,78.099999999999994,188.6,{"$f":"IF($A68<DATE(2018,7,1),\"-\",INDEX('Annual Inflation'!$AM$52:$AT$52, MATCH(YEAR(EOMONTH($A68,6)), 'Annual Inflation'!$AM$6:$AT$6, 0))/100)","v":"-"},{"$f":"IF($A68<DATE(2018,7,1),\"-\",INDEX('Annual Inflation'!$AM$49:$AT$49, MATCH(YEAR(EOMONTH($A68,6)), 'Annual Inflation'!$AM$6:$AT$6, 0))/100)","v":"-"},78.099999999999994,188.6,188.6]
["2004-11-01",2005,78.3,189,{"$f":"IF($A69<DATE(2018,7,1),\"-\",INDEX('Annual Inflation'!$AM$52:$AT$52, MATCH(YEAR(EOMONTH($A69,6)), 'Annual Inflation'!$AM$6:$AT$6, 0))/100)","v":"-"},{"$f":"IF($A69<DATE(2018,7,1),\"-\",INDEX('Annual Inflation'!$AM$49:$AT$49, MATCH(YEAR(EOMONTH($A69,6)), 'Annual Inflation'!$AM$6:$AT$6, 0))/100)","v":"-"},78.3,189,189]
["2004-12-01",2005,78.599999999999994,189.9,{"$f":"IF($A70<DATE(2018,7,1),\"-\",INDEX('Annual Inflation'!$AM$52:$AT$52, MATCH(YEAR(EOMONTH($A70,6)), 'Annual Inflation'!$AM$6:$AT$6, 0))/100)","v":"-"},{"$f":"IF($A70<DATE(2018,7,1),\"-\",INDEX('Annual Inflation'!$AM$49:$AT$49, MATCH(YEAR(EOMONTH($A70,6)), 'Annual Inflation'!$AM$6:$AT$6, 0))/100)","v":"-"},78.599999999999994,189.9,189.9]
["2005-01-01",2005,78.3,188.9,{"$f":"IF($A71<DATE(2018,7,1),\"-\",INDEX('Annual Inflation'!$AM$52:$AT$52, MATCH(YEAR(EOMONTH($A71,6)), 'Annual Inflation'!$AM$6:$AT$6, 0))/100)","v":"-"},{"$f":"IF($A71<DATE(2018,7,1),\"-\",INDEX('Annual Inflation'!$AM$49:$AT$49, MATCH(YEAR(EOMONTH($A71,6)), 'Annual Inflation'!$AM$6:$AT$6, 0))/100)","v":"-"},78.3,188.9,188.9]
["2005-02-01",2005,78.5,189.6,{"$f":"IF($A72<DATE(2018,7,1),\"-\",INDEX('Annual Inflation'!$AM$52:$AT$52, MATCH(YEAR(EOMONTH($A72,6)), 'Annual Inflation'!$AM$6:$AT$6, 0))/100)","v":"-"},{"$f":"IF($A72<DATE(2018,7,1),\"-\",INDEX('Annual Inflation'!$AM$49:$AT$49, MATCH(YEAR(EOMONTH($A72,6)), 'Annual Inflation'!$AM$6:$AT$6, 0))/100)","v":"-"},78.5,189.6,189.6]
["2005-03-01",2005,78.8,190.5,{"$f":"IF($A73<DATE(2018,7,1),\"-\",INDEX('Annual Inflation'!$AM$52:$AT$52, MATCH(YEAR(EOMONTH($A73,6)), 'Annual Inflation'!$AM$6:$AT$6, 0))/100)","v":"-"},{"$f":"IF($A73<DATE(2018,7,1),\"-\",INDEX('Annual Inflation'!$AM$49:$AT$49, MATCH(YEAR(EOMONTH($A73,6)), 'Annual Inflation'!$AM$6:$AT$6, 0))/100)","v":"-"},78.8,190.5,190.5]
["2005-04-01",2006,79.099999999999994,191.6,{"$f":"IF($A74<DATE(2018,7,1),\"-\",INDEX('Annual Inflation'!$AM$52:$AT$52, MATCH(YEAR(EOMONTH($A74,6)), 'Annual Inflation'!$AM$6:$AT$6, 0))/100)","v":"-"},{"$f":"IF($A74<DATE(2018,7,1),\"-\",INDEX('Annual Inflation'!$AM$49:$AT$49, MATCH(YEAR(EOMONTH($A74,6)), 'Annual Inflation'!$AM$6:$AT$6, 0))/100)","v":"-"},79.099999999999994,191.6,191.6]
["2005-05-01",2006,79.400000000000006,192,{"$f":"IF($A75<DATE(2018,7,1),\"-\",INDEX('Annual Inflation'!$AM$52:$AT$52, MATCH(YEAR(EOMONTH($A75,6)), 'Annual Inflation'!$AM$6:$AT$6, 0))/100)","v":"-"},{"$f":"IF($A75<DATE(2018,7,1),\"-\",INDEX('Annual Inflation'!$AM$49:$AT$49, MATCH(YEAR(EOMONTH($A75,6)), 'Annual Inflation'!$AM$6:$AT$6, 0))/100)","v":"-"},79.400000000000006,192,192]
["2005-06-01",2006,79.400000000000006,192.2,{"$f":"IF($A76<DATE(2018,7,1),\"-\",INDEX('Annual Inflation'!$AM$52:$AT$52, MATCH(YEAR(EOMONTH($A76,6)), 'Annual Inflation'!$AM$6:$AT$6, 0))/100)","v":"-"},{"$f":"IF($A76<DATE(2018,7,1),\"-\",INDEX('Annual Inflation'!$AM$49:$AT$49, MATCH(YEAR(EOMONTH($A76,6)), 'Annual Inflation'!$AM$6:$AT$6, 0))/100)","v":"-"},79.400000000000006,192.2,192.2]
["2005-07-01",2006,79.5,192.2,{"$f":"IF($A77<DATE(2018,7,1),\"-\",INDEX('Annual Inflation'!$AM$52:$AT$52, MATCH(YEAR(EOMONTH($A77,6)), 'Annual Inflation'!$AM$6:$AT$6, 0))/100)","v":"-"},{"$f":"IF($A77<DATE(2018,7,1),\"-\",INDEX('Annual Inflation'!$AM$49:$AT$49, MATCH(YEAR(EOMONTH($A77,6)), 'Annual Inflation'!$AM$6:$AT$6, 0))/100)","v":"-"},79.5,192.2,192.2]
["2005-08-01",2006,79.7,192.6,{"$f":"IF($A78<DATE(2018,7,1),\"-\",INDEX('Annual Inflation'!$AM$52:$AT$52, MATCH(YEAR(EOMONTH($A78,6)), 'Annual Inflation'!$AM$6:$AT$6, 0))/100)","v":"-"},{"$f":"IF($A78<DATE(2018,7,1),\"-\",INDEX('Annual Inflation'!$AM$49:$AT$49, MATCH(YEAR(EOMONTH($A78,6)), 'Annual Inflation'!$AM$6:$AT$6, 0))/100)","v":"-"},79.7,192.6,192.6]
["2005-09-01",2006,79.900000000000006,193.1,{"$f":"IF($A79<DATE(2018,7,1),\"-\",INDEX('Annual Inflation'!$AM$52:$AT$52, MATCH(YEAR(EOMONTH($A79,6)), 'Annual Inflation'!$AM$6:$AT$6, 0))/100)","v":"-"},{"$f":"IF($A79<DATE(2018,7,1),\"-\",INDEX('Annual Inflation'!$AM$49:$AT$49, MATCH(YEAR(EOMONTH($A79,6)), 'Annual Inflation'!$AM$6:$AT$6, 0))/100)","v":"-"},79.900000000000006,193.1,193.1]
["2005-10-01",2006,80,193.3,{"$f":"IF($A80<DATE(2018,7,1),\"-\",INDEX('Annual Inflation'!$AM$52:$AT$52, MATCH(YEAR(EOMONTH($A80,6)), 'Annual Inflation'!$AM$6:$AT$6, 0))/100)","v":"-"},{"$f":"IF($A80<DATE(2018,7,1),\"-\",INDEX('Annual Inflation'!$AM$49:$AT$49, MATCH(YEAR(EOMONTH($A80,6)), 'Annual Inflation'!$AM$6:$AT$6, 0))/100)","v":"-"},80,193.3,193.3]
["2005-11-01",2006,80,193.6,{"$f":"IF($A81<DATE(2018,7,1),\"-\",INDEX('Annual Inflation'!$AM$52:$AT$52, MATCH(YEAR(EOMONTH($A81,6)), 'Annual Inflation'!$AM$6:$AT$6, 0))/100)","v":"-"},{"$f":"IF($A81<DATE(2018,7,1),\"-\",INDEX('Annual Inflation'!$AM$49:$AT$49, MATCH(YEAR(EOMONTH($A81,6)), 'Annual Inflation'!$AM$6:$AT$6, 0))/100)","v":"-"},80,193.6,193.6]
["2005-12-01",2006,80.3,194.1,{"$f":"IF($A82<DATE(2018,7,1),\"-\",INDEX('Annual Inflation'!$AM$52:$AT$52, MATCH(YEAR(EOMONTH($A82,6)), 'Annual Inflation'!$AM$6:$AT$6, 0))/100)","v":"-"},{"$f":"IF($A82<DATE(2018,7,1),\"-\",INDEX('Annual Inflation'!$AM$49:$AT$49, MATCH(YEAR(EOMONTH($A82,6)), 'Annual Inflation'!$AM$6:$AT$6, 0))/100)","v":"-"},80.3,194.1,194.1]
["2006-01-01",2006,80,193.4,{"$f":"IF($A83<DATE(2018,7,1),\"-\",INDEX('Annual Inflation'!$AM$52:$AT$52, MATCH(YEAR(EOMONTH($A83,6)), 'Annual Inflation'!$AM$6:$AT$6, 0))/100)","v":"-"},{"$f":"IF($A83<DATE(2018,7,1),\"-\",INDEX('Annual Inflation'!$AM$49:$AT$49, MATCH(YEAR(EOMONTH($A83,6)), 'Annual Inflation'!$AM$6:$AT$6, 0))/100)","v":"-"},80,193.4,193.4]
["2006-02-01",2006,80.2,194.2,{"$f":"IF($A84<DATE(2018,7,1),\"-\",INDEX('Annual Inflation'!$AM$52:$AT$52, MATCH(YEAR(EOMONTH($A84,6)), 'Annual Inflation'!$AM$6:$AT$6, 0))/100)","v":"-"},{"$f":"IF($A84<DATE(2018,7,1),\"-\",INDEX('Annual Inflation'!$AM$49:$AT$49, MATCH(YEAR(EOMONTH($A84,6)), 'Annual Inflation'!$AM$6:$AT$6, 0))/100)","v":"-"},80.2,194.2,194.2]
["2006-03-01",2006,80.400000000000006,195,{"$f":"IF($A85<DATE(2018,7,1),\"-\",INDEX('Annual Inflation'!$AM$52:$AT$52, MATCH(YEAR(EOMONTH($A85,6)), 'Annual Inflation'!$AM$6:$AT$6, 0))/100)","v":"-"},{"$f":"IF($A85<DATE(2018,7,1),\"-\",INDEX('Annual Inflation'!$AM$49:$AT$49, MATCH(YEAR(EOMONTH($A85,6)), 'Annual Inflation'!$AM$6:$AT$6, 0))/100)","v":"-"},80.400000000000006,195,195]
["2006-04-01",2007,80.900000000000006,196.5,{"$f":"IF($A86<DATE(2018,7,1),\"-\",INDEX('Annual Inflation'!$AM$52:$AT$52, MATCH(YEAR(EOMONTH($A86,6)), 'Annual Inflation'!$AM$6:$AT$6, 0))/100)","v":"-"},{"$f":"IF($A86<DATE(2018,7,1),\"-\",INDEX('Annual Inflation'!$AM$49:$AT$49, MATCH(YEAR(EOMONTH($A86,6)), 'Annual Inflation'!$AM$6:$AT$6, 0))/100)","v":"-"},80.900000000000006,196.5,196.5]
["2006-05-01",2007,81.3,197.7,{"$f":"IF($A87<DATE(2018,7,1),\"-\",INDEX('Annual Inflation'!$AM$52:$AT$52, MATCH(YEAR(EOMONTH($A87,6)), 'Annual Inflation'!$AM$6:$AT$6, 0))/100)","v":"-"},{"$f":"IF($A87<DATE(2018,7,1),\"-\",INDEX('Annual Inflation'!$AM$49:$AT$49, MATCH(YEAR(EOMONTH($A87,6)), 'Annual Inflation'!$AM$6:$AT$6, 0))/100)","v":"-"},81.3,197.7,197.7]
["2006-06-01",2007,81.5,198.5,{"$f":"IF($A88<DATE(2018,7,1),\"-\",INDEX('Annual Inflation'!$AM$52:$AT$52, MATCH(YEAR(EOMONTH($A88,6)), 'Annual Inflation'!$AM$6:$AT$6, 0))/100)","v":"-"},{"$f":"IF($A88<DATE(2018,7,1),\"-\",INDEX('Annual Inflation'!$AM$49:$AT$49, MATCH(YEAR(EOMONTH($A88,6)), 'Annual Inflation'!$AM$6:$AT$6, 0))/100)","v":"-"},81.5,198.5,198.5]
["2006-07-01",2007,81.5,198.5,{"$f":"IF($A89<DATE(2018,7,1),\"-\",INDEX('Annual Inflation'!$AM$52:$AT$52, MATCH(YEAR(EOMONTH($A89,6)), 'Annual Inflation'!$AM$6:$AT$6, 0))/100)","v":"-"},{"$f":"IF($A89<DATE(2018,7,1),\"-\",INDEX('Annual Inflation'!$AM$49:$AT$49, MATCH(YEAR(EOMONTH($A89,6)), 'Annual Inflation'!$AM$6:$AT$6, 0))/100)","v":"-"},81.5,198.5,198.5]
["2006-08-01",2007,81.8,199.2,{"$f":"IF($A90<DATE(2018,7,1),\"-\",INDEX('Annual Inflation'!$AM$52:$AT$52, MATCH(YEAR(EOMONTH($A90,6)), 'Annual Inflation'!$AM$6:$AT$6, 0))/100)","v":"-"},{"$f":"IF($A90<DATE(2018,7,1),\"-\",INDEX('Annual Inflation'!$AM$49:$AT$49, MATCH(YEAR(EOMONTH($A90,6)), 'Annual Inflation'!$AM$6:$AT$6, 0))/100)","v":"-"},81.8,199.2,199.2]
["2006-09-01",2007,81.900000000000006,200.1,{"$f":"IF($A91<DATE(2018,7,1),\"-\",INDEX('Annual Inflation'!$AM$52:$AT$52, MATCH(YEAR(EOMONTH($A91,6)), 'Annual Inflation'!$AM$6:$AT$6, 0))/100)","v":"-"},{"$f":"IF($A91<DATE(2018,7,1),\"-\",INDEX('Annual Inflation'!$AM$49:$AT$49, MATCH(YEAR(EOMONTH($A91,6)), 'Annual Inflation'!$AM$6:$AT$6, 0))/100)","v":"-"},81.900000000000006,200.1,200.1]
["2006-10-01",2007,82,200.4,{"$f":"IF($A92<DATE(2018,7,1),\"-\",INDEX('Annual Inflation'!$AM$52:$AT$52, MATCH(YEAR(EOMONTH($A92,6)), 'Annual Inflation'!$AM$6:$AT$6, 0))/100)","v":"-"},{"$f":"IF($A92<DATE(2018,7,1),\"-\",INDEX('Annual Inflation'!$AM$49:$AT$49, MATCH(YEAR(EOMONTH($A92,6)), 'Annual Inflation'!$AM$6:$AT$6, 0))/100)","v":"-"},82,200.4,200.4]
["2006-11-01",2007,82.2,201.1,{"$f":"IF($A93<DATE(2018,7,1),\"-\",INDEX('Annual Inflation'!$AM$52:$AT$52, MATCH(YEAR(EOMONTH($A93,6)), 'Annual Inflation'!$AM$6:$AT$6, 0))/100)","v":"-"},{"$f":"IF($A93<DATE(2018,7,1),\"-\",INDEX('Annual Inflation'!$AM$49:$AT$49, MATCH(YEAR(EOMONTH($A93,6)), 'Annual Inflation'!$AM$6:$AT$6, 0))/100)","v":"-"},82.2,201.1,201.1]
["2006-12-01",2007,82.6,202.7,{"$f":"IF($A94<DATE(2018,7,1),\"-\",INDEX('Annual Inflation'!$AM$52:$AT$52, MATCH(YEAR(EOMONTH($A94,6)), 'Annual Inflation'!$AM$6:$AT$6, 0))/100)","v":"-"},{"$f":"IF($A94<DATE(2018,7,1),\"-\",INDEX('Annual Inflation'!$AM$49:$AT$49, MATCH(YEAR(EOMONTH($A94,6)), 'Annual Inflation'!$AM$6:$AT$6, 0))/100)","v":"-"},82.6,202.7,202.7]
["2007-01-01",2007,82.1,201.6,{"$f":"IF($A95<DATE(2018,7,1),\"-\",INDEX('Annual Inflation'!$AM$52:$AT$52, MATCH(YEAR(EOMONTH($A95,6)), 'Annual Inflation'!$AM$6:$AT$6, 0))/100)","v":"-"},{"$f":"IF($A95<DATE(2018,7,1),\"-\",INDEX('Annual Inflation'!$AM$49:$AT$49, MATCH(YEAR(EOMONTH($A95,6)), 'Annual Inflation'!$AM$6:$AT$6, 0))/100)","v":"-"},82.1,201.6,201.6]
["2007-02-01",2007,82.4,203.1,{"$f":"IF($A96<DATE(2018,7,1),\"-\",INDEX('Annual Inflation'!$AM$52:$AT$52, MATCH(YEAR(EOMONTH($A96,6)), 'Annual Inflation'!$AM$6:$AT$6, 0))/100)","v":"-"},{"$f":"IF($A96<DATE(2018,7,1),\"-\",INDEX('Annual Inflation'!$AM$49:$AT$49, MATCH(YEAR(EOMONTH($A96,6)), 'Annual Inflation'!$AM$6:$AT$6, 0))/100)","v":"-"},82.4,203.1,203.1]
["2007-03-01",2007,82.8,204.4,{"$f":"IF($A97<DATE(2018,7,1),\"-\",INDEX('Annual Inflation'!$AM$52:$AT$52, MATCH(YEAR(EOMONTH($A97,6)), 'Annual Inflation'!$AM$6:$AT$6, 0))/100)","v":"-"},{"$f":"IF($A97<DATE(2018,7,1),\"-\",INDEX('Annual Inflation'!$AM$49:$AT$49, MATCH(YEAR(EOMONTH($A97,6)), 'Annual Inflation'!$AM$6:$AT$6, 0))/100)","v":"-"},82.8,204.4,204.4]
["2007-04-01",2008,83.1,205.4,{"$f":"IF($A98<DATE(2018,7,1),\"-\",INDEX('Annual Inflation'!$AM$52:$AT$52, MATCH(YEAR(EOMONTH($A98,6)), 'Annual Inflation'!$AM$6:$AT$6, 0))/100)","v":"-"},{"$f":"IF($A98<DATE(2018,7,1),\"-\",INDEX('Annual Inflation'!$AM$49:$AT$49, MATCH(YEAR(EOMONTH($A98,6)), 'Annual Inflation'!$AM$6:$AT$6, 0))/100)","v":"-"},83.1,205.4,205.4]
["2007-05-01",2008,83.3,206.2,{"$f":"IF($A99<DATE(2018,7,1),\"-\",INDEX('Annual Inflation'!$AM$52:$AT$52, MATCH(YEAR(EOMONTH($A99,6)), 'Annual Inflation'!$AM$6:$AT$6, 0))/100)","v":"-"},{"$f":"IF($A99<DATE(2018,7,1),\"-\",INDEX('Annual Inflation'!$AM$49:$AT$49, MATCH(YEAR(EOMONTH($A99,6)), 'Annual Inflation'!$AM$6:$AT$6, 0))/100)","v":"-"},83.3,206.2,206.2]
["2007-06-01",2008,83.5,207.3,{"$f":"IF($A100<DATE(2018,7,1),\"-\",INDEX('Annual Inflation'!$AM$52:$AT$52, MATCH(YEAR(EOMONTH($A100,6)), 'Annual Inflation'!$AM$6:$AT$6, 0))/100)","v":"-"},{"$f":"IF($A100<DATE(2018,7,1),\"-\",INDEX('Annual Inflation'!$AM$49:$AT$49, MATCH(YEAR(EOMONTH($A100,6)), 'Annual Inflation'!$AM$6:$AT$6, 0))/100)","v":"-"},83.5,207.3,207.3]
["2007-07-01",2008,83.1,206.1,{"$f":"IF($A101<DATE(2018,7,1),\"-\",INDEX('Annual Inflation'!$AM$52:$AT$52, MATCH(YEAR(EOMONTH($A101,6)), 'Annual Inflation'!$AM$6:$AT$6, 0))/100)","v":"-"},{"$f":"IF($A101<DATE(2018,7,1),\"-\",INDEX('Annual Inflation'!$AM$49:$AT$49, MATCH(YEAR(EOMONTH($A101,6)), 'Annual Inflation'!$AM$6:$AT$6, 0))/100)","v":"-"},83.1,206.1,206.1]
["2007-08-01",2008,83.4,207.3,{"$f":"IF($A102<DATE(2018,7,1),\"-\",INDEX('Annual Inflation'!$AM$52:$AT$52, MATCH(YEAR(EOMONTH($A102,6)), 'Annual Inflation'!$AM$6:$AT$6, 0))/100)","v":"-"},{"$f":"IF($A102<DATE(2018,7,1),\"-\",INDEX('Annual Inflation'!$AM$49:$AT$49, MATCH(YEAR(EOMONTH($A102,6)), 'Annual Inflation'!$AM$6:$AT$6, 0))/100)","v":"-"},83.4,207.3,207.3]
["2007-09-01",2008,83.5,208,{"$f":"IF($A103<DATE(2018,7,1),\"-\",INDEX('Annual Inflation'!$AM$52:$AT$52, MATCH(YEAR(EOMONTH($A103,6)), 'Annual Inflation'!$AM$6:$AT$6, 0))/100)","v":"-"},{"$f":"IF($A103<DATE(2018,7,1),\"-\",INDEX('Annual Inflation'!$AM$49:$AT$49, MATCH(YEAR(EOMONTH($A103,6)), 'Annual Inflation'!$AM$6:$AT$6, 0))/100)","v":"-"},83.5,208,208]
["2007-10-01",2008,83.8,208.9,{"$f":"IF($A104<DATE(2018,7,1),\"-\",INDEX('Annual Inflation'!$AM$52:$AT$52, MATCH(YEAR(EOMONTH($A104,6)), 'Annual Inflation'!$AM$6:$AT$6, 0))/100)","v":"-"},{"$f":"IF($A104<DATE(2018,7,1),\"-\",INDEX('Annual Inflation'!$AM$49:$AT$49, MATCH(YEAR(EOMONTH($A104,6)), 'Annual Inflation'!$AM$6:$AT$6, 0))/100)","v":"-"},83.8,208.9,208.9]
["2007-11-01",2008,84.1,209.7,{"$f":"IF($A105<DATE(2018,7,1),\"-\",INDEX('Annual Inflation'!$AM$52:$AT$52, MATCH(YEAR(EOMONTH($A105,6)), 'Annual Inflation'!$AM$6:$AT$6, 0))/100)","v":"-"},{"$f":"IF($A105<DATE(2018,7,1),\"-\",INDEX('Annual Inflation'!$AM$49:$AT$49, MATCH(YEAR(EOMONTH($A105,6)), 'Annual Inflation'!$AM$6:$AT$6, 0))/100)","v":"-"},84.1,209.7,209.7]
["2007-12-01",2008,84.5,210.9,{"$f":"IF($A106<DATE(2018,7,1),\"-\",INDEX('Annual Inflation'!$AM$52:$AT$52, MATCH(YEAR(EOMONTH($A106,6)), 'Annual Inflation'!$AM$6:$AT$6, 0))/100)","v":"-"},{"$f":"IF($A106<DATE(2018,7,1),\"-\",INDEX('Annual Inflation'!$AM$49:$AT$49, MATCH(YEAR(EOMONTH($A106,6)), 'Annual Inflation'!$AM$6:$AT$6, 0))/100)","v":"-"},84.5,210.9,210.9]
["2008-01-01",2008,84.1,209.8,{"$f":"IF($A107<DATE(2018,7,1),\"-\",INDEX('Annual Inflation'!$AM$52:$AT$52, MATCH(YEAR(EOMONTH($A107,6)), 'Annual Inflation'!$AM$6:$AT$6, 0))/100)","v":"-"},{"$f":"IF($A107<DATE(2018,7,1),\"-\",INDEX('Annual Inflation'!$AM$49:$AT$49, MATCH(YEAR(EOMONTH($A107,6)), 'Annual Inflation'!$AM$6:$AT$6, 0))/100)","v":"-"},84.1,209.8,209.8]
["2008-02-01",2008,84.6,211.4,{"$f":"IF($A108<DATE(2018,7,1),\"-\",INDEX('Annual Inflation'!$AM$52:$AT$52, MATCH(YEAR(EOMONTH($A108,6)), 'Annual Inflation'!$AM$6:$AT$6, 0))/100)","v":"-"},{"$f":"IF($A108<DATE(2018,7,1),\"-\",INDEX('Annual Inflation'!$AM$49:$AT$49, MATCH(YEAR(EOMONTH($A108,6)), 'Annual Inflation'!$AM$6:$AT$6, 0))/100)","v":"-"},84.6,211.4,211.4]
["2008-03-01",2008,84.9,212.1,{"$f":"IF($A109<DATE(2018,7,1),\"-\",INDEX('Annual Inflation'!$AM$52:$AT$52, MATCH(YEAR(EOMONTH($A109,6)), 'Annual Inflation'!$AM$6:$AT$6, 0))/100)","v":"-"},{"$f":"IF($A109<DATE(2018,7,1),\"-\",INDEX('Annual Inflation'!$AM$49:$AT$49, MATCH(YEAR(EOMONTH($A109,6)), 'Annual Inflation'!$AM$6:$AT$6, 0))/100)","v":"-"},84.9,212.1,212.1]
["2008-04-01",2009,85.6,214,{"$f":"IF($A110<DATE(2018,7,1),\"-\",INDEX('Annual Inflation'!$AM$52:$AT$52, MATCH(YEAR(EOMONTH($A110,6)), 'Annual Inflation'!$AM$6:$AT$6, 0))/100)","v":"-"},{"$f":"IF($A110<DATE(2018,7,1),\"-\",INDEX('Annual Inflation'!$AM$49:$AT$49, MATCH(YEAR(EOMONTH($A110,6)), 'Annual Inflation'!$AM$6:$AT$6, 0))/100)","v":"-"},85.6,214,214]
["2008-05-01",2009,86.1,215.1,{"$f":"IF($A111<DATE(2018,7,1),\"-\",INDEX('Annual Inflation'!$AM$52:$AT$52, MATCH(YEAR(EOMONTH($A111,6)), 'Annual Inflation'!$AM$6:$AT$6, 0))/100)","v":"-"},{"$f":"IF($A111<DATE(2018,7,1),\"-\",INDEX('Annual Inflation'!$AM$49:$AT$49, MATCH(YEAR(EOMONTH($A111,6)), 'Annual Inflation'!$AM$6:$AT$6, 0))/100)","v":"-"},86.1,215.1,215.1]
["2008-06-01",2009,86.6,216.8,{"$f":"IF($A112<DATE(2018,7,1),\"-\",INDEX('Annual Inflation'!$AM$52:$AT$52, MATCH(YEAR(EOMONTH($A112,6)), 'Annual Inflation'!$AM$6:$AT$6, 0))/100)","v":"-"},{"$f":"IF($A112<DATE(2018,7,1),\"-\",INDEX('Annual Inflation'!$AM$49:$AT$49, MATCH(YEAR(EOMONTH($A112,6)), 'Annual Inflation'!$AM$6:$AT$6, 0))/100)","v":"-"},86.6,216.8,216.8]
["2008-07-01",2009,86.6,216.5,{"$f":"IF($A113<DATE(2018,7,1),\"-\",INDEX('Annual Inflation'!$AM$52:$AT$52, MATCH(YEAR(EOMONTH($A113,6)), 'Annual Inflation'!$AM$6:$AT$6, 0))/100)","v":"-"},{"$f":"IF($A113<DATE(2018,7,1),\"-\",INDEX('Annual Inflation'!$AM$49:$AT$49, MATCH(YEAR(EOMONTH($A113,6)), 'Annual Inflation'!$AM$6:$AT$6, 0))/100)","v":"-"},86.6,216.5,216.5]
["2008-08-01",2009,87.1,217.2,{"$f":"IF($A114<DATE(2018,7,1),\"-\",INDEX('Annual Inflation'!$AM$52:$AT$52, MATCH(YEAR(EOMONTH($A114,6)), 'Annual Inflation'!$AM$6:$AT$6, 0))/100)","v":"-"},{"$f":"IF($A114<DATE(2018,7,1),\"-\",INDEX('Annual Inflation'!$AM$49:$AT$49, MATCH(YEAR(EOMONTH($A114,6)), 'Annual Inflation'!$AM$6:$AT$6, 0))/100)","v":"-"},87.1,217.2,217.2]
["2008-09-01",2009,87.5,218.4,{"$f":"IF($A115<DATE(2018,7,1),\"-\",INDEX('Annual Inflation'!$AM$52:$AT$52, MATCH(YEAR(EOMONTH($A115,6)), 'Annual Inflation'!$AM$6:$AT$6, 0))/100)","v":"-"},{"$f":"IF($A115<DATE(2018,7,1),\"-\",INDEX('Annual Inflation'!$AM$49:$AT$49, MATCH(YEAR(EOMONTH($A115,6)), 'Annual Inflation'!$AM$6:$AT$6, 0))/100)","v":"-"},87.5,218.4,218.4]
["2008-10-01",2009,87.3,217.7,{"$f":"IF($A116<DATE(2018,7,1),\"-\",INDEX('Annual Inflation'!$AM$52:$AT$52, MATCH(YEAR(EOMONTH($A116,6)), 'Annual Inflation'!$AM$6:$AT$6, 0))/100)","v":"-"},{"$f":"IF($A116<DATE(2018,7,1),\"-\",INDEX('Annual Inflation'!$AM$49:$AT$49, MATCH(YEAR(EOMONTH($A116,6)), 'Annual Inflation'!$AM$6:$AT$6, 0))/100)","v":"-"},87.3,217.7,217.7]
["2008-11-01",2009,87.3,216,{"$f":"IF($A117<DATE(2018,7,1),\"-\",INDEX('Annual Inflation'!$AM$52:$AT$52, MATCH(YEAR(EOMONTH($A117,6)), 'Annual Inflation'!$AM$6:$AT$6, 0))/100)","v":"-"},{"$f":"IF($A117<DATE(2018,7,1),\"-\",INDEX('Annual Inflation'!$AM$49:$AT$49, MATCH(YEAR(EOMONTH($A117,6)), 'Annual Inflation'!$AM$6:$AT$6, 0))/100)","v":"-"},87.3,216,216]
["2008-12-01",2009,87.1,212.9,{"$f":"IF($A118<DATE(2018,7,1),\"-\",INDEX('Annual Inflation'!$AM$52:$AT$52, MATCH(YEAR(EOMONTH($A118,6)), 'Annual Inflation'!$AM$6:$AT$6, 0))/100)","v":"-"},{"$f":"IF($A118<DATE(2018,7,1),\"-\",INDEX('Annual Inflation'!$AM$49:$AT$49, MATCH(YEAR(EOMONTH($A118,6)), 'Annual Inflation'!$AM$6:$AT$6, 0))/100)","v":"-"},87.1,212.9,212.9]
["2009-01-01",2009,86.6,210.1,{"$f":"IF($A119<DATE(2018,7,1),\"-\",INDEX('Annual Inflation'!$AM$52:$AT$52, MATCH(YEAR(EOMONTH($A119,6)), 'Annual Inflation'!$AM$6:$AT$6, 0))/100)","v":"-"},{"$f":"IF($A119<DATE(2018,7,1),\"-\",INDEX('Annual Inflation'!$AM$49:$AT$49, MATCH(YEAR(EOMONTH($A119,6)), 'Annual Inflation'!$AM$6:$AT$6, 0))/100)","v":"-"},86.6,210.1,210.1]
["2009-02-01",2009,87.2,211.4,{"$f":"IF($A120<DATE(2018,7,1),\"-\",INDEX('Annual Inflation'!$AM$52:$AT$52, MATCH(YEAR(EOMONTH($A120,6)), 'Annual Inflation'!$AM$6:$AT$6, 0))/100)","v":"-"},{"$f":"IF($A120<DATE(2018,7,1),\"-\",INDEX('Annual Inflation'!$AM$49:$AT$49, MATCH(YEAR(EOMONTH($A120,6)), 'Annual Inflation'!$AM$6:$AT$6, 0))/100)","v":"-"},87.2,211.4,211.4]
["2009-03-01",2009,87.3,211.3,{"$f":"IF($A121<DATE(2018,7,1),\"-\",INDEX('Annual Inflation'!$AM$52:$AT$52, MATCH(YEAR(EOMONTH($A121,6)), 'Annual Inflation'!$AM$6:$AT$6, 0))/100)","v":"-"},{"$f":"IF($A121<DATE(2018,7,1),\"-\",INDEX('Annual Inflation'!$AM$49:$AT$49, MATCH(YEAR(EOMONTH($A121,6)), 'Annual Inflation'!$AM$6:$AT$6, 0))/100)","v":"-"},87.3,211.3,211.3]
["2009-04-01",2010,87.5,211.5,{"$f":"IF($A122<DATE(2018,7,1),\"-\",INDEX('Annual Inflation'!$AM$52:$AT$52, MATCH(YEAR(EOMONTH($A122,6)), 'Annual Inflation'!$AM$6:$AT$6, 0))/100)","v":"-"},{"$f":"IF($A122<DATE(2018,7,1),\"-\",INDEX('Annual Inflation'!$AM$49:$AT$49, MATCH(YEAR(EOMONTH($A122,6)), 'Annual Inflation'!$AM$6:$AT$6, 0))/100)","v":"-"},87.5,211.5,211.5]
["2009-05-01",2010,87.9,212.8,{"$f":"IF($A123<DATE(2018,7,1),\"-\",INDEX('Annual Inflation'!$AM$52:$AT$52, MATCH(YEAR(EOMONTH($A123,6)), 'Annual Inflation'!$AM$6:$AT$6, 0))/100)","v":"-"},{"$f":"IF($A123<DATE(2018,7,1),\"-\",INDEX('Annual Inflation'!$AM$49:$AT$49, MATCH(YEAR(EOMONTH($A123,6)), 'Annual Inflation'!$AM$6:$AT$6, 0))/100)","v":"-"},87.9,212.8,212.8]
["2009-06-01",2010,88.1,213.4,{"$f":"IF($A124<DATE(2018,7,1),\"-\",INDEX('Annual Inflation'!$AM$52:$AT$52, MATCH(YEAR(EOMONTH($A124,6)), 'Annual Inflation'!$AM$6:$AT$6, 0))/100)","v":"-"},{"$f":"IF($A124<DATE(2018,7,1),\"-\",INDEX('Annual Inflation'!$AM$49:$AT$49, MATCH(YEAR(EOMONTH($A124,6)), 'Annual Inflation'!$AM$6:$AT$6, 0))/100)","v":"-"},88.1,213.4,213.4]
["2009-07-01",2010,88,213.4,{"$f":"IF($A125<DATE(2018,7,1),\"-\",INDEX('Annual Inflation'!$AM$52:$AT$52, MATCH(YEAR(EOMONTH($A125,6)), 'Annual Inflation'!$AM$6:$AT$6, 0))/100)","v":"-"},{"$f":"IF($A125<DATE(2018,7,1),\"-\",INDEX('Annual Inflation'!$AM$49:$AT$49, MATCH(YEAR(EOMONTH($A125,6)), 'Annual Inflation'!$AM$6:$AT$6, 0))/100)","v":"-"},88,213.4,213.4]
["2009-08-01",2010,88.3,214.4,{"$f":"IF($A126<DATE(2018,7,1),\"-\",INDEX('Annual Inflation'!$AM$52:$AT$52, MATCH(YEAR(EOMONTH($A126,6)), 'Annual Inflation'!$AM$6:$AT$6, 0))/100)","v":"-"},{"$f":"IF($A126<DATE(2018,7,1),\"-\",INDEX('Annual Inflation'!$AM$49:$AT$49, MATCH(YEAR(EOMONTH($A126,6)), 'Annual Inflation'!$AM$6:$AT$6, 0))/100)","v":"-"},88.3,214.4,214.4]
["2009-09-01",2010,88.3,215.3,{"$f":"IF($A127<DATE(2018,7,1),\"-\",INDEX('Annual Inflation'!$AM$52:$AT$52, MATCH(YEAR(EOMONTH($A127,6)), 'Annual Inflation'!$AM$6:$AT$6, 0))/100)","v":"-"},{"$f":"IF($A127<DATE(2018,7,1),\"-\",INDEX('Annual Inflation'!$AM$49:$AT$49, MATCH(YEAR(EOMONTH($A127,6)), 'Annual Inflation'!$AM$6:$AT$6, 0))/100)","v":"-"},88.3,215.3,215.3]
["2009-10-01",2010,88.4,216,{"$f":"IF($A128<DATE(2018,7,1),\"-\",INDEX('Annual Inflation'!$AM$52:$AT$52, MATCH(YEAR(EOMONTH($A128,6)), 'Annual Inflation'!$AM$6:$AT$6, 0))/100)","v":"-"},{"$f":"IF($A128<DATE(2018,7,1),\"-\",INDEX('Annual Inflation'!$AM$49:$AT$49, MATCH(YEAR(EOMONTH($A128,6)), 'Annual Inflation'!$AM$6:$AT$6, 0))/100)","v":"-"},88.4,216,216]
["2009-11-01",2010,88.6,216.6,{"$f":"IF($A129<DATE(2018,7,1),\"-\",INDEX('Annual Inflation'!$AM$52:$AT$52, MATCH(YEAR(EOMONTH($A129,6)), 'Annual Inflation'!$AM$6:$AT$6, 0))/100)","v":"-"},{"$f":"IF($A129<DATE(2018,7,1),\"-\",INDEX('Annual Inflation'!$AM$49:$AT$49, MATCH(YEAR(EOMONTH($A129,6)), 'Annual Inflation'!$AM$6:$AT$6, 0))/100)","v":"-"},88.6,216.6,216.6]
["2009-12-01",2010,88.9,218,{"$f":"IF($A130<DATE(2018,7,1),\"-\",INDEX('Annual Inflation'!$AM$52:$AT$52, MATCH(YEAR(EOMONTH($A130,6)), 'Annual Inflation'!$AM$6:$AT$6, 0))/100)","v":"-"},{"$f":"IF($A130<DATE(2018,7,1),\"-\",INDEX('Annual Inflation'!$AM$49:$AT$49, MATCH(YEAR(EOMONTH($A130,6)), 'Annual Inflation'!$AM$6:$AT$6, 0))/100)","v":"-"},88.9,218,218]
["2010-01-01",{"$f":"IF(MONTH(A131)>=4,YEAR(A131)+1,YEAR(A131))","v":2010},88.8,217.9,{"$f":"IF($A131<DATE(2018,7,1),\"-\",INDEX('Annual Inflation'!$AM$52:$AT$52, MATCH(YEAR(EOMONTH($A131,6)), 'Annual Inflation'!$AM$6:$AT$6, 0))/100)","v":"-"},{"$f":"IF($A131<DATE(2018,7,1),\"-\",INDEX('Annual Inflation'!$AM$49:$AT$49, MATCH(YEAR(EOMONTH($A131,6)), 'Annual Inflation'!$AM$6:$AT$6, 0))/100)","v":"-"},{"$f":"IF(ISBLANK(C131),G130*((1+E131)^(1/12)),C131)","v":88.8},{"$f":"IF(ISBLANK(D131),H130*((1+F131)^(1/12)),D131)","v":217.9},{"$f":"IF($A131<DATE(2021,4,1),H131,IF(A131=DATE(2021,4,1),I130*((0.5*G131/G130)+(0.5*H131/H130)),I130*(G131/G130)))","v":217.9}]
["2010-02-01",2010,89,219.2,{"$f":"IF($A132<DATE(2018,7,1),\"-\",INDEX('Annual Inflation'!$AM$52:$AT$52, MATCH(YEAR(EOMONTH($A132,6)), 'Annual Inflation'!$AM$6:$AT$6, 0))/100)","v":"-"},{"$f":"IF($A132<DATE(2018,7,1),\"-\",INDEX('Annual Inflation'!$AM$49:$AT$49, MATCH(YEAR(EOMONTH($A132,6)), 'Annual Inflation'!$AM$6:$AT$6, 0))/100)","v":"-"},89,219.2,219.2]
["2010-03-01",2010,89.4,220.7,{"$f":"IF($A133<DATE(2018,7,1),\"-\",INDEX('Annual Inflation'!$AM$52:$AT$52, MATCH(YEAR(EOMONTH($A133,6)), 'Annual Inflation'!$AM$6:$AT$6, 0))/100)","v":"-"},{"$f":"IF($A133<DATE(2018,7,1),\"-\",INDEX('Annual Inflation'!$AM$49:$AT$49, MATCH(YEAR(EOMONTH($A133,6)), 'Annual Inflation'!$AM$6:$AT$6, 0))/100)","v":"-"},89.4,220.7,220.7]
["2010-04-01",2011,89.9,222.8,{"$f":"IF($A134<DATE(2018,7,1),\"-\",INDEX('Annual Inflation'!$AM$52:$AT$52, MATCH(YEAR(EOMONTH($A134,6)), 'Annual Inflation'!$AM$6:$AT$6, 0))/100)","v":"-"},{"$f":"IF($A134<DATE(2018,7,1),\"-\",INDEX('Annual Inflation'!$AM$49:$AT$49, MATCH(YEAR(EOMONTH($A134,6)), 'Annual Inflation'!$AM$6:$AT$6, 0))/100)","v":"-"},89.9,222.8,222.8]
["2010-05-01",2011,90.1,223.6,{"$f":"IF($A135<DATE(2018,7,1),\"-\",INDEX('Annual Inflation'!$AM$52:$AT$52, MATCH(YEAR(EOMONTH($A135,6)), 'Annual Inflation'!$AM$6:$AT$6, 0))/100)","v":"-"},{"$f":"IF($A135<DATE(2018,7,1),\"-\",INDEX('Annual Inflation'!$AM$49:$AT$49, MATCH(YEAR(EOMONTH($A135,6)), 'Annual Inflation'!$AM$6:$AT$6, 0))/100)","v":"-"},90.1,223.6,223.6]
["2010-06-01",2011,90.2,224.1,{"$f":"IF($A136<DATE(2018,7,1),\"-\",INDEX('Annual Inflation'!$AM$52:$AT$52, MATCH(YEAR(EOMONTH($A136,6)), 'Annual Inflation'!$AM$6:$AT$6, 0))/100)","v":"-"},{"$f":"IF($A136<DATE(2018,7,1),\"-\",INDEX('Annual Inflation'!$AM$49:$AT$49, MATCH(YEAR(EOMONTH($A136,6)), 'Annual Inflation'!$AM$6:$AT$6, 0))/100)","v":"-"},90.2,224.1,224.1]
["2010-07-01",2011,90,223.6,{"$f":"IF($A137<DATE(2018,7,1),\"-\",INDEX('Annual Inflation'!$AM$52:$AT$52, MATCH(YEAR(EOMONTH($A137,6)), 'Annual Inflation'!$AM$6:$AT$6, 0))/100)","v":"-"},{"$f":"IF($A137<DATE(2018,7,1),\"-\",INDEX('Annual Inflation'!$AM$49:$AT$49, MATCH(YEAR(EOMONTH($A137,6)), 'Annual Inflation'!$AM$6:$AT$6, 0))/100)","v":"-"},90,223.6,223.6]
["2010-08-01",2011,90.4,224.5,{"$f":"IF($A138<DATE(2018,7,1),\"-\",INDEX('Annual Inflation'!$AM$52:$AT$52, MATCH(YEAR(EOMONTH($A138,6)), 'Annual Inflation'!$AM$6:$AT$6, 0))/100)","v":"-"},{"$f":"IF($A138<DATE(2018,7,1),\"-\",INDEX('Annual Inflation'!$AM$49:$AT$49, MATCH(YEAR(EOMONTH($A138,6)), 'Annual Inflation'!$AM$6:$AT$6, 0))/100)","v":"-"},90.4,224.5,224.5]
["2010-09-01",2011,90.4,225.3,{"$f":"IF($A139<DATE(2018,7,1),\"-\",INDEX('Annual Inflation'!$AM$52:$AT$52, MATCH(YEAR(EOMONTH($A139,6)), 'Annual Inflation'!$AM$6:$AT$6, 0))/100)","v":"-"},{"$f":"IF($A139<DATE(2018,7,1),\"-\",INDEX('Annual Inflation'!$AM$49:$AT$49, MATCH(YEAR(EOMONTH($A139,6)), 'Annual Inflation'!$AM$6:$AT$6, 0))/100)","v":"-"},90.4,225.3,225.3]
["2010-10-01",2011,90.6,225.8,{"$f":"IF($A140<DATE(2018,7,1),\"-\",INDEX('Annual Inflation'!$AM$52:$AT$52, MATCH(YEAR(EOMONTH($A140,6)), 'Annual Inflation'!$AM$6:$AT$6, 0))/100)","v":"-"},{"$f":"IF($A140<DATE(2018,7,1),\"-\",INDEX('Annual Inflation'!$AM$49:$AT$49, MATCH(YEAR(EOMONTH($A140,6)), 'Annual Inflation'!$AM$6:$AT$6, 0))/100)","v":"-"},90.6,225.8,225.8]
["2010-11-01",2011,90.9,226.8,{"$f":"IF($A141<DATE(2018,7,1),\"-\",INDEX('Annual Inflation'!$AM$52:$AT$52, MATCH(YEAR(EOMONTH($A141,6)), 'Annual Inflation'!$AM$6:$AT$6, 0))/100)","v":"-"},{"$f":"IF($A141<DATE(2018,7,1),\"-\",INDEX('Annual Inflation'!$AM$49:$AT$49, MATCH(YEAR(EOMONTH($A141,6)), 'Annual Inflation'!$AM$6:$AT$6, 0))/100)","v":"-"},90.9,226.8,226.8]
["2010-12-01",2011,91.7,228.4,{"$f":"IF($A142<DATE(2018,7,1),\"-\",INDEX('Annual Inflation'!$AM$52:$AT$52, MATCH(YEAR(EOMONTH($A142,6)), 'Annual Inflation'!$AM$6:$AT$6, 0))/100)","v":"-"},{"$f":"IF($A142<DATE(2018,7,1),\"-\",INDEX('Annual Inflation'!$AM$49:$AT$49, MATCH(YEAR(EOMONTH($A142,6)), 'Annual Inflation'!$AM$6:$AT$6, 0))/100)","v":"-"},91.7,228.4,228.4]
["2011-01-01",2011,91.8,229,{"$f":"IF($A143<DATE(2018,7,1),\"-\",INDEX('Annual Inflation'!$AM$52:$AT$52, MATCH(YEAR(EOMONTH($A143,6)), 'Annual Inflation'!$AM$6:$AT$6, 0))/100)","v":"-"},{"$f":"IF($A143<DATE(2018,7,1),\"-\",INDEX('Annual Inflation'!$AM$49:$AT$49, MATCH(YEAR(EOMONTH($A143,6)), 'Annual Inflation'!$AM$6:$AT$6, 0))/100)","v":"-"},91.8,229,229]
["2011-02-01",2011,92.3,231.3,{"$f":"IF($A144<DATE(2018,7,1),\"-\",INDEX('Annual Inflation'!$AM$52:$AT$52, MATCH(YEAR(EOMONTH($A144,6)), 'Annual Inflation'!$AM$6:$AT$6, 0))/100)","v":"-"},{"$f":"IF($A144<DATE(2018,7,1),\"-\",INDEX('Annual Inflation'!$AM$49:$AT$49, MATCH(YEAR(EOMONTH($A144,6)), 'Annual Inflation'!$AM$6:$AT$6, 0))/100)","v":"-"},92.3,231.3,231.3]
["2011-03-01",2011,92.6,232.5,{"$f":"IF($A145<DATE(2018,7,1),\"-\",INDEX('Annual Inflation'!$AM$52:$AT$52, MATCH(YEAR(EOMONTH($A145,6)), 'Annual Inflation'!$AM$6:$AT$6, 0))/100)","v":"-"},{"$f":"IF($A145<DATE(2018,7,1),\"-\",INDEX('Annual Inflation'!$AM$49:$AT$49, MATCH(YEAR(EOMONTH($A145,6)), 'Annual Inflation'!$AM$6:$AT$6, 0))/100)","v":"-"},92.6,232.5,232.5]
["2011-04-01",2012,93.3,234.4,{"$f":"IF($A146<DATE(2018,7,1),\"-\",INDEX('Annual Inflation'!$AM$52:$AT$52, MATCH(YEAR(EOMONTH($A146,6)), 'Annual Inflation'!$AM$6:$AT$6, 0))/100)","v":"-"},{"$f":"IF($A146<DATE(2018,7,1),\"-\",INDEX('Annual Inflation'!$AM$49:$AT$49, MATCH(YEAR(EOMONTH($A146,6)), 'Annual Inflation'!$AM$6:$AT$6, 0))/100)","v":"-"},93.3,234.4,234.4]
["2011-05-01",2012,93.5,235.2,{"$f":"IF($A147<DATE(2018,7,1),\"-\",INDEX('Annual Inflation'!$AM$52:$AT$52, MATCH(YEAR(EOMONTH($A147,6)), 'Annual Inflation'!$AM$6:$AT$6, 0))/100)","v":"-"},{"$f":"IF($A147<DATE(2018,7,1),\"-\",INDEX('Annual Inflation'!$AM$49:$AT$49, MATCH(YEAR(EOMONTH($A147,6)), 'Annual Inflation'!$AM$6:$AT$6, 0))/100)","v":"-"},93.5,235.2,235.2]
["2011-06-01",2012,93.5,235.2,{"$f":"IF($A148<DATE(2018,7,1),\"-\",INDEX('Annual Inflation'!$AM$52:$AT$52, MATCH(YEAR(EOMONTH($A148,6)), 'Annual Inflation'!$AM$6:$AT$6, 0))/100)","v":"-"},{"$f":"IF($A148<DATE(2018,7,1),\"-\",INDEX('Annual Inflation'!$AM$49:$AT$49, MATCH(YEAR(EOMONTH($A148,6)), 'Annual Inflation'!$AM$6:$AT$6, 0))/100)","v":"-"},93.5,235.2,235.2]
["2011-07-01",2012,93.5,234.7,{"$f":"IF($A149<DATE(2018,7,1),\"-\",INDEX('Annual Inflation'!$AM$52:$AT$52, MATCH(YEAR(EOMONTH($A149,6)), 'Annual Inflation'!$AM$6:$AT$6, 0))/100)","v":"-"},{"$f":"IF($A149<DATE(2018,7,1),\"-\",INDEX('Annual Inflation'!$AM$49:$AT$49, MATCH(YEAR(EOMONTH($A149,6)), 'Annual Inflation'!$AM$6:$AT$6, 0))/100)","v":"-"},93.5,234.7,234.7]
["2011-08-01",2012,93.9,236.1,{"$f":"IF($A150<DATE(2018,7,1),\"-\",INDEX('Annual Inflation'!$AM$52:$AT$52, MATCH(YEAR(EOMONTH($A150,6)), 'Annual Inflation'!$AM$6:$AT$6, 0))/100)","v":"-"},{"$f":"IF($A150<DATE(2018,7,1),\"-\",INDEX('Annual Inflation'!$AM$49:$AT$49, MATCH(YEAR(EOMONTH($A150,6)), 'Annual Inflation'!$AM$6:$AT$6, 0))/100)","v":"-"},93.9,236.1,236.1]
["2011-09-01",2012,94.5,237.9,{"$f":"IF($A151<DATE(2018,7,1),\"-\",INDEX('Annual Inflation'!$AM$52:$AT$52, MATCH(YEAR(EOMONTH($A151,6)), 'Annual Inflation'!$AM$6:$AT$6, 0))/100)","v":"-"},{"$f":"IF($A151<DATE(2018,7,1),\"-\",INDEX('Annual Inflation'!$AM$49:$AT$49, MATCH(YEAR(EOMONTH($A151,6)), 'Annual Inflation'!$AM$6:$AT$6, 0))/100)","v":"-"},94.5,237.9,237.9]
["2011-10-01",2012,94.5,238,{"$f":"IF($A152<DATE(2018,7,1),\"-\",INDEX('Annual Inflation'!$AM$52:$AT$52, MATCH(YEAR(EOMONTH($A152,6)), 'Annual Inflation'!$AM$6:$AT$6, 0))/100)","v":"-"},{"$f":"IF($A152<DATE(2018,7,1),\"-\",INDEX('Annual Inflation'!$AM$49:$AT$49, MATCH(YEAR(EOMONTH($A152,6)), 'Annual Inflation'!$AM$6:$AT$6, 0))/100)","v":"-"},94.5,238,238]
["2011-11-01",2012,94.7,238.5,{"$f":"IF($A153<DATE(2018,7,1),\"-\",INDEX('Annual Inflation'!$AM$52:$AT$52, MATCH(YEAR(EOMONTH($A153,6)), 'Annual Inflation'!$AM$6:$AT$6, 0))/100)","v":"-"},{"$f":"IF($A153<DATE(2018,7,1),\"-\",INDEX('Annual Inflation'!$AM$49:$AT$49, MATCH(YEAR(EOMONTH($A153,6)), 'Annual Inflation'!$AM$6:$AT$6, 0))/100)","v":"-"},94.7,238.5,238.5]
["2011-12-01",2012,95,239.4,{"$f":"IF($A154<DATE(2018,7,1),\"-\",INDEX('Annual Inflation'!$AM$52:$AT$52, MATCH(YEAR(EOMONTH($A154,6)), 'Annual Inflation'!$AM$6:$AT$6, 0))/100)","v":"-"},{"$f":"IF($A154<DATE(2018,7,1),\"-\",INDEX('Annual Inflation'!$AM$49:$AT$49, MATCH(YEAR(EOMONTH($A154,6)), 'Annual Inflation'!$AM$6:$AT$6, 0))/100)","v":"-"},95,239.4,239.4]
["2012-01-01",2012,94.7,238,{"$f":"IF($A155<DATE(2018,7,1),\"-\",INDEX('Annual Inflation'!$AM$52:$AT$52, MATCH(YEAR(EOMONTH($A155,6)), 'Annual Inflation'!$AM$6:$AT$6, 0))/100)","v":"-"},{"$f":"IF($A155<DATE(2018,7,1),\"-\",INDEX('Annual Inflation'!$AM$49:$AT$49, MATCH(YEAR(EOMONTH($A155,6)), 'Annual Inflation'!$AM$6:$AT$6, 0))/100)","v":"-"},94.7,238,238]
["2012-02-01",2012,95.2,239.9,{"$f":"IF($A156<DATE(2018,7,1),\"-\",INDEX('Annual Inflation'!$AM$52:$AT$52, MATCH(YEAR(EOMONTH($A156,6)), 'Annual Inflation'!$AM$6:$AT$6, 0))/100)","v":"-"},{"$f":"IF($A156<DATE(2018,7,1),\"-\",INDEX('Annual Inflation'!$AM$49:$AT$49, MATCH(YEAR(EOMONTH($A156,6)), 'Annual Inflation'!$AM$6:$AT$6, 0))/100)","v":"-"},95.2,239.9,239.9]
["2012-03-01",2012,95.4,240.8,{"$f":"IF($A157<DATE(2018,7,1),\"-\",INDEX('Annual Inflation'!$AM$52:$AT$52, MATCH(YEAR(EOMONTH($A157,6)), 'Annual Inflation'!$AM$6:$AT$6, 0))/100)","v":"-"},{"$f":"IF($A157<DATE(2018,7,1),\"-\",INDEX('Annual Inflation'!$AM$49:$AT$49, MATCH(YEAR(EOMONTH($A157,6)), 'Annual Inflation'!$AM$6:$AT$6, 0))/100)","v":"-"},95.4,240.8,240.8]
["2012-04-01",2013,95.9,242.5,{"$f":"IF($A158<DATE(2018,7,1),\"-\",INDEX('Annual Inflation'!$AM$52:$AT$52, MATCH(YEAR(EOMONTH($A158,6)), 'Annual Inflation'!$AM$6:$AT$6, 0))/100)","v":"-"},{"$f":"IF($A158<DATE(2018,7,1),\"-\",INDEX('Annual Inflation'!$AM$49:$AT$49, MATCH(YEAR(EOMONTH($A158,6)), 'Annual Inflation'!$AM$6:$AT$6, 0))/100)","v":"-"},95.9,242.5,242.5]
["2012-05-01",2013,95.9,242.4,{"$f":"IF($A159<DATE(2018,7,1),\"-\",INDEX('Annual Inflation'!$AM$52:$AT$52, MATCH(YEAR(EOMONTH($A159,6)), 'Annual Inflation'!$AM$6:$AT$6, 0))/100)","v":"-"},{"$f":"IF($A159<DATE(2018,7,1),\"-\",INDEX('Annual Inflation'!$AM$49:$AT$49, MATCH(YEAR(EOMONTH($A159,6)), 'Annual Inflation'!$AM$6:$AT$6, 0))/100)","v":"-"},95.9,242.4,242.4]
["2012-06-01",2013,95.6,241.8,{"$f":"IF($A160<DATE(2018,7,1),\"-\",INDEX('Annual Inflation'!$AM$52:$AT$52, MATCH(YEAR(EOMONTH($A160,6)), 'Annual Inflation'!$AM$6:$AT$6, 0))/100)","v":"-"},{"$f":"IF($A160<DATE(2018,7,1),\"-\",INDEX('Annual Inflation'!$AM$49:$AT$49, MATCH(YEAR(EOMONTH($A160,6)), 'Annual Inflation'!$AM$6:$AT$6, 0))/100)","v":"-"},95.6,241.8,241.8]
["2012-07-01",2013,95.7,242.1,{"$f":"IF($A161<DATE(2018,7,1),\"-\",INDEX('Annual Inflation'!$AM$52:$AT$52, MATCH(YEAR(EOMONTH($A161,6)), 'Annual Inflation'!$AM$6:$AT$6, 0))/100)","v":"-"},{"$f":"IF($A161<DATE(2018,7,1),\"-\",INDEX('Annual Inflation'!$AM$49:$AT$49, MATCH(YEAR(EOMONTH($A161,6)), 'Annual Inflation'!$AM$6:$AT$6, 0))/100)","v":"-"},95.7,242.1,242.1]
["2012-08-01",2013,96.1,243,{"$f":"IF($A162<DATE(2018,7,1),\"-\",INDEX('Annual Inflation'!$AM$52:$AT$52, MATCH(YEAR(EOMONTH($A162,6)), 'Annual Inflation'!$AM$6:$AT$6, 0))/100)","v":"-"},{"$f":"IF($A162<DATE(2018,7,1),\"-\",INDEX('Annual Inflation'!$AM$49:$AT$49, MATCH(YEAR(EOMONTH($A162,6)), 'Annual Inflation'!$AM$6:$AT$6, 0))/100)","v":"-"},96.1,243,243]
["2012-09-01",2013,96.4,244.2,{"$f":"IF($A163<DATE(2018,7,1),\"-\",INDEX('Annual Inflation'!$AM$52:$AT$52, MATCH(YEAR(EOMONTH($A163,6)), 'Annual Inflation'!$AM$6:$AT$6, 0))/100)","v":"-"},{"$f":"IF($A163<DATE(2018,7,1),\"-\",INDEX('Annual Inflation'!$AM$49:$AT$49, MATCH(YEAR(EOMONTH($A163,6)), 'Annual Inflation'!$AM$6:$AT$6, 0))/100)","v":"-"},96.4,244.2,244.2]
["2012-10-01",2013,96.8,245.6,{"$f":"IF($A164<DATE(2018,7,1),\"-\",INDEX('Annual Inflation'!$AM$52:$AT$52, MATCH(YEAR(EOMONTH($A164,6)), 'Annual Inflation'!$AM$6:$AT$6, 0))/100)","v":"-"},{"$f":"IF($A164<DATE(2018,7,1),\"-\",INDEX('Annual Inflation'!$AM$49:$AT$49, MATCH(YEAR(EOMONTH($A164,6)), 'Annual Inflation'!$AM$6:$AT$6, 0))/100)","v":"-"},96.8,245.6,245.6]
["2012-11-01",2013,97,245.6,{"$f":"IF($A165<DATE(2018,7,1),\"-\",INDEX('Annual Inflation'!$AM$52:$AT$52, MATCH(YEAR(EOMONTH($A165,6)), 'Annual Inflation'!$AM$6:$AT$6, 0))/100)","v":"-"},{"$f":"IF($A165<DATE(2018,7,1),\"-\",INDEX('Annual Inflation'!$AM$49:$AT$49, MATCH(YEAR(EOMONTH($A165,6)), 'Annual Inflation'!$AM$6:$AT$6, 0))/100)","v":"-"},97,245.6,245.6]
["2012-12-01",2013,97.3,246.8,{"$f":"IF($A166<DATE(2018,7,1),\"-\",INDEX('Annual Inflation'!$AM$52:$AT$52, MATCH(YEAR(EOMONTH($A166,6)), 'Annual Inflation'!$AM$6:$AT$6, 0))/100)","v":"-"},{"$f":"IF($A166<DATE(2018,7,1),\"-\",INDEX('Annual Inflation'!$AM$49:$AT$49, MATCH(YEAR(EOMONTH($A166,6)), 'Annual Inflation'!$AM$6:$AT$6, 0))/100)","v":"-"},97.3,246.8,246.8]
["2013-01-01",2013,97,245.8,{"$f":"IF($A167<DATE(2018,7,1),\"-\",INDEX('Annual Inflation'!$AM$52:$AT$52, MATCH(YEAR(EOMONTH($A167,6)), 'Annual Inflation'!$AM$6:$AT$6, 0))/100)","v":"-"},{"$f":"IF($A167<DATE(2018,7,1),\"-\",INDEX('Annual Inflation'!$AM$49:$AT$49, MATCH(YEAR(EOMONTH($A167,6)), 'Annual Inflation'!$AM$6:$AT$6, 0))/100)","v":"-"},97,245.8,245.8]
["2013-02-01",2013,97.5,247.6,{"$f":"IF($A168<DATE(2018,7,1),\"-\",INDEX('Annual Inflation'!$AM$52:$AT$52, MATCH(YEAR(EOMONTH($A168,6)), 'Annual Inflation'!$AM$6:$AT$6, 0))/100)","v":"-"},{"$f":"IF($A168<DATE(2018,7,1),\"-\",INDEX('Annual Inflation'!$AM$49:$AT$49, MATCH(YEAR(EOMONTH($A168,6)), 'Annual Inflation'!$AM$6:$AT$6, 0))/100)","v":"-"},97.5,247.6,247.6]
["2013-03-01",2013,97.8,248.7,{"$f":"IF($A169<DATE(2018,7,1),\"-\",INDEX('Annual Inflation'!$AM$52:$AT$52, MATCH(YEAR(EOMONTH($A169,6)), 'Annual Inflation'!$AM$6:$AT$6, 0))/100)","v":"-"},{"$f":"IF($A169<DATE(2018,7,1),\"-\",INDEX('Annual Inflation'!$AM$49:$AT$49, MATCH(YEAR(EOMONTH($A169,6)), 'Annual Inflation'!$AM$6:$AT$6, 0))/100)","v":"-"},97.8,248.7,248.7]
["2013-04-01",2014,98,249.5,{"$f":"IF($A170<DATE(2018,7,1),\"-\",INDEX('Annual Inflation'!$AM$52:$AT$52, MATCH(YEAR(EOMONTH($A170,6)), 'Annual Inflation'!$AM$6:$AT$6, 0))/100)","v":"-"},{"$f":"IF($A170<DATE(2018,7,1),\"-\",INDEX('Annual Inflation'!$AM$49:$AT$49, MATCH(YEAR(EOMONTH($A170,6)), 'Annual Inflation'!$AM$6:$AT$6, 0))/100)","v":"-"},98,249.5,249.5]
["2013-05-01",2014,98.2,250,{"$f":"IF($A171<DATE(2018,7,1),\"-\",INDEX('Annual Inflation'!$AM$52:$AT$52, MATCH(YEAR(EOMONTH($A171,6)), 'Annual Inflation'!$AM$6:$AT$6, 0))/100)","v":"-"},{"$f":"IF($A171<DATE(2018,7,1),\"-\",INDEX('Annual Inflation'!$AM$49:$AT$49, MATCH(YEAR(EOMONTH($A171,6)), 'Annual Inflation'!$AM$6:$AT$6, 0))/100)","v":"-"},98.2,250,250]
["2013-06-01",2014,98,249.7,{"$f":"IF($A172<DATE(2018,7,1),\"-\",INDEX('Annual Inflation'!$AM$52:$AT$52, MATCH(YEAR(EOMONTH($A172,6)), 'Annual Inflation'!$AM$6:$AT$6, 0))/100)","v":"-"},{"$f":"IF($A172<DATE(2018,7,1),\"-\",INDEX('Annual Inflation'!$AM$49:$AT$49, MATCH(YEAR(EOMONTH($A172,6)), 'Annual Inflation'!$AM$6:$AT$6, 0))/100)","v":"-"},98,249.7,249.7]
["2013-07-01",2014,98,249.7,{"$f":"IF($A173<DATE(2018,7,1),\"-\",INDEX('Annual Inflation'!$AM$52:$AT$52, MATCH(YEAR(EOMONTH($A173,6)), 'Annual Inflation'!$AM$6:$AT$6, 0))/100)","v":"-"},{"$f":"IF($A173<DATE(2018,7,1),\"-\",INDEX('Annual Inflation'!$AM$49:$AT$49, MATCH(YEAR(EOMONTH($A173,6)), 'Annual Inflation'!$AM$6:$AT$6, 0))/100)","v":"-"},98,249.7,249.7]
["2013-08-01",2014,98.4,251,{"$f":"IF($A174<DATE(2018,7,1),\"-\",INDEX('Annual Inflation'!$AM$52:$AT$52, MATCH(YEAR(EOMONTH($A174,6)), 'Annual Inflation'!$AM$6:$AT$6, 0))/100)","v":"-"},{"$f":"IF($A174<DATE(2018,7,1),\"-\",INDEX('Annual Inflation'!$AM$49:$AT$49, MATCH(YEAR(EOMONTH($A174,6)), 'Annual Inflation'!$AM$6:$AT$6, 0))/100)","v":"-"},98.4,251,251]
["2013-09-01",2014,98.7,251.9,{"$f":"IF($A175<DATE(2018,7,1),\"-\",INDEX('Annual Inflation'!$AM$52:$AT$52, MATCH(YEAR(EOMONTH($A175,6)), 'Annual Inflation'!$AM$6:$AT$6, 0))/100)","v":"-"},{"$f":"IF($A175<DATE(2018,7,1),\"-\",INDEX('Annual Inflation'!$AM$49:$AT$49, MATCH(YEAR(EOMONTH($A175,6)), 'Annual Inflation'!$AM$6:$AT$6, 0))/100)","v":"-"},98.7,251.9,251.9]
["2013-10-01",2014,98.8,251.9,{"$f":"IF($A176<DATE(2018,7,1),\"-\",INDEX('Annual Inflation'!$AM$52:$AT$52, MATCH(YEAR(EOMONTH($A176,6)), 'Annual Inflation'!$AM$6:$AT$6, 0))/100)","v":"-"},{"$f":"IF($A176<DATE(2018,7,1),\"-\",INDEX('Annual Inflation'!$AM$49:$AT$49, MATCH(YEAR(EOMONTH($A176,6)), 'Annual Inflation'!$AM$6:$AT$6, 0))/100)","v":"-"},98.8,251.9,251.9]
["2013-11-01",2014,98.8,252.1,{"$f":"IF($A177<DATE(2018,7,1),\"-\",INDEX('Annual Inflation'!$AM$52:$AT$52, MATCH(YEAR(EOMONTH($A177,6)), 'Annual Inflation'!$AM$6:$AT$6, 0))/100)","v":"-"},{"$f":"IF($A177<DATE(2018,7,1),\"-\",INDEX('Annual Inflation'!$AM$49:$AT$49, MATCH(YEAR(EOMONTH($A177,6)), 'Annual Inflation'!$AM$6:$AT$6, 0))/100)","v":"-"},98.8,252.1,252.1]
["2013-12-01",2014,99.2,253.4,{"$f":"IF($A178<DATE(2018,7,1),\"-\",INDEX('Annual Inflation'!$AM$52:$AT$52, MATCH(YEAR(EOMONTH($A178,6)), 'Annual Inflation'!$AM$6:$AT$6, 0))/100)","v":"-"},{"$f":"IF($A178<DATE(2018,7,1),\"-\",INDEX('Annual Inflation'!$AM$49:$AT$49, MATCH(YEAR(EOMONTH($A178,6)), 'Annual Inflation'!$AM$6:$AT$6, 0))/100)","v":"-"},99.2,253.4,253.4]
["2014-01-01",2014,98.7,252.6,{"$f":"IF($A179<DATE(2018,7,1),\"-\",INDEX('Annual Inflation'!$AM$52:$AT$52, MATCH(YEAR(EOMONTH($A179,6)), 'Annual Inflation'!$AM$6:$AT$6, 0))/100)","v":"-"},{"$f":"IF($A179<DATE(2018,7,1),\"-\",INDEX('Annual Inflation'!$AM$49:$AT$49, MATCH(YEAR(EOMONTH($A179,6)), 'Annual Inflation'!$AM$6:$AT$6, 0))/100)","v":"-"},98.7,252.6,252.6]
["2014-02-01",2014,99.1,254.2,{"$f":"IF($A180<DATE(2018,7,1),\"-\",INDEX('Annual Inflation'!$AM$52:$AT$52, MATCH(YEAR(EOMONTH($A180,6)), 'Annual Inflation'!$AM$6:$AT$6, 0))/100)","v":"-"},{"$f":"IF($A180<DATE(2018,7,1),\"-\",INDEX('Annual Inflation'!$AM$49:$AT$49, MATCH(YEAR(EOMONTH($A180,6)), 'Annual Inflation'!$AM$6:$AT$6, 0))/100)","v":"-"},99.1,254.2,254.2]
["2014-03-01",2014,99.3,254.8,{"$f":"IF($A181<DATE(2018,7,1),\"-\",INDEX('Annual Inflation'!$AM$52:$AT$52, MATCH(YEAR(EOMONTH($A181,6)), 'Annual Inflation'!$AM$6:$AT$6, 0))/100)","v":"-"},{"$f":"IF($A181<DATE(2018,7,1),\"-\",INDEX('Annual Inflation'!$AM$49:$AT$49, MATCH(YEAR(EOMONTH($A181,6)), 'Annual Inflation'!$AM$6:$AT$6, 0))/100)","v":"-"},99.3,254.8,254.8]
["2014-04-01",2015,99.6,255.7,{"$f":"IF($A182<DATE(2018,7,1),\"-\",INDEX('Annual Inflation'!$AM$52:$AT$52, MATCH(YEAR(EOMONTH($A182,6)), 'Annual Inflation'!$AM$6:$AT$6, 0))/100)","v":"-"},{"$f":"IF($A182<DATE(2018,7,1),\"-\",INDEX('Annual Inflation'!$AM$49:$AT$49, MATCH(YEAR(EOMONTH($A182,6)), 'Annual Inflation'!$AM$6:$AT$6, 0))/100)","v":"-"},99.6,255.7,255.7]
["2014-05-01",2015,99.6,255.9,{"$f":"IF($A183<DATE(2018,7,1),\"-\",INDEX('Annual Inflation'!$AM$52:$AT$52, MATCH(YEAR(EOMONTH($A183,6)), 'Annual Inflation'!$AM$6:$AT$6, 0))/100)","v":"-"},{"$f":"IF($A183<DATE(2018,7,1),\"-\",INDEX('Annual Inflation'!$AM$49:$AT$49, MATCH(YEAR(EOMONTH($A183,6)), 'Annual Inflation'!$AM$6:$AT$6, 0))/100)","v":"-"},99.6,255.9,255.9]
["2014-06-01",2015,99.8,256.3,{"$f":"IF($A184<DATE(2018,7,1),\"-\",INDEX('Annual Inflation'!$AM$52:$AT$52, MATCH(YEAR(EOMONTH($A184,6)), 'Annual Inflation'!$AM$6:$AT$6, 0))/100)","v":"-"},{"$f":"IF($A184<DATE(2018,7,1),\"-\",INDEX('Annual Inflation'!$AM$49:$AT$49, MATCH(YEAR(EOMONTH($A184,6)), 'Annual Inflation'!$AM$6:$AT$6, 0))/100)","v":"-"},99.8,256.3,256.3]
["2014-07-01",2015,99.6,256,{"$f":"IF($A185<DATE(2018,7,1),\"-\",INDEX('Annual Inflation'!$AM$52:$AT$52, MATCH(YEAR(EOMONTH($A185,6)), 'Annual Inflation'!$AM$6:$AT$6, 0))/100)","v":"-"},{"$f":"IF($A185<DATE(2018,7,1),\"-\",INDEX('Annual Inflation'!$AM$49:$AT$49, MATCH(YEAR(EOMONTH($A185,6)), 'Annual Inflation'!$AM$6:$AT$6, 0))/100)","v":"-"},99.6,256,256]
["2014-08-01",2015,99.9,257,{"$f":"IF($A186<DATE(2018,7,1),\"-\",INDEX('Annual Inflation'!$AM$52:$AT$52, MATCH(YEAR(EOMONTH($A186,6)), 'Annual Inflation'!$AM$6:$AT$6, 0))/100)","v":"-"},{"$f":"IF($A186<DATE(2018,7,1),\"-\",INDEX('Annual Inflation'!$AM$49:$AT$49, MATCH(YEAR(EOMONTH($A186,6)), 'Annual Inflation'!$AM$6:$AT$6, 0))/100)","v":"-"},99.9,257,257]
["2014-09-01",2015,100,257.60000000000002,{"$f":"IF($A187<DATE(2018,7,1),\"-\",INDEX('Annual Inflation'!$AM$52:$AT$52, MATCH(YEAR(EOMONTH($A187,6)), 'Annual Inflation'!$AM$6:$AT$6, 0))/100)","v":"-"},{"$f":"IF($A187<DATE(2018,7,1),\"-\",INDEX('Annual Inflation'!$AM$49:$AT$49, MATCH(YEAR(EOMONTH($A187,6)), 'Annual Inflation'!$AM$6:$AT$6, 0))/100)","v":"-"},100,257.60000000000002,257.60000000000002]
["2014-10-01",2015,100.1,257.7,{"$f":"IF($A188<DATE(2018,7,1),\"-\",INDEX('Annual Inflation'!$AM$52:$AT$52, MATCH(YEAR(EOMONTH($A188,6)), 'Annual Inflation'!$AM$6:$AT$6, 0))/100)","v":"-"},{"$f":"IF($A188<DATE(2018,7,1),\"-\",INDEX('Annual Inflation'!$AM$49:$AT$49, MATCH(YEAR(EOMONTH($A188,6)), 'Annual Inflation'!$AM$6:$AT$6, 0))/100)","v":"-"},100.1,257.7,257.7]
["2014-11-01",2015,99.9,257.10000000000002,{"$f":"IF($A189<DATE(2018,7,1),\"-\",INDEX('Annual Inflation'!$AM$52:$AT$52, MATCH(YEAR(EOMONTH($A189,6)), 'Annual Inflation'!$AM$6:$AT$6, 0))/100)","v":"-"},{"$f":"IF($A189<DATE(2018,7,1),\"-\",INDEX('Annual Inflation'!$AM$49:$AT$49, MATCH(YEAR(EOMONTH($A189,6)), 'Annual Inflation'!$AM$6:$AT$6, 0))/100)","v":"-"},99.9,257.10000000000002,257.10000000000002]
["2014-12-01",2015,99.9,257.5,{"$f":"IF($A190<DATE(2018,7,1),\"-\",INDEX('Annual Inflation'!$AM$52:$AT$52, MATCH(YEAR(EOMONTH($A190,6)), 'Annual Inflation'!$AM$6:$AT$6, 0))/100)","v":"-"},{"$f":"IF($A190<DATE(2018,7,1),\"-\",INDEX('Annual Inflation'!$AM$49:$AT$49, MATCH(YEAR(EOMONTH($A190,6)), 'Annual Inflation'!$AM$6:$AT$6, 0))/100)","v":"-"},99.9,257.5,257.5]
["2015-01-01",2015,99.2,255.4,{"$f":"IF($A191<DATE(2018,7,1),\"-\",INDEX('Annual Inflation'!$AM$52:$AT$52, MATCH(YEAR(EOMONTH($A191,6)), 'Annual Inflation'!$AM$6:$AT$6, 0))/100)","v":"-"},{"$f":"IF($A191<DATE(2018,7,1),\"-\",INDEX('Annual Inflation'!$AM$49:$AT$49, MATCH(YEAR(EOMONTH($A191,6)), 'Annual Inflation'!$AM$6:$AT$6, 0))/100)","v":"-"},99.2,255.4,255.4]
["2015-02-01",2015,99.5,256.7,{"$f":"IF($A192<DATE(2018,7,1),\"-\",INDEX('Annual Inflation'!$AM$52:$AT$52, MATCH(YEAR(EOMONTH($A192,6)), 'Annual Inflation'!$AM$6:$AT$6, 0))/100)","v":"-"},{"$f":"IF($A192<DATE(2018,7,1),\"-\",INDEX('Annual Inflation'!$AM$49:$AT$49, MATCH(YEAR(EOMONTH($A192,6)), 'Annual Inflation'!$AM$6:$AT$6, 0))/100)","v":"-"},99.5,256.7,256.7]
["2015-03-01",2015,99.6,257.10000000000002,{"$f":"IF($A193<DATE(2018,7,1),\"-\",INDEX('Annual Inflation'!$AM$52:$AT$52, MATCH(YEAR(EOMONTH($A193,6)), 'Annual Inflation'!$AM$6:$AT$6, 0))/100)","v":"-"},{"$f":"IF($A193<DATE(2018,7,1),\"-\",INDEX('Annual Inflation'!$AM$49:$AT$49, MATCH(YEAR(EOMONTH($A193,6)), 'Annual Inflation'!$AM$6:$AT$6, 0))/100)","v":"-"},99.6,257.10000000000002,257.10000000000002]
["2015-04-01",2016,99.9,258,{"$f":"IF($A194<DATE(2018,7,1),\"-\",INDEX('Annual Inflation'!$AM$52:$AT$52, MATCH(YEAR(EOMONTH($A194,6)), 'Annual Inflation'!$AM$6:$AT$6, 0))/100)","v":"-"},{"$f":"IF($A194<DATE(2018,7,1),\"-\",INDEX('Annual Inflation'!$AM$49:$AT$49, MATCH(YEAR(EOMONTH($A194,6)), 'Annual Inflation'!$AM$6:$AT$6, 0))/100)","v":"-"},99.9,258,258]
["2015-05-01",{"$f":"IF(MONTH(A195)>=4,YEAR(A195)+1,YEAR(A195))","v":2016},100.1,258.5,{"$f":"IF($A195<DATE(2018,7,1),\"-\",INDEX('Annual Inflation'!$AM$52:$AT$52, MATCH(YEAR(EOMONTH($A195,6)), 'Annual Inflation'!$AM$6:$AT$6, 0))/100)","v":"-"},{"$f":"IF($A195<DATE(2018,7,1),\"-\",INDEX('Annual Inflation'!$AM$49:$AT$49, MATCH(YEAR(EOMONTH($A195,6)), 'Annual Inflation'!$AM$6:$AT$6, 0))/100)","v":"-"},{"$f":"IF(ISBLANK(C195),G194*((1+E195)^(1/12)),C195)","v":100.1},{"$f":"IF(ISBLANK(D195),H194*((1+F195)^(1/12)),D195)","v":258.5},{"$f":"IF($A195<DATE(2021,4,1),H195,IF(A195=DATE(2021,4,1),I194*((0.5*G195/G194)+(0.5*H195/H194)),I194*(G195/G194)))","v":258.5}]
["2015-06-01",2016,100.1,258.89999999999998,{"$f":"IF($A196<DATE(2018,7,1),\"-\",INDEX('Annual Inflation'!$AM$52:$AT$52, MATCH(YEAR(EOMONTH($A196,6)), 'Annual Inflation'!$AM$6:$AT$6, 0))/100)","v":"-"},{"$f":"IF($A196<DATE(2018,7,1),\"-\",INDEX('Annual Inflation'!$AM$49:$AT$49, MATCH(YEAR(EOMONTH($A196,6)), 'Annual Inflation'!$AM$6:$AT$6, 0))/100)","v":"-"},100.1,258.89999999999998,258.89999999999998]
["2015-07-01",2016,100,258.60000000000002,{"$f":"IF($A197<DATE(2018,7,1),\"-\",INDEX('Annual Inflation'!$AM$52:$AT$52, MATCH(YEAR(EOMONTH($A197,6)), 'Annual Inflation'!$AM$6:$AT$6, 0))/100)","v":"-"},{"$f":"IF($A197<DATE(2018,7,1),\"-\",INDEX('Annual Inflation'!$AM$49:$AT$49, MATCH(YEAR(EOMONTH($A197,6)), 'Annual Inflation'!$AM$6:$AT$6, 0))/100)","v":"-"},100,258.60000000000002,258.60000000000002]
["2015-08-01",2016,100.3,259.8,{"$f":"IF($A198<DATE(2018,7,1),\"-\",INDEX('Annual Inflation'!$AM$52:$AT$52, MATCH(YEAR(EOMONTH($A198,6)), 'Annual Inflation'!$AM$6:$AT$6, 0))/100)","v":"-"},{"$f":"IF($A198<DATE(2018,7,1),\"-\",INDEX('Annual Inflation'!$AM$49:$AT$49, MATCH(YEAR(EOMONTH($A198,6)), 'Annual Inflation'!$AM$6:$AT$6, 0))/100)","v":"-"},100.3,259.8,259.8]
["2015-09-01",2016,100.2,259.60000000000002,{"$f":"IF($A199<DATE(2018,7,1),\"-\",INDEX('Annual Inflation'!$AM$52:$AT$52, MATCH(YEAR(EOMONTH($A199,6)), 'Annual Inflation'!$AM$6:$AT$6, 0))/100)","v":"-"},{"$f":"IF($A199<DATE(2018,7,1),\"-\",INDEX('Annual Inflation'!$AM$49:$AT$49, MATCH(YEAR(EOMONTH($A199,6)), 'Annual Inflation'!$AM$6:$AT$6, 0))/100)","v":"-"},100.2,259.60000000000002,259.60000000000002]
["2015-10-01",2016,100.3,259.5,{"$f":"IF($A200<DATE(2018,7,1),\"-\",INDEX('Annual Inflation'!$AM$52:$AT$52, MATCH(YEAR(EOMONTH($A200,6)), 'Annual Inflation'!$AM$6:$AT$6, 0))/100)","v":"-"},{"$f":"IF($A200<DATE(2018,7,1),\"-\",INDEX('Annual Inflation'!$AM$49:$AT$49, MATCH(YEAR(EOMONTH($A200,6)), 'Annual Inflation'!$AM$6:$AT$6, 0))/100)","v":"-"},100.3,259.5,259.5]
["2015-11-01",2016,100.3,259.8,{"$f":"IF($A201<DATE(2018,7,1),\"-\",INDEX('Annual Inflation'!$AM$52:$AT$52, MATCH(YEAR(EOMONTH($A201,6)), 'Annual Inflation'!$AM$6:$AT$6, 0))/100)","v":"-"},{"$f":"IF($A201<DATE(2018,7,1),\"-\",INDEX('Annual Inflation'!$AM$49:$AT$49, MATCH(YEAR(EOMONTH($A201,6)), 'Annual Inflation'!$AM$6:$AT$6, 0))/100)","v":"-"},100.3,259.8,259.8]
["2015-12-01",2016,100.4,260.60000000000002,{"$f":"IF($A202<DATE(2018,7,1),\"-\",INDEX('Annual Inflation'!$AM$52:$AT$52, MATCH(YEAR(EOMONTH($A202,6)), 'Annual Inflation'!$AM$6:$AT$6, 0))/100)","v":"-"},{"$f":"IF($A202<DATE(2018,7,1),\"-\",INDEX('Annual Inflation'!$AM$49:$AT$49, MATCH(YEAR(EOMONTH($A202,6)), 'Annual Inflation'!$AM$6:$AT$6, 0))/100)","v":"-"},100.4,260.60000000000002,260.60000000000002]
["2016-01-01",2016,99.9,258.8,{"$f":"IF($A203<DATE(2018,7,1),\"-\",INDEX('Annual Inflation'!$AM$52:$AT$52, MATCH(YEAR(EOMONTH($A203,6)), 'Annual Inflation'!$AM$6:$AT$6, 0))/100)","v":"-"},{"$f":"IF($A203<DATE(2018,7,1),\"-\",INDEX('Annual Inflation'!$AM$49:$AT$49, MATCH(YEAR(EOMONTH($A203,6)), 'Annual Inflation'!$AM$6:$AT$6, 0))/100)","v":"-"},99.9,258.8,258.8]
["2016-02-01",2016,100.1,260,{"$f":"IF($A204<DATE(2018,7,1),\"-\",INDEX('Annual Inflation'!$AM$52:$AT$52, MATCH(YEAR(EOMONTH($A204,6)), 'Annual Inflation'!$AM$6:$AT$6, 0))/100)","v":"-"},{"$f":"IF($A204<DATE(2018,7,1),\"-\",INDEX('Annual Inflation'!$AM$49:$AT$49, MATCH(YEAR(EOMONTH($A204,6)), 'Annual Inflation'!$AM$6:$AT$6, 0))/100)","v":"-"},100.1,260,260]
["2016-03-01",2016,100.4,261.10000000000002,{"$f":"IF($A205<DATE(2018,7,1),\"-\",INDEX('Annual Inflation'!$AM$52:$AT$52, MATCH(YEAR(EOMONTH($A205,6)), 'Annual Inflation'!$AM$6:$AT$6, 0))/100)","v":"-"},{"$f":"IF($A205<DATE(2018,7,1),\"-\",INDEX('Annual Inflation'!$AM$49:$AT$49, MATCH(YEAR(EOMONTH($A205,6)), 'Annual Inflation'!$AM$6:$AT$6, 0))/100)","v":"-"},100.4,261.10000000000002,261.10000000000002]
["2016-04-01",2017,100.6,261.39999999999998,{"$f":"IF($A206<DATE(2018,7,1),\"-\",INDEX('Annual Inflation'!$AM$52:$AT$52, MATCH(YEAR(EOMONTH($A206,6)), 'Annual Inflation'!$AM$6:$AT$6, 0))/100)","v":"-"},{"$f":"IF($A206<DATE(2018,7,1),\"-\",INDEX('Annual Inflation'!$AM$49:$AT$49, MATCH(YEAR(EOMONTH($A206,6)), 'Annual Inflation'!$AM$6:$AT$6, 0))/100)","v":"-"},100.6,261.39999999999998,261.39999999999998]
["2016-05-01",2017,100.8,262.10000000000002,{"$f":"IF($A207<DATE(2018,7,1),\"-\",INDEX('Annual Inflation'!$AM$52:$AT$52, MATCH(YEAR(EOMONTH($A207,6)), 'Annual Inflation'!$AM$6:$AT$6, 0))/100)","v":"-"},{"$f":"IF($A207<DATE(2018,7,1),\"-\",INDEX('Annual Inflation'!$AM$49:$AT$49, MATCH(YEAR(EOMONTH($A207,6)), 'Annual Inflation'!$AM$6:$AT$6, 0))/100)","v":"-"},100.8,262.10000000000002,262.10000000000002]
["2016-06-01",2017,101,263.10000000000002,{"$f":"IF($A208<DATE(2018,7,1),\"-\",INDEX('Annual Inflation'!$AM$52:$AT$52, MATCH(YEAR(EOMONTH($A208,6)), 'Annual Inflation'!$AM$6:$AT$6, 0))/100)","v":"-"},{"$f":"IF($A208<DATE(2018,7,1),\"-\",INDEX('Annual Inflation'!$AM$49:$AT$49, MATCH(YEAR(EOMONTH($A208,6)), 'Annual Inflation'!$AM$6:$AT$6, 0))/100)","v":"-"},101,263.10000000000002,263.10000000000002]
["2016-07-01",2017,100.9,263.39999999999998,{"$f":"IF($A209<DATE(2018,7,1),\"-\",INDEX('Annual Inflation'!$AM$52:$AT$52, MATCH(YEAR(EOMONTH($A209,6)), 'Annual Inflation'!$AM$6:$AT$6, 0))/100)","v":"-"},{"$f":"IF($A209<DATE(2018,7,1),\"-\",INDEX('Annual Inflation'!$AM$49:$AT$49, MATCH(YEAR(EOMONTH($A209,6)), 'Annual Inflation'!$AM$6:$AT$6, 0))/100)","v":"-"},100.9,263.39999999999998,263.39999999999998]
["2016-08-01",2017,101.2,264.39999999999998,{"$f":"IF($A210<DATE(2018,7,1),\"-\",INDEX('Annual Inflation'!$AM$52:$AT$52, MATCH(YEAR(EOMONTH($A210,6)), 'Annual Inflation'!$AM$6:$AT$6, 0))/100)","v":"-"},{"$f":"IF($A210<DATE(2018,7,1),\"-\",INDEX('Annual Inflation'!$AM$49:$AT$49, MATCH(YEAR(EOMONTH($A210,6)), 'Annual Inflation'!$AM$6:$AT$6, 0))/100)","v":"-"},101.2,264.39999999999998,264.39999999999998]
["2016-09-01",2017,101.5,264.89999999999998,{"$f":"IF($A211<DATE(2018,7,1),\"-\",INDEX('Annual Inflation'!$AM$52:$AT$52, MATCH(YEAR(EOMONTH($A211,6)), 'Annual Inflation'!$AM$6:$AT$6, 0))/100)","v":"-"},{"$f":"IF($A211<DATE(2018,7,1),\"-\",INDEX('Annual Inflation'!$AM$49:$AT$49, MATCH(YEAR(EOMONTH($A211,6)), 'Annual Inflation'!$AM$6:$AT$6, 0))/100)","v":"-"},101.5,264.89999999999998,264.89999999999998]
["2016-10-01",2017,101.6,264.8,{"$f":"IF($A212<DATE(2018,7,1),\"-\",INDEX('Annual Inflation'!$AM$52:$AT$52, MATCH(YEAR(EOMONTH($A212,6)), 'Annual Inflation'!$AM$6:$AT$6, 0))/100)","v":"-"},{"$f":"IF($A212<DATE(2018,7,1),\"-\",INDEX('Annual Inflation'!$AM$49:$AT$49, MATCH(YEAR(EOMONTH($A212,6)), 'Annual Inflation'!$AM$6:$AT$6, 0))/100)","v":"-"},101.6,264.8,264.8]
["2016-11-01",2017,101.8,265.5,{"$f":"IF($A213<DATE(2018,7,1),\"-\",INDEX('Annual Inflation'!$AM$52:$AT$52, MATCH(YEAR(EOMONTH($A213,6)), 'Annual Inflation'!$AM$6:$AT$6, 0))/100)","v":"-"},{"$f":"IF($A213<DATE(2018,7,1),\"-\",INDEX('Annual Inflation'!$AM$49:$AT$49, MATCH(YEAR(EOMONTH($A213,6)), 'Annual Inflation'!$AM$6:$AT$6, 0))/100)","v":"-"},101.8,265.5,265.5]
["2016-12-01",2017,102.2,267.10000000000002,{"$f":"IF($A214<DATE(2018,7,1),\"-\",INDEX('Annual Inflation'!$AM$52:$AT$52, MATCH(YEAR(EOMONTH($A214,6)), 'Annual Inflation'!$AM$6:$AT$6, 0))/100)","v":"-"},{"$f":"IF($A214<DATE(2018,7,1),\"-\",INDEX('Annual Inflation'!$AM$49:$AT$49, MATCH(YEAR(EOMONTH($A214,6)), 'Annual Inflation'!$AM$6:$AT$6, 0))/100)","v":"-"},102.2,267.10000000000002,267.10000000000002]
["2017-01-01",2017,101.8,265.5,{"$f":"IF($A215<DATE(2018,7,1),\"-\",INDEX('Annual Inflation'!$AM$52:$AT$52, MATCH(YEAR(EOMONTH($A215,6)), 'Annual Inflation'!$AM$6:$AT$6, 0))/100)","v":"-"},{"$f":"IF($A215<DATE(2018,7,1),\"-\",INDEX('Annual Inflation'!$AM$49:$AT$49, MATCH(YEAR(EOMONTH($A215,6)), 'Annual Inflation'!$AM$6:$AT$6, 0))/100)","v":"-"},101.8,265.5,265.5]
["2017-02-01",2017,102.4,268.39999999999998,{"$f":"IF($A216<DATE(2018,7,1),\"-\",INDEX('Annual Inflation'!$AM$52:$AT$52, MATCH(YEAR(EOMONTH($A216,6)), 'Annual Inflation'!$AM$6:$AT$6, 0))/100)","v":"-"},{"$f":"IF($A216<DATE(2018,7,1),\"-\",INDEX('Annual Inflation'!$AM$49:$AT$49, MATCH(YEAR(EOMONTH($A216,6)), 'Annual Inflation'!$AM$6:$AT$6, 0))/100)","v":"-"},102.4,268.39999999999998,268.39999999999998]
["2017-03-01",2017,102.7,269.3,{"$f":"IF($A217<DATE(2018,7,1),\"-\",INDEX('Annual Inflation'!$AM$52:$AT$52, MATCH(YEAR(EOMONTH($A217,6)), 'Annual Inflation'!$AM$6:$AT$6, 0))/100)","v":"-"},{"$f":"IF($A217<DATE(2018,7,1),\"-\",INDEX('Annual Inflation'!$AM$49:$AT$49, MATCH(YEAR(EOMONTH($A217,6)), 'Annual Inflation'!$AM$6:$AT$6, 0))/100)","v":"-"},102.7,269.3,269.3]
["2017-04-01",2018,103.2,270.60000000000002,{"$f":"IF($A218<DATE(2018,7,1),\"-\",INDEX('Annual Inflation'!$AM$52:$AT$52, MATCH(YEAR(EOMONTH($A218,6)), 'Annual Inflation'!$AM$6:$AT$6, 0))/100)","v":"-"},{"$f":"IF($A218<DATE(2018,7,1),\"-\",INDEX('Annual Inflation'!$AM$49:$AT$49, MATCH(YEAR(EOMONTH($A218,6)), 'Annual Inflation'!$AM$6:$AT$6, 0))/100)","v":"-"},103.2,270.60000000000002,270.60000000000002]
["2017-05-01",2018,103.5,271.7,{"$f":"IF($A219<DATE(2018,7,1),\"-\",INDEX('Annual Inflation'!$AM$52:$AT$52, MATCH(YEAR(EOMONTH($A219,6)), 'Annual Inflation'!$AM$6:$AT$6, 0))/100)","v":"-"},{"$f":"IF($A219<DATE(2018,7,1),\"-\",INDEX('Annual Inflation'!$AM$49:$AT$49, MATCH(YEAR(EOMONTH($A219,6)), 'Annual Inflation'!$AM$6:$AT$6, 0))/100)","v":"-"},103.5,271.7,271.7]
["2017-06-01",2018,103.5,272.3,{"$f":"IF($A220<DATE(2018,7,1),\"-\",INDEX('Annual Inflation'!$AM$52:$AT$52, MATCH(YEAR(EOMONTH($A220,6)), 'Annual Inflation'!$AM$6:$AT$6, 0))/100)","v":"-"},{"$f":"IF($A220<DATE(2018,7,1),\"-\",INDEX('Annual Inflation'!$AM$49:$AT$49, MATCH(YEAR(EOMONTH($A220,6)), 'Annual Inflation'!$AM$6:$AT$6, 0))/100)","v":"-"},103.5,272.3,272.3]
["2017-07-01",2018,103.5,272.89999999999998,{"$f":"IF($A221<DATE(2018,7,1),\"-\",INDEX('Annual Inflation'!$AM$52:$AT$52, MATCH(YEAR(EOMONTH($A221,6)), 'Annual Inflation'!$AM$6:$AT$6, 0))/100)","v":"-"},{"$f":"IF($A221<DATE(2018,7,1),\"-\",INDEX('Annual Inflation'!$AM$49:$AT$49, MATCH(YEAR(EOMONTH($A221,6)), 'Annual Inflation'!$AM$6:$AT$6, 0))/100)","v":"-"},103.5,272.89999999999998,272.89999999999998]
["2017-08-01",2018,104,274.7,{"$f":"IF($A222<DATE(2018,7,1),\"-\",INDEX('Annual Inflation'!$AM$52:$AT$52, MATCH(YEAR(EOMONTH($A222,6)), 'Annual Inflation'!$AM$6:$AT$6, 0))/100)","v":"-"},{"$f":"IF($A222<DATE(2018,7,1),\"-\",INDEX('Annual Inflation'!$AM$49:$AT$49, MATCH(YEAR(EOMONTH($A222,6)), 'Annual Inflation'!$AM$6:$AT$6, 0))/100)","v":"-"},104,274.7,274.7]
["2017-09-01",2018,104.3,275.10000000000002,{"$f":"IF($A223<DATE(2018,7,1),\"-\",INDEX('Annual Inflation'!$AM$52:$AT$52, MATCH(YEAR(EOMONTH($A223,6)), 'Annual Inflation'!$AM$6:$AT$6, 0))/100)","v":"-"},{"$f":"IF($A223<DATE(2018,7,1),\"-\",INDEX('Annual Inflation'!$AM$49:$AT$49, MATCH(YEAR(EOMONTH($A223,6)), 'Annual Inflation'!$AM$6:$AT$6, 0))/100)","v":"-"},104.3,275.10000000000002,275.10000000000002]
["2017-10-01",2018,104.4,275.3,{"$f":"IF($A224<DATE(2018,7,1),\"-\",INDEX('Annual Inflation'!$AM$52:$AT$52, MATCH(YEAR(EOMONTH($A224,6)), 'Annual Inflation'!$AM$6:$AT$6, 0))/100)","v":"-"},{"$f":"IF($A224<DATE(2018,7,1),\"-\",INDEX('Annual Inflation'!$AM$49:$AT$49, MATCH(YEAR(EOMONTH($A224,6)), 'Annual Inflation'!$AM$6:$AT$6, 0))/100)","v":"-"},104.4,275.3,275.3]
["2017-11-01",2018,104.7,275.8,{"$f":"IF($A225<DATE(2018,7,1),\"-\",INDEX('Annual Inflation'!$AM$52:$AT$52, MATCH(YEAR(EOMONTH($A225,6)), 'Annual Inflation'!$AM$6:$AT$6, 0))/100)","v":"-"},{"$f":"IF($A225<DATE(2018,7,1),\"-\",INDEX('Annual Inflation'!$AM$49:$AT$49, MATCH(YEAR(EOMONTH($A225,6)), 'Annual Inflation'!$AM$6:$AT$6, 0))/100)","v":"-"},104.7,275.8,275.8]
["2017-12-01",2018,105,278.10000000000002,{"$f":"IF($A226<DATE(2018,7,1),\"-\",INDEX('Annual Inflation'!$AM$52:$AT$52, MATCH(YEAR(EOMONTH($A226,6)), 'Annual Inflation'!$AM$6:$AT$6, 0))/100)","v":"-"},{"$f":"IF($A226<DATE(2018,7,1),\"-\",INDEX('Annual Inflation'!$AM$49:$AT$49, MATCH(YEAR(EOMONTH($A226,6)), 'Annual Inflation'!$AM$6:$AT$6, 0))/100)","v":"-"},105,278.10000000000002,278.10000000000002]
["2018-01-01",2018,104.5,276,{"$f":"IF($A227<DATE(2018,7,1),\"-\",INDEX('Annual Inflation'!$AM$52:$AT$52, MATCH(YEAR(EOMONTH($A227,6)), 'Annual Inflation'!$AM$6:$AT$6, 0))/100)","v":"-"},{"$f":"IF($A227<DATE(2018,7,1),\"-\",INDEX('Annual Inflation'!$AM$49:$AT$49, MATCH(YEAR(EOMONTH($A227,6)), 'Annual Inflation'!$AM$6:$AT$6, 0))/100)","v":"-"},104.5,276,276]
["2018-02-01",2018,104.9,278.10000000000002,{"$f":"IF($A228<DATE(2018,7,1),\"-\",INDEX('Annual Inflation'!$AM$52:$AT$52, MATCH(YEAR(EOMONTH($A228,6)), 'Annual Inflation'!$AM$6:$AT$6, 0))/100)","v":"-"},{"$f":"IF($A228<DATE(2018,7,1),\"-\",INDEX('Annual Inflation'!$AM$49:$AT$49, MATCH(YEAR(EOMONTH($A228,6)), 'Annual Inflation'!$AM$6:$AT$6, 0))/100)","v":"-"},104.9,278.10000000000002,278.10000000000002]
["2018-03-01",2018,105.1,278.3,{"$f":"IF($A229<DATE(2018,7,1),\"-\",INDEX('Annual Inflation'!$AM$52:$AT$52, MATCH(YEAR(EOMONTH($A229,6)), 'Annual Inflation'!$AM$6:$AT$6, 0))/100)","v":"-"},{"$f":"IF($A229<DATE(2018,7,1),\"-\",INDEX('Annual Inflation'!$AM$49:$AT$49, MATCH(YEAR(EOMONTH($A229,6)), 'Annual Inflation'!$AM$6:$AT$6, 0))/100)","v":"-"},105.1,278.3,278.3]
["2018-04-01",2019,105.5,279.7,{"$f":"IF($A230<DATE(2018,7,1),\"-\",INDEX('Annual Inflation'!$AM$52:$AT$52, MATCH(YEAR(EOMONTH($A230,6)), 'Annual Inflation'!$AM$6:$AT$6, 0))/100)","v":"-"},{"$f":"IF($A230<DATE(2018,7,1),\"-\",INDEX('Annual Inflation'!$AM$49:$AT$49, MATCH(YEAR(EOMONTH($A230,6)), 'Annual Inflation'!$AM$6:$AT$6, 0))/100)","v":"-"},105.5,279.7,279.7]
["2018-05-01",2019,105.9,280.7,{"$f":"IF($A231<DATE(2018,7,1),\"-\",INDEX('Annual Inflation'!$AM$52:$AT$52, MATCH(YEAR(EOMONTH($A231,6)), 'Annual Inflation'!$AM$6:$AT$6, 0))/100)","v":"-"},{"$f":"IF($A231<DATE(2018,7,1),\"-\",INDEX('Annual Inflation'!$AM$49:$AT$49, MATCH(YEAR(EOMONTH($A231,6)), 'Annual Inflation'!$AM$6:$AT$6, 0))/100)","v":"-"},105.9,280.7,280.7]
["2018-06-01",2019,105.9,281.5,{"$f":"IF($A232<DATE(2018,7,1),\"-\",INDEX('Annual Inflation'!$AM$52:$AT$52, MATCH(YEAR(EOMONTH($A232,6)), 'Annual Inflation'!$AM$6:$AT$6, 0))/100)","v":"-"},{"$f":"IF($A232<DATE(2018,7,1),\"-\",INDEX('Annual Inflation'!$AM$49:$AT$49, MATCH(YEAR(EOMONTH($A232,6)), 'Annual Inflation'!$AM$6:$AT$6, 0))/100)","v":"-"},105.9,281.5,281.5]
["2018-07-01",2019,105.9,281.7,{"$f":"IF($A233<DATE(2018,7,1),\"-\",INDEX('Annual Inflation'!$AM$52:$AT$52, MATCH(YEAR(EOMONTH($A233,6)), 'Annual Inflation'!$AM$6:$AT$6, 0))/100)","v":1.7910205867057716E-2},{"$f":"IF($A233<DATE(2018,7,1),\"-\",INDEX('Annual Inflation'!$AM$49:$AT$49, MATCH(YEAR(EOMONTH($A233,6)), 'Annual Inflation'!$AM$6:$AT$6, 0))/100)","v":2.5628884588821732E-2},105.9,281.7,281.7]
["2018-08-01",2019,106.5,284.2,{"$f":"IF($A234<DATE(2018,7,1),\"-\",INDEX('Annual Inflation'!$AM$52:$AT$52, MATCH(YEAR(EOMONTH($A234,6)), 'Annual Inflation'!$AM$6:$AT$6, 0))/100)","v":1.7910205867057716E-2},{"$f":"IF($A234<DATE(2018,7,1),\"-\",INDEX('Annual Inflation'!$AM$49:$AT$49, MATCH(YEAR(EOMONTH($A234,6)), 'Annual Inflation'!$AM$6:$AT$6, 0))/100)","v":2.5628884588821732E-2},106.5,284.2,284.2]
["2018-09-01",2019,106.6,284.10000000000002,{"$f":"IF($A235<DATE(2018,7,1),\"-\",INDEX('Annual Inflation'!$AM$52:$AT$52, MATCH(YEAR(EOMONTH($A235,6)), 'Annual Inflation'!$AM$6:$AT$6, 0))/100)","v":1.7910205867057716E-2},{"$f":"IF($A235<DATE(2018,7,1),\"-\",INDEX('Annual Inflation'!$AM$49:$AT$49, MATCH(YEAR(EOMONTH($A235,6)), 'Annual Inflation'!$AM$6:$AT$6, 0))/100)","v":2.5628884588821732E-2},106.6,284.10000000000002,284.10000000000002]
["2018-10-01",2019,106.7,284.5,{"$f":"IF($A236<DATE(2018,7,1),\"-\",INDEX('Annual Inflation'!$AM$52:$AT$52, MATCH(YEAR(EOMONTH($A236,6)), 'Annual Inflation'!$AM$6:$AT$6, 0))/100)","v":1.7910205867057716E-2},{"$f":"IF($A236<DATE(2018,7,1),\"-\",INDEX('Annual Inflation'!$AM$49:$AT$49, MATCH(YEAR(EOMONTH($A236,6)), 'Annual Inflation'!$AM$6:$AT$6, 0))/100)","v":2.5628884588821732E-2},106.7,284.5,284.5]
["2018-11-01",2019,106.9,284.60000000000002,{"$f":"IF($A237<DATE(2018,7,1),\"-\",INDEX('Annual Inflation'!$AM$52:$AT$52, MATCH(YEAR(EOMONTH($A237,6)), 'Annual Inflation'!$AM$6:$AT$6, 0))/100)","v":1.7910205867057716E-2},{"$f":"IF($A237<DATE(2018,7,1),\"-\",INDEX('Annual Inflation'!$AM$49:$AT$49, MATCH(YEAR(EOMONTH($A237,6)), 'Annual Inflation'!$AM$6:$AT$6, 0))/100)","v":2.5628884588821732E-2},106.9,284.60000000000002,284.60000000000002]
["2018-12-01",2019,107.1,285.60000000000002,{"$f":"IF($A238<DATE(2018,7,1),\"-\",INDEX('Annual Inflation'!$AM$52:$AT$52, MATCH(YEAR(EOMONTH($A238,6)), 'Annual Inflation'!$AM$6:$AT$6, 0))/100)","v":1.7910205867057716E-2},{"$f":"IF($A238<DATE(2018,7,1),\"-\",INDEX('Annual Inflation'!$AM$49:$AT$49, MATCH(YEAR(EOMONTH($A238,6)), 'Annual Inflation'!$AM$6:$AT$6, 0))/100)","v":2.5628884588821732E-2},107.1,285.60000000000002,285.60000000000002]
["2019-01-01",2019,106.4,283,{"$f":"IF($A239<DATE(2018,7,1),\"-\",INDEX('Annual Inflation'!$AM$52:$AT$52, MATCH(YEAR(EOMONTH($A239,6)), 'Annual Inflation'!$AM$6:$AT$6, 0))/100)","v":1.7910205867057716E-2},{"$f":"IF($A239<DATE(2018,7,1),\"-\",INDEX('Annual Inflation'!$AM$49:$AT$49, MATCH(YEAR(EOMONTH($A239,6)), 'Annual Inflation'!$AM$6:$AT$6, 0))/100)","v":2.5628884588821732E-2},106.4,283,283]
["2019-02-01",2019,106.8,285,{"$f":"IF($A240<DATE(2018,7,1),\"-\",INDEX('Annual Inflation'!$AM$52:$AT$52, MATCH(YEAR(EOMONTH($A240,6)), 'Annual Inflation'!$AM$6:$AT$6, 0))/100)","v":1.7910205867057716E-2},{"$f":"IF($A240<DATE(2018,7,1),\"-\",INDEX('Annual Inflation'!$AM$49:$AT$49, MATCH(YEAR(EOMONTH($A240,6)), 'Annual Inflation'!$AM$6:$AT$6, 0))/100)","v":2.5628884588821732E-2},106.8,285,285]
["2019-03-01",2019,107,285.10000000000002,{"$f":"IF($A241<DATE(2018,7,1),\"-\",INDEX('Annual Inflation'!$AM$52:$AT$52, MATCH(YEAR(EOMONTH($A241,6)), 'Annual Inflation'!$AM$6:$AT$6, 0))/100)","v":1.7910205867057716E-2},{"$f":"IF($A241<DATE(2018,7,1),\"-\",INDEX('Annual Inflation'!$AM$49:$AT$49, MATCH(YEAR(EOMONTH($A241,6)), 'Annual Inflation'!$AM$6:$AT$6, 0))/100)","v":2.5628884588821732E-2},107,285.10000000000002,285.10000000000002]
["2019-04-01",2020,107.6,288.2,{"$f":"IF($A242<DATE(2018,7,1),\"-\",INDEX('Annual Inflation'!$AM$52:$AT$52, MATCH(YEAR(EOMONTH($A242,6)), 'Annual Inflation'!$AM$6:$AT$6, 0))/100)","v":1.7910205867057716E-2},{"$f":"IF($A242<DATE(2018,7,1),\"-\",INDEX('Annual Inflation'!$AM$49:$AT$49, MATCH(YEAR(EOMONTH($A242,6)), 'Annual Inflation'!$AM$6:$AT$6, 0))/100)","v":2.5628884588821732E-2},107.6,288.2,288.2]
["2019-05-01",2020,107.9,289.2,{"$f":"IF($A243<DATE(2018,7,1),\"-\",INDEX('Annual Inflation'!$AM$52:$AT$52, MATCH(YEAR(EOMONTH($A243,6)), 'Annual Inflation'!$AM$6:$AT$6, 0))/100)","v":1.7910205867057716E-2},{"$f":"IF($A243<DATE(2018,7,1),\"-\",INDEX('Annual Inflation'!$AM$49:$AT$49, MATCH(YEAR(EOMONTH($A243,6)), 'Annual Inflation'!$AM$6:$AT$6, 0))/100)","v":2.5628884588821732E-2},107.9,289.2,289.2]
["2019-06-01",2020,107.9,289.60000000000002,{"$f":"IF($A244<DATE(2018,7,1),\"-\",INDEX('Annual Inflation'!$AM$52:$AT$52, MATCH(YEAR(EOMONTH($A244,6)), 'Annual Inflation'!$AM$6:$AT$6, 0))/100)","v":1.7910205867057716E-2},{"$f":"IF($A244<DATE(2018,7,1),\"-\",INDEX('Annual Inflation'!$AM$49:$AT$49, MATCH(YEAR(EOMONTH($A244,6)), 'Annual Inflation'!$AM$6:$AT$6, 0))/100)","v":2.5628884588821732E-2},107.9,289.60000000000002,289.60000000000002]
["2019-07-01",2020,108,289.5,{"$f":"IF($A245<DATE(2018,7,1),\"-\",INDEX('Annual Inflation'!$AM$52:$AT$52, MATCH(YEAR(EOMONTH($A245,6)), 'Annual Inflation'!$AM$6:$AT$6, 0))/100)","v":8.4343654728658013E-3},{"$f":"IF($A245<DATE(2018,7,1),\"-\",INDEX('Annual Inflation'!$AM$49:$AT$49, MATCH(YEAR(EOMONTH($A245,6)), 'Annual Inflation'!$AM$6:$AT$6, 0))/100)","v":1.4580811980609454E-2},108,289.5,289.5]
["2019-08-01",2020,108.3,291.7,{"$f":"IF($A246<DATE(2018,7,1),\"-\",INDEX('Annual Inflation'!$AM$52:$AT$52, MATCH(YEAR(EOMONTH($A246,6)), 'Annual Inflation'!$AM$6:$AT$6, 0))/100)","v":8.4343654728658013E-3},{"$f":"IF($A246<DATE(2018,7,1),\"-\",INDEX('Annual Inflation'!$AM$49:$AT$49, MATCH(YEAR(EOMONTH($A246,6)), 'Annual Inflation'!$AM$6:$AT$6, 0))/100)","v":1.4580811980609454E-2},108.3,291.7,291.7]
["2019-09-01",2020,108.4,291,{"$f":"IF($A247<DATE(2018,7,1),\"-\",INDEX('Annual Inflation'!$AM$52:$AT$52, MATCH(YEAR(EOMONTH($A247,6)), 'Annual Inflation'!$AM$6:$AT$6, 0))/100)","v":8.4343654728658013E-3},{"$f":"IF($A247<DATE(2018,7,1),\"-\",INDEX('Annual Inflation'!$AM$49:$AT$49, MATCH(YEAR(EOMONTH($A247,6)), 'Annual Inflation'!$AM$6:$AT$6, 0))/100)","v":1.4580811980609454E-2},108.4,291,291]
["2019-10-01",2020,108.3,290.39999999999998,{"$f":"IF($A248<DATE(2018,7,1),\"-\",INDEX('Annual Inflation'!$AM$52:$AT$52, MATCH(YEAR(EOMONTH($A248,6)), 'Annual Inflation'!$AM$6:$AT$6, 0))/100)","v":8.4343654728658013E-3},{"$f":"IF($A248<DATE(2018,7,1),\"-\",INDEX('Annual Inflation'!$AM$49:$AT$49, MATCH(YEAR(EOMONTH($A248,6)), 'Annual Inflation'!$AM$6:$AT$6, 0))/100)","v":1.4580811980609454E-2},108.3,290.39999999999998,290.39999999999998]
["2019-11-01",2020,108.5,291,{"$f":"IF($A249<DATE(2018,7,1),\"-\",INDEX('Annual Inflation'!$AM$52:$AT$52, MATCH(YEAR(EOMONTH($A249,6)), 'Annual Inflation'!$AM$6:$AT$6, 0))/100)","v":8.4343654728658013E-3},{"$f":"IF($A249<DATE(2018,7,1),\"-\",INDEX('Annual Inflation'!$AM$49:$AT$49, MATCH(YEAR(EOMONTH($A249,6)), 'Annual Inflation'!$AM$6:$AT$6, 0))/100)","v":1.4580811980609454E-2},108.5,291,291]
["2019-12-01",2020,108.5,291.89999999999998,{"$f":"IF($A250<DATE(2018,7,1),\"-\",INDEX('Annual Inflation'!$AM$52:$AT$52, MATCH(YEAR(EOMONTH($A250,6)), 'Annual Inflation'!$AM$6:$AT$6, 0))/100)","v":8.4343654728658013E-3},{"$f":"IF($A250<DATE(2018,7,1),\"-\",INDEX('Annual Inflation'!$AM$49:$AT$49, MATCH(YEAR(EOMONTH($A250,6)), 'Annual Inflation'!$AM$6:$AT$6, 0))/100)","v":1.4580811980609454E-2},108.5,291.89999999999998,291.89999999999998]
["2020-01-01",2020,108.3,290.60000000000002,{"$f":"IF($A251<DATE(2018,7,1),\"-\",INDEX('Annual Inflation'!$AM$52:$AT$52, MATCH(YEAR(EOMONTH($A251,6)), 'Annual Inflation'!$AM$6:$AT$6, 0))/100)","v":8.4343654728658013E-3},{"$f":"IF($A251<DATE(2018,7,1),\"-\",INDEX('Annual Inflation'!$AM$49:$AT$49, MATCH(YEAR(EOMONTH($A251,6)), 'Annual Inflation'!$AM$6:$AT$6, 0))/100)","v":1.4580811980609454E-2},108.3,290.60000000000002,290.60000000000002]
["2020-02-01",2020,108.6,292,{"$f":"IF($A252<DATE(2018,7,1),\"-\",INDEX('Annual Inflation'!$AM$52:$AT$52, MATCH(YEAR(EOMONTH($A252,6)), 'Annual Inflation'!$AM$6:$AT$6, 0))/100)","v":8.4343654728658013E-3},{"$f":"IF($A252<DATE(2018,7,1),\"-\",INDEX('Annual Inflation'!$AM$49:$AT$49, MATCH(YEAR(EOMONTH($A252,6)), 'Annual Inflation'!$AM$6:$AT$6, 0))/100)","v":1.4580811980609454E-2},108.6,292,292]
["2020-03-01",2020,108.6,292.60000000000002,{"$f":"IF($A253<DATE(2018,7,1),\"-\",INDEX('Annual Inflation'!$AM$52:$AT$52, MATCH(YEAR(EOMONTH($A253,6)), 'Annual Inflation'!$AM$6:$AT$6, 0))/100)","v":8.4343654728658013E-3},{"$f":"IF($A253<DATE(2018,7,1),\"-\",INDEX('Annual Inflation'!$AM$49:$AT$49, MATCH(YEAR(EOMONTH($A253,6)), 'Annual Inflation'!$AM$6:$AT$6, 0))/100)","v":1.4580811980609454E-2},108.6,292.60000000000002,292.60000000000002]
["2020-04-01",2021,108.6,292.60000000000002,{"$f":"IF($A254<DATE(2018,7,1),\"-\",INDEX('Annual Inflation'!$AM$52:$AT$52, MATCH(YEAR(EOMONTH($A254,6)), 'Annual Inflation'!$AM$6:$AT$6, 0))/100)","v":8.4343654728658013E-3},{"$f":"IF($A254<DATE(2018,7,1),\"-\",INDEX('Annual Inflation'!$AM$49:$AT$49, MATCH(YEAR(EOMONTH($A254,6)), 'Annual Inflation'!$AM$6:$AT$6, 0))/100)","v":1.4580811980609454E-2},108.6,292.60000000000002,292.60000000000002]
["2020-05-01",2021,108.6,292.2,{"$f":"IF($A255<DATE(2018,7,1),\"-\",INDEX('Annual Inflation'!$AM$52:$AT$52, MATCH(YEAR(EOMONTH($A255,6)), 'Annual Inflation'!$AM$6:$AT$6, 0))/100)","v":8.4343654728658013E-3},{"$f":"IF($A255<DATE(2018,7,1),\"-\",INDEX('Annual Inflation'!$AM$49:$AT$49, MATCH(YEAR(EOMONTH($A255,6)), 'Annual Inflation'!$AM$6:$AT$6, 0))/100)","v":1.4580811980609454E-2},108.6,292.2,292.2]
["2020-06-01",2021,108.8,292.7,{"$f":"IF($A256<DATE(2018,7,1),\"-\",INDEX('Annual Inflation'!$AM$52:$AT$52, MATCH(YEAR(EOMONTH($A256,6)), 'Annual Inflation'!$AM$6:$AT$6, 0))/100)","v":8.4343654728658013E-3},{"$f":"IF($A256<DATE(2018,7,1),\"-\",INDEX('Annual Inflation'!$AM$49:$AT$49, MATCH(YEAR(EOMONTH($A256,6)), 'Annual Inflation'!$AM$6:$AT$6, 0))/100)","v":1.4580811980609454E-2},108.8,292.7,292.7]
["2020-07-01",2021,109.2,294.2,{"$f":"IF($A257<DATE(2018,7,1),\"-\",INDEX('Annual Inflation'!$AM$52:$AT$52, MATCH(YEAR(EOMONTH($A257,6)), 'Annual Inflation'!$AM$6:$AT$6, 0))/100)","v":1.167775999933629E-2},{"$f":"IF($A257<DATE(2018,7,1),\"-\",INDEX('Annual Inflation'!$AM$49:$AT$49, MATCH(YEAR(EOMONTH($A257,6)), 'Annual Inflation'!$AM$6:$AT$6, 0))/100)","v":1.3658876595147973E-2},109.2,294.2,294.2]
["2020-08-01",2021,108.8,293.3,{"$f":"IF($A258<DATE(2018,7,1),\"-\",INDEX('Annual Inflation'!$AM$52:$AT$52, MATCH(YEAR(EOMONTH($A258,6)), 'Annual Inflation'!$AM$6:$AT$6, 0))/100)","v":1.167775999933629E-2},{"$f":"IF($A258<DATE(2018,7,1),\"-\",INDEX('Annual Inflation'!$AM$49:$AT$49, MATCH(YEAR(EOMONTH($A258,6)), 'Annual Inflation'!$AM$6:$AT$6, 0))/100)","v":1.3658876595147973E-2},108.8,293.3,293.3]
["2020-09-01",{"$f":"IF(MONTH(A259)>=4,YEAR(A259)+1,YEAR(A259))","v":2021},109.2,294.3,{"$f":"IF($A259<DATE(2018,7,1),\"-\",INDEX('Annual Inflation'!$AM$52:$AT$52, MATCH(YEAR(EOMONTH($A259,6)), 'Annual Inflation'!$AM$6:$AT$6, 0))/100)","v":1.167775999933629E-2},{"$f":"IF($A259<DATE(2018,7,1),\"-\",INDEX('Annual Inflation'!$AM$49:$AT$49, MATCH(YEAR(EOMONTH($A259,6)), 'Annual Inflation'!$AM$6:$AT$6, 0))/100)","v":1.3658876595147973E-2},{"$f":"IF(ISBLANK(C259),G258*((1+E259)^(1/12)),C259)","v":109.2},{"$f":"IF(ISBLANK(D259),H258*((1+F259)^(1/12)),D259)","v":294.3},{"$f":"IF($A259<DATE(2021,4,1),H259,IF(A259=DATE(2021,4,1),I258*((0.5*G259/G258)+(0.5*H259/H258)),I258*(G259/G258)))","v":294.3}]
["2020-10-01",2021,109.2,294.3,{"$f":"IF($A260<DATE(2018,7,1),\"-\",INDEX('Annual Inflation'!$AM$52:$AT$52, MATCH(YEAR(EOMONTH($A260,6)), 'Annual Inflation'!$AM$6:$AT$6, 0))/100)","v":1.167775999933629E-2},{"$f":"IF($A260<DATE(2018,7,1),\"-\",INDEX('Annual Inflation'!$AM$49:$AT$49, MATCH(YEAR(EOMONTH($A260,6)), 'Annual Inflation'!$AM$6:$AT$6, 0))/100)","v":1.3658876595147973E-2},109.2,294.3,294.3]
["2020-11-01",2021,null,null,{"$f":"IF($A261<DATE(2018,7,1),\"-\",INDEX('Annual Inflation'!$AM$52:$AT$52, MATCH(YEAR(EOMONTH($A261,6)), 'Annual Inflation'!$AM$6:$AT$6, 0))/100)","v":1.167775999933629E-2},{"$f":"IF($A261<DATE(2018,7,1),\"-\",INDEX('Annual Inflation'!$AM$49:$AT$49, MATCH(YEAR(EOMONTH($A261,6)), 'Annual Inflation'!$AM$6:$AT$6, 0))/100)","v":1.3658876595147973E-2},109.30570304684352,294.63290496237676,294.63290496237676]
["2020-12-01",2021,null,null,{"$f":"IF($A262<DATE(2018,7,1),\"-\",INDEX('Annual Inflation'!$AM$52:$AT$52, MATCH(YEAR(EOMONTH($A262,6)), 'Annual Inflation'!$AM$6:$AT$6, 0))/100)","v":1.167775999933629E-2},{"$f":"IF($A262<DATE(2018,7,1),\"-\",INDEX('Annual Inflation'!$AM$49:$AT$49, MATCH(YEAR(EOMONTH($A262,6)), 'Annual Inflation'!$AM$6:$AT$6, 0))/100)","v":1.3658876595147973E-2},109.41150841176498,294.96618649870516,294.96618649870516]
["2021-01-01",2021,null,null,{"$f":"IF($A263<DATE(2018,7,1),\"-\",INDEX('Annual Inflation'!$AM$52:$AT$52, MATCH(YEAR(EOMONTH($A263,6)), 'Annual Inflation'!$AM$6:$AT$6, 0))/100)","v":1.167775999933629E-2},{"$f":"IF($A263<DATE(2018,7,1),\"-\",INDEX('Annual Inflation'!$AM$49:$AT$49, MATCH(YEAR(EOMONTH($A263,6)), 'Annual Inflation'!$AM$6:$AT$6, 0))/100)","v":1.3658876595147973E-2},109.51741619380591,295.29984503495649,295.29984503495649]
["2021-02-01",2021,null,null,{"$f":"IF($A264<DATE(2018,7,1),\"-\",INDEX('Annual Inflation'!$AM$52:$AT$52, MATCH(YEAR(EOMONTH($A264,6)), 'Annual Inflation'!$AM$6:$AT$6, 0))/100)","v":1.167775999933629E-2},{"$f":"IF($A264<DATE(2018,7,1),\"-\",INDEX('Annual Inflation'!$AM$49:$AT$49, MATCH(YEAR(EOMONTH($A264,6)), 'Annual Inflation'!$AM$6:$AT$6, 0))/100)","v":1.3658876595147973E-2},109.62342649210368,295.63388099758384,295.63388099758384]
["2021-03-01",2021,null,null,{"$f":"IF($A265<DATE(2018,7,1),\"-\",INDEX('Annual Inflation'!$AM$52:$AT$52, MATCH(YEAR(EOMONTH($A265,6)), 'Annual Inflation'!$AM$6:$AT$6, 0))/100)","v":1.167775999933629E-2},{"$f":"IF($A265<DATE(2018,7,1),\"-\",INDEX('Annual Inflation'!$AM$49:$AT$49, MATCH(YEAR(EOMONTH($A265,6)), 'Annual Inflation'!$AM$6:$AT$6, 0))/100)","v":1.3658876595147973E-2},109.7295394058916,295.96829481352268,295.96829481352268]
["2021-04-01",2022,null,null,{"$f":"IF($A266<DATE(2018,7,1),\"-\",INDEX('Annual Inflation'!$AM$52:$AT$52, MATCH(YEAR(EOMONTH($A266,6)), 'Annual Inflation'!$AM$6:$AT$6, 0))/100)","v":1.167775999933629E-2},{"$f":"IF($A266<DATE(2018,7,1),\"-\",INDEX('Annual Inflation'!$AM$49:$AT$49, MATCH(YEAR(EOMONTH($A266,6)), 'Annual Inflation'!$AM$6:$AT$6, 0))/100)","v":1.3658876595147973E-2},109.8357550344991,296.30308691019138,{"$f":"IF($A266<DATE(2021,4,1),H266,IF(A266=DATE(2021,4,1),I265*((0.5*G266/G265)+(0.5*H266/H265)),I265*(G266/G265)))","v":296.27893605659546}]
["2021-05-01",2022,null,null,{"$f":"IF($A267<DATE(2018,7,1),\"-\",INDEX('Annual Inflation'!$AM$52:$AT$52, MATCH(YEAR(EOMONTH($A267,6)), 'Annual Inflation'!$AM$6:$AT$6, 0))/100)","v":1.167775999933629E-2},{"$f":"IF($A267<DATE(2018,7,1),\"-\",INDEX('Annual Inflation'!$AM$49:$AT$49, MATCH(YEAR(EOMONTH($A267,6)), 'Annual Inflation'!$AM$6:$AT$6, 0))/100)","v":1.3658876595147973E-2},109.94207347735171,296.63825771549193,296.56572713953261]
["2021-06-01",2022,null,null,{"$f":"IF($A268<DATE(2018,7,1),\"-\",INDEX('Annual Inflation'!$AM$52:$AT$52, MATCH(YEAR(EOMONTH($A268,6)), 'Annual Inflation'!$AM$6:$AT$6, 0))/100)","v":1.167775999933629E-2},{"$f":"IF($A268<DATE(2018,7,1),\"-\",INDEX('Annual Inflation'!$AM$49:$AT$49, MATCH(YEAR(EOMONTH($A268,6)), 'Annual Inflation'!$AM$6:$AT$6, 0))/100)","v":1.3658876595147973E-2},110.04849483397122,296.97380765781026,296.85279582953274]
["2021-07-01",2022,null,null,{"$f":"IF($A269<DATE(2018,7,1),\"-\",INDEX('Annual Inflation'!$AM$52:$AT$52, MATCH(YEAR(EOMONTH($A269,6)), 'Annual Inflation'!$AM$6:$AT$6, 0))/100)","v":1.5500225915037413E-2},{"$f":"IF($A269<DATE(2018,7,1),\"-\",INDEX('Annual Inflation'!$AM$49:$AT$49, MATCH(YEAR(EOMONTH($A269,6)), 'Annual Inflation'!$AM$6:$AT$6, 0))/100)","v":1.5464597860319396E-2},110.18964290902206,297.35383654175195,297.23353888983547]
["2021-08-01",2022,null,null,{"$f":"IF($A270<DATE(2018,7,1),\"-\",INDEX('Annual Inflation'!$AM$52:$AT$52, MATCH(YEAR(EOMONTH($A270,6)), 'Annual Inflation'!$AM$6:$AT$6, 0))/100)","v":1.5500225915037413E-2},{"$f":"IF($A270<DATE(2018,7,1),\"-\",INDEX('Annual Inflation'!$AM$49:$AT$49, MATCH(YEAR(EOMONTH($A270,6)), 'Annual Inflation'!$AM$6:$AT$6, 0))/100)","v":1.5464597860319396E-2},110.33097202043437,297.73435173778211,297.61477029075689]
["2021-09-01",2022,null,null,{"$f":"IF($A271<DATE(2018,7,1),\"-\",INDEX('Annual Inflation'!$AM$52:$AT$52, MATCH(YEAR(EOMONTH($A271,6)), 'Annual Inflation'!$AM$6:$AT$6, 0))/100)","v":1.5500225915037413E-2},{"$f":"IF($A271<DATE(2018,7,1),\"-\",INDEX('Annual Inflation'!$AM$49:$AT$49, MATCH(YEAR(EOMONTH($A271,6)), 'Annual Inflation'!$AM$6:$AT$6, 0))/100)","v":1.5464597860319396E-2},110.4724824004052,298.11535386822044,297.99649065864213]
["2021-10-01",2022,null,null,{"$f":"IF($A272<DATE(2018,7,1),\"-\",INDEX('Annual Inflation'!$AM$52:$AT$52, MATCH(YEAR(EOMONTH($A272,6)), 'Annual Inflation'!$AM$6:$AT$6, 0))/100)","v":1.5500225915037413E-2},{"$f":"IF($A272<DATE(2018,7,1),\"-\",INDEX('Annual Inflation'!$AM$49:$AT$49, MATCH(YEAR(EOMONTH($A272,6)), 'Annual Inflation'!$AM$6:$AT$6, 0))/100)","v":1.5464597860319396E-2},110.61417428142937,298.49684355618297,298.37870062063962]
["2021-11-01",2022,null,null,{"$f":"IF($A273<DATE(2018,7,1),\"-\",INDEX('Annual Inflation'!$AM$52:$AT$52, MATCH(YEAR(EOMONTH($A273,6)), 'Annual Inflation'!$AM$6:$AT$6, 0))/100)","v":1.5500225915037413E-2},{"$f":"IF($A273<DATE(2018,7,1),\"-\",INDEX('Annual Inflation'!$AM$49:$AT$49, MATCH(YEAR(EOMONTH($A273,6)), 'Annual Inflation'!$AM$6:$AT$6, 0))/100)","v":1.5464597860319396E-2},110.75604789629995,298.87882142558311,298.76140080470225]
["2021-12-01",2022,null,null,{"$f":"IF($A274<DATE(2018,7,1),\"-\",INDEX('Annual Inflation'!$AM$52:$AT$52, MATCH(YEAR(EOMONTH($A274,6)), 'Annual Inflation'!$AM$6:$AT$6, 0))/100)","v":1.5500225915037413E-2},{"$f":"IF($A274<DATE(2018,7,1),\"-\",INDEX('Annual Inflation'!$AM$49:$AT$49, MATCH(YEAR(EOMONTH($A274,6)), 'Annual Inflation'!$AM$6:$AT$6, 0))/100)","v":1.5464597860319396E-2},110.89810347810855,299.26128810113266,299.14459183958826]
["2022-01-01",2022,null,null,{"$f":"IF($A275<DATE(2018,7,1),\"-\",INDEX('Annual Inflation'!$AM$52:$AT$52, MATCH(YEAR(EOMONTH($A275,6)), 'Annual Inflation'!$AM$6:$AT$6, 0))/100)","v":1.5500225915037413E-2},{"$f":"IF($A275<DATE(2018,7,1),\"-\",INDEX('Annual Inflation'!$AM$49:$AT$49, MATCH(YEAR(EOMONTH($A275,6)), 'Annual Inflation'!$AM$6:$AT$6, 0))/100)","v":1.5464597860319396E-2},111.04034126024577,299.64424420834285,299.52827435486233]
["2022-02-01",2022,null,null,{"$f":"IF($A276<DATE(2018,7,1),\"-\",INDEX('Annual Inflation'!$AM$52:$AT$52, MATCH(YEAR(EOMONTH($A276,6)), 'Annual Inflation'!$AM$6:$AT$6, 0))/100)","v":1.5500225915037413E-2},{"$f":"IF($A276<DATE(2018,7,1),\"-\",INDEX('Annual Inflation'!$AM$49:$AT$49, MATCH(YEAR(EOMONTH($A276,6)), 'Annual Inflation'!$AM$6:$AT$6, 0))/100)","v":1.5464597860319396E-2},111.18276147640154,300.02769037352539,299.91244898089673]
["2022-03-01",2022,null,null,{"$f":"IF($A277<DATE(2018,7,1),\"-\",INDEX('Annual Inflation'!$AM$52:$AT$52, MATCH(YEAR(EOMONTH($A277,6)), 'Annual Inflation'!$AM$6:$AT$6, 0))/100)","v":1.5500225915037413E-2},{"$f":"IF($A277<DATE(2018,7,1),\"-\",INDEX('Annual Inflation'!$AM$49:$AT$49, MATCH(YEAR(EOMONTH($A277,6)), 'Annual Inflation'!$AM$6:$AT$6, 0))/100)","v":1.5464597860319396E-2},111.32536436056553,300.41162722379346,300.29711634887212]
["2022-04-01",2023,null,null,{"$f":"IF($A278<DATE(2018,7,1),\"-\",INDEX('Annual Inflation'!$AM$52:$AT$52, MATCH(YEAR(EOMONTH($A278,6)), 'Annual Inflation'!$AM$6:$AT$6, 0))/100)","v":1.5500225915037413E-2},{"$f":"IF($A278<DATE(2018,7,1),\"-\",INDEX('Annual Inflation'!$AM$49:$AT$49, MATCH(YEAR(EOMONTH($A278,6)), 'Annual Inflation'!$AM$6:$AT$6, 0))/100)","v":1.5464597860319396E-2},111.46815014702752,300.79605538706272,300.68227709077877]
["2022-05-01",2023,null,null,{"$f":"IF($A279<DATE(2018,7,1),\"-\",INDEX('Annual Inflation'!$AM$52:$AT$52, MATCH(YEAR(EOMONTH($A279,6)), 'Annual Inflation'!$AM$6:$AT$6, 0))/100)","v":1.5500225915037413E-2},{"$f":"IF($A279<DATE(2018,7,1),\"-\",INDEX('Annual Inflation'!$AM$49:$AT$49, MATCH(YEAR(EOMONTH($A279,6)), 'Annual Inflation'!$AM$6:$AT$6, 0))/100)","v":1.5464597860319396E-2},111.61111907037778,301.18097549205231,301.0679318394175]
["2022-06-01",2023,null,null,{"$f":"IF($A280<DATE(2018,7,1),\"-\",INDEX('Annual Inflation'!$AM$52:$AT$52, MATCH(YEAR(EOMONTH($A280,6)), 'Annual Inflation'!$AM$6:$AT$6, 0))/100)","v":1.5500225915037413E-2},{"$f":"IF($A280<DATE(2018,7,1),\"-\",INDEX('Annual Inflation'!$AM$49:$AT$49, MATCH(YEAR(EOMONTH($A280,6)), 'Annual Inflation'!$AM$6:$AT$6, 0))/100)","v":1.5464597860319396E-2},111.75427136550749,301.56638816828604,301.45408122840081]
["2022-07-01",2023,null,null,{"$f":"IF($A281<DATE(2018,7,1),\"-\",INDEX('Annual Inflation'!$AM$52:$AT$52, MATCH(YEAR(EOMONTH($A281,6)), 'Annual Inflation'!$AM$6:$AT$6, 0))/100)","v":1.7276615507018311E-2},{"$f":"IF($A281<DATE(2018,7,1),\"-\",INDEX('Annual Inflation'!$AM$49:$AT$49, MATCH(YEAR(EOMONTH($A281,6)), 'Annual Inflation'!$AM$6:$AT$6, 0))/100)","v":2.5706488203567579E-2},111.91390584889231,302.20491714068572,301.8846908680427]
["2022-08-01",2023,null,null,{"$f":"IF($A282<DATE(2018,7,1),\"-\",INDEX('Annual Inflation'!$AM$52:$AT$52, MATCH(YEAR(EOMONTH($A282,6)), 'Annual Inflation'!$AM$6:$AT$6, 0))/100)","v":1.7276615507018311E-2},{"$f":"IF($A282<DATE(2018,7,1),\"-\",INDEX('Annual Inflation'!$AM$49:$AT$49, MATCH(YEAR(EOMONTH($A282,6)), 'Annual Inflation'!$AM$6:$AT$6, 0))/100)","v":2.5706488203567579E-2},112.07376836086141,302.8447981180322,302.31591560853508]
["2022-09-01",2023,null,null,{"$f":"IF($A283<DATE(2018,7,1),\"-\",INDEX('Annual Inflation'!$AM$52:$AT$52, MATCH(YEAR(EOMONTH($A283,6)), 'Annual Inflation'!$AM$6:$AT$6, 0))/100)","v":1.7276615507018311E-2},{"$f":"IF($A283<DATE(2018,7,1),\"-\",INDEX('Annual Inflation'!$AM$49:$AT$49, MATCH(YEAR(EOMONTH($A283,6)), 'Annual Inflation'!$AM$6:$AT$6, 0))/100)","v":2.5706488203567579E-2},112.23385922714036,303.48603396302627,302.74775632851379]
["2022-10-01",2023,null,null,{"$f":"IF($A284<DATE(2018,7,1),\"-\",INDEX('Annual Inflation'!$AM$52:$AT$52, MATCH(YEAR(EOMONTH($A284,6)), 'Annual Inflation'!$AM$6:$AT$6, 0))/100)","v":1.7276615507018311E-2},{"$f":"IF($A284<DATE(2018,7,1),\"-\",INDEX('Annual Inflation'!$AM$49:$AT$49, MATCH(YEAR(EOMONTH($A284,6)), 'Annual Inflation'!$AM$6:$AT$6, 0))/100)","v":2.5706488203567579E-2},112.39417877392002,304.12862754443006,303.18021390786976]
["2022-11-01",2023,null,null,{"$f":"IF($A285<DATE(2018,7,1),\"-\",INDEX('Annual Inflation'!$AM$52:$AT$52, MATCH(YEAR(EOMONTH($A285,6)), 'Annual Inflation'!$AM$6:$AT$6, 0))/100)","v":1.7276615507018311E-2},{"$f":"IF($A285<DATE(2018,7,1),\"-\",INDEX('Annual Inflation'!$AM$49:$AT$49, MATCH(YEAR(EOMONTH($A285,6)), 'Annual Inflation'!$AM$6:$AT$6, 0))/100)","v":2.5706488203567579E-2},112.55472732785721,304.77258173708003,303.61328922775073]
["2022-12-01",2023,null,null,{"$f":"IF($A286<DATE(2018,7,1),\"-\",INDEX('Annual Inflation'!$AM$52:$AT$52, MATCH(YEAR(EOMONTH($A286,6)), 'Annual Inflation'!$AM$6:$AT$6, 0))/100)","v":1.7276615507018311E-2},{"$f":"IF($A286<DATE(2018,7,1),\"-\",INDEX('Annual Inflation'!$AM$49:$AT$49, MATCH(YEAR(EOMONTH($A286,6)), 'Annual Inflation'!$AM$6:$AT$6, 0))/100)","v":2.5706488203567579E-2},112.71550521607534,305.41789942189968,304.04698317056318]
["2023-01-01",2023,null,null,{"$f":"IF($A287<DATE(2018,7,1),\"-\",INDEX('Annual Inflation'!$AM$52:$AT$52, MATCH(YEAR(EOMONTH($A287,6)), 'Annual Inflation'!$AM$6:$AT$6, 0))/100)","v":1.7276615507018311E-2},{"$f":"IF($A287<DATE(2018,7,1),\"-\",INDEX('Annual Inflation'!$AM$49:$AT$49, MATCH(YEAR(EOMONTH($A287,6)), 'Annual Inflation'!$AM$6:$AT$6, 0))/100)","v":2.5706488203567579E-2},112.87651276616512,306.06458348591246,304.48129661997399]
["2023-02-01",2023,null,null,{"$f":"IF($A288<DATE(2018,7,1),\"-\",INDEX('Annual Inflation'!$AM$52:$AT$52, MATCH(YEAR(EOMONTH($A288,6)), 'Annual Inflation'!$AM$6:$AT$6, 0))/100)","v":1.7276615507018311E-2},{"$f":"IF($A288<DATE(2018,7,1),\"-\",INDEX('Annual Inflation'!$AM$49:$AT$49, MATCH(YEAR(EOMONTH($A288,6)), 'Annual Inflation'!$AM$6:$AT$6, 0))/100)","v":2.5706488203567579E-2},113.03775030618517,306.71263682225492,304.9162304609124]
["2023-03-01",2023,null,null,{"$f":"IF($A289<DATE(2018,7,1),\"-\",INDEX('Annual Inflation'!$AM$52:$AT$52, MATCH(YEAR(EOMONTH($A289,6)), 'Annual Inflation'!$AM$6:$AT$6, 0))/100)","v":1.7276615507018311E-2},{"$f":"IF($A289<DATE(2018,7,1),\"-\",INDEX('Annual Inflation'!$AM$49:$AT$49, MATCH(YEAR(EOMONTH($A289,6)), 'Annual Inflation'!$AM$6:$AT$6, 0))/100)","v":2.5706488203567579E-2},113.19921816466275,307.36206233018925,305.35178557957158]
["2023-04-01",2024,null,null,{"$f":"IF($A290<DATE(2018,7,1),\"-\",INDEX('Annual Inflation'!$AM$52:$AT$52, MATCH(YEAR(EOMONTH($A290,6)), 'Annual Inflation'!$AM$6:$AT$6, 0))/100)","v":1.7276615507018311E-2},{"$f":"IF($A290<DATE(2018,7,1),\"-\",INDEX('Annual Inflation'!$AM$49:$AT$49, MATCH(YEAR(EOMONTH($A290,6)), 'Annual Inflation'!$AM$6:$AT$6, 0))/100)","v":2.5706488203567579E-2},113.36091667059439,308.01286291511656,305.78796286341071]
["2023-05-01",2024,null,null,{"$f":"IF($A291<DATE(2018,7,1),\"-\",INDEX('Annual Inflation'!$AM$52:$AT$52, MATCH(YEAR(EOMONTH($A291,6)), 'Annual Inflation'!$AM$6:$AT$6, 0))/100)","v":1.7276615507018311E-2},{"$f":"IF($A291<DATE(2018,7,1),\"-\",INDEX('Annual Inflation'!$AM$49:$AT$49, MATCH(YEAR(EOMONTH($A291,6)), 'Annual Inflation'!$AM$6:$AT$6, 0))/100)","v":2.5706488203567579E-2},113.52284615344659,308.66504148858979,306.22476320115658]
["2023-06-01",2024,null,null,{"$f":"IF($A292<DATE(2018,7,1),\"-\",INDEX('Annual Inflation'!$AM$52:$AT$52, MATCH(YEAR(EOMONTH($A292,6)), 'Annual Inflation'!$AM$6:$AT$6, 0))/100)","v":1.7276615507018311E-2},{"$f":"IF($A292<DATE(2018,7,1),\"-\",INDEX('Annual Inflation'!$AM$49:$AT$49, MATCH(YEAR(EOMONTH($A292,6)), 'Annual Inflation'!$AM$6:$AT$6, 0))/100)","v":2.5706488203567579E-2},113.68500694315645,309.31860096832673,306.66218748280551]
["2023-07-01",2024,null,null,{"$f":"IF($A293<DATE(2018,7,1),\"-\",INDEX('Annual Inflation'!$AM$52:$AT$52, MATCH(YEAR(EOMONTH($A293,6)), 'Annual Inflation'!$AM$6:$AT$6, 0))/100)","v":1.9090819063319442E-2},{"$f":"IF($A293<DATE(2018,7,1),\"-\",INDEX('Annual Inflation'!$AM$49:$AT$49, MATCH(YEAR(EOMONTH($A293,6)), 'Annual Inflation'!$AM$6:$AT$6, 0))/100)","v":2.9899177160407575E-2},113.86430510652674,310.07893457772377,307.14583935977004]
["2023-08-01",2024,null,null,{"$f":"IF($A294<DATE(2018,7,1),\"-\",INDEX('Annual Inflation'!$AM$52:$AT$52, MATCH(YEAR(EOMONTH($A294,6)), 'Annual Inflation'!$AM$6:$AT$6, 0))/100)","v":1.9090819063319442E-2},{"$f":"IF($A294<DATE(2018,7,1),\"-\",INDEX('Annual Inflation'!$AM$49:$AT$49, MATCH(YEAR(EOMONTH($A294,6)), 'Annual Inflation'!$AM$6:$AT$6, 0))/100)","v":2.9899177160407575E-2},114.04388604976619,310.84113715715938,307.63025402767403]
["2023-09-01",2024,null,null,{"$f":"IF($A295<DATE(2018,7,1),\"-\",INDEX('Annual Inflation'!$AM$52:$AT$52, MATCH(YEAR(EOMONTH($A295,6)), 'Annual Inflation'!$AM$6:$AT$6, 0))/100)","v":1.9090819063319442E-2},{"$f":"IF($A295<DATE(2018,7,1),\"-\",INDEX('Annual Inflation'!$AM$49:$AT$49, MATCH(YEAR(EOMONTH($A295,6)), 'Annual Inflation'!$AM$6:$AT$6, 0))/100)","v":2.9899177160407575E-2},114.22375021886069,311.60521330073402,308.11543268955228]
["2023-10-01",2024,null,null,{"$f":"IF($A296<DATE(2018,7,1),\"-\",INDEX('Annual Inflation'!$AM$52:$AT$52, MATCH(YEAR(EOMONTH($A296,6)), 'Annual Inflation'!$AM$6:$AT$6, 0))/100)","v":1.9090819063319442E-2},{"$f":"IF($A296<DATE(2018,7,1),\"-\",INDEX('Annual Inflation'!$AM$49:$AT$49, MATCH(YEAR(EOMONTH($A296,6)), 'Annual Inflation'!$AM$6:$AT$6, 0))/100)","v":2.9899177160407575E-2},114.40389806049954,312.3711676138409,308.60137655033685]
["2023-11-01",2024,null,null,{"$f":"IF($A297<DATE(2018,7,1),\"-\",INDEX('Annual Inflation'!$AM$52:$AT$52, MATCH(YEAR(EOMONTH($A297,6)), 'Annual Inflation'!$AM$6:$AT$6, 0))/100)","v":1.9090819063319442E-2},{"$f":"IF($A297<DATE(2018,7,1),\"-\",INDEX('Annual Inflation'!$AM$49:$AT$49, MATCH(YEAR(EOMONTH($A297,6)), 'Annual Inflation'!$AM$6:$AT$6, 0))/100)","v":2.9899177160407575E-2},114.58433002207656,313.13900471319374,309.08808681686025]
["2023-12-01",2024,null,null,{"$f":"IF($A298<DATE(2018,7,1),\"-\",INDEX('Annual Inflation'!$AM$52:$AT$52, MATCH(YEAR(EOMONTH($A298,6)), 'Annual Inflation'!$AM$6:$AT$6, 0))/100)","v":1.9090819063319442E-2},{"$f":"IF($A298<DATE(2018,7,1),\"-\",INDEX('Annual Inflation'!$AM$49:$AT$49, MATCH(YEAR(EOMONTH($A298,6)), 'Annual Inflation'!$AM$6:$AT$6, 0))/100)","v":2.9899177160407575E-2},114.76504655169111,313.90872922685452,309.57556469785834]
["2024-01-01",2024,null,null,{"$f":"IF($A299<DATE(2018,7,1),\"-\",INDEX('Annual Inflation'!$AM$52:$AT$52, MATCH(YEAR(EOMONTH($A299,6)), 'Annual Inflation'!$AM$6:$AT$6, 0))/100)","v":1.9090819063319442E-2},{"$f":"IF($A299<DATE(2018,7,1),\"-\",INDEX('Annual Inflation'!$AM$49:$AT$49, MATCH(YEAR(EOMONTH($A299,6)), 'Annual Inflation'!$AM$6:$AT$6, 0))/100)","v":2.9899177160407575E-2},114.94604809814933,314.68034579426143,310.06381140397326]
["2024-02-01",2024,null,null,{"$f":"IF($A300<DATE(2018,7,1),\"-\",INDEX('Annual Inflation'!$AM$52:$AT$52, MATCH(YEAR(EOMONTH($A300,6)), 'Annual Inflation'!$AM$6:$AT$6, 0))/100)","v":1.9090819063319442E-2},{"$f":"IF($A300<DATE(2018,7,1),\"-\",INDEX('Annual Inflation'!$AM$49:$AT$49, MATCH(YEAR(EOMONTH($A300,6)), 'Annual Inflation'!$AM$6:$AT$6, 0))/100)","v":2.9899177160407575E-2},115.12733511096516,315.45385906625683,310.55282814775654]
["2024-03-01",2024,null,null,{"$f":"IF($A301<DATE(2018,7,1),\"-\",INDEX('Annual Inflation'!$AM$52:$AT$52, MATCH(YEAR(EOMONTH($A301,6)), 'Annual Inflation'!$AM$6:$AT$6, 0))/100)","v":1.9090819063319442E-2},{"$f":"IF($A301<DATE(2018,7,1),\"-\",INDEX('Annual Inflation'!$AM$49:$AT$49, MATCH(YEAR(EOMONTH($A301,6)), 'Annual Inflation'!$AM$6:$AT$6, 0))/100)","v":2.9899177160407575E-2},115.3089080403615,316.2292737051153,311.04261614367215]
["2024-04-01",2025,null,null,{"$f":"IF($A302<DATE(2018,7,1),\"-\",INDEX('Annual Inflation'!$AM$52:$AT$52, MATCH(YEAR(EOMONTH($A302,6)), 'Annual Inflation'!$AM$6:$AT$6, 0))/100)","v":1.9090819063319442E-2},{"$f":"IF($A302<DATE(2018,7,1),\"-\",INDEX('Annual Inflation'!$AM$49:$AT$49, MATCH(YEAR(EOMONTH($A302,6)), 'Annual Inflation'!$AM$6:$AT$6, 0))/100)","v":2.9899177160407575E-2},115.49076733727132,317.00659438457171,311.53317660809938]
["2024-05-01",2025,null,null,{"$f":"IF($A303<DATE(2018,7,1),\"-\",INDEX('Annual Inflation'!$AM$52:$AT$52, MATCH(YEAR(EOMONTH($A303,6)), 'Annual Inflation'!$AM$6:$AT$6, 0))/100)","v":1.9090819063319442E-2},{"$f":"IF($A303<DATE(2018,7,1),\"-\",INDEX('Annual Inflation'!$AM$49:$AT$49, MATCH(YEAR(EOMONTH($A303,6)), 'Annual Inflation'!$AM$6:$AT$6, 0))/100)","v":2.9899177160407575E-2},115.67291345333878,317.78582578984941,312.02451075933601]
["2024-06-01",2025,null,null,{"$f":"IF($A304<DATE(2018,7,1),\"-\",INDEX('Annual Inflation'!$AM$52:$AT$52, MATCH(YEAR(EOMONTH($A304,6)), 'Annual Inflation'!$AM$6:$AT$6, 0))/100)","v":1.9090819063319442E-2},{"$f":"IF($A304<DATE(2018,7,1),\"-\",INDEX('Annual Inflation'!$AM$49:$AT$49, MATCH(YEAR(EOMONTH($A304,6)), 'Annual Inflation'!$AM$6:$AT$6, 0))/100)","v":2.9899177160407575E-2},115.85534684092035,318.56697261768846,312.51661981760117]
["2024-07-01",2025,null,null,{"$f":"IF($A305<DATE(2018,7,1),\"-\",INDEX('Annual Inflation'!$AM$52:$AT$52, MATCH(YEAR(EOMONTH($A305,6)), 'Annual Inflation'!$AM$6:$AT$6, 0))/100)","v":1.9976318667067172E-2},{"$f":"IF($A305<DATE(2018,7,1),\"-\",INDEX('Annual Inflation'!$AM$49:$AT$49, MATCH(YEAR(EOMONTH($A305,6)), 'Annual Inflation'!$AM$6:$AT$6, 0))/100)","v":2.9928160713431629E-2},116.04646684183199,319.35078849915078,313.03216077702234]
["2024-08-01",2025,null,null,{"$f":"IF($A306<DATE(2018,7,1),\"-\",INDEX('Annual Inflation'!$AM$52:$AT$52, MATCH(YEAR(EOMONTH($A306,6)), 'Annual Inflation'!$AM$6:$AT$6, 0))/100)","v":1.9976318667067172E-2},{"$f":"IF($A306<DATE(2018,7,1),\"-\",INDEX('Annual Inflation'!$AM$49:$AT$49, MATCH(YEAR(EOMONTH($A306,6)), 'Annual Inflation'!$AM$6:$AT$6, 0))/100)","v":2.9928160713431629E-2},116.2379021225796,320.13653291492091,313.5485521951519]
["2024-09-01",2025,null,null,{"$f":"IF($A307<DATE(2018,7,1),\"-\",INDEX('Annual Inflation'!$AM$52:$AT$52, MATCH(YEAR(EOMONTH($A307,6)), 'Annual Inflation'!$AM$6:$AT$6, 0))/100)","v":1.9976318667067172E-2},{"$f":"IF($A307<DATE(2018,7,1),\"-\",INDEX('Annual Inflation'!$AM$49:$AT$49, MATCH(YEAR(EOMONTH($A307,6)), 'Annual Inflation'!$AM$6:$AT$6, 0))/100)","v":2.9928160713431629E-2},116.42965320326246,320.92421061004762,314.0657954749434]
["2024-10-01",2025,null,null,{"$f":"IF($A308<DATE(2018,7,1),\"-\",INDEX('Annual Inflation'!$AM$52:$AT$52, MATCH(YEAR(EOMONTH($A308,6)), 'Annual Inflation'!$AM$6:$AT$6, 0))/100)","v":1.9976318667067172E-2},{"$f":"IF($A308<DATE(2018,7,1),\"-\",INDEX('Annual Inflation'!$AM$49:$AT$49, MATCH(YEAR(EOMONTH($A308,6)), 'Annual Inflation'!$AM$6:$AT$6, 0))/100)","v":2.9928160713431629E-2},116.62172060483783,321.71382634125462,314.58389202166478]
["2024-11-01",2025,null,null,{"$f":"IF($A309<DATE(2018,7,1),\"-\",INDEX('Annual Inflation'!$AM$52:$AT$52, MATCH(YEAR(EOMONTH($A309,6)), 'Annual Inflation'!$AM$6:$AT$6, 0))/100)","v":1.9976318667067172E-2},{"$f":"IF($A309<DATE(2018,7,1),\"-\",INDEX('Annual Inflation'!$AM$49:$AT$49, MATCH(YEAR(EOMONTH($A309,6)), 'Annual Inflation'!$AM$6:$AT$6, 0))/100)","v":2.9928160713431629E-2},116.81410484912237,322.50538487696917,315.10284324290211]
["2024-12-01",2025,null,null,{"$f":"IF($A310<DATE(2018,7,1),\"-\",INDEX('Annual Inflation'!$AM$52:$AT$52, MATCH(YEAR(EOMONTH($A310,6)), 'Annual Inflation'!$AM$6:$AT$6, 0))/100)","v":1.9976318667067172E-2},{"$f":"IF($A310<DATE(2018,7,1),\"-\",INDEX('Annual Inflation'!$AM$49:$AT$49, MATCH(YEAR(EOMONTH($A310,6)), 'Annual Inflation'!$AM$6:$AT$6, 0))/100)","v":2.9928160713431629E-2},117.00680645879353,323.29889099735112,315.62265054856351]
["2025-01-01",2025,null,null,{"$f":"IF($A311<DATE(2018,7,1),\"-\",INDEX('Annual Inflation'!$AM$52:$AT$52, MATCH(YEAR(EOMONTH($A311,6)), 'Annual Inflation'!$AM$6:$AT$6, 0))/100)","v":1.9976318667067172E-2},{"$f":"IF($A311<DATE(2018,7,1),\"-\",INDEX('Annual Inflation'!$AM$49:$AT$49, MATCH(YEAR(EOMONTH($A311,6)), 'Annual Inflation'!$AM$6:$AT$6, 0))/100)","v":2.9928160713431629E-2},117.19982595739103,324.09434949432153,316.14331535088292]
["2025-02-01",2025,null,null,{"$f":"IF($A312<DATE(2018,7,1),\"-\",INDEX('Annual Inflation'!$AM$52:$AT$52, MATCH(YEAR(EOMONTH($A312,6)), 'Annual Inflation'!$AM$6:$AT$6, 0))/100)","v":1.9976318667067172E-2},{"$f":"IF($A312<DATE(2018,7,1),\"-\",INDEX('Annual Inflation'!$AM$49:$AT$49, MATCH(YEAR(EOMONTH($A312,6)), 'Annual Inflation'!$AM$6:$AT$6, 0))/100)","v":2.9928160713431629E-2},117.39316386931819,324.89176517159171,316.66483906442403]
["2025-03-01",2025,null,null,{"$f":"IF($A313<DATE(2018,7,1),\"-\",INDEX('Annual Inflation'!$AM$52:$AT$52, MATCH(YEAR(EOMONTH($A313,6)), 'Annual Inflation'!$AM$6:$AT$6, 0))/100)","v":1.9976318667067172E-2},{"$f":"IF($A313<DATE(2018,7,1),\"-\",INDEX('Annual Inflation'!$AM$49:$AT$49, MATCH(YEAR(EOMONTH($A313,6)), 'Annual Inflation'!$AM$6:$AT$6, 0))/100)","v":2.9928160713431629E-2},117.58682071984344,325.69114284469225,317.18722310608399]
["2025-04-01",2026,null,null,{"$f":"IF($A314<DATE(2018,7,1),\"-\",INDEX('Annual Inflation'!$AM$52:$AT$52, MATCH(YEAR(EOMONTH($A314,6)), 'Annual Inflation'!$AM$6:$AT$6, 0))/100)","v":1.9976318667067172E-2},{"$f":"IF($A314<DATE(2018,7,1),\"-\",INDEX('Annual Inflation'!$AM$49:$AT$49, MATCH(YEAR(EOMONTH($A314,6)), 'Annual Inflation'!$AM$6:$AT$6, 0))/100)","v":2.9928160713431629E-2},117.78079703510174,326.49248734100212,317.71046889509734]
["2025-05-01",2026,null,null,{"$f":"IF($A315<DATE(2018,7,1),\"-\",INDEX('Annual Inflation'!$AM$52:$AT$52, MATCH(YEAR(EOMONTH($A315,6)), 'Annual Inflation'!$AM$6:$AT$6, 0))/100)","v":1.9976318667067172E-2},{"$f":"IF($A315<DATE(2018,7,1),\"-\",INDEX('Annual Inflation'!$AM$49:$AT$49, MATCH(YEAR(EOMONTH($A315,6)), 'Annual Inflation'!$AM$6:$AT$6, 0))/100)","v":2.9928160713431629E-2},117.97509334209593,327.29580349977772,318.23457785303987]
["2025-06-01",2026,null,null,{"$f":"IF($A316<DATE(2018,7,1),\"-\",INDEX('Annual Inflation'!$AM$52:$AT$52, MATCH(YEAR(EOMONTH($A316,6)), 'Annual Inflation'!$AM$6:$AT$6, 0))/100)","v":1.9976318667067172E-2},{"$f":"IF($A316<DATE(2018,7,1),\"-\",INDEX('Annual Inflation'!$AM$49:$AT$49, MATCH(YEAR(EOMONTH($A316,6)), 'Annual Inflation'!$AM$6:$AT$6, 0))/100)","v":2.9928160713431629E-2},118.16971016869826,328.10109617218217,318.75955140383246]
["2025-07-01",2026,null,null,{"$f":"IF($A317<DATE(2018,7,1),\"-\",INDEX('Annual Inflation'!$AM$52:$AT$52, MATCH(YEAR(EOMONTH($A317,6)), 'Annual Inflation'!$AM$6:$AT$6, 0))/100)","v":0.02},{"$f":"IF($A317<DATE(2018,7,1),\"-\",INDEX('Annual Inflation'!$AM$49:$AT$49, MATCH(YEAR(EOMONTH($A317,6)), 'Annual Inflation'!$AM$6:$AT$6, 0))/100)","v":0.03},118.36487705246621,328.91028198793134,319.28600871873948]
["2025-08-01",2026,null,null,{"$f":"IF($A318<DATE(2018,7,1),\"-\",INDEX('Annual Inflation'!$AM$52:$AT$52, MATCH(YEAR(EOMONTH($A318,6)), 'Annual Inflation'!$AM$6:$AT$6, 0))/100)","v":0.02},{"$f":"IF($A318<DATE(2018,7,1),\"-\",INDEX('Annual Inflation'!$AM$49:$AT$49, MATCH(YEAR(EOMONTH($A318,6)), 'Annual Inflation'!$AM$6:$AT$6, 0))/100)","v":0.03},118.56036627021015,329.72146347419806,319.81333552070407]
["2025-09-01",2026,null,null,{"$f":"IF($A319<DATE(2018,7,1),\"-\",INDEX('Annual Inflation'!$AM$52:$AT$52, MATCH(YEAR(EOMONTH($A319,6)), 'Annual Inflation'!$AM$6:$AT$6, 0))/100)","v":0.02},{"$f":"IF($A319<DATE(2018,7,1),\"-\",INDEX('Annual Inflation'!$AM$49:$AT$49, MATCH(YEAR(EOMONTH($A319,6)), 'Annual Inflation'!$AM$6:$AT$6, 0))/100)","v":0.03},118.75617835429084,330.53464555284421,320.34153324575482]
["2025-10-01",2026,null,null,{"$f":"IF($A320<DATE(2018,7,1),\"-\",INDEX('Annual Inflation'!$AM$52:$AT$52, MATCH(YEAR(EOMONTH($A320,6)), 'Annual Inflation'!$AM$6:$AT$6, 0))/100)","v":0.02},{"$f":"IF($A320<DATE(2018,7,1),\"-\",INDEX('Annual Inflation'!$AM$49:$AT$49, MATCH(YEAR(EOMONTH($A320,6)), 'Annual Inflation'!$AM$6:$AT$6, 0))/100)","v":0.03},118.95231383794828,331.34983315787031,320.87060333229198]
["2025-11-01",2026,null,null,{"$f":"IF($A321<DATE(2018,7,1),\"-\",INDEX('Annual Inflation'!$AM$52:$AT$52, MATCH(YEAR(EOMONTH($A321,6)), 'Annual Inflation'!$AM$6:$AT$6, 0))/100)","v":0.02},{"$f":"IF($A321<DATE(2018,7,1),\"-\",INDEX('Annual Inflation'!$AM$49:$AT$49, MATCH(YEAR(EOMONTH($A321,6)), 'Annual Inflation'!$AM$6:$AT$6, 0))/100)","v":0.03},119.14877325530318,332.16703123544545,321.40054722109147]
["2025-12-01",2026,null,null,{"$f":"IF($A322<DATE(2018,7,1),\"-\",INDEX('Annual Inflation'!$AM$52:$AT$52, MATCH(YEAR(EOMONTH($A322,6)), 'Annual Inflation'!$AM$6:$AT$6, 0))/100)","v":0.02},{"$f":"IF($A322<DATE(2018,7,1),\"-\",INDEX('Annual Inflation'!$AM$49:$AT$49, MATCH(YEAR(EOMONTH($A322,6)), 'Annual Inflation'!$AM$6:$AT$6, 0))/100)","v":0.03},119.34555714135837,332.98624474393728,321.93136635530874]
["2026-01-01",{"$f":"IF(MONTH(A323)>=4,YEAR(A323)+1,YEAR(A323))","v":2026},null,null,{"$f":"IF($A323<DATE(2018,7,1),\"-\",INDEX('Annual Inflation'!$AM$52:$AT$52, MATCH(YEAR(EOMONTH($A323,6)), 'Annual Inflation'!$AM$6:$AT$6, 0))/100)","v":0.02},{"$f":"IF($A323<DATE(2018,7,1),\"-\",INDEX('Annual Inflation'!$AM$49:$AT$49, MATCH(YEAR(EOMONTH($A323,6)), 'Annual Inflation'!$AM$6:$AT$6, 0))/100)","v":0.03},{"$f":"IF(ISBLANK(C323),G322*((1+E323)^(1/12)),C323)","v":119.54266603200028},{"$f":"IF(ISBLANK(D323),H322*((1+F323)^(1/12)),D323)","v":333.80747865394216},{"$f":"IF($A323<DATE(2021,4,1),H323,IF(A323=DATE(2021,4,1),I322*((0.5*G323/G322)+(0.5*H323/H322)),I322*(G323/G322)))","v":322.46306218048278}]
["2026-02-01",2026,null,null,{"$f":"IF($A324<DATE(2018,7,1),\"-\",INDEX('Annual Inflation'!$AM$52:$AT$52, MATCH(YEAR(EOMONTH($A324,6)), 'Annual Inflation'!$AM$6:$AT$6, 0))/100)","v":0.02},{"$f":"IF($A324<DATE(2018,7,1),\"-\",INDEX('Annual Inflation'!$AM$49:$AT$49, MATCH(YEAR(EOMONTH($A324,6)), 'Annual Inflation'!$AM$6:$AT$6, 0))/100)","v":0.03},119.74010046400043,334.6307379483153,322.99563614454001]
["2026-03-01",2026,null,null,{"$f":"IF($A325<DATE(2018,7,1),\"-\",INDEX('Annual Inflation'!$AM$52:$AT$52, MATCH(YEAR(EOMONTH($A325,6)), 'Annual Inflation'!$AM$6:$AT$6, 0))/100)","v":0.02},{"$f":"IF($A325<DATE(2018,7,1),\"-\",INDEX('Annual Inflation'!$AM$49:$AT$49, MATCH(YEAR(EOMONTH($A325,6)), 'Annual Inflation'!$AM$6:$AT$6, 0))/100)","v":0.03},119.93786097501683,335.45602762220091,323.52908969779816]

{"sheet":"NGGT TO","index":19,"n_rows":503,"n_cols":58,"rows_kept":503,"cut":false,"hidden":false,"merged":[[2,55,3,55],[2,56,3,56],[2,57,3,57],[2,54,3,54]]}
["Input"]
[null,{"$f":"UserInterface!G17","v":"NGGT TO"}]
[null,null,null,null,"Parameter","Licence condition","Units","Term","Constant",null,null,null,null,null,null,null,null,null,null,null,null,null,null,null,null,null,null,null,null,null,null,null,null,null,null,null,null,null,null,null,null,"Annual values",null,null,null,null,null,null,null,null,null,null,null,null,"TIM/\nNon-TIM","RPE Incl. or Excl.","Capitalisation method: Fast/slow split or 100% fast money award","Fast/slow split or 100% fast money award"]
[null,null,null,null,"PCFM year ending",{"$f":"Cover!C4","v":"Model Version"},null,null,{"$f":"UserInterface!$G$10","v":"2022-03-31"},null,"1991-03-31","1992-03-31","1993-03-31","1994-03-31","1995-03-31","1996-03-31","1997-03-31","1998-03-31","1999-03-31","2000-03-31","2001-03-31","2002-03-31","2003-03-31","2004-03-31","2005-03-31","2006-03-31","2007-03-31","2008-03-31","2009-03-31","2010-03-31","2011-03-31","2012-03-31","2013-03-31","2014-03-31","2015-03-31","2016-03-31","2017-03-31","2018-03-31","2019-03-31","2020-03-31","2021-03-31","2022-03-31","2023-03-31","2024-03-31","2025-03-31","2026-03-31"]
[]
[null,"Totex allowance"]
[]
[null,null,"Non-variant allowances"]
[]
[null,null,null,null,"Non-variant allowed load related capex expenditure",null,"£m 18/19 prices",null,null,null,null,null,null,null,null,null,null,null,null,null,null,null,null,null,null,null,null,null,null,null,null,null,null,null,null,null,null,null,null,null,null,0.31650104352540254,1.2666284344636372,0.70913873811068939,0.31881086822521826,0]
[null,null,null,null,"Non-variant allowed asset replacement capex expenditure",null,"£m 18/19 prices",null,null,null,null,null,null,null,null,null,null,null,null,null,null,null,null,null,null,null,null,null,null,null,null,null,null,null,null,null,null,null,null,null,null,13.639842929590206,5.3530614230958395,16.124589966960787,15.973671666856042,11.034723555600564]
[null,null,null,null,"Non-variant allowed other capex expenditure",null,"£m 18/19 prices",null,null,null,null,null,null,null,null,null,null,null,null,null,null,null,null,null,null,null,null,null,null,null,null,null,null,null,null,null,null,null,null,null,null,0.62565859757358866,2.4778704625551304,2.9460348374212035,3.2048324047842756,1.9364556361922172]
[null,null,null,null,"Non-variant allowed non-load (opex)",null,"£m 18/19 prices",null,null,null,null,null,null,null,null,null,null,null,null,null,null,null,null,null,null,null,null,null,null,null,null,null,null,null,null,null,null,null,null,null,null,42.354845299374347,42.13955032361168,41.968502501799506,43.741056767300968,40.241902762409978]
[null,null,null,null,"Non-variant allowed indirects (opex)",null,"£m 18/19 prices",null,null,null,null,null,null,null,null,null,null,null,null,null,null,null,null,null,null,null,null,null,null,null,null,null,null,null,null,null,null,null,null,null,null,62.623581490557754,63.775403447719562,62.18446250532854,54.076288937050322,52.249696223562189]
[null,null,null,null,"Non-variant allowed non-operational capex",null,"£m 18/19 prices",null,null,null,null,null,null,null,null,null,null,null,null,null,null,null,null,null,null,null,null,null,null,null,null,null,null,null,null,null,null,null,null,null,null,26.098080323629379,24.561490913576101,22.040793881754087,19.980853548696892,18.865248832350218]
[]
[null,null,"Variant allowances (including Real Price Effects)"]
[null,null,"Note: RPEs in the table below are calculated for information only. The calculation by totex category is detailed and then aggregated in the \"Input\" tab."]
[]
[null,null,null,null,"Baseline Allowed NARM Expenditure","SpC 3.1","£m 18/19 prices","NARMt","PCD",null,null,null,null,null,null,null,null,null,null,null,null,null,null,null,null,null,null,null,null,null,null,null,null,null,null,null,null,null,null,null,null,70.556934412542631,93.600010951421822,79.776008397428896,49.846759348011666,60.647809617431683,null,null,null,null,null,null,null,null,"TIM","RPEs Apply","CapRate 1 (Baseline)","Fast/Slow Split"]
[null,null,null,null,"Physical security Price Control Deliverable","SpC 3.4","£m 18/19 prices","PSUPt","PCD",null,null,null,null,null,null,null,null,null,null,null,null,null,null,null,null,null,null,null,null,null,null,null,null,null,null,null,null,null,null,null,null,9.5980010803474709,14.901237294179282,1.0257589332958597,0,0,null,null,null,null,null,null,null,null,"TIM","RPEs Apply","CapRate 1 (Baseline)","Fast/Slow Split"]
[null,null,null,null,"Bacton terminal site redevelopment Price Control Deliverable","SpC 3.10","£m 18/19 prices","BTRt","PCD",null,null,null,null,null,null,null,null,null,null,null,null,null,null,null,null,null,null,null,null,null,null,null,null,null,null,null,null,null,null,null,null,7.1260238418300279,3.373682904271154,0,0,0,null,null,null,null,null,null,null,null,"TIM","RPEs Apply","CapRate 1 (Baseline)","Fast/Slow Split"]
[null,null,null,null,"King's Lynn subsidence Price Control Deliverable","SpC 3.12","£m 18/19 prices","KLSt","PCD",null,null,null,null,null,null,null,null,null,null,null,null,null,null,null,null,null,null,null,null,null,null,null,null,null,null,null,null,null,null,null,null,1.1608360565476097,0,0,0,0,null,null,null,null,null,null,null,null,"TIM","RPEs Apply","CapRate 1 (Baseline)","Fast/Slow Split"]
[null,null,null,null,"Asset health - non lead assets Price Control Deliverable","SpC 3.15","£m 18/19 prices","NLAt","PCD",null,null,null,null,null,null,null,null,null,null,null,null,null,null,null,null,null,null,null,null,null,null,null,null,null,null,null,null,null,null,null,null,7.4572879522201427,9.8607254755791303,11.920313506946851,7.7169522615819179,9.4350243388455457,null,null,null,null,null,null,null,null,"TIM","RPEs Apply","CapRate 1 (Baseline)","Fast/Slow Split"]
[null,null,null,null,"Compressor emissions Price Control Deliverable","SpC 3.11","£m 18/19 prices","CEPt","PCD",null,null,null,null,null,null,null,null,null,null,null,null,null,null,null,null,null,null,null,null,null,null,null,null,null,null,null,null,null,null,null,null,8.3822001755056519,34.512774359354644,59.500470100496784,20.474768891513815,1.006283648583417,null,null,null,null,null,null,null,null,"TIM","RPEs Apply","CapRate 1 (Baseline)","Fast/Slow Split"]
[null,null,null,null,"Redundant Assets Price Control Deliverable","SpC 3.16","£m 18/19 prices","RAt","PCD",null,null,null,null,null,null,null,null,null,null,null,null,null,null,null,null,null,null,null,null,null,null,null,null,null,null,null,null,null,null,null,null,3.5809826021106526,22.378095325061317,21.286803132998141,13.135867253351169,17.134269515484011,null,null,null,null,null,null,null,null,"TIM","RPEs Apply","CapRate 1 (Baseline)","Fast/Slow Split"]
[null,null,null,null,"Funded incremental obligated capacity Price Control Deliverable","SpC 3.13","£m 18/19 prices","FIOCt","PCD",null,null,null,null,null,null,null,null,null,null,null,null,null,null,null,null,null,null,null,null,null,null,null,null,null,null,null,null,null,null,null,null,0,0,0,0,0,null,null,null,null,null,null,null,null,"TIM","RPEs Apply","CapRate 1 (Baseline)","Fast/Slow Split"]
[null,null,null,null,"Cyber Resilience OT Price Control Deliverable and use it or lose it allowance","SpC 3.2","£m 18/19 prices","CROTt","PCD",null,null,null,null,null,null,null,null,null,null,null,null,null,null,null,null,null,null,null,null,null,null,null,null,null,null,null,null,null,null,null,null,41.296175834066005,88.130230209126793,92.76179849029505,0,0,null,null,null,null,null,null,null,null,"Non-Tim","RPEs Don’t Apply","CapRate 1 (Baseline)","Fast/Slow Split"]
[null,null,null,null,"Cyber Resilience IT Price Control Deliverable","SpC 3.3","£m 18/19 prices","CRITt","PCD",null,null,null,null,null,null,null,null,null,null,null,null,null,null,null,null,null,null,null,null,null,null,null,null,null,null,null,null,null,null,null,null,4.4619255058621405,4.0336790035632992,3.5696218516262466,0,0,null,null,null,null,null,null,null,null,"TIM","RPEs Apply","CapRate 1 (Baseline)","Fast/Slow Split"]
[null,null,null,null,"Net Zero And Re-opener Development Fund use it or lose it allowance","SpC 3.5","£m 18/19 prices","RDFt","PCD",null,null,null,null,null,null,null,null,null,null,null,null,null,null,null,null,null,null,null,null,null,null,null,null,null,null,null,null,null,null,null,null,1.6600000000000001,1.6600000000000001,1.6600000000000001,1.6600000000000001,1.6600000000000001,null,null,null,null,null,null,null,null,"Non-Tim","RPEs Don’t Apply","CapRate 1 (Baseline)","Fast/Slow Split"]
[null,null,null,null,"Spare PCD 1",null,"£m 18/19 prices",null,"PCD",null,null,null,null,null,null,null,null,null,null,null,null,null,null,null,null,null,null,null,null,null,null,null,null,null,null,null,null,null,null,null,null,0,0,0,0,0,null,null,null,null,null,null,null,null,"TIM","RPEs Apply","CapRate 1 (Baseline)","Fast/Slow Split"]
[null,null,null,null,"Spare PCD 2",null,"£m 18/19 prices",null,"PCD",null,null,null,null,null,null,null,null,null,null,null,null,null,null,null,null,null,null,null,null,null,null,null,null,null,null,null,null,null,null,null,null,0,0,0,0,0,null,null,null,null,null,null,null,null,0,0,0,0]
[null,null,null,null,"Spare PCD 3",null,"£m 18/19 prices",null,"PCD",null,null,null,null,null,null,null,null,null,null,null,null,null,null,null,null,null,null,null,null,null,null,null,null,null,null,null,null,null,null,null,null,0,0,0,0,0,null,null,null,null,null,null,null,null,0,0,0,0]
[null,null,null,null,"NARM Asset Health Re-opener","SpC 3.1","£m 18/19 prices","NARMAHt","UM",null,null,null,null,null,null,null,null,null,null,null,null,null,null,null,null,null,null,null,null,null,null,null,null,null,null,null,null,null,null,null,null,0,0,0,0,0,null,null,null,null,null,null,null,null,"TIM","RPEs Don’t Apply","CapRate 2 (UM)","Fast/Slow Split"]
[null,null,null,null,"Non-operational IT Capex Re-opener","SpC 3.7","£m 18/19 prices","NOITt","UM",null,null,null,null,null,null,null,null,null,null,null,null,null,null,null,null,null,null,null,null,null,null,null,null,null,null,null,null,null,null,null,null,0,0,0,0,0,null,null,null,null,null,null,null,null,"TIM","RPEs Don’t Apply","CapRate 2 (UM)","Fast/Slow Split"]
[null,null,null,null,"Coordinated adjustment mechanism Re-opener","SpC 3.8","£m 18/19 prices","CAMt","UM",null,null,null,null,null,null,null,null,null,null,null,null,null,null,null,null,null,null,null,null,null,null,null,null,null,null,null,null,null,null,null,null,0,0,0,0,0,null,null,null,null,null,null,null,null,"TIM","RPEs Don’t Apply","CapRate 2 (UM)","Fast/Slow Split"]
[null,null,null,null,"Net zero Re-opener","SpC 3.6","£m 18/19 prices","NZt","UM",null,null,null,null,null,null,null,null,null,null,null,null,null,null,null,null,null,null,null,null,null,null,null,null,null,null,null,null,null,null,null,null,0,0,0,0,0,null,null,null,null,null,null,null,null,"TIM","RPEs Don’t Apply","CapRate 2 (UM)","Fast/Slow Split"]
[null,null,null,null,"Asset health Re-opener","SpC 3.14","£m 18/19 prices","AHt","UM",null,null,null,null,null,null,null,null,null,null,null,null,null,null,null,null,null,null,null,null,null,null,null,null,null,null,null,null,null,null,null,null,0,0,0,0,0,null,null,null,null,null,null,null,null,"TIM","RPEs Don’t Apply","CapRate 2 (UM)","Fast/Slow Split"]
[null,null,null,null,"Asset health – non lead assets Re-opener","SpC 3.15","£m 18/19 prices","NLAAHt","UM",null,null,null,null,null,null,null,null,null,null,null,null,null,null,null,null,null,null,null,null,null,null,null,null,null,null,null,null,null,null,null,null,0,0,0,0,0,null,null,null,null,null,null,null,null,"TIM","RPEs Don’t Apply","CapRate 2 (UM)","Fast/Slow Split"]
[null,null,null,null,"Uncertain Costs Re-opener","SpC 3.17","£m 18/19 prices","QLt and PDt","UM",null,null,null,null,null,null,null,null,null,null,null,null,null,null,null,null,null,null,null,null,null,null,null,null,null,null,null,null,null,null,null,null,0,0,0,0,0,null,null,null,null,null,null,null,null,"TIM","RPEs Don’t Apply","CapRate 2 (UM)","Fast/Slow Split"]
[null,null,null,null,"Net Zero Pre-construction Work and Small Net Zero Projects Re-opener","SpC 3.9","£m 18/19 prices","NZPt","UM",null,null,null,null,null,null,null,null,null,null,null,null,null,null,null,null,null,null,null,null,null,null,null,null,null,null,null,null,null,null,null,null,0,0,0,0,0,null,null,null,null,null,null,null,null,"TIM","RPEs Don’t Apply","CapRate 2 (UM)","Fast/Slow Split"]
[null,null,null,null,"Bacton terminal site redevelopment Re-Opener","SpC 3.10","£m 18/19 prices","BTREt","UM",null,null,null,null,null,null,null,null,null,null,null,null,null,null,null,null,null,null,null,null,null,null,null,null,null,null,null,null,null,null,null,null,0,0,0,0,0,null,null,null,null,null,null,null,null,"TIM","RPEs Don’t Apply","CapRate 2 (UM)","Fast/Slow Split"]
[null,null,null,null,"Physical Security Re-Opener","SpC 3.4","£m 18/19 prices","PSUPREt","UM",null,null,null,null,null,null,null,null,null,null,null,null,null,null,null,null,null,null,null,null,null,null,null,null,null,null,null,null,null,null,null,null,0,0,0,0,0,null,null,null,null,null,null,null,null,"TIM","RPEs Don’t Apply","CapRate 2 (UM)","Fast/Slow Split"]
[null,null,null,null,"Compressor emissions Re-Opener","SpC 3.11","£m 18/19 prices","CEPREt","UM",null,null,null,null,null,null,null,null,null,null,null,null,null,null,null,null,null,null,null,null,null,null,null,null,null,null,null,null,null,null,null,null,0,0,0,0,0,null,null,null,null,null,null,null,null,"TIM","RPEs Don’t Apply","CapRate 2 (UM)","Fast/Slow Split"]
[null,null,null,null,"Cyber Resilience OT Re-Opener","SpC 3.2","£m 18/19 prices","CROTREt","UM",null,null,null,null,null,null,null,null,null,null,null,null,null,null,null,null,null,null,null,null,null,null,null,null,null,null,null,null,null,null,null,null,0,0,0,0,0,null,null,null,null,null,null,null,null,"Non-Tim","RPEs Don’t Apply","CapRate 2 (UM)","Fast/Slow Split"]
[null,null,null,null,"Cyber Resilience IT Re-Opener","SpC 3.3","£m 18/19 prices","CRITREt","UM",null,null,null,null,null,null,null,null,null,null,null,null,null,null,null,null,null,null,null,null,null,null,null,null,null,null,null,null,null,null,null,null,0,0,0,0,0,null,null,null,null,null,null,null,null,"TIM","RPEs Don’t Apply","CapRate 2 (UM)","Fast/Slow Split"]
[null,null,null,null,"King's Lynn subsidence Re-Opener","SpC 3.12","£m 18/19 prices","KLSREt","UM",null,null,null,null,null,null,null,null,null,null,null,null,null,null,null,null,null,null,null,null,null,null,null,null,null,null,null,null,null,null,null,null,0,0,0,0,0,null,null,null,null,null,null,null,null,"TIM","RPEs Don’t Apply","CapRate 2 (UM)","Fast/Slow Split"]
[null,null,null,null,"Funded incremental obligated capacity Re-Opener","SpC 3.13","£m 18/19 prices","FIOCREt","UM",null,null,null,null,null,null,null,null,null,null,null,null,null,null,null,null,null,null,null,null,null,null,null,null,null,null,null,null,null,null,null,null,0,0,0,0,0,null,null,null,null,null,null,null,null,"TIM","RPEs Don’t Apply","CapRate 2 (UM)","Fast/Slow Split"]
[null,null,null,null,"Opex Escalator","SpC 3.18","£m 18/19 prices","OEt","UM",null,null,null,null,null,null,null,null,null,null,null,null,null,null,null,null,null,null,null,null,null,null,null,null,null,null,null,null,null,null,null,null,0,0,0,0,0,null,null,null,null,null,null,null,null,"TIM","RPEs Don’t Apply","CapRate 2 (UM)","Fast/Slow Split"]
[null,null,null,null,"Spare UM 1",null,"£m 18/19 prices",null,"UM",null,null,null,null,null,null,null,null,null,null,null,null,null,null,null,null,null,null,null,null,null,null,null,null,null,null,null,null,null,null,null,null,0,0,0,0,0,null,null,null,null,null,null,null,null,0,0,0,0]
[null,null,null,null,"Spare UM 2",null,"£m 18/19 prices",null,"UM",null,null,null,null,null,null,null,null,null,null,null,null,null,null,null,null,null,null,null,null,null,null,null,null,null,null,null,null,null,null,null,null,0,0,0,0,0,null,null,null,null,null,null,null,null,0,0,0,0]
[null,null,null,null,"Spare UM 3",null,"£m 18/19 prices",null,"UM",null,null,null,null,null,null,null,null,null,null,null,null,null,null,null,null,null,null,null,null,null,null,null,null,null,null,null,null,null,null,null,null,0,0,0,0,0,null,null,null,null,null,null,null,null,0,0,0,0]
[null,null,null,null,"RPE non-variant allowances - FYI only",null,"£m 18/19 prices","RPEAt (non-variant)","UM",null,null,null,null,null,null,null,null,null,null,null,null,null,null,null,null,null,null,null,null,null,null,null,null,null,null,null,null,null,null,null,null,{"$f":"SUM(AP10:AP15) * (PRODUCT(1 + $AN127:AP127) - 1)","v":0.66750421626868728},{"$f":"SUM(AQ10:AQ15) * (PRODUCT(1 + $AN127:AQ127) - 1)","v":2.2680108140216029},{"$f":"SUM(AR10:AR15) * (PRODUCT(1 + $AN127:AR127) - 1)","v":4.3097991060835472},{"$f":"SUM(AS10:AS15) * (PRODUCT(1 + $AN127:AS127) - 1)","v":5.9888924143276041},{"$f":"SUM(AT10:AT15) * (PRODUCT(1 + $AN127:AT127) - 1)","v":7.142363633966462},null,null,null,null,null,null,null,null,"TIM",0,"CapRate 1 (Baseline)","Fast/Slow Split"]
[null,null,null,null,"RPE PCDs - FYI only",null,"£m 18/19 prices","RPEAt (PCD)","UM",null,null,null,null,null,null,null,null,null,null,null,null,null,null,null,null,null,null,null,null,null,null,null,null,null,null,null,null,null,null,null,null,{"$f":"SUMPRODUCT((AP$20:AP$52) * ($BD$20:$BD$52 = \"RPEs Apply\") * ($BE$20:$BE$52 = \"CapRate 1 (Baseline)\")) * (PRODUCT(1 + $AN127:AP127) - 1)","v":0.51474418942293276},{"$f":"SUMPRODUCT((AQ$20:AQ$52) * ($BD$20:$BD$52 = \"RPEs Apply\") * ($BE$20:$BE$52 = \"CapRate 1 (Baseline)\")) * (PRODUCT(1 + $AN127:AQ127) - 1)","v":2.9681409581057809},{"$f":"SUMPRODUCT((AR$20:AR$52) * ($BD$20:$BD$52 = \"RPEs Apply\") * ($BE$20:$BE$52 = \"CapRate 1 (Baseline)\")) * (PRODUCT(1 + $AN127:AR127) - 1)","v":5.2281728866070676},{"$f":"SUMPRODUCT((AS$20:AS$52) * ($BD$20:$BD$52 = \"RPEs Apply\") * ($BE$20:$BE$52 = \"CapRate 1 (Baseline)\")) * (PRODUCT(1 + $AN127:AS127) - 1)","v":3.9770662782231421},{"$f":"SUMPRODUCT((AT$20:AT$52) * ($BD$20:$BD$52 = \"RPEs Apply\") * ($BE$20:$BE$52 = \"CapRate 1 (Baseline)\")) * (PRODUCT(1 + $AN127:AT127) - 1)","v":5.0682338245617675},null,null,null,null,null,null,null,null,"TIM",0,"CapRate 1 (Baseline)","Fast/Slow Split"]
[null,null,null,null,"RPE UMs - FYI only",null,"£m 18/19 prices","RPEAt (UM)","UM",null,null,null,null,null,null,null,null,null,null,null,null,null,null,null,null,null,null,null,null,null,null,null,null,null,null,null,null,null,null,null,null,{"$f":"SUMPRODUCT((AP$20:AP$52) * ($BD$20:$BD$52 = \"RPEs Apply\") * ($BE$20:$BE$52 = \"CapRate 2 (UM)\")) * (PRODUCT(1 + $AN127:AP127) - 1)","v":0},{"$f":"SUMPRODUCT((AQ$20:AQ$52) * ($BD$20:$BD$52 = \"RPEs Apply\") * ($BE$20:$BE$52 = \"CapRate 2 (UM)\")) * (PRODUCT(1 + $AN127:AQ127) - 1)","v":0},{"$f":"SUMPRODUCT((AR$20:AR$52) * ($BD$20:$BD$52 = \"RPEs Apply\") * ($BE$20:$BE$52 = \"CapRate 2 (UM)\")) * (PRODUCT(1 + $AN127:AR127) - 1)","v":0},{"$f":"SUMPRODUCT((AS$20:AS$52) * ($BD$20:$BD$52 = \"RPEs Apply\") * ($BE$20:$BE$52 = \"CapRate 2 (UM)\")) * (PRODUCT(1 + $AN127:AS127) - 1)","v":0},{"$f":"SUMPRODUCT((AT$20:AT$52) * ($BD$20:$BD$52 = \"RPEs Apply\") * ($BE$20:$BE$52 = \"CapRate 2 (UM)\")) * (PRODUCT(1 + $AN127:AT127) - 1)","v":0},null,null,null,null,null,null,null,null,"TIM",0,"CapRate 2 (UM)","Fast/Slow Split"]
[]
[null,"Actual totex"]
[]
[null,null,null,null,"Capitalisation rate 1:"]
[null,null,null,null,"Actual load related capex expenditure",null,"£m 18/19 prices","ALC",null,">",null,null,null,null,null,null,null,null,null,null,null,null,null,null,null,null,null,null,null,null,null,null,null,3.8842254841001029,1.6075532847894727,1.504713519673716,1.8047572329368637,2.741304626813073,2.4580965199999989,8.0545578557774817,1.527043688745604,1.9779514619147203,2.9472105406130411,2.3900757234535996,1.9927175424639441,1.6600000000000001,null,"AIP 2020 PCFMs"]
[null,null,null,null,"Actual asset replacement capex expenditure",null,"£m 18/19 prices","ARC",null,">",null,null,null,null,null,null,null,null,null,null,null,null,null,null,null,null,null,null,null,null,null,null,null,63.309012974075131,60.431977371442791,81.456583995344701,103.16389642225062,130.37473696357736,113.13051973999997,64.750474675560682,76.363184673928714,112.41692705692083,171.82579275225982,194.17675243146417,111.82186448096374,104.96026438269078,null,"AIP 2020 PCFMs"]
[null,null,null,null,"Actual other capex expenditure",null,"£m 18/19 prices","AOC",null,">",null,null,null,null,null,null,null,null,null,null,null,null,null,null,null,null,null,null,null,null,null,null,null,33.691715310966515,37.340614169595412,30.840153157821391,16.016923286094016,46.275895268043648,51.037120609999981,32.707050357345175,40.494890935746213,46.941091304769124,94.006934147213556,84.222842453303983,3.3446286435108754,2.0477006277467233,null,"AIP 2020 PCFMs"]
[null,null,null,null,"Actual non-load (opex)",null,"£m 18/19 prices","ACO",null,">",null,null,null,null,null,null,null,null,null,null,null,null,null,null,null,null,null,null,null,null,null,null,null,86.368094128219639,91.348182502192884,91.68794060508624,103.52788319541833,111.05072158904547,117.33320346345241,110.57330475977166,105.49942412706345,42.548943384532755,42.824297858287068,43.20760265882253,45.649061443260607,42.553708955783151,null,"AIP 2020 PCFMs"]
[null,null,null,null,"Actual indirects (opex)",null,"£m 18/19 prices","AIO",null,null,null,null,null,null,null,null,null,null,null,null,null,null,null,null,null,null,null,null,null,null,null,null,null,null,null,null,null,null,null,null,null,72.01853324883524,80.695753609767621,80.323457689122989,56.435121113861555,55.251322961856715,null,"AIP 2020 PCFMs"]
[null,null,null,null,"Actual non-operational capex",null,"£m 18/19 prices","ANC",null,">",null,null,null,null,null,null,null,null,null,null,null,null,null,null,null,null,null,null,null,null,null,null,null,13.835551486661796,13.081375920997472,14.631779909658695,23.588516317735717,18.810076909853908,21.901896941999986,23.105789686819655,16.096250859441142,26.217679094001976,24.960603391565677,22.691537880985955,20.852427415862305,19.949014660910692,null,"AIP 2020 PCFMs"]
[]
[null,null,null,null,"Capitalisation rate 2:"]
[null,null,null,null,"Actual load related capex expenditure",null,"£m 18/19 prices","ALCU",null,">",null,null,null,null,null,null,null,null,null,null,null,null,null,null,null,null,null,null,null,null,null,null,null,0,0,0,0,0,0,0,0,0,0,0,0,0,null,"AIP 2020 PCFMs"]
[null,null,null,null,"Actual asset replacement capex expenditure",null,"£m 18/19 prices","ARCU",null,">",null,null,null,null,null,null,null,null,null,null,null,null,null,null,null,null,null,null,null,null,null,null,null,0,5.0442877995053967,3.1922234111366521,32.866556215508616,56.260005540805558,41.692763889999981,26.516551078985952,11.121878893241854,0,0,0,0,0,null,"AIP 2020 PCFMs"]
[null,null,null,null,"Actual other capex expenditure",null,"£m 18/19 prices","AOCU",null,">",null,null,null,null,null,null,null,null,null,null,null,null,null,null,null,null,null,null,null,null,null,null,null,40.174414935883647,26.13474431929076,15.890135228021656,4.2556300528393258,23.365912949301627,27.283441769999992,27.563450248731417,10.126440292876769,0,0,0,0,0,null,"AIP 2020 PCFMs"]
[null,null,null,null,"Actual non-load (opex)",null,"£m 18/19 prices","ACOU",null,null,null,null,null,null,null,null,null,null,null,null,null,null,null,null,null,null,null,null,null,null,null,null,null,null,null,null,null,null,null,null,null,0,0,0,0,0,null,"AIP 2020 PCFMs"]
[null,null,null,null,"Actual indirects (opex)",null,"£m 18/19 prices","AIOU",null,">",null,null,null,null,null,null,null,null,null,null,null,null,null,null,null,null,null,null,null,null,null,null,null,6.7486199634385162,4.758754566539265,6.7049057332634074,8.4555396179768358,10.91740062215375,8.7336940939659335,7.9306251834061117,6.9407642925661079,0,0,0,0,0,null,"AIP 2020 PCFMs"]
[null,null,null,null,"Actual non-operational capex",null,"£m 18/19 prices","ANCU",null,null,null,null,null,null,null,null,null,null,null,null,null,null,null,null,null,null,null,null,null,null,null,null,null,null,null,null,null,null,null,null,null,0,0,0,0,0,null,"AIP 2020 PCFMs"]
[]
[null,"Pass-through costs"]
[]
[null,null,null,null,"Licence Fees","SpC 6.1","£m 18/19 prices","LFt",null,null,null,null,null,null,null,null,null,null,null,null,null,null,null,null,null,null,null,null,null,null,null,null,null,null,null,null,null,null,null,null,null,18.302749364945146,18.299667805855627,18.300072978146023,18.296503800337184,18.301755109932824]
[null,null,null,null,"Prescribed Rates","SpC 6.1","£m 18/19 prices","RBt",null,null,null,null,null,null,null,null,null,null,null,null,null,null,null,null,null,null,null,null,null,null,null,null,null,null,null,null,null,null,null,null,null,103.00000000000011,103.00000000000011,103.00000000000011,103.00000000000011,103.00000000000011]
[null,null,null,null,"Pension Scheme Established Deficit repair","SpC 6.1","£m 18/19 prices","EDEt",null,null,null,null,null,null,null,null,null,null,null,null,null,null,null,null,null,null,null,null,null,null,null,null,null,null,null,null,null,null,null,null,null,-11.029447860342966,-11.029447860342966,-11.029447860342966,0,0]
[null,null,null,null,"Bad Debt","SpC 6.1","£m 18/19 prices","BDt",null,null,null,null,null,null,null,null,null,null,null,null,null,null,null,null,null,null,null,null,null,null,null,null,null,null,null,null,null,null,null,null,null,0,0,0,0,0]
[null,null,null,null,"Secretary of State in respect of Policing Costs","SpC 6.1","£m 18/19 prices","OPTCt",null,null,null,null,null,null,null,null,null,null,null,null,null,null,null,null,null,null,null,null,null,null,null,null,null,null,null,null,null,null,null,null,null,16.037898716771146,15.968271414731161,16.344327792041856,16.729194718379556,17.1237922693911]
[null,null,null,null,"PARCA Termination Value","SpC 6.1","£m 18/19 prices","PTVt",null,null,null,null,null,null,null,null,null,null,null,null,null,null,null,null,null,null,null,null,null,null,null,null,null,null,null,null,null,null,null,null,null,0,0,0,0,0]
[null,null,null,null,"Gas conveyed to Independent Systems","SpC 6.2","£m 18/19 prices","ISt",null,null,null,null,null,null,null,null,null,null,null,null,null,null,null,null,null,null,null,null,null,null,null,null,null,null,null,null,null,null,null,null,null,16.469435949029975,16.469435949029975,16.469435949029975,16.469435949029975,16.469435949029975]
[null,null,null,null,"Hy-Net","SpC 6.1","£m 18/19 prices","Hyt",null,null,null,null,null,null,null,null,null,null,null,null,null,null,null,null,null,null,null,null,null,null,null,null,null,null,null,null,null,null,null,null,null,4.05,4.05,4.05,0,0]
[null,null,null,null,"Net Zero Pre-construction Work and Small Net Zero Projects Re-opener","SpC 6.1","£m 18/19 prices","NZPSt",null,null,null,null,null,null,null,null,null,null,null,null,null,null,null,null,null,null,null,null,null,null,null,null,null,null,null,null,null,null,null,null,null,0,0,0,0,0]
[]
[null,"Incentive revenue"]
[]
[null,null,null,null,"Business plan incentive",null,"£m 18/19 prices","BPIt",null,null,null,null,null,null,null,null,null,null,null,null,null,null,null,null,null,null,null,null,null,null,null,null,null,null,null,null,null,null,null,null,null,-4.3390000000000004,-4.3390000000000004,-4.3390000000000004,-4.3390000000000004,-4.3390000000000004]
[]
[null,null,null,null,"Customer satisfaction survey ODI","SpC 4.2","£m 18/19 prices","CSIt",null,null,null,null,null,null,null,null,null,null,null,null,null,null,null,null,null,null,null,null,null,null,null,null,null,null,null,null,null,null,null,null,null,0,0,0,0,0]
[null,null,null,null,"Environmental scorecard ODI","SpC 4.3","£m 18/19 prices","ESIt",null,null,null,null,null,null,null,null,null,null,null,null,null,null,null,null,null,null,null,null,null,null,null,null,null,null,null,null,null,null,null,null,null,0,0,0,0,0]
[]
[null,"Other revenue allowances"]
[]
[null,null,null,null,"RIIO-2 Network Innovation Allowance\n","SpC 5.2","£m 18/19 prices","NIAt",null,null,null,null,null,null,null,null,null,null,null,null,null,null,null,null,null,null,null,null,null,null,null,null,null,null,null,null,null,null,null,null,null,5,5,5,5,5]
[null,null,null,null,"Carry-over Network Innovation Allowance ","SpC 5.3","£m 18/19 prices","CNIAt",null,null,null,null,null,null,null,null,null,null,null,null,null,null,null,null,null,null,null,null,null,null,null,null,null,null,null,null,null,null,null,null,null,0.04,0,0,0,0]
[null,null,null,null,"The Strategic Innovation Fund ","S.C 5.7","£m 18/19 prices","SIFFt",null,null,null,null,null,null,null,null,null,null,null,null,null,null,null,null,null,null,null,null,null,null,null,null,null,null,null,null,null,null,null,null,null,0,0,0,0,0]
[null,null,null,null,"Spare 2",null,"£m 18/19 prices",null,null,null,null,null,null,null,null,null,null,null,null,null,null,null,null,null,null,null,null,null,null,null,null,null,null,null,null,null,null,null,null,null,null,0,0,0,0,0]
[null,null,null,null,"Spare 3",null,"£m 18/19 prices",null,null,null,null,null,null,null,null,null,null,null,null,null,null,null,null,null,null,null,null,null,null,null,null,null,null,null,null,null,null,null,null,null,null,0,0,0,0,0]
[null,null,null,null,"Pre-RIIO-1 pension true-up",null,"£m 18/19 prices",null,131.58850436734917]
[]
[null,"Legacy adjustments"]
[]
[null,null,null,null,"Legacy pass-through","SpC 7.2","£m nominal","LPTt",null,null,null,null,null,null,null,null,null,null,null,null,null,null,null,null,null,null,null,null,null,null,null,null,null,null,null,null,null,null,null,null,null,-16.595102708643282]
[null,null,null,null,"Legacy MOD","SpC 7.3","£m nominal","LMODt",null,null,null,null,null,null,null,null,null,null,null,null,null,null,null,null,null,null,null,null,null,null,null,null,null,null,null,null,null,null,null,null,null,1.6847999999999999,-1.3113000000000001]
[null,null,null,null,"Legacy K correction","SpC 7.4","£m nominal","LKt",null,null,null,null,null,null,null,null,null,null,null,null,null,null,null,null,null,null,null,null,null,null,null,null,null,null,null,null,null,null,null,null,null,16.350991573564983]
[null,null,null,null,"Legacy TRU","SpC 7.5","£m nominal","LTRUt",null,null,null,null,null,null,null,null,null,null,null,null,null,null,null,null,null,null,null,null,null,null,null,null,null,null,null,null,null,null,null,null,null,-6.0956124848115714,-1.1770835387499441]
[null,null,null,null,"Close out of the RIIO-GT1 network outputs","SpC 7.6","£m nominal","NOCOt"]
[null,null,null,null,"RIIO-GT1 network innovation competition","SpC 7.7","£m nominal","NICFt",null,null,null,null,null,null,null,null,null,null,null,null,null,null,null,null,null,null,null,null,null,null,null,null,null,null,null,null,null,null,null,null,null,27.17]
[null,null,null,null,"Close out of the RIIO-GT1 stakeholder satisfaction output","SpC 7.8","£m nominal","SSCOt",null,null,null,null,null,null,null,null,null,null,null,null,null,null,null,null,null,null,null,null,null,null,null,null,null,null,null,null,null,null,null,null,null,4.6837157644795937,-7.6633679090531839]
[null,null,null,null,"Legacy net RAV additions","SpC 7.9","£m 18/19 prices","LRAVt",null,">",null,null,null,null,null,null,null,null,null,null,null,null,null,null,null,null,null,null,null,null,null,null,null,212.5523707516233,170.28866360126466,160.76820306435465,181.59587737509875,245.9491647431349,229.32945839854813,174.25903562198178,149.34140951034567,null,null,null,null,null,null,"RAV carry over"]
[]
[null,"Directly remunerated services"]
[]
[null,null,null,null,"Pre-vesting directly remunerated services",null,"£m 18/19 prices","PREDRSt"]
[null,null,null,null,"Post-vesting directly remunerated services",null,"£m 18/19 prices","POSDRSt",null,null,null,null,null,null,null,null,null,null,null,null,null,null,null,null,null,null,null,null,null,null,null,null,null,null,null,null,null,null,null,null,null,13.857556726197064,13.857556726197064,13.857556726197064,13.857556726197064,13.857556726197064]
[null,null,null,null,"Other income from directly remenerated services",null,"£m 18/19 prices","OIDRSt"]
[null,null,null,null,"Identified directly remunerated services costs",null,"£m 18/19 prices","IDRSt",null,null,null,null,null,null,null,null,null,null,null,null,null,null,null,null,null,null,null,null,null,null,null,null,null,null,null,null,null,null,null,null,null,-13.857556726197064,-13.857556726197064,-13.857556726197064,-13.857556726197064,-13.857556726197064]
[]
[null,"Finance inputs"]
[]
[null,null,null,null,"iBoxx trailing average",null,"annual real %","iBTAt",null,null,null,null,null,null,null,null,null,null,null,null,null,null,null,null,null,null,null,null,null,null,null,null,null,null,null,null,null,null,null,null,null,2.0500000000000001E-2,1.9E-2,1.7999999999999999E-2,1.7100000000000001E-2,1.6500000000000001E-2]
[null,null,null,null,"Risk-free rate",null,"annual real %","RFRt",null,null,null,null,null,null,null,null,null,null,null,null,null,null,null,null,null,null,null,null,null,null,null,null,null,null,null,null,null,null,null,null,null,-1.7100000000000001E-2,-1.66E-2,-1.5800000000000002E-2,-1.5100000000000001E-2,-1.43E-2]
[null,null,null,null,"Sterling Overnight Index Average (SONIA)","SpC 2.1","annual nominal %","It",null,">",null,null,null,null,null,null,null,null,null,null,null,null,null,null,null,null,null,null,null,null,null,null,null,null,null,null,null,null,null,null,6.0424854179993959E-4,4.5973702505714439E-4,8.648026937470648E-4,1.4141542757024586E-3,2.0702335211076469E-3,2.600000849653616E-3]
[]
[null,null,null,null,"RPE annual growth",null,"annual %","RPEt",null,">",null,null,null,null,null,null,null,null,null,null,null,null,null,null,null,null,null,null,null,null,null,null,null,null,null,null,null,null,null,-5.4458712360806894E-3,-9.7960646891906977E-3,2.0076182098778844E-2,1.1613634806808996E-2,1.3062741393147441E-2,1.3691685349800312E-2,1.3249341228205577E-2]
[]
[null,null,null,null,"Adjusted net debt",null,"£m nominal","ANDt"]
[null,null,null,null,"Tax deductible net interest cost",null,"£m nominal","TDNIt"]
[null,null,null,null,"Tax allowance adjustment","SpC 2.2","£m nominal","TAXAt"]
[null,null,null,null,"Tax liability – tax trigger events",null,"£m 18/19 prices","TTEt"]
[]
[null,null,null,null,"Notional gearing for \"Tax clawback gearing level test\"",null,"%",null,null,null,null,null,null,null,null,null,null,null,null,null,null,null,null,null,null,null,null,null,null,null,null,null,null,null,null,null,null,null,null,null,null,0.625,0.61880000000000002,0.61250000000000004,0.60629999999999995,0.6]
[null,null,null,null,"Tax trigger deadband",null,"£m 18/19 prices",null,null,null,null,null,null,null,null,null,null,null,null,null,null,null,null,null,null,null,null,null,null,null,null,null,null,null,null,null,null,null,null,null,null,2.4079045095034153,2.4996671737090232,2.5160510965805876,2.3238778201799244,2.2881683619967679]
[]
[null,null,null,null,"General pool capital allowance opening balance brought forward",null,"£m nominal","OGPt",null,null,null,null,null,null,null,null,null,null,null,null,null,null,null,null,null,null,null,null,null,null,null,null,null,null,null,null,null,null,null,null,null,218.62847778800551,null,null,null,null,null,"AIP 2020 PCFMs"]
[null,null,null,null,"Special Rate capital allowance opening balance brought forward",null,"£m nominal","OSRPt",null,null,null,null,null,null,null,null,null,null,null,null,null,null,null,null,null,null,null,null,null,null,null,null,null,null,null,null,null,null,null,null,null,1634.022843171673,null,null,null,null,null,"AIP 2020 PCFMs"]
[null,null,null,null,"Structures and buildings capital allowance opening balance brought forward",null,"£m nominal","OSBPt",null,null,null,null,null,null,null,null,null,null,null,null,null,null,null,null,null,null,null,null,null,null,null,null,null,null,null,null,null,null,null,null,null,0,null,null,null,null,null,"AIP 2020 PCFMs"]
[null,null,null,null,"Deferred revenue expenditure opening balance brought forward",null,"£m nominal","ODRPt",null,null,null,null,null,null,null,null,null,null,null,null,null,null,null,null,null,null,null,null,null,null,null,null,null,null,null,null,null,null,null,null,null,0,null,null,null,null,null,"AIP 2020 PCFMs"]
[null,null,null,null,"Deferred revenue pool additions (RIIO1) plus opening balance at start of RIIO1",null,"£m nominal","LODRPt",null,">",null,null,null,null,null,null,null,null,null,null,null,null,null,null,null,null,null,null,null,null,null,null,null,null,null,null,null,null,null,null,0,null,null,null,null,null,null,"AIP 2020 PCFMs"]
[null,null,null,null,"Tax loss brought forward",null,"£m nominal","OTLt",null,null,null,null,null,null,null,null,null,null,null,null,null,null,null,null,null,null,null,null,null,null,null,null,null,null,null,null,null,null,null,null,null,0,null,null,null,null,null,"AIP 2020 PCFMs"]
[]
[null,null,null,null,"Totex allocation to \"General\" tax pool",null,"%","ARGPt",null,null,null,null,null,null,null,null,null,null,null,null,null,null,null,null,null,null,null,null,null,null,null,null,null,null,null,null,null,null,null,null,null,0.18701026443985583,0.1995347222001809,0.18093772010616962,0.1168874783775718,0.11542032383677082]
[null,null,null,null,"Totex allocation to \"Special Rate\" tax pool",null,"%","ARSRt",null,null,null,null,null,null,null,null,null,null,null,null,null,null,null,null,null,null,null,null,null,null,null,null,null,null,null,null,null,null,null,null,null,0.42341306282094709,0.49163151843421532,0.51757541599609003,0.45049784596705122,0.44544004790073499]
[null,null,null,null,"Totex allocation to \"Structures and Buildings\" tax pool",null,"%","ARSBt",null,null,null,null,null,null,null,null,null,null,null,null,null,null,null,null,null,null,null,null,null,null,null,null,null,null,null,null,null,null,null,null,null,9.1837336149433041E-3,1.1713894526616147E-2,1.1468759946578517E-2,6.3415530324603927E-3,6.1620683213308653E-3]
[null,null,null,null,"Totex allocation to \"Deferred Revenue\" tax pool",null,"%","ARDRt",null,null,null,null,null,null,null,null,null,null,null,null,null,null,null,null,null,null,null,null,null,null,null,null,null,null,null,null,null,null,null,null,null,0,0,0,0,0]
[null,null,null,null,"Totex allocation to \"Revenue\" tax pool",null,"%","ARRt",null,null,null,null,null,null,null,null,null,null,null,null,null,null,null,null,null,null,null,null,null,null,null,null,null,null,null,null,null,null,null,null,null,0.37905738808476308,0.29550766332966238,0.28837102042974838,0.42505281529574307,0.43177717378609237]
[null,null,null,null,"Totex allocation to \"Non Qualifying\" tax pool",null,"%","ARNQt",null,null,null,null,null,null,null,null,null,null,null,null,null,null,null,null,null,null,null,null,null,null,null,null,null,null,null,null,null,null,null,null,null,1.3355510394905546E-3,1.612201509325279E-3,1.6470835214134893E-3,1.2203073271735256E-3,1.2003861550708098E-3]
[null,null,null,null,"Totex allocation check",null,"%",null,null,null,null,null,null,null,null,null,null,null,null,null,null,null,null,null,null,null,null,null,null,null,null,null,null,null,null,null,null,null,null,null,null,{"$f":"SUM(AP144:AP149)","v":0.99999999999999989},{"$f":"SUM(AQ144:AQ149)","v":1},1,1,0.99999999999999978]
[]
[null,null,null,null,"Corporation tax rate",null,"%","CTt",null,null,null,null,null,null,null,null,null,null,null,null,null,null,null,null,null,null,null,null,null,null,null,null,null,null,null,null,null,null,null,null,null,0.19,0.19,0.25,0.25,0.25]
[null,null,null,null,"General pool capital allowance rate",null,"%","GCAt",null,null,null,null,null,null,null,null,null,null,null,null,null,null,null,null,null,null,null,null,null,null,null,null,null,null,null,null,null,null,null,null,null,0.18,0.18,0.18,0.18,0.18]
[null,null,null,null,"Special Rates capital allowance rate",null,"%","SRCAt",null,null,null,null,null,null,null,null,null,null,null,null,null,null,null,null,null,null,null,null,null,null,null,null,null,null,null,null,null,null,null,null,null,0.06,0.06,0.06,0.06,0.06]
[null,null,null,null,"Structures and buildings capital allowance rate",null,"%","SBCAt",null,null,null,null,null,null,null,null,null,null,null,null,null,null,null,null,null,null,null,null,null,null,null,null,null,null,null,null,null,null,null,null,null,0.03,0.03,0.03,0.03,0.03]
[null,null,null,null,"Deferred Revenue Expenditure capital allowance rate",null,"%","DRCAt",null,null,null,null,null,null,null,null,null,null,null,null,null,null,null,null,null,null,null,null,null,null,null,null,null,null,null,null,null,null,null,null,null,2.2200000000000001E-2,2.2200000000000001E-2,2.2200000000000001E-2,2.2200000000000001E-2,2.2200000000000001E-2]
[]
[null,null,null,null,"RIIO-1 allowed revenue","SpC 2.1","£m nominal","RIIO-1 ARt",null,">",null,null,null,null,null,null,null,null,null,null,null,null,null,null,null,null,null,null,null,null,null,null,null,null,null,null,null,null,null,null,780.1]
[null,null,null,null,"Recovered revenue","SpC 2.1","£m nominal","RRt",null,">",null,null,null,null,null,null,null,null,null,null,null,null,null,null,null,null,null,null,null,null,null,null,null,null,null,null,null,null,null,null,574]
[null,null,null,null,"K rate margin",null,"annual nominal %",null,null,">",null,null,null,null,null,null,null,null,null,null,null,null,null,null,null,null,null,null,null,null,null,null,null,null,null,null,null,null,null,null,1.15E-2,1.15E-2,1.15E-2,1.15E-2,1.15E-2,1.15E-2,1.15E-2]
[null,null,null,null,"Over/undercollection percentage for penal rate adjustment",null,"%",null,0.06]
[null,null,null,null,"Penal rate proportion","SpC 2.1","scalar","PRPt",null,">",null,null,null,null,null,null,null,null,null,null,null,null,null,null,null,null,null,null,null,null,null,null,null,null,null,null,null,null,null,null,1,1,1,1,1,1]
[]
[null,"Operational performance and return adjustment"]
[]
[null,null,null,null,"Threshold 1","SpC 2.5","annual real %","T1",0.03]
[null,null,null,null,"Threshold 2","SpC 2.5","annual real %","T2",0.04]
[null,null,null,null,"Adjustment rate 1","SpC 2.5","%","AR1",0.5]
[null,null,null,null,"Adjustment rate 2","SpC 2.5","%","AR2",0.9]
[]
[null,"Policy"]
[]
[null,null,"Allowed return on capital"]
[]
[null,null,null,null,"Uplift on iBoxx trailing average",null,"annual real %","CDEUt",null,null,null,null,null,null,null,null,null,null,null,null,null,null,null,null,null,null,null,null,null,null,null,null,null,null,null,null,null,null,null,null,null,0,0,0,0,0]
[]
[null,null,null,null,"Equity Beta",null,"scalar",null,null,null,null,null,null,null,null,null,null,null,null,null,null,null,null,null,null,null,null,null,null,null,null,null,null,null,null,null,null,null,null,null,null,0.75861000000000001,0.75861000000000001,0.75861000000000001,0.75861000000000001,0.75861000000000001]
[null,null,null,null,"Total Market Return",null,"%",null,null,null,null,null,null,null,null,null,null,null,null,null,null,null,null,null,null,null,null,null,null,null,null,null,null,null,null,null,null,null,null,null,null,6.5000000000000002E-2,6.5000000000000002E-2,6.5000000000000002E-2,6.5000000000000002E-2,6.5000000000000002E-2]
[null,null,null,null,"Benchmark gearing (60%)",null,"%",null,null,null,null,null,null,null,null,null,null,null,null,null,null,null,null,null,null,null,null,null,null,null,null,null,null,null,null,null,null,null,null,null,null,0.6,0.6,0.6,0.6,0.6]
[null,null,null,null,"RIIO-2 notional gearing","SpC 2.5","%","G",0.6]
[null,null,null,null,"Annual notional gearing",null,"%",null,null,">",null,null,null,null,null,null,null,null,null,null,null,null,null,null,null,null,null,null,null,null,null,null,null,null,null,null,null,null,null,null,0.625,{"$f":"$I180","v":0.6},{"$f":"$I180","v":0.6},{"$f":"$I180","v":0.6},0.6,0.6]
[]
[null,null,null,null,"Expected outperformance at 60% gearing",null,"%",null,null,null,null,null,null,null,null,null,null,null,null,null,null,null,null,null,null,null,null,null,null,null,null,null,null,null,null,null,null,null,null,null,null,2.5000000000000001E-3,2.5000000000000001E-3,2.5000000000000001E-3,2.5000000000000001E-3,2.5000000000000001E-3]
[]
[null,null,null,null,"RIIO-1 vanilla allowed return on capital",null,"annual real %",null,null,">",null,null,null,null,null,null,null,null,null,null,null,null,null,null,null,null,null,null,null,null,null,null,null,4.3749999999999997E-2,4.2499999999999996E-2,4.1437500000000002E-2,4.0375000000000001E-2,3.9375E-2,3.7437499999999999E-2,3.5375000000000004E-2,3.2312500000000001E-2]
[]
[null,null,"Finance"]
[]
[null,null,null,null,"Minimum equity issuance threshold",null,"%",null,null,null,null,null,null,null,null,null,null,null,null,null,null,null,null,null,null,null,null,null,null,null,null,null,null,null,null,null,null,null,null,null,null,0.05,0.05,0.05,0.05,0.05]
[null,null,null,null,"Equity issuance costs",null,"%",null,null,null,null,null,null,null,null,null,null,null,null,null,null,null,null,null,null,null,null,null,null,null,null,null,null,null,null,null,null,null,null,null,null,0.05,0.05,0.05,0.05,0.05]
[null,null,null,null,"Assumed dividends as % of notional equity portion of RAV",null,"%",null,null,null,null,null,null,null,null,null,null,null,null,null,null,null,null,null,null,null,null,null,null,null,null,null,null,null,null,null,null,null,null,null,null,0.03,0.03,0.03,0.03,0.03]
[null,null,null,null,"Equity issuance gearing target",null,"%",null,null,null,null,null,null,null,null,null,null,null,null,null,null,null,null,null,null,null,null,null,null,null,null,null,null,null,null,null,null,null,null,null,null,0.6,0.6,0.6,0.6,0.6]
[null,null,null,null,"CPIH index-linked debt as a percentage of net debt",null,"%",null,null,null,null,null,null,null,null,null,null,null,null,null,null,null,null,null,null,null,null,null,null,null,null,null,null,null,null,null,null,null,null,null,null,0.3,0.3,0.3,0.3,0.3]
[null,null,null,null,"RPI index-linked debt as a percentage of net debt",null,"%",null,null,null,null,null,null,null,null,null,null,null,null,null,null,null,null,null,null,null,null,null,null,null,null,null,null,null,null,null,null,null,null,null,null,0,0,0,0,0]
[]
[null,null,"TIM and capitalisation"]
[]
[null,null,null,null,"Years from t until normal reporting of actual costs",null,"years",null,2]
[]
[null,null,null,null,"Capitalisation rate 1",null,"%",null,null,null,null,null,null,null,null,null,null,null,null,null,null,null,null,null,null,null,null,null,null,null,null,null,null,null,null,null,null,null,null,null,null,0.65,0.65,0.65,0.65,0.65]
[null,null,null,null,"Capitalisation rate 2",null,"%",null,null,null,null,null,null,null,null,null,null,null,null,null,null,null,null,null,null,null,null,null,null,null,null,null,null,null,null,null,null,null,null,null,null,0.75,0.75,0.75,0.75,0.75]
[]
[null,null,null,null,"RIIO-2 Funding Adjustment Rate ('sharing factor')",null,"%",null,0.61]
[]
[null,"Totex variant allowances allocation percentages"]
[]
[null,null,null,null,{"$f":"E$20","v":"Baseline Allowed NARM Expenditure"},null,"%","Load related capex",null,null,null,null,null,null,null,null,null,null,null,null,null,null,null,null,null,null,null,null,null,null,null,null,null,null,null,null,null,null,null,null,null,0,0,0,0,0,null,1]
[null,null,null,null,{"$f":"E207","v":"Baseline Allowed NARM Expenditure"},null,"%","Asset replacement capex",null,null,null,null,null,null,null,null,null,null,null,null,null,null,null,null,null,null,null,null,null,null,null,null,null,null,null,null,null,null,null,null,null,1,1,1,1,1,null,1]
[null,null,null,null,{"$f":"E208","v":"Baseline Allowed NARM Expenditure"},null,"%","Other capex",null,null,null,null,null,null,null,null,null,null,null,null,null,null,null,null,null,null,null,null,null,null,null,null,null,null,null,null,null,null,null,null,null,0,0,0,0,0,null,1]
[null,null,null,null,"Baseline Allowed NARM Expenditure",null,"%","Non-load (opex)",null,null,null,null,null,null,null,null,null,null,null,null,null,null,null,null,null,null,null,null,null,null,null,null,null,null,null,null,null,null,null,null,null,0,0,0,0,0,null,1]
[null,null,null,null,"Baseline Allowed NARM Expenditure",null,"%","Indirects (opex)",null,null,null,null,null,null,null,null,null,null,null,null,null,null,null,null,null,null,null,null,null,null,null,null,null,null,null,null,null,null,null,null,null,0,0,0,0,0,null,1]
[null,null,null,null,"Baseline Allowed NARM Expenditure",null,"%","Non-operational capex",null,null,null,null,null,null,null,null,null,null,null,null,null,null,null,null,null,null,null,null,null,null,null,null,null,null,null,null,null,null,null,null,null,0,0,0,0,0,null,1]
[null,null,null,null,{"$f":"E$21","v":"Physical security Price Control Deliverable"},null,"%","Load related capex",null,null,null,null,null,null,null,null,null,null,null,null,null,null,null,null,null,null,null,null,null,null,null,null,null,null,null,null,null,null,null,null,null,0,0,0,0,0,null,{"$f":"AV207 + 1","v":2}]
[null,null,null,null,{"$f":"E213","v":"Physical security Price Control Deliverable"},null,"%","Asset replacement capex",null,null,null,null,null,null,null,null,null,null,null,null,null,null,null,null,null,null,null,null,null,null,null,null,null,null,null,null,null,null,null,null,null,0,0,0,0,0,null,{"$f":"AV208 + 1","v":2}]
[null,null,null,null,{"$f":"E214","v":"Physical security Price Control Deliverable"},null,"%","Other capex",null,null,null,null,null,null,null,null,null,null,null,null,null,null,null,null,null,null,null,null,null,null,null,null,null,null,null,null,null,null,null,null,null,1,1,1,1,1,null,2]
[null,null,null,null,"Physical security Price Control Deliverable",null,"%","Non-load (opex)",null,null,null,null,null,null,null,null,null,null,null,null,null,null,null,null,null,null,null,null,null,null,null,null,null,null,null,null,null,null,null,null,null,0,0,0,0,0,null,2]
[null,null,null,null,"Physical security Price Control Deliverable",null,"%","Indirects (opex)",null,null,null,null,null,null,null,null,null,null,null,null,null,null,null,null,null,null,null,null,null,null,null,null,null,null,null,null,null,null,null,null,null,0,0,0,0,0,null,2]
[null,null,null,null,"Physical security Price Control Deliverable",null,"%","Non-operational capex",null,null,null,null,null,null,null,null,null,null,null,null,null,null,null,null,null,null,null,null,null,null,null,null,null,null,null,null,null,null,null,null,null,0,0,0,0,0,null,2]
[null,null,null,null,{"$f":"E$22","v":"Bacton terminal site redevelopment Price Control Deliverable"},null,"%","Load related capex",null,null,null,null,null,null,null,null,null,null,null,null,null,null,null,null,null,null,null,null,null,null,null,null,null,null,null,null,null,null,null,null,null,0,0,0,0,0,null,3]
[null,null,null,null,{"$f":"E219","v":"Bacton terminal site redevelopment Price Control Deliverable"},null,"%","Asset replacement capex",null,null,null,null,null,null,null,null,null,null,null,null,null,null,null,null,null,null,null,null,null,null,null,null,null,null,null,null,null,null,null,null,null,1,1,1,1,1,null,3]
[null,null,null,null,{"$f":"E220","v":"Bacton terminal site redevelopment Price Control Deliverable"},null,"%","Other capex",null,null,null,null,null,null,null,null,null,null,null,null,null,null,null,null,null,null,null,null,null,null,null,null,null,null,null,null,null,null,null,null,null,0,0,0,0,0,null,3]
[null,null,null,null,"Bacton terminal site redevelopment Price Control Deliverable",null,"%","Non-load (opex)",null,null,null,null,null,null,null,null,null,null,null,null,null,null,null,null,null,null,null,null,null,null,null,null,null,null,null,null,null,null,null,null,null,0,0,0,0,0,null,3]
[null,null,null,null,"Bacton terminal site redevelopment Price Control Deliverable",null,"%","Indirects (opex)",null,null,null,null,null,null,null,null,null,null,null,null,null,null,null,null,null,null,null,null,null,null,null,null,null,null,null,null,null,null,null,null,null,0,0,0,0,0,null,3]
[null,null,null,null,"Bacton terminal site redevelopment Price Control Deliverable",null,"%","Non-operational capex",null,null,null,null,null,null,null,null,null,null,null,null,null,null,null,null,null,null,null,null,null,null,null,null,null,null,null,null,null,null,null,null,null,0,0,0,0,0,null,3]
[null,null,null,null,{"$f":"E$23","v":"King's Lynn subsidence Price Control Deliverable"},null,"%","Load related capex",null,null,null,null,null,null,null,null,null,null,null,null,null,null,null,null,null,null,null,null,null,null,null,null,null,null,null,null,null,null,null,null,null,0,0,0,0,0,null,4]
[null,null,null,null,{"$f":"E225","v":"King's Lynn subsidence Price Control Deliverable"},null,"%","Asset replacement capex",null,null,null,null,null,null,null,null,null,null,null,null,null,null,null,null,null,null,null,null,null,null,null,null,null,null,null,null,null,null,null,null,null,1,1,1,1,1,null,4]
[null,null,null,null,{"$f":"E226","v":"King's Lynn subsidence Price Control Deliverable"},null,"%","Other capex",null,null,null,null,null,null,null,null,null,null,null,null,null,null,null,null,null,null,null,null,null,null,null,null,null,null,null,null,null,null,null,null,null,0,0,0,0,0,null,4]
[null,null,null,null,"King's Lynn subsidence Price Control Deliverable",null,"%","Non-load (opex)",null,null,null,null,null,null,null,null,null,null,null,null,null,null,null,null,null,null,null,null,null,null,null,null,null,null,null,null,null,null,null,null,null,0,0,0,0,0,null,4]
[null,null,null,null,"King's Lynn subsidence Price Control Deliverable",null,"%","Indirects (opex)",null,null,null,null,null,null,null,null,null,null,null,null,null,null,null,null,null,null,null,null,null,null,null,null,null,null,null,null,null,null,null,null,null,0,0,0,0,0,null,4]
[null,null,null,null,"King's Lynn subsidence Price Control Deliverable",null,"%","Non-operational capex",null,null,null,null,null,null,null,null,null,null,null,null,null,null,null,null,null,null,null,null,null,null,null,null,null,null,null,null,null,null,null,null,null,0,0,0,0,0,null,4]
[null,null,null,null,{"$f":"E$24","v":"Asset health - non lead assets Price Control Deliverable"},null,"%","Load related capex",null,null,null,null,null,null,null,null,null,null,null,null,null,null,null,null,null,null,null,null,null,null,null,null,null,null,null,null,null,null,null,null,null,0,0,0,0,0,null,5]
[null,null,null,null,{"$f":"E231","v":"Asset health - non lead assets Price Control Deliverable"},null,"%","Asset replacement capex",null,null,null,null,null,null,null,null,null,null,null,null,null,null,null,null,null,null,null,null,null,null,null,null,null,null,null,null,null,null,null,null,null,1,1,1,1,1,null,5]
[null,null,null,null,{"$f":"E232","v":"Asset health - non lead assets Price Control Deliverable"},null,"%","Other capex",null,null,null,null,null,null,null,null,null,null,null,null,null,null,null,null,null,null,null,null,null,null,null,null,null,null,null,null,null,null,null,null,null,0,0,0,0,0,null,5]
[null,null,null,null,"Asset health - non lead assets Price Control Deliverable",null,"%","Non-load (opex)",null,null,null,null,null,null,null,null,null,null,null,null,null,null,null,null,null,null,null,null,null,null,null,null,null,null,null,null,null,null,null,null,null,0,0,0,0,0,null,5]
[null,null,null,null,"Asset health - non lead assets Price Control Deliverable",null,"%","Indirects (opex)",null,null,null,null,null,null,null,null,null,null,null,null,null,null,null,null,null,null,null,null,null,null,null,null,null,null,null,null,null,null,null,null,null,0,0,0,0,0,null,5]
[null,null,null,null,"Asset health - non lead assets Price Control Deliverable",null,"%","Non-operational capex",null,null,null,null,null,null,null,null,null,null,null,null,null,null,null,null,null,null,null,null,null,null,null,null,null,null,null,null,null,null,null,null,null,0,0,0,0,0,null,5]
[null,null,null,null,{"$f":"E$25","v":"Compressor emissions Price Control Deliverable"},null,"%","Load related capex",null,null,null,null,null,null,null,null,null,null,null,null,null,null,null,null,null,null,null,null,null,null,null,null,null,null,null,null,null,null,null,null,null,0,0,0,0,0,null,6]
[null,null,null,null,{"$f":"E237","v":"Compressor emissions Price Control Deliverable"},null,"%","Asset replacement capex",null,null,null,null,null,null,null,null,null,null,null,null,null,null,null,null,null,null,null,null,null,null,null,null,null,null,null,null,null,null,null,null,null,1,1,1,1,1,null,6]
[null,null,null,null,{"$f":"E238","v":"Compressor emissions Price Control Deliverable"},null,"%","Other capex",null,null,null,null,null,null,null,null,null,null,null,null,null,null,null,null,null,null,null,null,null,null,null,null,null,null,null,null,null,null,null,null,null,0,0,0,0,0,null,6]
[null,null,null,null,"Compressor emissions Price Control Deliverable",null,"%","Non-load (opex)",null,null,null,null,null,null,null,null,null,null,null,null,null,null,null,null,null,null,null,null,null,null,null,null,null,null,null,null,null,null,null,null,null,0,0,0,0,0,null,6]
[null,null,null,null,"Compressor emissions Price Control Deliverable",null,"%","Indirects (opex)",null,null,null,null,null,null,null,null,null,null,null,null,null,null,null,null,null,null,null,null,null,null,null,null,null,null,null,null,null,null,null,null,null,0,0,0,0,0,null,6]
[null,null,null,null,"Compressor emissions Price Control Deliverable",null,"%","Non-operational capex",null,null,null,null,null,null,null,null,null,null,null,null,null,null,null,null,null,null,null,null,null,null,null,null,null,null,null,null,null,null,null,null,null,0,0,0,0,0,null,6]
[null,null,null,null,{"$f":"E$26","v":"Redundant Assets Price Control Deliverable"},null,"%","Load related capex",null,null,null,null,null,null,null,null,null,null,null,null,null,null,null,null,null,null,null,null,null,null,null,null,null,null,null,null,null,null,null,null,null,0,0,0,0,0,null,7]
[null,null,null,null,{"$f":"E243","v":"Redundant Assets Price Control Deliverable"},null,"%","Asset replacement capex",null,null,null,null,null,null,null,null,null,null,null,null,null,null,null,null,null,null,null,null,null,null,null,null,null,null,null,null,null,null,null,null,null,1,1,1,1,1,null,7]
[null,null,null,null,{"$f":"E244","v":"Redundant Assets Price Control Deliverable"},null,"%","Other capex",null,null,null,null,null,null,null,null,null,null,null,null,null,null,null,null,null,null,null,null,null,null,null,null,null,null,null,null,null,null,null,null,null,0,0,0,0,0,null,7]
[null,null,null,null,"Redundant Assets Price Control Deliverable",null,"%","Non-load (opex)",null,null,null,null,null,null,null,null,null,null,null,null,null,null,null,null,null,null,null,null,null,null,null,null,null,null,null,null,null,null,null,null,null,0,0,0,0,0,null,7]
[null,null,null,null,"Redundant Assets Price Control Deliverable",null,"%","Indirects (opex)",null,null,null,null,null,null,null,null,null,null,null,null,null,null,null,null,null,null,null,null,null,null,null,null,null,null,null,null,null,null,null,null,null,0,0,0,0,0,null,7]
[null,null,null,null,"Redundant Assets Price Control Deliverable",null,"%","Non-operational capex",null,null,null,null,null,null,null,null,null,null,null,null,null,null,null,null,null,null,null,null,null,null,null,null,null,null,null,null,null,null,null,null,null,0,0,0,0,0,null,7]
[null,null,null,null,{"$f":"E$27","v":"Funded incremental obligated capacity Price Control Deliverable"},null,"%","Load related capex",null,null,null,null,null,null,null,null,null,null,null,null,null,null,null,null,null,null,null,null,null,null,null,null,null,null,null,null,null,null,null,null,null,1,1,1,1,1,null,8]
[null,null,null,null,{"$f":"E249","v":"Funded incremental obligated capacity Price Control Deliverable"},null,"%","Asset replacement capex",null,null,null,null,null,null,null,null,null,null,null,null,null,null,null,null,null,null,null,null,null,null,null,null,null,null,null,null,null,null,null,null,null,0,0,0,0,0,null,8]
[null,null,null,null,{"$f":"E250","v":"Funded incremental obligated capacity Price Control Deliverable"},null,"%","Other capex",null,null,null,null,null,null,null,null,null,null,null,null,null,null,null,null,null,null,null,null,null,null,null,null,null,null,null,null,null,null,null,null,null,0,0,0,0,0,null,8]
[null,null,null,null,"Funded incremental obligated capacity Price Control Deliverable",null,"%","Non-load (opex)",null,null,null,null,null,null,null,null,null,null,null,null,null,null,null,null,null,null,null,null,null,null,null,null,null,null,null,null,null,null,null,null,null,0,0,0,0,0,null,8]
[null,null,null,null,"Funded incremental obligated capacity Price Control Deliverable",null,"%","Indirects (opex)",null,null,null,null,null,null,null,null,null,null,null,null,null,null,null,null,null,null,null,null,null,null,null,null,null,null,null,null,null,null,null,null,null,0,0,0,0,0,null,8]
[null,null,null,null,"Funded incremental obligated capacity Price Control Deliverable",null,"%","Non-operational capex",null,null,null,null,null,null,null,null,null,null,null,null,null,null,null,null,null,null,null,null,null,null,null,null,null,null,null,null,null,null,null,null,null,0,0,0,0,0,null,8]
[null,null,null,null,{"$f":"E$28","v":"Cyber Resilience OT Price Control Deliverable and use it or lose it allowance"},null,"%","Load related capex",null,null,null,null,null,null,null,null,null,null,null,null,null,null,null,null,null,null,null,null,null,null,null,null,null,null,null,null,null,null,null,null,null,0,0,0,0,0,null,9]
[null,null,null,null,{"$f":"E255","v":"Cyber Resilience OT Price Control Deliverable and use it or lose it allowance"},null,"%","Asset replacement capex",null,null,null,null,null,null,null,null,null,null,null,null,null,null,null,null,null,null,null,null,null,null,null,null,null,null,null,null,null,null,null,null,null,0,0,0,0,0,null,9]
[null,null,null,null,{"$f":"E256","v":"Cyber Resilience OT Price Control Deliverable and use it or lose it allowance"},null,"%","Other capex",null,null,null,null,null,null,null,null,null,null,null,null,null,null,null,null,null,null,null,null,null,null,null,null,null,null,null,null,null,null,null,null,null,0.85,0.85,0.85,0.85,0.85,null,9]
[null,null,null,null,"Cyber Resilience OT Price Control Deliverable and use it or lose it allowance",null,"%","Non-load (opex)",null,null,null,null,null,null,null,null,null,null,null,null,null,null,null,null,null,null,null,null,null,null,null,null,null,null,null,null,null,null,null,null,null,0,0,0,0,0,null,9]
[null,null,null,null,"Cyber Resilience OT Price Control Deliverable and use it or lose it allowance",null,"%","Indirects (opex)",null,null,null,null,null,null,null,null,null,null,null,null,null,null,null,null,null,null,null,null,null,null,null,null,null,null,null,null,null,null,null,null,null,0.15,0.15,0.15,0.15,0.15,null,9]
[null,null,null,null,"Cyber Resilience OT Price Control Deliverable and use it or lose it allowance",null,"%","Non-operational capex",null,null,null,null,null,null,null,null,null,null,null,null,null,null,null,null,null,null,null,null,null,null,null,null,null,null,null,null,null,null,null,null,null,0,0,0,0,0,null,9]
[null,null,null,null,{"$f":"E$29","v":"Cyber Resilience IT Price Control Deliverable"},null,"%","Load related capex",null,null,null,null,null,null,null,null,null,null,null,null,null,null,null,null,null,null,null,null,null,null,null,null,null,null,null,null,null,null,null,null,null,0,0,0,0,0,null,10]
[null,null,null,null,{"$f":"E261","v":"Cyber Resilience IT Price Control Deliverable"},null,"%","Asset replacement capex",null,null,null,null,null,null,null,null,null,null,null,null,null,null,null,null,null,null,null,null,null,null,null,null,null,null,null,null,null,null,null,null,null,0,0,0,0,0,null,10]
[null,null,null,null,{"$f":"E262","v":"Cyber Resilience IT Price Control Deliverable"},null,"%","Other capex",null,null,null,null,null,null,null,null,null,null,null,null,null,null,null,null,null,null,null,null,null,null,null,null,null,null,null,null,null,null,null,null,null,0.35,0.35,0.35,0.35,0.35,null,10]
[null,null,null,null,"Cyber Resilience IT Price Control Deliverable",null,"%","Non-load (opex)",null,null,null,null,null,null,null,null,null,null,null,null,null,null,null,null,null,null,null,null,null,null,null,null,null,null,null,null,null,null,null,null,null,0,0,0,0,0,null,10]
[null,null,null,null,"Cyber Resilience IT Price Control Deliverable",null,"%","Indirects (opex)",null,null,null,null,null,null,null,null,null,null,null,null,null,null,null,null,null,null,null,null,null,null,null,null,null,null,null,null,null,null,null,null,null,0.65,0.65,0.65,0.65,0.65,null,10]
[null,null,null,null,"Cyber Resilience IT Price Control Deliverable",null,"%","Non-operational capex",null,null,null,null,null,null,null,null,null,null,null,null,null,null,null,null,null,null,null,null,null,null,null,null,null,null,null,null,null,null,null,null,null,0,0,0,0,0,null,10]
[null,null,null,null,{"$f":"E$30","v":"Net Zero And Re-opener Development Fund use it or lose it allowance"},null,"%","Load related capex",null,null,null,null,null,null,null,null,null,null,null,null,null,null,null,null,null,null,null,null,null,null,null,null,null,null,null,null,null,null,null,null,null,1,1,1,1,1,null,11]
[null,null,null,null,{"$f":"E267","v":"Net Zero And Re-opener Development Fund use it or lose it allowance"},null,"%","Asset replacement capex",null,null,null,null,null,null,null,null,null,null,null,null,null,null,null,null,null,null,null,null,null,null,null,null,null,null,null,null,null,null,null,null,null,0,0,0,0,0,null,11]
[null,null,null,null,{"$f":"E268","v":"Net Zero And Re-opener Development Fund use it or lose it allowance"},null,"%","Other capex",null,null,null,null,null,null,null,null,null,null,null,null,null,null,null,null,null,null,null,null,null,null,null,null,null,null,null,null,null,null,null,null,null,0,0,0,0,0,null,11]
[null,null,null,null,"Net Zero And Re-opener Development Fund use it or lose it allowance",null,"%","Non-load (opex)",null,null,null,null,null,null,null,null,null,null,null,null,null,null,null,null,null,null,null,null,null,null,null,null,null,null,null,null,null,null,null,null,null,0,0,0,0,0,null,11]
[null,null,null,null,"Net Zero And Re-opener Development Fund use it or lose it allowance",null,"%","Indirects (opex)",null,null,null,null,null,null,null,null,null,null,null,null,null,null,null,null,null,null,null,null,null,null,null,null,null,null,null,null,null,null,null,null,null,0,0,0,0,0,null,11]
[null,null,null,null,"Net Zero And Re-opener Development Fund use it or lose it allowance",null,"%","Non-operational capex",null,null,null,null,null,null,null,null,null,null,null,null,null,null,null,null,null,null,null,null,null,null,null,null,null,null,null,null,null,null,null,null,null,0,0,0,0,0,null,11]
[null,null,null,null,{"$f":"E$31","v":"Spare PCD 1"},null,"%","Load related capex",null,null,null,null,null,null,null,null,null,null,null,null,null,null,null,null,null,null,null,null,null,null,null,null,null,null,null,null,null,null,null,null,null,0,0,0,0,0,null,12]
[null,null,null,null,{"$f":"E273","v":"Spare PCD 1"},null,"%","Asset replacement capex",null,null,null,null,null,null,null,null,null,null,null,null,null,null,null,null,null,null,null,null,null,null,null,null,null,null,null,null,null,null,null,null,null,0,0,0,0,0,null,12]
[null,null,null,null,{"$f":"E274","v":"Spare PCD 1"},null,"%","Other capex",null,null,null,null,null,null,null,null,null,null,null,null,null,null,null,null,null,null,null,null,null,null,null,null,null,null,null,null,null,null,null,null,null,0,0,0,0,0,null,12]
[null,null,null,null,"Spare PCD 1",null,"%","Non-load (opex)",null,null,null,null,null,null,null,null,null,null,null,null,null,null,null,null,null,null,null,null,null,null,null,null,null,null,null,null,null,null,null,null,null,0,0,0,0,0,null,12]
[null,null,null,null,"Spare PCD 1",null,"%","Indirects (opex)",null,null,null,null,null,null,null,null,null,null,null,null,null,null,null,null,null,null,null,null,null,null,null,null,null,null,null,null,null,null,null,null,null,0,0,0,0,0,null,12]
[null,null,null,null,"Spare PCD 1",null,"%","Non-operational capex",null,null,null,null,null,null,null,null,null,null,null,null,null,null,null,null,null,null,null,null,null,null,null,null,null,null,null,null,null,null,null,null,null,0,0,0,0,0,null,{"$f":"AV272 + 1","v":12}]
[null,null,null,null,{"$f":"E$32","v":"Spare PCD 2"},null,"%","Load related capex",null,null,null,null,null,null,null,null,null,null,null,null,null,null,null,null,null,null,null,null,null,null,null,null,null,null,null,null,null,null,null,null,null,0,0,0,0,0,null,13]
[null,null,null,null,{"$f":"E279","v":"Spare PCD 2"},null,"%","Asset replacement capex",null,null,null,null,null,null,null,null,null,null,null,null,null,null,null,null,null,null,null,null,null,null,null,null,null,null,null,null,null,null,null,null,null,0,0,0,0,0,null,13]
[null,null,null,null,{"$f":"E280","v":"Spare PCD 2"},null,"%","Other capex",null,null,null,null,null,null,null,null,null,null,null,null,null,null,null,null,null,null,null,null,null,null,null,null,null,null,null,null,null,null,null,null,null,0,0,0,0,0,null,13]
[null,null,null,null,"Spare PCD 2",null,"%","Non-load (opex)",null,null,null,null,null,null,null,null,null,null,null,null,null,null,null,null,null,null,null,null,null,null,null,null,null,null,null,null,null,null,null,null,null,0,0,0,0,0,null,13]
[null,null,null,null,"Spare PCD 2",null,"%","Indirects (opex)",null,null,null,null,null,null,null,null,null,null,null,null,null,null,null,null,null,null,null,null,null,null,null,null,null,null,null,null,null,null,null,null,null,0,0,0,0,0,null,13]
[null,null,null,null,"Spare PCD 2",null,"%","Non-operational capex",null,null,null,null,null,null,null,null,null,null,null,null,null,null,null,null,null,null,null,null,null,null,null,null,null,null,null,null,null,null,null,null,null,0,0,0,0,0,null,13]
[null,null,null,null,{"$f":"E$33","v":"Spare PCD 3"},null,"%","Load related capex",null,null,null,null,null,null,null,null,null,null,null,null,null,null,null,null,null,null,null,null,null,null,null,null,null,null,null,null,null,null,null,null,null,0,0,0,0,0,null,14]
[null,null,null,null,{"$f":"E285","v":"Spare PCD 3"},null,"%","Asset replacement capex",null,null,null,null,null,null,null,null,null,null,null,null,null,null,null,null,null,null,null,null,null,null,null,null,null,null,null,null,null,null,null,null,null,0,0,0,0,0,null,14]
[null,null,null,null,{"$f":"E286","v":"Spare PCD 3"},null,"%","Other capex",null,null,null,null,null,null,null,null,null,null,null,null,null,null,null,null,null,null,null,null,null,null,null,null,null,null,null,null,null,null,null,null,null,0,0,0,0,0,null,14]
[null,null,null,null,"Spare PCD 3",null,"%","Non-load (opex)",null,null,null,null,null,null,null,null,null,null,null,null,null,null,null,null,null,null,null,null,null,null,null,null,null,null,null,null,null,null,null,null,null,0,0,0,0,0,null,14]
[null,null,null,null,"Spare PCD 3",null,"%","Indirects (opex)",null,null,null,null,null,null,null,null,null,null,null,null,null,null,null,null,null,null,null,null,null,null,null,null,null,null,null,null,null,null,null,null,null,0,0,0,0,0,null,14]
[null,null,null,null,"Spare PCD 3",null,"%","Non-operational capex",null,null,null,null,null,null,null,null,null,null,null,null,null,null,null,null,null,null,null,null,null,null,null,null,null,null,null,null,null,null,null,null,null,0,0,0,0,0,null,14]
[null,null,null,null,{"$f":"E$34","v":"NARM Asset Health Re-opener"},null,"%","Load related capex",null,null,null,null,null,null,null,null,null,null,null,null,null,null,null,null,null,null,null,null,null,null,null,null,null,null,null,null,null,null,null,null,null,0,0,0,0,0,null,15]
[null,null,null,null,{"$f":"E291","v":"NARM Asset Health Re-opener"},null,"%","Asset replacement capex",null,null,null,null,null,null,null,null,null,null,null,null,null,null,null,null,null,null,null,null,null,null,null,null,null,null,null,null,null,null,null,null,null,1,1,1,1,1,null,15]
[null,null,null,null,{"$f":"E292","v":"NARM Asset Health Re-opener"},null,"%","Other capex",null,null,null,null,null,null,null,null,null,null,null,null,null,null,null,null,null,null,null,null,null,null,null,null,null,null,null,null,null,null,null,null,null,0,0,0,0,0,null,15]
[null,null,null,null,"NARM Asset Health Re-opener",null,"%","Non-load (opex)",null,null,null,null,null,null,null,null,null,null,null,null,null,null,null,null,null,null,null,null,null,null,null,null,null,null,null,null,null,null,null,null,null,0,0,0,0,0,null,15]
[null,null,null,null,"NARM Asset Health Re-opener",null,"%","Indirects (opex)",null,null,null,null,null,null,null,null,null,null,null,null,null,null,null,null,null,null,null,null,null,null,null,null,null,null,null,null,null,null,null,null,null,0,0,0,0,0,null,15]
[null,null,null,null,"NARM Asset Health Re-opener",null,"%","Non-operational capex",null,null,null,null,null,null,null,null,null,null,null,null,null,null,null,null,null,null,null,null,null,null,null,null,null,null,null,null,null,null,null,null,null,0,0,0,0,0,null,15]
[null,null,null,null,{"$f":"E$35","v":"Non-operational IT Capex Re-opener"},null,"%","Load related capex",null,null,null,null,null,null,null,null,null,null,null,null,null,null,null,null,null,null,null,null,null,null,null,null,null,null,null,null,null,null,null,null,null,0,0,0,0,0,null,16]
[null,null,null,null,{"$f":"E297","v":"Non-operational IT Capex Re-opener"},null,"%","Asset replacement capex",null,null,null,null,null,null,null,null,null,null,null,null,null,null,null,null,null,null,null,null,null,null,null,null,null,null,null,null,null,null,null,null,null,0,0,0,0,0,null,16]
[null,null,null,null,{"$f":"E298","v":"Non-operational IT Capex Re-opener"},null,"%","Other capex",null,null,null,null,null,null,null,null,null,null,null,null,null,null,null,null,null,null,null,null,null,null,null,null,null,null,null,null,null,null,null,null,null,0,0,0,0,0,null,16]
[null,null,null,null,"Non-operational IT Capex Re-opener",null,"%","Non-load (opex)",null,null,null,null,null,null,null,null,null,null,null,null,null,null,null,null,null,null,null,null,null,null,null,null,null,null,null,null,null,null,null,null,null,0,0,0,0,0,null,16]
[null,null,null,null,"Non-operational IT Capex Re-opener",null,"%","Indirects (opex)",null,null,null,null,null,null,null,null,null,null,null,null,null,null,null,null,null,null,null,null,null,null,null,null,null,null,null,null,null,null,null,null,null,0,0,0,0,0,null,16]
[null,null,null,null,"Non-operational IT Capex Re-opener",null,"%","Non-operational capex",null,null,null,null,null,null,null,null,null,null,null,null,null,null,null,null,null,null,null,null,null,null,null,null,null,null,null,null,null,null,null,null,null,0,0,0,0,0,null,16]
[null,null,null,null,{"$f":"E$36","v":"Coordinated adjustment mechanism Re-opener"},null,"%","Load related capex",null,null,null,null,null,null,null,null,null,null,null,null,null,null,null,null,null,null,null,null,null,null,null,null,null,null,null,null,null,null,null,null,null,0,0,0,0,0,null,17]
[null,null,null,null,{"$f":"E303","v":"Coordinated adjustment mechanism Re-opener"},null,"%","Asset replacement capex",null,null,null,null,null,null,null,null,null,null,null,null,null,null,null,null,null,null,null,null,null,null,null,null,null,null,null,null,null,null,null,null,null,0,0,0,0,0,null,17]
[null,null,null,null,{"$f":"E304","v":"Coordinated adjustment mechanism Re-opener"},null,"%","Other capex",null,null,null,null,null,null,null,null,null,null,null,null,null,null,null,null,null,null,null,null,null,null,null,null,null,null,null,null,null,null,null,null,null,0,0,0,0,0,null,17]
[null,null,null,null,"Coordinated adjustment mechanism Re-opener",null,"%","Non-load (opex)",null,null,null,null,null,null,null,null,null,null,null,null,null,null,null,null,null,null,null,null,null,null,null,null,null,null,null,null,null,null,null,null,null,0,0,0,0,0,null,17]
[null,null,null,null,"Coordinated adjustment mechanism Re-opener",null,"%","Indirects (opex)",null,null,null,null,null,null,null,null,null,null,null,null,null,null,null,null,null,null,null,null,null,null,null,null,null,null,null,null,null,null,null,null,null,0,0,0,0,0,null,17]
[null,null,null,null,"Coordinated adjustment mechanism Re-opener",null,"%","Non-operational capex",null,null,null,null,null,null,null,null,null,null,null,null,null,null,null,null,null,null,null,null,null,null,null,null,null,null,null,null,null,null,null,null,null,0,0,0,0,0,null,17]
[null,null,null,null,{"$f":"E$37","v":"Net zero Re-opener"},null,"%","Load related capex",null,null,null,null,null,null,null,null,null,null,null,null,null,null,null,null,null,null,null,null,null,null,null,null,null,null,null,null,null,null,null,null,null,0,0,0,0,0,null,18]
[null,null,null,null,{"$f":"E309","v":"Net zero Re-opener"},null,"%","Asset replacement capex",null,null,null,null,null,null,null,null,null,null,null,null,null,null,null,null,null,null,null,null,null,null,null,null,null,null,null,null,null,null,null,null,null,0,0,0,0,0,null,18]
[null,null,null,null,{"$f":"E310","v":"Net zero Re-opener"},null,"%","Other capex",null,null,null,null,null,null,null,null,null,null,null,null,null,null,null,null,null,null,null,null,null,null,null,null,null,null,null,null,null,null,null,null,null,0,0,0,0,0,null,18]
[null,null,null,null,"Net zero Re-opener",null,"%","Non-load (opex)",null,null,null,null,null,null,null,null,null,null,null,null,null,null,null,null,null,null,null,null,null,null,null,null,null,null,null,null,null,null,null,null,null,0,0,0,0,0,null,18]
[null,null,null,null,"Net zero Re-opener",null,"%","Indirects (opex)",null,null,null,null,null,null,null,null,null,null,null,null,null,null,null,null,null,null,null,null,null,null,null,null,null,null,null,null,null,null,null,null,null,0,0,0,0,0,null,18]
[null,null,null,null,"Net zero Re-opener",null,"%","Non-operational capex",null,null,null,null,null,null,null,null,null,null,null,null,null,null,null,null,null,null,null,null,null,null,null,null,null,null,null,null,null,null,null,null,null,0,0,0,0,0,null,18]
[null,null,null,null,{"$f":"E$38","v":"Asset health Re-opener"},null,"%","Load related capex",null,null,null,null,null,null,null,null,null,null,null,null,null,null,null,null,null,null,null,null,null,null,null,null,null,null,null,null,null,null,null,null,null,0,0,0,0,0,null,19]
[null,null,null,null,{"$f":"E315","v":"Asset health Re-opener"},null,"%","Asset replacement capex",null,null,null,null,null,null,null,null,null,null,null,null,null,null,null,null,null,null,null,null,null,null,null,null,null,null,null,null,null,null,null,null,null,0,0,0,0,0,null,19]
[null,null,null,null,{"$f":"E316","v":"Asset health Re-opener"},null,"%","Other capex",null,null,null,null,null,null,null,null,null,null,null,null,null,null,null,null,null,null,null,null,null,null,null,null,null,null,null,null,null,null,null,null,null,0,0,0,0,0,null,19]
[null,null,null,null,"Asset health Re-opener",null,"%","Non-load (opex)",null,null,null,null,null,null,null,null,null,null,null,null,null,null,null,null,null,null,null,null,null,null,null,null,null,null,null,null,null,null,null,null,null,0,0,0,0,0,null,19]
[null,null,null,null,"Asset health Re-opener",null,"%","Indirects (opex)",null,null,null,null,null,null,null,null,null,null,null,null,null,null,null,null,null,null,null,null,null,null,null,null,null,null,null,null,null,null,null,null,null,0,0,0,0,0,null,19]
[null,null,null,null,"Asset health Re-opener",null,"%","Non-operational capex",null,null,null,null,null,null,null,null,null,null,null,null,null,null,null,null,null,null,null,null,null,null,null,null,null,null,null,null,null,null,null,null,null,0,0,0,0,0,null,19]
[null,null,null,null,{"$f":"E$39","v":"Asset health – non lead assets Re-opener"},null,"%","Load related capex",null,null,null,null,null,null,null,null,null,null,null,null,null,null,null,null,null,null,null,null,null,null,null,null,null,null,null,null,null,null,null,null,null,0,0,0,0,0,null,20]
[null,null,null,null,{"$f":"E321","v":"Asset health – non lead assets Re-opener"},null,"%","Asset replacement capex",null,null,null,null,null,null,null,null,null,null,null,null,null,null,null,null,null,null,null,null,null,null,null,null,null,null,null,null,null,null,null,null,null,1,1,1,1,1,null,20]
[null,null,null,null,{"$f":"E322","v":"Asset health – non lead assets Re-opener"},null,"%","Other capex",null,null,null,null,null,null,null,null,null,null,null,null,null,null,null,null,null,null,null,null,null,null,null,null,null,null,null,null,null,null,null,null,null,0,0,0,0,0,null,20]
[null,null,null,null,"Asset health – non lead assets Re-opener",null,"%","Non-load (opex)",null,null,null,null,null,null,null,null,null,null,null,null,null,null,null,null,null,null,null,null,null,null,null,null,null,null,null,null,null,null,null,null,null,0,0,0,0,0,null,20]
[null,null,null,null,"Asset health – non lead assets Re-opener",null,"%","Indirects (opex)",null,null,null,null,null,null,null,null,null,null,null,null,null,null,null,null,null,null,null,null,null,null,null,null,null,null,null,null,null,null,null,null,null,0,0,0,0,0,null,20]
[null,null,null,null,"Asset health – non lead assets Re-opener",null,"%","Non-operational capex",null,null,null,null,null,null,null,null,null,null,null,null,null,null,null,null,null,null,null,null,null,null,null,null,null,null,null,null,null,null,null,null,null,0,0,0,0,0,null,20]
[null,null,null,null,{"$f":"E$40","v":"Uncertain Costs Re-opener"},null,"%","Load related capex",null,null,null,null,null,null,null,null,null,null,null,null,null,null,null,null,null,null,null,null,null,null,null,null,null,null,null,null,null,null,null,null,null,0,0,0,0,0,null,21]
[null,null,null,null,{"$f":"E327","v":"Uncertain Costs Re-opener"},null,"%","Asset replacement capex",null,null,null,null,null,null,null,null,null,null,null,null,null,null,null,null,null,null,null,null,null,null,null,null,null,null,null,null,null,null,null,null,null,0,0,0,0,0,null,21]
[null,null,null,null,{"$f":"E328","v":"Uncertain Costs Re-opener"},null,"%","Other capex",null,null,null,null,null,null,null,null,null,null,null,null,null,null,null,null,null,null,null,null,null,null,null,null,null,null,null,null,null,null,null,null,null,0,0,0,0,0,null,21]
[null,null,null,null,"Uncertain Costs Re-opener",null,"%","Non-load (opex)",null,null,null,null,null,null,null,null,null,null,null,null,null,null,null,null,null,null,null,null,null,null,null,null,null,null,null,null,null,null,null,null,null,0,0,0,0,0,null,21]
[null,null,null,null,"Uncertain Costs Re-opener",null,"%","Indirects (opex)",null,null,null,null,null,null,null,null,null,null,null,null,null,null,null,null,null,null,null,null,null,null,null,null,null,null,null,null,null,null,null,null,null,0,0,0,0,0,null,21]
[null,null,null,null,"Uncertain Costs Re-opener",null,"%","Non-operational capex",null,null,null,null,null,null,null,null,null,null,null,null,null,null,null,null,null,null,null,null,null,null,null,null,null,null,null,null,null,null,null,null,null,0,0,0,0,0,null,21]
[null,null,null,null,{"$f":"E$41","v":"Net Zero Pre-construction Work and Small Net Zero Projects Re-opener"},null,"%","Load related capex",null,null,null,null,null,null,null,null,null,null,null,null,null,null,null,null,null,null,null,null,null,null,null,null,null,null,null,null,null,null,null,null,null,0,0,0,0,0,null,22]
[null,null,null,null,{"$f":"E333","v":"Net Zero Pre-construction Work and Small Net Zero Projects Re-opener"},null,"%","Asset replacement capex",null,null,null,null,null,null,null,null,null,null,null,null,null,null,null,null,null,null,null,null,null,null,null,null,null,null,null,null,null,null,null,null,null,0,0,0,0,0,null,22]
[null,null,null,null,{"$f":"E334","v":"Net Zero Pre-construction Work and Small Net Zero Projects Re-opener"},null,"%","Other capex",null,null,null,null,null,null,null,null,null,null,null,null,null,null,null,null,null,null,null,null,null,null,null,null,null,null,null,null,null,null,null,null,null,0,0,0,0,0,null,22]
[null,null,null,null,"Net Zero Pre-construction Work and Small Net Zero Projects Re-opener",null,"%","Non-load (opex)",null,null,null,null,null,null,null,null,null,null,null,null,null,null,null,null,null,null,null,null,null,null,null,null,null,null,null,null,null,null,null,null,null,0,0,0,0,0,null,22]
[null,null,null,null,"Net Zero Pre-construction Work and Small Net Zero Projects Re-opener",null,"%","Indirects (opex)",null,null,null,null,null,null,null,null,null,null,null,null,null,null,null,null,null,null,null,null,null,null,null,null,null,null,null,null,null,null,null,null,null,0,0,0,0,0,null,22]
[null,null,null,null,"Net Zero Pre-construction Work and Small Net Zero Projects Re-opener",null,"%","Non-operational capex",null,null,null,null,null,null,null,null,null,null,null,null,null,null,null,null,null,null,null,null,null,null,null,null,null,null,null,null,null,null,null,null,null,0,0,0,0,0,null,22]
[null,null,null,null,{"$f":"E$42","v":"Bacton terminal site redevelopment Re-Opener"},null,"%","Load related capex",null,null,null,null,null,null,null,null,null,null,null,null,null,null,null,null,null,null,null,null,null,null,null,null,null,null,null,null,null,null,null,null,null,0,0,0,0,0,null,23]
[null,null,null,null,{"$f":"E339","v":"Bacton terminal site redevelopment Re-Opener"},null,"%","Asset replacement capex",null,null,null,null,null,null,null,null,null,null,null,null,null,null,null,null,null,null,null,null,null,null,null,null,null,null,null,null,null,null,null,null,null,0,0,0,0,0,null,23]
[null,null,null,null,{"$f":"E340","v":"Bacton terminal site redevelopment Re-Opener"},null,"%","Other capex",null,null,null,null,null,null,null,null,null,null,null,null,null,null,null,null,null,null,null,null,null,null,null,null,null,null,null,null,null,null,null,null,null,0,0,0,0,0,null,23]
[null,null,null,null,"Bacton terminal site redevelopment Re-Opener",null,"%","Non-load (opex)",null,null,null,null,null,null,null,null,null,null,null,null,null,null,null,null,null,null,null,null,null,null,null,null,null,null,null,null,null,null,null,null,null,0,0,0,0,0,null,{"$f":"AV336 + 1","v":23}]
[null,null,null,null,"Bacton terminal site redevelopment Re-Opener",null,"%","Indirects (opex)",null,null,null,null,null,null,null,null,null,null,null,null,null,null,null,null,null,null,null,null,null,null,null,null,null,null,null,null,null,null,null,null,null,0,0,0,0,0,null,23]
[null,null,null,null,"Bacton terminal site redevelopment Re-Opener",null,"%","Non-operational capex",null,null,null,null,null,null,null,null,null,null,null,null,null,null,null,null,null,null,null,null,null,null,null,null,null,null,null,null,null,null,null,null,null,0,0,0,0,0,null,23]
[null,null,null,null,{"$f":"E$43","v":"Physical Security Re-Opener"},null,"%","Load related capex",null,null,null,null,null,null,null,null,null,null,null,null,null,null,null,null,null,null,null,null,null,null,null,null,null,null,null,null,null,null,null,null,null,0,0,0,0,0,null,24]
[null,null,null,null,{"$f":"E345","v":"Physical Security Re-Opener"},null,"%","Asset replacement capex",null,null,null,null,null,null,null,null,null,null,null,null,null,null,null,null,null,null,null,null,null,null,null,null,null,null,null,null,null,null,null,null,null,0,0,0,0,0,null,24]
[null,null,null,null,{"$f":"E346","v":"Physical Security Re-Opener"},null,"%","Other capex",null,null,null,null,null,null,null,null,null,null,null,null,null,null,null,null,null,null,null,null,null,null,null,null,null,null,null,null,null,null,null,null,null,0,0,0,0,0,null,24]
[null,null,null,null,"Physical Security Re-Opener",null,"%","Non-load (opex)",null,null,null,null,null,null,null,null,null,null,null,null,null,null,null,null,null,null,null,null,null,null,null,null,null,null,null,null,null,null,null,null,null,0,0,0,0,0,null,24]
[null,null,null,null,"Physical Security Re-Opener",null,"%","Indirects (opex)",null,null,null,null,null,null,null,null,null,null,null,null,null,null,null,null,null,null,null,null,null,null,null,null,null,null,null,null,null,null,null,null,null,0,0,0,0,0,null,24]
[null,null,null,null,"Physical Security Re-Opener",null,"%","Non-operational capex",null,null,null,null,null,null,null,null,null,null,null,null,null,null,null,null,null,null,null,null,null,null,null,null,null,null,null,null,null,null,null,null,null,0,0,0,0,0,null,24]
[null,null,null,null,{"$f":"E$44","v":"Compressor emissions Re-Opener"},null,"%","Load related capex",null,null,null,null,null,null,null,null,null,null,null,null,null,null,null,null,null,null,null,null,null,null,null,null,null,null,null,null,null,null,null,null,null,0,0,0,0,0,null,25]
[null,null,null,null,{"$f":"E351","v":"Compressor emissions Re-Opener"},null,"%","Asset replacement capex",null,null,null,null,null,null,null,null,null,null,null,null,null,null,null,null,null,null,null,null,null,null,null,null,null,null,null,null,null,null,null,null,null,0,0,0,0,0,null,25]
[null,null,null,null,{"$f":"E352","v":"Compressor emissions Re-Opener"},null,"%","Other capex",null,null,null,null,null,null,null,null,null,null,null,null,null,null,null,null,null,null,null,null,null,null,null,null,null,null,null,null,null,null,null,null,null,0,0,0,0,0,null,25]
[null,null,null,null,"Compressor emissions Re-Opener",null,"%","Non-load (opex)",null,null,null,null,null,null,null,null,null,null,null,null,null,null,null,null,null,null,null,null,null,null,null,null,null,null,null,null,null,null,null,null,null,0,0,0,0,0,null,25]
[null,null,null,null,"Compressor emissions Re-Opener",null,"%","Indirects (opex)",null,null,null,null,null,null,null,null,null,null,null,null,null,null,null,null,null,null,null,null,null,null,null,null,null,null,null,null,null,null,null,null,null,0,0,0,0,0,null,25]
[null,null,null,null,"Compressor emissions Re-Opener",null,"%","Non-operational capex",null,null,null,null,null,null,null,null,null,null,null,null,null,null,null,null,null,null,null,null,null,null,null,null,null,null,null,null,null,null,null,null,null,0,0,0,0,0,null,25]
[null,null,null,null,{"$f":"E$45","v":"Cyber Resilience OT Re-Opener"},null,"%","Load related capex",null,null,null,null,null,null,null,null,null,null,null,null,null,null,null,null,null,null,null,null,null,null,null,null,null,null,null,null,null,null,null,null,null,0,0,0,0,0,null,26]
[null,null,null,null,{"$f":"E357","v":"Cyber Resilience OT Re-Opener"},null,"%","Asset replacement capex",null,null,null,null,null,null,null,null,null,null,null,null,null,null,null,null,null,null,null,null,null,null,null,null,null,null,null,null,null,null,null,null,null,0,0,0,0,0,null,26]
[null,null,null,null,{"$f":"E358","v":"Cyber Resilience OT Re-Opener"},null,"%","Other capex",null,null,null,null,null,null,null,null,null,null,null,null,null,null,null,null,null,null,null,null,null,null,null,null,null,null,null,null,null,null,null,null,null,0,0,0,0,0,null,26]
[null,null,null,null,"Cyber Resilience OT Re-Opener",null,"%","Non-load (opex)",null,null,null,null,null,null,null,null,null,null,null,null,null,null,null,null,null,null,null,null,null,null,null,null,null,null,null,null,null,null,null,null,null,0,0,0,0,0,null,26]
[null,null,null,null,"Cyber Resilience OT Re-Opener",null,"%","Indirects (opex)",null,null,null,null,null,null,null,null,null,null,null,null,null,null,null,null,null,null,null,null,null,null,null,null,null,null,null,null,null,null,null,null,null,0,0,0,0,0,null,26]
[null,null,null,null,"Cyber Resilience OT Re-Opener",null,"%","Non-operational capex",null,null,null,null,null,null,null,null,null,null,null,null,null,null,null,null,null,null,null,null,null,null,null,null,null,null,null,null,null,null,null,null,null,0,0,0,0,0,null,26]
[null,null,null,null,{"$f":"E$46","v":"Cyber Resilience IT Re-Opener"},null,"%","Load related capex",null,null,null,null,null,null,null,null,null,null,null,null,null,null,null,null,null,null,null,null,null,null,null,null,null,null,null,null,null,null,null,null,null,0,0,0,0,0,null,27]
[null,null,null,null,{"$f":"E363","v":"Cyber Resilience IT Re-Opener"},null,"%","Asset replacement capex",null,null,null,null,null,null,null,null,null,null,null,null,null,null,null,null,null,null,null,null,null,null,null,null,null,null,null,null,null,null,null,null,null,0,0,0,0,0,null,27]
[null,null,null,null,{"$f":"E364","v":"Cyber Resilience IT Re-Opener"},null,"%","Other capex",null,null,null,null,null,null,null,null,null,null,null,null,null,null,null,null,null,null,null,null,null,null,null,null,null,null,null,null,null,null,null,null,null,0,0,0,0,0,null,27]
[null,null,null,null,"Cyber Resilience IT Re-Opener",null,"%","Non-load (opex)",null,null,null,null,null,null,null,null,null,null,null,null,null,null,null,null,null,null,null,null,null,null,null,null,null,null,null,null,null,null,null,null,null,0,0,0,0,0,null,27]
[null,null,null,null,"Cyber Resilience IT Re-Opener",null,"%","Indirects (opex)",null,null,null,null,null,null,null,null,null,null,null,null,null,null,null,null,null,null,null,null,null,null,null,null,null,null,null,null,null,null,null,null,null,0,0,0,0,0,null,27]
[null,null,null,null,"Cyber Resilience IT Re-Opener",null,"%","Non-operational capex",null,null,null,null,null,null,null,null,null,null,null,null,null,null,null,null,null,null,null,null,null,null,null,null,null,null,null,null,null,null,null,null,null,0,0,0,0,0,null,27]
[null,null,null,null,{"$f":"E$47","v":"King's Lynn subsidence Re-Opener"},null,"%","Load related capex",null,null,null,null,null,null,null,null,null,null,null,null,null,null,null,null,null,null,null,null,null,null,null,null,null,null,null,null,null,null,null,null,null,0,0,0,0,0,null,28]
[null,null,null,null,{"$f":"E369","v":"King's Lynn subsidence Re-Opener"},null,"%","Asset replacement capex",null,null,null,null,null,null,null,null,null,null,null,null,null,null,null,null,null,null,null,null,null,null,null,null,null,null,null,null,null,null,null,null,null,0,0,0,0,0,null,28]
[null,null,null,null,{"$f":"E370","v":"King's Lynn subsidence Re-Opener"},null,"%","Other capex",null,null,null,null,null,null,null,null,null,null,null,null,null,null,null,null,null,null,null,null,null,null,null,null,null,null,null,null,null,null,null,null,null,0,0,0,0,0,null,28]
[null,null,null,null,"King's Lynn subsidence Re-Opener",null,"%","Non-load (opex)",null,null,null,null,null,null,null,null,null,null,null,null,null,null,null,null,null,null,null,null,null,null,null,null,null,null,null,null,null,null,null,null,null,0,0,0,0,0,null,28]
[null,null,null,null,"King's Lynn subsidence Re-Opener",null,"%","Indirects (opex)",null,null,null,null,null,null,null,null,null,null,null,null,null,null,null,null,null,null,null,null,null,null,null,null,null,null,null,null,null,null,null,null,null,0,0,0,0,0,null,28]
[null,null,null,null,"King's Lynn subsidence Re-Opener",null,"%","Non-operational capex",null,null,null,null,null,null,null,null,null,null,null,null,null,null,null,null,null,null,null,null,null,null,null,null,null,null,null,null,null,null,null,null,null,0,0,0,0,0,null,28]
[null,null,null,null,{"$f":"E$48","v":"Funded incremental obligated capacity Re-Opener"},null,"%","Load related capex",null,null,null,null,null,null,null,null,null,null,null,null,null,null,null,null,null,null,null,null,null,null,null,null,null,null,null,null,null,null,null,null,null,0,0,0,0,0,null,29]
[null,null,null,null,{"$f":"E375","v":"Funded incremental obligated capacity Re-Opener"},null,"%","Asset replacement capex",null,null,null,null,null,null,null,null,null,null,null,null,null,null,null,null,null,null,null,null,null,null,null,null,null,null,null,null,null,null,null,null,null,0,0,0,0,0,null,29]
[null,null,null,null,{"$f":"E376","v":"Funded incremental obligated capacity Re-Opener"},null,"%","Other capex",null,null,null,null,null,null,null,null,null,null,null,null,null,null,null,null,null,null,null,null,null,null,null,null,null,null,null,null,null,null,null,null,null,0,0,0,0,0,null,29]
[null,null,null,null,"Funded incremental obligated capacity Re-Opener",null,"%","Non-load (opex)",null,null,null,null,null,null,null,null,null,null,null,null,null,null,null,null,null,null,null,null,null,null,null,null,null,null,null,null,null,null,null,null,null,0,0,0,0,0,null,29]
[null,null,null,null,"Funded incremental obligated capacity Re-Opener",null,"%","Indirects (opex)",null,null,null,null,null,null,null,null,null,null,null,null,null,null,null,null,null,null,null,null,null,null,null,null,null,null,null,null,null,null,null,null,null,0,0,0,0,0,null,29]
[null,null,null,null,"Funded incremental obligated capacity Re-Opener",null,"%","Non-operational capex",null,null,null,null,null,null,null,null,null,null,null,null,null,null,null,null,null,null,null,null,null,null,null,null,null,null,null,null,null,null,null,null,null,0,0,0,0,0,null,29]
[null,null,null,null,{"$f":"E$49","v":"Opex Escalator"},null,"%","Load related capex",null,null,null,null,null,null,null,null,null,null,null,null,null,null,null,null,null,null,null,null,null,null,null,null,null,null,null,null,null,null,null,null,null,0,0,0,0,0,null,30]
[null,null,null,null,{"$f":"E381","v":"Opex Escalator"},null,"%","Asset replacement capex",null,null,null,null,null,null,null,null,null,null,null,null,null,null,null,null,null,null,null,null,null,null,null,null,null,null,null,null,null,null,null,null,null,0,0,0,0,0,null,30]
[null,null,null,null,{"$f":"E382","v":"Opex Escalator"},null,"%","Other capex",null,null,null,null,null,null,null,null,null,null,null,null,null,null,null,null,null,null,null,null,null,null,null,null,null,null,null,null,null,null,null,null,null,0,0,0,0,0,null,30]
[null,null,null,null,"Opex Escalator",null,"%","Non-load (opex)",null,null,null,null,null,null,null,null,null,null,null,null,null,null,null,null,null,null,null,null,null,null,null,null,null,null,null,null,null,null,null,null,null,0,0,0,0,0,null,30]
[null,null,null,null,"Opex Escalator",null,"%","Indirects (opex)",null,null,null,null,null,null,null,null,null,null,null,null,null,null,null,null,null,null,null,null,null,null,null,null,null,null,null,null,null,null,null,null,null,1,1,1,1,1,null,30]
[null,null,null,null,"Opex Escalator",null,"%","Non-operational capex",null,null,null,null,null,null,null,null,null,null,null,null,null,null,null,null,null,null,null,null,null,null,null,null,null,null,null,null,null,null,null,null,null,0,0,0,0,0,null,30]
[null,null,null,null,{"$f":"E$50","v":"Spare UM 1"},null,"%","Load related capex",null,null,null,null,null,null,null,null,null,null,null,null,null,null,null,null,null,null,null,null,null,null,null,null,null,null,null,null,null,null,null,null,null,0,0,0,0,0,null,31]
[null,null,null,null,{"$f":"E387","v":"Spare UM 1"},null,"%","Asset replacement capex",null,null,null,null,null,null,null,null,null,null,null,null,null,null,null,null,null,null,null,null,null,null,null,null,null,null,null,null,null,null,null,null,null,0,0,0,0,0,null,31]
[null,null,null,null,{"$f":"E388","v":"Spare UM 1"},null,"%","Other capex",null,null,null,null,null,null,null,null,null,null,null,null,null,null,null,null,null,null,null,null,null,null,null,null,null,null,null,null,null,null,null,null,null,0,0,0,0,0,null,31]
[null,null,null,null,"Spare UM 1",null,"%","Non-load (opex)",null,null,null,null,null,null,null,null,null,null,null,null,null,null,null,null,null,null,null,null,null,null,null,null,null,null,null,null,null,null,null,null,null,0,0,0,0,0,null,31]
[null,null,null,null,"Spare UM 1",null,"%","Indirects (opex)",null,null,null,null,null,null,null,null,null,null,null,null,null,null,null,null,null,null,null,null,null,null,null,null,null,null,null,null,null,null,null,null,null,0,0,0,0,0,null,31]
[null,null,null,null,"Spare UM 1",null,"%","Non-operational capex",null,null,null,null,null,null,null,null,null,null,null,null,null,null,null,null,null,null,null,null,null,null,null,null,null,null,null,null,null,null,null,null,null,0,0,0,0,0,null,31]
[null,null,null,null,{"$f":"E$51","v":"Spare UM 2"},null,"%","Load related capex",null,null,null,null,null,null,null,null,null,null,null,null,null,null,null,null,null,null,null,null,null,null,null,null,null,null,null,null,null,null,null,null,null,0,0,0,0,0,null,32]
[null,null,null,null,{"$f":"E393","v":"Spare UM 2"},null,"%","Asset replacement capex",null,null,null,null,null,null,null,null,null,null,null,null,null,null,null,null,null,null,null,null,null,null,null,null,null,null,null,null,null,null,null,null,null,0,0,0,0,0,null,32]
[null,null,null,null,{"$f":"E394","v":"Spare UM 2"},null,"%","Other capex",null,null,null,null,null,null,null,null,null,null,null,null,null,null,null,null,null,null,null,null,null,null,null,null,null,null,null,null,null,null,null,null,null,0,0,0,0,0,null,32]
[null,null,null,null,"Spare UM 2",null,"%","Non-load (opex)",null,null,null,null,null,null,null,null,null,null,null,null,null,null,null,null,null,null,null,null,null,null,null,null,null,null,null,null,null,null,null,null,null,0,0,0,0,0,null,32]
[null,null,null,null,"Spare UM 2",null,"%","Indirects (opex)",null,null,null,null,null,null,null,null,null,null,null,null,null,null,null,null,null,null,null,null,null,null,null,null,null,null,null,null,null,null,null,null,null,0,0,0,0,0,null,32]
[null,null,null,null,"Spare UM 2",null,"%","Non-operational capex",null,null,null,null,null,null,null,null,null,null,null,null,null,null,null,null,null,null,null,null,null,null,null,null,null,null,null,null,null,null,null,null,null,0,0,0,0,0,null,32]
[null,null,null,null,{"$f":"E$52","v":"Spare UM 3"},null,"%","Load related capex",null,null,null,null,null,null,null,null,null,null,null,null,null,null,null,null,null,null,null,null,null,null,null,null,null,null,null,null,null,null,null,null,null,0,0,0,0,0,null,33]
[null,null,null,null,{"$f":"E399","v":"Spare UM 3"},null,"%","Asset replacement capex",null,null,null,null,null,null,null,null,null,null,null,null,null,null,null,null,null,null,null,null,null,null,null,null,null,null,null,null,null,null,null,null,null,0,0,0,0,0,null,33]
[null,null,null,null,{"$f":"E400","v":"Spare UM 3"},null,"%","Other capex",null,null,null,null,null,null,null,null,null,null,null,null,null,null,null,null,null,null,null,null,null,null,null,null,null,null,null,null,null,null,null,null,null,0,0,0,0,0,null,33]
[null,null,null,null,"Spare UM 3",null,"%","Non-load (opex)",null,null,null,null,null,null,null,null,null,null,null,null,null,null,null,null,null,null,null,null,null,null,null,null,null,null,null,null,null,null,null,null,null,0,0,0,0,0,null,33]
[null,null,null,null,"Spare UM 3",null,"%","Indirects (opex)",null,null,null,null,null,null,null,null,null,null,null,null,null,null,null,null,null,null,null,null,null,null,null,null,null,null,null,null,null,null,null,null,null,0,0,0,0,0,null,33]
[null,null,null,null,"Spare UM 3",null,"%","Non-operational capex",null,null,null,null,null,null,null,null,null,null,null,null,null,null,null,null,null,null,null,null,null,null,null,null,null,null,null,null,null,null,null,null,null,0,0,0,0,0,null,33]
[]
[null,"Incentives and other non-base revenue items"]
[]
[null,null,null,null,"Assumed cost multipliers:"]
[null,null,null,null,"RIIO-2 Network Innovation Allowance\n",null,"%",null,1.1111111111111112]
[null,null,null,null,"The Strategic Innovation Fund\n",null,"%",null,1.1111111111111112]
[null,null,null,null,"Carry-over RIIO-1 Network Innovation Allowance",null,"%",null,1.1111111111111112]
[null,null,null,null,"Spare 1",null,"%",null,0]
[null,null,null,null,"Spare 2",null,"%",null,0]
[null,null,null,null,"Spare 3",null,"%",null,0]
[null,null,null,null,"Pre-RIIO-1 pension true-up",null,"%",null,0]
[null,null,null,null,"NGGT SO revenue driver income (reallocated to TO)",null,"%",null,0]
[]
[null,"RAV and assets"]
[]
[null,null,"Pre-vesting assets"]
[]
[null,null,null,null,"Pre-vesting RAV cost opening balance brought forward (before transfers)",null,"£m 18/19 prices",null,null,">",null,null,null,null,null,null,null,null,null,null,null,null,null,null,null,null,null,null,null,null,null,null,null,3505.376058031005]
[null,null,null,null,"Pre-vesting RAV cumulative depreciation opening balance brought forward (before transfers)",null,"£m 18/19 prices",null,null,">",null,null,null,null,null,null,null,null,null,null,null,null,null,null,null,null,null,null,null,null,null,null,null,1232.1662007494456]
[]
[null,null,null,null,"Pre-vesting asset life",null,"years",null,56]
[null,null,null,null,"Pre-vesting RAV disposals",null,"£m 18/19 prices",null,null,">",null,null,null,null,null,null,null,null,null,null,null,null,null,null,null,null,null,null,null,null,null,null,null,0,0,0,0,0,0,0,0,0,0,0,0,0]
[null,null,null,null,"Years of pre-vesting depreciation remaining",null,"years",null,null,">",null,null,null,null,null,null,null,null,null,null,null,null,null,null,null,null,null,null,null,null,null,null,null,45,44,43,42,41,40,39,38,37,36,35,34,33]
[]
[null,null,"Post-vesting assets"]
[]
[null,null,null,null,"Straight line depreciation:"]
[null,null,null,null,"Post-vesting asset life, straight line",null,"years",null,null,">",45,45,45,45,45,45,45,45,45,45,45,45,45,45,45,45,45,45,45,45,45,45,45,45,45,45,45,45,45,45,45,45,45,45,45,45]
[]
[null,null,null,null,"Sum of digits depreciation:"]
[null,null,null,null,"Post-vesting asset life, sum of digits",null,"years",null,45]
[null,null,null,null,"First year sum of digits depreciation (applied retrospectively to existing assets)",null,"year ending",null,"2003-03-31"]
[null,null,null,null,"First year of application to new assets, start of recovery period",null,"year ending",null,"2022-03-31"]
[null,null,null,null,"Existing assets differential depreciation recovery period",null,"years",null,20]
[]
[null,null,null,null,"Pre-RIIO net additions to RAV",null,"£m 18/19 prices",null,null,">",0,0,0,0,0,0,0,0,0,0,0,0,0,393.04743989015134,126.55198202648761,393.92016193807626,710.49491725889584,769.15750254958812,325.33393765506702,161.75873847786809,131.2813581348754,132.7730693259773,-37.765799609948715]
[null,null,null,null,"Pre-RIIO transfers to depreciation",null,"£m 18/19 prices",null,null,">",0,0,0,0,0,0,0,0,0,0,0,0,0,4.4778418554348551,0,0,0,0,0,0,0,0,-10.913615148116421]
[null,null,null,null,"RIIO post-vesting RAV additions",null,"£m 18/19 prices",null,null,">",null,null,null,null,null,null,null,null,null,null,null,null,null,null,null,null,null,null,null,null,null,null,null,0,0,0,0,0,0,0,0,0,0,0,0,0]
[null,null,null,null,"RIIO post-vesting RAV disposals",null,"£m 18/19 prices",null,null,">",null,null,null,null,null,null,null,null,null,null,null,null,null,null,null,null,null,null,null,null,null,null,null,-1.0186455219892145E-2,-1.0186455219892145E-2,-1.0186455219892145E-2,-1.0186455219892145E-2,-1.0186455219892145E-2,-1.0186455219892145E-2,-1.0186455219892145E-2,-1.0186455219892145E-2]
[]
[null,null,null,null,"RIIO-2 disposals net sales proceeds",null,"£m 18/19 prices",null,null,null,null,null,null,null,null,null,null,null,null,null,null,null,null,null,null,null,null,null,null,null,null,null,null,null,null,null,null,null,null,null,null,0,0,0,0,0]
[]
[null,null,null,null,"Logged-up items and security costs asset life",null,"years",null,45,">"]
[null,null,null,null,"Logged-up items net additions (after disposals)",null,"£m 18/19 prices",null,null,">",0,0,0,0,0,0,0,0,0,0,0,0,0,0,0,0,0.21073077034006701,117.64596990613295,0,0.54177988001466293,0.71563926248720744,2.1799749441808904,0]
[null,null,null,null,"Security costs net additions (after disposals)",null,"£m 18/19 prices",null,null,">",0,0,0,0,0,0,0,0,0,0,0,0,0,0,0,0,0,0,9.6512973863203104,16.006522810267196,75.91005992820304,73.169439464918554,0]
[]
[null,null,"Revenue drivers"]
[]
[null,null,null,null,"General pool capital allowance rate",null,"%",null,null,">",null,null,null,null,null,null,null,null,null,null,null,0.25,0.25,0.25,0.25,0.25,0.25,0.25,0.2,0.2,0.2,0.2,0.18000000000000002,0.18000000000000002,0.18000000000000002,0.18000000000000002,0.18000000000000002,0.18000000000000002,0.18000000000000002,0.18000000000000002,0.18000000000000002]
[null,null,null,null,"Special Rates capital allowance rate",null,"%",null,null,">",null,null,null,null,null,null,null,null,null,null,null,0.06,0.06,0.06,0.06,0.06,0.06,0.06,0.1,0.1,0.1,0.1,0.08,0.08,0.08,0.08,0.08,0.08,0.08,0.06,0.06]
[]
[null,null,null,null,"Allocation to \"General\" pool",null,"%",null,null,">",null,null,null,null,null,null,null,null,null,null,null,1.9E-2,1.9E-2,1.9E-2,1.9E-2,1.9E-2,1.9E-2,1.9E-2,1.9E-2,1.9E-2,1.9E-2,1.9E-2,1.9E-2,3.2000000000000001E-2,3.2000000000000001E-2,3.2000000000000001E-2,3.2000000000000001E-2,3.2000000000000001E-2,3.2000000000000001E-2,3.2000000000000001E-2,3.2000000000000001E-2,3.2000000000000001E-2,3.2000000000000001E-2,3.2000000000000001E-2,3.2000000000000001E-2,3.2000000000000001E-2]
[null,null,null,null,"Allocation to \"Special Rate\" pool",null,"%",null,null,">",null,null,null,null,null,null,null,null,null,null,null,0.96399999999999997,0.96399999999999997,0.96399999999999997,0.96399999999999997,0.96399999999999997,0.96399999999999997,0.96399999999999997,0.96399999999999997,0.96399999999999997,0.96399999999999997,0.96399999999999997,0.96399999999999997,0.95099999999999996,0.95099999999999996,0.95099999999999996,0.95099999999999996,0.95099999999999996,0.95099999999999996,0.95099999999999996,0.95099999999999996,0.95099999999999996,0.95099999999999996,0.95099999999999996,0.95099999999999996,0.95099999999999996]
[null,null,null,null,"Allocation to \"Revenue\" pool",null,"%",null,null,">",null,null,null,null,null,null,null,null,null,null,null,4.0000000000000001E-3,4.0000000000000001E-3,4.0000000000000001E-3,4.0000000000000001E-3,4.0000000000000001E-3,4.0000000000000001E-3,4.0000000000000001E-3,4.0000000000000001E-3,4.0000000000000001E-3,4.0000000000000001E-3,4.0000000000000001E-3,4.0000000000000001E-3,0,0,0,0,0,0,0,0,0,0,0,0,0]
[null,null,null,null,"Allocation to \"Non Qualifying\" pool",null,"%",null,null,">",null,null,null,null,null,null,null,null,null,null,null,1.2999999999999999E-2,1.2999999999999999E-2,1.2999999999999999E-2,1.2999999999999999E-2,1.2999999999999999E-2,1.2999999999999999E-2,1.2999999999999999E-2,1.2999999999999999E-2,1.2999999999999999E-2,1.2999999999999999E-2,1.2999999999999999E-2,1.2999999999999999E-2,1.7000000000000001E-2,1.7000000000000001E-2,1.7000000000000001E-2,1.7000000000000001E-2,1.7000000000000001E-2,1.7000000000000001E-2,1.7000000000000001E-2,1.7000000000000001E-2,2.5000000000000005E-3,2.5000000000000005E-3,2.5000000000000005E-3,2.5000000000000005E-3,2.5000000000000005E-3]
[]
[null,null,null,null,"Isle of Grain PH2 RAV transfer date",null,"year ending",null,"2018-03-31"]
[null,null,null,null,"Easington RAV transfer date",null,"year ending",null,"2018-03-31"]
[null,null,null,null,"Hornsea RAV transfer date",null,"year ending",null,"2018-03-31"]
[null,null,null,null,"Fleetwood RAV transfer date",null,"year ending",null,"2018-03-31"]
[null,null,null,null,"Cheshire RAV transfer date",null,"year ending",null,"2018-03-31"]
[null,null,null,null,"Isle of Grain PH3 RAV transfer date",null,"year ending",null,"2016-03-31"]
[null,null,null,null,"Caythorpe RAV transfer date",null,"year ending",null,"2017-03-31"]
[null,null,null,null,"Langage RAV transfer date",null,"year ending",null,"2014-03-31"]
[null,null,null,null,"Marchwood RAV transfer date",null,"year ending",null,"2014-03-31"]
[null,null,null,null,"Pembroke RAV transfer date",null,"year ending",null,"2017-03-31"]
[null,null,null,null,"Gilwern RAV transfer date",null,"year ending",null,"2016-03-31"]
[null,null,null,null,"SW Quad 08/09 RAV transfer date",null,"year ending",null,"2014-03-31"]
[null,null,null,null,"SW Quad 09/10 RAV transfer date",null,"year ending",null,"2015-03-31"]
[null,null,null,null,"North West Entry / Hole House Farm Storage RAV transfer date",null,"year ending",null,"2017-03-31"]
[]
[null,null,null,null,"Isle of Grain PH2 deemed capex",null,"£m 18/19 prices",null,null,">",null,null,null,null,null,null,null,null,null,null,null,0,0,0,0,0,14.98691647969774,59.948978948095295,0,0,0,0,0]
[null,null,null,null,"Easington deemed capex",null,"£m 18/19 prices",null,null,">",null,null,null,null,null,null,null,null,null,null,null,0,0,0,0,0,0,4.0152436126612656,16.060974450645062,0,0,0,0]
[null,null,null,null,"Hornsea deemed capex",null,"£m 18/19 prices",null,null,">",null,null,null,null,null,null,null,null,null,null,null,0,0,0,0,0,0,3.0422888981478597,12.17178165120011,0,0,0,0]
[null,null,null,null,"Fleetwood deemed capex",null,"£m 18/19 prices",null,null,">",null,null,null,null,null,null,null,null,null,null,null,0,0,0,0,0,0,0,59.405384816099961,237.62285229370417,0,0,0]
[null,null,null,null,"Cheshire deemed capex",null,"£m 18/19 prices",null,null,">",null,null,null,null,null,null,null,null,null,null,null,0,0,0,0,0,0,0,6.5651465216829075E-2,0.46218631512647668,0.79175667051495857,0,0]
[]
[null,null,null,null,"Isle of Grain PH2 pre-RIIO actual capex",null,"£m 18/19 prices",null,null,">",null,null,null,null,null,null,null,null,null,null,null,0,0,0,0,0.12417494452707112,6.8395570829836529,23.098259794717976,54.31829537582982,8.2352564037442271,0.57155614772579155,0,0]
[null,null,null,null,"Easington pre-RIIO actual capex",null,"£m 18/19 prices",null,null,">",null,null,null,null,null,null,null,null,null,null,null,0,0,0,0,0,0.13294424437561272,2.7456208354433298,5.7937034651984609,34.270186915519197,34.839361407895645,1.407338564227161,0]
[null,null,null,null,"Hornsea pre-RIIO actual capex",null,"£m 18/19 prices",null,null,">",null,null,null,null,null,null,null,null,null,null,null,0,0,0,0,0,0,0,0,0,0,0,0]
[null,null,null,null,"Fleetwood pre-RIIO actual capex",null,"£m 18/19 prices",null,null,">",null,null,null,null,null,null,null,null,null,null,null,0,0,0,0,0,0.40307563454308126,9.9712881523861085,0.9301891039222363,2.0446987207874052,-8.6315262082051411E-2,5.9683569305647192E-3,0]
[null,null,null,null,"Cheshire pre-RIIO actual capex",null,"£m 18/19 prices",null,null,">",null,null,null,null,null,null,null,null,null,null,null,0,0,0,0,0,0,0,0,0,0,0,0]
[null,null,null,null,"Isle of Grain PH3 pre-RIIO actual capex",null,"£m 18/19 prices",null,null,">",null,null,null,null,null,null,null,null,null,null,null,0,0,0,0,0,0,0,0,0,0,0,0]
[null,null,null,null,"Caythorpe pre-RIIO actual capex",null,"£m 18/19 prices",null,null,">",null,null,null,null,null,null,null,null,null,null,null,0,0,0,0,0,0,0,0,0,0,0,0]
[null,null,null,null,"Langage pre-RIIO actual capex",null,"£m 18/19 prices",null,null,">",null,null,null,null,null,null,null,null,null,null,null,6.3350184548175488,0.15161537419251067,6.8313742015200324E-2,0.58001340492677234,15.90257335343291,66.322206337765778,71.872544333507165,14.119648221907918,-8.9339091599954928E-2,-1.2020601152919898E-2,-3.2229127425049485E-2,0]
[null,null,null,null,"Marchwood pre-RIIO actual capex",null,"£m 18/19 prices",null,null,">",null,null,null,null,null,null,null,null,null,null,null,0,0,0,0,9.5905463626232118E-2,5.1225963098773342,21.934394469371441,37.845622773415997,0.17055426080929043,0.34988501946523248,-0.24589630553926645,0]
[null,null,null,null,"Pembroke pre-RIIO actual capex",null,"£m 18/19 prices",null,null,">",null,null,null,null,null,null,null,null,null,null,null,0,0,0,0,0,0,0,0,0,0,0,0]
[null,null,null,null,"Gilwern pre-RIIO actual capex",null,"£m 18/19 prices",null,null,">",null,null,null,null,null,null,null,null,null,null,null,0,0,0,0,0,0,0,0,0,0,0,0]
[null,null,null,null,"SW Quad 08/09 pre-RIIO actual capex",null,"£m 18/19 prices",null,null,">",null,null,null,null,null,null,null,null,null,null,null,0.64360398396423157,7.5009711442610552E-2,4.6577551374000223E-3,0,0.28899550557839154,5.7194311090955097,9.094783665946613,2.9938747202723861,40.859088316946199,52.75700065067403,-3.2443988274549818,3.6147696748386089E-2]
[null,null,null,null,"SW Quad 09/10 pre-RIIO actual capex",null,"£m 18/19 prices",null,null,">",null,null,null,null,null,null,null,null,null,null,null,0,0,0,0,0,0,0,0,0,0,0,0]
[null,null,null,null,"North West Entry / Hole House Farm Storage pre-RIIO actual capex",null,"£m 18/19 prices",null,null,">",null,null,null,null,null,null,null,null,null,null,null,0,0,0,0,0,0,0,0,0.80742474720686697,8.0438253911608975,9.6866432983065405,0]
[]
[null,null,null,null,"Fleetwood",null,"£m 18/19 prices",null,null,null,null,null,null,null,null,null,null,null,null,null,null,null,null,null,null,null,null,null,null,null,null,null,null,0,0,0,0,0,0,0,0,0,0,0,0,0]
[null,null,null,null,"SW Quad 2008/09 post-RIIO actual capex",null,"£m 18/19 prices",null,null,null,null,null,null,null,null,null,null,null,null,null,null,null,null,null,null,null,null,null,null,null,null,null,null,1.078073799832975,0,0,0,0,0,0,0,0,0,0,0,0]
[null,null,null,null,"SW Quad 2009/10 post-RIIO actual capex",null,"£m 18/19 prices",null,null,null,null,null,null,null,null,null,null,null,null,null,null,null,null,null,null,null,null,null,null,null,null,null,null,1.0082837568056877,2.5435552573371676,2.5666081808652415,2.5898700392224914,18.293399082289202,24.260658999472774,1.0643712982245235,0,0,0,0,0,0]
[]
[null,null,null,null,"NGGT SO Revenue Driver Income (reallocated to TO)",null,"£m 18/19 prices",null,null,null,null,null,null,null,null,null,null,null,null,null,null,null,null,null,null,null,null,null,null,null,null,null,null,null,null,null,null,null,null,null,null,0,0,0,0,0]
[]
[null,"End of sheet"]

{"sheet":"NGGT SO","index":20,"n_rows":186,"n_cols":54,"rows_kept":186,"cut":false,"hidden":false,"merged":[[2,50,3,50],[2,51,3,51],[2,52,3,52],[2,53,3,53]]}
["Input"]
[null,"NGGT SO"]
[null,null,null,null,"Parameter","Licence condition","Units","Term","Constant",null,null,null,null,null,null,null,null,null,null,null,null,null,null,null,null,null,null,null,null,null,null,null,null,null,null,null,null,null,null,null,null,"Annual values",null,null,null,null,null,null,null,null,"TIM/\nNon-TIM","RPE Incl. or Excl.","Capitalisation method: Fast/slow split or 100% fast money award","Fast/slow split or 100% fast money award"]
[null,null,null,null,"PCFM year ending",{"$f":"Cover!C4","v":"Model Version"},null,null,{"$f":"UserInterface!$G$10","v":"2022-03-31"},null,"1991-03-31","1992-03-31","1993-03-31","1994-03-31","1995-03-31","1996-03-31","1997-03-31","1998-03-31","1999-03-31","2000-03-31","2001-03-31","2002-03-31","2003-03-31","2004-03-31","2005-03-31","2006-03-31","2007-03-31","2008-03-31","2009-03-31","2010-03-31","2011-03-31","2012-03-31","2013-03-31","2014-03-31","2015-03-31","2016-03-31","2017-03-31","2018-03-31","2019-03-31","2020-03-31","2021-03-31","2022-03-31","2023-03-31","2024-03-31","2025-03-31","2026-03-31"]
[]
[null,"Totex allowance"]
[]
[null,null,"Non-variant allowances"]
[]
[null,null,null,null,"Non-variant allowed non-operational capex",null,"£m 18/19 prices",null,null,null,null,null,null,null,null,null,null,null,null,null,null,null,null,null,null,null,null,null,null,null,null,null,null,null,null,null,null,null,null,null,null,23.709412027306602,25.055423339824273,34.239503907339504,26.724358102371198,15.740561531563543]
[null,null,null,null,"Non-variant allowed controllable opex",null,"£m 18/19 prices",null,null,null,null,null,null,null,null,null,null,null,null,null,null,null,null,null,null,null,null,null,null,null,null,null,null,null,null,null,null,null,null,null,null,60.033302024797891,59.901641669582148,59.108029904335424,59.783569718034414,58.86578915169197]
[]
[null,null,"Variant allowances (including Real Price Effects)"]
[null,null,"Note: RPEs in the table below are calculated for information only. The calculation by totex category is detailed and then aggregated in the \"Input\" tab."]
[]
[null,null,null,null,"Funded incremental obligated capacity Price Control Deliverable","SpC 3.13","£m 18/19 prices","FIOCt","PCD",null,null,null,null,null,null,null,null,null,null,null,null,null,null,null,null,null,null,null,null,null,null,null,null,null,null,null,null,null,null,null,null,0,0,0,0,0,null,null,null,null,"TIM","RPEs Apply",null,"Fast/Slow Split"]
[null,null,null,null,"Cyber Resilience OT Price Control Deliverable and use it or lose it allowance","SpC 3.2","£m 18/19 prices","CROTt","PCD",null,null,null,null,null,null,null,null,null,null,null,null,null,null,null,null,null,null,null,null,null,null,null,null,null,null,null,null,null,null,null,null,0,0,0,0,0,null,null,null,null,"Non-Tim","RPEs Don’t Apply",null,"Fast/Slow Split"]
[null,null,null,null,"Cyber Resilience IT Price Control Deliverable","SpC 3.3","£m 18/19 prices","CRITt","PCD",null,null,null,null,null,null,null,null,null,null,null,null,null,null,null,null,null,null,null,null,null,null,null,null,null,null,null,null,null,null,null,null,7.6181795867888376,2.5210493772270617,2.2310136572664043,0,0,null,null,null,null,"TIM","RPEs Apply",null,"Fast/Slow Split"]
[null,null,null,null,"Spare PCD 1",null,"£m 18/19 prices",null,"PCD",null,null,null,null,null,null,null,null,null,null,null,null,null,null,null,null,null,null,null,null,null,null,null,null,null,null,null,null,null,null,null,null,0,0,0,0,0,null,null,null,null,0,0,null,0]
[null,null,null,null,"Spare PCD 2",null,"£m 18/19 prices",null,"PCD",null,null,null,null,null,null,null,null,null,null,null,null,null,null,null,null,null,null,null,null,null,null,null,null,null,null,null,null,null,null,null,null,0,0,0,0,0,null,null,null,null,0,0,null,0]
[null,null,null,null,"Spare PCD 3",null,"£m 18/19 prices",null,"PCD",null,null,null,null,null,null,null,null,null,null,null,null,null,null,null,null,null,null,null,null,null,null,null,null,null,null,null,null,null,null,null,null,0,0,0,0,0,null,null,null,null,0,0,null,0]
[null,null,null,null,"Non-operational IT Capex Re-opener","SpC 3.7","£m 18/19 prices","NOITt","UM",null,null,null,null,null,null,null,null,null,null,null,null,null,null,null,null,null,null,null,null,null,null,null,null,null,null,null,null,null,null,null,null,0,0,0,0,0,null,null,null,null,"TIM","RPEs Don’t Apply",null,"Fast/Slow Split"]
[null,null,null,null,"Net zero Re-opener","SpC 3.6","£m 18/19 prices","NZt","UM",null,null,null,null,null,null,null,null,null,null,null,null,null,null,null,null,null,null,null,null,null,null,null,null,null,null,null,null,null,null,null,null,0,0,0,0,0,null,null,null,null,"TIM","RPEs Don’t Apply",null,"Fast/Slow Split"]
[null,null,null,null,"Cyber Resilience OT Re-Opener","SpC 3.2","£m 18/19 prices","CROTREt","UM",null,null,null,null,null,null,null,null,null,null,null,null,null,null,null,null,null,null,null,null,null,null,null,null,null,null,null,null,null,null,null,null,0,0,0,0,0,null,null,null,null,"TIM","RPEs Don’t Apply",null,"Fast/Slow Split"]
[null,null,null,null,"Cyber Resilience IT Re-Opener","SpC 3.3","£m 18/19 prices","CRITREt","UM",null,null,null,null,null,null,null,null,null,null,null,null,null,null,null,null,null,null,null,null,null,null,null,null,null,null,null,null,null,null,null,null,0,0,0,0,0,null,null,null,null,"Non-Tim","RPEs Don’t Apply",null,"Fast/Slow Split"]
[null,null,null,null,"Funded incremental obligated capacity Re-Opener","SpC 3.13","£m 18/19 prices","FIOCREt","UM",null,null,null,null,null,null,null,null,null,null,null,null,null,null,null,null,null,null,null,null,null,null,null,null,null,null,null,null,null,null,null,null,0,0,0,0,0,null,null,null,null,"TIM","RPEs Don’t Apply",null,"Fast/Slow Split"]
[null,null,null,null,"Opex Escalator","SpC 3.18","£m 18/19 prices","OEt","UM",null,null,null,null,null,null,null,null,null,null,null,null,null,null,null,null,null,null,null,null,null,null,null,null,null,null,null,null,null,null,null,null,0,0,0,0,0,null,null,null,null,"TIM","RPEs Don’t Apply",null,"Fast/Slow Split"]
[null,null,null,null,"Spare UM 1",null,"£m 18/19 prices",null,"UM",null,null,null,null,null,null,null,null,null,null,null,null,null,null,null,null,null,null,null,null,null,null,null,null,null,null,null,null,null,null,null,null,0,0,0,0,0,null,null,null,null,0,0,null,0]
[null,null,null,null,"Spare UM 2",null,"£m 18/19 prices",null,"UM",null,null,null,null,null,null,null,null,null,null,null,null,null,null,null,null,null,null,null,null,null,null,null,null,null,null,null,null,null,null,null,null,0,0,0,0,0,null,null,null,null,0,0,null,0]
[null,null,null,null,"Spare UM 3",null,"£m 18/19 prices",null,"UM",null,null,null,null,null,null,null,null,null,null,null,null,null,null,null,null,null,null,null,null,null,null,null,null,null,null,null,null,null,null,null,null,0,0,0,0,0,null,null,null,null,0,0,null,0]
[null,null,null,null,"RPE non-variant allowances - FYI only",null,"£m 18/19 prices","RPEAt (non-variant)","UM",null,null,null,null,null,null,null,null,null,null,null,null,null,null,null,null,null,null,null,null,null,null,null,null,null,null,null,null,null,null,null,null,{"$f":"SUM(AP10:AP11) * (PRODUCT(1 + $AN78:AP78) - 1)","v":0.68895614880661127},{"$f":"SUM(AQ10:AQ11) * (PRODUCT(1 + $AN78:AQ78) - 1)","v":1.4895672550172963},{"$f":"SUM(AR10:AR11) * (PRODUCT(1 + $AN78:AR78) - 1)","v":2.6963992826825982},{"$f":"SUM(AS10:AS11) * (PRODUCT(1 + $AN78:AS78) - 1)","v":3.5763267839150172},{"$f":"SUM(AT10:AT11) * (PRODUCT(1 + $AN78:AT78) - 1)","v":3.993537627546611},null,null,null,null,"TIM",0,null,"Fast/Slow Split"]
[null,null,null,null,"RPE PCDs - FYI only",null,"£m 18/19 prices","RPEAt (PCD)","UM",null,null,null,null,null,null,null,null,null,null,null,null,null,null,null,null,null,null,null,null,null,null,null,null,null,null,null,null,null,null,null,null,{"$f":"SUMPRODUCT((AP$16:AP$30) * ($AZ$16:$AZ$30 = \"RPEs Apply\") * ($I$16:$I$30 = \"PCD\")) * (PRODUCT(1 + $AN78:AP78) - 1)","v":6.267520378866058E-2},{"$f":"SUMPRODUCT((AQ$16:AQ$30) * ($AZ$16:$AZ$30 = \"RPEs Apply\") * ($I$16:$I$30 = \"PCD\")) * (PRODUCT(1 + $AN78:AQ78) - 1)","v":4.4202004861907555E-2},{"$f":"SUMPRODUCT((AR$16:AR$30) * ($AZ$16:$AZ$30 = \"RPEs Apply\") * ($I$16:$I$30 = \"PCD\")) * (PRODUCT(1 + $AN78:AR78) - 1)","v":6.4444162362603641E-2},{"$f":"SUMPRODUCT((AS$16:AS$30) * ($AZ$16:$AZ$30 = \"RPEs Apply\") * ($I$16:$I$30 = \"PCD\")) * (PRODUCT(1 + $AN78:AS78) - 1)","v":0},{"$f":"SUMPRODUCT((AT$16:AT$30) * ($AZ$16:$AZ$30 = \"RPEs Apply\") * ($I$16:$I$30 = \"PCD\")) * (PRODUCT(1 + $AN78:AT78) - 1)","v":0},null,null,null,null,"TIM",0,null,"Fast/Slow Split"]
[null,null,null,null,"RPE UMs - FYI only",null,"£m 18/19 prices","RPEAt (UM)","UM",null,null,null,null,null,null,null,null,null,null,null,null,null,null,null,null,null,null,null,null,null,null,null,null,null,null,null,null,null,null,null,null,{"$f":"SUMPRODUCT((AP$16:AP$30) * ($AZ$16:$AZ$30 = \"RPEs Apply\") * ($I$16:$I$30 = \"UM\")) * (PRODUCT(1 + $AN78:AP78) - 1)","v":0},{"$f":"SUMPRODUCT((AQ$16:AQ$30) * ($AZ$16:$AZ$30 = \"RPEs Apply\") * ($I$16:$I$30 = \"UM\")) * (PRODUCT(1 + $AN78:AQ78) - 1)","v":0},{"$f":"SUMPRODUCT((AR$16:AR$30) * ($AZ$16:$AZ$30 = \"RPEs Apply\") * ($I$16:$I$30 = \"UM\")) * (PRODUCT(1 + $AN78:AR78) - 1)","v":0},{"$f":"SUMPRODUCT((AS$16:AS$30) * ($AZ$16:$AZ$30 = \"RPEs Apply\") * ($I$16:$I$30 = \"UM\")) * (PRODUCT(1 + $AN78:AS78) - 1)","v":0},{"$f":"SUMPRODUCT((AT$16:AT$30) * ($AZ$16:$AZ$30 = \"RPEs Apply\") * ($I$16:$I$30 = \"UM\")) * (PRODUCT(1 + $AN78:AT78) - 1)","v":0},null,null,null,null,"TIM",0,null,"Fast/Slow Split"]
[]
[null,"Actual totex"]
[]
[null,null,null,null,"Actual non-operational capex",null,"£m 18/19 prices","SOANC",null,null,null,null,null,null,null,null,null,null,null,null,null,null,null,null,null,null,null,null,null,null,null,null,null,23.259791086948155,35.830737751191549,46.961025375930973,35.218235972302288,27.256786420412368,32.702705495699988,36.632634725485502,27.09251651657442,28.512983604797579,27.033875340363011,36.60580712515614,27.829170575314308,16.583124184465422,null,"AIP 2020 PCFMs"]
[null,null,null,null,"Actual controllable opex",null,"£m 18/19 prices","SOACO",null,null,null,null,null,null,null,null,null,null,null,null,null,null,null,null,null,null,null,null,null,null,null,null,null,54.759176193711845,61.08685194790602,62.559006628075764,63.037854641256736,61.830121751653557,61.616873910457514,62.376419886269751,67.173188756102434,63.59954138669103,61.978008306149675,61.733583788830387,62.255084029006319,62.016764126336703,null,"AIP 2020 PCFMs"]
[]
[null,"Pass-through costs"]
[]
[null,null,null,null,"CDSP Costs","SpC 6.3","£m 18/19 prices","CDSPt",null,null,null,null,null,null,null,null,null,null,null,null,null,null,null,null,null,null,null,null,null,null,null,null,null,null,null,null,null,null,null,null,null,2.4630809809885932,2.4390069562737668,2.4391650779467717,2.4393231996197748,2.2396394429657835]
[null,null,null,null,"Bad Debt","SpC 6.3","£m 18/19 prices","SOBDt",null,null,null,null,null,null,null,null,null,null,null,null,null,null,null,null,null,null,null,null,null,null,null,null,null,null,null,null,null,null,null,null,null,2,0,0,0,0]
[null,null,null,null,"Pension Scheme Established Deficit","SpC 6.3","£m 18/19 prices","SOEDEt",null,null,null,null,null,null,null,null,null,null,null,null,null,null,null,null,null,null,null,null,null,null,null,null,null,null,null,null,null,null,null,null,null,0.65651475359184319,0.65651475359184319,0.52521180287347458,0,0]
[]
[null,"Other revenue"]
[]
[null,null,null,null,"Constraint management incentive revenue","SpC 5.5","£m nominal","CMIRt",null,null,null,null,null,null,null,null,null,null,null,null,null,null,null,null,null,null,null,null,null,null,null,null,null,null,null,null,null,null,null,null,null,0,0,0,0,0]
[null,null,null,null,"Revenue from accelerated release of incr. obl. entry capacity","SpC 5.5","£m nominal","RAREnCAt",null,null,null,null,null,null,null,null,null,null,null,null,null,null,null,null,null,null,null,null,null,null,null,null,null,null,null,null,null,null,null,null,null,0,0,0,0,0]
[null,null,null,null,"Exit capacity buyback cost which users are liable to reimbourse","SpC 5.5","£m nominal","ExBBCNLRAt",null,null,null,null,null,null,null,null,null,null,null,null,null,null,null,null,null,null,null,null,null,null,null,null,null,null,null,null,null,null,null,null,null,0,0,0,0,0]
[]
[null,null,null,null,"Revenue for net residual balancing costs","SpC 5.6","£m nominal","RBCt",null,null,null,null,null,null,null,null,null,null,null,null,null,null,null,null,null,null,null,null,null,null,null,null,null,null,null,null,null,null,null,null,null,8.1229999999999993,8.1229999999999993,8.1229999999999993,8.1229999999999993,8.1229999999999993]
[null,null,null,null,"Total costs for procurement of operating margin services","SpC 5.6","£m nominal","OMCt",null,null,null,null,null,null,null,null,null,null,null,null,null,null,null,null,null,null,null,null,null,null,null,null,null,null,null,null,null,null,null,null,null,10.1,10.1,10.1,10.1,10.1]
[null,null,null,null,"System costs","SpC 5.6","£m nominal","SCt",null,null,null,null,null,null,null,null,null,null,null,null,null,null,null,null,null,null,null,null,null,null,null,null,null,null,null,null,null,null,null,null,null,73.900000000000006,68.900000000000006,68.900000000000006,68.900000000000006,68.900000000000006]
[null,null,null,null,"Residual balancing incentive ","SpC 5.6","£m nominal","RBIRt",null,null,null,null,null,null,null,null,null,null,null,null,null,null,null,null,null,null,null,null,null,null,null,null,null,null,null,null,null,null,null,null,null,0,0,0,0,0]
[null,null,null,null,"Quality of demand forecasting incentive ","SpC 5.6","£m nominal","QDAIRt",null,null,null,null,null,null,null,null,null,null,null,null,null,null,null,null,null,null,null,null,null,null,null,null,null,null,null,null,null,null,null,null,null,0,0,0,0,0]
[null,null,null,null,"Greenhouse gas emissions incentive","SpC 5.6","£m nominal","GHGIRt",null,null,null,null,null,null,null,null,null,null,null,null,null,null,null,null,null,null,null,null,null,null,null,null,null,null,null,null,null,null,null,null,null,0,0,0,0,0]
[null,null,null,null,"Maintenance incentive ","SpC 5.6","£m nominal","MIRt",null,null,null,null,null,null,null,null,null,null,null,null,null,null,null,null,null,null,null,null,null,null,null,null,null,null,null,null,null,null,null,null,null,0,0,0,0,0]
[]
[null,null,null,null,"Pre-RIIO-1 pension true-up",null,"£m 18/19 prices",null,-1.2486316894265654]
[]
[null,"Legacy adjustments"]
[]
[null,null,null,null,"System Operator legacy MOD","SpC 7.11","£m nominal","SOLMODt",null,null,null,null,null,null,null,null,null,null,null,null,null,null,null,null,null,null,null,null,null,null,null,null,null,null,null,null,null,null,null,null,null,-3.753166750113913,-3.5804450928379321]
[null,null,null,null,"System Operator legacy K correction","SpC 7.12","£m nominal","SOLKt",null,null,null,null,null,null,null,null,null,null,null,null,null,null,null,null,null,null,null,null,null,null,null,null,null,null,null,null,null,null,null,null,null,21.23851321096431]
[null,null,null,null,"System Operator legacy TRU term","SpC 7.13","£m nominal","SOLTRUt",null,null,null,null,null,null,null,null,null,null,null,null,null,null,null,null,null,null,null,null,null,null,null,null,null,null,null,null,null,null,null,null,null,-1.3497079190288108,-0.18883598178621469]
[null,null,null,null,"Close out of the RIIO-GT1 entry and exit capacity constraint management incentive","SpC 7.14","£m nominal","LCMIRt",null,null,null,null,null,null,null,null,null,null,null,null,null,null,null,null,null,null,null,null,null,null,null,null,null,null,null,null,null,null,null,null,null,16.480497895781021,14.7221569869]
[null,null,null,null,"Close out of the RIIO-GT1 constraint management cost adjustment","SpC 7.15","£m nominal","LCMCAt",null,null,null,null,null,null,null,null,null,null,null,null,null,null,null,null,null,null,null,null,null,null,null,null,null,null,null,null,null,null,null,null,null,-38.363602684223508,-39.222075749999995]
[null,null,null,null,"Close out of the RIIO-GT1 transportation support services adjustment","SpC 7.16","£m nominal","LTSSt",null,null,null,null,null,null,null,null,null,null,null,null,null,null,null,null,null,null,null,null,null,null,null,null,null,null,null,null,null,null,null,null,null,0,0]
[null,null,null,null,"System Operator legacy net RAV additions","SpC 7.17","£m 18/19 prices","SOLRAVt",null,">",null,null,null,null,null,null,null,null,null,null,null,null,null,null,null,null,null,null,null,null,null,null,null,33.613516461402909,37.297896277174495,39.825586569626246,37.859294684671077,34.931206132038099,37.571292525416673,38.752613646599258,36.479097119731861,null,null,null,null,null,null,"RAV carry over"]
[]
[null,"Finance inputs"]
[]
[null,null,null,null,"iBoxx trailing average",null,"annual real %","iBTAt",null,null,null,null,null,null,null,null,null,null,null,null,null,null,null,null,null,null,null,null,null,null,null,null,null,null,null,null,null,null,null,null,null,2.0500000000000001E-2,1.9E-2,1.7999999999999999E-2,1.7100000000000001E-2,1.6500000000000001E-2]
[null,null,null,null,"Risk-free rate",null,"annual real %","SORFRt",null,null,null,null,null,null,null,null,null,null,null,null,null,null,null,null,null,null,null,null,null,null,null,null,null,null,null,null,null,null,null,null,null,-1.7100000000000001E-2,-1.66E-2,-1.5800000000000002E-2,-1.5100000000000001E-2,-1.43E-2]
[null,null,null,null,"Sterling Overnight Index Average (SONIA)","SpC 2.3","annual nominal %","It",null,">",null,null,null,null,null,null,null,null,null,null,null,null,null,null,null,null,null,null,null,null,null,null,null,null,null,null,null,null,null,null,6.0424854179993959E-4,4.5973702505714439E-4,8.648026937470648E-4,1.4141542757024586E-3,2.0702335211076469E-3,2.600000849653616E-3]
[]
[null,null,null,null,"RPE annual growth",null,"annual %","RPEt",null,">",null,null,null,null,null,null,null,null,null,null,null,null,null,null,null,null,null,null,null,null,null,null,null,null,null,null,null,null,null,3.6835922855594627E-4,-9.9151933945869162E-3,1.7948965673369253E-2,9.2301819225817233E-3,1.1156806209078208E-2,1.2105750106959287E-2,1.1703264761921265E-2]
[]
[null,null,null,null,"Adjusted net debt",null,"£m nominal","ANDt"]
[null,null,null,null,"Tax deductible net interest cost",null,"£m nominal","TDNIt"]
[null,null,null,null,"Tax allowance adjustment","SpC 2.4","£m nominal","SOTAXAt"]
[null,null,null,null,"Tax liability - tax trigger events",null,"£m 18/19 prices","SOTTEt"]
[]
[null,null,null,null,"Notional gearing for \"Tax clawback gearing level test\"",null,"%",null,null,null,null,null,null,null,null,null,null,null,null,null,null,null,null,null,null,null,null,null,null,null,null,null,null,null,null,null,null,null,null,null,null,0.625,0.61880000000000002,0.61250000000000004,0.60629999999999995,0.6]
[null,null,null,null,"Tax trigger deadband",null,"£m 18/19 prices",null,null,null,null,null,null,null,null,null,null,null,null,null,null,null,null,null,null,null,null,null,null,null,null,null,null,null,null,null,null,null,null,null,null,0.35535269898445798,0.33811521212748413,0.35287450221706412,0.33060618568728362,0.30228187223292602]
[]
[null,null,null,null,"General pool capital allowance opening balance brought forward",null,"£m nominal","SOOGPt",null,null,null,null,null,null,null,null,null,null,null,null,null,null,null,null,null,null,null,null,null,null,null,null,null,null,null,null,null,null,null,null,null,132.42873901410496,null,null,null,null,null,"AIP 2020 PCFMs"]
[null,null,null,null,"Special Rate capital allowance opening balance brought forward",null,"£m nominal","SOOSRPt",null,null,null,null,null,null,null,null,null,null,null,null,null,null,null,null,null,null,null,null,null,null,null,null,null,null,null,null,null,null,null,null,null,0,null,null,null,null,null,"AIP 2020 PCFMs"]
[null,null,null,null,"Structures and buildings capital allowance opening balance brought forward",null,"£m nominal","SOOSBPt",null,null,null,null,null,null,null,null,null,null,null,null,null,null,null,null,null,null,null,null,null,null,null,null,null,null,null,null,null,null,null,null,null,0,null,null,null,null,null,"AIP 2020 PCFMs"]
[null,null,null,null,"Deferred revenue expenditure opening balance brought forward",null,"£m nominal","SOODRPt",null,null,null,null,null,null,null,null,null,null,null,null,null,null,null,null,null,null,null,null,null,null,null,null,null,null,null,null,null,null,null,null,null,0,null,null,null,null,null,"AIP 2020 PCFMs"]
[null,null,null,null,"Deferred revenue pool additions (RIIO1) plus opening balance at start of RIIO1",null,"£m nominal","SOLODRPt",null,null,null,null,null,null,null,null,null,null,null,null,null,null,null,null,null,null,null,null,null,null,null,null,null,null,null,null,null,null,null,null,0,null,null,null,null,null,null,"AIP 2020 PCFMs"]
[null,null,null,null,"Tax loss brought forward",null,"£m nominal","SOOTLt",null,null,null,null,null,null,null,null,null,null,null,null,null,null,null,null,null,null,null,null,null,null,null,null,null,null,null,null,null,null,null,null,null,0,null,null,null,null,null,"AIP 2020 PCFMs"]
[]
[null,null,null,null,"Totex allocation to \"General\" tax pool",null,"%","SOARGPt",null,null,null,null,null,null,null,null,null,null,null,null,null,null,null,null,null,null,null,null,null,null,null,null,null,null,null,null,null,null,null,null,null,0.30954513088673058,0.30371085559452876,0.37223951445025472,0.30892380358309102,0.2109815235219154]
[null,null,null,null,"Totex allocation to \"Special Rate\" tax pool",null,"%","SOARSRt",null,null,null,null,null,null,null,null,null,null,null,null,null,null,null,null,null,null,null,null,null,null,null,null,null,null,null,null,null,null,null,null,null,0,0,0,0,0]
[null,null,null,null,"Totex allocation to \"Revenue\" tax pool",null,"%","SOARRt",null,null,null,null,null,null,null,null,null,null,null,null,null,null,null,null,null,null,null,null,null,null,null,null,null,null,null,null,null,null,null,null,null,0.69045486911326948,0.69628914440547129,0.62776048554974517,0.69107619641690898,0.78901847647808454]
[null,null,null,null,"Totex allocation to \"Structures and Buildings\" tax pool",null,"%","SOARSBt",null,null,null,null,null,null,null,null,null,null,null,null,null,null,null,null,null,null,null,null,null,null,null,null,null,null,null,null,null,null,null,null,null,0,0,0,0,0]
[null,null,null,null,"Totex allocation to \"Deferred revenue\" tax pool",null,"%","SOARDRt",null,null,null,null,null,null,null,null,null,null,null,null,null,null,null,null,null,null,null,null,null,null,null,null,null,null,null,null,null,null,null,null,null,0,0,0,0,0]
[null,null,null,null,"Totex allocation to \"Non Qualifying\" tax pool",null,"%","SOARNQt",null,null,null,null,null,null,null,null,null,null,null,null,null,null,null,null,null,null,null,null,null,null,null,null,null,null,null,null,null,null,null,null,null,0,0,0,0,0]
[null,null,null,null,"Totex allocation check",null,"%",null,null,null,null,null,null,null,null,null,null,null,null,null,null,null,null,null,null,null,null,null,null,null,null,null,null,null,null,null,null,null,null,null,null,{"$f":"SUM(AP95:AP100)","v":1},{"$f":"SUM(AQ95:AQ100)","v":1},0.99999999999999989,1,1]
[]
[null,null,null,null,"Corporation tax rate",null,"%","SOCTt",null,null,null,null,null,null,null,null,null,null,null,null,null,null,null,null,null,null,null,null,null,null,null,null,null,null,null,null,null,null,null,null,null,0.19,0.19,0.25,0.25,0.25]
[null,null,null,null,"General pool allowance rate",null,"%","SOGCAt",null,null,null,null,null,null,null,null,null,null,null,null,null,null,null,null,null,null,null,null,null,null,null,null,null,null,null,null,null,null,null,null,null,0.18,0.18,0.18,0.18,0.18]
[null,null,null,null,"Special Rate allowance rate",null,"%","SOSRCAt",null,null,null,null,null,null,null,null,null,null,null,null,null,null,null,null,null,null,null,null,null,null,null,null,null,null,null,null,null,null,null,null,null,0.06,0.06,0.06,0.06,0.06]
[null,null,null,null,"Structures and buildings allowance rate",null,"%","SOSBCAt",null,null,null,null,null,null,null,null,null,null,null,null,null,null,null,null,null,null,null,null,null,null,null,null,null,null,null,null,null,null,null,null,null,0.03,0.03,0.03,0.03,0.03]
[null,null,null,null,"Deferred revenue expenditure allowance rate",null,"%","SODRCAt",null,null,null,null,null,null,null,null,null,null,null,null,null,null,null,null,null,null,null,null,null,null,null,null,null,null,null,null,null,null,null,null,null,2.2200000000000001E-2,2.2200000000000001E-2,2.2200000000000001E-2,2.2200000000000001E-2,2.2200000000000001E-2]
[]
[null,null,null,null,"RIIO-1 allowed revenue","SpC 2.3","£m nominal","RIIO-1 SOARt",null,">",null,null,null,null,null,null,null,null,null,null,null,null,null,null,null,null,null,null,null,null,null,null,null,null,null,null,null,null,null,null,208.18]
[null,null,null,null,"Recovered revenue","SpC 2.3","£m nominal","SORRt",null,">",null,null,null,null,null,null,null,null,null,null,null,null,null,null,null,null,null,null,null,null,null,null,null,null,null,null,null,null,null,null,267]
[null,null,null,null,"K rate margin",null,"annual nominal %",null,null,">",null,null,null,null,null,null,null,null,null,null,null,null,null,null,null,null,null,null,null,null,null,null,null,null,null,null,null,null,null,null,1.15E-2,1.15E-2,1.15E-2,1.15E-2,1.15E-2,1.15E-2,1.15E-2]
[null,null,null,null,"Over/undercollection percentage for penal rate adjustment",null,"%",null,0.06]
[null,null,null,null,"Penal rate proportion","SpC 2.3","scalar","SOPRPt",null,">",null,null,null,null,null,null,null,null,null,null,null,null,null,null,null,null,null,null,null,null,null,null,null,null,null,null,null,null,null,null,1,1,1,1,1,1]
[]
[null,"Policy"]
[]
[null,null,"Allowed return on capital"]
[]
[null,null,null,null,"Uplift on iBoxx trailing average",null,"annual real %","CDEUt",null,null,null,null,null,null,null,null,null,null,null,null,null,null,null,null,null,null,null,null,null,null,null,null,null,null,null,null,null,null,null,null,null,0,0,0,0,0]
[]
[null,null,null,null,"Equity Beta",null,"scalar",null,null,null,null,null,null,null,null,null,null,null,null,null,null,null,null,null,null,null,null,null,null,null,null,null,null,null,null,null,null,null,null,null,null,0.75861000000000001,0.75861000000000001,0.75861000000000001,0.75861000000000001,0.75861000000000001]
[null,null,null,null,"Total Market Return",null,"%",null,null,null,null,null,null,null,null,null,null,null,null,null,null,null,null,null,null,null,null,null,null,null,null,null,null,null,null,null,null,null,null,null,null,6.5000000000000002E-2,6.5000000000000002E-2,6.5000000000000002E-2,6.5000000000000002E-2,6.5000000000000002E-2]
[null,null,null,null,"Benchmark gearing (60%)",null,"%",null,null,null,null,null,null,null,null,null,null,null,null,null,null,null,null,null,null,null,null,null,null,null,null,null,null,null,null,null,null,null,null,null,null,0.6,0.6,0.6,0.6,0.6]
[null,null,null,null,"RIIO-2 notional gearing","SpC 2.5","%","G",0.6]
[null,null,null,null,"Annual notional gearing",null,"%",null,null,">",null,null,null,null,null,null,null,null,null,null,null,null,null,null,null,null,null,null,null,null,null,null,null,null,null,null,null,null,null,null,null,{"$f":"$I124","v":0.6},{"$f":"$I124","v":0.6},0.6,0.6,0.6]
[]
[null,null,null,null,"Expected outperformance at 60% gearing",null,"%",null,null,null,null,null,null,null,null,null,null,null,null,null,null,null,null,null,null,null,null,null,null,null,null,null,null,null,null,null,null,null,null,null,null,2.5000000000000001E-3,2.5000000000000001E-3,2.5000000000000001E-3,2.5000000000000001E-3,2.5000000000000001E-3]
[]
[null,null,null,null,"RIIO-1 vanilla allowed return on capital",null,"annual real %",null,null,">",null,null,null,null,null,null,null,null,null,null,null,null,null,null,null,null,null,null,null,null,null,null,null,4.3749999999999997E-2,4.2499999999999996E-2,4.1437500000000002E-2,4.0375000000000001E-2,3.9375E-2,3.7437499999999999E-2,3.5375000000000004E-2,3.2312500000000001E-2]
[]
[null,null,"TIM and capitalisation"]
[]
[null,null,null,null,"Years from t until normal reporting of actual costs",null,"years",null,2]
[]
[null,null,null,null,"Capitalisation rate",null,"%",null,null,null,null,null,null,null,null,null,null,null,null,null,null,null,null,null,null,null,null,null,null,null,null,null,null,null,null,null,null,null,null,null,null,0.34,0.34,0.34,0.34,0.34]
[]
[null,null,null,null,"RIIO-2 Funding Adjustment Rate ('sharing factor')",null,"%",null,0.61]
[]
[null,"Totex variant allowances allocation percentages"]
[]
[null,null,null,null,{"$f":"E$16","v":"Funded incremental obligated capacity Price Control Deliverable"},null,"%","Non-operational capex",null,null,null,null,null,null,null,null,null,null,null,null,null,null,null,null,null,null,null,null,null,null,null,null,null,null,null,null,null,null,null,null,null,0,0,0,0,0,null,1]
[null,null,null,null,{"$f":"E141","v":"Funded incremental obligated capacity Price Control Deliverable"},null,"%","Controllable opex",null,null,null,null,null,null,null,null,null,null,null,null,null,null,null,null,null,null,null,null,null,null,null,null,null,null,null,null,null,null,null,null,null,0,0,0,0,0,null,1]
[null,null,null,null,{"$f":"E$17","v":"Cyber Resilience OT Price Control Deliverable and use it or lose it allowance"},null,"%","Non-operational capex",null,null,null,null,null,null,null,null,null,null,null,null,null,null,null,null,null,null,null,null,null,null,null,null,null,null,null,null,null,null,null,null,null,0,0,0,0,0,null,{"$f":"AV141 + 1","v":2}]
[null,null,null,null,{"$f":"E143","v":"Cyber Resilience OT Price Control Deliverable and use it or lose it allowance"},null,"%","Controllable opex",null,null,null,null,null,null,null,null,null,null,null,null,null,null,null,null,null,null,null,null,null,null,null,null,null,null,null,null,null,null,null,null,null,0,0,0,0,0,null,{"$f":"AV142 + 1","v":2}]
[null,null,null,null,{"$f":"E$18","v":"Cyber Resilience IT Price Control Deliverable"},null,"%","Non-operational capex",null,null,null,null,null,null,null,null,null,null,null,null,null,null,null,null,null,null,null,null,null,null,null,null,null,null,null,null,null,null,null,null,null,0.6,0.6,0.6,0.6,0.6,null,3]
[null,null,null,null,{"$f":"E145","v":"Cyber Resilience IT Price Control Deliverable"},null,"%","Controllable opex",null,null,null,null,null,null,null,null,null,null,null,null,null,null,null,null,null,null,null,null,null,null,null,null,null,null,null,null,null,null,null,null,null,0.4,0.4,0.4,0.4,0.4,null,3]
[null,null,null,null,{"$f":"E$19","v":"Spare PCD 1"},null,"%","Non-operational capex",null,null,null,null,null,null,null,null,null,null,null,null,null,null,null,null,null,null,null,null,null,null,null,null,null,null,null,null,null,null,null,null,null,0,0,0,0,0,null,4]
[null,null,null,null,{"$f":"E147","v":"Spare PCD 1"},null,"%","Controllable opex",null,null,null,null,null,null,null,null,null,null,null,null,null,null,null,null,null,null,null,null,null,null,null,null,null,null,null,null,null,null,null,null,null,0,0,0,0,0,null,4]
[null,null,null,null,{"$f":"E$20","v":"Spare PCD 2"},null,"%","Non-operational capex",null,null,null,null,null,null,null,null,null,null,null,null,null,null,null,null,null,null,null,null,null,null,null,null,null,null,null,null,null,null,null,null,null,0,0,0,0,0,null,5]
[null,null,null,null,{"$f":"E149","v":"Spare PCD 2"},null,"%","Controllable opex",null,null,null,null,null,null,null,null,null,null,null,null,null,null,null,null,null,null,null,null,null,null,null,null,null,null,null,null,null,null,null,null,null,0,0,0,0,0,null,5]
[null,null,null,null,{"$f":"E$21","v":"Spare PCD 3"},null,"%","Non-operational capex",null,null,null,null,null,null,null,null,null,null,null,null,null,null,null,null,null,null,null,null,null,null,null,null,null,null,null,null,null,null,null,null,null,0,0,0,0,0,null,6]
[null,null,null,null,{"$f":"E151","v":"Spare PCD 3"},null,"%","Controllable opex",null,null,null,null,null,null,null,null,null,null,null,null,null,null,null,null,null,null,null,null,null,null,null,null,null,null,null,null,null,null,null,null,null,0,0,0,0,0,null,6]
[null,null,null,null,{"$f":"E$22","v":"Non-operational IT Capex Re-opener"},null,"%","Non-operational capex",null,null,null,null,null,null,null,null,null,null,null,null,null,null,null,null,null,null,null,null,null,null,null,null,null,null,null,null,null,null,null,null,null,0,0,0,0,0,null,7]
[null,null,null,null,{"$f":"E153","v":"Non-operational IT Capex Re-opener"},null,"%","Controllable opex",null,null,null,null,null,null,null,null,null,null,null,null,null,null,null,null,null,null,null,null,null,null,null,null,null,null,null,null,null,null,null,null,null,0,0,0,0,0,null,7]
[null,null,null,null,{"$f":"E$23","v":"Net zero Re-opener"},null,"%","Non-operational capex",null,null,null,null,null,null,null,null,null,null,null,null,null,null,null,null,null,null,null,null,null,null,null,null,null,null,null,null,null,null,null,null,null,0,0,0,0,0,null,8]
[null,null,null,null,{"$f":"E155","v":"Net zero Re-opener"},null,"%","Controllable opex",null,null,null,null,null,null,null,null,null,null,null,null,null,null,null,null,null,null,null,null,null,null,null,null,null,null,null,null,null,null,null,null,null,0,0,0,0,0,null,8]
[null,null,null,null,{"$f":"E$24","v":"Cyber Resilience OT Re-Opener"},null,"%","Non-operational capex",null,null,null,null,null,null,null,null,null,null,null,null,null,null,null,null,null,null,null,null,null,null,null,null,null,null,null,null,null,null,null,null,null,0,0,0,0,0,null,9]
[null,null,null,null,{"$f":"E157","v":"Cyber Resilience OT Re-Opener"},null,"%","Controllable opex",null,null,null,null,null,null,null,null,null,null,null,null,null,null,null,null,null,null,null,null,null,null,null,null,null,null,null,null,null,null,null,null,null,0,0,0,0,0,null,9]
[null,null,null,null,{"$f":"E$25","v":"Cyber Resilience IT Re-Opener"},null,"%","Non-operational capex",null,null,null,null,null,null,null,null,null,null,null,null,null,null,null,null,null,null,null,null,null,null,null,null,null,null,null,null,null,null,null,null,null,0,0,0,0,0,null,10]
[null,null,null,null,{"$f":"E159","v":"Cyber Resilience IT Re-Opener"},null,"%","Controllable opex",null,null,null,null,null,null,null,null,null,null,null,null,null,null,null,null,null,null,null,null,null,null,null,null,null,null,null,null,null,null,null,null,null,0,0,0,0,0,null,10]
[null,null,null,null,{"$f":"E$26","v":"Funded incremental obligated capacity Re-Opener"},null,"%","Non-operational capex",null,null,null,null,null,null,null,null,null,null,null,null,null,null,null,null,null,null,null,null,null,null,null,null,null,null,null,null,null,null,null,null,null,0.6,0.6,0.6,0.6,0.6,null,11]
[null,null,null,null,{"$f":"E161","v":"Funded incremental obligated capacity Re-Opener"},null,"%","Controllable opex",null,null,null,null,null,null,null,null,null,null,null,null,null,null,null,null,null,null,null,null,null,null,null,null,null,null,null,null,null,null,null,null,null,0.4,0.4,0.4,0.4,0.4,null,11]
[null,null,null,null,{"$f":"E$27","v":"Opex Escalator"},null,"%","Non-operational capex",null,null,null,null,null,null,null,null,null,null,null,null,null,null,null,null,null,null,null,null,null,null,null,null,null,null,null,null,null,null,null,null,null,0,0,0,0,0,null,12]
[null,null,null,null,{"$f":"E163","v":"Opex Escalator"},null,"%","Controllable opex",null,null,null,null,null,null,null,null,null,null,null,null,null,null,null,null,null,null,null,null,null,null,null,null,null,null,null,null,null,null,null,null,null,0,0,0,0,0,null,12]
[null,null,null,null,{"$f":"E$28","v":"Spare UM 1"},null,"%","Non-operational capex",null,null,null,null,null,null,null,null,null,null,null,null,null,null,null,null,null,null,null,null,null,null,null,null,null,null,null,null,null,null,null,null,null,0,0,0,0,0,null,13]
[null,null,null,null,{"$f":"E165","v":"Spare UM 1"},null,"%","Controllable opex",null,null,null,null,null,null,null,null,null,null,null,null,null,null,null,null,null,null,null,null,null,null,null,null,null,null,null,null,null,null,null,null,null,0,0,0,0,0,null,13]
[null,null,null,null,{"$f":"E$29","v":"Spare UM 2"},null,"%","Non-operational capex",null,null,null,null,null,null,null,null,null,null,null,null,null,null,null,null,null,null,null,null,null,null,null,null,null,null,null,null,null,null,null,null,null,0,0,0,0,0,null,14]
[null,null,null,null,{"$f":"E167","v":"Spare UM 2"},null,"%","Controllable opex",null,null,null,null,null,null,null,null,null,null,null,null,null,null,null,null,null,null,null,null,null,null,null,null,null,null,null,null,null,null,null,null,null,0,0,0,0,0,null,14]
[null,null,null,null,{"$f":"E$30","v":"Spare UM 3"},null,"%","Non-operational capex",null,null,null,null,null,null,null,null,null,null,null,null,null,null,null,null,null,null,null,null,null,null,null,null,null,null,null,null,null,null,null,null,null,0,0,0,0,0,null,15]
[null,null,null,null,{"$f":"E169","v":"Spare UM 3"},null,"%","Controllable opex",null,null,null,null,null,null,null,null,null,null,null,null,null,null,null,null,null,null,null,null,null,null,null,null,null,null,null,null,null,null,null,null,null,0,0,0,0,0,null,15]
[null,null,null,null,{"$f":"E$31","v":"RPE non-variant allowances - FYI only"},null,"%","Non-operational capex",null,null,null,null,null,null,null,null,null,null,null,null,null,null,null,null,null,null,null,null,null,null,null,null,null,null,null,null,null,null,null,null,null,0,0,0,0,0,null,16]
[null,null,null,null,{"$f":"E171","v":"RPE non-variant allowances - FYI only"},null,"%","Controllable opex",null,null,null,null,null,null,null,null,null,null,null,null,null,null,null,null,null,null,null,null,null,null,null,null,null,null,null,null,null,null,null,null,null,0,0,0,0,0,null,16]
[]
[null,"Costs associated with other revenue allowances"]
[]
[null,null,null,null,"Assumed cost multipliers:"]
[null,null,null,null,"Entry capacity and exit capacity constraint management",null,"%",null,1]
[null,null,null,null,"SO external incentives, revenues and costs",null,"%",null,1]
[null,null,null,null,"Pre-RIIO-1 pension true-up",null,"%",null,0]
[]
[null,"RAV and assets"]
[]
[null,null,null,null,"Post-vesting asset life",null,"years",null,7]
[null,null,null,null,"Pre-RIIO net additions to RAV",null,"£m 18/19 prices",null,null,">",null,null,null,null,null,null,null,null,null,null,null,null,0,0,0,0,0,14.419946009279345,9.9877761058030643,13.298360794320898,12.085386055783017,15.19536401925459,31.934742127575522]
[]
[null,"End of sheet"]